Workbook
Name ____lkm12435: #N/A
Name ____NO81: [1]단가!$A$3:$H$65536
Name ___lkm12435: #N/A
Name ___NO81: [1]단가!$A$3:$H$65536
Name __lkm12435: #N/A
Name __NO81: [1]단가!$A$3:$H$65536
Name _1: '[2]2000시행총괄'!#REF!
Name _1: '[2]2000시행총괄'!#REF!
Name _1: '[3]2000시행총괄'!#REF!
Name _1: '[3]2000시행총괄'!#REF!
Name _12: #REF!
Name _12: #REF!
Name _12: #REF!
Name _12: #REF!
Name _13: [2]청하배수!#REF!
Name _13: [2]청하배수!#REF!
Name _13: [3]청하배수!#REF!
Name _13: [3]청하배수!#REF!
Name _A: #REF!
Name _A: #REF!
Name _lkm12435: #N/A
Name _NO81: [1]단가!$A$3:$H$65536
Name ¸Þ´º: #N/A
Name \0: #REF!
Name \0: #REF!
Name \0: #REF!
Name \0: #REF!
Name \a: #N/A
Name \b: #REF!
Name \b: #REF!
Name \b: #REF!
Name \b: #REF!
Name \c: #N/A
Name \d: #N/A
Name \e: #REF!
Name \e: #REF!
Name \e: #REF!
Name \e: #REF!
Name \f: #REF!
Name \f: #REF!
Name \f: #REF!
Name \f: #REF!
Name \m: #N/A
Name \n: #N/A
Name \p: #REF!
Name \p: #REF!
Name \p: #REF!
Name \p: #REF!
Name \q: #REF!
Name \q: #REF!
Name \q: #REF!
Name \q: #REF!
Name \s: #REF!
Name \s: #REF!
Name \s: #REF!
Name \s: #REF!
Name \w: #REF!
Name \w: #REF!
Name \w: #REF!
Name \w: #REF!

Sheet 표지
A1: 충청남도 서천군 | K1: 2026. 9.
A7: 공사명 : 축동수질개선사업지구 인공습지 정비
A16: 한국농어촌공사 서천지사

Sheet 원가계산서
B1: 원가계산서
B3: 비 목 | E3: 구분 | F3: 금 액 | G3: 요율 | H3: 산 출 근 거
C4: 재 | D4: 직 접 재 료 비 | E4: 1
C5: 료 | D5: 간 접 재 료 비 | E5: 2 | F5: =내역서!L5 -> 283,505
C6: 비 | D6: 작업설.부산물등(△) | E6: 3
D7: 소 계 | E7: A | F7: =TRUNC((F4+F5+F6),0) -> 283505 | H7: (1 + 2 + 3 )
C8: 노 | D8: 직 접 노 무 비 | E8: 4 | F8: =내역서!J5 -> 9,031,151
B9: 순 | C9: 무 | D9: 간 접 노 무 비 | E9: 5 | F9: =TRUNC(F8*0.165,0) -> 1490139 | G9: 16.5 | H9: 4 × 0.165 | K9: =F5+F8+F11 -> 9345898
C10: 비 | D10: 소 계 | E10: B | F10: =TRUNC((F8+F9),0) -> 10521290 | H10: ( 4 + 5 )
B11: 공 | D11: 산 출 경 비 | E11: 6 | F11: =내역서!N5 -> 31,242
D12: 산 재 보 험 료 | E12: 7 | F12: =TRUNC(F10*0.0356,0) -> 374557 | G12: 3.56% | H12: B × 0.0356
B13: 사 | D13: 고 용 보 험 료 | E13: 8 | F13: =TRUNC(F10*0.0101,0) -> 106265 | G13: 1.01% | H13: B × 0.0101
C14: 경 | D14: 건 강 보 험 료 | E14: 9
B15: 원 | D15: 연 금 보 험 료 | E15: 10
D16: 노인장기요양 보 험 료 | E16: 11
B17: 가 | D17: 퇴 직 공 제 부 금 비 | E17: 12
D18: 건설기계대여금지급보증서발급액 | E18: 13
D19: 산 업 안 전 보건관리비 | E19: 14 | F19: =TRUNC((F8+F9)*0.0315,0) -> 331420 | G19: 3.15% | H19: (A + 4) × 0.0315
D20: 환 경 보 전 비 | E20: 15 | F20: =TRUNC((F7+F8+F11)*0.008,0) -> 74767 | G20: 0.8% | H20: (A + 4 + 6) ×0.008
D21: 공 사 이 행 보증수수료 | E21: 16
C22: 비 | D22: 하도급대금지급보증수수료 | E22: 17
D23: 기 타 경 비 | E23: 18 | F23: =TRUNC((F7+F10)*0.052,0) -> 561849 | G23: 5.2% | H23: (A + B) × 0.052
D24: 소 계 | E24: C | F24: =TRUNC((F11+F12+F13+F14+F15+F16+F17+F18+F19+F20+F21+F22+F23),0) -> 1480100 | H24: (6:18)
D25: 순 공 사 원 가 | E25: D | F25: =TRUNC((F7+F10+F24),0) -> 12284895 | H25: (A + B + C)
D26: 일 반 관 리 비 | E26: E | F26: =TRUNC(F25*0.08,0) -> 982791 | G26: 8.0% | H26: D × 0.08
D27: 이 윤 | E27: F | F27: =TRUNC((F10+F24+F26)*0.15,0)-2586 -> 1945041 | G27: 15.0% | H27: (B + C + E) ×0.15
D28: 총 원 가 | E28: G | F28: =TRUNC((F25+F26+F27),0) -> 15212727 | H28: (D + E + F)
D29: 부 가 가 치 세 | E29: H | F29: =F28*0.1 -> 1521272.7 | G29: 10% | H29: (g) × 0.1
D30: 도 급 액 | E30: I | F30: =TRUNC((F28+F29),4) -> 16734000 | H30: (G + H)
D31: 관 급 자 재 대 | E31: J
D32: 폐 기 물 처 리 비 | E32: K
D33: 총 공 사 비 | E33: L | F33: =TRUNC((F30+F31+F32),1) -> 16734000 | H33: (I + J + K)
L52: =RIGHT((F7+F11)*0.1,3) -> 4.7

Sheet 내역서총괄표
B1: 내역서총괄표
B3: 공종 | C3: 품 명 | D3: 규 격 | E3: 수 량 | F3: 단위 | G3: 합 계 | H3: 노무비 | I3: 재료비 | J3: 경 비 | K3: 비 고
C4: 축동저수지 인공습지 정비사업 | G4: =H4+I4+J4 -> 7048383 | H4: =H5+H6+H7+H8 -> 6781666 | I4: =I5+I6+I7+I8 -> 243005 | J4: =J5+J6+J7+J8 -> 23712
B5: 1. | C5: 지장목 제거 | G5: =H5+I5+J5 -> 425286 | H5: =내역서!J8 -> 387477 | I5: =내역서!L8 -> 14097 | J5: =[20]내역서!N7 -> 23,712
B6: 2. | C6: 예초공 | G6: =H6+I6+J6 -> 3682200 | H6: =내역서!J11 -> 3473542 | I6: =내역서!L11 -> 208658 | J6: =[20]내역서!N10 -> 0
B7: 3. | C7: 제초공 | G7: =H7+I7+J7 -> 2241897 | H7: =[20]내역서!J13 -> 2,241,897 | I7: =내역서!L14 -> 0 | J7: =[20]내역서!N13 -> 0
B8: 4 | C8: 보수공 | G8: =H8+I8+J8 -> 699000 | H8: =내역서!J17 -> 678750 | I8: =내역서!L17 -> 20250 | J8: 0
C9: 순 공 사 비 | G9: =H9+I9+J9 -> 7048383 | H9: =H4 -> 6781666 | I9: =I4 -> 243005 | J9: =J4 -> 23712
C10: 간접노무비 | E10: 16.5 | F10: % | G10: =원가계산서!F9 -> 1490139 | N10: =H8+H7+H6+H5 -> 6781666
C11: 산재보험료 | E11: 3.56 | F11: % | G11: =원가계산서!F12 -> 374557
C12: 고용보험료 | E12: 1.01 | F12: % | G12: =원가계산서!F13 -> 106265
C13: 산업안전보건관리비 | E13: 3.15 | F13: % | G13: =원가계산서!F19 -> 331420
C14: 건설기계대여금지급보증서발급액
C15: 환경보전비 | E15: 0.8 | F15: % | G15: =원가계산서!F20 -> 74767
C16: 기타경비 | E16: 5.2 | F16: % | G16: =원가계산서!F23 -> 561849
C17: 순공사원가 | G17: =원가계산서!F25 -> 12284895
C18: 일반관리비 | E18: 8 | F18: % | G18: =원가계산서!F26 -> 982791
C19: 이윤 | E19: 15 | F19: % | G19: =원가계산서!F27 -> 1945041
C20: 총원가 | G20: =원가계산서!F28 -> 15212727
C21: 부가가치세 | E21: 10 | F21: % | G21: =원가계산서!F29 -> 1521272.7
C22: 도급액 | G22: =원가계산서!F30 -> 16734000
C23: 총공사비 | G23: =G22 -> 16734000

Sheet 내역서
B1: 내역서
B3: 공종 | C3: 품 명 | D3: 규 격 | E3: 수 량 | F3: 단위 | G3: 합 계 | I3: 노무비 | K3: 재료비 | M3: 경 비 | O3: 비 고
G4: 단 가 | H4: 금 액 | I4: 단 가 | J4: 금 액 | K4: 단 가 | L4: 금 액 | M4: 단 가 | N4: 금 액
C5: 축동저수지 인공습지 정비사업 | G5: =I5+K5+M5 -> 0 | H5: =J5+L5+N5 -> 9345898 | J5: =TEXT(J7+J10+J13+J16,"#,##0") -> 9,031,151 | L5: =TEXT(L7+L10+L13+L16,"#,##0") -> 283,505 | N5: =TEXT(N7+N10+N13+N16,"#,##0") -> 31,242
G6: =I6+K6+M6 -> 0 | H6: =J6+L6+N6 -> 0
B7: 1. | C7: 지장목 제거 | G7: =I7+K7+M7 -> 0 | H7: =J7+L7+N7 -> 432816 | J7: =J8 -> 387477 | L7: =TEXT(SUM(L8:L9),"#,##0") -> 14,097 | N7: =TEXT(SUM(N8:N9),"#,##0") -> 31,242
C8: 벌목 | D8: 5m이상∼8m미만 | E8: =위치도!M68 -> 381 | F8: ㎡ | G8: =I8+K8+M8 -> 1136 | H8: =J8+L8+N8 -> 432816 | I8: =단가산출총괄표!G6 -> 1,017 | J8: =TRUNC(E8*I8,0) -> 387477 | K8: =단가산출총괄표!H6 -> 37 | L8: =TRUNC(E8*K8,0) -> 14097 | M8: =단가산출총괄표!I6 -> 82 | N8: =TRUNC(E8*M8,0) -> 31242 | O8: 단산3참조
G9: =I9+K9+M9 -> 0 | H9: =J9+L9+N9 -> 0
B10: 2. | C10: 예초공 | G10: =I10+K10+M10 -> 0 | H10: =J10+L10+N10 -> 3682200 | J10: =J11 -> 3473542 | L10: =TEXT(SUM(L11:L12),"#,##0") -> 208,658 | N10: =TEXT(SUM(N11:N12),"#,##0") -> 0
C11: 예초 | D11: 연1회, 경사구간 | E11: =위치도!N57 -> 6137 | F11: ㎡ | G11: =I11+K11+M11 -> 600 | H11: =J11+L11+N11 -> 3682200 | I11: =단가산출총괄표!G4 -> 566 | J11: =TRUNC(E11*I11,0) -> 3473542 | K11: =단가산출총괄표!H4 -> 34 | L11: =TRUNC(E11*K11,0) -> 208658 | M11: =[20]일위대가총괄표!I4 -> 0 | N11: =TRUNC(E11*M11,0) -> 0 | O11: 일위1참조 | R11: =J7+J10+J13+J16 -> 9031151
G12: =I12+K12+M12 -> 0 | H12: =J12+L12+N12 -> 0
B13: 3. | C13: 제초공 | G13: =I13+K13+M13 -> 0 | H13: =J13+L13+N13 -> 4531882 | J13: =J14 -> 4491382 | L13: =TEXT(SUM(L14:L18),"#,##0") -> 40,500 | N13: =TEXT(SUM(N14:N18),"#,##0") -> 0
C14: 제초(인력) | D14: 지장물지역 | E14: =위치도!Q65+150 -> 4151 | F14: ㎡ | G14: =I14+K14+M14 -> 1082 | H14: =J14+L14+N14 -> 4491382 | I14: =단가산출총괄표!G5 -> 1,082 | J14: =TRUNC(E14*I14,0) -> 4491382 | K14: =[20]단가산출총괄표!H5 -> 0 | L14: =TRUNC(E14*K14,0) -> 0 | M14: =[20]단가산출총괄표!I5 -> 0 | N14: =TRUNC(E14*M14,0) -> 0 | O14: 단산2참조
B16: 4 | C16: 보수공 | G16: =I16+K16+M16 -> 0 | H16: =J16+L16+N16 -> 699000 | J16: =J17 -> 678750 | L16: =L17 -> 20250 | N16: =N17 -> 0
C17: 울타리 보수 | D17: 메시형 울타리 | E17: 150 | F17: m | G17: =I17+K17+M17 -> 4660 | H17: =J17+L17+N17 -> 699000 | I17: =일위대가총괄표!G5 -> 4525 | J17: =TRUNC(E17*I17,0) -> 678750 | K17: =일위대가총괄표!H5 -> 135 | L17: =TRUNC(E17*K17,0) -> 20250 | M17: 0 | N17: 0
G18: =I18+K18+M18 -> 0 | H18: =J18+L18+N18 -> 0
C19: 순 공 사 비 | G19: =I19+K19+M19 -> 0 | H19: =J19+L19+N19 -> 9345898 | J19: =TEXT(J5,"#,##0") -> 9,031,151 | L19: =TEXT(L5,"#,##0") -> 283,505 | N19: =TEXT(N5,"#,##0") -> 31,242
C20: 간접노무비 | E20: 16.5 | F20: % | G20: =I20+K20+M20 -> 0 | H20: =[20]원가계산서!F9 -> 842072
C21: 산재보험료 | E21: 3.56 | F21: % | G21: =I21+K21+M21 -> 0 | H21: =[20]원가계산서!F12 -> 239612
C22: 고용보험료 | E22: 1.01 | F22: % | G22: =I22+K22+M22 -> 0 | H22: =[20]원가계산서!F13 -> 67980
C23: 건설기계대여금지급보증서발급액 | E23: 0.68 | F23: % | G23: =I23+K23+M23 -> 0 | H23: =[20]원가계산서!F18 -> 11007
C24: 환경보전비 | E24: 0.8 | F24: % | G24: =I24+K24+M24 -> 0 | H24: =[20]원가계산서!F20 -> 18346
C25: 기타경비 | E25: 5.8 | F25: % | G25: =I25+K25+M25 -> 0 | H25: =[20]원가계산서!F23 -> 381358
C26: 순공사원가 | G26: =I26+K26+M26 -> 0 | H26: =[20]원가계산서!F25 -> 7675813
C27: 일반관리비 | E27: 6 | F27: % | G27: =I27+K27+M27 -> 0 | H27: =[20]원가계산서!F26 -> 460548
C28: 이윤 | E28: 15 | F28: % | G28: =I28+K28+M28 -> 0 | H28: =[20]원가계산서!F27 -> 1180958
C29: 총원가 | G29: =I29+K29+M29 -> 0 | H29: =[20]원가계산서!F28 -> 9317319
C30: 부가가치세 | E30: 10 | F30: % | G30: =I30+K30+M30 -> 0 | H30: =[20]원가계산서!F29 -> 22681
C31: 도급액 | G31: =I31+K31+M31 -> 0 | H31: =[20]원가계산서!F30 -> 9340000
C32: 총공사비 | G32: =I32+K32+M32 -> 0 | H32: =[20]원가계산서!F33 -> 9340000
G33: =I33+K33+M33 -> 0 | H33: =J33+L33+N33 -> 0

Sheet 위치도
A1: 위 치 도
L48: 예초 | M48: 구간
M49: 1 | N49: 1625
M50: 2 | N50: 610
M51: 3 | N51: 222
M52: 4 | N52: 1186
M53: 5 | N53: 1388
M54: 6 | N54: 384
M55: 7 | N55: 379
M56: 8 | N56: 343
N57: =SUM(N49:N56) -> 6137
L59: 제초 | M59: 길이
M60: a | N60: 796
M61: b | N61: 148
M62: c | N62: 367
M63: d | N63: 135
N64: =SUM(N60:N63) -> 1446 | O64: 1.5 | P64: =O64*N64 -> 2169
M65: e | N65: 1832 | P65: =N65 -> 1832 | Q65: =P65+P64 -> 4001
L66: 울타리 보수 | M66: 150m
L68: 벌목 | M68: 381

Sheet 일위대가총괄표
B1: 일위대가총괄표
B3: 호 표 | C3: 품 명 | D3: 규 격 | E3: 단위 | F3: 합 계 | G3: 노무비 | H3: 재료비 | I3: 경 비 | J3: 비 고 | Z3: 당초합계 | AA3: 당초노무비 | AB3: 당초재료비 | AC3: 당초경비
B4: 제1호표 | C4: 예초 | D4: 연1회, 경사구간 | E4: ㎡ | F4: =G4+H4+I4 -> 581 | G4: =[20]일위대가!J5 -> 549 | H4: =[20]일위대가!L5 -> 32 | I4: =[20]일위대가!N5 -> 0 | Z4: 581 | AA4: 549 | AB4: 32
B5: 제2호표 | C5: 울타리 보수 | D5: H=2.0m | E5: m | F5: =G5+H5+I5 -> 4660 | G5: =호표!H10 -> 4525 | H5: =호표!J10 -> 135 | I5: 0 | Z5: 581 | AA5: 549 | AB5: 32

Sheet 일위대가
B1: 일위대가
B3: 호 표 | C3: 품 명 | D3: 규 격 | E3: 수 량 | F3: 단위 | G3: 합 계 | I3: 노무비 | K3: 재료비 | M3: 경 비 | O3: 비 고
G4: 단 가 | H4: 금 액 | I4: 단 가 | J4: 금 액 | K4: 단 가 | L4: 금 액 | M4: 단 가 | N4: 금 액
B5: 제1호표 | C5: 예초 | D5: 연1회, 경사구간 | F5: ㎡ | H5: =J5+L5+N5 -> 581 | J5: =TRUNC(J6) -> 549 | L5: =TRUNC(L6) -> 32 | N5: =TRUNC(N6) -> 0
C6: 예초(연1회) | D6: 배부식 | E6: 1 | F6: ㎡ | G6: =I6+K6+M6 -> 581 | H6: =J6+L6+N6 -> 581 | I6: =[20]단가산출총괄표!G4 -> 549 | J6: =TRUNC(E6*I6,1) -> 549 | K6: =[20]단가산출총괄표!H4 -> 32 | L6: =TRUNC(E6*K6,1) -> 32 | M6: =[20]단가산출총괄표!I4 -> 0 | N6: =TRUNC(E6*M6,1) -> 0 | O6: 단산1참조
J7: =TRUNC(E7*I7,1) -> 0 | L7: =TRUNC(E7*K7,1) -> 0 | N7: =TRUNC(E7*M7,1) -> 0
J8: =TRUNC(E8*I8,1) -> 0 | L8: =TRUNC(E8*K8,1) -> 0 | N8: =TRUNC(E8*M8,1) -> 0
J9: =TRUNC(E9*I9,1) -> 0 | L9: =TRUNC(E9*K9,1) -> 0 | N9: =TRUNC(E9*M9,1) -> 0
J10: =TRUNC(E10*I10,1) -> 0 | L10: =TRUNC(E10*K10,1) -> 0 | N10: =TRUNC(E10*M10,1) -> 0
J11: =TRUNC(E11*I11,1) -> 0 | L11: =TRUNC(E11*K11,1) -> 0 | N11: =TRUNC(E11*M11,1) -> 0
J12: =TRUNC(E12*I12,1) -> 0 | L12: =TRUNC(E12*K12,1) -> 0 | N12: =TRUNC(E12*M12,1) -> 0
J13: =TRUNC(E13*I13,1) -> 0 | L13: =TRUNC(E13*K13,1) -> 0 | N13: =TRUNC(E13*M13,1) -> 0
J14: =TRUNC(E14*I14,1) -> 0 | L14: =TRUNC(E14*K14,1) -> 0 | N14: =TRUNC(E14*M14,1) -> 0
J15: =TRUNC(E15*I15,1) -> 0 | L15: =TRUNC(E15*K15,1) -> 0 | N15: =TRUNC(E15*M15,1) -> 0
J16: =TRUNC(E16*I16,1) -> 0 | L16: =TRUNC(E16*K16,1) -> 0 | N16: =TRUNC(E16*M16,1) -> 0
J17: =TRUNC(E17*I17,1) -> 0 | L17: =TRUNC(E17*K17,1) -> 0 | N17: =TRUNC(E17*M17,1) -> 0
J18: =TRUNC(E18*I18,1) -> 0 | L18: =TRUNC(E18*K18,1) -> 0 | N18: =TRUNC(E18*M18,1) -> 0
... J25: =TRUNC(E25*I25,1) -> 0 | L25: =TRUNC(E25*K25,1) -> 0 | N25: =TRUNC(E25*M25,1) -> 0

Sheet 호표
A2: 단 가 표
A4: 종 류 | B4: 재료또는치수 | C4: 원수 | D4: 단위 | E4: 총 액 | G4: 노 무 비 | I4: 재 료 비 | K4: 경 비 | M4: 비 고
E5: 단 가 | F5: 금 액 | G5: 단 가 | H5: 금 액 | I5: 단 가 | J5: 금 액 | K5: 단 가 | L5: 금 액
B6: 제1호표 매쉬울타리 보수 1m 당 | O6: 품셈 P.141(가설울타리판)_설치의 50%
A7: 비계공 | B7: 3m 이하 | C7: 0.013 | D7: 인 | E7: =G7+I7+K7 -> 281939 | F7: =H7+J7+L7 -> 3665 | G7: =노임단가!F8 -> 281939 | H7: =INT(C7*G7) -> 3665 | J7: 0 | L7: =INT(C7*K7) -> 0
A8: 보통인부 | B8: 3m 이하 | C8: 0.005 | D8: 인 | E8: =G8+I8+K8 -> 172068 | F8: =H8+J8+L8 -> 860 | G8: =노임단가!F5 -> 172068 | H8: =INT(C8*G8) -> 860 | J8: 0 | L8: =INT(C8*K8) -> 0
A9: 공구손료 및 잡재료비 | B9: 인력품의 3% | C9: 3 | D9: % | E9: =G9+I9+K9 -> 4525 | F9: =H9+J9+L9 -> 135 | I9: =H8+H7 -> 4525 | J9: =INT(I9*C9%) -> 135
A10: 계 | F10: =SUM(F7:F9) -> 4660 | H10: =SUM(H7:H9) -> 4525 | J10: =J7+J8+J9 -> 135 | L10: =SUM(L7:L8) -> 0
O12: 품셈 P.311
L13: =INT(C13*K13) -> 0
L14: =INT(C14*K14) -> 0
L16: =SUM(L13:L14) -> 0
O18: 품셈 P.311
L19: =INT(C19*K19) -> 0
L20: =INT(C20*K20) -> 0
L22: =SUM(L19:L20) -> 0

Sheet 단가산출총괄표
B1: 단가산출총괄표
B3: No | C3: 품 명 | D3: 규 격 | E3: 단위 | F3: 합 계 | G3: 노무비 | H3: 재료비 | I3: 경 비 | J3: 비 고
B4: 1 | C4: 예초(연1회) | D4: 배부식 | E4: ㎡ | F4: =G4+H4+I4 -> 600 | G4: =단가산출!EM4 -> 566 | H4: =단가산출!R26 -> 34 | I4: =[20]단가산출!EO4 -> 0
B5: 2 | C5: 제초(인력) | D5: 지장물지역 | E5: ㎡ | F5: =G5+H5+I5 -> 1082 | G5: =단가산출!EM30 -> 1,082 | H5: =[20]단가산출!EN30 -> 0 | I5: =[20]단가산출!EO30 -> 0
B6: 3 | C6: 벌목 | D6: 5m이상∼8m미만 | E6: ㎡ | F6: =G6+H6+I6 -> 1136 | G6: =단가산출!EM83 -> 1,017 | H6: =단가산출!EN83 -> 37 | I6: =단가산출!EO83 -> 82

Sheet 단가산출
B1: 단가산출
B3: 산 출 근 거 | C3: 합 계 | D3: 노무비 | E3: 재료비 | F3: 경 비 | EL3: 합 계 | EM3: 노무비 | EN3: 재료비 | EO3: 경 비
B4: 1.예초(연1회)(배부식)[㎡] | EL4: =EL28 -> 600 | EM4: =EM28 -> 566 | EN4: =EN28 -> 34 | EO4: =EO28 -> 0
E6: 시공횟수 | N6: 연 | P6: 1 | Q6: 회시 | V6: 할증률 | AC6: : | AE6: - | AF6: 30 | AH6: %
E7: 경사구간 | N7: 할증률 | U7: : | W7: - | X7: 10 | Z7: %
E9: 일당 | J9: 시공량 | Q9: : | S9: Q | U9: = | W9: =TEXT(2500,"#,##0.#######") -> 2,500. | AB9: ㎡ | AD9: / | AE9: 일 | AH9: × | AK9: ( | AL9: =TEXT(1,"#,##0.#######") -> 1. | AM9: - | AN9: =TEXT(0.4,"#,##0.#######") -> 0.4 | AQ9: ) | AR9: = | AT9: =TEXT(ROUND(W9*(AL9-AN9),2),"#,##0.#######") -> 1,500. | BB9: ㎡ | BD9: / | BE9: 일
D11: 1. | G11: 인건비
G13: 특별인부 | R13: : | T13: =노임단가!F4 -> 226122 | AD13: × | AG13: =TEXT(3,"#,##0.#######") -> 3. | AH13: 인 | AK13: ÷ | AN13: =TEXT(AT9,"#,##0.#######") -> 1,500. | AV13: = | AX13: =TEXT(TRUNC(T13*AG13/AT9,1),"#,##0.#######") -> 452.2
G15: 보통인부 | R15: : | T15: =노임단가!F5 -> 172068 | AD15: × | AG15: =TEXT(1,"#,##0.#######") -> 1. | AH15: 인 | AK15: ÷ | AN15: =TEXT(AT9,"#,##0.#######") -> 1,500. | AV15: = | AX15: =TEXT(TRUNC(T15*AG15/AT9,1),"#,##0.#######") -> 114.7
G17: 인부소계 | P17: : | R17: =TEXT(TRUNC(AX13+AX15,1),"#,##0.#######") -> 566.9 | EM17: =R17 -> 566.9
D19: 2. | G19: 공구손료 | P19: 및 | S19: 경장비의 | AB19: 기계경비 | AJ19: ( | AK19: 노무비의 | AT19: 6 | AU19: % | AV19: )
G21: =R17 -> 566.9 | O21: × | R21: =TEXT(6,"#,##0.#######") -> 6. | S21: % | U21: = | W21: =TEXT(TRUNC(R17*(R21*(1/100)),1),"#,##0.#") -> 34. | EL21: =EM21+EN21+EO21 -> 34 | EN21: =W21 -> 34.
D23: 3. | G23: 합 | K23: 계
I25: 노무비 | P25: : | R25: =TEXT(TRUNC(EM17,0),"#,##0") -> 566
I26: 재료비 | P26: : | R26: =TEXT(TRUNC(EN21,0),"#,##0") -> 34
I27: 경 | M27: 비 | P27: :
K28: 계 | P28: : | S28: =TEXT(R25+R26,"#,##0") -> 600 | EL28: =EM28+EN28+EO28 -> 600 | EM28: =TEXT(R25,"#,##0") -> 566 | EN28: =TEXT(R26,"#,##0") -> 34
B30: 2.제초(인력)(지장물지역)[㎡] | EL30: =EL45 -> 1082 | EM30: =EM45 -> 1,082 | EN30: =EN45 -> 0 | EO30: =EO45 -> 0
E32: < 유지관리품셈-공통1-2-9 >
D34: 1. | G34: 인 | K34: 력
G36: 조 경 공 | R36: : | T36: =TEXT([20]노임단가!F6,"#,##0") -> 222,504 | AD36: × | AG36: =TEXT(1,"#,##0.#######") -> 1. | AH36: 인 | AK36: ÷ | AN36: =TEXT(1000,"#,##0.#######") -> 1,000. | AS36: ㎡ | AV36: = | AX36: =TEXT(TRUNC(T36*AG36/AN36,1),"#,##0.#") -> 222.5 | EL36: =EM36+EN36+EO36 -> 222.5 | EM36: =AX36 -> 222.5
G38: 보통인부 | R38: : | T38: =T15 -> 172068 | AD38: × | AG38: =TEXT(5,"#,##0.#######") -> 5. | AH38: 인 | AK38: ÷ | AN38: =TEXT(1000,"#,##0.#######") -> 1,000. | AS38: ㎡ | AV38: = | AX38: =TEXT(TRUNC(T38*AG38/AN38,1),"#,##0.#") -> 860.3 | EL38: =EM38+EN38+EO38 -> 860.3 | EM38: =AX38 -> 860.3
D40: 2. | G40: 합 | K40: 계
I42: 노무비 | P42: : | R42: =TEXT(EM36,"#,###.##") -> 222.5 | X42: + | Z42: =TEXT(EM38,"#,###.##") -> 860.3 | AF42: = | AI42: =TEXT(TRUNC(EM36+EM38,0),"#,##0") -> 1,082
I43: 재료비 | P43: :
I44: 경 | M44: 비 | P44: :
K45: 계 | P45: : | S45: =TEXT(AI42,"#,##0") -> 1,082 | EL45: =EM45+EN45+EO45 -> 1082 | EM45: =TEXT(AI42,"#,##0") -> 1,082
B47: 3.벌목(5m이상∼8m미만)[㎡] | EL47: =EL83 -> 1136 | EM47: =EM83 -> 1,017 | EN47: =EN83 -> 37 | EO47: =EO83 -> 82
G49: <공통품셈 3-7-1 참조>
G51: - | I51: 본품은 | P51: 나무베기 | X51: , | Z51: 잔가지정리 | AK51: 및 | AN51: 밴 | AQ51: 나무를 | AX51: 집재 | BB51: ( | BC51: 반출을 | BJ51: 위해 | BO51: 일정한 | BV51: 장소에 | CC51: 모으기 | CI51: ) | CK51: 가능한
I52: 크기로 | P52: 자르기가 | Y52: 포함된 | AF52: 것이다
G53: - | I53: 나무높이는 | T53: 평균높이로 | AE53: 한다 | AI53: .
G54: - | I54: 본 | L54: 품의 | Q54: 집재거리는 | AB54: 100 | AE54: m | AG54: 까지를 | AN54: 기준한 | AU54: 것이므로 | BD54: 이를 | BI54: 초과하는 | BR54: 경우 | BW54: 매 | BZ54: 100 | CC54: 증가마다
I55: 인력품을 | R55: 30 | T55: % | V55: 씩 | Y55: 가산한다 | AG55: .
D57: 1. | G57: 인건비
G59: 벌 목 부 | R59: : | T59: =TEXT([20]노임단가!F7,"#,##0") -> 251,041 | AD59: × | AG59: =TEXT(2.8,"#,##0.#######") -> 2.8 | AK59: 인 | AN59: ÷ | AQ59: =TEXT(1000,"#,##0.#######") -> 1,000. | AU59: ㎡ | AX59: = | AZ59: =TEXT(TRUNC(T59*AG59/AQ59,1),"#,##0.#######") -> 702.9
G61: 보통인부 | R61: : | T61: =T38 -> 172068 | AD61: × | AG61: =TEXT(0.66,"#,##0.#######") -> 0.66 | AK61: 인 | AN61: ÷ | AQ61: =TEXT(1000,"#,##0.#######") -> 1,000. | AU61: ㎡ | AX61: = | AZ61: =TEXT(TRUNC(T61*AG61/AQ61,1),"#,##0.#######") -> 113.5
G63: 인부소계 | P63: : | W63: =TEXT(TRUNC(AZ59+AZ61,1),"#,##0.#######") -> 816.4 | EM63: =W63 -> 816.4
D65: 2. | G65: 기계경비 | P65: : | R65: 굴삭기(무한궤도) | AJ65: (0.2㎥+부착용집게)
G67: Q | I67: = | K67: =TEXT(3.54,"#,##0.#######") -> 3.54
...

Sheet 기계경비총괄표
B1: 기계경비총괄표
B3: No | C3: 품 명 | D3: 규 격 | E3: 단위 | F3: 합 계 | G3: 노무비 | H3: 재료비 | I3: 경 비 | Z3: 당초합계 | AA3: 당초노무비 | AB3: 당초재료비 | AC3: 당초경비
B4: 1 | C4: 굴삭기(무한궤도) | D4: 0.2㎥+부착용집게 | E4: hr | F4: =G4+H4+I4 -> 85116 | G4: =[20]기계경비!AA4 -> 56874 | H4: =기계경비!AB4 -> 10695 | I4: =기계경비!AC4 -> 17547 | Z4: 81363 | AA4: 56874 | AB4: 7963 | AC4: 16526

Sheet 기계경비
B1: 기계경비
B3: 명 칭 | C3: 규 격 | D3: 산 출 근 거 | Z3: 합 계 | AA3: 노무비 | AB3: 재료비 | AC3: 경 비 | AD3: 비 고
B4: 1. 굴삭기(무한궤도) | C4: 0.2㎥+부착용집게 | Z4: =AA4+AB4+AC4 -> 87262 | AA4: =TRUNC(AA5+AA6+AA7+AA8+AA9) -> 59020 | AB4: =TRUNC(AB5+AB6+AB7+AB8+AB9) -> 10695 | AC4: =TRUNC(AC5+AC6+AC7+AC8+AC9) -> 17547
B5: 굴삭기손료 | D5: 66538000 | I5: ￦× | K5: 2085 | N5: × | O5: 10(-7) | Z5: =AA5+AB5+AC5 -> 13873.1 | AC5: =TRUNC(D5*K5*0.0000001,1) -> 13873.1 | AD5: '24年 개정
B6: 부착용집게(0.2㎥) | D6: 4942000 | I6: ￦× | K6: 7435 | N6: × | O6: 10(-7) | Z6: =AA6+AB6+AC6 -> 3674.3 | AC6: =TRUNC(D6*K6*0.0000001,1) -> 3674.3 | AD6: '24年 개정
B7: 주연료 | C7: 경유 | D7: 5 | H7: ℓ | I7: × | J7: =자재단가!R5 -> 1844 | Z7: =AA7+AB7+AC7 -> 9220 | AB7: =TRUNC(D7*J7,1) -> 9220
B8: 잡 품 | C8: 주연료의 | D8: 16 | H8: % | I8: × | J8: =AB7 -> 9220 | Z8: =AA8+AB8+AC8 -> 1475.2 | AB8: =TRUNC(D8/100*J8,1) -> 1475.2
B9: 건설기계운전사 | D9: 1 | G9: 인 | H9: × | I9: =노임단가!F9 -> 283297 | M9: × | N9: 1/8*16/12*25/20 | Z9: =AA9+AB9+AC9 -> 59020.208 | AA9: =D9*I9*1/8*16/12*25/20 -> 59020.208

Sheet 기계경비적용기준
B1: 기계경비적용기준
C4: 환 율 (/￦) | G4: 기본재료비
C6: 화 폐 | D6: 환 율 | E6: 비 고 | G6: No | H6: 품 명 | I6: 규 격 | J6: 단위 | K6: 단 가
C7: 달러($) | D7: 1398 | E7: 2025. 8.22. 매매기준율 | G7: 1 | H7: 경유 | J7: ℓ | K7: =[20]자재단가!R5 -> 1373
C8: 엔(100￥) | D8: 941 | E8: 2025. 8.22. 매매기준율
C9: 유로(E) | D9: 1623.36 | E9: 2025. 8.22. 매매기준율
C10: 마르크(M)
C11: 파운드(L) | E11: 2025. 8.22. 매매기준율
C18: 노임계수 | G18: 계산결과값 자리수
C20: No | D20: 노임계수 | E20: 계산값
C21: 1 | D21: 1/8*16/12*25/20 | E21: =1/8*16/12*25/20 -> 0.20833333
C22: 2 | D22: 1/8*16/12*25/20*24/15 | E22: =1/8*16/12*25/20*24/15 -> 0.33333333 | G22: 경 비 소수 1 미만 절하
C23: 3 | D23: 1/8*16/12*25/20*12/10 | E23: =1/8*16/12*25/20*12/10 -> 0.25
C24: 4 | D24: 1/8*16/12*25/20*14/12 | E24: =1/8*16/12*25/20*14/12 -> 0.24305556 | G24: 재료비 소수 1 미만 절하
C25: 5 | D25: 1/8*16/12*25/20*24/5 | E25: =1/8*16/12*25/20*24/5 -> 1
G26: 노무비 소수 1 미만 절하

Sheet 자재단가
B1: 자재단가
B3: No | C3: 품 명 | D3: 규 격 | E3: 단위 | F3: 가격정보 | H3: 물가자료 | J3: 유통물가 | L3: 물가정보 | N3: 거래가격 | P3: 견적가1 | R3: 적용단가 | S3: 비 고
F4: 단 가 | G4: page | H4: 단 가 | I4: page | J4: 단 가 | K4: page | L4: 단 가 | M4: page | N4: 단 가 | O4: page | P4: 단 가 | Q4: page
B5: 1 | C5: 경유 | E5: ℓ | F5: 1844 | G5: 2025.8 | R5: =MIN(F5,H5,J5,L5,N5,P5) -> 1844 | S5: 석유공사

Sheet 노임단가
B1: 노임단가
B3: No | C3: 품 명 | D3: 규 격 | E3: 단위 | F3: 적용단가 | G3: 비 고
B4: 1 | C4: 특별인부 | E4: 인 | F4: 226122 | G4: 2026년(상)
B5: 2 | C5: 보통인부 | E5: 인 | F5: 172068 | G5: 2026년(상)
B6: 3 | C6: 조 경 공 | E6: 인 | F6: 235204 | G6: 2026년(상)
B7: 4 | C7: 벌목부 | E7: 인 | F7: 253243 | G7: 2026년(상)
B8: 5 | C8: 비계공 | E8: 인 | F8: 281939 | G8: 2026년(상)
B9: 6 | C9: 건설기계운전사 | E9: 인 | F9: 283297 | G9: 2026년(상)

Sheet 사진대지
A1: 사 진 대 지
A35: 사 진 대 지
A70: 사 진 대 지
A105: 사 진 대 지
A140: 사 진 대 지
A175: 사 진 대 지

Sheet 공사기간 
