Workbook
Name ___xlfn.BAHTTEXT: #NAME?
Name __DemandLoad: TRUE
Name __IntlFixup: TRUE
Name __xlfn.BAHTTEXT: #NAME?
Name __xlfn.RTD: #NAME?
Name _17bv3_: BlankMacro1
Name _17bv3_: BlankMacro1
Name _bv3: BlankMacro1
Name _bv3: BlankMacro1
Name _e1: {"Book1","부대-(표지판,데리,가드).xls","부대-(낙,차,중분대).xls"}
Name _j1: {"Book1","부대-(표지판,데리,가드).xls","부대-(낙,차,중분대).xls"}
Name _Order1: 255
Name _Order1: 0
Name _Order2: 255
Name _Order2: 0
Name _ordr2: 0
Name _ordwre2: 0
Name _q12: BLCH
Name _q12: BLCH
Name _Regression_Int: 1
Name AA: {"Book1","수시.XLS"}
Name AAAAAAAAAAAAAAA: BlankMacro1
Name AAAAAAAAAAAAAAA: BlankMacro1
Name ab: 1
Name Access_Button: "KT과금거리_지역좌표_970827_거리계산표_List"
Name Access_Button1: "업체현황_카드발송_List"
Name Access_Button2: "업체현황_카드발송_List"
Name Access_Button3: "카드발송_카드발송_List1"
Name Access_Button4: "업체현황_카드발송_List"
Name AccessDatabase: "D:\공무jaje\98년품의-수불\98146.mdb"
Name anscount: 1
Name APT연면적: 18578
Name ASFE: BlankMacro1
Name ASFE: BlankMacro1
Name box수량집계: {"Book1","토공.xls"}
Name Button_131: "입찰공고현황_공고_목록"
Name cate: "category"
Name catv: BlankMacro1
Name catv: BlankMacro1
Name CCMS: BlankMacro1
Name CCMS: BlankMacro1
Name CCTV: BlankMacro1
Name CCTV: BlankMacro1
Name cdd: BlankMacro1
Name cdd: BlankMacro1
Name CE팀송: BlankMacro1
Name CE팀송: BlankMacro1
Name CONTROL: {"'PROFORMA'!$A$1:$H$120"}
Name dddd1: {"Book1","부대-(표지판,데리,가드).xls","부대-(낙,차,중분대).xls"}
Name DDDDA: BlankMacro1
Name DDDDA: BlankMacro1
Name dddddddddddddddddddddddddddddd: BlankMacro1
Name dddddddddddddddddddddddddddddd: BlankMacro1
Name dddddddww: {"Book1","예술의전당.xls"}
Name DDS: BlankMacro1
Name DDS: BlankMacro1
Name DDW: BlankMacro1
Name DDW: BlankMacro1
Name de: BlankMacro1
Name de: BlankMacro1

Sheet 원가계산서
A1: 원 가 계 산 서
A3: * 물 품 명 : 연수구 선학동 행정복지센터 건립 중 빌딩자동제어장치
A4: 구 분 | D4: 금 액 | G4: 구 성 비 (%) | H4: 비 고
D5: 제조원가 | E5: 설치원가 | F5: 합 계
A6: 순 공 사 원 가 | B6: 재 료 비 | C6: 직 접 재 료 비 | D6: =집계표!F5+집계표!F6+집계표!F7+집계표!F15+집계표!F16 -> 0 | E6: =집계표!F8 -> 0 | F6: =D6+E6 -> 0
C7: 간 접 재 료 비 | D7: 0 | E7: 0 | F7: 0
C9: [ 계 ] | D9: =SUM(D6:D8) -> 0 | E9: =SUM(E6:E8) -> 0 | F9: =SUM(F6:F8) -> 0
B10: 노 무 비 | C10: 직 접 노 무 비 | D10: 0 | E10: =집계표!H9 -> 0 | F10: =D10+E10 -> 0
C11: 간 접 노 무 비 | D11: 0 | E11: 0 | F11: 0
C13: [ 계 ] | D13: =SUM(D10:D12) -> 0 | E13: =SUM(E10:E12) -> 0 | F13: =SUM(F10:F12) -> 0
B14: 경 비 | C14: 산 출 경 비 | D14: =SUM(내역서!J6:J80) -> 0 | E14: =SUM(내역서!J26:J58) -> 0 | F14: =D14+E14 -> 0
C15: 기 타 경 비 | D15: 0 | E15: 0 | F15: =D15+E15 -> 0
C16: 산 재 보 험 료 | D16: 0 | E16: =INT(SUM($E$13)*I16) -> 0 | F16: =D16+E16 -> 0 | G16: (노)*3.56% | I16: 0.0356
C17: 고 용 보 험 료 | D17: 0 | E17: =INT(SUM($E$13)*I17) -> 0 | F17: =D17+E17 -> 0 | G17: (노)*1.01% | I17: 0.0101
C18: 건 강 보 험 료 | D18: 0 | E18: 1575649 | F18: =D18+E18 -> 1575649 | G18: 고정값 | I18: 0.03595
C19: 노 인 장 기 요 양 보 험 료 | D19: 0 | E19: =INT(E18*I19) -> 207040 | F19: =D19+E19 -> 207040 | I19: 0.1314
C20: 연 금 보 험 료 | D20: 0 | E20: 2081872 | F20: =D20+E20 -> 2081872 | I20: 0.0475
C21: 퇴 직 공 제 부 금 비 | D21: 0 | E21: 1008064 | F21: =D21+E21 -> 1008064 | I21: 0.023
C22: 산 업 안 전 보 건 관 리 비 | D22: 0 | E22: 1631083 | F22: =D22+E22 -> 1631083 | I22: 0.0311
C23: 환 경 보 전 비 | D23: 0 | E23: 0 | F23: =D23+E23 -> 0
C24: 건설하도급대금지급보증서발급수수료 | D24: 0 | E24: 0 | F24: =D24+E24 -> 0
C25: 건설기계대여대금지급보증서발급수수료 | D25: 0 | E25: 0 | F25: =D25+E25 -> 0
C26: 석 면 분 담 금 | D26: 0 | E26: =INT(SUM($E$13)*I26) -> 0 | F26: =D26+E26 -> 0 | G26: (노)*0.006% | I26: 6e-05
C27: 임 금 채 권 부 담 금 | D27: 0 | E27: =INT(SUM($E$13)*I27) -> 0 | F27: =D27+E27 -> 0 | G27: (노)*0.09% | I27: 0.0009
C28: [ 계 ] | D28: =SUM(D14:D27) -> 0 | E28: =SUM(E14:E27) -> 6503708 | F28: =SUM(F14:F27) -> 6503708
A29: [소 계] | D29: =SUM(D28,D13,D9) -> 0 | E29: =SUM(E28,E13,E9) -> 6503708 | F29: =SUM(F28,F13,F9) -> 6503708
A30: 일 반 관 리 비 | D30: 0 | E30: 0 | F30: =D30+E30 -> 0
A31: 이 윤 | D31: 0 | E31: 0 | F31: =D31+E31 -> 0
A32: [소 계] | D32: =SUM(D30:D31) -> 0 | E32: =SUM(E30:E31) -> 0 | F32: =SUM(F30:F31) -> 0
A33: 공 급 가 액 | D33: =D29+D32 -> 0 | E33: =E29+E32 -> 6503708 | F33: =F29+F32 -> 6503708
A34: 부 가 가 치 세 | D34: =TRUNC(D33*0.1,0) -> 0 | E34: =TRUNC(E33*0.1,0) -> 650370 | F34: =TRUNC(F33*0.1,0) -> 650370 | G34: 공급가*10%
A36: [합 계] | D36: =SUM(D33:D35) -> 0 | E36: =SUM(E33:E35) -> 7154078 | F36: =SUM(F33:F35) -> 7154078

Sheet 집계표
A1: * 물 품 명 : 연수구 선학동 행정복지센터 건립 중 빌딩자동제어장치
A2: 품 명 | B2: 규 격 | C2: 단위 | D2: 수량 | E2: 재 료 비 | G2: 노 무 비 | I2: 경 비 | K2: 합 계 | M2: 비 고
E3: 단 가 | F3: 금 액 | G3: 단 가 | H3: 금 액 | I3: 단 가 | J3: 금 액 | K3: 단 가 | L3: 금 액
A4: 01 빌딩자동제어장치(자동제어)
A5: 1-1. 중앙관제장치 | C5: 식 | D5: 1 | E5: =SUM(내역서!F5:F15) -> 0 | F5: =E5*D5 -> 0 | K5: =E5+G5+I5 -> 0 | L5: =F5+H5+J5 -> 0
A6: 1-2. 직접디지털제어기(DDC) | C6: 식 | D6: 1 | E6: =SUM(내역서!F16:F19) -> 0 | F6: =E6*D6 -> 0 | K6: =E6+G6+I6 -> 0 | L6: =F6+H6+J6 -> 0
A7: 1-3. 제어기기류 | C7: 식 | D7: 1 | E7: =SUM(내역서!F20:F24) -> 0 | F7: =E7*D7 -> 0 | K7: =E7+G7+I7 -> 0 | L7: =F7+H7+J7 -> 0
A8: 1-4. 공사자재 | C8: 식 | D8: 1 | E8: =SUM(내역서!F26:F58) -> 0 | F8: =E8*D8 -> 0 | K8: =E8+G8+I8 -> 0 | L8: =F8+H8+J8 -> 0
A9: 1-5. 인건비 | C9: 식 | D9: 1 | G9: =SUM(내역서!H53:H57) -> 0 | H9: =G9*D9 -> 0 | K9: =E9+G9+I9 -> 0 | L9: =F9+H9+J9 -> 0
A13: [ 소 계 ] | F13: =SUM(F5:F12) -> 0 | H13: =SUM(H5:H12) -> 0 | J13: =SUM(J5:J12) -> 0 | L13: =SUM(L5:L12) -> 0
A14: 02 빌딩자동제어장치(제로에너지)
A15: 2-1. 중앙관제장치 | C15: 식 | D15: 1 | E15: =SUM(내역서!F63:F74) -> 0 | F15: =E15*D15 -> 0 | K15: =E15+G15+I15 -> 0 | L15: =F15+H15+J15 -> 0
A16: 2-2. 제어기기류 | C16: 식 | D16: 1 | E16: =SUM(내역서!F76:F80) -> 0 | F16: =E16*D16 -> 0 | K16: =E16+G16+I16 -> 0 | L16: =F16+H16+J16 -> 0
A20: [ 소 계 ] | F20: =SUM(F14:F19) -> 0 | H20: =SUM(H14:H19) -> 0 | J20: =SUM(J14:J19) -> 0 | L20: =SUM(L14:L19) -> 0
A28: [ 합 계 ] | F28: =F20+F13 -> 0 | H28: =H20+H13 -> 0 | J28: =J20+J13 -> 0 | L28: =L20+L13 -> 0

Sheet 내역서
A1: * 물 품 명 : 연수구 선학동 행정복지센터 건립 중 빌딩자동제어장치
A2: 품 명 | B2: 규 격 | C2: 단위 | D2: 수량 | E2: 재 료 비 | G2: 노 무 비 | I2: 경 비 | K2: 합 계 | M2: 비 고
E3: 단 가 | F3: 금 액 | G3: 단 가 | H3: 금 액 | I3: 단 가 | J3: 금 액 | K3: 단 가 | L3: 금 액
A4: 01 빌딩자동제어장치(자동제어)
A5: 1-1. 중앙관제장치 | C5: 식 | D5: 1
A6: CPU : INTEL i7 | C6: SET | D6: 1 | F6: =D6*E6 -> 0 | K6: =E6+G6+I6 -> 0 | L6: =F6+H6+J6 -> 0
A7: SNT-15000S PROGRAM(자동제어) | C7: 식 | D7: 1 | F7: =D7*E7 -> 0 | K7: =E7+G7+I7 -> 0 | L7: =F7+H7+J7 -> 0
A8: INTERFACE 시스템에어콘 HMI | C8: SET | D8: 1 | F8: =D8*E8 -> 0 | K8: =E8+G8+I8 -> 0 | L8: =F8+H8+J8 -> 0
A9: INTERFACE 전열교환기 HMI | C9: SET | D9: 1 | F9: =D9*E9 -> 0 | K9: =E9+G9+I9 -> 0 | L9: =F9+H9+J9 -> 0
A10: MONITOR : LED 27" | C10: EA | D10: 1 | F10: =D10*E10 -> 0 | K10: =E10+G10+I10 -> 0 | L10: =F10+H10+J10 -> 0
A11: PRINTER : Color LAZER A4 | C11: EA | D11: 1 | F11: =D11*E11 -> 0 | K11: =E11+G11+I11 -> 0 | L11: =F11+H11+J11 -> 0
A12: UPS : 3KVA / 30Min | C12: EA | D12: 1 | F12: =D12*E12 -> 0 | K12: =E12+G12+I12 -> 0 | L12: =F12+H12+J12 -> 0
A13: DESK & CHAIR | C13: EA | D13: 1 | F13: =D13*E13 -> 0 | K13: =E13+G13+I13 -> 0 | L13: =F13+H13+J13 -> 0
A14: Switching Hub(8Ports) | C14: EA | D14: 1 | F14: =D14*E14 -> 0 | K14: =E14+G14+I14 -> 0 | L14: =F14+H14+J14 -> 0
A15: 1-2. 직접디지털제어기(DDC)
A16: 직접디지털제어기 | B16: DDC-M | C16: SET | D16: 1
A17: 외함 | B17: 800x1200x250 | C17: EA | D17: 1 | F17: =D17*E17 -> 0 | K17: =E17+G17+I17 -> 0 | L17: =F17+H17+J17 -> 0
A18: SNT-EMS PLATFORM | B18: TI AM3352@1GHz, Licensed for 1 Device | C18: EA | D18: 1 | F18: =D18*E18 -> 0 | K18: =E18+G18+I18 -> 0 | L18: =F18+H18+J18 -> 0
A19: SNT-EMS PLATFORM IOR34 | B19: 34POINTS I/O module | C19: EA | D19: 2 | F19: =D19*E19 -> 0 | K19: =E19+G19+I19 -> 0 | L19: =F19+H19+J19 -> 0
A20: 1-3. 제어기기류
A21: 실내용온도감지기 | B21: LOCAL MADE | C21: EA | D21: 1 | F21: =D21*E21 -> 0 | K21: =E21+G21+I21 -> 0 | L21: =F21+H21+J21 -> 0
A22: 실내공기질 센서 | B22: LOCAL MADE | C22: EA | D22: 3 | F22: =D22*E22 -> 0 | K22: =E22+G22+I22 -> 0 | L22: =F22+H22+J22 -> 0
A23: 정수위 밸브(10K) | B23: 40A | C23: EA | D23: 1 | F23: =D23*E23 -> 0 | K23: =E23+G23+I23 -> 0 | L23: =F23+H23+J23 -> 0
A24: 정수위 밸브(10K) | B24: 65A | C24: EA | D24: 1 | F24: =D24*E24 -> 0 | K24: =E24+G24+I24 -> 0 | L24: =F24+H24+J24 -> 0
A25: 1-4. 공사자재
A26: 전선관 | B26: 16C | C26: m | D26: 513 | F26: =D26*E26 -> 0 | K26: =E26+G26+I26 -> 0 | L26: =F26+H26+J26 -> 0
A27: 전선관 | B27: 22C | C27: m | D27: 271 | F27: =D27*E27 -> 0 | K27: =E27+G27+I27 -> 0 | L27: =F27+H27+J27 -> 0
A28: 전선관 | B28: 28C | C28: m | D28: 90 | F28: =D28*E28 -> 0 | K28: =E28+G28+I28 -> 0 | L28: =F28+H28+J28 -> 0
A29: 전선관 | B29: 36C | C29: m | D29: 14 | F29: =D29*E29 -> 0 | K29: =E29+G29+I29 -> 0 | L29: =F29+H29+J29 -> 0
A30: 전선관 부속 | B30: 0.2 | C30: 식 | D30: 1 | F30: =D30*E30 -> 0 | K30: =E30+G30+I30 -> 0 | L30: =F30+H30+J30 -> 0
A31: 전선 | B31: HFIX 2.5sq | C31: m | D31: 1450 | F31: =D31*E31 -> 0 | K31: =E31+G31+I31 -> 0 | L31: =F31+H31+J31 -> 0
A32: 케이블 | B32: TJV 1.0 x 2C | C32: m | D32: 435 | F32: =D32*E32 -> 0 | K32: =E32+G32+I32 -> 0 | L32: =F32+H32+J32 -> 0
A33: 케이블 | B33: F-CVVS 1.5 x 2C | C33: m | D33: 61 | F33: =D33*E33 -> 0 | K33: =E33+G33+I33 -> 0 | L33: =F33+H33+J33 -> 0
A34: 케이블 | B34: UTP Cat.5E 4P | C34: m | D34: 121 | F34: =D34*E34 -> 0 | K34: =E34+G34+I34 -> 0 | L34: =F34+H34+J34 -> 0
A35: 케이블 | B35: AWG24 x 2P | C35: m | D35: 364 | F35: =D35*E35 -> 0 | K35: =E35+G35+I35 -> 0 | L35: =F35+H35+J35 -> 0
A36: 케이블 | B36: F-CV 4.0 x 3C | C36: m | D36: 71 | F36: =D36*E36 -> 0 | K36: =E36+G36+I36 -> 0 | L36: =F36+H36+J36 -> 0
A37: FLEX TUBE(방수형) | B37: 16C | C37: EA | D37: 18 | F37: =D37*E37 -> 0 | K37: =E37+G37+I37 -> 0 | L37: =F37+H37+J37 -> 0
A38: FLEX TUBE(방수형) | B38: 22C | C38: EA | D38: 7 | F38: =D38*E38 -> 0 | K38: =E38+G38+I38 -> 0 | L38: =F38+H38+J38 -> 0
A39: FLEX. CONNECTOR | B39: 16C | C39: EA | D39: 32 | F39: =D39*E39 -> 0 | K39: =E39+G39+I39 -> 0 | L39: =F39+H39+J39 -> 0
A40: FLEX. CONNECTOR | B40: 22C | C40: EA | D40: 12 | F40: =D40*E40 -> 0 | K40: =E40+G40+I40 -> 0 | L40: =F40+H40+J40 -> 0
A41: 앙카볼트 | B41: 3/8" | C41: EA | D41: 59 | F41: =D41*E41 -> 0 | K41: =E41+G41+I41 -> 0 | L41: =F41+H41+J41 -> 0
A42: 행가 | B42: 3/8" x 1m | C42: EA | D42: 59 | F42: =D42*E42 -> 0 | K42: =E42+G42+I42 -> 0 | L42: =F42+H42+J42 -> 0
... A50: 누수감지기 | B50: LOCAL MADE | C50: EA | D50: 1 | F50: =D50*E50 -> 0 | K50: =E50+G50+I50 -> 0 | L50: =F50+H50+J50 -> 0
A51: 잡자재비 | B51: 0.03 | C51: 식 | D51: 1 | F51: =D51*E51 -> 0 | K51: =E51+G51+I51 -> 0 | L51: =F51+H51+J51 -> 0
A52: 1-5. 인건비
A53: 노무비 | B53: 내선전공 | C53: 인 | D53: 118 | H53: =D53*G53 -> 0 | K53: =E53+G53+I53 -> 0 | L53: =F53+H53+J53 -> 0
A54: 노무비 | B54: 저압케이블전공 | C54: 인 | D54: 9 | H54: =D54*G54 -> 0 | K54: =E54+G54+I54 -> 0 | L54: =F54+H54+J54 -> 0
A55: 노무비 | B55: 계장공 | C55: 인 | D55: 15 | H55: =D55*G55 -> 0 | K55: =E55+G55+I55 -> 0 | L55: =F55+H55+J55 -> 0
A56: 노무비 | B56: 통신케이블공 | C56: 인 | D56: 8 | H56: =D56*G56 -> 0 | K56: =E56+G56+I56 -> 0 | L56: =F56+H56+J56 -> 0
A57: 노무비 | B57: 보통인부 | C57: 인 | D57: 3 | H57: =D57*G57 -> 0 | K57: =E57+G57+I57 -> 0 | L57: =F57+H57+J57 -> 0
A58: 공 구 손 료 | B58: 0.02 | C58: 식 | D58: 1 | F58: =D58*E58 -> 0 | K58: =E58+G58+I58 -> 0 | L58: =F58+H58+J58 -> 0
A60: [ 소 계 ] | F60: =SUM(F5:F59) -> 0 | H60: =SUM(H5:H59) -> 0 | J60: =SUM(J5:J59) -> 0 | L60: =SUM(L5:L59) -> 0
A61: 02 빌딩자동제어장치(제로에너지)
A62: 2-1. 중앙관제장치
A63: CPU : INTEL i7 | C63: SET | D63: 0 | F63: =D63*E63 -> 0 | K63: =E63+G63+I63 -> 0 | L63: =F63+H63+J63 -> 0 | M63: 자동제어 통합
A64: MONITOR : LED 27" | C64: EA | D64: 0 | F64: =D64*E64 -> 0 | K64: =E64+G64+I64 -> 0 | L64: =F64+H64+J64 -> 0 | M64: 자동제어 통합
A65: SNT-15000S PROGRAM(제로에너지) | C65: 식 | D65: 1 | F65: =D65*E65 -> 0 | K65: =E65+G65+I65 -> 0 | L65: =F65+H65+J65 -> 0
A66: 제로에너지 구축(데이터 수집 및 표시) | C66: EA | D66: 1 | F66: =D66*E66 -> 0 | K66: =E66+G66+I66 -> 0 | L66: =F66+H66+J66 -> 0
A67: 제로에너지 구축(데이터조회) | C67: EA | D67: 1 | F67: =D67*E67 -> 0 | K67: =E67+G67+I67 -> 0 | L67: =F67+H67+J67 -> 0
A68: 제로에너지 구축(에너지소비 현황분석) | C68: EA | D68: 1 | F68: =D68*E68 -> 0 | K68: =E68+G68+I68 -> 0 | L68: =F68+H68+J68 -> 0
A69: 제로에너지 구축(종합유지관리) | C69: EA | D69: 1 | F69: =D69*E69 -> 0 | K69: =E69+G69+I69 -> 0 | L69: =F69+H69+J69 -> 0
A70: INTERFACE 태양광 HMI | C70: SET | D70: 1 | F70: =D70*E70 -> 0 | K70: =E70+G70+I70 -> 0 | L70: =F70+H70+J70 -> 0
A71: INTERFACE 디지털미터기 HMI | C71: SET | D71: 1 | F71: =D71*E71 -> 0 | K71: =E71+G71+I71 -> 0 | L71: =F71+H71+J71 -> 0
A72: INTERFACE 전력량계 HMI | C72: SET | D72: 1 | F72: =D72*E72 -> 0 | K72: =E72+G72+I72 -> 0 | L72: =F72+H72+J72 -> 0
A73: INTERFACE 가스량계 HMI | C73: SET | D73: 1 | F73: =D73*E73 -> 0 | K73: =E73+G73+I73 -> 0 | L73: =F73+H73+J73 -> 0
A74: 게이트웨이(RS-485→ETHERNET) | C74: EA | D74: 1 | F74: =D74*E74 -> 0 | K74: =E74+G74+I74 -> 0 | L74: =F74+H74+J74 -> 0
A75: 2-2. 제어기기류
A76: 전력량계(RS-485통신) | B76: 1P2W 220V 80(20)A | C76: EA | D76: 4 | F76: =D76*E76 -> 0 | K76: =E76+G76+I76 -> 0 | L76: =F76+H76+J76 -> 0
A77: 전력량계(RS-485통신) | B77: 1P2W 220V 120(30)A | C77: EA | D77: 3 | F77: =D77*E77 -> 0 | K77: =E77+G77+I77 -> 0 | L77: =F77+H77+J77 -> 0
A78: 전력량계(RS-485통신) | B78: 3P4W 220/380V 5(2.5)A | C78: EA | D78: 5 | F78: =D78*E78 -> 0 | K78: =E78+G78+I78 -> 0 | L78: =F78+H78+J78 -> 0
A79: 모드버스 단자대 | C79: EA | D79: 13 | F79: =D79*E79 -> 0 | K79: =E79+G79+I79 -> 0 | L79: =F79+H79+J79 -> 0
A80: 환형 CT | C80: EA | D80: 15 | F80: =D80*E80 -> 0 | K80: =E80+G80+I80 -> 0 | L80: =F80+H80+J80 -> 0
A82: [ 소 계 ] | F82: =SUM(F61:F81) -> 0 | H82: =SUM(H61:H81) -> 0 | J82: =SUM(J61:J81) -> 0 | L82: =SUM(L61:L81) -> 0
A84: [ 합 계 ] | F84: =F82+F60 -> 0 | H84: =H82+H60 -> 0 | J84: =J82+J60 -> 0 | L84: =L82+L60 -> 0
