Workbook

Sheet 표지
B7: 참사랑의집 옥상방수공사
B8: 2026.09. .
B19: 참사랑의 집

Sheet 원가계산서
B1: 공 사 원 가 계 산 서
B2: 공사명 : 참사랑의집 옥상방수공사
B3: 비 목 | E3: 금 액 | F3: 구 성 비 | G3: 비 고
A4: A1 | B4: 순 공 사 원 가 | C4: 재 료 비 | D4: 직 접 재 료 비 | E4: =TRUNC(공종별집계표!F5, 0) -> 0
A5: A2 | D5: 간 접 재 료 비 | E5: 0
A6: A3 | D6: 작업설, 부산물(△) | E6: 0
A7: AS | D7: [ 소 계 ] | E7: =TRUNC(E4+E5-E6, 0) -> 0
A8: B1 | C8: 노 무 비 | D8: 직 접 노 무 비 | E8: =TRUNC(공종별집계표!H5, 0) -> 0
A9: B2 | D9: 간 접 노 무 비 | E9: =TRUNC(E8*0.055, 0) -> 0 | F9: 직접노무비 * 5.5%
A10: BS | D10: [ 소 계 ] | E10: =TRUNC(E8+E9, 0) -> 0
A11: C2 | C11: 경 비 | D11: 기 계 경 비 | E11: =TRUNC(공종별집계표!J5, 0) -> 0
A12: C4 | D12: 산 재 보 험 료 | E12: =TRUNC(E10*0.0356, 0) -> 0 | F12: 노무비 * 3.56%
A13: C5 | D13: 고 용 보 험 료 | E13: =TRUNC(E10*0.0101, 0) -> 0 | F13: 노무비 * 1.01%
A14: CA | D14: 산업안전보건관리비 | E14: =TRUNC((E7+E8+E26)*0.0311, 0) -> 0 | F14: (재료비+직노) * 3.11%
A15: CH | D15: 환 경 보 전 비 | E15: =TRUNC((E7+E8+E11)*0.003, 0) -> 0 | F15: (재료비+직노+기계경비) * 0.3%
A16: CG | D16: 기 타 경 비 | E16: =TRUNC((E7+E10)*0.023, 0) -> 0 | F16: (재료비+노무비) * 2.3%
A17: CL | D17: 건설기계대여금지급보증서발급수수료 | E17: =TRUNC((E7+E8+E11)*0.0007, 0) -> 0 | F17: (재료비+직노+기계경비) * 0.07%
A18: CS | D18: [ 소 계 ] | E18: =TRUNC(E11+E12+E13+E14+E16+E15+E17, 0) -> 0
A19: S1 | B19: 계 | E19: =TRUNC(E7+E10+E18, 0) -> 0
A20: D1 | B20: 일 반 관 리 비 | E20: =TRUNC(E19*0.031, 0) -> 0 | F20: 계 * 3.1%
A21: D2 | B21: 이 윤 | E21: =TRUNC((E10+E18+E20)*0.117, 0) -> 0 | F21: (노무비+경비+일반관리비) * 11.7%
A22: D3 | B22: 건설폐기물처리비
A23: D9 | B23: 공 급 가 액
A24: DB | B24: 부 가 가 치 세 | F24: 공급가액 * 10%
A25: DH | B25: 도 급 액
A26: DJ | B26: 관 급 자 재 비
A27: S2 | B27: 총 공 사 비

Sheet 공종별집계표
A1: 공 종 별 집 계 표
A2: [ 참사랑의집 옥상방수공사 ]
A3: 품 명 | B3: 규 격 | C3: 단위 | D3: 수량 | E3: 재 료 비 | G3: 노 무 비 | I3: 경 비 | K3: 합 계 | M3: 비 고 | N3: 공종코드 | O3: 변수 | P3: 상위공종 | Q3: 공종구분 | R3: 공종레벨 | S3: 공종소계 | T3: 원가계산서 연결금액
E4: 단 가 | F4: 금 액 | G4: 단 가 | H4: 금 액 | I4: 단 가 | J4: 금 액 | K4: 단 가 | L4: 금 액
A5: 01 참사랑의집 옥상방수공사 | D5: 1 | E5: =F6 -> 0 | F5: =E5*D5 -> 0 | G5: =H6 -> 0 | H5: =G5*D5 -> 0 | I5: =J6 -> 0 | J5: =I5*D5 -> 0 | K5: =E5+G5+I5 -> 0 | L5: =F5+H5+J5 -> 0 | N5: 01 | R5: 1
A6: 0101 방 수 공 사 | D6: 1 | E6: =공종별내역서!F27 -> 0 | F6: =E6*D6 -> 0 | G6: =공종별내역서!H27 -> 0 | H6: =G6*D6 -> 0 | I6: =공종별내역서!J27 -> 0 | J6: =I6*D6 -> 0 | K6: =E6+G6+I6 -> 0 | L6: =F6+H6+J6 -> 0 | N6: 0101 | P6: 01 | R6: 2
A7: 0102 건설폐기물처리 | D7: 1 | E7: =공종별내역서!F51 -> 0 | F7: =E7*D7 -> 0 | G7: =공종별내역서!H51 -> 0 | H7: =G7*D7 -> 0 | I7: =공종별내역서!J51 -> 0 | J7: =I7*D7 -> 0 | K7: =E7+G7+I7 -> 0 | L7: =F7+H7+J7 -> 0 | N7: 0102 | Q7: 6 | R7: 2 | T7: =L7*1 -> 0
A8: 0103 관급자재 | D8: 1 | E8: =공종별내역서!F75 -> 0 | F8: =E8*D8 -> 0 | G8: =공종별내역서!H75 -> 0 | H8: =G8*D8 -> 0 | I8: =공종별내역서!J75 -> 0 | J8: =I8*D8 -> 0 | K8: =E8+G8+I8 -> 0 | L8: =F8+H8+J8 -> 0 | N8: 0103 | Q8: 3 | R8: 2 | T8: =L8*1 -> 0
A29: [ 합 계 ] | F29: =F5 -> 0 | H29: =H5 -> 0 | J29: =J5 -> 0 | L29: =L5 -> 0

Sheet 공종별내역서
A1: [ 참사랑의집 옥상방수공사 ]
A2: 품 명 | B2: 규 격 | C2: 단위 | D2: 수량 | E2: 재 료 비 | G2: 노 무 비 | I2: 경 비 | K2: 합 계 | M2: 비 고 | N2: 품목코드 | O2: 변수 | P2: 설정 | Q2: 공종코드 | R2: 일위 | S2: 단산 | T2: 자재 | U2: 손료적용 | V2: 손료저장 | W2: 적용율 | X2: JUK1 | Y2: JUK2 | Z2: JUK3 | AA2: JUK4 | AB2: JUK5 | AC2: JUK6 | AD2: JUK7 | AE2: JUK8 | AF2: JUK9 | AG2: JUK10 | AH2: JUK11 | AI2: JUK12 | AJ2: JUK13 | AK2: JUK14 | AL2: JUK15 | AM2: JUK16 | AN2: JUK17 | AO2: JUK18 | AP2: JUK19 | AQ2: JUK20 | AR2: 자재구분 | AS2: 공종구분 | AT2: 공종레벨 | AU2: 공종+자재 | AV2: 고유번호
E3: 단 가 | F3: 금 액 | G3: 단 가 | H3: 금 액 | I3: 단 가 | J3: 금 액 | K3: 단 가 | L3: 금 액
A4: 0101 방 수 공 사 | Q4: 0101
A5: 기존방수층 제거 및 바탕처리 | B5: 바닥 | C5: M2 | D5: 819 | N5: 59996577B9544493A18D46CE0243DF | Q5: 0101 | R5: T | S5: F | T5: F | AU5: 010159996577B9544493A18D46CE0243DF | AV5: 2
A6: 트럭탑재형 크레인 | B6: 5ton | C6: HR | D6: 21 | N6: 5E8CC5D75758EB73128D2B128C431933BCF02D0B | Q6: 0101 | R6: T | S6: F | T6: F | AU6: 01015E8CC5D75758EB73128D2B128C431933BCF02D0B | AV6: 6
A7: 고강도방수모르타르(시멘트혼입폴리머계방수재) | B7: 바닥, 10mm | C7: M2 | D7: 232 | N7: 59980526FD5E31C3058CFD38834642 | Q7: 0101 | R7: T | S7: F | T7: F | AU7: 010159980526FD5E31C3058CFD38834642 | AV7: 18
A8: 두겁설치 | B8: W590 | C8: M | D8: 13 | N8: 5998D551445C57B3B98EAF65054E15DC | Q8: 0101 | R8: T | S8: F | T8: F | AU8: 01015998D551445C57B3B98EAF65054E15DC | AV8: 11
A9: 두겁설치 | B9: W350 | C9: M | D9: 61 | N9: 5998D551445C57B3B98EAF65054E15DF | Q9: 0101 | R9: T | S9: F | T9: F | AU9: 01015998D551445C57B3B98EAF65054E15DF | AV9: 12
A10: 두겁설치 | B10: W460 | C10: M | D10: 50 | N10: 5998D551445C57B3B98EAF65054E15D9 | Q10: 0101 | R10: T | S10: F | T10: F | AU10: 01015998D551445C57B3B98EAF65054E15D9 | AV10: 13
A11: 두겁설치 | B11: W510 | C11: M | D11: 13 | N11: 5998D551445C57B3B98EAF65054E15DE | Q11: 0101 | R11: T | S11: F | T11: F | AU11: 01015998D551445C57B3B98EAF65054E15DE | AV11: 14
A12: 두겁설치 | B12: W380 | C12: M | D12: 93 | N12: 5998D551445C57B3B98EAF65054E15D8 | Q12: 0101 | R12: T | S12: F | T12: F | AU12: 01015998D551445C57B3B98EAF65054E15D8 | AV12: 15
A13: 선홈통(강관) 설치 | B13: 100*40*1.2T, 스테인리스관 | C13: M | D13: 102 | N13: 5998C573645AE9B38787FD1B9942B5 | Q13: 0101 | R13: T | S13: F | T13: F | AU13: 01015998C573645AE9B38787FD1B9942B5 | AV13: 22
A14: 스텐판 처마홈통 설치 | B14: 100*100*100*1.2T | C14: M | D14: 177 | N14: 5998C573615D80F3528BB3C1984297 | Q14: 0101 | R14: T | S14: F | T14: F | AU14: 01015998C573615D80F3528BB3C1984297 | AV14: 24
A15: 선홈통철거 | C15: M | D15: 102 | N15: 59996574E45D84E3DD89D1F8F149CD | Q15: 0101 | R15: T | S15: F | T15: F | AU15: 010159996574E45D84E3DD89D1F8F149CD | AV15: 23
A16: 스텐상자홈통설치 | B16: 200*200*200*1.5t | C16: EA | D16: 5
A27: [ 합 계 ] | N27: TOTAL
A28: 0102 건설폐기물처리 | Q28: 0102
A29: 건설폐기물-가연성 | B29: 폐합성수지 | C29: TON | D29: 2.3 | M29: 100톤미만 | N29: 5998658D0458BCF32C822CEFED4CF8 | Q29: 0102 | R29: T | S29: F | T29: F | AU29: 01025998658D0458BCF32C822CEFED4CF8 | AV29: 16
A30: 건설폐기물운반비-가연성 | B30: 가연성 | C30: TON | D30: 2.3 | M30: 100톤미만 | N30: 5998658D0458BCF32C822CEFED4EA7 | Q30: 0102 | R30: T | S30: F | T30: F | AU30: 01025998658D0458BCF32C822CEFED4EA7 | AV30: 17
A31: 건설폐기물 -중간처리 | B31: 폐콘크리트 | C31: TON | D31: 2.6 | M31: 100톤미만 | N31: 5998658D0458BCF32C822CEF9549D9 | Q31: 0102 | R31: T | S31: F | T31: F | AU31: 01025998658D0458BCF32C822CEF9549D9 | AV31: 20
A32: 건설폐기물운반비-중간처리 | B32: 15ton 덤프트럭, 30km | C32: TON | D32: 2.6 | M32: 100톤미만 | N32: 5998658D0458BCF32C822CEF9543B1 | Q32: 0102 | R32: T | S32: F | T32: F | AU32: 01025998658D0458BCF32C822CEF9543B1 | AV32: 21
A33: 건설폐기물상차비 | B33: 15ton 덤프트럭 | C33: TON | D33: 2.6 | N33: 5998658D0458BCF32C822CFD2344C1 | Q33: 0102 | R33: T | S33: F | T33: F | AU33: 01025998658D0458BCF32C822CFD2344C1 | AV33: 19
A51: [ 합 계 ] | N51: TOTAL
A52: 0103 관급자재 | Q52: 0103
A53: 폴리우레아도막방수재 | B53: 2MM,현장설치도 | C53: M2 | D53: 819 | M53: 식별번호2426663 | N53: 5824D5DF5E5B54334F85A22DEC43B693C94C04 | Q53: 0103 | R53: F | S53: F | T53: T | X53: 1 | AU53: 01035824D5DF5E5B54334F85A22DEC43B693C94C04 | AV53: 7
A54: 조달수수료 | B54: 주재료비의 0.8% | C54: 식 | D54: 1 | N54: 588245DAEF56BA33528F9D2D1045001 | Q54: 0103 | R54: F | S54: F | T54: F | U54: 0 | V54: 0 | W54: 0.008 | AU54: 0103588245DAEF56BA33528F9D2D1046002 | AV54: 9
A75: [ 합 계 ] | N75: TOTAL

Sheet Sheet1
