Workbook

Sheet 원가계산서
B1: 공 사 원 가 계 산 서
B2: 공사명 : 유용미생물배양실 부지 철거공사 | F2: 금액 : 사천사백팔십칠만이천원(￦44,872,000)
B3: 비 목 | E3: 금 액 | F3: 구 성 비 | G3: 비 고
A4: A1 | B4: 순 공 사 원 가 | C4: 재 료 비 | D4: 직 접 재 료 비 | E4: =TRUNC(공종별집계표!F5, 0) -> 0
A5: A2 | D5: 간 접 재 료 비 | E5: 0
A6: AS | D6: [ 소 계 ] | E6: =TRUNC(E4+E5, 0) -> 0
A7: B1 | C7: 노 무 비 | D7: 직 접 노 무 비 | E7: =TRUNC(공종별집계표!H5, 0) -> 0
A8: B2 | D8: 간 접 노 무 비 | E8: =TRUNC(E7*0.175, 0) -> 0 | F8: 직접노무비 * 17.5%
A9: BS | D9: [ 소 계 ] | E9: =TRUNC(E7+E8, 0) -> 0
A10: C2 | C10: 경 비 | D10: 경 비 | E10: =TRUNC(공종별집계표!J5, 0) -> 0
A11: C4 | D11: 산 재 보 험 료 | E11: =TRUNC(E9*0.0356, 0) -> 0 | F11: 노무비 * 3.56%
A12: C5 | D12: 고 용 보 험 료 | E12: =TRUNC(E9*0.0101, 0) -> 0 | F12: 노무비 * 1.01%
A13: CA | D13: 산업안전보건관리비 | E13: =TRUNC((E6+E7)*0.0311, 0) -> 0 | F13: (재료비+직노) * 3.11% | G13: 2천이상(도급+도급관급)
A14: CH | D14: 환 경 보 전 비 | E14: =TRUNC((E6+E7+E10)*0.003, 0) -> 0 | F14: (재료비+직노+경비) * 0.3% | G14: 보수 0.3
A15: CG | D15: 기 타 경 비 | E15: =TRUNC((E6+E9)*0.05, 0) -> 0 | F15: (재료비+노무비) * 5%
A16: CE | D16: 석 면 분 담 금 | E16: =TRUNC(E9*0.00006, 0) -> 0 | F16: 노무비 * 0.006%
A17: CF | D17: 임금 채권 부담금 | E17: =TRUNC(E9*0.0009, 0) -> 0 | F17: 노무비 * 0.09%
A18: CS | D18: [ 소 계 ] | E18: =TRUNC(E10+E11+E12+E13+E16+E17+E15+E14, 0) -> 0
A19: S1 | B19: 계 | E19: =TRUNC(E6+E9+E18, 0) -> 0
A20: D1 | B20: 일 반 관 리 비 | E20: =TRUNC(E19*0.08, 0) -> 0 | F20: 계 * 8%
A21: D2 | B21: 이 윤 | E21: =TRUNC((E9+E18+E20)*0.15, 0) -> 0 | F21: (노무비+경비+일반관리비) * 15%
A22: D4 | B22: 건설폐기물상차비 | E22: =TRUNC(공종별집계표!T10, 0) -> 0
A23: D8 | B23: 작 업 부 산 물(△) | E23: =TRUNC(공종별집계표!T11, 0) -> 0
A24: D7 | B24: 해 체 계 획 서 | E24: =TRUNC(공종별집계표!T9, 0) -> 0
A25: D9 | B25: 공 급 가 액 | E25: =TRUNC(E19+E20+E21+E22+E24-E23, 0) -> 0
A26: DB | B26: 부 가 가 치 세 | E26: =TRUNC(E25*0.1, 0) -> 0 | F26: 공급가액 * 10%
A27: DH | B27: 도 급 액 | E27: =TRUNC(INT((E25+E26)/1000)*1000, 0) -> 0 | F27: 천원 미만 절사
A28: S2 | B28: 총 공 사 비 | E28: =TRUNC(INT((E27+0)/1000)*1000, 0) -> 0

Sheet 공종별집계표
A1: 공 종 별 집 계 표
A2: [ 유용미생물배양실 부지 철거공사 ]
A3: 품 명 | B3: 규 격 | C3: 단위 | D3: 수량 | E3: 재 료 비 | G3: 노 무 비 | I3: 경 비 | K3: 합 계 | M3: 비 고 | N3: 공종코드 | O3: 변수 | P3: 상위공종 | Q3: 공종구분 | R3: 공종레벨 | S3: 공종소계 | T3: 원가계산서 연결금액
E4: 단 가 | F4: 금 액 | G4: 단 가 | H4: 금 액 | I4: 단 가 | J4: 금 액 | K4: 단 가 | L4: 금 액
A5: 01 유용미생물배양실 부지 철거공사 | D5: 1 | E5: =F6 -> 0 | F5: =E5*D5 -> 0 | G5: =H6 -> 0 | H5: =G5*D5 -> 0 | I5: =J6 -> 0 | J5: =I5*D5 -> 0 | K5: =E5+G5+I5 -> 0 | L5: =F5+H5+J5 -> 0 | N5: 01 | R5: 1
A6: 0101 # 철거공사 | D6: 1 | E6: =F7+F8 -> 0 | F6: =E6*D6 -> 0 | G6: =H7+H8 -> 0 | H6: =G6*D6 -> 0 | I6: =J7+J8 -> 0 | J6: =I6*D6 -> 0 | K6: =E6+G6+I6 -> 0 | L6: =F6+H6+J6 -> 0 | N6: 0101 | P6: 01 | R6: 2
A7: 010101 가 설 공 사 | D7: 1 | E7: =공종별내역서!F26 -> 0 | F7: =E7*D7 -> 0 | G7: =공종별내역서!H26 -> 0 | H7: =G7*D7 -> 0 | I7: =공종별내역서!J26 -> 0 | J7: =I7*D7 -> 0 | K7: =E7+G7+I7 -> 0 | L7: =F7+H7+J7 -> 0 | N7: 010101 | P7: 0101 | R7: 3
A8: 010102 철 거 공 사 | D8: 1 | E8: =공종별내역서!F49 -> 0 | F8: =E8*D8 -> 0 | G8: =공종별내역서!H49 -> 0 | H8: =G8*D8 -> 0 | I8: =공종별내역서!J49 -> 0 | J8: =I8*D8 -> 0 | K8: =E8+G8+I8 -> 0 | L8: =F8+H8+J8 -> 0 | N8: 010102 | P8: 0101 | R8: 3
A9: 010103 해 체 계 획 서 | D9: 1 | E9: =공종별내역서!F72 -> 0 | F9: =E9*D9 -> 0 | G9: =공종별내역서!H72 -> 0 | H9: =G9*D9 -> 0 | I9: =공종별내역서!J72 -> 0 | J9: =I9*D9 -> 0 | K9: =E9+G9+I9 -> 0 | L9: =F9+H9+J9 -> 0 | N9: 010103 | Q9: B | R9: 3 | T9: =L9*1 -> 0
A10: 010104 건설폐기물상차비 | D10: 1 | E10: =공종별내역서!F95 -> 0 | F10: =E10*D10 -> 0 | G10: =공종별내역서!H95 -> 0 | H10: =G10*D10 -> 0 | I10: =공종별내역서!J95 -> 0 | J10: =I10*D10 -> 0 | K10: =E10+G10+I10 -> 0 | L10: =F10+H10+J10 -> 0 | N10: 010104 | Q10: 6 | R10: 3 | T10: =L10*1 -> 0
A11: 010105 작 업 부 산 물 | D11: 1 | E11: =공종별내역서!F118 -> 0 | F11: =E11*D11 -> 0 | G11: =공종별내역서!H118 -> 0 | H11: =G11*D11 -> 0 | I11: =공종별내역서!J118 -> 0 | J11: =I11*D11 -> 0 | K11: =E11+G11+I11 -> 0 | L11: =F11+H11+J11 -> 0 | N11: 010105 | Q11: 1 | R11: 3 | T11: =L11*1 -> 0
A26: [ 합 계 ] | F26: =F5 -> 0 | H26: =H5 -> 0 | J26: =J5 -> 0 | L26: =L5 -> 0

Sheet 공종별내역서
A1: [ 유용미생물배양실 부지 철거공사 ]
A2: 품 명 | B2: 규 격 | C2: 단위 | D2: 수량 | E2: 재 료 비 | G2: 노 무 비 | I2: 경 비 | K2: 합 계 | M2: 비 고 | N2: 품목코드 | O2: 변수 | P2: 설정 | Q2: 공종코드 | R2: 일위 | S2: 단산 | T2: 자재 | U2: 손료적용 | V2: 손료저장 | W2: 적용율 | X2: JUK1 | Y2: JUK2 | Z2: JUK3 | AA2: JUK4 | AB2: JUK5 | AC2: JUK6 | AD2: JUK7 | AE2: JUK8 | AF2: JUK9 | AG2: JUK10 | AH2: JUK11 | AI2: JUK12 | AJ2: JUK13 | AK2: JUK14 | AL2: JUK15 | AM2: JUK16 | AN2: JUK17 | AO2: JUK18 | AP2: JUK19 | AQ2: JUK20 | AR2: 자재구분 | AS2: 공종구분 | AT2: 공종레벨 | AU2: 공종+자재 | AV2: 고유번호
E3: 단 가 | F3: 금 액 | G3: 단 가 | H3: 금 액 | I3: 단 가 | J3: 금 액 | K3: 단 가 | L3: 금 액
A4: 010101 가 설 공 사 | Q4: 010101
A5: 현장정리 및 살수 | C5: M2 | D5: 2480.54 | N5: 570DD12F7BC96407C3B3F205A830E4 | Q5: 010101 | R5: T | S5: F | T5: F | AU5: 010101570DD12F7BC96407C3B3F205A830E4 | AV5: 4
Q6: 010101
Q7: 010101
Q8: 010101
Q9: 010101
Q10: 010101
Q11: 010101
Q12: 010101
Q13: 010101
Q14: 010101
Q15: 010101
Q16: 010101
Q17: 010101
... Q25: 010101
A26: [ 합 계 ] | N26: TOTAL
A27: 010102 철 거 공 사 | Q27: 010102
A28: 콘크리트구조물 헐기(기계) | B28: 장애물 미제거(기준높이 10m 이하), 50m3/일당 | C28: M3 | D28: 201.29 | N28: 570CD12175B34EA7223E050D5FECC8 | Q28: 010102 | R28: T | S28: F | T28: F | AU28: 010102570CD12175B34EA7223E050D5FECC8 | AV28: 6
A29: 보도용 블록 장비사용 철거 | B29: A-TYPE: 공원, 단지내 보도 | C29: M2 | D29: 237.89 | N29: 5723B12071AC26775DD7FB0D62AF65 | Q29: 010102 | R29: F | S29: T | T29: F | AU29: 0101025723B12071AC26775DD7FB0D62AF65 | AV29: 30
A30: 철골재 철거(기계) | C30: TON | D30: 39.87 | N30: 570CD12175B455972CBC84008CEDFE | Q30: 010102 | R30: T | S30: F | T30: F | AU30: 010102570CD12175B455972CBC84008CEDFE | AV30: 8
A31: 샌드위치패널 철거 | C31: M2 | D31: 198.55 | N31: 570CD12175B8CCD7FEE23801E9974B | Q31: 010102 | R31: T | S31: F | T31: F | AU31: 010102570CD12175B8CCD7FEE23801E9974B | AV31: 31
A32: P/C 마감재 철거 | C32: M2 | D32: 597.75 | N32: 570CD12175B8CCD7FEE23801E994F6 | Q32: 010102 | R32: T | S32: F | T32: F | AU32: 010102570CD12175B8CCD7FEE23801E994F6 | AV32: 33
A33: 하우스필름 철거 | C33: M2 | D33: 2994.49 | N33: 570CD12175B8CCD7FEE23801E994F4 | Q33: 010102 | R33: T | S33: F | T33: F | AU33: 010102570CD12175B8CCD7FEE23801E994F4 | AV33: 32
A34: AL스크린 철거 | C34: M2 | D34: 450 | N34: 570CD12175B8CCD7FEE23801E994F7 | Q34: 010102 | R34: T | S34: F | T34: F | AU34: 010102570CD12175B8CCD7FEE23801E994F7 | AV34: 12
A35: 목재루버 철거 | C35: M2 | D35: 188.07 | N35: 570CD12175B8CCD7FEE24A08F361E3 | Q35: 010102 | R35: T | S35: F | T35: F | AU35: 010102570CD12175B8CCD7FEE24A08F361E3 | AV35: 14
A36: 유리마감재 철거 | B36: 5T | C36: M2 | D36: 818.81 | N36: 570CD12175B8CCD7FEE24A08F361E1 | Q36: 010102 | R36: T | S36: F | T36: F | AU36: 010102570CD12175B8CCD7FEE24A08F361E1 | AV36: 15
A37: 부직포 철거 | B37: 바닥 | C37: M2 | D37: 1142.61 | N37: 570CD12175B8CCD7FEE2A300198F76 | Q37: 010102 | R37: T | S37: F | T37: F | AU37: 010102570CD12175B8CCD7FEE2A300198F76 | AV37: 16
A38: 창문 및 출입문 철거 | C38: M2 | D38: 64.6 | N38: 570CD12175B8CCD7FEFC920525AD4E | Q38: 010102 | R38: T | S38: F | T38: F | AU38: 010102570CD12175B8CCD7FEFC920525AD4E | AV38: 34
A39: 방충망 철거 | C39: M2 | D39: 269.62 | N39: 570CD12175B8CCD7FEFC920525AD4F | Q39: 010102 | R39: T | S39: F | T39: F | AU39: 010102570CD12175B8CCD7FEFC920525AD4F | AV39: 37
A40: FRP물탱크 철거 | C40: 개소 | D40: 6 | N40: 570CD121765764B736B20000058DEF | Q40: 010102 | R40: T | S40: F | T40: F | AU40: 010102570CD121765764B736B20000058DEF | AV40: 35
Q41: 010102
Q42: 010102
Q43: 010102
Q44: 010102
Q45: 010102
Q46: 010102
Q47: 010102
Q48: 010102
A49: [ 합 계 ] | N49: TOTAL
A50: 010103 해 체 계 획 서 | Q50: 010103
A51: 건축물 해체계획서 작성 및 검토비 | C51: 식 | D51: 1 | N51: 56B5A12E7FBA9A2781BDFA0EC1BC51CAB39D4C | Q51: 010103 | R51: F | S51: F | T51: T | AU51: 01010356B5A12E7FBA9A2781BDFA0EC1BC51CAB39D4C | AV51: 39
Q52: 010103
Q53: 010103
Q54: 010103
Q55: 010103
Q56: 010103
Q57: 010103
Q58: 010103
Q59: 010103
Q60: 010103
Q61: 010103
Q62: 010103
Q63: 010103
... Q71: 010103
A72: [ 합 계 ] | N72: TOTAL
A73: 010104 건설폐기물상차비 | Q73: 010104
A74: 건설폐기물 상차비 | C74: TON | D74: 530.77 | N74: 5740712D7629B5D78F0B0F09C062712EC4202D | Q74: 010104 | R74: F | S74: F | T74: T | AU74: 0101045740712D7629B5D78F0B0F09C062712EC4202D | AV74: 36
Q75: 010104
Q76: 010104
Q77: 010104
Q78: 010104
Q79: 010104
Q80: 010104
Q81: 010104
Q82: 010104
Q83: 010104
Q84: 010104
Q85: 010104
Q86: 010104
... Q94: 010104
A95: [ 합 계 ] | N95: TOTAL
A96: 010105 작 업 부 산 물 | Q96: 010105
A97: 철강설 | B97: 철강설, 고철, 작업설부산물 | C97: kg | D97: 42572 | N97: 50098124774B9957BFA8E4035B774CAB428C04 | Q97: 010105 | R97: F | S97: F | T97: T | AU97: 01010550098124774B9957BFA8E4035B774CAB428C04 | AV97: 28
A98: 철강설 | B98: 철강설, 알루미늄, 작업설부산물 | C98: kg | D98: 328.1 | N98: 50098124774B9957BFA8E4035A6669F98D2A4C | Q98: 010105 | R98: F | S98: F | T98: T | AU98: 01010550098124774B9957BFA8E4035A6669F98D2A4C | AV98: 29
Q99: 010105
Q100: 010105
Q101: 010105
Q102: 010105
Q103: 010105
Q104: 010105
Q105: 010105
Q106: 010105
Q107: 010105
Q108: 010105
Q109: 010105
Q110: 010105
... Q117: 010105
A118: [ 합 계 ] | N118: TOTAL

Sheet  공사설정 
A1: 이 Sheet는 수정하지 마십시요
A2: 공사구분 | B2: A | C2: 타이틀
A3: 확정내역 | B3: 원내역
A4: 자재단가적용 | B4: 5
A5: 경비단가적용 | B5: 5
A6: 품목코드형식 | B6: XXXX-XXXX-XXXXXXXXX
A7: 내역금액소수점처리 | B7: C | C7: T
A8: 일위대가내역소수점처리 | B8: C | C8: 2
A9: 단가명 | B9: 조달청가격 | C9: 거래가격 | D9: 유통물가 | E9: 물가자료 | F9: 조사가격 | G9: TTTTT
A10: 환율 | B10: 1472 | C10: 0 | D10: 0
A11: 시간당작업량 | B11: R | C11: 4
A12: 1회 사이클시간 | B12: R | C12: 4
A13: 시간당 작업사이클 | B13: R | C13: 3
A14: 일반변수 | B14: R | C14: 5
A15: 시간당 노임산출 계수 | B15: A | C15: 1/8*16/12*25/20 | D15: 1/8*16/12*25/20 | E15: 1/8*16/12*25/20 | F15: 1
A16: 재료비 할증 계수 | B16: 1.11 | C16: 1.12
A17: 노무비 할증 계수 | B17: 1 | C17: 1.5 | D17: 1.16 | E17: 1.6 | F17: 1.6 | G17: 1.6 | H17: 1.94 | I17: 1.94 | J17: 1.94 | K17: 1 | L17: 1 | M17: 1
A18: 경비 할증 계수 | B18: 1.25 | C18: 1.071
A19: 내역,일위대가 품명,규격,단위 따로적용
A20: 내역단가 소수점처리 | B20: C | C20: 1
A21: 코드 | B21: 공종구분명 | C21: 원가비목코드
A22: 1 | B22: 작 업 부 산 물(△) | C22: D8
A23: 2 | B23: 운 반 비 | C23: C1
A24: 3 | B24: 관 급 자 재 비 | C24: DJ
A25: 4 | B25: 사 급 자 재 비 | C25: D3
A26: 5 | B26: 외 자 재
A27: 6 | B27: 건설폐기물상차비 | C27: D4
A28: 7 | B28: 관급자재(도급자) | C28: DK
A29: 8 | B29: 관급자재(관급자) | C29: DL
A30: 9 | B30: 품 질 관 리 비 | C30: C9
A31: A | B31: 안 전 관 리 비 | C31: CJ
A32: B | B32: 해 체 계 획 서 | C32: D7
A33: C | B33: ....
A34: D | B34: ....
A35: E | B35: ....
A36: F | B36: ....
A37: G | B37: ....
A38: H | B38: ....
A39: I | B39: ....
A40: J | B40: ....
A43: 단가 순서 | B43: 1234

Sheet Sheet1
