Workbook
Name _12: #N/A
Name _13: #N/A
Name _2: #N/A
Name _3: #N/A
Name \c: #N/A
Name \d: #N/A
Name \e: #N/A
Name \i: #N/A
Name \j: #N/A
Name \l: #N/A
Name \n: #N/A
Name \u: #N/A
Name AB: #N/A
Name BG: #N/A
Name BL: #N/A
Name BLO: #N/A
Name BLT: #N/A
Name BVC: 자동화!BVC
Name C_: #N/A
Name DATA: #N/A
Name FDGDFGSGFGㅊㅍㅌ: 자동화!FDGDFGSGFGㅊㅍㅌ
Name HDATA: #N/A
Name HJㄹ: 자동화!HJㄹ
Name HTML_Control: {"'중기작업1'!$A$1:$V$18"}
Name IL: #N/A
Name KA: [3]MOTOR!$B$61:$E$68
Name MMD: #N/A
Name NNNNN: 자동화!NNNNN
Name T: #N/A
Name T2_: #N/A
Name VDATA: #N/A
Name 건설기계운전사: 56603
Name 건설기계조수: 43994
Name 건설기계조장: 68228
Name 계장공: 62012
Name 기계설치공: 57749
Name 깨기: {"'중기작업1'!$A$1:$V$18"}
Name ㄴㄴ: #N/A
Name 낙찰고산: [6]산수배수!$A$140:$M$140
Name 낙찰내촌: [6]산수배수!$A$140:$M$140
Name 낙찰총괄: [6]산수배수!$A$140:$M$140
Name 내선전공: 56143
Name ㄷㄷ: [7]공사비!$M$1:$M$65536
Name ㄷㅈㄱㅀㅇㅎ: 자동화!ㄷㅈㄱㅀㅇㅎ
Name 단가: [8]단가!$A$2:$I$505
Name 단가1: [9]단가!$B$2:$I$520
Name 단가일람: [8]단가일람!$A$3:$K$112
Name 도장공: 59780
Name ㄹㄹㄹㄹ: 자동화!ㄹㄹㄹㄹ
Name ㄹㅇㄹㅊㅊ: 자동화!ㄹㅇㄹㅊㅊ
Name ㄹ홀ㅇㄹㅇㅇ: 자동화!ㄹ홀ㅇㄹㅇㅇ
Name 무선안테나공: 95000
Name ㅂㅂㅂ: {"'중기작업1'!$A$1:$V$18"}
Name 방수공: 56597
Name 배관공: 60590
Name 배관자재중량: [10]단가!$C$51:$I$60
Name 배수로: {"'중기작업1'!$A$1:$V$18"}
Name 배전전공: 156907
Name 변경총괄: [6]산수배수!$L$3:$L$5
Name 보통인부: [11]노임단가!$C$50

Sheet 자동화
A1: 사업명 : 충주제천단양지사 물관리자동화시스템 점검정비 용역공사 단가계약 내역서
A2: 원 가 계 산 서
A6: 일금 : | C6: =J34 -> 10307000 | E6: 원
A7: 공 종 구 분 | G7: 충주제천단양지사 TM/TC | J7: 합 계 | K7: 비 고
B9: 재 | C9: 직 접 재 료 비 | G9: =공종별집계표!F5 -> 5434170 | J9: =SUM(G9:I9) -> 5434170
A10: 순 | B10: 료 | C10: 간 접 재 료 비
B11: 비 | C11: 소 계 | G11: =TRUNC(G9+G10, 0) -> 5434170 | J11: =SUM(G11:I11) -> 5434170
B12: 노 | C12: 직 접 노 무 비 | G12: =공종별집계표!H5 -> 1289205 | J12: =SUM(G12:I12) -> 1289205
A13: 공 | B13: 무 | C13: 간 접 노 무 비 | D13: ( | E13: 0.165 | F13: ) | G13: =TRUNC(G12*$E$13, 0) -> 212718 | J13: =SUM(G13:I13) -> 212718 | K13: ="직접노무비 * "&E13 -> 직접노무비 * 0.165
B14: 비 | C14: 소 계 | G14: =G12+G13 -> 1501923 | J14: =SUM(G14:I14) -> 1501923
C15: 경 비 | G15: =[19]공종별집계표!J7 -> 0 | J15: =SUM(G15:I15) -> 0
A16: 사 | C16: 산 재 보 험 료 | D16: ( | E16: 0.0356 | F16: ) | G16: =TRUNC(G14*$E$16, 0) -> 53468 | J16: =SUM(G16:I16) -> 53468 | K16: ="노무비 *"&E16 -> 노무비 *0.0356
C17: 고 용 보 험 료 | D17: ( | E17: 0.0101 | F17: ) | G17: =TRUNC(G14*$E$17, 0) -> 15169 | J17: =SUM(G17:I17) -> 15169 | K17: ="노무비 *"&E17 -> 노무비 *0.0101
B18: 경 | C18: 건 강 보 험 료 | D18: ( | E18: 0.03595 | F18: ) | G18: =INT(G12*3.6%) -> 46411 | J18: =SUM(G18:I18) -> 46411 | K18: ="직접노무비 * "&E18 -> 직접노무비 * 0.03595
A19: 비 | C19: 연 금 보 험 료 | D19: ( | E19: 0.0475 | F19: ) | G19: =INT(G12*4.75%) -> 61237 | J19: =SUM(G19:I19) -> 61237 | K19: ="직접노무비 *"&E19 -> 직접노무비 *0.0475
C20: 노인장기요양보험료 | D20: ( | E20: 0.1314 | F20: ) | G20: =INT(G18*13.14) -> 609840 | J20: =SUM(G20:I20) -> 609840 | K20: ="건강보험료 * "&E20 -> 건강보험료 * 0.1314
B21: 비 | C21: 퇴직공제부금비 | D21: ( | E21: 0.023 | F21: ) | G21: =INT(G12*2.3%) -> 29651 | J21: =SUM(G21:I21) -> 29651 | K21: ="직접노무비 *"&E21 -> 직접노무비 *0.023
C22: 안 전 관 리 비 | D22: ( | E22: 0.0311 | F22: ) | G22: =TRUNC((G11+G12)*$E$22*1.2,0) -> 250916 | J22: =SUM(G22:I22) -> 250916 | K22: ="(재료비+직노) *"&E22&"* 1.2" -> (재료비+직노) *0.0311* 1.2
C23: 안전관리기초액 | D23: ( | F23: ) | J23: =SUM(G23:I23) -> 0
C24: 기 타 경 비 | D24: ( | E24: 0.052 | F24: ) | G24: =TRUNC((G11+G14)*$E$24, 0) -> 360676 | J24: =SUM(G24:I24) -> 360676 | K24: ="(재료비+노무비) * "&E24 -> (재료비+노무비) * 0.052
C25: 소 계 | G25: =G15+G16+G17+G18+G19+G20+G21+G22+G23+G24 -> 1427368 | J25: =SUM(G25:I25) -> 1427368
C26: 계 | G26: =G11+G14+G25 -> 8363461 | J26: =SUM(G26:I26) -> 8363461
A27: 일 반 관 리 비 | D27: ( | E27: 0.06 | F27: ) | G27: =TRUNC(G26*$E$27, 0) -> 501807 | J27: =SUM(G27:I27) -> 501807 | K27: ="계 *"&E27 -> 계 *0.06
A28: 계 | G28: =G26+G27 -> 8865268 | J28: =SUM(G28:I28) -> 8865268
A29: 이 윤 | D29: ( | E29: 0.15 | F29: ) | G29: =(G14+G25+G27)*0.15 -> 514664.7 | J29: =SUM(G29:I29) -> 514664.7 | K29: ="(노무비+경비+일반관리비) * "&E29 -> (노무비+경비+일반관리비) * 0.15
A30: 공 급 가 액 | G30: =ROUNDDOWN((G28+G29),-4) -> 9370000 | J30: =SUM(G30:I30) -> 9370000
A31: 부 가 가 치 세 | D31: ( | E31: 0.1 | F31: ) | G31: =TRUNC((G30)*0.1, 0) -> 937000 | J31: =SUM(G31:I31) -> 937000 | K31: ="(공급가액+사급자재) * "&10% -> (공급가액+사급자재) * 0.1
A32: 합 계(A) | G32: =TRUNC(G30+G31, 0) -> 10307000 | J32: =SUM(G32:I32) -> 10307000
A33: 사 급 자 재(B) | G33: 0 | J33: =SUM(G33:I33) -> 0
A34: 총 공 사 비(A+B) | G34: =TRUNC(G32+G33, 0) -> 10307000 | J34: =SUM(G34:I34) -> 10307000

Sheet 공종별집계표
A1: 공 종 별 집 계 표
A2: [ 충주제천단양지사 물관리자동화시스템 정비보강용역공사 ]
A3: 품 명 | B3: 규 격 | C3: 단위 | D3: 수량 | E3: 재 료 비 | G3: 노 무 비 | I3: 경 비 | K3: 합 계 | M3: 비 고 | N3: 공종코드 | O3: 변수 | P3: 상위공종 | Q3: 공종구분 | R3: 공종레벨 | S3: 공종소계 | T3: 원가계산서 연결금액
E4: 단 가 | F4: 금 액 | G4: 단 가 | H4: 금 액 | I4: 단 가 | J4: 금 액 | K4: 단 가 | L4: 금 액
A5: 충주제천단양지사 물관리자동화시스템 정비보강용역공사 | D5: 1 | E5: =F9 -> 5434170 | F5: =E5*D5 -> 5434170 | G5: =H9 -> 1289205 | H5: =G5*D5 -> 1289205 | I5: =J9 -> 0 | J5: =I5*D5 -> 0 | K5: =E5+G5+I5 -> 6723375 | L5: =F5+H5+J5 -> 6723375 | N5: 01 | R5: 1
A6: A. 사급자재 | M6: VAT포함 | N6: 0101 | Q6: 9 | R6: 2 | T6: =L6*1 -> 0
A7: 1. KRC-HMI 화면 작화 | D7: 1 | E7: =공종별내역서!F27 -> 0 | F7: =E7*D7 -> 0 | G7: =공종별내역서!H27 -> 0 | H7: =G7*D7 -> 0 | I7: =공종별내역서!J27 -> 0 | J7: =I7*D7 -> 0 | K7: =E7+G7+I7 -> 0 | L7: =F7+H7+J7 -> 0 | N7: 010101 | P7: 0101 | R7: 3
A8: 1. 주요자재 | N8: 010102 | P8: 0101 | R8: 3
A9: B. 자동화일반공사 | D9: 1 | E9: =F10+F11 -> 5434170 | F9: =E9*D9 -> 5434170 | G9: =H10+H11 -> 1289205 | H9: =G9*D9 -> 1289205 | I9: =J10+J11 -> 0 | J9: =I9*D9 -> 0 | K9: =E9+G9+I9 -> 6723375 | L9: =F9+H9+J9 -> 6723375 | N9: 0102 | P9: 01 | R9: 2
A10: 1. 현장조치 | D10: 1 | E10: =공종별내역서!F75 -> 26582 | F10: =E10*D10 -> 26582 | G10: =공종별내역서!H75 -> 886200 | H10: =G10*D10 -> 886200 | I10: =공종별내역서!J75 -> 0 | J10: =I10*D10 -> 0 | K10: =E10+G10+I10 -> 912782 | L10: =F10+H10+J10 -> 912782 | N10: 010201 | P10: 0102 | R10: 3
A11: 2. 정비공사 | D11: 1 | E11: =공종별내역서!F315 -> 5407588 | F11: =E11*D11 -> 5407588 | G11: =공종별내역서!H315 -> 403005 | H11: =G11*D11 -> 403005 | I11: =공종별내역서!J315 -> 0 | J11: =I11*D11 -> 0 | K11: =E11+G11+I11 -> 5810593 | L11: =F11+H11+J11 -> 5810593 | N11: 010202 | P11: 0102 | R11: 3
A27: [ 합 계 ] | F27: =F5 -> 5434170 | H27: =H5 -> 1289205 | J27: =J5 -> 0 | L27: =L5 -> 6723375

Sheet 공종별내역서
A1: [ 충주제천단양지사 물관리자동화시스템 정비보강용역공사 ]
A2: 품 명 | B2: 규 격 | C2: 단위 | D2: 수량 | E2: 재 료 비 | G2: 노 무 비 | I2: 경 비 | K2: 합 계 | M2: 비 고 | N2: 품목코드 | O2: 변수 | P2: 설정 | Q2: 공종코드 | R2: 일위 | S2: 단산 | T2: 자재 | U2: 손료적용 | V2: 손료저장 | W2: 적용율 | X2: JUK1 | Y2: JUK2 | Z2: JUK3 | AA2: JUK4 | AB2: JUK5 | AC2: JUK6 | AD2: JUK7 | AE2: JUK8 | AF2: JUK9 | AG2: JUK10 | AH2: JUK11 | AI2: JUK12 | AJ2: JUK13 | AK2: JUK14 | AL2: JUK15 | AM2: JUK16 | AN2: JUK17 | AO2: JUK18 | AP2: JUK19 | AQ2: JUK20 | AR2: 자재구분 | AS2: 공종구분 | AT2: 공종레벨 | AU2: 공종+자재 | AV2: 고유번호
E3: 단 가 | F3: 금 액 | G3: 단 가 | H3: 금 액 | I3: 단 가 | J3: 금 액 | K3: 단 가 | L3: 금 액
A4: 1. KRC-HMI 화면 작화 | Q4: 010101
A5: KRC-HMI SOFTWARE FEE | B5: 표준화면 구성 | C5: 화면 | E5: =TRUNC(단가대비표!O75,0) -> 536000 | F5: =TRUNC(E5*D5, 0) -> 0 | G5: =TRUNC(단가대비표!P75,0) -> 0 | H5: =TRUNC(G5*D5, 0) -> 0 | I5: =TRUNC(단가대비표!V75,0) -> 0 | J5: =TRUNC(I5*D5, 0) -> 0 | K5: =TRUNC(E5+G5+I5, 0) -> 536000 | L5: =TRUNC(F5+H5+J5, 0) -> 0 | N5: 5A6496FE905023509A30821484B6C29815A243 | Q5: 010101 | R5: F | S5: F | T5: T | X5: 1 | AU5: 0101015A6496FE905023509A30821484B6C29815A243 | AV5: 29227
A6: KRC-HMI SOFTWARE FEE | B6: 레포트화면 구성 | C6: 화면 | E6: =TRUNC(단가대비표!O79,0) -> 659000 | F6: =TRUNC(E6*D6, 0) -> 0 | G6: =TRUNC(단가대비표!P79,0) -> 0 | H6: =TRUNC(G6*D6, 0) -> 0 | I6: =TRUNC(단가대비표!V79,0) -> 0 | J6: =TRUNC(I6*D6, 0) -> 0 | K6: =TRUNC(E6+G6+I6, 0) -> 659000 | L6: =TRUNC(F6+H6+J6, 0) -> 0 | N6: 5A6496FE90502350E2C00C437902B7D94585C9 | Q6: 010101 | R6: F | S6: F | T6: T | X6: 1 | AU6: 0101015A6496FE90502350E2C00C437902B7D94585C9 | AV6: 29228
A7: KRC-HMI SOFTWARE FEE | B7: 트렌드화면 구성 | C7: 화면 | E7: =TRUNC(단가대비표!O77,0) -> 658000 | F7: =TRUNC(E7*D7, 0) -> 0 | G7: =TRUNC(단가대비표!P77,0) -> 0 | H7: =TRUNC(G7*D7, 0) -> 0 | I7: =TRUNC(단가대비표!V77,0) -> 0 | J7: =TRUNC(I7*D7, 0) -> 0 | K7: =TRUNC(E7+G7+I7, 0) -> 658000 | L7: =TRUNC(F7+H7+J7, 0) -> 0 | N7: 5A6496FE905023509A20FC68289DD920559A4D | Q7: 010101 | R7: F | S7: F | T7: T | X7: 1 | AU7: 0101015A6496FE905023509A20FC68289DD920559A4D | AV7: 29229
A8: KRC-HMI SOFTWARE FEE | B8: 플랜트화면 구성 | C8: 화면 | E8: =TRUNC(단가대비표!O78,0) -> 895000 | F8: =TRUNC(E8*D8, 0) -> 0 | G8: =TRUNC(단가대비표!P78,0) -> 0 | H8: =TRUNC(G8*D8, 0) -> 0 | I8: =TRUNC(단가대비표!V78,0) -> 0 | J8: =TRUNC(I8*D8, 0) -> 0 | K8: =TRUNC(E8+G8+I8, 0) -> 895000 | L8: =TRUNC(F8+H8+J8, 0) -> 0 | N8: 5A6496FE90502350E2D013B5508DE35E311186 | Q8: 010101 | R8: F | S8: F | T8: T | X8: 1 | AU8: 0101015A6496FE90502350E2D013B5508DE35E311186 | AV8: 29230
A9: KRC-HMI 3D그래픽작업 | B9: 수원공:저수지, 양배수장 | C9: 화면 | E9: =TRUNC(단가대비표!O80,0) -> 896000 | F9: =TRUNC(E9*D9, 0) -> 0 | G9: =TRUNC(단가대비표!P80,0) -> 0 | H9: =TRUNC(G9*D9, 0) -> 0 | I9: =TRUNC(단가대비표!V80,0) -> 0 | J9: =TRUNC(I9*D9, 0) -> 0 | K9: =TRUNC(E9+G9+I9, 0) -> 896000 | L9: =TRUNC(F9+H9+J9, 0) -> 0 | N9: 5A6496FE90502350E2F0C0C9D1AEFFD26BE093 | Q9: 010101 | R9: F | S9: F | T9: T | X9: 1 | AU9: 0101015A6496FE90502350E2F0C0C9D1AEFFD26BE093 | AV9: 29231
A10: KRC-HMI 3D그래픽작업 | B10: 평야부:수로부 수문 | C10: 화면 | E10: =TRUNC(단가대비표!O81,0) -> 773000 | F10: =TRUNC(E10*D10, 0) -> 0 | G10: =TRUNC(단가대비표!P81,0) -> 0 | H10: =TRUNC(G10*D10, 0) -> 0 | I10: =TRUNC(단가대비표!V81,0) -> 0 | J10: =TRUNC(I10*D10, 0) -> 0 | K10: =TRUNC(E10+G10+I10, 0) -> 773000 | L10: =TRUNC(F10+H10+J10, 0) -> 0 | N10: 5A6496FE90502350E2E039B7217B3D5DD3E359 | Q10: 010101 | R10: F | S10: F | T10: T | X10: 1 | AU10: 0101015A6496FE90502350E2E039B7217B3D5DD3E359 | AV10: 29256
A11: KRC-HMI SOFTWARE FEE(본부) | B11: 표준화면 구성 | C11: 화면 | E11: =TRUNC(단가대비표!O76,0) -> 536000 | F11: =TRUNC(E11*D11, 0) -> 0 | G11: =TRUNC(단가대비표!P76,0) -> 0 | H11: =TRUNC(G11*D11, 0) -> 0 | I11: =TRUNC(단가대비표!V76,0) -> 0 | J11: =TRUNC(I11*D11, 0) -> 0 | K11: =TRUNC(E11+G11+I11, 0) -> 536000 | L11: =TRUNC(F11+H11+J11, 0) -> 0 | N11: 5A6496FE905023509A30821484B6C2993C4CA4 | Q11: 010101 | R11: F | S11: F | T11: T | X11: 1 | AU11: 0101015A6496FE905023509A30821484B6C2993C4CA4 | AV11: 29232
A12: TOMS 연계(본사-지사간) | B12: 본부-지사간 TOMS 연동 | C12: 화면 | E12: =TRUNC(단가대비표!O82,0) -> 536000 | F12: =TRUNC(E12*D12, 0) -> 0 | G12: =TRUNC(단가대비표!P82,0) -> 0 | H12: =TRUNC(G12*D12, 0) -> 0 | I12: =TRUNC(단가대비표!V82,0) -> 0 | J12: =TRUNC(I12*D12, 0) -> 0 | K12: =TRUNC(E12+G12+I12, 0) -> 536000 | L12: =TRUNC(F12+H12+J12, 0) -> 0 | N12: 5A6496FE90502350E290B8041238AE09F434C8 | Q12: 010101 | R12: F | S12: F | T12: T | X12: 1 | AU12: 0101015A6496FE90502350E290B8041238AE09F434C8 | AV12: 29233
A13: 소 계 | B13: 만단위 절사 | E13: 0 | F13: =TRUNC(SUM(F5:F12),-4) -> 0 | G13: 0 | H13: =SUM(H5:H12) -> 0 | I13: 0 | J13: =SUM(J5:J12) -> 0 | L13: =TRUNC(F13+H13+J13, 0) -> 0 | N13: 5B1396E1CAE0265832E05E076A16 | R13: F | S13: F | T13: F | AU13: 0101015B1396E1CAE0265832E05E076A16 | AV13: 29234
A14: [부가가치세] | B14: 소계의 10% | C14: 식 | D14: 1 | E14: =F13*0.1 -> 0 | F14: =TRUNC(E14*D14, 0) -> 0 | G14: 0 | H14: =TRUNC(G14*D14, 0) -> 0 | I14: 0 | J14: =TRUNC(I14*D14, 0) -> 0 | K14: =TRUNC(E14+G14+I14, 0) -> 0 | L14: =TRUNC(F14+H14+J14, 0) -> 0 | N14: 5BB376D29710225D52800F96EF9F001 | Q14: 010101 | R14: F | S14: F | T14: F | AU14: 0101015BB376D29710225D52800F96EF9F001 | AV14: 29235
Q15: 010101
Q16: 010101
Q17: 010101
Q18: 010101
Q19: 010101
Q20: 010101
Q21: 010101
Q22: 010101
Q23: 010101
Q24: 010101
Q25: 010101
Q26: 010101
A27: [ 합 계 ] | F27: 0 | H27: =SUMIF(Q5:Q26,"010101",H5:H26) -> 0 | J27: =SUMIF(Q5:Q26,"010101",J5:J26) -> 0 | L27: =SUMIF(Q5:Q26,"010101",L5:L26) -> 0 | N27: TOTAL
A28: 2. 주요자재 | Q28: 010102
A29: 원격제어반(양배수장) (제작율 적용) | B29: 옥내자립형(ST), 800(W)x2,350(H)x2,000(D) | C29: 면 | E29: =TRUNC(일위대가목록!E4,0) -> 17480580 | F29: =TRUNC(E29*D29, 0) -> 0 | G29: =TRUNC(일위대가목록!F4,0) -> 0 | H29: =TRUNC(G29*D29, 0) -> 0 | I29: =TRUNC(일위대가목록!G4,0) -> 0 | J29: =TRUNC(I29*D29, 0) -> 0 | K29: =TRUNC(E29+G29+I29, 0) -> 17480580 | L29: =TRUNC(F29+H29+J29, 0) -> 0 | M29: 호표 1 | N29: 5AEFD64C42C02C596620B27054807A | Q29: 010102 | R29: T | S29: F | T29: F | X29: 1 | AU29: 0101025AEFD64C42C02C596620B27054807A | AV29: 29507
A30: 원격제어반(수문) (제작율 적용) | B30: 옥외자립형(STS), 800(W)x1800(H)x600(D) | C30: 면 | E30: =TRUNC(일위대가목록!E5,0) -> 19428589 | F30: =TRUNC(E30*D30, 0) -> 0 | G30: =TRUNC(일위대가목록!F5,0) -> 0 | H30: =TRUNC(G30*D30, 0) -> 0 | I30: =TRUNC(일위대가목록!G5,0) -> 0 | J30: =TRUNC(I30*D30, 0) -> 0 | K30: =TRUNC(E30+G30+I30, 0) -> 19428589 | L30: =TRUNC(F30+H30+J30, 0) -> 0 | M30: 호표 2 | N30: 5AEFD64C42C02C596620B270548106 | Q30: 010102 | R30: T | S30: F | T30: F | X30: 1 | AU30: 0101025AEFD64C42C02C596620B270548106 | AV30: 29508
A31: VPN | B31: 영상, 데이터용 | C31: 대 | E31: =TRUNC(단가대비표!O27,0) -> 3500000 | F31: =TRUNC(E31*D31, 0) -> 0 | G31: =TRUNC(단가대비표!P27,0) -> 0 | H31: =TRUNC(G31*D31, 0) -> 0 | I31: =TRUNC(단가대비표!V27,0) -> 0 | J31: =TRUNC(I31*D31, 0) -> 0 | K31: =TRUNC(E31+G31+I31, 0) -> 3500000 | L31: =TRUNC(F31+H31+J31, 0) -> 0 | N31: 5DFE967EF580205FD980FA0299CD2A46727908 | Q31: 010102 | R31: F | S31: F | T31: T | X31: 1 | AU31: 0101025DFE967EF580205FD980FA0299CD2A46727908 | AV31: 29259
A32: 자동소화장치(설치비포함) | B32: HFC227ea 2kg(방호체적 3.6㎥) | C32: SET | E32: =TRUNC(단가대비표!O103,0) -> 1620000 | F32: =TRUNC(E32*D32, 0) -> 0 | G32: =TRUNC(단가대비표!P103,0) -> 0 | H32: =TRUNC(G32*D32, 0) -> 0 | I32: =TRUNC(단가대비표!V103,0) -> 0 | J32: =TRUNC(I32*D32, 0) -> 0 | K32: =TRUNC(E32+G32+I32, 0) -> 1620000 | L32: =TRUNC(F32+H32+J32, 0) -> 0 | N32: 5A6496FE91702A5141309D15AE2D5F8EDB691E | Q32: 010102 | R32: F | S32: F | T32: T | X32: 1 | AU32: 0101025A6496FE91702A5141309D15AE2D5F8EDB691E | AV32: 29261
A33: 서버컴퓨터(설치비 포함) | B33: Xeon GOLD 헥사코어 32G, SSD 1TB이상 | C33: EA | E33: =TRUNC(단가대비표!O104,0) -> 9926000 | F33: =TRUNC(E33*D33, 0) -> 0 | G33: =TRUNC(단가대비표!P104,0) -> 0 | H33: =TRUNC(G33*D33, 0) -> 0 | I33: =TRUNC(단가대비표!V104,0) -> 0 | J33: =TRUNC(I33*D33, 0) -> 0 | K33: =TRUNC(E33+G33+I33, 0) -> 9926000 | L33: =TRUNC(F33+H33+J33, 0) -> 0 | N33: 5A6496FE91702A5141309D15AE2D5F8EDB691F | Q33: 010102 | R33: F | S33: F | T33: T | X33: 1 | AU33: 0101025A6496FE91702A5141309D15AE2D5F8EDB691F | AV33: 29262
A34: 자동소화장치(설치비포함) | B34: HFC227ea 0.6kg(방호체적 1.6㎥) | C34: SET | E34: =TRUNC(단가대비표!O105,0) -> 1331000 | F34: =TRUNC(E34*D34, 0) -> 0 | G34: =TRUNC(단가대비표!P105,0) -> 0 | H34: =TRUNC(G34*D34, 0) -> 0 | I34: =TRUNC(단가대비표!V105,0) -> 0 | J34: =TRUNC(I34*D34, 0) -> 0 | K34: =TRUNC(E34+G34+I34, 0) -> 1331000 | L34: =TRUNC(F34+H34+J34, 0) -> 0 | N34: 5A6496FE91702A5141309D15AE2D5F8EDB691C | Q34: 010102 | R34: F | S34: F | T34: T | X34: 1 | AU34: 0101025A6496FE91702A5141309D15AE2D5F8EDB691C | AV34: 29263
A35: 워크스테이션(설치비 포함) | B35: Xeon GOLD 헥사코어 16G | C35: EA | E35: =TRUNC(단가대비표!O106,0) -> 9352000 | F35: =TRUNC(E35*D35, 0) -> 0 | G35: =TRUNC(단가대비표!P106,0) -> 0 | H35: =TRUNC(G35*D35, 0) -> 0 | I35: =TRUNC(단가대비표!V106,0) -> 0 | J35: =TRUNC(I35*D35, 0) -> 0 | K35: =TRUNC(E35+G35+I35, 0) -> 9352000 | L35: =TRUNC(F35+H35+J35, 0) -> 0 | N35: 5A6496FE91702A5141309D15AE2D5F8EDB691D | Q35: 010102 | R35: F | S35: F | T35: T | X35: 1 | AU35: 0101025A6496FE91702A5141309D15AE2D5F8EDB691D | AV35: 29264
A36: 모니터(설치비 포함) | B36: 27인치, FHD이상 | C36: EA | E36: =TRUNC(단가대비표!O107,0) -> 400000 | F36: =TRUNC(E36*D36, 0) -> 0 | G36: =TRUNC(단가대비표!P107,0) -> 0 | H36: =TRUNC(G36*D36, 0) -> 0 | I36: =TRUNC(단가대비표!V107,0) -> 0 | J36: =TRUNC(I36*D36, 0) -> 0 | K36: =TRUNC(E36+G36+I36, 0) -> 400000 | L36: =TRUNC(F36+H36+J36, 0) -> 0 | N36: 5A6496FE91702A5141309D15AE2D5F8EDB691A | Q36: 010102 | R36: F | S36: F | T36: T | X36: 1 | AU36: 0101025A6496FE91702A5141309D15AE2D5F8EDB691A | AV36: 29265
A37: 무정전전원장치(설치비포함) | B37: 단상 3kVA 백업 30분 | C37: EA | E37: =TRUNC(단가대비표!O110,0) -> 2900000 | F37: =TRUNC(E37*D37, 0) -> 0 | G37: =TRUNC(단가대비표!P110,0) -> 0 | H37: =TRUNC(G37*D37, 0) -> 0 | I37: =TRUNC(단가대비표!V110,0) -> 0 | J37: =TRUNC(I37*D37, 0) -> 0 | K37: =TRUNC(E37+G37+I37, 0) -> 2900000 | L37: =TRUNC(F37+H37+J37, 0) -> 0 | N37: 5A6496FE91702A5141309D15AE2D5F8EDB6919 | Q37: 010102 | R37: F | S37: F | T37: T | X37: 1 | AU37: 0101025A6496FE91702A5141309D15AE2D5F8EDB6919 | AV37: 29266
A38: 무정전전원장치(설치비포함) | B38: 단상 5kVA 백업 30분 | C38: EA | E38: =TRUNC(단가대비표!O111,0) -> 3098000 | F38: =TRUNC(E38*D38, 0) -> 0 | G38: =TRUNC(단가대비표!P111,0) -> 0 | H38: =TRUNC(G38*D38, 0) -> 0 | I38: =TRUNC(단가대비표!V111,0) -> 0 | J38: =TRUNC(I38*D38, 0) -> 0 | K38: =TRUNC(E38+G38+I38, 0) -> 3098000 | L38: =TRUNC(F38+H38+J38, 0) -> 0 | N38: 5A6496FE91702A5141309D15AE2D5F8EDB6916 | Q38: 010102 | R38: F | S38: F | T38: T | X38: 1 | AU38: 0101025A6496FE91702A5141309D15AE2D5F8EDB6916 | AV38: 29267
A39: 무정전전원장치(설치비포함) | B39: 단상 10kVA 백업 30분 | C39: EA | E39: =TRUNC(단가대비표!O112,0) -> 4620000 | F39: =TRUNC(E39*D39, 0) -> 0 | G39: =TRUNC(단가대비표!P112,0) -> 0 | H39: =TRUNC(G39*D39, 0) -> 0 | I39: =TRUNC(단가대비표!V112,0) -> 0 | J39: =TRUNC(I39*D39, 0) -> 0 | K39: =TRUNC(E39+G39+I39, 0) -> 4620000 | L39: =TRUNC(F39+H39+J39, 0) -> 0 | N39: 5A6496FE91702A5141309D15AE2D5F8EDB6917 | Q39: 010102 | R39: F | S39: F | T39: T | X39: 1 | AU39: 0101025A6496FE91702A5141309D15AE2D5F8EDB6917 | AV39: 29268
A40: 무정전전원장치(설치비포함) | B40: 단상 15kVA 백업 30분 | C40: EA | E40: =TRUNC(단가대비표!O113,0) -> 7470000 | F40: =TRUNC(E40*D40, 0) -> 0 | G40: =TRUNC(단가대비표!P113,0) -> 0 | H40: =TRUNC(G40*D40, 0) -> 0 | I40: =TRUNC(단가대비표!V113,0) -> 0 | J40: =TRUNC(I40*D40, 0) -> 0 | K40: =TRUNC(E40+G40+I40, 0) -> 7470000 | L40: =TRUNC(F40+H40+J40, 0) -> 0 | N40: 5A6496FE91702A5141309D15AE2D5F8EDB6877 | Q40: 010102 | R40: F | S40: F | T40: T | X40: 1 | AU40: 0101025A6496FE91702A5141309D15AE2D5F8EDB6877 | AV40: 29269
...

Sheet 일위대가목록
B1: 일 위 대 가 목 록
B2: [ 충주제천단양지사 물관리자동화시스템 정비보강용역공사 ]
A3: 코 드 | B3: 품 명 | C3: 규 격 | D3: 단위 | E3: 재 료 비 | F3: 노 무 비 | G3: 경 비 | H3: 합 계 | I3: 번 호 | J3: 비 고 | K3: 노임계수 | L3: 할증 | M3: 품셈개요 | N3: 장비일위
A4: 5AEFD64C42C02C596620B27054807A | B4: 원격제어반(양배수장) (제작율 적용) | C4: 옥내자립형(ST), 800(W)x2,350(H)x2,000(D) | D4: 면 | E4: =일위대가!F15 -> 17480580 | F4: =일위대가!H15 -> 0 | G4: =일위대가!J15 -> 0 | H4: =E4+F4+G4 -> 17480580 | I4: 호표 1
A5: 5AEFD64C42C02C596620B270548106 | B5: 원격제어반(수문) (제작율 적용) | C5: 옥외자립형(STS), 800(W)x1800(H)x600(D) | D5: 면 | E5: =일위대가!F28 -> 19428589 | F5: =일위대가!H28 -> 0 | G5: =일위대가!J28 -> 0 | H5: =E5+F5+G5 -> 19428589 | I5: 호표 2
A6: 5AEFD64C42C02C596620B270548686 | B6: 영상관제장치 점검 | C6: 9-4-17 디지털 사이니지 | D6: 대 | E6: =일위대가!F34 -> 9235 | F6: =일위대가!H34 -> 307854 | G6: =일위대가!J34 -> 0 | H6: =E6+F6+G6 -> 317089 | I6: 호표 3
A7: 5AEFD64C42C02C596620B270548B0C | B7: 자동화시설 현장조치 | C7: 1일 1개소 조치비용 | D7: EA | E7: =일위대가!F40 -> 8069 | F7: =일위대가!H40 -> 268991 | G7: =일위대가!J40 -> 0 | H7: =E7+F7+G7 -> 277060 | I7: 호표 4
A8: 5AEFD64C42C02C596620B270548B0D | B8: 자동화시설 현장조치 | C8: 2번째 이상 개소당 조치비용 | D8: EA | E8: =일위대가!F46 -> 2219 | F8: =일위대가!H46 -> 73972 | G8: =일위대가!J46 -> 0 | H8: =E8+F8+G8 -> 76191 | I8: 호표 5
A9: 5AEFD64C42C02C596620B270548B0E | B9: 중앙관리소 현장조치 | C9: 컴퓨터 장비 | D9: HR | E9: =일위대가!F53 -> 2353 | F9: =일위대가!H53 -> 78461 | G9: =일위대가!J53 -> 0 | H9: =E9+F9+G9 -> 80814 | I9: 호표 6
A10: 5AEFD64C42C02C596620B270548B00 | B10: 중앙관리소 현장조치 | C10: HMI S/W | D10: HR | E10: =일위대가!F60 -> 2353 | F10: =일위대가!H60 -> 78461 | G10: =일위대가!J60 -> 0 | H10: =E10+F10+G10 -> 80814 | I10: 호표 7
A11: 5AEFD64C42C02C596620B270548B01 | B11: 중앙관리소 현장조치 | C11: CCTV S/W | D11: HR | E11: =일위대가!F67 -> 2353 | F11: =일위대가!H67 -> 78461 | G11: =일위대가!J67 -> 0 | H11: =E11+F11+G11 -> 80814 | I11: 호표 8
A12: 5AEFD64C42C02C596620B270564CCD | B12: LAN케이블 | C12: UTP.CAT.6/CM | D12: EA | E12: =일위대가!F74 -> 3359 | F12: =일위대가!H74 -> 65433 | G12: =일위대가!J74 -> 0 | H12: =E12+F12+G12 -> 68792 | I12: 호표 9
A13: 5AEFD64C42C02C596620B270548683 | B13: 저독성난연가요폴리올레핀절연전선 | C13: HFIX 단선 2.5㎟ | D13: M | E13: =일위대가!F81 -> 714 | F13: =일위대가!H81 -> 3010 | G13: =일위대가!J81 -> 0 | H13: =E13+F13+G13 -> 3724 | I13: 호표 10
A14: 5AEFD64C42C02C596620B270548680 | B14: 저독성난연가요폴리올레핀절연전선 | C14: HFIX 연선 4㎟ | D14: M | E14: =일위대가!F88 -> 1075 | F14: =일위대가!H88 -> 3010 | G14: =일위대가!J88 -> 0 | H14: =E14+F14+G14 -> 4085 | I14: 호표 11
A15: 5AEFD64C42C02C596620B270548681 | B15: 접지선 | C15: F-GV 2.5㎟ | D15: M | E15: =일위대가!F95 -> 1023 | F15: =일위대가!H95 -> 1806 | G15: =일위대가!J95 -> 0 | H15: =E15+F15+G15 -> 2829 | I15: 호표 12
A16: 5AEFD64C42C02C596620B27054868E | B16: 접지선 | C16: F-GV 4㎟ | D16: M | E16: =일위대가!F102 -> 1368 | F16: =일위대가!H102 -> 1806 | G16: =일위대가!J102 -> 0 | H16: =E16+F16+G16 -> 3174 | I16: 호표 13
A17: 5AEFD64C42C02C596620B27054868F | B17: 접지선 | C17: F-GV 6㎟ | D17: M | E17: =일위대가!F109 -> 1618 | F17: =일위대가!H109 -> 1806 | G17: =일위대가!J109 -> 0 | H17: =E17+F17+G17 -> 3424 | I17: 호표 14
A18: 5AEFD64C42C02C596620B2705487AD | B18: 접지선 | C18: F-GV 25㎟ | D18: M | E18: =일위대가!F116 -> 5522 | F18: =일위대가!H116 -> 2107 | G18: =일위대가!J116 -> 0 | H18: =E18+F18+G18 -> 7629 | I18: 호표 15
A19: 5AEFD64C42C02C596620B2705487AC | B19: 접지선 | C19: F-GV 70㎟ | D19: M | E19: =일위대가!F123 -> 14799 | F19: =일위대가!H123 -> 2408 | G19: =일위대가!J123 -> 0 | H19: =E19+F19+G19 -> 17207 | I19: 호표 16
A20: 5AEFD64C42C02C596620B2705487AF | B20: 제어케이블 | C20: F-CVV-SB 2C 1.5㎟ | D20: M | E20: =일위대가!F130 -> 2264 | F20: =일위대가!H130 -> 4385 | G20: =일위대가!J130 -> 0 | H20: =E20+F20+G20 -> 6649 | I20: 호표 17
A21: 5AEFD64C42C02C596620B2705487AE | B21: 제어케이블 | C21: F-CVV-SB 3C 1.5㎟ | D21: M | E21: =일위대가!F137 -> 2726 | F21: =일위대가!H137 -> 5952 | G21: =일위대가!J137 -> 0 | H21: =E21+F21+G21 -> 8678 | I21: 호표 18
A22: 5AEFD64C42C02C596620B2705487A9 | B22: 제어케이블 | C22: F-CVV-SB 5C 1.5㎟ | D22: M | E22: =일위대가!F144 -> 3684 | F22: =일위대가!H144 -> 10024 | G22: =일위대가!J144 -> 0 | H22: =E22+F22+G22 -> 13708 | I22: 호표 19
A23: 5AEFD64C42C02C596620B2705487A8 | B23: 제어케이블 | C23: F-CVV-SB 10C 1.5㎟ | D23: M | E23: =일위대가!F151 -> 5993 | F23: =일위대가!H151 -> 15037 | G23: =일위대가!J151 -> 0 | H23: =E23+F23+G23 -> 21030 | I23: 호표 20
A24: 5AEFD64C42C02C596620B2705487AB | B24: 제어케이블 | C24: F-CVV-SB 12C 1.5㎟ | D24: M | E24: =일위대가!F158 -> 6899 | F24: =일위대가!H158 -> 16917 | G24: =일위대가!J158 -> 0 | H24: =E24+F24+G24 -> 23816 | I24: 호표 21
A25: 5AEFD64C42C02C596620B2705487AA | B25: 제어케이블 | C25: F-CVV-SB 15C 1.5㎟ | D25: M | E25: =일위대가!F165 -> 7998 | F25: =일위대가!H165 -> 19423 | G25: =일위대가!J165 -> 0 | H25: =E25+F25+G25 -> 27421 | I25: 호표 22
A26: 5AEFD64C42C02C596620B2705487A5 | B26: 제어케이블 | C26: F-CVV-SB 20C 1.5㎟ | D26: M | E26: =일위대가!F172 -> 9981 | F26: =일위대가!H172 -> 23182 | G26: =일위대가!J172 -> 0 | H26: =E26+F26+G26 -> 33163 | I26: 호표 23
A27: 5AEFD64C42C02C596620B2705487A4 | B27: SPD용 회로분리기 | C27: CLASS2, 2극 Imax 40ka | D27: EA | E27: =일위대가!F178 -> 98930 | F27: =일위대가!H178 -> 117680 | G27: =일위대가!J178 -> 0 | H27: =E27+F27+G27 -> 216610 | I27: 호표 24
A28: 5AEFD64C42C02C596620B2705484D9 | B28: SPD용 회로분리기 | C28: CLASS2, 4극 Imax 40ka | D28: EA | E28: =일위대가!F184 -> 137147 | F28: =일위대가!H184 -> 191573 | G28: =일위대가!J184 -> 0 | H28: =E28+F28+G28 -> 328720 | I28: 호표 25
A29: 5AEFD64C42C02C596620B2705484D8 | B29: SPD용 회로분리기 | C29: CLASS2, 2극 Imax 80ka | D29: EA | E29: =일위대가!F190 -> 118730 | F29: =일위대가!H190 -> 117680 | G29: =일위대가!J190 -> 0 | H29: =E29+F29+G29 -> 236410 | I29: 호표 26
A30: 5AEFD64C42C02C596620B2705484DB | B30: SPD용 회로분리기 | C30: CLASS2, 4극 Imax 80ka | D30: EA | E30: =일위대가!F196 -> 158747 | F30: =일위대가!H196 -> 191573 | G30: =일위대가!J196 -> 0 | H30: =E30+F30+G30 -> 350320 | I30: 호표 27
A31: 5AEFD64C42C02C596620B2705484DA | B31: 난연 전력케이블 | C31: 0.6/1KV F-CV 2C 2.5㎟ | D31: M | E31: =일위대가!F203 -> 1912 | F31: =일위대가!H203 -> 4385 | G31: =일위대가!J203 -> 0 | H31: =E31+F31+G31 -> 6297 | I31: 호표 28
A32: 5AEFD64C42C02C596620B2705484DD | B32: 난연 전력케이블 | C32: 0.6/1KV F-CV 2C 4㎟ | D32: M | E32: =일위대가!F210 -> 2571 | F32: =일위대가!H210 -> 5012 | G32: =일위대가!J210 -> 0 | H32: =E32+F32+G32 -> 7583 | I32: 호표 29
A33: 5AEFD64C42C02C596620B2705484DC | B33: 난연 전력케이블 | C33: 0.6/1KV F-CV 3C 2.5㎟ | D33: M | E33: =일위대가!F217 -> 2567 | F33: =일위대가!H217 -> 5952 | G33: =일위대가!J217 -> 0 | H33: =E33+F33+G33 -> 8519 | I33: 호표 30
A34: 5AEFD64C42C02C596620B2705484DF | B34: 난연 전력케이블 | C34: 0.6/1KV F-CV 3C 4㎟ | D34: M | E34: =일위대가!F224 -> 3530 | F34: =일위대가!H224 -> 6892 | G34: =일위대가!J224 -> 0 | H34: =E34+F34+G34 -> 10422 | I34: 호표 31
A35: 5AEFD64C42C02C596620B2705484DE | B35: 난연 전력케이블 | C35: 0.6/1KV F-CV 4C 6㎟ | D35: M | E35: =일위대가!F231 -> 6181 | F35: =일위대가!H231 -> 10651 | G35: =일위대가!J231 -> 0 | H35: =E35+F35+G35 -> 16832 | I35: 호표 32
A36: 5AEFD64C42C02C596620B2705484D1 | B36: 난연 전력케이블 | C36: 0.6/1KV F-CV 4C 10㎟ | D36: M | E36: =일위대가!F238 -> 9909 | F36: =일위대가!H238 -> 15350 | G36: =일위대가!J238 -> 0 | H36: =E36+F36+G36 -> 25259 | I36: 호표 33
A37: 5AEFD64C42C02C596620B2705484D0 | B37: 나동선 연동연선(AS) | C37: 25㎟ | D37: M | E37: =일위대가!F245 -> 5029 | F37: =일위대가!H245 -> 2342 | G37: =일위대가!J245 -> 0 | H37: =E37+F37+G37 -> 7371 | I37: 호표 34
A38: 5AEFD64C42C02C596620B2705485FF | B38: 나동선 연동연선(AS) | C38: 70㎟ | D38: M | E38: =일위대가!F252 -> 12926 | F38: =일위대가!H252 -> 2676 | G38: =일위대가!J252 -> 0 | H38: =E38+F38+G38 -> 15602 | I38: 호표 35
A39: 5AEFD64C42C02C596620B2705485FE | B39: 기기용 비닐절연전선 | C39: KIV 1.5㎟ | D39: M | E39: =일위대가!F259 -> 1246 | F39: =일위대가!H259 -> 29347 | G39: =일위대가!J259 -> 0 | H39: =E39+F39+G39 -> 30593 | I39: 호표 36
A40: 5AEFD64C42C02C596620B2705485FD | B40: 기기용 비닐절연전선 | C40: KIV 2.5㎟ | D40: M | E40: =일위대가!F266 -> 1467 | F40: =일위대가!H266 -> 29347 | G40: =일위대가!J266 -> 0 | H40: =E40+F40+G40 -> 30814 | I40: 호표 37
...

Sheet 일위대가
A1: [ 충주제천단양지사 물관리자동화시스템 정비보강용역공사 ]
A2: 품 명 | B2: 규 격 | C2: 단위 | D2: 수량 | E2: 재 료 비 | G2: 노 무 비 | I2: 경 비 | K2: 합 계 | M2: 비 고 | N2: 일위대가 | O2: 품목코드 | P2: 일위 | Q2: 단산 | R2: 자재 | S2: 손료적용 | T2: 손료저장 | U2: 적용율 | V2: JUK1 | W2: JUK2 | X2: JUK3 | Y2: JUK4 | Z2: JUK5 | AA2: JUK6 | AB2: JUK7 | AC2: JUK8 | AD2: JUK9 | AE2: JUK10 | AF2: JUK11 | AG2: JUK12 | AH2: JUK13 | AI2: JUK14 | AJ2: JUK15 | AK2: JUK16 | AL2: JUK17 | AM2: JUK18 | AN2: JUK19 | AO2: JUK20 | AP2: 할증적용 | AQ2: 할증저장 | AR2: 할증율 | AS2: HAL1 | AT2: HAL2 | AU2: HAL3 | AV2: 자재구분 | AW2: 일위대가+자재 | AX2: 장비일위 | AY2: 설정 | AZ2: 할증체크
E3: 단 가 | F3: 금 액 | G3: 단 가 | H3: 금 액 | I3: 단 가 | J3: 금 액 | K3: 단 가 | L3: 금 액
A4: 원격제어반(양배수장) (제작율 적용) 옥내자립형(ST), 800(W)x2,350(H)x2,000(D) 면 ( 호표 1 ) | N4: 5AEFD64C42C02C596620B27054807A
A5: 원격제어반(RTU-1A) 옥내자립형 | B5: 전원부 | C5: 면 | D5: 1 | E5: =일위대가목록!E201 -> 6605164 | F5: =TRUNC(E5*D5,0) -> 6605164 | G5: =일위대가목록!F201 -> 321018 | H5: =TRUNC(G5*D5,0) -> 321018 | I5: =일위대가목록!G201 -> 0 | J5: =TRUNC(I5*D5,0) -> 0 | K5: =TRUNC(E5+G5+I5,0) -> 6926182 | L5: =TRUNC(F5+H5+J5,0) -> 6926182 | M5: 금액제외 | O5: 5AEFD64C42C02C596620B270548332 | P5: T | Q5: F | R5: F | V5: 1 | X5: 3 | AW5: 5AEFD64C42C02C596620B27054807A5AEFD64C42C02C596620B270548332 | AY5: -
A6: 원격제어반(RTU-1A) 옥내자립형 | B6: 제어부 | C6: 면 | D6: 1 | E6: =일위대가목록!E202 -> 5682957 | F6: =TRUNC(E6*D6,0) -> 5682957 | G6: =일위대가목록!F202 -> 788494 | H6: =TRUNC(G6*D6,0) -> 788494 | I6: =일위대가목록!G202 -> 0 | J6: =TRUNC(I6*D6,0) -> 0 | K6: =TRUNC(E6+G6+I6,0) -> 6471451 | L6: =TRUNC(F6+H6+J6,0) -> 6471451 | M6: 금액제외 | O6: 5AEFD64C42C02C596620B270548333 | P6: T | Q6: F | R6: F | V6: 1 | X6: 3 | AW6: 5AEFD64C42C02C596620B27054807A5AEFD64C42C02C596620B270548333 | AY6: -
A7: 직접재료비 | B7: 산출재료비의 100% | C7: 식 | D7: 1 | E7: =TRUNC(SUMIF(V5:V14, RIGHTB(O7, 1), F5:F14)*U7, 2) -> 12288121 | F7: =TRUNC(E7*D7,0) -> 12288121 | G7: 0 | H7: =TRUNC(G7*D7,0) -> 0 | I7: 0 | J7: =TRUNC(I7*D7,0) -> 0 | K7: =TRUNC(E7+G7+I7,0) -> 12288121 | L7: =TRUNC(F7+H7+J7,0) -> 12288121 | M7: 금액제외 | O7: 5BB376D29710225D52800F96EF9F001 | P7: F | Q7: F | R7: F | S7: 0 | T7: 0 | U7: 1 | W7: 2 | Z7: 5 | AA7: 6 | AC7: 8 | AW7: 5AEFD64C42C02C596620B27054807A5BB376D29710225D52800F96EF9F001 | AY7: -
A8: 간접재료비 | B8: 직접재료비의 1.03% | C8: 식 | D8: 1 | E8: =TRUNC(SUMIF(W5:W14, RIGHTB(O8, 1), F5:F14)*U8, 2) -> 126567.64 | F8: =TRUNC(E8*D8,0) -> 126567 | G8: 0 | H8: =TRUNC(G8*D8,0) -> 0 | I8: 0 | J8: =TRUNC(I8*D8,0) -> 0 | K8: =TRUNC(E8+G8+I8,0) -> 126567 | L8: =TRUNC(F8+H8+J8,0) -> 126567 | M8: 금액제외 | O8: 5BB376D29710225D52800F96EF9C002 | P8: F | Q8: F | R8: F | S8: 0 | T8: 0 | U8: 0.0103 | Z8: 5 | AA8: 6 | AC8: 8 | AW8: 5AEFD64C42C02C596620B27054807A5BB376D29710225D52800F96EF9C002 | AY8: -
A9: 직접노무비 | B9: 산출노무비의 124.53% | C9: 식 | D9: 1 | E9: 0 | F9: =TRUNC(E9*D9,0) -> 0 | G9: =TRUNC(SUMIF(X5:X14, RIGHTB(O9, 1), H5:H14)*U9, 2) -> 1381675.3 | H9: =TRUNC(G9*D9,0) -> 1381675 | I9: 0 | J9: =TRUNC(I9*D9,0) -> 0 | K9: =TRUNC(E9+G9+I9,0) -> 1381675 | L9: =TRUNC(F9+H9+J9,0) -> 1381675 | M9: 금액제외 | O9: 5BB376D29710225D52800F96EF9D003 | P9: F | Q9: F | R9: F | S9: 1 | T9: 1 | U9: 1.2453 | Y9: 4 | AA9: 6 | AB9: 7 | AC9: 8 | AW9: 5AEFD64C42C02C596620B27054807A5BB376D29710225D52800F96EF9D003 | AY9: -
A10: 간접노무비 | B10: 직접노무비의 34.93% | C10: 식 | D10: 1 | E10: 0 | F10: =TRUNC(E10*D10,0) -> 0 | G10: =TRUNC(SUMIF(Y5:Y14, RIGHTB(O10, 1), H5:H14)*U10, 2) -> 482619.07 | H10: =TRUNC(G10*D10,0) -> 482619 | I10: 0 | J10: =TRUNC(I10*D10,0) -> 0 | K10: =TRUNC(E10+G10+I10,0) -> 482619 | L10: =TRUNC(F10+H10+J10,0) -> 482619 | M10: 금액제외 | O10: 5BB376D29710225D52800F96EF9A004 | P10: F | Q10: F | R10: F | S10: 1 | T10: 1 | U10: 0.3493 | AA10: 6 | AB10: 7 | AC10: 8 | AW10: 5AEFD64C42C02C596620B27054807A5BB376D29710225D52800F96EF9A004 | AY10: -
A11: 경 비 | B11: 재료비의 8.95% | C11: 식 | D11: 1 | E11: 0 | F11: =TRUNC(E11*D11,0) -> 0 | G11: 0 | H11: =TRUNC(G11*D11,0) -> 0 | I11: =TRUNC(SUMIF(Z5:Z14, RIGHTB(O11, 1), F5:F14)*U11, 2) -> 1111114.6 | J11: =TRUNC(I11*D11,0) -> 1111114 | K11: =TRUNC(E11+G11+I11,0) -> 1111114 | L11: =TRUNC(F11+H11+J11,0) -> 1111114 | M11: 금액제외 | O11: 5BB376D29710225D52800F96EF9B005 | P11: F | Q11: F | R11: F | S11: 0 | T11: 2 | U11: 0.0895 | AA11: 6 | AB11: 7 | AC11: 8 | AW11: 5AEFD64C42C02C596620B27054807A5BB376D29710225D52800F96EF9B005 | AY11: -
A12: 일반관리비 | B12: (재+노+경)의 7% | C12: 식 | D12: 1 | E12: 0 | F12: =TRUNC(E12*D12,0) -> 0 | G12: 0 | H12: =TRUNC(G12*D12,0) -> 0 | I12: =TRUNC(SUMIF(AA5:AA14, RIGHTB(O12, 1), L5:L14)*U12, 2) -> 1077306.7 | J12: =TRUNC(I12*D12,0) -> 1077306 | K12: =TRUNC(E12+G12+I12,0) -> 1077306 | L12: =TRUNC(F12+H12+J12,0) -> 1077306 | M12: 금액제외 | O12: 5BB376D29710225D52800F96EF98006 | P12: F | Q12: F | R12: F | S12: 3 | T12: 2 | U12: 0.07 | AB12: 7 | AC12: 8 | AW12: 5AEFD64C42C02C596620B27054807A5BB376D29710225D52800F96EF98006 | AY12: -
A13: 이 윤 | B13: (노+경+일)의 25% | C13: 식 | D13: 1 | E13: 0 | F13: =TRUNC(E13*D13,0) -> 0 | G13: 0 | H13: =TRUNC(G13*D13,0) -> 0 | I13: =TRUNC(SUMIF(AB5:AB14, RIGHTB(O13, 1), L5:L14)*U13, 2) -> 1013178.5 | J13: =TRUNC(I13*D13,0) -> 1013178 | K13: =TRUNC(E13+G13+I13,0) -> 1013178 | L13: =TRUNC(F13+H13+J13,0) -> 1013178 | M13: 금액제외 | O13: 5BB376D29710225D52800F96EF99007 | P13: F | Q13: F | R13: F | S13: 3 | T13: 2 | U13: 0.25 | AC13: 8 | AW13: 5AEFD64C42C02C596620B27054807A5BB376D29710225D52800F96EF99007 | AY13: -
A14: 총 계 | B14: 합계의 100% | C14: 식 | D14: 1 | E14: =TRUNC(SUMIF(AC5:AC14, RIGHTB(O14, 1), L5:L14)*U14, 2) -> 17480580 | F14: =TRUNC(E14*D14,0) -> 17480580 | G14: 0 | H14: =TRUNC(G14*D14,0) -> 0 | I14: 0 | J14: =TRUNC(I14*D14,0) -> 0 | K14: =TRUNC(E14+G14+I14,0) -> 17480580 | L14: =TRUNC(F14+H14+J14,0) -> 17480580 | N14: 5AEFD64C42C02C596620B27054807A | O14: 5BB376D29710225D52800F96EF96008 | P14: F | Q14: F | R14: F | S14: 3 | T14: 0 | U14: 1 | AW14: 5AEFD64C42C02C596620B27054807A5BB376D29710225D52800F96EF96008
A15: [ 합 계 ] | F15: =TRUNC(SUMIF(N5:N14, N4, F5:F14),0) -> 17480580 | H15: =TRUNC(SUMIF(N5:N14, N4, H5:H14),0) -> 0 | J15: =TRUNC(SUMIF(N5:N14, N4, J5:J14),0) -> 0 | L15: =F15+H15+J15 -> 17480580 | N15: TOTAL | O15: TOTAL
A17: 원격제어반(수문) (제작율 적용) 옥외자립형(STS), 800(W)x1800(H)x600(D) 면 ( 호표 2 ) | N17: 5AEFD64C42C02C596620B270548106
A18: 원격제어반(수문) 옥외자립형 | B18: 전원부 | C18: 면 | D18: 1 | E18: =일위대가목록!E206 -> 7086187 | F18: =TRUNC(E18*D18,0) -> 7086187 | G18: =일위대가목록!F206 -> 887742 | H18: =TRUNC(G18*D18,0) -> 887742 | I18: =일위대가목록!G206 -> 0 | J18: =TRUNC(I18*D18,0) -> 0 | K18: =TRUNC(E18+G18+I18,0) -> 7973929 | L18: =TRUNC(F18+H18+J18,0) -> 7973929 | M18: 금액제외 | O18: 5AEFD64C42C02C596620B270548104 | P18: T | Q18: F | R18: F | V18: 1 | X18: 3 | AW18: 5AEFD64C42C02C596620B2705481065AEFD64C42C02C596620B270548104 | AY18: -
A19: 원격제어반(수문) 옥외자립형 | B19: 제어부 | C19: 면 | D19: 1 | E19: =일위대가목록!E207 -> 5754857 | F19: =TRUNC(E19*D19,0) -> 5754857 | G19: =일위대가목록!F207 -> 788494 | H19: =TRUNC(G19*D19,0) -> 788494 | I19: =일위대가목록!G207 -> 0 | J19: =TRUNC(I19*D19,0) -> 0 | K19: =TRUNC(E19+G19+I19,0) -> 6543351 | L19: =TRUNC(F19+H19+J19,0) -> 6543351 | M19: 금액제외 | O19: 5AEFD64C42C02C596620B270548105 | P19: T | Q19: F | R19: F | V19: 1 | X19: 3 | AW19: 5AEFD64C42C02C596620B2705481065AEFD64C42C02C596620B270548105 | AY19: -
A20: 직접재료비 | B20: 산출재료비의 100% | C20: 식 | D20: 1 | E20: =TRUNC(SUMIF(V18:V27, RIGHTB(O20, 1), F18:F27)*U20, 2) -> 12841044 | F20: =TRUNC(E20*D20,0) -> 12841044 | G20: 0 | H20: =TRUNC(G20*D20,0) -> 0 | I20: 0 | J20: =TRUNC(I20*D20,0) -> 0 | K20: =TRUNC(E20+G20+I20,0) -> 12841044 | L20: =TRUNC(F20+H20+J20,0) -> 12841044 | M20: 금액제외 | O20: 5BB376D29710225D52800F96EF9F001 | P20: F | Q20: F | R20: F | S20: 0 | T20: 0 | U20: 1 | W20: 2 | Z20: 5 | AA20: 6 | AC20: 8 | AW20: 5AEFD64C42C02C596620B2705481065BB376D29710225D52800F96EF9F001 | AY20: -
A21: 간접재료비 | B21: 직접재료비의 1.03% | C21: 식 | D21: 1 | E21: =TRUNC(SUMIF(W18:W27, RIGHTB(O21, 1), F18:F27)*U21, 2) -> 132262.75 | F21: =TRUNC(E21*D21,0) -> 132262 | G21: 0 | H21: =TRUNC(G21*D21,0) -> 0 | I21: 0 | J21: =TRUNC(I21*D21,0) -> 0 | K21: =TRUNC(E21+G21+I21,0) -> 132262 | L21: =TRUNC(F21+H21+J21,0) -> 132262 | M21: 금액제외 | O21: 5BB376D29710225D52800F96EF9C002 | P21: F | Q21: F | R21: F | S21: 0 | T21: 0 | U21: 0.0103 | Z21: 5 | AA21: 6 | AC21: 8 | AW21: 5AEFD64C42C02C596620B2705481065BB376D29710225D52800F96EF9C002 | AY21: -
A22: 직접노무비 | B22: 산출노무비의 124.53% | C22: 식 | D22: 1 | E22: 0 | F22: =TRUNC(E22*D22,0) -> 0 | G22: =TRUNC(SUMIF(X18:X27, RIGHTB(O22, 1), H18:H27)*U22, 2) -> 2087416.7 | H22: =TRUNC(G22*D22,0) -> 2087416 | I22: 0 | J22: =TRUNC(I22*D22,0) -> 0 | K22: =TRUNC(E22+G22+I22,0) -> 2087416 | L22: =TRUNC(F22+H22+J22,0) -> 2087416 | M22: 금액제외 | O22: 5BB376D29710225D52800F96EF9D003 | P22: F | Q22: F | R22: F | S22: 1 | T22: 1 | U22: 1.2453 | Y22: 4 | AA22: 6 | AB22: 7 | AC22: 8 | AW22: 5AEFD64C42C02C596620B2705481065BB376D29710225D52800F96EF9D003 | AY22: -
A23: 간접노무비 | B23: 직접노무비의 34.93% | C23: 식 | D23: 1 | E23: 0 | F23: =TRUNC(E23*D23,0) -> 0 | G23: =TRUNC(SUMIF(Y18:Y27, RIGHTB(O23, 1), H18:H27)*U23, 2) -> 729134.4 | H23: =TRUNC(G23*D23,0) -> 729134 | I23: 0 | J23: =TRUNC(I23*D23,0) -> 0 | K23: =TRUNC(E23+G23+I23,0) -> 729134 | L23: =TRUNC(F23+H23+J23,0) -> 729134 | M23: 금액제외 | O23: 5BB376D29710225D52800F96EF9A004 | P23: F | Q23: F | R23: F | S23: 1 | T23: 1 | U23: 0.3493 | AA23: 6 | AB23: 7 | AC23: 8 | AW23: 5AEFD64C42C02C596620B2705481065BB376D29710225D52800F96EF9A004 | AY23: -
A24: 경 비 | B24: 재료비의 8.95% | C24: 식 | D24: 1 | E24: 0 | F24: =TRUNC(E24*D24,0) -> 0 | G24: 0 | H24: =TRUNC(G24*D24,0) -> 0 | I24: =TRUNC(SUMIF(Z18:Z27, RIGHTB(O24, 1), F18:F27)*U24, 2) -> 1161110.9 | J24: =TRUNC(I24*D24,0) -> 1161110 | K24: =TRUNC(E24+G24+I24,0) -> 1161110 | L24: =TRUNC(F24+H24+J24,0) -> 1161110 | M24: 금액제외 | O24: 5BB376D29710225D52800F96EF9B005 | P24: F | Q24: F | R24: F | S24: 0 | T24: 2 | U24: 0.0895 | AA24: 6 | AB24: 7 | AC24: 8 | AW24: 5AEFD64C42C02C596620B2705481065BB376D29710225D52800F96EF9B005 | AY24: -
A25: 일반관리비 | B25: (재+노+경)의 7% | C25: 식 | D25: 1 | E25: 0 | F25: =TRUNC(E25*D25,0) -> 0 | G25: 0 | H25: =TRUNC(G25*D25,0) -> 0 | I25: =TRUNC(SUMIF(AA18:AA27, RIGHTB(O25, 1), L18:L27)*U25, 2) -> 1186567.6 | J25: =TRUNC(I25*D25,0) -> 1186567 | K25: =TRUNC(E25+G25+I25,0) -> 1186567 | L25: =TRUNC(F25+H25+J25,0) -> 1186567 | M25: 금액제외 | O25: 5BB376D29710225D52800F96EF98006 | P25: F | Q25: F | R25: F | S25: 3 | T25: 2 | U25: 0.07 | AB25: 7 | AC25: 8 | AW25: 5AEFD64C42C02C596620B2705481065BB376D29710225D52800F96EF98006 | AY25: -
A26: 이 윤 | B26: (노+경+일)의 25% | C26: 식 | D26: 1 | E26: 0 | F26: =TRUNC(E26*D26,0) -> 0 | G26: 0 | H26: =TRUNC(G26*D26,0) -> 0 | I26: =TRUNC(SUMIF(AB18:AB27, RIGHTB(O26, 1), L18:L27)*U26, 2) -> 1291056.8 | J26: =TRUNC(I26*D26,0) -> 1291056 | K26: =TRUNC(E26+G26+I26,0) -> 1291056 | L26: =TRUNC(F26+H26+J26,0) -> 1291056 | M26: 금액제외 | O26: 5BB376D29710225D52800F96EF99007 | P26: F | Q26: F | R26: F | S26: 3 | T26: 2 | U26: 0.25 | AC26: 8 | AW26: 5AEFD64C42C02C596620B2705481065BB376D29710225D52800F96EF99007 | AY26: -
A27: 총 계 | B27: 합계의 100% | C27: 식 | D27: 1 | E27: =TRUNC(SUMIF(AC18:AC27, RIGHTB(O27, 1), L18:L27)*U27, 2) -> 19428589 | F27: =TRUNC(E27*D27,0) -> 19428589 | G27: 0 | H27: =TRUNC(G27*D27,0) -> 0 | I27: 0 | J27: =TRUNC(I27*D27,0) -> 0 | K27: =TRUNC(E27+G27+I27,0) -> 19428589 | L27: =TRUNC(F27+H27+J27,0) -> 19428589 | N27: 5AEFD64C42C02C596620B270548106 | O27: 5BB376D29710225D52800F96EF96008 | P27: F | Q27: F | R27: F | S27: 3 | T27: 0 | U27: 1 | AW27: 5AEFD64C42C02C596620B2705481065BB376D29710225D52800F96EF96008
A28: [ 합 계 ] | F28: =TRUNC(SUMIF(N18:N27, N17, F18:F27),0) -> 19428589 | H28: =TRUNC(SUMIF(N18:N27, N17, H18:H27),0) -> 0 | J28: =TRUNC(SUMIF(N18:N27, N17, J18:J27),0) -> 0 | L28: =F28+H28+J28 -> 19428589 | N28: TOTAL | O28: TOTAL
A30: 영상관제장치 점검 9-4-17 디지털 사이니지 대 ( 호표 3 ) | N30: 5AEFD64C42C02C596620B270548686
A31: 통신관련산업기사 | B31: 기타 직종 | C31: 인 | D31: 0.41 | E31: =단가대비표!O48 -> 0 | F31: =TRUNC(E31*D31,0) -> 0 | G31: =단가대비표!P48 -> 304509 | H31: =TRUNC(G31*D31,0) -> 124848 | I31: =단가대비표!V48 -> 0 | J31: =TRUNC(I31*D31,0) -> 0 | K31: =TRUNC(E31+G31+I31,0) -> 304509 | L31: =TRUNC(F31+H31+J31,0) -> 124848 | N31: 5AEFD64C42C02C596620B270548686 | O31: 5A7506E70FB02750C970CD079E4CA1374BB706 | P31: F | Q31: F | R31: T | V31: 1 | AW31: 5AEFD64C42C02C596620B2705486865A7506E70FB02750C970CD079E4CA1374BB706
A32: S/W시험사 | B32: 광전자 직종 | C32: 인 | D32: 0.41 | E32: =단가대비표!O47 -> 0 | F32: =TRUNC(E32*D32,0) -> 0 | G32: =단가대비표!P47 -> 446358 | H32: =TRUNC(G32*D32,0) -> 183006 | I32: =단가대비표!V47 -> 0 | J32: =TRUNC(I32*D32,0) -> 0 | K32: =TRUNC(E32+G32+I32,0) -> 446358 | L32: =TRUNC(F32+H32+J32,0) -> 183006 | N32: 5AEFD64C42C02C596620B270548686 | O32: 5A7506E70FB02750C970CAB3417ADAB8E7319E | P32: F | Q32: F | R32: T | V32: 1 | AW32: 5AEFD64C42C02C596620B2705486865A7506E70FB02750C970CAB3417ADAB8E7319E
A33: 공구손료 | B33: 인력품의 3% | C33: 식 | D33: 1 | E33: =TRUNC(SUMIF(V31:V33, RIGHTB(O33, 1), H31:H33)*U33, 2) -> 9235.62 | F33: =TRUNC(E33*D33,0) -> 9235 | G33: 0 | H33: =TRUNC(G33*D33,0) -> 0 | I33: 0 | J33: =TRUNC(I33*D33,0) -> 0 | K33: =TRUNC(E33+G33+I33,0) -> 9235 | L33: =TRUNC(F33+H33+J33,0) -> 9235 | N33: 5AEFD64C42C02C596620B270548686 | O33: 5BB376D29710225D52800F96EF9F001 | P33: F | Q33: F | R33: F | S33: 1 | T33: 0 | U33: 0.03 | AW33: 5AEFD64C42C02C596620B2705486865BB376D29710225D52800F96EF9F001
A34: [ 합 계 ] | F34: =TRUNC(SUMIF(N31:N33, N30, F31:F33),0) -> 9235 | H34: =TRUNC(SUMIF(N31:N33, N30, H31:H33),0) -> 307854 | J34: =TRUNC(SUMIF(N31:N33, N30, J31:J33),0) -> 0 | L34: =F34+H34+J34 -> 317089 | N34: TOTAL | O34: TOTAL
A36: 자동화시설 현장조치 1일 1개소 조치비용 EA ( 호표 4 ) | N36: 5AEFD64C42C02C596620B270548B0C
A37: S/W시험사 | B37: 광전자 직종 | C37: 인 | D37: 0.4 | E37: =단가대비표!O47 -> 0 | F37: =TRUNC(E37*D37,0) -> 0 | G37: =단가대비표!P47 -> 446358 | H37: =TRUNC(G37*D37,0) -> 178543 | I37: =단가대비표!V47 -> 0 | J37: =TRUNC(I37*D37,0) -> 0 | K37: =TRUNC(E37+G37+I37,0) -> 446358 | L37: =TRUNC(F37+H37+J37,0) -> 178543 | N37: 5AEFD64C42C02C596620B270548B0C | O37: 5A7506E70FB02750C970CAB3417ADAB8E7319E | P37: F | Q37: F | R37: T | V37: 1 | AW37: 5AEFD64C42C02C596620B270548B0C5A7506E70FB02750C970CAB3417ADAB8E7319E
A38: 특별인부 | B38: 일반공사 직종 | C38: 인 | D38: 0.4 | E38: =단가대비표!O31 -> 0 | F38: =TRUNC(E38*D38,0) -> 0 | G38: =단가대비표!P31 -> 226122 | H38: =TRUNC(G38*D38,0) -> 90448 | I38: =단가대비표!V31 -> 0 | J38: =TRUNC(I38*D38,0) -> 0 | K38: =TRUNC(E38+G38+I38,0) -> 226122 | L38: =TRUNC(F38+H38+J38,0) -> 90448 | N38: 5AEFD64C42C02C596620B270548B0C | O38: 5A7506E70FB02750C970C9AD749F14B50D8FC2 | P38: F | Q38: F | R38: T | V38: 1 | AW38: 5AEFD64C42C02C596620B270548B0C5A7506E70FB02750C970C9AD749F14B50D8FC2
A39: 공구손료 | B39: 인력품의 3% | C39: 식 | D39: 1 | E39: =TRUNC(SUMIF(V37:V39, RIGHTB(O39, 1), H37:H39)*U39, 2) -> 8069.73 | F39: =TRUNC(E39*D39,0) -> 8069 | G39: 0 | H39: =TRUNC(G39*D39,0) -> 0 | I39: 0 | J39: =TRUNC(I39*D39,0) -> 0 | K39: =TRUNC(E39+G39+I39,0) -> 8069 | L39: =TRUNC(F39+H39+J39,0) -> 8069 | N39: 5AEFD64C42C02C596620B270548B0C | O39: 5BB376D29710225D52800F96EF9F001 | P39: F | Q39: F | R39: F | S39: 1 | T39: 0 | U39: 0.03 | AW39: 5AEFD64C42C02C596620B270548B0C5BB376D29710225D52800F96EF9D003
A40: [ 합 계 ] | F40: =TRUNC(SUMIF(N37:N39, N36, F37:F39),0) -> 8069 | H40: =TRUNC(SUMIF(N37:N39, N36, H37:H39),0) -> 268991 | J40: =TRUNC(SUMIF(N37:N39, N36, J37:J39),0) -> 0 | L40: =F40+H40+J40 -> 277060 | N40: TOTAL | O40: TOTAL
A42: 자동화시설 현장조치 2번째 이상 개소당 조치비용 EA ( 호표 5 ) | N42: 5AEFD64C42C02C596620B270548B0D
A43: S/W시험사 | B43: 광전자 직종 | C43: 인 | D43: 0.11 | E43: =단가대비표!O47 -> 0 | F43: =TRUNC(E43*D43,0) -> 0 | G43: =단가대비표!P47 -> 446358 | H43: =TRUNC(G43*D43,0) -> 49099 | I43: =단가대비표!V47 -> 0 | J43: =TRUNC(I43*D43,0) -> 0 | K43: =TRUNC(E43+G43+I43,0) -> 446358 | L43: =TRUNC(F43+H43+J43,0) -> 49099 | N43: 5AEFD64C42C02C596620B270548B0D | O43: 5A7506E70FB02750C970CAB3417ADAB8E7319E | P43: F | Q43: F | R43: T | V43: 1 | AW43: 5AEFD64C42C02C596620B270548B0D5A7506E70FB02750C970CAB3417ADAB8E7319E
A44: 특별인부 | B44: 일반공사 직종 | C44: 인 | D44: 0.11 | E44: =단가대비표!O31 -> 0 | F44: =TRUNC(E44*D44,0) -> 0 | G44: =단가대비표!P31 -> 226122 | H44: =TRUNC(G44*D44,0) -> 24873 | I44: =단가대비표!V31 -> 0 | J44: =TRUNC(I44*D44,0) -> 0 | K44: =TRUNC(E44+G44+I44,0) -> 226122 | L44: =TRUNC(F44+H44+J44,0) -> 24873 | N44: 5AEFD64C42C02C596620B270548B0D | O44: 5A7506E70FB02750C970C9AD749F14B50D8FC2 | P44: F | Q44: F | R44: T | V44: 1 | AW44: 5AEFD64C42C02C596620B270548B0D5A7506E70FB02750C970C9AD749F14B50D8FC2
...

Sheet 단가대비표
A1: 단 가 대 비 표
A2: [ 충주제천단양지사 물관리자동화시스템 정비보강용역공사 ]
A3: 코 드 | B3: 품 명 | C3: 규격 | D3: 단위 | E3: 재 료 비 | P3: 노 무 비 | Q3: 경 비 | W3: 번 호 | X3: 비 고 | Y3: 품목구분 | Z3: 노임구분 | AA3: 소수점처리 | AB3: 자재구분
E4: 농어촌공사 | F4: PAGE | G4: 거래가격 | H4: PAGE | I4: 유통물가 | J4: PAGE | K4: 물가자료 | L4: PAGE | M4: 조사가격 | N4: PAGE | O4: 적용단가 | Q4: 농어촌공사 | R4: 거래가격 | S4: 유통물가 | T4: 물가자료 | U4: 조사가격 | V4: 적용단가
A5: 5DB0F6F3B9E0205517101A9F3F9194719A6073 | B5: 굴착기(무한궤도) | C5: 0.2㎥ | D5: 대 | E5: 0 | G5: 0 | I5: 0 | K5: 0 | M5: 0 | O5: 0 | P5: 0 | Q5: 0 | R5: 0 | S5: 0 | T5: 0 | U5: 0 | V5: 0 | W5: 자재 1 | X5: 천원
A6: 5DB0F6F3B9E0215792206B2A4F3468828094A5 | B6: 진동롤러(핸드가이드식) | C6: 0.7ton | D6: 대 | E6: 0 | G6: 0 | I6: 0 | K6: 0 | M6: 0 | O6: 0 | P6: 0 | Q6: 0 | R6: 0 | S6: 0 | T6: 0 | U6: 0 | V6: 0 | W6: 자재 2 | X6: 천원
A7: 5DB0F6F3B9E022500F408946F717BF5CDDF565 | B7: 트럭탑재형 크레인 | C7: 10ton | D7: 대 | E7: 0 | G7: 0 | I7: 0 | K7: 0 | M7: 0 | O7: 0 | P7: 0 | Q7: 0 | R7: 0 | S7: 0 | T7: 0 | U7: 0 | V7: 0 | W7: 자재 3 | X7: 천원
A8: 5DA6D68A7CE0295EBC30C05A90CB358B232052 | B8: 경유 | C8: 경유, 저유황 | D8: L | E8: 0 | G8: 1505.45 | H8: 1451 | I8: 1510.9 | J8: 1189 | K8: 0 | M8: 0 | O8: =SMALL(E8:M8,COUNTIF(E8:M8,0)+1) -> 1505.45 | P8: 0 | Q8: 0 | R8: 0 | S8: 0 | T8: 0 | U8: 0 | V8: 0 | W8: 자재 4
A9: 5D947689B0B02F5544F0B4359DCE3E706A255A | B9: 기기용 비닐절연전선 | C9: 450/700V KIV 2.5㎟(0.04kg) | D9: m | E9: 507 | F9: M060707 | G9: 512 | H9: 994 | I9: 602 | J9: 836 | K9: 507 | L9: 1075 | M9: 545 | N9: 1163 | O9: =SMALL(E9:M9,COUNTIF(E9:M9,0)+1) -> 507 | P9: 0 | Q9: 0 | R9: 0 | S9: 0 | T9: 0 | U9: 0 | V9: 0 | W9: 자재 5
A10: 5D947689B0B02F5544F0B4359DCE3E7065A04E | B10: 접지용비닐절연전선(제조) | C10: F-GV, 50㎟ | D10: m | E10: 8577 | F10: M061327 | G10: 9455 | H10: 994 | I10: 9218 | J10: 833 | K10: 8959 | L10: 1075 | M10: 8577 | N10: 1161 | O10: =SMALL(E10:M10,COUNTIF(E10:M10,0)+1) -> 8577 | P10: 0 | Q10: 0 | R10: 0 | S10: 0 | T10: 0 | U10: 0 | V10: 0 | W10: 자재 6
A11: 5D8B367FBBD02458B8705DFA90ABC37F2DE013 | B11: DOOR HANDLE (배전반용) | C11: W/KEY(L) | D11: 개 | E11: 5690 | F11: M079080 | G11: 0 | I11: 0 | K11: 0 | M11: 0 | O11: =SMALL(E11:M11,COUNTIF(E11:M11,0)+1) -> 5690 | P11: 0 | Q11: 0 | R11: 0 | S11: 0 | T11: 0 | U11: 0 | V11: 0 | W11: 자재 7
A12: 5D8B367FBBD02458B8705DFA90ABC37F2DEF98 | B12: NAME PLATE | C12: 아크릴(L) | D12: 개 | E12: 5690 | F12: M079101 | G12: 0 | I12: 0 | K12: 0 | M12: 0 | O12: =SMALL(E12:M12,COUNTIF(E12:M12,0)+1) -> 5690 | P12: 0 | Q12: 0 | R12: 0 | S12: 0 | T12: 0 | U12: 0 | V12: 0 | W12: 자재 8
A13: 5D8B367FBBD02458E5B03AE8531774293EF753 | B13: 멀티탭 | C13: 멀티콘센트 5구 | D13: 개 | E13: 0 | G13: 21200 | H13: 1100 | I13: 0 | K13: 16800 | L13: 1204 | M13: 0 | O13: =SMALL(E13:M13,COUNTIF(E13:M13,0)+1) -> 16800 | P13: 0 | Q13: 0 | R13: 0 | S13: 0 | T13: 0 | U13: 0 | V13: 0 | W13: 자재 9
A14: 5D8B367FBBD02458E5A01697324F8AE3C180A2 | B14: 단자대 | C14: 2P 30A | D14: 개 | E14: 0 | G14: 0 | I14: 680 | J14: 856 | K14: 0 | M14: 680 | N14: 1194 | O14: =SMALL(E14:M14,COUNTIF(E14:M14,0)+1) -> 680 | P14: 0 | Q14: 0 | R14: 0 | S14: 0 | T14: 0 | U14: 0 | V14: 0 | W14: 자재 10
A15: 5D8B367FBBD02458E5A01697324F8AE3C0E06D | B15: 단자대 | C15: 10P 30A | D15: 개 | E15: 2500 | F15: M079128 | G15: 0 | I15: 3630 | J15: 856 | K15: 3630 | L15: 1202 | M15: 3630 | N15: 1194 | O15: =SMALL(E15:M15,COUNTIF(E15:M15,0)+1) -> 2500 | P15: 0 | Q15: 0 | R15: 0 | S15: 0 | T15: 0 | U15: 0 | V15: 0 | W15: 자재 11
A16: 5D8B367FBBD02458E5A01697324F8AE3C0E6F5 | B16: 찬넬 | C16: 1M | D16: 개 | E16: 0 | G16: 0 | I16: 2900 | J16: 856 | K16: 0 | M16: 2900 | N16: 1194 | O16: =SMALL(E16:M16,COUNTIF(E16:M16,0)+1) -> 2900 | P16: 0 | Q16: 0 | R16: 0 | S16: 0 | T16: 0 | U16: 0 | V16: 0 | W16: 자재 12
A17: 5D8B367FBBD02458F62027226E31B4A92FF6D4 | B17: 리미트 스위치 | C17: 배전반용 | D17: 개 | E17: 3300 | F17: M079153 | G17: 0 | H17: 1089 | I17: 0 | K17: 0 | M17: 7500 | N17: 1242 | O17: =SMALL(E17:M17,COUNTIF(E17:M17,0)+1) -> 3300 | P17: 0 | Q17: 0 | R17: 0 | S17: 0 | T17: 0 | U17: 0 | V17: 0 | W17: 자재 13
A18: 5D8B367FBBD02458F630370C86C5CFCDB345F0 | B18: 푸쉬버튼 스위치(LED) | C18: D25A110V/220V(조광형) | D18: 개 | E18: 6500 | F18: M080447 | G18: 6500 | H18: 1089 | I18: 6500 | J18: 910 | K18: 7000 | L18: 1202 | M18: 7000 | N18: 1246 | O18: =SMALL(E18:M18,COUNTIF(E18:M18,0)+1) -> 6500 | P18: 0 | Q18: 0 | R18: 0 | S18: 0 | T18: 0 | U18: 0 | V18: 0 | W18: 자재 14
A19: 5D8B367FBBD02458F63036651C329330DB8533 | B19: 자동복귀형 셀렉터스위치 | C19: 수동_자동 | D19: 개 | E19: 0 | G19: 0 | I19: 0 | K19: 3800 | L19: 1202 | M19: 3800 | N19: 1246 | O19: =SMALL(E19:M19,COUNTIF(E19:M19,0)+1) -> 3800 | P19: 0 | Q19: 0 | R19: 0 | S19: 0 | T19: 0 | U19: 0 | V19: 0 | W19: 자재 15
A20: 5D8B367FBBD02458F600681304ABC5BA46D60F | B20: 전자접촉기(개방형)AC용 | C20: (220V/380V)2.7/4kW | D20: 개 | E20: 12900 | F20: M081120 | G20: 12900 | H20: 1067 | I20: 12900 | J20: 902 | K20: 12900 | L20: 1144 | M20: 12900 | N20: 1237 | O20: =SMALL(E20:M20,COUNTIF(E20:M20,0)+1) -> 12900 | P20: 0 | Q20: 0 | R20: 0 | S20: 0 | T20: 0 | U20: 0 | V20: 0 | W20: 자재 16
A21: 5D8B367FBBD02458F61003E848E3F0EA32891A | B21: 신호등(LED) | C21: D25, AC 110/220V | D21: 개 | E21: 5800 | F21: M080446 | G21: 5800 | H21: 1089 | I21: 5800 | J21: 910 | K21: 5900 | L21: 1202 | M21: 5900 | N21: 1246 | O21: =SMALL(E21:M21,COUNTIF(E21:M21,0)+1) -> 5800 | P21: 0 | Q21: 0 | R21: 0 | S21: 0 | T21: 0 | U21: 0 | V21: 0 | W21: 자재 17
A22: 5D8B367FBBD02458F61003E848E3F0EA32891E | B22: FAULT LAMP | C22: SQUARE 난연성 | D22: 개 | E22: 0 | G22: 7300 | H22: 1089 | I22: 7300 | J22: 910 | K22: 6600 | L22: 1202 | M22: 6600 | N22: 1246 | O22: =SMALL(E22:M22,COUNTIF(E22:M22,0)+1) -> 6600 | P22: 0 | Q22: 0 | R22: 0 | S22: 0 | T22: 0 | U22: 0 | V22: 0 | W22: 자재 18
A23: 5D8B367FBBD02458CAC0BE6558D37D23C10D2B | B23: 누전차단기(ELCB) | C23: 분전반형, 2P 30AF | D23: 개 | E23: 12000 | F23: M081270 | G23: 13900 | H23: 1066 | I23: 13900 | J23: 901 | K23: 13900 | L23: 1161 | M23: 13900 | N23: 1230 | O23: =SMALL(E23:M23,COUNTIF(E23:M23,0)+1) -> 12000 | P23: 0 | Q23: 0 | R23: 0 | S23: 0 | T23: 0 | U23: 0 | V23: 0 | W23: 자재 19
A24: 5D8B367FBBD02458CAC0BE6558D37D23C10C1C | B24: 자동복귀 누전차단기 | C24: 220V 2P 30AF | D24: 개 | E24: 84000 | F24: M081261 | G24: 0 | I24: 0 | K24: 140000 | L24: 1162 | M24: 84000 | N24: 1229 | O24: =SMALL(E24:M24,COUNTIF(E24:M24,0)+1) -> 84000 | P24: 0 | Q24: 0 | R24: 0 | S24: 0 | T24: 0 | U24: 0 | V24: 0 | W24: 자재 20
A25: 5D8B367FBBD02458CAC0BCBB577B2C9B29C362 | B25: 배선용차단기(MCCB) | C25: 표준형 460V 2P 50AF | D25: 개 | E25: 36000 | F25: M081211 | G25: 40100 | H25: 1069 | I25: 40100 | J25: 895 | K25: 40100 | L25: 1154 | M25: 40100 | N25: 1231 | O25: =SMALL(E25:M25,COUNTIF(E25:M25,0)+1) -> 36000 | P25: 0 | Q25: 0 | R25: 0 | S25: 0 | T25: 0 | U25: 0 | V25: 0 | W25: 자재 21
A26: 5D8B367FBBD02458CAF00FD1E666800AF3467E | B26: SPD 외부분리기 | C26: CLASS Ⅱ, 2극 220V 80kA | D26: EA | E26: 0 | G26: 115200 | H26: 1071 | I26: 115200 | J26: 928 | K26: 115200 | L26: 1191 | M26: 115200 | N26: 1273 | O26: =SMALL(E26:M26,COUNTIF(E26:M26,0)+1) -> 115200 | P26: 0 | Q26: 0 | R26: 0 | S26: 0 | T26: 0 | U26: 0 | V26: 0 | W26: 자재 22
A27: 5DFE967EF580205FD980FA0299CD2A46727908 | B27: VPN | C27: 영상, 데이터용 | D27: 대 | E27: 0 | G27: 0 | I27: 0 | K27: 4000000 | L27: B사 | M27: 3500000 | N27: TIG | O27: =SMALL(E27:M27,COUNTIF(E27:M27,0)+1) -> 3500000 | P27: 0 | Q27: 0 | R27: 0 | S27: 0 | T27: 0 | U27: 0 | V27: 0 | W27: 자재 23
A28: 5DFEC63190002550EB0076CD8E2BA18E201A7C | B28: 부저 | C28: D65 AC110V/220V | D28: 개 | E28: 3800 | F28: M080540 | G28: 5100 | H28: 1089 | I28: 6300 | J28: 931 | K28: 5100 | L28: 1202 | M28: 5100 | N28: 1246 | O28: =SMALL(E28:M28,COUNTIF(E28:M28,0)+1) -> 3800 | P28: 0 | Q28: 0 | R28: 0 | S28: 0 | T28: 0 | U28: 0 | V28: 0 | W28: 자재 24
A29: 5A7506E70FB02750C970C9AD749F14B50D8FC0 | B29: 작업반장 | C29: 일반공사 직종 | D29: 인 | E29: 0 | G29: 0 | I29: 0 | K29: 0 | M29: 0 | O29: 0 | P29: 215907 | Q29: 0 | R29: 0 | S29: 0 | T29: 0 | U29: 0 | V29: 0 | W29: 노임 1 | Y29: B
A30: 5A7506E70FB02750C970C9AD749F14B50D8FC3 | B30: 보통인부 | C30: 일반공사 직종 | D30: 인 | E30: 0 | G30: 0 | I30: 0 | K30: 0 | M30: 0 | O30: 0 | P30: 172068 | Q30: 0 | R30: 0 | S30: 0 | T30: 0 | U30: 0 | V30: 0 | W30: 노임 2 | Y30: B
A31: 5A7506E70FB02750C970C9AD749F14B50D8FC2 | B31: 특별인부 | C31: 일반공사 직종 | D31: 인 | E31: 0 | G31: 0 | I31: 0 | K31: 0 | M31: 0 | O31: 0 | P31: 226122 | Q31: 0 | R31: 0 | S31: 0 | T31: 0 | U31: 0 | V31: 0 | W31: 노임 3 | Y31: B
A32: 5A7506E70FB02750C970C9AD749F14B50D8FC7 | B32: 비계공 | C32: 일반공사 직종 | D32: 인 | E32: 0 | G32: 0 | I32: 0 | K32: 0 | M32: 0 | O32: 0 | P32: 281939 | Q32: 0 | R32: 0 | S32: 0 | T32: 0 | U32: 0 | V32: 0 | W32: 노임 4 | Y32: B
A33: 5A7506E70FB02750C970C9AD749F14B50D8E3F | B33: 착암공 | C33: 일반공사 직종 | D33: 인 | E33: 0 | G33: 0 | I33: 0 | K33: 0 | M33: 0 | O33: 0 | P33: 222306 | Q33: 0 | R33: 0 | S33: 0 | T33: 0 | U33: 0 | V33: 0 | W33: 노임 5 | Y33: B
A34: 5A7506E70FB02750C970C9AD749F14B50D8C09 | B34: 줄눈공 | C34: 일반공사 직종 | D34: 인 | E34: 0 | G34: 0 | I34: 0 | K34: 0 | M34: 0 | O34: 0 | P34: 211653 | Q34: 0 | R34: 0 | S34: 0 | T34: 0 | U34: 0 | V34: 0 | W34: 노임 6 | Y34: B
A35: 5A7506E70FB02750C970C9AD749F14B50D8B6E | B35: 건설기계운전사 | C35: 일반공사 직종 | D35: 인 | E35: 0 | G35: 0 | I35: 0 | K35: 0 | M35: 0 | O35: 0 | P35: 283297 | Q35: 0 | R35: 0 | S35: 0 | T35: 0 | U35: 0 | V35: 0 | W35: 노임 7 | Y35: B
A36: 5A7506E70FB02750C970C9AD749F14B50D8B6F | B36: 화물차운전사 | C36: 일반공사 직종 | D36: 인 | E36: 0 | G36: 0 | I36: 0 | K36: 0 | M36: 0 | O36: 0 | P36: 238936 | Q36: 0 | R36: 0 | S36: 0 | T36: 0 | U36: 0 | V36: 0 | W36: 노임 8 | Y36: B
A37: 5A7506E70FB02750C970C9AD749F14B50D8A5F | B37: 일반기계운전사 | C37: 일반공사 직종 | D37: 인 | E37: 0 | G37: 0 | I37: 0 | K37: 0 | M37: 0 | O37: 0 | P37: 173995 | Q37: 0 | R37: 0 | S37: 0 | T37: 0 | U37: 0 | V37: 0 | W37: 노임 9 | Y37: B
A38: 5A7506E70FB02750C970C9AD749F14B50D8897 | B38: 내선전공 | C38: 일반공사 직종 | D38: 인 | E38: 0 | G38: 0 | I38: 0 | K38: 0 | M38: 0 | O38: 0 | P38: 273676 | Q38: 0 | R38: 0 | S38: 0 | T38: 0 | U38: 0 | V38: 0 | W38: 노임 10 | Y38: B
A39: 5A7506E70FB02750C970C9AD749F14B50D889A | B39: 저압케이블전공 | C39: 일반공사 직종 | D39: 인 | E39: 0 | G39: 0 | I39: 0 | K39: 0 | M39: 0 | O39: 0 | P39: 304156 | Q39: 0 | R39: 0 | S39: 0 | T39: 0 | U39: 0 | V39: 0 | W39: 노임 11 | Y39: B
A40: 5A7506E70FB02750C970C9AD749F14B50D878A | B40: 배전전공 | C40: 일반공사 직종 | D40: 인 | E40: 0 | G40: 0 | I40: 0 | K40: 0 | M40: 0 | O40: 0 | P40: 414968 | Q40: 0 | R40: 0 | S40: 0 | T40: 0 | U40: 0 | V40: 0 | W40: 노임 12 | Y40: B
...

Sheet 공량산출근거서
A1: 공 량 산 출 근 거 서
A2: [충주제천단양지사 물관리자동화시스템 정비보강용역공사 ]
A3: 코 드 | B3: 품 명 | C3: 규 격 | D3: 단위 | E3: 품 셈 목 록 | F3: 수 량 | G3: 할증 | H3: 노임할증-1 | I3: 노임할증-2 | J3: 노임할증-3 | K3: 내역수량 | L3: 직 종 명 | M3: 공 량 | N3: 계 | O3: 번 호 | P3: 비 고 | T3: 공종+자재 | V3: H/W시험사 | W3: S/W시험사
B4: A. 사급자재
B5: A. 사급자재 - 1. KRC-HMI 화면 작화
B6: A. 사급자재 - 2. 주요자재
A7: 5DFE967EF580205FD980FA0299CD2A46727908 | B7: VPN | C7: 영상, 데이터용 | D7: 대 | E7: 통신8-1-5 | F7: 1 | G7: 0 | K7: 1 | L7: H/W시험사 | M7: =0.39*(H7+100)/100*(I7+100)/100*(J7+100)/100 -> 0.39 | N7: =F7*M7 -> 0.39 | O7: 노임 18 | P7: 0.39*1 | Q7: 010102 | R7: 5A7506E70FB02750C970CAB3417ADAB8E73199 | S7: 0.39 | T7: 0101025DFE967EF580205FD980FA0299CD2A46727908 | V7: =N7 -> 0.39
L8: S/W시험사 | M8: =0.39*(H7+100)/100*(I7+100)/100*(J7+100)/100 -> 0.39 | N8: =F7*M8 -> 0.39 | O8: 노임 19 | P8: 0.39*1 | Q8: 010102 | R8: 5A7506E70FB02750C970CAB3417ADAB8E7319E | S8: 0.39 | T8: 0101025DFE967EF580205FD980FA0299CD2A46727908 | W8: =N8 -> 0.39
A9: 5A7506E70FB02750C970CAB3417ADAB8E73199 | B9: H/W시험사 | C9: 광전자 직종 | D9: 인 | F9: 0.39 | Q9: 010102 | T9: 0101025A7506E70FB02750C970CAB3417ADAB8E73199
A10: 5A7506E70FB02750C970CAB3417ADAB8E7319E | B10: S/W시험사 | C10: 광전자 직종 | D10: 인 | F10: 0.39 | Q10: 010102 | T10: 0101025A7506E70FB02750C970CAB3417ADAB8E7319E
B11: B. 자동화일반공사
B12: B. 자동화일반공사 - 1. 현장조치
B13: B. 자동화일반공사 - 2. 정비공사

Sheet 공량설정
A1: 공종명 | B1: 적용율(%) | C1: 소수점이하자릿수 | D1: 공종코드
A2: 010101 1. KRC-HMI 화면 작화 | B2: 100 | D2: 010101
A3: 010102 2. 주요자재 | B3: 100 | D3: 010102
A4: 010201 1. 현장조치 | B4: 100 | D4: 010201
A5: 010202 2. 정비공사 | B5: 100 | D5: 010202

Sheet 공량산출근거서_일위대가
A1: 공 량 산 출 근 거 서
A2: [충주제천단양지사 물관리자동화시스템 정비보강용역공사 ]
A3: 코 드 | B3: 품 명 | C3: 규 격 | D3: 단위 | E3: 품 셈 목 록 | F3: 수 량 | G3: 할증 | H3: 노임할증-1 | I3: 노임할증-2 | J3: 노임할증-3 | K3: 내역수량 | L3: 직 종 명 | M3: 공 량 | N3: 계 | O3: 번 호 | P3: 비 고 | T3: 일위대가목록+자재 | V3: 통신케이블공 | W3: 일반공사 직종 | X3: 내선전공 | Y3: 저압케이블전공 | Z3: 변전전공 | AA3: 보통인부 | AB3: H/W시험사 | AC3: 광전자 직종 | AD3: S/W시험사 | AE3: 통신설비공 | AF3: 무선안테나공 | AG3: 통신내선공 | AH3: 특별인부 | AI3: 통신외선공 | AJ3: 통신관련산업기사 | AK3: 기타 직종 | AL3: 착암공 | AM3: 배전전공 | AN3: 전선원 | AO3: 제조부문 | AP3: 전기기계조립원
B4: LAN케이블 UTP.CAT.6/CM EA (호표 9)
A5: 5A6496FE91702A5141309D15AE2D5F8ED9BBA1 | B5: LAN케이블 | C5: UTP.CAT.6/CM | D5: EA | E5: 통신품셈 4-3 | F5: 1 | G5: 0 | K5: 1 | L5: 통신케이블공 | M5: =0.15*(H5+100)/100*(I5+100)/100*(J5+100)/100 -> 0.15 | N5: =F5*M5 -> 0.15 | O5: 노임 16 | P5: 0.15*1 | Q5: 5AEFD64C42C02C596620B270564CCD | R5: 5A7506E70FB02750C970C9AD749F14B50D8782 | S5: 0.15 | T5: 5AEFD64C42C02C596620B270564CCD5A6496FE91702A5141309D15AE2D5F8ED9BBA1 | V5: =N5 -> 0.15
A6: 5A7506E70FB02750C970C9AD749F14B50D8782 | B6: 통신케이블공 | C6: 일반공사 직종 | D6: 인 | F6: =SUM(V5:V5) -> 0.15 | K6: =IF(TRUNC(F6*공량설정_일위대가!B25/100, 공량설정_일위대가!C26) = 0, TRUNC(F6*공량설정_일위대가!B25/100, 5), TRUNC(F6*공량설정_일위대가!B25/100, 공량설정_일위대가!C26)) -> 0.15 | O6: 노임 16 | Q6: 5AEFD64C42C02C596620B270564CCD | T6: 5AEFD64C42C02C596620B270564CCD5A7506E70FB02750C970C9AD749F14B50D8782
B7: 저독성난연가요폴리올레핀절연전선 HFIX 단선 2.5㎟ M (호표 10)
A8: 5A6496FE91702A5141309D15AE2D5F8EDA4B59 | B8: 저독성난연가교폴리올레핀절연전선 | C8: HFIX 2.5㎟ | D8: M | E8: 전기 5-10 | F8: 1.1 | K8: 1.1 | L8: 내선전공 | M8: =0.01*(H8+100)/100*(I8+100)/100*(J8+100)/100 -> 0.01 | N8: =F8*M8 -> 0.011 | O8: 노임 21 | P8: 0.01*1 | Q8: 5AEFD64C42C02C596620B270548683 | R8: 5A7506E70FB02750C970CD079E4CA1374BB702 | S8: 0.01 | T8: 5AEFD64C42C02C596620B2705486835A6496FE91702A5141309D15AE2D5F8EDA4B59 | X8: =N8 -> 0.011
A9: 5A7506E70FB02750C970CD079E4CA1374BB702 | B9: 내선전공 | C9: 일반공사 직종 | D9: 인 | F9: =SUM(X8:X8) -> 0.011 | K9: =IF(TRUNC(F9*공량설정_일위대가!B27/100, 공량설정_일위대가!C28) = 0, TRUNC(F9*공량설정_일위대가!B27/100, 5), TRUNC(F9*공량설정_일위대가!B27/100, 공량설정_일위대가!C28)) -> 0.011 | O9: 노임 21 | Q9: 5AEFD64C42C02C596620B270548683 | T9: 5AEFD64C42C02C596620B2705486835A7506E70FB02750C970CD079E4CA1374BB702
B10: 저독성난연가요폴리올레핀절연전선 HFIX 연선 4㎟ M (호표 11)
A11: 5A6496FE91702A5141309D15AE2D5F8EDA4B58 | B11: 저독성난연가교폴리올레핀절연전선 | C11: HFIX 4㎟ | D11: M | E11: 전기 5-10 | F11: 1.1 | G11: 0 | K11: 1.1 | L11: 내선전공 | M11: =0.01*(H11+100)/100*(I11+100)/100*(J11+100)/100 -> 0.01 | N11: =F11*M11 -> 0.011 | O11: 노임 21 | P11: 0.01*1 | Q11: 5AEFD64C42C02C596620B270548680 | R11: 5A7506E70FB02750C970CD079E4CA1374BB702 | S11: 0.01 | T11: 5AEFD64C42C02C596620B2705486805A6496FE91702A5141309D15AE2D5F8EDA4B58 | X11: =N11 -> 0.011
A12: 5A7506E70FB02750C970CD079E4CA1374BB702 | B12: 내선전공 | C12: 일반공사 직종 | D12: 인 | F12: =SUM(X11:X11) -> 0.011 | K12: =IF(TRUNC(F12*공량설정_일위대가!B29/100, 공량설정_일위대가!C30) = 0, TRUNC(F12*공량설정_일위대가!B29/100, 5), TRUNC(F12*공량설정_일위대가!B29/100, 공량설정_일위대가!C30)) -> 0.011 | O12: 노임 21 | Q12: 5AEFD64C42C02C596620B270548680 | T12: 5AEFD64C42C02C596620B2705486805A7506E70FB02750C970CD079E4CA1374BB702
B13: 접지선 F-GV 2.5㎟ M (호표 12)
A14: 5A6496FE91702A5141309D15AE2D5F8EDA4B52 | B14: 접지선 | C14: F-GV 2.5㎟ | D14: M | E14: 사전기 3-38 접지공 | F14: 1.1 | G14: 0 | K14: 1.1 | L14: 내선전공 | M14: =0.006*(H14+100)/100*(I14+100)/100*(J14+100)/100 -> 0.006 | N14: =F14*M14 -> 0.0066 | O14: 노임 21 | P14: 0.006*1 | Q14: 5AEFD64C42C02C596620B270548681 | R14: 5A7506E70FB02750C970CD079E4CA1374BB702 | S14: 0.006 | T14: 5AEFD64C42C02C596620B2705486815A6496FE91702A5141309D15AE2D5F8EDA4B52 | X14: =N14 -> 0.0066
A15: 5A7506E70FB02750C970CD079E4CA1374BB702 | B15: 내선전공 | C15: 일반공사 직종 | D15: 인 | F15: =SUM(X14:X14) -> 0.0066 | K15: =IF(TRUNC(F15*공량설정_일위대가!B31/100, 공량설정_일위대가!C32) = 0, TRUNC(F15*공량설정_일위대가!B31/100, 5), TRUNC(F15*공량설정_일위대가!B31/100, 공량설정_일위대가!C32)) -> 0.0066 | O15: 노임 21 | Q15: 5AEFD64C42C02C596620B270548681 | T15: 5AEFD64C42C02C596620B2705486815A7506E70FB02750C970CD079E4CA1374BB702
B16: 접지선 F-GV 4㎟ M (호표 13)
A17: 5A6496FE91702A5141309D15AE2D5F8EDA4B55 | B17: 접지선 | C17: F-GV 4㎟ | D17: M | E17: 전기 3-38 | F17: 1.1 | G17: 0 | K17: 1.1 | L17: 내선전공 | M17: =0.006*(H17+100)/100*(I17+100)/100*(J17+100)/100 -> 0.006 | N17: =F17*M17 -> 0.0066 | O17: 노임 21 | P17: 0.006*1 | Q17: 5AEFD64C42C02C596620B27054868E | R17: 5A7506E70FB02750C970CD079E4CA1374BB702 | S17: 0.006 | T17: 5AEFD64C42C02C596620B27054868E5A6496FE91702A5141309D15AE2D5F8EDA4B55 | X17: =N17 -> 0.0066
A18: 5A7506E70FB02750C970CD079E4CA1374BB702 | B18: 내선전공 | C18: 일반공사 직종 | D18: 인 | F18: =SUM(X17:X17) -> 0.0066 | K18: =IF(TRUNC(F18*공량설정_일위대가!B33/100, 공량설정_일위대가!C34) = 0, TRUNC(F18*공량설정_일위대가!B33/100, 5), TRUNC(F18*공량설정_일위대가!B33/100, 공량설정_일위대가!C34)) -> 0.0066 | O18: 노임 21 | Q18: 5AEFD64C42C02C596620B27054868E | T18: 5AEFD64C42C02C596620B27054868E5A7506E70FB02750C970CD079E4CA1374BB702
B19: 접지선 F-GV 6㎟ M (호표 14)
A20: 5A6496FE91702A5141309D15AE2D5F8EDA4B54 | B20: 접지선 | C20: F-GV 6㎟ | D20: M | E20: 전기 3-38 | F20: 1.1 | G20: 0 | K20: 1.1 | L20: 내선전공 | M20: =0.006*(H20+100)/100*(I20+100)/100*(J20+100)/100 -> 0.006 | N20: =F20*M20 -> 0.0066 | O20: 노임 21 | P20: 0.006*1 | Q20: 5AEFD64C42C02C596620B27054868F | R20: 5A7506E70FB02750C970CD079E4CA1374BB702 | S20: 0.006 | T20: 5AEFD64C42C02C596620B27054868F5A6496FE91702A5141309D15AE2D5F8EDA4B54 | X20: =N20 -> 0.0066
A21: 5A7506E70FB02750C970CD079E4CA1374BB702 | B21: 내선전공 | C21: 일반공사 직종 | D21: 인 | F21: =SUM(X20:X20) -> 0.0066 | K21: =IF(TRUNC(F21*공량설정_일위대가!B35/100, 공량설정_일위대가!C36) = 0, TRUNC(F21*공량설정_일위대가!B35/100, 5), TRUNC(F21*공량설정_일위대가!B35/100, 공량설정_일위대가!C36)) -> 0.0066 | O21: 노임 21 | Q21: 5AEFD64C42C02C596620B27054868F | T21: 5AEFD64C42C02C596620B27054868F5A7506E70FB02750C970CD079E4CA1374BB702
B22: 접지선 F-GV 25㎟ M (호표 15)
A23: 5A6496FE91702A5141309D15AE2D5F8EDA4B57 | B23: 접지선 | C23: F-GV 25㎟ | D23: M | E23: 전기 3-38 | F23: 1.1 | G23: 0 | K23: 1.1 | L23: 내선전공 | M23: =0.007*(H23+100)/100*(I23+100)/100*(J23+100)/100 -> 0.007 | N23: =F23*M23 -> 0.0077 | O23: 노임 21 | P23: 0.007*1 | Q23: 5AEFD64C42C02C596620B2705487AD | R23: 5A7506E70FB02750C970CD079E4CA1374BB702 | S23: 0.007 | T23: 5AEFD64C42C02C596620B2705487AD5A6496FE91702A5141309D15AE2D5F8EDA4B57 | X23: =N23 -> 0.0077
A24: 5A7506E70FB02750C970CD079E4CA1374BB702 | B24: 내선전공 | C24: 일반공사 직종 | D24: 인 | F24: =SUM(X23:X23) -> 0.0077 | K24: =IF(TRUNC(F24*공량설정_일위대가!B37/100, 공량설정_일위대가!C38) = 0, TRUNC(F24*공량설정_일위대가!B37/100, 5), TRUNC(F24*공량설정_일위대가!B37/100, 공량설정_일위대가!C38)) -> 0.0077 | O24: 노임 21 | Q24: 5AEFD64C42C02C596620B2705487AD | T24: 5AEFD64C42C02C596620B2705487AD5A7506E70FB02750C970CD079E4CA1374BB702
B25: 접지선 F-GV 70㎟ M (호표 16)
