Workbook
Name _12: #N/A
Name _13: #N/A
Name _2: #N/A
Name _3: #N/A
Name \c: #N/A
Name \d: #N/A
Name \e: #N/A
Name \i: #N/A
Name \j: #N/A
Name \l: #N/A
Name \n: #N/A
Name \u: #N/A
Name AB: #N/A
Name BG: #N/A
Name BL: #N/A
Name BLO: #N/A
Name BLT: #N/A
Name BVC: 자동화!BVC
Name C_: #N/A
Name DATA: #N/A
Name FDGDFGSGFGㅊㅍㅌ: 자동화!FDGDFGSGFGㅊㅍㅌ
Name HDATA: #N/A
Name HJㄹ: 자동화!HJㄹ
Name HTML_Control: {"'중기작업1'!$A$1:$V$18"}
Name IL: #N/A
Name KA: [3]MOTOR!$B$61:$E$68
Name MMD: #N/A
Name NNNNN: 자동화!NNNNN
Name T: #N/A
Name T2_: #N/A
Name VDATA: #N/A
Name 건설기계운전사: 56603
Name 건설기계조수: 43994
Name 건설기계조장: 68228
Name 계장공: 62012
Name 기계설치공: 57749
Name 깨기: {"'중기작업1'!$A$1:$V$18"}
Name ㄴㄴ: #N/A
Name 낙찰고산: [6]산수배수!$A$140:$M$140
Name 낙찰내촌: [6]산수배수!$A$140:$M$140
Name 낙찰총괄: [6]산수배수!$A$140:$M$140
Name 내선전공: 56143
Name ㄷㄷ: [7]공사비!$M$1:$M$65536
Name ㄷㅈㄱㅀㅇㅎ: 자동화!ㄷㅈㄱㅀㅇㅎ
Name 단가: [8]단가!$A$2:$I$505
Name 단가1: [9]단가!$B$2:$I$520
Name 단가일람: [8]단가일람!$A$3:$K$112
Name 도장공: 59780
Name ㄹㄹㄹㄹ: 자동화!ㄹㄹㄹㄹ
Name ㄹㅇㄹㅊㅊ: 자동화!ㄹㅇㄹㅊㅊ
Name ㄹ홀ㅇㄹㅇㅇ: 자동화!ㄹ홀ㅇㄹㅇㅇ
Name 무선안테나공: 95000
Name ㅂㅂㅂ: {"'중기작업1'!$A$1:$V$18"}
Name 방수공: 56597
Name 배관공: 60590
Name 배관자재중량: [10]단가!$C$51:$I$60
Name 배수로: {"'중기작업1'!$A$1:$V$18"}
Name 배전전공: 156907
Name 변경총괄: [6]산수배수!$L$3:$L$5
Name 보통인부: [11]노임단가!$C$50

Sheet 자동화
A1: 사업명 : 충주제천단양지사 물관리자동화시스템 점검정비 용역공사 단가계약 내역서
A2: 원 가 계 산 서
A6: 일금 : | C6: =J34 -> 10307000 | E6: 원
A7: 공 종 구 분 | G7: 충주제천단양지사 TM/TC | J7: 합 계 | K7: 비 고
B9: 재 | C9: 직 접 재 료 비 | G9: =공종별집계표!F5 -> 5434170 | J9: =SUM(G9:I9) -> 5434170
A10: 순 | B10: 료 | C10: 간 접 재 료 비
B11: 비 | C11: 소 계 | G11: =TRUNC(G9+G10, 0) -> 5434170 | J11: =SUM(G11:I11) -> 5434170
B12: 노 | C12: 직 접 노 무 비 | G12: =공종별집계표!H5 -> 1289205 | J12: =SUM(G12:I12) -> 1289205
A13: 공 | B13: 무 | C13: 간 접 노 무 비 | D13: ( | E13: 0.165 | F13: ) | G13: =TRUNC(G12*$E$13, 0) -> 212718 | J13: =SUM(G13:I13) -> 212718 | K13: ="직접노무비 * "&E13 -> 직접노무비 * 0.165
B14: 비 | C14: 소 계 | G14: =G12+G13 -> 1501923 | J14: =SUM(G14:I14) -> 1501923
C15: 경 비 | G15: =[19]공종별집계표!J7 -> 0 | J15: =SUM(G15:I15) -> 0
A16: 사 | C16: 산 재 보 험 료 | D16: ( | E16: 0.0356 | F16: ) | G16: =TRUNC(G14*$E$16, 0) -> 53468 | J16: =SUM(G16:I16) -> 53468 | K16: ="노무비 *"&E16 -> 노무비 *0.0356
C17: 고 용 보 험 료 | D17: ( | E17: 0.0101 | F17: ) | G17: =TRUNC(G14*$E$17, 0) -> 15169 | J17: =SUM(G17:I17) -> 15169 | K17: ="노무비 *"&E17 -> 노무비 *0.0101
B18: 경 | C18: 건 강 보 험 료 | D18: ( | E18: 0.03595 | F18: ) | G18: =INT(G12*3.6%) -> 46411 | J18: =SUM(G18:I18) -> 46411 | K18: ="직접노무비 * "&E18 -> 직접노무비 * 0.03595
A19: 비 | C19: 연 금 보 험 료 | D19: ( | E19: 0.0475 | F19: ) | G19: =INT(G12*4.75%) -> 61237 | J19: =SUM(G19:I19) -> 61237 | K19: ="직접노무비 *"&E19 -> 직접노무비 *0.0475
C20: 노인장기요양보험료 | D20: ( | E20: 0.1314 | F20: ) | G20: =INT(G18*13.14) -> 609840 | J20: =SUM(G20:I20) -> 609840 | K20: ="건강보험료 * "&E20 -> 건강보험료 * 0.1314
B21: 비 | C21: 퇴직공제부금비 | D21: ( | E21: 0.023 | F21: ) | G21: =INT(G12*2.3%) -> 29651 | J21: =SUM(G21:I21) -> 29651 | K21: ="직접노무비 *"&E21 -> 직접노무비 *0.023
C22: 안 전 관 리 비 | D22: ( | E22: 0.0311 | F22: ) | G22: =TRUNC((G11+G12)*$E$22*1.2,0) -> 250916 | J22: =SUM(G22:I22) -> 250916 | K22: ="(재료비+직노) *"&E22&"* 1.2" -> (재료비+직노) *0.0311* 1.2
C23: 안전관리기초액 | D23: ( | F23: ) | J23: =SUM(G23:I23) -> 0
C24: 기 타 경 비 | D24: ( | E24: 0.052 | F24: ) | G24: =TRUNC((G11+G14)*$E$24, 0) -> 360676 | J24: =SUM(G24:I24) -> 360676 | K24: ="(재료비+노무비) * "&E24 -> (재료비+노무비) * 0.052
C25: 소 계 | G25: =G15+G16+G17+G18+G19+G20+G21+G22+G23+G24 -> 1427368 | J25: =SUM(G25:I25) -> 1427368
C26: 계 | G26: =G11+G14+G25 -> 8363461 | J26: =SUM(G26:I26) -> 8363461
A27: 일 반 관 리 비 | D27: ( | E27: 0.06 | F27: ) | G27: =TRUNC(G26*$E$27, 0) -> 501807 | J27: =SUM(G27:I27) -> 501807 | K27: ="계 *"&E27 -> 계 *0.06
A28: 계 | G28: =G26+G27 -> 8865268 | J28: =SUM(G28:I28) -> 8865268
A29: 이 윤 | D29: ( | E29: 0.15 | F29: ) | G29: =(G14+G25+G27)*0.15 -> 514664.7 | J29: =SUM(G29:I29) -> 514664.7 | K29: ="(노무비+경비+일반관리비) * "&E29 -> (노무비+경비+일반관리비) * 0.15
A30: 공 급 가 액 | G30: =ROUNDDOWN((G28+G29),-4) -> 9370000 | J30: =SUM(G30:I30) -> 9370000
A31: 부 가 가 치 세 | D31: ( | E31: 0.1 | F31: ) | G31: =TRUNC((G30)*0.1, 0) -> 937000 | J31: =SUM(G31:I31) -> 937000 | K31: ="(공급가액+사급자재) * "&10% -> (공급가액+사급자재) * 0.1
A32: 합 계(A) | G32: =TRUNC(G30+G31, 0) -> 10307000 | J32: =SUM(G32:I32) -> 10307000
A33: 사 급 자 재(B) | G33: 0 | J33: =SUM(G33:I33) -> 0
A34: 총 공 사 비(A+B) | G34: =TRUNC(G32+G33, 0) -> 10307000 | J34: =SUM(G34:I34) -> 10307000

Sheet 공종별집계표
A1: 공 종 별 집 계 표
A2: [ 충주제천단양지사 물관리자동화시스템 정비보강용역공사 ]
A3: 품 명 | B3: 규 격 | C3: 단위 | D3: 수량 | E3: 재 료 비 | G3: 노 무 비 | I3: 경 비 | K3: 합 계 | M3: 비 고 | N3: 공종코드 | O3: 변수 | P3: 상위공종 | Q3: 공종구분 | R3: 공종레벨 | S3: 공종소계 | T3: 원가계산서 연결금액
E4: 단 가 | F4: 금 액 | G4: 단 가 | H4: 금 액 | I4: 단 가 | J4: 금 액 | K4: 단 가 | L4: 금 액
A5: 충주제천단양지사 물관리자동화시스템 정비보강용역공사 | D5: 1 | E5: =F9 -> 5434170 | F5: =E5*D5 -> 5434170 | G5: =H9 -> 1289205 | H5: =G5*D5 -> 1289205 | I5: =J9 -> 0 | J5: =I5*D5 -> 0 | K5: =E5+G5+I5 -> 6723375 | L5: =F5+H5+J5 -> 6723375 | N5: 01 | R5: 1
A6: A. 사급자재 | M6: VAT포함 | N6: 0101 | Q6: 9 | R6: 2 | T6: =L6*1 -> 0
A7: 1. KRC-HMI 화면 작화 | D7: 1 | E7: =공종별내역서!F27 -> 0 | F7: =E7*D7 -> 0 | G7: =공종별내역서!H27 -> 0 | H7: =G7*D7 -> 0 | I7: =공종별내역서!J27 -> 0 | J7: =I7*D7 -> 0 | K7: =E7+G7+I7 -> 0 | L7: =F7+H7+J7 -> 0 | N7: 010101 | P7: 0101 | R7: 3
A8: 1. 주요자재 | N8: 010102 | P8: 0101 | R8: 3
A9: B. 자동화일반공사 | D9: 1 | E9: =F10+F11 -> 5434170 | F9: =E9*D9 -> 5434170 | G9: =H10+H11 -> 1289205 | H9: =G9*D9 -> 1289205 | I9: =J10+J11 -> 0 | J9: =I9*D9 -> 0 | K9: =E9+G9+I9 -> 6723375 | L9: =F9+H9+J9 -> 6723375 | N9: 0102 | P9: 01 | R9: 2
A10: 1. 현장조치 | D10: 1 | E10: =공종별내역서!F75 -> 26582 | F10: =E10*D10 -> 26582 | G10: =공종별내역서!H75 -> 886200 | H10: =G10*D10 -> 886200 | I10: =공종별내역서!J75 -> 0 | J10: =I10*D10 -> 0 | K10: =E10+G10+I10 -> 912782 | L10: =F10+H10+J10 -> 912782 | N10: 010201 | P10: 0102 | R10: 3
A11: 2. 정비공사 | D11: 1 | E11: =공종별내역서!F315 -> 5407588 | F11: =E11*D11 -> 5407588 | G11: =공종별내역서!H315 -> 403005 | H11: =G11*D11 -> 403005 | I11: =공종별내역서!J315 -> 0 | J11: =I11*D11 -> 0 | K11: =E11+G11+I11 -> 5810593 | L11: =F11+H11+J11 -> 5810593 | N11: 010202 | P11: 0102 | R11: 3
A27: [ 합 계 ] | F27: =F5 -> 5434170 | H27: =H5 -> 1289205 | J27: =J5 -> 0 | L27: =L5 -> 6723375

Sheet 공종별내역서
A1: [ 충주제천단양지사 물관리자동화시스템 정비보강용역공사 ]
A2: 품 명 | B2: 규 격 | C2: 단위 | D2: 수량 | E2: 재 료 비 | G2: 노 무 비 | I2: 경 비 | K2: 합 계 | M2: 비 고 | N2: 품목코드 | O2: 변수 | P2: 설정 | Q2: 공종코드 | R2: 일위 | S2: 단산 | T2: 자재 | U2: 손료적용 | V2: 손료저장 | W2: 적용율 | X2: JUK1 | Y2: JUK2 | Z2: JUK3 | AA2: JUK4 | AB2: JUK5 | AC2: JUK6 | AD2: JUK7 | AE2: JUK8 | AF2: JUK9 | AG2: JUK10 | AH2: JUK11 | AI2: JUK12 | AJ2: JUK13 | AK2: JUK14 | AL2: JUK15 | AM2: JUK16 | AN2: JUK17 | AO2: JUK18 | AP2: JUK19 | AQ2: JUK20 | AR2: 자재구분 | AS2: 공종구분 | AT2: 공종레벨 | AU2: 공종+자재 | AV2: 고유번호
E3: 단 가 | F3: 금 액 | G3: 단 가 | H3: 금 액 | I3: 단 가 | J3: 금 액 | K3: 단 가 | L3: 금 액
A4: 1. KRC-HMI 화면 작화 | Q4: 010101
A5: KRC-HMI SOFTWARE FEE | B5: 표준화면 구성 | C5: 화면 | E5: =TRUNC(단가대비표!O75,0) -> 536000 | F5: =TRUNC(E5*D5, 0) -> 0 | G5: =TRUNC(단가대비표!P75,0) -> 0 | H5: =TRUNC(G5*D5, 0) -> 0 | I5: =TRUNC(단가대비표!V75,0) -> 0 | J5: =TRUNC(I5*D5, 0) -> 0 | K5: =TRUNC(E5+G5+I5, 0) -> 536000 | L5: =TRUNC(F5+H5+J5, 0) -> 0 | N5: 5A6496FE905023509A30821484B6C29815A243 | Q5: 010101 | R5: F | S5: F | T5: T | X5: 1 | AU5: 0101015A6496FE905023509A30821484B6C29815A243 | AV5: 29227
A6: KRC-HMI SOFTWARE FEE | B6: 레포트화면 구성 | C6: 화면 | E6: =TRUNC(단가대비표!O79,0) -> 659000 | F6: =TRUNC(E6*D6, 0) -> 0 | G6: =TRUNC(단가대비표!P79,0) -> 0 | H6: =TRUNC(G6*D6, 0) -> 0 | I6: =TRUNC(단가대비표!V79,0) -> 0 | J6: =TRUNC(I6*D6, 0) -> 0 | K6: =TRUNC(E6+G6+I6, 0) -> 659000 | L6: =TRUNC(F6+H6+J6, 0) -> 0 | N6: 5A6496FE90502350E2C00C437902B7D94585C9 | Q6: 010101 | R6: F | S6: F | T6: T | X6: 1 | AU6: 0101015A6496FE90502350E2C00C437902B7D94585C9 | AV6: 29228
A7: KRC-HMI SOFTWARE FEE | B7: 트렌드화면 구성 | C7: 화면 | E7: =TRUNC(단가대비표!O77,0) -> 658000 | F7: =TRUNC(E7*D7, 0) -> 0 | G7: =TRUNC(단가대비표!P77,0) -> 0 | H7: =TRUNC(G7*D7, 0) -> 0 | I7: =TRUNC(단가대비표!V77,0) -> 0 | J7: =TRUNC(I7*D7, 0) -> 0 | K7: =TRUNC(E7+G7+I7, 0) -> 658000 | L7: =TRUNC(F7+H7+J7, 0) -> 0 | N7: 5A6496FE905023509A20FC68289DD920559A4D | Q7: 010101 | R7: F | S7: F | T7: T | X7: 1 | AU7: 0101015A6496FE905023509A20FC68289DD920559A4D | AV7: 29229
A8: KRC-HMI SOFTWARE FEE | B8: 플랜트화면 구성 | C8: 화면 | E8: =TRUNC(단가대비표!O78,0) -> 895000 | F8: =TRUNC(E8*D8, 0) -> 0 | G8: =TRUNC(단가대비표!P78,0) -> 0 | H8: =TRUNC(G8*D8, 0) -> 0 | I8: =TRUNC(단가대비표!V78,0) -> 0 | J8: =TRUNC(I8*D8, 0) -> 0 | K8: =TRUNC(E8+G8+I8, 0) -> 895000 | L8: =TRUNC(F8+H8+J8, 0) -> 0 | N8: 5A6496FE90502350E2D013B5508DE35E311186 | Q8: 010101 | R8: F | S8: F | T8: T | X8: 1 | AU8: 0101015A6496FE90502350E2D013B5508DE35E311186 | AV8: 29230
A9: KRC-HMI 3D그래픽작업 | B9: 수원공:저수지, 양배수장 | C9: 화면 | E9: =TRUNC(단가대비표!O80,0) -> 896000 | F9: =TRUNC(E9*D9, 0) -> 0 | G9: =TRUNC(단가대비표!P80,0) -> 0 | H9: =TRUNC(G9*D9, 0) -> 0 | I9: =TRUNC(단가대비표!V80,0) -> 0 | J9: =TRUNC(I9*D9, 0) -> 0 | K9: =TRUNC(E9+G9+I9, 0) -> 896000 | L9: =TRUNC(F9+H9+J9, 0) -> 0 | N9: 5A6496FE90502350E2F0C0C9D1AEFFD26BE093 | Q9: 010101 | R9: F | S9: F | T9: T | X9: 1 | AU9: 0101015A6496FE90502350E2F0C0C9D1AEFFD26BE093 | AV9: 29231
A10: KRC-HMI 3D그래픽작업 | B10: 평야부:수로부 수문 | C10: 화면 | E10: =TRUNC(단가대비표!O81,0) -> 773000 | F10: =TRUNC(E10*D10, 0) -> 0 | G10: =TRUNC(단가대비표!P81,0) -> 0 | H10: =TRUNC(G10*D10, 0) -> 0 | I10: =TRUNC(단가대비표!V81,0) -> 0 | J10: =TRUNC(I10*D10, 0) -> 0 | K10: =TRUNC(E10+G10+I10, 0) -> 773000 | L10: =TRUNC(F10+H10+J10, 0) -> 0 | N10: 5A6496FE90502350E2E039B7217B3D5DD3E359 | Q10: 010101 | R10: F | S10: F | T10: T | X10: 1 | AU10: 0101015A6496FE90502350E2E039B7217B3D5DD3E359 | AV10: 29256
A11: KRC-HMI SOFTWARE FEE(본부) | B11: 표준화면 구성 | C11: 화면 | E11: =TRUNC(단가대비표!O76,0) -> 536000 | F11: =TRUNC(E11*D11, 0) -> 0 | G11: =TRUNC(단가대비표!P76,0) -> 0 | H11: =TRUNC(G11*D11, 0) -> 0 | I11: =TRUNC(단가대비표!V76,0) -> 0 | J11: =TRUNC(I11*D11, 0) -> 0 | K11: =TRUNC(E11+G11+I11, 0) -> 536000 | L11: =TRUNC(F11+H11+J11, 0) -> 0 | N11: 5A6496FE905023509A30821484B6C2993C4CA4 | Q11: 010101 | R11: F | S11: F | T11: T | X11: 1 | AU11: 0101015A6496FE905023509A30821484B6C2993C4CA4 | AV11: 29232
A12: TOMS 연계(본사-지사간) | B12: 본부-지사간 TOMS 연동 | C12: 화면 | E12: =TRUNC(단가대비표!O82,0) -> 536000 | F12: =TRUNC(E12*D12, 0) -> 0 | G12: =TRUNC(단가대비표!P82,0) -> 0 | H12: =TRUNC(G12*D12, 0) -> 0 | I12: =TRUNC(단가대비표!V82,0) -> 0 | J12: =TRUNC(I12*D12, 0) -> 0 | K12: =TRUNC(E12+G12+I12, 0) -> 536000 | L12: =TRUNC(F12+H12+J12, 0) -> 0 | N12: 5A6496FE90502350E290B8041238AE09F434C8 | Q12: 010101 | R12: F | S12: F | T12: T | X12: 1 | AU12: 0101015A6496FE90502350E290B8041238AE09F434C8 | AV12: 29233
A13: 소 계 | B13: 만단위 절사 | E13: 0 | F13: =TRUNC(SUM(F5:F12),-4) -> 0 | G13: 0 | H13: =SUM(H5:H12) -> 0 | I13: 0 | J13: =SUM(J5:J12) -> 0 | L13: =TRUNC(F13+H13+J13, 0) -> 0 | N13: 5B1396E1CAE0265832E05E076A16 | R13: F | S13: F | T13: F | AU13: 0101015B1396E1CAE0265832E05E076A16 | AV13: 29234
A14: [부가가치세] | B14: 소계의 10% | C14: 식 | D14: 1 | E14: =F13*0.1 -> 0 | F14: =TRUNC(E14*D14, 0) -> 0 | G14: 0 | H14: =TRUNC(G14*D14, 0) -> 0 | I14: 0 | J14: =TRUNC(I14*D14, 0) -> 0 | K14: =TRUNC(E14+G14+I14, 0) -> 0 | L14: =TRUNC(F14+H14+J14, 0) -> 0 | N14: 5BB376D29710225D52800F96EF9F001 | Q14: 010101 | R14: F | S14: F | T14: F | AU14: 0101015BB376D29710225D52800F96EF9F001 | AV14: 29235
Q15: 010101
Q16: 010101
Q17: 010101
Q18: 010101
Q19: 010101
Q20: 010101
Q21: 010101
Q22: 010101
Q23: 010101
Q24: 010101
Q25: 010101
Q26: 010101
A27: [ 합 계 ] | F27: 0 | H27: =SUMIF(Q5:Q26,"010101",H5:H26) -> 0 | J27: =SUMIF(Q5:Q26,"010101",J5:J26) -> 0 | L27: =SUMIF(Q5:Q26,"010101",L5:L26) -> 0 | N27: TOTAL
A28: 2. 주요자재 | Q28: 010102
A29: 원격제어반(양배수장) (제작율 적용) | B29: 옥내자립형(ST), 800(W)x2,350(H)x2,000(D) | C29: 면 | E29: =TRUNC(일위대가목록!E4,0) -> 17480580 | F29: =TRUNC(E29*D29, 0) -> 0 | G29: =TRUNC(일위대가목록!F4,0) -> 0 | H29: =TRUNC(G29*D29, 0) -> 0 | I29: =TRUNC(일위대가목록!G4,0) -> 0 | J29: =TRUNC(I29*D29, 0) -> 0 | K29: =TRUNC(E29+G29+I29, 0) -> 17480580 | L29: =TRUNC(F29+H29+J29, 0) -> 0 | M29: 호표 1 | N29: 5AEFD64C42C02C596620B27054807A | Q29: 010102 | R29: T | S29: F | T29: F | X29: 1 | AU29: 0101025AEFD64C42C02C596620B27054807A | AV29: 29507
A30: 원격제어반(수문) (제작율 적용) | B30: 옥외자립형(STS), 800(W)x1800(H)x600(D) | C30: 면 | E30: =TRUNC(일위대가목록!E5,0) -> 19428589 | F30: =TRUNC(E30*D30, 0) -> 0 | G30: =TRUNC(일위대가목록!F5,0) -> 0 | H30: =TRUNC(G30*D30, 0) -> 0 | I30: =TRUNC(일위대가목록!G5,0) -> 0 | J30: =TRUNC(I30*D30, 0) -> 0 | K30: =TRUNC(E30+G30+I30, 0) -> 19428589 | L30: =TRUNC(F30+H30+J30, 0) -> 0 | M30: 호표 2 | N30: 5AEFD64C42C02C596620B270548106 | Q30: 010102 | R30: T | S30: F | T30: F | X30: 1 | AU30: 0101025AEFD64C42C02C596620B270548106 | AV30: 29508
A31: VPN | B31: 영상, 데이터용 | C31: 대 | E31: =TRUNC(단가대비표!O27,0) -> 3500000 | F31: =TRUNC(E31*D31, 0) -> 0 | G31: =TRUNC(단가대비표!P27,0) -> 0 | H31: =TRUNC(G31*D31, 0) -> 0 | I31: =TRUNC(단가대비표!V27,0) -> 0 | J31: =TRUNC(I31*D31, 0) -> 0 | K31: =TRUNC(E31+G31+I31, 0) -> 3500000 | L31: =TRUNC(F31+H31+J31, 0) -> 0 | N31: 5DFE967EF580205FD980FA0299CD2A46727908 | Q31: 010102 | R31: F | S31: F | T31: T | X31: 1 | AU31: 0101025DFE967EF580205FD980FA0299CD2A46727908 | AV31: 29259
A32: 자동소화장치(설치비포함) | B32: HFC227ea 2kg(방호체적 3.6㎥) | C32: SET | E32: =TRUNC(단가대비표!O103,0) -> 1620000 | F32: =TRUNC(E32*D32, 0) -> 0 | G32: =TRUNC(단가대비표!P103,0) -> 0 | H32: =TRUNC(G32*D32, 0) -> 0 | I32: =TRUNC(단가대비표!V103,0) -> 0 | J32: =TRUNC(I32*D32, 0) -> 0 | K32: =TRUNC(E32+G32+I32, 0) -> 1620000 | L32: =TRUNC(F32+H32+J32, 0) -> 0 | N32: 5A6496FE91702A5141309D15AE2D5F8EDB691E | Q32: 010102 | R32: F | S32: F | T32: T | X32: 1 | AU32: 0101025A6496FE91702A5141309D15AE2D5F8EDB691E | AV32: 29261
A33: 서버컴퓨터(설치비 포함) | B33: Xeon GOLD 헥사코어 32G, SSD 1TB이상 | C33: EA | E33: =TRUNC(단가대비표!O104,0) -> 9926000 | F33: =TRUNC(E33*D33, 0) -> 0 | G33: =TRUNC(단가대비표!P104,0) -> 0 | H33: =TRUNC(G33*D33, 0) -> 0 | I33: =TRUNC(단가대비표!V104,0) -> 0 | J33: =TRUNC(I33*D33, 0) -> 0 | K33: =TRUNC(E33+G33+I33, 0) -> 9926000 | L33: =TRUNC(F33+H33+J33, 0) -> 0 | N33: 5A6496FE91702A5141309D15AE2D5F8EDB691F | Q33: 010102 | R33: F | S33: F | T33: T | X33: 1 | AU33: 0101025A6496FE91702A5141309D15AE2D5F8EDB691F | AV33: 29262
A34: 자동소화장치(설치비포함) | B34: HFC227ea 0.6kg(방호체적 1.6㎥) | C34: SET | E34: =TRUNC(단가대비표!O105,0) -> 1331000 | F34: =TRUNC(E34*D34, 0) -> 0 | G34: =TRUNC(단가대비표!P105,0) -> 0 | H34: =TRUNC(G34*D34, 0) -> 0 | I34: =TRUNC(단가대비표!V105,0) -> 0 | J34: =TRUNC(I34*D34, 0) -> 0 | K34: =TRUNC(E34+G34+I34, 0) -> 1331000 | L34: =TRUNC(F34+H34+J34, 0) -> 0 | N34: 5A6496FE91702A5141309D15AE2D5F8EDB691C | Q34: 010102 | R34: F | S34: F | T34: T | X34: 1 | AU34: 0101025A6496FE91702A5141309D15AE2D5F8EDB691C | AV34: 29263
A35: 워크스테이션(설치비 포함) | B35: Xeon GOLD 헥사코어 16G | C35: EA | E35: =TRUNC(단가대비표!O106,0) -> 9352000 | F35: =TRUNC(E35*D35, 0) -> 0 | G35: =TRUNC(단가대비표!P106,0) -> 0 | H35: =TRUNC(G35*D35, 0) -> 0 | I35: =TRUNC(단가대비표!V106,0) -> 0 | J35: =TRUNC(I35*D35, 0) -> 0 | K35: =TRUNC(E35+G35+I35, 0) -> 9352000 | L35: =TRUNC(F35+H35+J35, 0) -> 0 | N35: 5A6496FE91702A5141309D15AE2D5F8EDB691D | Q35: 010102 | R35: F | S35: F | T35: T | X35: 1 | AU35: 0101025A6496FE91702A5141309D15AE2D5F8EDB691D | AV35: 29264
A36: 모니터(설치비 포함) | B36: 27인치, FHD이상 | C36: EA | E36: =TRUNC(단가대비표!O107,0) -> 400000 | F36: =TRUNC(E36*D36, 0) -> 0 | G36: =TRUNC(단가대비표!P107,0) -> 0 | H36: =TRUNC(G36*D36, 0) -> 0 | I36: =TRUNC(단가대비표!V107,0) -> 0 | J36: =TRUNC(I36*D36, 0) -> 0 | K36: =TRUNC(E36+G36+I36, 0) -> 400000 | L36: =TRUNC(F36+H36+J36, 0) -> 0 | N36: 5A6496FE91702A5141309D15AE2D5F8EDB691A | Q36: 010102 | R36: F | S36: F | T36: T | X36: 1 | AU36: 0101025A6496FE91702A5141309D15AE2D5F8EDB691A | AV36: 29265
A37: 무정전전원장치(설치비포함) | B37: 단상 3kVA 백업 30분 | C37: EA | E37: =TRUNC(단가대비표!O110,0) -> 2900000 | F37: =TRUNC(E37*D37, 0) -> 0 | G37: =TRUNC(단가대비표!P110,0) -> 0 | H37: =TRUNC(G37*D37, 0) -> 0 | I37: =TRUNC(단가대비표!V110,0) -> 0 | J37: =TRUNC(I37*D37, 0) -> 0 | K37: =TRUNC(E37+G37+I37, 0) -> 2900000 | L37: =TRUNC(F37+H37+J37, 0) -> 0 | N37: 5A6496FE91702A5141309D15AE2D5F8EDB6919 | Q37: 010102 | R37: F | S37: F | T37: T | X37: 1 | AU37: 0101025A6496FE91702A5141309D15AE2D5F8EDB6919 | AV37: 29266
A38: 무정전전원장치(설치비포함) | B38: 단상 5kVA 백업 30분 | C38: EA | E38: =TRUNC(단가대비표!O111,0) -> 3098000 | F38: =TRUNC(E38*D38, 0) -> 0 | G38: =TRUNC(단가대비표!P111,0) -> 0 | H38: =TRUNC(G38*D38, 0) -> 0 | I38: =TRUNC(단가대비표!V111,0) -> 0 | J38: =TRUNC(I38*D38, 0) -> 0 | K38: =TRUNC(E38+G38+I38, 0) -> 3098000 | L38: =TRUNC(F38+H38+J38, 0) -> 0 | N38: 5A6496FE91702A5141309D15AE2D5F8EDB6916 | Q38: 010102 | R38: F | S38: F | T38: T | X38: 1 | AU38: 0101025A6496FE91702A5141309D15AE2D5F8EDB6916 | AV38: 29267
A39: 무정전전원장치(설치비포함) | B39: 단상 10kVA 백업 30분 | C39: EA | E39: =TRUNC(단가대비표!O112,0) -> 4620000 | F39: =TRUNC(E39*D39, 0) -> 0 | G39: =TRUNC(단가대비표!P112,0) -> 0 | H39: =TRUNC(G39*D39, 0) -> 0 | I39: =TRUNC(단가대비표!V112,0) -> 0 | J39: =TRUNC(I39*D39, 0) -> 0 | K39: =TRUNC(E39+G39+I39, 0) -> 4620000 | L39: =TRUNC(F39+H39+J39, 0) -> 0 | N39: 5A6496FE91702A5141309D15AE2D5F8EDB6917 | Q39: 010102 | R39: F | S39: F | T39: T | X39: 1 | AU39: 0101025A6496FE91702A5141309D15AE2D5F8EDB6917 | AV39: 29268
A40: 무정전전원장치(설치비포함) | B40: 단상 15kVA 백업 30분 | C40: EA | E40: =TRUNC(단가대비표!O113,0) -> 7470000 | F40: =TRUNC(E40*D40, 0) -> 0 | G40: =TRUNC(단가대비표!P113,0) -> 0 | H40: =TRUNC(G40*D40, 0) -> 0 | I40: =TRUNC(단가대비표!V113,0) -> 0 | J40: =TRUNC(I40*D40, 0) -> 0 | K40: =TRUNC(E40+G40+I40, 0) -> 7470000 | L40: =TRUNC(F40+H40+J40, 0) -> 0 | N40: 5A6496FE91702A5141309D15AE2D5F8EDB6877 | Q40: 010102 | R40: F | S40: F | T40: T | X40: 1 | AU40: 0101025A6496FE91702A5141309D15AE2D5F8EDB6877 | AV40: 29269
A41: 외함재질(가공비포함) | B41: KG당, STEEL(ST) | C41: KG | E41: =TRUNC(단가대비표!O294,0) -> 10880 | F41: =TRUNC(E41*D41, 0) -> 0 | G41: =TRUNC(단가대비표!P294,0) -> 0 | H41: =TRUNC(G41*D41, 0) -> 0 | I41: =TRUNC(단가대비표!V294,0) -> 0 | J41: =TRUNC(I41*D41, 0) -> 0 | K41: =TRUNC(E41+G41+I41, 0) -> 10880 | L41: =TRUNC(F41+H41+J41, 0) -> 0 | N41: 5A6496FE91702A5141309D15AE2D5F8ED9BBA2 | Q41: 010102 | R41: F | S41: F | T41: T | X41: 1 | AU41: 0101025A6496FE91702A5141309D15AE2D5F8ED9BBA2 | AV41: 29270
A42: 외함재질(가공비포함) | B42: KG당, STS | C42: KG | E42: =TRUNC(단가대비표!O295,0) -> 32000 | F42: =TRUNC(E42*D42, 0) -> 0 | G42: =TRUNC(단가대비표!P295,0) -> 0 | H42: =TRUNC(G42*D42, 0) -> 0 | I42: =TRUNC(단가대비표!V295,0) -> 0 | J42: =TRUNC(I42*D42, 0) -> 0 | K42: =TRUNC(E42+G42+I42, 0) -> 32000 | L42: =TRUNC(F42+H42+J42, 0) -> 0 | N42: 5A6496FE91702A5141309D15AE2D5F8ED9BBA3 | Q42: 010102 | R42: F | S42: F | T42: T | X42: 1 | AU42: 0101025A6496FE91702A5141309D15AE2D5F8ED9BBA3 | AV42: 29271
A43: 소 계 | B43: 만단위 절사 | E43: 0 | F43: =TRUNC(SUM(F29:F42),-3) -> 0 | G43: 0 | H43: =SUM(H29:H42) -> 0 | I43: 0 | J43: =SUM(J29:J42) -> 0 | L43: =TRUNC(F43+H43+J43, 0) -> 0 | N43: 5B1396E1CAE0265832E05E076A16 | R43: F | S43: F | T43: F | AU43: 0101025B1396E1CAE0265832E05E076A16 | AV43: 29272
A44: [부가가치세] | B44: 주재료비의 10% | C44: 식 | D44: 1 | E44: =F43*0.1 -> 0 | F44: =TRUNC(E44*D44, 0) -> 0 | G44: 0 | H44: =TRUNC(G44*D44, 0) -> 0 | I44: 0 | J44: =TRUNC(I44*D44, 0) -> 0 | K44: =TRUNC(E44+G44+I44, 0) -> 0 | L44: =TRUNC(F44+H44+J44, 0) -> 0 | N44: 5BB376D29710225D52800F96EF9F001 | Q44: 010102 | R44: F | S44: F | T44: F | AU44: 0101025BB376D29710225D52800F96EF9F001 | AV44: 29273
Q45: 010102
Q46: 010102
Q47: 010102
Q48: 010102
Q49: 010102
Q50: 010102
A51: [ 합 계 ] | F51: =SUM(F43:F44) -> 0 | H51: =SUMIF(Q29:Q50,"010102",H29:H50) -> 0 | J51: =SUMIF(Q29:Q50,"010102",J29:J50) -> 0 | L51: =SUM(L43:L44) -> 0 | N51: TOTAL
A52: 1. 현장조치 | Q52: 010201
A53: 영상관제장치 점검 | B53: 9-4-17 디지털 사이니지 | C53: 대 | D53: 1 | E53: =TRUNC(일위대가목록!E6,0) -> 9235 | F53: =TRUNC(E53*D53, 0) -> 9235 | G53: =TRUNC(일위대가목록!F6,0) -> 307854 | H53: =TRUNC(G53*D53, 0) -> 307854 | I53: =TRUNC(일위대가목록!G6,0) -> 0 | J53: =TRUNC(I53*D53, 0) -> 0 | K53: =TRUNC(E53+G53+I53, 0) -> 317089 | L53: =TRUNC(F53+H53+J53, 0) -> 317089 | M53: 호표 3 | N53: 5AEFD64C42C02C596620B270548686 | Q53: 010201 | R53: T | S53: F | T53: F | AU53: 0102015AEFD64C42C02C596620B270548686 | AV53: 29274
A54: 자동화시설 현장조치 | B54: 1일 1개소 조치비용 | C54: EA | D54: 1 | E54: =TRUNC(일위대가목록!E7,0) -> 8069 | F54: =TRUNC(E54*D54, 0) -> 8069 | G54: =TRUNC(일위대가목록!F7,0) -> 268991 | H54: =TRUNC(G54*D54, 0) -> 268991 | I54: =TRUNC(일위대가목록!G7,0) -> 0 | J54: =TRUNC(I54*D54, 0) -> 0 | K54: =TRUNC(E54+G54+I54, 0) -> 277060 | L54: =TRUNC(F54+H54+J54, 0) -> 277060 | M54: 호표 4 | N54: 5AEFD64C42C02C596620B270548B0C | Q54: 010201 | R54: T | S54: F | T54: F | AU54: 0102015AEFD64C42C02C596620B270548B0C | AV54: 29275
A55: 자동화시설 현장조치 | B55: 2번째 이상 개소당 조치비용 | C55: EA | D55: 1 | E55: =TRUNC(일위대가목록!E8,0) -> 2219 | F55: =TRUNC(E55*D55, 0) -> 2219 | G55: =TRUNC(일위대가목록!F8,0) -> 73972 | H55: =TRUNC(G55*D55, 0) -> 73972 | I55: =TRUNC(일위대가목록!G8,0) -> 0 | J55: =TRUNC(I55*D55, 0) -> 0 | K55: =TRUNC(E55+G55+I55, 0) -> 76191 | L55: =TRUNC(F55+H55+J55, 0) -> 76191 | M55: 호표 5 | N55: 5AEFD64C42C02C596620B270548B0D | Q55: 010201 | R55: T | S55: F | T55: F | AU55: 0102015AEFD64C42C02C596620B270548B0D | AV55: 29276
A56: 중앙관리소 현장조치 | B56: 컴퓨터 장비 | C56: HR | D56: 1 | E56: =TRUNC(일위대가목록!E9,0) -> 2353 | F56: =TRUNC(E56*D56, 0) -> 2353 | G56: =TRUNC(일위대가목록!F9,0) -> 78461 | H56: =TRUNC(G56*D56, 0) -> 78461 | I56: =TRUNC(일위대가목록!G9,0) -> 0 | J56: =TRUNC(I56*D56, 0) -> 0 | K56: =TRUNC(E56+G56+I56, 0) -> 80814 | L56: =TRUNC(F56+H56+J56, 0) -> 80814 | M56: 호표 6 | N56: 5AEFD64C42C02C596620B270548B0E | Q56: 010201 | R56: T | S56: F | T56: F | AU56: 0102015AEFD64C42C02C596620B270548B0E | AV56: 29277
A57: 중앙관리소 현장조치 | B57: HMI S/W | C57: HR | D57: 1 | E57: =TRUNC(일위대가목록!E10,0) -> 2353 | F57: =TRUNC(E57*D57, 0) -> 2353 | G57: =TRUNC(일위대가목록!F10,0) -> 78461 | H57: =TRUNC(G57*D57, 0) -> 78461 | I57: =TRUNC(일위대가목록!G10,0) -> 0 | J57: =TRUNC(I57*D57, 0) -> 0 | K57: =TRUNC(E57+G57+I57, 0) -> 80814 | L57: =TRUNC(F57+H57+J57, 0) -> 80814 | M57: 호표 7 | N57: 5AEFD64C42C02C596620B270548B00 | Q57: 010201 | R57: T | S57: F | T57: F | AU57: 0102015AEFD64C42C02C596620B270548B00 | AV57: 29278
A58: 중앙관리소 현장조치 | B58: CCTV S/W | C58: HR | D58: 1 | E58: =TRUNC(일위대가목록!E11,0) -> 2353 | F58: =TRUNC(E58*D58, 0) -> 2353 | G58: =TRUNC(일위대가목록!F11,0) -> 78461 | H58: =TRUNC(G58*D58, 0) -> 78461 | I58: =TRUNC(일위대가목록!G11,0) -> 0 | J58: =TRUNC(I58*D58, 0) -> 0 | K58: =TRUNC(E58+G58+I58, 0) -> 80814 | L58: =TRUNC(F58+H58+J58, 0) -> 80814 | M58: 호표 8 | N58: 5AEFD64C42C02C596620B270548B01 | Q58: 010201 | R58: T | S58: F | T58: F | AU58: 0102015AEFD64C42C02C596620B270548B01 | AV58: 29279
Q59: 010201
Q60: 010201
Q61: 010201
Q62: 010201
Q63: 010201
Q64: 010201
Q65: 010201
Q66: 010201
Q67: 010201
Q68: 010201
Q69: 010201
Q70: 010201
... Q74: 010201
A75: [ 합 계 ] | F75: =SUMIF(Q53:Q74,"010201",F53:F74) -> 26582 | H75: =SUMIF(Q53:Q74,"010201",H53:H74) -> 886200 | J75: =SUMIF(Q53:Q74,"010201",J53:J74) -> 0 | L75: =SUMIF(Q53:Q74,"010201",L53:L74) -> 912782 | N75: TOTAL
A76: 2. 정비공사 | Q76: 010202
A77: DOOR STOPPER | B77: STS | C77: 개 | E77: =TRUNC(단가대비표!O68,0) -> 10000 | F77: =TRUNC(E77*D77, 0) -> 0 | G77: =TRUNC(단가대비표!P68,0) -> 0 | H77: =TRUNC(G77*D77, 0) -> 0 | I77: =TRUNC(단가대비표!V68,0) -> 0 | J77: =TRUNC(I77*D77, 0) -> 0 | K77: =TRUNC(E77+G77+I77, 0) -> 10000 | L77: =TRUNC(F77+H77+J77, 0) -> 0 | N77: 5A6496F1D580255B9550A452086BBBF3CC7B52 | Q77: 010202 | R77: F | S77: F | T77: T | AU77: 0102025A6496F1D580255B9550A452086BBBF3CC7B52 | AV77: 29281
A78: RTU SOFTWARE FEE | B78: DIGITAL INPUT/OUTPUT | C78: 점 | E78: =TRUNC(단가대비표!O85,0) -> 63000 | F78: =TRUNC(E78*D78, 0) -> 0 | G78: =TRUNC(단가대비표!P85,0) -> 0 | H78: =TRUNC(G78*D78, 0) -> 0 | I78: =TRUNC(단가대비표!V85,0) -> 0 | J78: =TRUNC(I78*D78, 0) -> 0 | K78: =TRUNC(E78+G78+I78, 0) -> 63000 | L78: =TRUNC(F78+H78+J78, 0) -> 0 | N78: 5A6496FE90502C56E4B07473D52665315B95FE | Q78: 010202 | R78: F | S78: F | T78: T | AU78: 0102025A6496FE90502C56E4B07473D52665315B95FE | AV78: 29282
A79: RTU SOFTWARE FEE | B79: ANALOG INPUT/OUTPUT | C79: 점 | E79: =TRUNC(단가대비표!O86,0) -> 126000 | F79: =TRUNC(E79*D79, 0) -> 0 | G79: =TRUNC(단가대비표!P86,0) -> 0 | H79: =TRUNC(G79*D79, 0) -> 0 | I79: =TRUNC(단가대비표!V86,0) -> 0 | J79: =TRUNC(I79*D79, 0) -> 0 | K79: =TRUNC(E79+G79+I79, 0) -> 126000 | L79: =TRUNC(F79+H79+J79, 0) -> 0 | N79: 5A6496FE90502C56E4A06D01FEBB90887DA051 | Q79: 010202 | R79: F | S79: F | T79: T | AU79: 0102025A6496FE90502C56E4A06D01FEBB90887DA051 | AV79: 29283
A80: RTU SOFTWARE FEE | B80: 통신(RS-232/485/이더넷) | C80: 점 | E80: =TRUNC(단가대비표!O87,0) -> 379000 | F80: =TRUNC(E80*D80, 0) -> 0 | G80: =TRUNC(단가대비표!P87,0) -> 0 | H80: =TRUNC(G80*D80, 0) -> 0 | I80: =TRUNC(단가대비표!V87,0) -> 0 | J80: =TRUNC(I80*D80, 0) -> 0 | K80: =TRUNC(E80+G80+I80, 0) -> 379000 | L80: =TRUNC(F80+H80+J80, 0) -> 0 | N80: 5A6496FE90502C56E4A06D01FEBB9089047230 | Q80: 010202 | R80: F | S80: F | T80: T | AU80: 0102025A6496FE90502C56E4A06D01FEBB9089047230 | AV80: 29284
A81: 전원 모듈(PLC) | B81: DC 5V/24V, 3.5A 이상 | C81: 개 | E81: =TRUNC(단가대비표!O88,0) -> 188000 | F81: =TRUNC(E81*D81, 0) -> 0 | G81: =TRUNC(단가대비표!P88,0) -> 0 | H81: =TRUNC(G81*D81, 0) -> 0 | I81: =TRUNC(단가대비표!V88,0) -> 0 | J81: =TRUNC(I81*D81, 0) -> 0 | K81: =TRUNC(E81+G81+I81, 0) -> 188000 | L81: =TRUNC(F81+H81+J81, 0) -> 0 | N81: 5A6496FE90502D50DFF0E30B8687E1ACD6E3A8 | Q81: 010202 | R81: F | S81: F | T81: T | AU81: 0102025A6496FE90502D50DFF0E30B8687E1ACD6E3A8 | AV81: 29285
A82: CPU 모듈(PLC) | B82: 84ns/Step 이하, 3,000점 이상 | C82: 개 | D82: 1 | E82: =TRUNC(단가대비표!O89,0) -> 969000 | F82: =TRUNC(E82*D82, 0) -> 969000 | G82: =TRUNC(단가대비표!P89,0) -> 0 | H82: =TRUNC(G82*D82, 0) -> 0 | I82: =TRUNC(단가대비표!V89,0) -> 0 | J82: =TRUNC(I82*D82, 0) -> 0 | K82: =TRUNC(E82+G82+I82, 0) -> 969000 | L82: =TRUNC(F82+H82+J82, 0) -> 969000 | N82: 5A6496FE90502D50DFE0DD2021F41DDD2474F8 | Q82: 010202 | R82: F | S82: F | T82: T | AU82: 0102025A6496FE90502D50DFE0DD2021F41DDD2474F8 | AV82: 29286
A83: 통신 모듈(PLC) | B83: ETHERNET, TCP/IP | C83: 개 | D83: 1 | E83: =TRUNC(단가대비표!O90,0) -> 1064000 | F83: =TRUNC(E83*D83, 0) -> 1064000 | G83: =TRUNC(단가대비표!P90,0) -> 0 | H83: =TRUNC(G83*D83, 0) -> 0 | I83: =TRUNC(단가대비표!V90,0) -> 0 | J83: =TRUNC(I83*D83, 0) -> 0 | K83: =TRUNC(E83+G83+I83, 0) -> 1064000 | L83: =TRUNC(F83+H83+J83, 0) -> 1064000 | N83: 5A6496FE90502D50DFC02F86F5DDBB51BC03FA | Q83: 010202 | R83: F | S83: F | T83: T | AU83: 0102025A6496FE90502D50DFC02F86F5DDBB51BC03FA | AV83: 29287
A84: 통신 모듈(PLC) | B84: RS-232C, RS-422/485 | C84: 개 | D84: 1 | E84: =TRUNC(단가대비표!O91,0) -> 423000 | F84: =TRUNC(E84*D84, 0) -> 423000 | G84: =TRUNC(단가대비표!P91,0) -> 0 | H84: =TRUNC(G84*D84, 0) -> 0 | I84: =TRUNC(단가대비표!V91,0) -> 0 | J84: =TRUNC(I84*D84, 0) -> 0 | K84: =TRUNC(E84+G84+I84, 0) -> 423000 | L84: =TRUNC(F84+H84+J84, 0) -> 423000 | N84: 5A6496FE90502D50DFB008FC4BDF0F5E054139 | Q84: 010202 | R84: F | S84: F | T84: T | AU84: 0102025A6496FE90502D50DFB008FC4BDF0F5E054139 | AV84: 29288
A85: 디지털 입력 모듈 (PLC) | B85: 32P | C85: 개 | E85: =TRUNC(단가대비표!O92,0) -> 223000 | F85: =TRUNC(E85*D85, 0) -> 0 | G85: =TRUNC(단가대비표!P92,0) -> 0 | H85: =TRUNC(G85*D85, 0) -> 0 | I85: =TRUNC(단가대비표!V92,0) -> 0 | J85: =TRUNC(I85*D85, 0) -> 0 | K85: =TRUNC(E85+G85+I85, 0) -> 223000 | L85: =TRUNC(F85+H85+J85, 0) -> 0 | N85: 5A6496FE90502D50DF905B27B54BC6D9E714FC | Q85: 010202 | R85: F | S85: F | T85: T | AU85: 0102025A6496FE90502D50DF905B27B54BC6D9E714FC | AV85: 29289
A86: 디지털 입력 모듈 (PLC) | B86: 162P | C86: 개 | E86: =TRUNC(단가대비표!O93,0) -> 135000 | F86: =TRUNC(E86*D86, 0) -> 0 | G86: =TRUNC(단가대비표!P93,0) -> 0 | H86: =TRUNC(G86*D86, 0) -> 0 | I86: =TRUNC(단가대비표!V93,0) -> 0 | J86: =TRUNC(I86*D86, 0) -> 0 | K86: =TRUNC(E86+G86+I86, 0) -> 135000 | L86: =TRUNC(F86+H86+J86, 0) -> 0 | N86: 5A6496FE90502D50DF905B27B54BC6D9E714FD | Q86: 010202 | R86: F | S86: F | T86: T | AU86: 0102025A6496FE90502D50DF905B27B54BC6D9E714FD | AV86: 29290
A87: 디지털 출력 모듈 (PLC) | B87: 16P, 릴레이 출력 | C87: 개 | E87: =TRUNC(단가대비표!O94,0) -> 162000 | F87: =TRUNC(E87*D87, 0) -> 0 | G87: =TRUNC(단가대비표!P94,0) -> 0 | H87: =TRUNC(G87*D87, 0) -> 0 | I87: =TRUNC(단가대비표!V94,0) -> 0 | J87: =TRUNC(I87*D87, 0) -> 0 | K87: =TRUNC(E87+G87+I87, 0) -> 162000 | L87: =TRUNC(F87+H87+J87, 0) -> 0 | N87: 5A6496FE90502D50DF6087489511117656A8BC | Q87: 010202 | R87: F | S87: F | T87: T | AU87: 0102025A6496FE90502D50DF6087489511117656A8BC | AV87: 29291
A88: 디지털 출력 모듈 (PLC) | B88: 32P, 트렌지스터 출력 | C88: 개 | E88: =TRUNC(단가대비표!O95,0) -> 255000 | F88: =TRUNC(E88*D88, 0) -> 0 | G88: =TRUNC(단가대비표!P95,0) -> 0 | H88: =TRUNC(G88*D88, 0) -> 0 | I88: =TRUNC(단가대비표!V95,0) -> 0 | J88: =TRUNC(I88*D88, 0) -> 0 | K88: =TRUNC(E88+G88+I88, 0) -> 255000 | L88: =TRUNC(F88+H88+J88, 0) -> 0 | N88: 5A6496FE90502D50DF6087489511117656A8BD | Q88: 010202 | R88: F | S88: F | T88: T | AU88: 0102025A6496FE90502D50DF6087489511117656A8BD | AV88: 29292
A89: 아날로그 입력 모듈 (PLC) | B89: 8P | C89: 개 | E89: =TRUNC(단가대비표!O96,0) -> 865000 | F89: =TRUNC(E89*D89, 0) -> 0 | G89: =TRUNC(단가대비표!P96,0) -> 0 | H89: =TRUNC(G89*D89, 0) -> 0 | I89: =TRUNC(단가대비표!V96,0) -> 0 | J89: =TRUNC(I89*D89, 0) -> 0 | K89: =TRUNC(E89+G89+I89, 0) -> 865000 | L89: =TRUNC(F89+H89+J89, 0) -> 0 | N89: 5A6496FE90502D50CD80DA4967E6A3B63383A3 | Q89: 010202 | R89: F | S89: F | T89: T | AU89: 0102025A6496FE90502D50CD80DA4967E6A3B63383A3 | AV89: 29293
A90: 아날로그 입력 모듈 (PLC) | B90: 16P | C90: 개 | E90: =TRUNC(단가대비표!O97,0) -> 1298000 | F90: =TRUNC(E90*D90, 0) -> 0 | G90: =TRUNC(단가대비표!P97,0) -> 0 | H90: =TRUNC(G90*D90, 0) -> 0 | I90: =TRUNC(단가대비표!V97,0) -> 0 | J90: =TRUNC(I90*D90, 0) -> 0 | K90: =TRUNC(E90+G90+I90, 0) -> 1298000 | L90: =TRUNC(F90+H90+J90, 0) -> 0 | N90: 5A6496FE90502D50CD80DA4967E6A3B63383A2 | Q90: 010202 | R90: F | S90: F | T90: T | AU90: 0102025A6496FE90502D50CD80DA4967E6A3B63383A2 | AV90: 29294
A91: DUMMY MODULE (PLC) | B91: 전원 Slot 방진 | C91: 개 | E91: =TRUNC(단가대비표!O98,0) -> 11000 | F91: =TRUNC(E91*D91, 0) -> 0 | G91: =TRUNC(단가대비표!P98,0) -> 0 | H91: =TRUNC(G91*D91, 0) -> 0 | I91: =TRUNC(단가대비표!V98,0) -> 0 | J91: =TRUNC(I91*D91, 0) -> 0 | K91: =TRUNC(E91+G91+I91, 0) -> 11000 | L91: =TRUNC(F91+H91+J91, 0) -> 0 | N91: 5A6496FE90502D50CD80DA4967E6A3B7DACB6F | Q91: 010202 | R91: F | S91: F | T91: T | AU91: 0102025A6496FE90502D50CD80DA4967E6A3B7DACB6F | AV91: 29295
A92: 기본, 증설 베이스(PLC) | B92: 8모듈 장착용 | C92: 개 | E92: =TRUNC(단가대비표!O99,0) -> 253000 | F92: =TRUNC(E92*D92, 0) -> 0 | G92: =TRUNC(단가대비표!P99,0) -> 0 | H92: =TRUNC(G92*D92, 0) -> 0 | I92: =TRUNC(단가대비표!V99,0) -> 0 | J92: =TRUNC(I92*D92, 0) -> 0 | K92: =TRUNC(E92+G92+I92, 0) -> 253000 | L92: =TRUNC(F92+H92+J92, 0) -> 0 | N92: 5A6496FE90502D50CDA0871EBE8F5F6ACEECE5 | Q92: 010202 | R92: F | S92: F | T92: T | AU92: 0102025A6496FE90502D50CDA0871EBE8F5F6ACEECE5 | AV92: 29296
A93: 기본, 증설 베이스(PLC) | B93: 12모듈 장착용 | C93: 개 | E93: =TRUNC(단가대비표!O100,0) -> 322000 | F93: =TRUNC(E93*D93, 0) -> 0 | G93: =TRUNC(단가대비표!P100,0) -> 0 | H93: =TRUNC(G93*D93, 0) -> 0 | I93: =TRUNC(단가대비표!V100,0) -> 0 | J93: =TRUNC(I93*D93, 0) -> 0 | K93: =TRUNC(E93+G93+I93, 0) -> 322000 | L93: =TRUNC(F93+H93+J93, 0) -> 0 | N93: 5A6496FE90502D50CDB0AE27611D20F1DD6DAF | Q93: 010202 | R93: F | S93: F | T93: T | AU93: 0102025A6496FE90502D50CDB0AE27611D20F1DD6DAF | AV93: 29297
A94: 증설 케이블(PLC) | B94: 0.6M | C94: 개 | E94: =TRUNC(단가대비표!O101,0) -> 84000 | F94: =TRUNC(E94*D94, 0) -> 0 | G94: =TRUNC(단가대비표!P101,0) -> 0 | H94: =TRUNC(G94*D94, 0) -> 0 | I94: =TRUNC(단가대비표!V101,0) -> 0 | J94: =TRUNC(I94*D94, 0) -> 0 | K94: =TRUNC(E94+G94+I94, 0) -> 84000 | L94: =TRUNC(F94+H94+J94, 0) -> 0 | N94: 5A6496FE90502D50CDB0AE27611D20F1DD6DAE | Q94: 010202 | R94: F | S94: F | T94: T | AU94: 0102025A6496FE90502D50CDB0AE27611D20F1DD6DAE | AV94: 29298
A95: 증설 베이스(PLC) | B95: Ethernet Port | C95: 개 | E95: =TRUNC(단가대비표!O102,0) -> 641000 | F95: =TRUNC(E95*D95, 0) -> 0 | G95: =TRUNC(단가대비표!P102,0) -> 0 | H95: =TRUNC(G95*D95, 0) -> 0 | I95: =TRUNC(단가대비표!V102,0) -> 0 | J95: =TRUNC(I95*D95, 0) -> 0 | K95: =TRUNC(E95+G95+I95, 0) -> 641000 | L95: =TRUNC(F95+H95+J95, 0) -> 0 | N95: 5A6496FE90502D50CDB0AE27611D20F1DD6DAD | Q95: 010202 | R95: F | S95: F | T95: T | AU95: 0102025A6496FE90502D50CDB0AE27611D20F1DD6DAD | AV95: 29299
A96: 광점퍼코드 | B96: 3M | C96: EA | E96: =TRUNC(단가대비표!O133,0) -> 10000 | F96: =TRUNC(E96*D96, 0) -> 0 | G96: =TRUNC(단가대비표!P133,0) -> 0 | H96: =TRUNC(G96*D96, 0) -> 0 | I96: =TRUNC(단가대비표!V133,0) -> 0 | J96: =TRUNC(I96*D96, 0) -> 0 | K96: =TRUNC(E96+G96+I96, 0) -> 10000 | L96: =TRUNC(F96+H96+J96, 0) -> 0 | N96: 5A6496FE91702A5141309D15AE2D5F8EDB6A20 | Q96: 010202 | R96: F | S96: F | T96: T | AU96: 0102025A6496FE91702A5141309D15AE2D5F8EDB6A20 | AV96: 29300
A97: G.B JUMPER | B97: 25㎟ | C97: EA | E97: =TRUNC(단가대비표!O135,0) -> 1610 | F97: =TRUNC(E97*D97, 0) -> 0 | G97: =TRUNC(단가대비표!P135,0) -> 0 | H97: =TRUNC(G97*D97, 0) -> 0 | I97: =TRUNC(단가대비표!V135,0) -> 0 | J97: =TRUNC(I97*D97, 0) -> 0 | K97: =TRUNC(E97+G97+I97, 0) -> 1610 | L97: =TRUNC(F97+H97+J97, 0) -> 0 | N97: 5A6496FE91702A5141309D15AE2D5F8EDB6A22 | Q97: 010202 | R97: F | S97: F | T97: T | AU97: 0102025A6496FE91702A5141309D15AE2D5F8EDB6A22 | AV97: 29301
A98: B.JUMPER | B98: 퓨즈형, 35㎟ | C98: EA | E98: =TRUNC(단가대비표!O136,0) -> 1610 | F98: =TRUNC(E98*D98, 0) -> 0 | G98: =TRUNC(단가대비표!P136,0) -> 0 | H98: =TRUNC(G98*D98, 0) -> 0 | I98: =TRUNC(단가대비표!V136,0) -> 0 | J98: =TRUNC(I98*D98, 0) -> 0 | K98: =TRUNC(E98+G98+I98, 0) -> 1610 | L98: =TRUNC(F98+H98+J98, 0) -> 0 | N98: 5A6496FE91702A5141309D15AE2D5F8EDB6A2D | Q98: 010202 | R98: F | S98: F | T98: T | AU98: 0102025A6496FE91702A5141309D15AE2D5F8EDB6A2D | AV98: 29302
A99: CHANNEL SPRING NUT | B99: 아연도 | C99: EA | E99: =TRUNC(단가대비표!O137,0) -> 840 | F99: =TRUNC(E99*D99, 0) -> 0 | G99: =TRUNC(단가대비표!P137,0) -> 0 | H99: =TRUNC(G99*D99, 0) -> 0 | I99: =TRUNC(단가대비표!V137,0) -> 0 | J99: =TRUNC(I99*D99, 0) -> 0 | K99: =TRUNC(E99+G99+I99, 0) -> 840 | L99: =TRUNC(F99+H99+J99, 0) -> 0 | N99: 5A6496FE91702A5141309D15AE2D5F8EDB6A2C | Q99: 010202 | R99: F | S99: F | T99: T | AU99: 0102025A6496FE91702A5141309D15AE2D5F8EDB6A2C | AV99: 29303
A100: U-CHANNEL | C100: EA | E100: =TRUNC(단가대비표!O138,0) -> 9100 | F100: =TRUNC(E100*D100, 0) -> 0 | G100: =TRUNC(단가대비표!P138,0) -> 0 | H100: =TRUNC(G100*D100, 0) -> 0 | I100: =TRUNC(단가대비표!V138,0) -> 0 | J100: =TRUNC(I100*D100, 0) -> 0 | K100: =TRUNC(E100+G100+I100, 0) -> 9100 | L100: =TRUNC(F100+H100+J100, 0) -> 0 | N100: 5A6496FE91702A5141309D15AE2D5F8EDB6DF9 | Q100: 010202 | R100: F | S100: F | T100: T | AU100: 0102025A6496FE91702A5141309D15AE2D5F8EDB6DF9 | AV100: 29304
A101: HOLD DOWN CLAMP | C101: EA | E101: =TRUNC(단가대비표!O139,0) -> 650 | F101: =TRUNC(E101*D101, 0) -> 0 | G101: =TRUNC(단가대비표!P139,0) -> 0 | H101: =TRUNC(G101*D101, 0) -> 0 | I101: =TRUNC(단가대비표!V139,0) -> 0 | J101: =TRUNC(I101*D101, 0) -> 0 | K101: =TRUNC(E101+G101+I101, 0) -> 650 | L101: =TRUNC(F101+H101+J101, 0) -> 0 | N101: 5A6496FE91702A5141309D15AE2D5F8EDB6DF8 | Q101: 010202 | R101: F | S101: F | T101: T | AU101: 0102025A6496FE91702A5141309D15AE2D5F8EDB6DF8 | AV101: 29305
A102: SHANK BOLT/NUT | B102: 아연도 | C102: EA | E102: =TRUNC(단가대비표!O140,0) -> 210 | F102: =TRUNC(E102*D102, 0) -> 0 | G102: =TRUNC(단가대비표!P140,0) -> 0 | H102: =TRUNC(G102*D102, 0) -> 0 | I102: =TRUNC(단가대비표!V140,0) -> 0 | J102: =TRUNC(I102*D102, 0) -> 0 | K102: =TRUNC(E102+G102+I102, 0) -> 210 | L102: =TRUNC(F102+H102+J102, 0) -> 0 | N102: 5A6496FE91702A5141309D15AE2D5F8EDB6DFB | Q102: 010202 | R102: F | S102: F | T102: T | AU102: 0102025A6496FE91702A5141309D15AE2D5F8EDB6DFB | AV102: 29306
A103: JOINT CONNECTOR | B103: H100 | C103: EA | E103: =TRUNC(단가대비표!O141,0) -> 1650 | F103: =TRUNC(E103*D103, 0) -> 0 | G103: =TRUNC(단가대비표!P141,0) -> 0 | H103: =TRUNC(G103*D103, 0) -> 0 | I103: =TRUNC(단가대비표!V141,0) -> 0 | J103: =TRUNC(I103*D103, 0) -> 0 | K103: =TRUNC(E103+G103+I103, 0) -> 1650 | L103: =TRUNC(F103+H103+J103, 0) -> 0 | N103: 5A6496FE91702A5141309D15AE2D5F8EDB6DFA | Q103: 010202 | R103: F | S103: F | T103: T | AU103: 0102025A6496FE91702A5141309D15AE2D5F8EDB6DFA | AV103: 29307
...

Sheet 일위대가목록
B1: 일 위 대 가 목 록
B2: [ 충주제천단양지사 물관리자동화시스템 정비보강용역공사 ]
A3: 코 드 | B3: 품 명 | C3: 규 격 | D3: 단위 | E3: 재 료 비 | F3: 노 무 비 | G3: 경 비 | H3: 합 계 | I3: 번 호 | J3: 비 고 | K3: 노임계수 | L3: 할증 | M3: 품셈개요 | N3: 장비일위
A4: 5AEFD64C42C02C596620B27054807A | B4: 원격제어반(양배수장) (제작율 적용) | C4: 옥내자립형(ST), 800(W)x2,350(H)x2,000(D) | D4: 면 | E4: =일위대가!F15 -> 17480580 | F4: =일위대가!H15 -> 0 | G4: =일위대가!J15 -> 0 | H4: =E4+F4+G4 -> 17480580 | I4: 호표 1
A5: 5AEFD64C42C02C596620B270548106 | B5: 원격제어반(수문) (제작율 적용) | C5: 옥외자립형(STS), 800(W)x1800(H)x600(D) | D5: 면 | E5: =일위대가!F28 -> 19428589 | F5: =일위대가!H28 -> 0 | G5: =일위대가!J28 -> 0 | H5: =E5+F5+G5 -> 19428589 | I5: 호표 2
A6: 5AEFD64C42C02C596620B270548686 | B6: 영상관제장치 점검 | C6: 9-4-17 디지털 사이니지 | D6: 대 | E6: =일위대가!F34 -> 9235 | F6: =일위대가!H34 -> 307854 | G6: =일위대가!J34 -> 0 | H6: =E6+F6+G6 -> 317089 | I6: 호표 3
A7: 5AEFD64C42C02C596620B270548B0C | B7: 자동화시설 현장조치 | C7: 1일 1개소 조치비용 | D7: EA | E7: =일위대가!F40 -> 8069 | F7: =일위대가!H40 -> 268991 | G7: =일위대가!J40 -> 0 | H7: =E7+F7+G7 -> 277060 | I7: 호표 4
A8: 5AEFD64C42C02C596620B270548B0D | B8: 자동화시설 현장조치 | C8: 2번째 이상 개소당 조치비용 | D8: EA | E8: =일위대가!F46 -> 2219 | F8: =일위대가!H46 -> 73972 | G8: =일위대가!J46 -> 0 | H8: =E8+F8+G8 -> 76191 | I8: 호표 5
A9: 5AEFD64C42C02C596620B270548B0E | B9: 중앙관리소 현장조치 | C9: 컴퓨터 장비 | D9: HR | E9: =일위대가!F53 -> 2353 | F9: =일위대가!H53 -> 78461 | G9: =일위대가!J53 -> 0 | H9: =E9+F9+G9 -> 80814 | I9: 호표 6
A10: 5AEFD64C42C02C596620B270548B00 | B10: 중앙관리소 현장조치 | C10: HMI S/W | D10: HR | E10: =일위대가!F60 -> 2353 | F10: =일위대가!H60 -> 78461 | G10: =일위대가!J60 -> 0 | H10: =E10+F10+G10 -> 80814 | I10: 호표 7
A11: 5AEFD64C42C02C596620B270548B01 | B11: 중앙관리소 현장조치 | C11: CCTV S/W | D11: HR | E11: =일위대가!F67 -> 2353 | F11: =일위대가!H67 -> 78461 | G11: =일위대가!J67 -> 0 | H11: =E11+F11+G11 -> 80814 | I11: 호표 8
A12: 5AEFD64C42C02C596620B270564CCD | B12: LAN케이블 | C12: UTP.CAT.6/CM | D12: EA | E12: =일위대가!F74 -> 3359 | F12: =일위대가!H74 -> 65433 | G12: =일위대가!J74 -> 0 | H12: =E12+F12+G12 -> 68792 | I12: 호표 9
A13: 5AEFD64C42C02C596620B270548683 | B13: 저독성난연가요폴리올레핀절연전선 | C13: HFIX 단선 2.5㎟ | D13: M | E13: =일위대가!F81 -> 714 | F13: =일위대가!H81 -> 3010 | G13: =일위대가!J81 -> 0 | H13: =E13+F13+G13 -> 3724 | I13: 호표 10
A14: 5AEFD64C42C02C596620B270548680 | B14: 저독성난연가요폴리올레핀절연전선 | C14: HFIX 연선 4㎟ | D14: M | E14: =일위대가!F88 -> 1075 | F14: =일위대가!H88 -> 3010 | G14: =일위대가!J88 -> 0 | H14: =E14+F14+G14 -> 4085 | I14: 호표 11
A15: 5AEFD64C42C02C596620B270548681 | B15: 접지선 | C15: F-GV 2.5㎟ | D15: M | E15: =일위대가!F95 -> 1023 | F15: =일위대가!H95 -> 1806 | G15: =일위대가!J95 -> 0 | H15: =E15+F15+G15 -> 2829 | I15: 호표 12
A16: 5AEFD64C42C02C596620B27054868E | B16: 접지선 | C16: F-GV 4㎟ | D16: M | E16: =일위대가!F102 -> 1368 | F16: =일위대가!H102 -> 1806 | G16: =일위대가!J102 -> 0 | H16: =E16+F16+G16 -> 3174 | I16: 호표 13
A17: 5AEFD64C42C02C596620B27054868F | B17: 접지선 | C17: F-GV 6㎟ | D17: M | E17: =일위대가!F109 -> 1618 | F17: =일위대가!H109 -> 1806 | G17: =일위대가!J109 -> 0 | H17: =E17+F17+G17 -> 3424 | I17: 호표 14
A18: 5AEFD64C42C02C596620B2705487AD | B18: 접지선 | C18: F-GV 25㎟ | D18: M | E18: =일위대가!F116 -> 5522 | F18: =일위대가!H116 -> 2107 | G18: =일위대가!J116 -> 0 | H18: =E18+F18+G18 -> 7629 | I18: 호표 15
A19: 5AEFD64C42C02C596620B2705487AC | B19: 접지선 | C19: F-GV 70㎟ | D19: M | E19: =일위대가!F123 -> 14799 | F19: =일위대가!H123 -> 2408 | G19: =일위대가!J123 -> 0 | H19: =E19+F19+G19 -> 17207 | I19: 호표 16
A20: 5AEFD64C42C02C596620B2705487AF | B20: 제어케이블 | C20: F-CVV-SB 2C 1.5㎟ | D20: M | E20: =일위대가!F130 -> 2264 | F20: =일위대가!H130 -> 4385 | G20: =일위대가!J130 -> 0 | H20: =E20+F20+G20 -> 6649 | I20: 호표 17
A21: 5AEFD64C42C02C596620B2705487AE | B21: 제어케이블 | C21: F-CVV-SB 3C 1.5㎟ | D21: M | E21: =일위대가!F137 -> 2726 | F21: =일위대가!H137 -> 5952 | G21: =일위대가!J137 -> 0 | H21: =E21+F21+G21 -> 8678 | I21: 호표 18
A22: 5AEFD64C42C02C596620B2705487A9 | B22: 제어케이블 | C22: F-CVV-SB 5C 1.5㎟ | D22: M | E22: =일위대가!F144 -> 3684 | F22: =일위대가!H144 -> 10024 | G22: =일위대가!J144 -> 0 | H22: =E22+F22+G22 -> 13708 | I22: 호표 19
A23: 5AEFD64C42C02C596620B2705487A8 | B23: 제어케이블 | C23: F-CVV-SB 10C 1.5㎟ | D23: M | E23: =일위대가!F151 -> 5993 | F23: =일위대가!H151 -> 15037 | G23: =일위대가!J151 -> 0 | H23: =E23+F23+G23 -> 21030 | I23: 호표 20
A24: 5AEFD64C42C02C596620B2705487AB | B24: 제어케이블 | C24: F-CVV-SB 12C 1.5㎟ | D24: M | E24: =일위대가!F158 -> 6899 | F24: =일위대가!H158 -> 16917 | G24: =일위대가!J158 -> 0 | H24: =E24+F24+G24 -> 23816 | I24: 호표 21
A25: 5AEFD64C42C02C596620B2705487AA | B25: 제어케이블 | C25: F-CVV-SB 15C 1.5㎟ | D25: M | E25: =일위대가!F165 -> 7998 | F25: =일위대가!H165 -> 19423 | G25: =일위대가!J165 -> 0 | H25: =E25+F25+G25 -> 27421 | I25: 호표 22
A26: 5AEFD64C42C02C596620B2705487A5 | B26: 제어케이블 | C26: F-CVV-SB 20C 1.5㎟ | D26: M | E26: =일위대가!F172 -> 9981 | F26: =일위대가!H172 -> 23182 | G26: =일위대가!J172 -> 0 | H26: =E26+F26+G26 -> 33163 | I26: 호표 23
A27: 5AEFD64C42C02C596620B2705487A4 | B27: SPD용 회로분리기 | C27: CLASS2, 2극 Imax 40ka | D27: EA | E27: =일위대가!F178 -> 98930 | F27: =일위대가!H178 -> 117680 | G27: =일위대가!J178 -> 0 | H27: =E27+F27+G27 -> 216610 | I27: 호표 24
A28: 5AEFD64C42C02C596620B2705484D9 | B28: SPD용 회로분리기 | C28: CLASS2, 4극 Imax 40ka | D28: EA | E28: =일위대가!F184 -> 137147 | F28: =일위대가!H184 -> 191573 | G28: =일위대가!J184 -> 0 | H28: =E28+F28+G28 -> 328720 | I28: 호표 25
A29: 5AEFD64C42C02C596620B2705484D8 | B29: SPD용 회로분리기 | C29: CLASS2, 2극 Imax 80ka | D29: EA | E29: =일위대가!F190 -> 118730 | F29: =일위대가!H190 -> 117680 | G29: =일위대가!J190 -> 0 | H29: =E29+F29+G29 -> 236410 | I29: 호표 26
A30: 5AEFD64C42C02C596620B2705484DB | B30: SPD용 회로분리기 | C30: CLASS2, 4극 Imax 80ka | D30: EA | E30: =일위대가!F196 -> 158747 | F30: =일위대가!H196 -> 191573 | G30: =일위대가!J196 -> 0 | H30: =E30+F30+G30 -> 350320 | I30: 호표 27
A31: 5AEFD64C42C02C596620B2705484DA | B31: 난연 전력케이블 | C31: 0.6/1KV F-CV 2C 2.5㎟ | D31: M | E31: =일위대가!F203 -> 1912 | F31: =일위대가!H203 -> 4385 | G31: =일위대가!J203 -> 0 | H31: =E31+F31+G31 -> 6297 | I31: 호표 28
A32: 5AEFD64C42C02C596620B2705484DD | B32: 난연 전력케이블 | C32: 0.6/1KV F-CV 2C 4㎟ | D32: M | E32: =일위대가!F210 -> 2571 | F32: =일위대가!H210 -> 5012 | G32: =일위대가!J210 -> 0 | H32: =E32+F32+G32 -> 7583 | I32: 호표 29
A33: 5AEFD64C42C02C596620B2705484DC | B33: 난연 전력케이블 | C33: 0.6/1KV F-CV 3C 2.5㎟ | D33: M | E33: =일위대가!F217 -> 2567 | F33: =일위대가!H217 -> 5952 | G33: =일위대가!J217 -> 0 | H33: =E33+F33+G33 -> 8519 | I33: 호표 30
A34: 5AEFD64C42C02C596620B2705484DF | B34: 난연 전력케이블 | C34: 0.6/1KV F-CV 3C 4㎟ | D34: M | E34: =일위대가!F224 -> 3530 | F34: =일위대가!H224 -> 6892 | G34: =일위대가!J224 -> 0 | H34: =E34+F34+G34 -> 10422 | I34: 호표 31
A35: 5AEFD64C42C02C596620B2705484DE | B35: 난연 전력케이블 | C35: 0.6/1KV F-CV 4C 6㎟ | D35: M | E35: =일위대가!F231 -> 6181 | F35: =일위대가!H231 -> 10651 | G35: =일위대가!J231 -> 0 | H35: =E35+F35+G35 -> 16832 | I35: 호표 32
A36: 5AEFD64C42C02C596620B2705484D1 | B36: 난연 전력케이블 | C36: 0.6/1KV F-CV 4C 10㎟ | D36: M | E36: =일위대가!F238 -> 9909 | F36: =일위대가!H238 -> 15350 | G36: =일위대가!J238 -> 0 | H36: =E36+F36+G36 -> 25259 | I36: 호표 33
A37: 5AEFD64C42C02C596620B2705484D0 | B37: 나동선 연동연선(AS) | C37: 25㎟ | D37: M | E37: =일위대가!F245 -> 5029 | F37: =일위대가!H245 -> 2342 | G37: =일위대가!J245 -> 0 | H37: =E37+F37+G37 -> 7371 | I37: 호표 34
A38: 5AEFD64C42C02C596620B2705485FF | B38: 나동선 연동연선(AS) | C38: 70㎟ | D38: M | E38: =일위대가!F252 -> 12926 | F38: =일위대가!H252 -> 2676 | G38: =일위대가!J252 -> 0 | H38: =E38+F38+G38 -> 15602 | I38: 호표 35
A39: 5AEFD64C42C02C596620B2705485FE | B39: 기기용 비닐절연전선 | C39: KIV 1.5㎟ | D39: M | E39: =일위대가!F259 -> 1246 | F39: =일위대가!H259 -> 29347 | G39: =일위대가!J259 -> 0 | H39: =E39+F39+G39 -> 30593 | I39: 호표 36
A40: 5AEFD64C42C02C596620B2705485FD | B40: 기기용 비닐절연전선 | C40: KIV 2.5㎟ | D40: M | E40: =일위대가!F266 -> 1467 | F40: =일위대가!H266 -> 29347 | G40: =일위대가!J266 -> 0 | H40: =E40+F40+G40 -> 30814 | I40: 호표 37
A41: 5AEFD64C42C02C596620B2705485FC | B41: 접지 클램프 | C41: 70㎟ | D41: EA | E41: =일위대가!F273 -> 2319 | F41: =일위대가!H273 -> 51182 | G41: =일위대가!J273 -> 0 | H41: =E41+F41+G41 -> 53501 | I41: 호표 38
A42: 5AEFD64C42C02C596620B2705485FB | B42: 접지봉 | C42: 3본 연결 | D42: EA | E42: =일위대가!F282 -> 31051 | F42: =일위대가!H282 -> 187049 | G42: =일위대가!J282 -> 0 | H42: =E42+F42+G42 -> 218100 | I42: 호표 39
A43: 5AEFD64C42C02C596620B2705485FA | B43: 제1종 금속제 가요전선관 | C43: 16C 고장력방수 | D43: M | E43: =일위대가!F290 -> 1677 | F43: =일위대가!H290 -> 13245 | G43: =일위대가!J290 -> 0 | H43: =E43+F43+G43 -> 14922 | I43: 호표 40
A44: 5AEFD64C42C02C596620B2705485F9 | B44: 제1종 금속제 가요전선관 | C44: 22C 고장력방수 | D44: M | E44: =일위대가!F298 -> 2231 | F44: =일위대가!H298 -> 17761 | G44: =일위대가!J298 -> 0 | H44: =E44+F44+G44 -> 19992 | I44: 호표 41
A45: 5AEFD64C42C02C596620B2705485F8 | B45: 제1종 금속제 가요전선관 | C45: 28C 고장력방수 | D45: M | E45: =일위대가!F306 -> 3051 | F45: =일위대가!H306 -> 21675 | G45: =일위대가!J306 -> 0 | H45: =E45+F45+G45 -> 24726 | I45: 호표 42
A46: 5AEFD64C42C02C596620B2705485F7 | B46: 제1종 금속제 가요전선관 | C46: 36C 고장력방수 | D46: M | E46: =일위대가!F314 -> 4123 | F46: =일위대가!H314 -> 26190 | G46: =일위대가!J314 -> 0 | H46: =E46+F46+G46 -> 30313 | I46: 호표 43
A47: 5AEFD64C42C02C596620B2705485F6 | B47: 노말밴드 | C47: ST 16mm | D47: EA | E47: =일위대가!F320 -> 2618 | F47: =일위대가!H320 -> 10947 | G47: =일위대가!J320 -> 0 | H47: =E47+F47+G47 -> 13565 | I47: 호표 44
A48: 5AEFD64C42C02C596620B270548A61 | B48: 노말밴드 | C48: ST 22mm | D48: EA | E48: =일위대가!F326 -> 3105 | F48: =일위대가!H326 -> 10947 | G48: =일위대가!J326 -> 0 | H48: =E48+F48+G48 -> 14052 | I48: 호표 45
A49: 5AEFD64C42C02C596620B270548A60 | B49: 핸드홀 | C49: 600*600*600 | D49: 조 | E49: =일위대가!F338 -> 335898 | F49: =일위대가!H338 -> 511702 | G49: =일위대가!J338 -> 0 | H49: =E49+F49+G49 -> 847600 | I49: 호표 46
A50: 5AEFD64C42C02C596620B270548A63 | B50: 경고테이프 포설 | C50: 통신용 | D50: M | E50: =일위대가!F344 -> 212 | F50: =일위대가!H344 -> 344 | G50: =일위대가!J344 -> 0 | H50: =E50+F50+G50 -> 556 | I50: 호표 47
A51: 5AEFD64C42C02C596620B270548A62 | B51: 노말밴드 | C51: ST 28mm | D51: EA | E51: =일위대가!F350 -> 3828 | F51: =일위대가!H350 -> 10947 | G51: =일위대가!J350 -> 0 | H51: =E51+F51+G51 -> 14775 | I51: 호표 48
A52: 5AEFD64C42C02C596620B270548A65 | B52: 노말밴드 | C52: ST 36mm | D52: EA | E52: =일위대가!F356 -> 5258 | F52: =일위대가!H356 -> 10947 | G52: =일위대가!J356 -> 0 | H52: =E52+F52+G52 -> 16205 | I52: 호표 49
A53: 5AEFD64C42C02C596620B270548A64 | B53: 노말밴드(PVC) | C53: KS 16mm | D53: EA | E53: =일위대가!F362 -> 1228 | F53: =일위대가!H362 -> 10947 | G53: =일위대가!J362 -> 0 | H53: =E53+F53+G53 -> 12175 | I53: 호표 50
A54: 5AEFD64C42C02C596620B270548A67 | B54: 노말밴드(PVC) | C54: KS 22mm | D54: EA | E54: =일위대가!F368 -> 1278 | F54: =일위대가!H368 -> 10947 | G54: =일위대가!J368 -> 0 | H54: =E54+F54+G54 -> 12225 | I54: 호표 51
A55: 5AEFD64C42C02C596620B270548A66 | B55: 노말밴드(PVC) | C55: KS 28mm | D55: EA | E55: =일위대가!F374 -> 1328 | F55: =일위대가!H374 -> 10947 | G55: =일위대가!J374 -> 0 | H55: =E55+F55+G55 -> 12275 | I55: 호표 52
A56: 5AEFD64C42C02C596620B270548A69 | B56: 노말밴드(PVC) | C56: KS 36mm | D56: EA | E56: =일위대가!F380 -> 1528 | F56: =일위대가!H380 -> 10947 | G56: =일위대가!J380 -> 0 | H56: =E56+F56+G56 -> 12475 | I56: 호표 53
A57: 5AEFD64C42C02C596620B270548A68 | B57: 강제전선관 | C57: 아연도 16mm | D57: EA | E57: =일위대가!F388 -> 4208 | F57: =일위대가!H388 -> 24083 | G57: =일위대가!J388 -> 0 | H57: =E57+F57+G57 -> 28291 | I57: 호표 54
A58: 5AEFD64C42C02C596620B270548B08 | B58: 강제전선관 | C58: 아연도 22mm | D58: EA | E58: =일위대가!F396 -> 5702 | F58: =일위대가!H396 -> 33114 | G58: =일위대가!J396 -> 0 | H58: =E58+F58+G58 -> 38816 | I58: 호표 55
A59: 5AEFD64C42C02C596620B270548B09 | B59: 강제전선관 | C59: 아연도 28mm | D59: EA | E59: =일위대가!F404 -> 7402 | F59: =일위대가!H404 -> 42146 | G59: =일위대가!J404 -> 0 | H59: =E59+F59+G59 -> 49548 | I59: 호표 56
A60: 5AEFD64C42C02C596620B270548B0A | B60: 강제전선관 | C60: 아연도 36mm | D60: EA | E60: =일위대가!F412 -> 9656 | F60: =일위대가!H412 -> 60208 | G60: =일위대가!J412 -> 0 | H60: =E60+F60+G60 -> 69864 | I60: 호표 57
A61: 5AEFD64C42C02C596620B270548B0B | B61: 반경관 취부밴드 | C61: 아연도 36mm | D61: EA | E61: =일위대가!F419 -> 3267 | F61: =일위대가!H419 -> 18799 | G61: =일위대가!J419 -> 0 | H61: =E61+F61+G61 -> 22066 | I61: 호표 58
A62: 5AEFD64C42C02C596620B27057568A | B62: PLC 설치 | C62: BAY건립 및 카드설치 | D62: 면 | E62: =일위대가!F426 -> 11604 | F62: =일위대가!H426 -> 472750 | G62: =일위대가!J426 -> 0 | H62: =E62+F62+G62 -> 484354 | I62: 호표 59
A63: 5AEFD64C42C02C596620B27057568B | B63: PLC 설치 | C63: 케이블 접속 | D63: 포인트 | E63: =일위대가!F432 -> 209 | F63: =일위대가!H432 -> 8787 | G63: =일위대가!J432 -> 0 | H63: =E63+F63+G63 -> 8996 | I63: 호표 60
A64: 5AEFD64C42C02C596620B270575688 | B64: PLC 설치 | C64: 시험 | D64: 카드 | E64: =일위대가!F437 -> 182 | F64: =일위대가!H437 -> 6090 | G64: =일위대가!J437 -> 0 | H64: =E64+F64+G64 -> 6272 | I64: 호표 61
A65: 5AEFD64C42C02C596620B270575689 | B65: NOISE FILTER | D65: EA | E65: =일위대가!F443 -> 62019 | F65: =일위대가!H443 -> 87313 | G65: =일위대가!J443 -> 0 | H65: =E65+F65+G65 -> 149332 | I65: 호표 62
A66: 5AEFD64C42C02C596620B27057568E | B66: 서지보호기(카운터)1상2선 교체 | C66: 전원용 Class2, In 40kA이상, Imax 80kA이상,누설전류검출 | D66: EA | E66: =일위대가!F449 -> 1451970 | F66: =일위대가!H449 -> 65682 | G66: =일위대가!J449 -> 0 | H66: =E66+F66+G66 -> 1517652 | I66: 호표 63
A67: 5AEFD64C42C02C596620B27057568F | B67: 서지보호기(카운터) 교체 | C67: 통신(이더넷용) 20kA이상 | D67: EA | E67: =일위대가!F455 -> 386149 | F67: =일위대가!H455 -> 38314 | G67: =일위대가!J455 -> 0 | H67: =E67+F67+G67 -> 424463 | I67: 호표 64
A68: 5AEFD64C42C02C596620B27057568C | B68: 서지보호기(카운터) 교체 | C68: 신호용(4-20mA) 20kA이상 | D68: EA | E68: =일위대가!F461 -> 351149 | F68: =일위대가!H461 -> 38314 | G68: =일위대가!J461 -> 0 | H68: =E68+F68+G68 -> 389463 | I68: 호표 65
A69: 5AEFD64C42C02C596620B270564CC1 | B69: 서지보호기(카운터)3상4선(교체) | C69: 전원용 Class1,Iimp 12.5kA | D69: EA | E69: =일위대가!F467 -> 751970 | F69: =일위대가!H467 -> 65682 | G69: =일위대가!J467 -> 0 | H69: =E69+F69+G69 -> 817652 | I69: 호표 66
A70: 5AEFD64C42C02C596620B270564CC2 | B70: 서지보호기(카운터)3상4선(교체) | C70: 전원용 Class2,Imax 40kA이상 | D70: EA | E70: =일위대가!F473 -> 601970 | F70: =일위대가!H473 -> 65682 | G70: =일위대가!J473 -> 0 | H70: =E70+F70+G70 -> 667652 | I70: 호표 67
A71: 5AEFD64C42C02C596620B270564CC3 | B71: 서지보호기(카운터)1상2선(교체) | C71: 전원용 Class2,Imax 40kA이상 | D71: EA | E71: =일위대가!F479 -> 451970 | F71: =일위대가!H479 -> 65682 | G71: =일위대가!J479 -> 0 | H71: =E71+F71+G71 -> 517652 | I71: 호표 68
A72: 5AEFD64C42C02C596620B27057568D | B72: 원격제어소 설치비 | C72: 자립형 | D72: EA | E72: =일위대가!F485 -> 42201 | F72: =일위대가!H485 -> 1613198 | G72: =일위대가!J485 -> 0 | H72: =E72+F72+G72 -> 1655399 | I72: 호표 69
A73: 5AEFD64C42C02C596620B270575682 | B73: POWER SUPPLY | C73: DC 24V 10A | D73: EA | E73: =일위대가!F491 -> 552619 | F73: =일위대가!H491 -> 87313 | G73: =일위대가!J491 -> 0 | H73: =E73+F73+G73 -> 639932 | I73: 호표 70
A74: 5AEFD64C42C02C596620B270575683 | B74: POWER SUPPLY | C74: DC 12 5A | D74: EA | E74: =일위대가!F497 -> 652619 | F74: =일위대가!H497 -> 87313 | G74: =일위대가!J497 -> 0 | H74: =E74+F74+G74 -> 739932 | I74: 호표 71
A75: 5AEFD64C42C02C596620B270575791 | B75: 스위치 허브 | C75: 1G, 24P | D75: EA | E75: =일위대가!F504 -> 457415 | F75: =일위대가!H504 -> 247167 | G75: =일위대가!J504 -> 0 | H75: =E75+F75+G75 -> 704582 | I75: 호표 72
A76: 5AEFD64C42C02C596620B270575790 | B76: SHF통신장비(5GHz) | C76: 최대 866Mbps, 2KM이내 | D76: EA | E76: =일위대가!F511 -> 1507261 | F76: =일위대가!H511 -> 242041 | G76: =일위대가!J511 -> 0 | H76: =E76+F76+G76 -> 1749302 | I76: 호표 73
A77: 5AEFD64C42C02C596620B270575793 | B77: 수위계 지지대 | C77: STS 0.5(W)*0.5(H) | D77: EA | E77: =일위대가!F517 -> 551367 | F77: =일위대가!H517 -> 45580 | G77: =일위대가!J517 -> 0 | H77: =E77+F77+G77 -> 596947 | I77: 호표 74
A78: 5AEFD64C42C02C596620B270575792 | B78: 수위계 지지대 | C78: STS 0.5(W)*0.5(H) | D78: EA | E78: =일위대가!F523 -> 1101367 | F78: =일위대가!H523 -> 45580 | G78: =일위대가!J523 -> 0 | H78: =E78+F78+G78 -> 1146947 | I78: 호표 75
A79: 5AEFD64C42C02C596620B270575795 | B79: 초음파수위계(분리형) | C79: 범위 0.3-10M(2체널) | D79: EA | E79: =일위대가!F530 -> 4506174 | F79: =일위대가!H530 -> 205826 | G79: =일위대가!J530 -> 0 | H79: =E79+F79+G79 -> 4712000 | I79: 호표 76
A80: 5AEFD64C42C02C596620B270575794 | B80: 초음파수위계(분리형) | C80: 범위 0.3-10M(2체널) | D80: EA | E80: =일위대가!F537 -> 5506174 | F80: =일위대가!H537 -> 205826 | G80: =일위대가!J537 -> 0 | H80: =E80+F80+G80 -> 5712000 | I80: 호표 77
A81: 5AEFD64C42C02C596620B270575797 | B81: 초음파수위계(분리형) | C81: 범위 0.3-10M | D81: EA | E81: =일위대가!F544 -> 3504549 | F81: =일위대가!H544 -> 151661 | G81: =일위대가!J544 -> 0 | H81: =E81+F81+G81 -> 3656210 | I81: 호표 78
A82: 5AEFD64C42C02C596620B270575796 | B82: 초음파수위계(분리형) | C82: 범위 0.3-15M | D82: EA | E82: =일위대가!F551 -> 3804549 | F82: =일위대가!H551 -> 151661 | G82: =일위대가!J551 -> 0 | H82: =E82+F82+G82 -> 3956210 | I82: 호표 79
A83: 5AEFD64C42C02C596620B270575799 | B83: 레이수위계(분리형) | C83: 범위 0.3-10M | D83: EA | E83: =일위대가!F558 -> 3734549 | F83: =일위대가!H558 -> 151661 | G83: =일위대가!J558 -> 0 | H83: =E83+F83+G83 -> 3886210 | I83: 호표 80
A84: 5AEFD64C42C02C596620B270575798 | B84: 레이수위계(분리형) | C84: 범위 0.3-15M | D84: EA | E84: =일위대가!F565 -> 4104549 | F84: =일위대가!H565 -> 151661 | G84: =일위대가!J565 -> 0 | H84: =E84+F84+G84 -> 4256210 | I84: 호표 81
A85: 5AEFD64C42C02C596620B2705754DC | B85: 오뚜기 수위계 | C85: 4접점(HH,H,L,LL) | D85: EA | E85: =일위대가!F571 -> 476978 | F85: =일위대가!H571 -> 232624 | G85: =일위대가!J571 -> 0 | H85: =E85+F85+G85 -> 709602 | I85: 호표 82
A86: 5AEFD64C42C02C596620B2705754DD | B86: 전극봉 스위치 | C86: 3극 | D86: EA | E86: =일위대가!F577 -> 476568 | F86: =일위대가!H577 -> 218940 | G86: =일위대가!J577 -> 0 | H86: =E86+F86+G86 -> 695508 | I86: 호표 83
A87: 5AEFD64C42C02C596620B2705754DE | B87: 스피드 돔 카메라 | C87: 200만화소이상, 36배줌, 하우징일체 | D87: EA | E87: =일위대가!F584 -> 5351199 | F87: =일위대가!H584 -> 173327 | G87: =일위대가!J584 -> 0 | H87: =E87+F87+G87 -> 5524526 | I87: 호표 84
A88: 5AEFD64C42C02C596620B2705754DF | B88: 스피드 돔 카메라(IR) | C88: 200만화소이상, 36배줌, 하우징일체,WIPER | D88: EA | E88: =일위대가!F591 -> 5505199 | F88: =일위대가!H591 -> 173327 | G88: =일위대가!J591 -> 0 | H88: =E88+F88+G88 -> 5678526 | I88: 호표 85
A89: 5AEFD64C42C02C596620B2705754D8 | B89: 적외선 카메라(뷸렛) | C89: 200만화소이상, 4배줌, 하우징일체 | D89: EA | E89: =일위대가!F598 -> 1455899 | F89: =일위대가!H598 -> 129995 | G89: =일위대가!J598 -> 0 | H89: =E89+F89+G89 -> 1585894 | I89: 호표 86
A90: 5AEFD64C42C02C596620B2705754D9 | B90: 적외선 카메라(돔형) | C90: 200만화소이상, 4배줌, 하우징일체 | D90: EA | E90: =일위대가!F605 -> 1587899 | F90: =일위대가!H605 -> 129995 | G90: =일위대가!J605 -> 0 | H90: =E90+F90+G90 -> 1717894 | I90: 호표 87
A91: 5AEFD64C42C02C596620B270564CCC | B91: 스피드 돔 카메라(IR) | C91: 200만화소이상, 32배줌, 하우징일체 | D91: EA | E91: =일위대가!F612 -> 4205199 | F91: =일위대가!H612 -> 173327 | G91: =일위대가!J612 -> 0 | H91: =E91+F91+G91 -> 4378526 | I91: 호표 88
A92: 5AEFD64C42C02C596620B2705754DA | B92: CCTV CAMERA POLE | C92: STS 2.0T 4M Φ152 | D92: EA | E92: =일위대가!F619 -> 1209024 | F92: =일위대가!H619 -> 300829 | G92: =일위대가!J619 -> 0 | H92: =E92+F92+G92 -> 1509853 | I92: 호표 89
A93: 5AEFD64C42C02C596620B2705754DB | B93: CCTV POLE PANEL | C93: STS 2.0T 300*400*300 | D93: EA | E93: =일위대가!F626 -> 856957 | F93: =일위대가!H626 -> 231906 | G93: =일위대가!J626 -> 0 | H93: =E93+F93+G93 -> 1088863 | I93: 호표 90
A94: 5AEFD64C42C02C596620B2705754D4 | B94: CCTV POLE PANEL | C94: STS 2.0T 600*700*500,이중단열판 | D94: EA | E94: =일위대가!F633 -> 1260957 | F94: =일위대가!H633 -> 231906 | G94: =일위대가!J633 -> 0 | H94: =E94+F94+G94 -> 1492863 | I94: 호표 91
A95: 5AEFD64C42C02C596620B2705754D5 | B95: 광컨버터 | C95: 100M, S/M, 1CORE | D95: EA | E95: =일위대가!F639 -> 127567 | F95: =일위대가!H639 -> 18931 | G95: =일위대가!J639 -> 0 | H95: =E95+F95+G95 -> 146498 | I95: 호표 92
A96: 5AEFD64C42C02C596620B2705755E3 | B96: 광단자함 | C96: 4CORE | D96: EA | E96: =일위대가!F646 -> 80177 | F96: =일위대가!H646 -> 112146 | G96: =일위대가!J646 -> 0 | H96: =E96+F96+G96 -> 192323 | I96: 호표 93
A97: 5AEFD64C42C02C596620B2705755E2 | B97: 케이블 트레이 | C97: W150*H100*2.3T | D97: EA | E97: =일위대가!F652 -> 18341 | F97: =일위대가!H652 -> 66092 | G97: =일위대가!J652 -> 0 | H97: =E97+F97+G97 -> 84433 | I97: 호표 94
A98: 5AEFD64C42C02C596620B2705755E1 | B98: 케이블 트레이 | C98: W300*H100*2.3T | D98: EA | E98: =일위대가!F658 -> 19842 | F98: =일위대가!H658 -> 66092 | G98: =일위대가!J658 -> 0 | H98: =E98+F98+G98 -> 85934 | I98: 호표 95
A99: 5AEFD64C42C02C596620B2705755E0 | B99: 케이블 트레이 커버 | C99: W150*H100*2.3T | D99: EA | E99: =일위대가!F664 -> 14937 | F99: =일위대가!H664 -> 12589 | G99: =일위대가!J664 -> 0 | H99: =E99+F99+G99 -> 27526 | I99: 호표 96
A100: 5AEFD64C42C02C596620B2705755E7 | B100: 케이블 트레이 커버 | C100: W300*H100*2.3T | D100: EA | E100: =일위대가!F670 -> 26317 | F100: =일위대가!H670 -> 12589 | G100: =일위대가!J670 -> 0 | H100: =E100+F100+G100 -> 38906 | I100: 호표 97
...

Sheet 일위대가
A1: [ 충주제천단양지사 물관리자동화시스템 정비보강용역공사 ]
A2: 품 명 | B2: 규 격 | C2: 단위 | D2: 수량 | E2: 재 료 비 | G2: 노 무 비 | I2: 경 비 | K2: 합 계 | M2: 비 고 | N2: 일위대가 | O2: 품목코드 | P2: 일위 | Q2: 단산 | R2: 자재 | S2: 손료적용 | T2: 손료저장 | U2: 적용율 | V2: JUK1 | W2: JUK2 | X2: JUK3 | Y2: JUK4 | Z2: JUK5 | AA2: JUK6 | AB2: JUK7 | AC2: JUK8 | AD2: JUK9 | AE2: JUK10 | AF2: JUK11 | AG2: JUK12 | AH2: JUK13 | AI2: JUK14 | AJ2: JUK15 | AK2: JUK16 | AL2: JUK17 | AM2: JUK18 | AN2: JUK19 | AO2: JUK20 | AP2: 할증적용 | AQ2: 할증저장 | AR2: 할증율 | AS2: HAL1 | AT2: HAL2 | AU2: HAL3 | AV2: 자재구분 | AW2: 일위대가+자재 | AX2: 장비일위 | AY2: 설정 | AZ2: 할증체크
E3: 단 가 | F3: 금 액 | G3: 단 가 | H3: 금 액 | I3: 단 가 | J3: 금 액 | K3: 단 가 | L3: 금 액
A4: 원격제어반(양배수장) (제작율 적용) 옥내자립형(ST), 800(W)x2,350(H)x2,000(D) 면 ( 호표 1 ) | N4: 5AEFD64C42C02C596620B27054807A
A5: 원격제어반(RTU-1A) 옥내자립형 | B5: 전원부 | C5: 면 | D5: 1 | E5: =일위대가목록!E201 -> 6605164 | F5: =TRUNC(E5*D5,0) -> 6605164 | G5: =일위대가목록!F201 -> 321018 | H5: =TRUNC(G5*D5,0) -> 321018 | I5: =일위대가목록!G201 -> 0 | J5: =TRUNC(I5*D5,0) -> 0 | K5: =TRUNC(E5+G5+I5,0) -> 6926182 | L5: =TRUNC(F5+H5+J5,0) -> 6926182 | M5: 금액제외 | O5: 5AEFD64C42C02C596620B270548332 | P5: T | Q5: F | R5: F | V5: 1 | X5: 3 | AW5: 5AEFD64C42C02C596620B27054807A5AEFD64C42C02C596620B270548332 | AY5: -
A6: 원격제어반(RTU-1A) 옥내자립형 | B6: 제어부 | C6: 면 | D6: 1 | E6: =일위대가목록!E202 -> 5682957 | F6: =TRUNC(E6*D6,0) -> 5682957 | G6: =일위대가목록!F202 -> 788494 | H6: =TRUNC(G6*D6,0) -> 788494 | I6: =일위대가목록!G202 -> 0 | J6: =TRUNC(I6*D6,0) -> 0 | K6: =TRUNC(E6+G6+I6,0) -> 6471451 | L6: =TRUNC(F6+H6+J6,0) -> 6471451 | M6: 금액제외 | O6: 5AEFD64C42C02C596620B270548333 | P6: T | Q6: F | R6: F | V6: 1 | X6: 3 | AW6: 5AEFD64C42C02C596620B27054807A5AEFD64C42C02C596620B270548333 | AY6: -
A7: 직접재료비 | B7: 산출재료비의 100% | C7: 식 | D7: 1 | E7: =TRUNC(SUMIF(V5:V14, RIGHTB(O7, 1), F5:F14)*U7, 2) -> 12288121 | F7: =TRUNC(E7*D7,0) -> 12288121 | G7: 0 | H7: =TRUNC(G7*D7,0) -> 0 | I7: 0 | J7: =TRUNC(I7*D7,0) -> 0 | K7: =TRUNC(E7+G7+I7,0) -> 12288121 | L7: =TRUNC(F7+H7+J7,0) -> 12288121 | M7: 금액제외 | O7: 5BB376D29710225D52800F96EF9F001 | P7: F | Q7: F | R7: F | S7: 0 | T7: 0 | U7: 1 | W7: 2 | Z7: 5 | AA7: 6 | AC7: 8 | AW7: 5AEFD64C42C02C596620B27054807A5BB376D29710225D52800F96EF9F001 | AY7: -
A8: 간접재료비 | B8: 직접재료비의 1.03% | C8: 식 | D8: 1 | E8: =TRUNC(SUMIF(W5:W14, RIGHTB(O8, 1), F5:F14)*U8, 2) -> 126567.64 | F8: =TRUNC(E8*D8,0) -> 126567 | G8: 0 | H8: =TRUNC(G8*D8,0) -> 0 | I8: 0 | J8: =TRUNC(I8*D8,0) -> 0 | K8: =TRUNC(E8+G8+I8,0) -> 126567 | L8: =TRUNC(F8+H8+J8,0) -> 126567 | M8: 금액제외 | O8: 5BB376D29710225D52800F96EF9C002 | P8: F | Q8: F | R8: F | S8: 0 | T8: 0 | U8: 0.0103 | Z8: 5 | AA8: 6 | AC8: 8 | AW8: 5AEFD64C42C02C596620B27054807A5BB376D29710225D52800F96EF9C002 | AY8: -
A9: 직접노무비 | B9: 산출노무비의 124.53% | C9: 식 | D9: 1 | E9: 0 | F9: =TRUNC(E9*D9,0) -> 0 | G9: =TRUNC(SUMIF(X5:X14, RIGHTB(O9, 1), H5:H14)*U9, 2) -> 1381675.3 | H9: =TRUNC(G9*D9,0) -> 1381675 | I9: 0 | J9: =TRUNC(I9*D9,0) -> 0 | K9: =TRUNC(E9+G9+I9,0) -> 1381675 | L9: =TRUNC(F9+H9+J9,0) -> 1381675 | M9: 금액제외 | O9: 5BB376D29710225D52800F96EF9D003 | P9: F | Q9: F | R9: F | S9: 1 | T9: 1 | U9: 1.2453 | Y9: 4 | AA9: 6 | AB9: 7 | AC9: 8 | AW9: 5AEFD64C42C02C596620B27054807A5BB376D29710225D52800F96EF9D003 | AY9: -
A10: 간접노무비 | B10: 직접노무비의 34.93% | C10: 식 | D10: 1 | E10: 0 | F10: =TRUNC(E10*D10,0) -> 0 | G10: =TRUNC(SUMIF(Y5:Y14, RIGHTB(O10, 1), H5:H14)*U10, 2) -> 482619.07 | H10: =TRUNC(G10*D10,0) -> 482619 | I10: 0 | J10: =TRUNC(I10*D10,0) -> 0 | K10: =TRUNC(E10+G10+I10,0) -> 482619 | L10: =TRUNC(F10+H10+J10,0) -> 482619 | M10: 금액제외 | O10: 5BB376D29710225D52800F96EF9A004 | P10: F | Q10: F | R10: F | S10: 1 | T10: 1 | U10: 0.3493 | AA10: 6 | AB10: 7 | AC10: 8 | AW10: 5AEFD64C42C02C596620B27054807A5BB376D29710225D52800F96EF9A004 | AY10: -
A11: 경 비 | B11: 재료비의 8.95% | C11: 식 | D11: 1 | E11: 0 | F11: =TRUNC(E11*D11,0) -> 0 | G11: 0 | H11: =TRUNC(G11*D11,0) -> 0 | I11: =TRUNC(SUMIF(Z5:Z14, RIGHTB(O11, 1), F5:F14)*U11, 2) -> 1111114.6 | J11: =TRUNC(I11*D11,0) -> 1111114 | K11: =TRUNC(E11+G11+I11,0) -> 1111114 | L11: =TRUNC(F11+H11+J11,0) -> 1111114 | M11: 금액제외 | O11: 5BB376D29710225D52800F96EF9B005 | P11: F | Q11: F | R11: F | S11: 0 | T11: 2 | U11: 0.0895 | AA11: 6 | AB11: 7 | AC11: 8 | AW11: 5AEFD64C42C02C596620B27054807A5BB376D29710225D52800F96EF9B005 | AY11: -
A12: 일반관리비 | B12: (재+노+경)의 7% | C12: 식 | D12: 1 | E12: 0 | F12: =TRUNC(E12*D12,0) -> 0 | G12: 0 | H12: =TRUNC(G12*D12,0) -> 0 | I12: =TRUNC(SUMIF(AA5:AA14, RIGHTB(O12, 1), L5:L14)*U12, 2) -> 1077306.7 | J12: =TRUNC(I12*D12,0) -> 1077306 | K12: =TRUNC(E12+G12+I12,0) -> 1077306 | L12: =TRUNC(F12+H12+J12,0) -> 1077306 | M12: 금액제외 | O12: 5BB376D29710225D52800F96EF98006 | P12: F | Q12: F | R12: F | S12: 3 | T12: 2 | U12: 0.07 | AB12: 7 | AC12: 8 | AW12: 5AEFD64C42C02C596620B27054807A5BB376D29710225D52800F96EF98006 | AY12: -
A13: 이 윤 | B13: (노+경+일)의 25% | C13: 식 | D13: 1 | E13: 0 | F13: =TRUNC(E13*D13,0) -> 0 | G13: 0 | H13: =TRUNC(G13*D13,0) -> 0 | I13: =TRUNC(SUMIF(AB5:AB14, RIGHTB(O13, 1), L5:L14)*U13, 2) -> 1013178.5 | J13: =TRUNC(I13*D13,0) -> 1013178 | K13: =TRUNC(E13+G13+I13,0) -> 1013178 | L13: =TRUNC(F13+H13+J13,0) -> 1013178 | M13: 금액제외 | O13: 5BB376D29710225D52800F96EF99007 | P13: F | Q13: F | R13: F | S13: 3 | T13: 2 | U13: 0.25 | AC13: 8 | AW13: 5AEFD64C42C02C596620B27054807A5BB376D29710225D52800F96EF99007 | AY13: -
A14: 총 계 | B14: 합계의 100% | C14: 식 | D14: 1 | E14: =TRUNC(SUMIF(AC5:AC14, RIGHTB(O14, 1), L5:L14)*U14, 2) -> 17480580 | F14: =TRUNC(E14*D14,0) -> 17480580 | G14: 0 | H14: =TRUNC(G14*D14,0) -> 0 | I14: 0 | J14: =TRUNC(I14*D14,0) -> 0 | K14: =TRUNC(E14+G14+I14,0) -> 17480580 | L14: =TRUNC(F14+H14+J14,0) -> 17480580 | N14: 5AEFD64C42C02C596620B27054807A | O14: 5BB376D29710225D52800F96EF96008 | P14: F | Q14: F | R14: F | S14: 3 | T14: 0 | U14: 1 | AW14: 5AEFD64C42C02C596620B27054807A5BB376D29710225D52800F96EF96008
A15: [ 합 계 ] | F15: =TRUNC(SUMIF(N5:N14, N4, F5:F14),0) -> 17480580 | H15: =TRUNC(SUMIF(N5:N14, N4, H5:H14),0) -> 0 | J15: =TRUNC(SUMIF(N5:N14, N4, J5:J14),0) -> 0 | L15: =F15+H15+J15 -> 17480580 | N15: TOTAL | O15: TOTAL
A17: 원격제어반(수문) (제작율 적용) 옥외자립형(STS), 800(W)x1800(H)x600(D) 면 ( 호표 2 ) | N17: 5AEFD64C42C02C596620B270548106
A18: 원격제어반(수문) 옥외자립형 | B18: 전원부 | C18: 면 | D18: 1 | E18: =일위대가목록!E206 -> 7086187 | F18: =TRUNC(E18*D18,0) -> 7086187 | G18: =일위대가목록!F206 -> 887742 | H18: =TRUNC(G18*D18,0) -> 887742 | I18: =일위대가목록!G206 -> 0 | J18: =TRUNC(I18*D18,0) -> 0 | K18: =TRUNC(E18+G18+I18,0) -> 7973929 | L18: =TRUNC(F18+H18+J18,0) -> 7973929 | M18: 금액제외 | O18: 5AEFD64C42C02C596620B270548104 | P18: T | Q18: F | R18: F | V18: 1 | X18: 3 | AW18: 5AEFD64C42C02C596620B2705481065AEFD64C42C02C596620B270548104 | AY18: -
A19: 원격제어반(수문) 옥외자립형 | B19: 제어부 | C19: 면 | D19: 1 | E19: =일위대가목록!E207 -> 5754857 | F19: =TRUNC(E19*D19,0) -> 5754857 | G19: =일위대가목록!F207 -> 788494 | H19: =TRUNC(G19*D19,0) -> 788494 | I19: =일위대가목록!G207 -> 0 | J19: =TRUNC(I19*D19,0) -> 0 | K19: =TRUNC(E19+G19+I19,0) -> 6543351 | L19: =TRUNC(F19+H19+J19,0) -> 6543351 | M19: 금액제외 | O19: 5AEFD64C42C02C596620B270548105 | P19: T | Q19: F | R19: F | V19: 1 | X19: 3 | AW19: 5AEFD64C42C02C596620B2705481065AEFD64C42C02C596620B270548105 | AY19: -
A20: 직접재료비 | B20: 산출재료비의 100% | C20: 식 | D20: 1 | E20: =TRUNC(SUMIF(V18:V27, RIGHTB(O20, 1), F18:F27)*U20, 2) -> 12841044 | F20: =TRUNC(E20*D20,0) -> 12841044 | G20: 0 | H20: =TRUNC(G20*D20,0) -> 0 | I20: 0 | J20: =TRUNC(I20*D20,0) -> 0 | K20: =TRUNC(E20+G20+I20,0) -> 12841044 | L20: =TRUNC(F20+H20+J20,0) -> 12841044 | M20: 금액제외 | O20: 5BB376D29710225D52800F96EF9F001 | P20: F | Q20: F | R20: F | S20: 0 | T20: 0 | U20: 1 | W20: 2 | Z20: 5 | AA20: 6 | AC20: 8 | AW20: 5AEFD64C42C02C596620B2705481065BB376D29710225D52800F96EF9F001 | AY20: -
A21: 간접재료비 | B21: 직접재료비의 1.03% | C21: 식 | D21: 1 | E21: =TRUNC(SUMIF(W18:W27, RIGHTB(O21, 1), F18:F27)*U21, 2) -> 132262.75 | F21: =TRUNC(E21*D21,0) -> 132262 | G21: 0 | H21: =TRUNC(G21*D21,0) -> 0 | I21: 0 | J21: =TRUNC(I21*D21,0) -> 0 | K21: =TRUNC(E21+G21+I21,0) -> 132262 | L21: =TRUNC(F21+H21+J21,0) -> 132262 | M21: 금액제외 | O21: 5BB376D29710225D52800F96EF9C002 | P21: F | Q21: F | R21: F | S21: 0 | T21: 0 | U21: 0.0103 | Z21: 5 | AA21: 6 | AC21: 8 | AW21: 5AEFD64C42C02C596620B2705481065BB376D29710225D52800F96EF9C002 | AY21: -
A22: 직접노무비 | B22: 산출노무비의 124.53% | C22: 식 | D22: 1 | E22: 0 | F22: =TRUNC(E22*D22,0) -> 0 | G22: =TRUNC(SUMIF(X18:X27, RIGHTB(O22, 1), H18:H27)*U22, 2) -> 2087416.7 | H22: =TRUNC(G22*D22,0) -> 2087416 | I22: 0 | J22: =TRUNC(I22*D22,0) -> 0 | K22: =TRUNC(E22+G22+I22,0) -> 2087416 | L22: =TRUNC(F22+H22+J22,0) -> 2087416 | M22: 금액제외 | O22: 5BB376D29710225D52800F96EF9D003 | P22: F | Q22: F | R22: F | S22: 1 | T22: 1 | U22: 1.2453 | Y22: 4 | AA22: 6 | AB22: 7 | AC22: 8 | AW22: 5AEFD64C42C02C596620B2705481065BB376D29710225D52800F96EF9D003 | AY22: -
A23: 간접노무비 | B23: 직접노무비의 34.93% | C23: 식 | D23: 1 | E23: 0 | F23: =TRUNC(E23*D23,0) -> 0 | G23: =TRUNC(SUMIF(Y18:Y27, RIGHTB(O23, 1), H18:H27)*U23, 2) -> 729134.4 | H23: =TRUNC(G23*D23,0) -> 729134 | I23: 0 | J23: =TRUNC(I23*D23,0) -> 0 | K23: =TRUNC(E23+G23+I23,0) -> 729134 | L23: =TRUNC(F23+H23+J23,0) -> 729134 | M23: 금액제외 | O23: 5BB376D29710225D52800F96EF9A004 | P23: F | Q23: F | R23: F | S23: 1 | T23: 1 | U23: 0.3493 | AA23: 6 | AB23: 7 | AC23: 8 | AW23: 5AEFD64C42C02C596620B2705481065BB376D29710225D52800F96EF9A004 | AY23: -
A24: 경 비 | B24: 재료비의 8.95% | C24: 식 | D24: 1 | E24: 0 | F24: =TRUNC(E24*D24,0) -> 0 | G24: 0 | H24: =TRUNC(G24*D24,0) -> 0 | I24: =TRUNC(SUMIF(Z18:Z27, RIGHTB(O24, 1), F18:F27)*U24, 2) -> 1161110.9 | J24: =TRUNC(I24*D24,0) -> 1161110 | K24: =TRUNC(E24+G24+I24,0) -> 1161110 | L24: =TRUNC(F24+H24+J24,0) -> 1161110 | M24: 금액제외 | O24: 5BB376D29710225D52800F96EF9B005 | P24: F | Q24: F | R24: F | S24: 0 | T24: 2 | U24: 0.0895 | AA24: 6 | AB24: 7 | AC24: 8 | AW24: 5AEFD64C42C02C596620B2705481065BB376D29710225D52800F96EF9B005 | AY24: -
A25: 일반관리비 | B25: (재+노+경)의 7% | C25: 식 | D25: 1 | E25: 0 | F25: =TRUNC(E25*D25,0) -> 0 | G25: 0 | H25: =TRUNC(G25*D25,0) -> 0 | I25: =TRUNC(SUMIF(AA18:AA27, RIGHTB(O25, 1), L18:L27)*U25, 2) -> 1186567.6 | J25: =TRUNC(I25*D25,0) -> 1186567 | K25: =TRUNC(E25+G25+I25,0) -> 1186567 | L25: =TRUNC(F25+H25+J25,0) -> 1186567 | M25: 금액제외 | O25: 5BB376D29710225D52800F96EF98006 | P25: F | Q25: F | R25: F | S25: 3 | T25: 2 | U25: 0.07 | AB25: 7 | AC25: 8 | AW25: 5AEFD64C42C02C596620B2705481065BB376D29710225D52800F96EF98006 | AY25: -
A26: 이 윤 | B26: (노+경+일)의 25% | C26: 식 | D26: 1 | E26: 0 | F26: =TRUNC(E26*D26,0) -> 0 | G26: 0 | H26: =TRUNC(G26*D26,0) -> 0 | I26: =TRUNC(SUMIF(AB18:AB27, RIGHTB(O26, 1), L18:L27)*U26, 2) -> 1291056.8 | J26: =TRUNC(I26*D26,0) -> 1291056 | K26: =TRUNC(E26+G26+I26,0) -> 1291056 | L26: =TRUNC(F26+H26+J26,0) -> 1291056 | M26: 금액제외 | O26: 5BB376D29710225D52800F96EF99007 | P26: F | Q26: F | R26: F | S26: 3 | T26: 2 | U26: 0.25 | AC26: 8 | AW26: 5AEFD64C42C02C596620B2705481065BB376D29710225D52800F96EF99007 | AY26: -
A27: 총 계 | B27: 합계의 100% | C27: 식 | D27: 1 | E27: =TRUNC(SUMIF(AC18:AC27, RIGHTB(O27, 1), L18:L27)*U27, 2) -> 19428589 | F27: =TRUNC(E27*D27,0) -> 19428589 | G27: 0 | H27: =TRUNC(G27*D27,0) -> 0 | I27: 0 | J27: =TRUNC(I27*D27,0) -> 0 | K27: =TRUNC(E27+G27+I27,0) -> 19428589 | L27: =TRUNC(F27+H27+J27,0) -> 19428589 | N27: 5AEFD64C42C02C596620B270548106 | O27: 5BB376D29710225D52800F96EF96008 | P27: F | Q27: F | R27: F | S27: 3 | T27: 0 | U27: 1 | AW27: 5AEFD64C42C02C596620B2705481065BB376D29710225D52800F96EF96008
A28: [ 합 계 ] | F28: =TRUNC(SUMIF(N18:N27, N17, F18:F27),0) -> 19428589 | H28: =TRUNC(SUMIF(N18:N27, N17, H18:H27),0) -> 0 | J28: =TRUNC(SUMIF(N18:N27, N17, J18:J27),0) -> 0 | L28: =F28+H28+J28 -> 19428589 | N28: TOTAL | O28: TOTAL
A30: 영상관제장치 점검 9-4-17 디지털 사이니지 대 ( 호표 3 ) | N30: 5AEFD64C42C02C596620B270548686
A31: 통신관련산업기사 | B31: 기타 직종 | C31: 인 | D31: 0.41 | E31: =단가대비표!O48 -> 0 | F31: =TRUNC(E31*D31,0) -> 0 | G31: =단가대비표!P48 -> 304509 | H31: =TRUNC(G31*D31,0) -> 124848 | I31: =단가대비표!V48 -> 0 | J31: =TRUNC(I31*D31,0) -> 0 | K31: =TRUNC(E31+G31+I31,0) -> 304509 | L31: =TRUNC(F31+H31+J31,0) -> 124848 | N31: 5AEFD64C42C02C596620B270548686 | O31: 5A7506E70FB02750C970CD079E4CA1374BB706 | P31: F | Q31: F | R31: T | V31: 1 | AW31: 5AEFD64C42C02C596620B2705486865A7506E70FB02750C970CD079E4CA1374BB706
A32: S/W시험사 | B32: 광전자 직종 | C32: 인 | D32: 0.41 | E32: =단가대비표!O47 -> 0 | F32: =TRUNC(E32*D32,0) -> 0 | G32: =단가대비표!P47 -> 446358 | H32: =TRUNC(G32*D32,0) -> 183006 | I32: =단가대비표!V47 -> 0 | J32: =TRUNC(I32*D32,0) -> 0 | K32: =TRUNC(E32+G32+I32,0) -> 446358 | L32: =TRUNC(F32+H32+J32,0) -> 183006 | N32: 5AEFD64C42C02C596620B270548686 | O32: 5A7506E70FB02750C970CAB3417ADAB8E7319E | P32: F | Q32: F | R32: T | V32: 1 | AW32: 5AEFD64C42C02C596620B2705486865A7506E70FB02750C970CAB3417ADAB8E7319E
A33: 공구손료 | B33: 인력품의 3% | C33: 식 | D33: 1 | E33: =TRUNC(SUMIF(V31:V33, RIGHTB(O33, 1), H31:H33)*U33, 2) -> 9235.62 | F33: =TRUNC(E33*D33,0) -> 9235 | G33: 0 | H33: =TRUNC(G33*D33,0) -> 0 | I33: 0 | J33: =TRUNC(I33*D33,0) -> 0 | K33: =TRUNC(E33+G33+I33,0) -> 9235 | L33: =TRUNC(F33+H33+J33,0) -> 9235 | N33: 5AEFD64C42C02C596620B270548686 | O33: 5BB376D29710225D52800F96EF9F001 | P33: F | Q33: F | R33: F | S33: 1 | T33: 0 | U33: 0.03 | AW33: 5AEFD64C42C02C596620B2705486865BB376D29710225D52800F96EF9F001
A34: [ 합 계 ] | F34: =TRUNC(SUMIF(N31:N33, N30, F31:F33),0) -> 9235 | H34: =TRUNC(SUMIF(N31:N33, N30, H31:H33),0) -> 307854 | J34: =TRUNC(SUMIF(N31:N33, N30, J31:J33),0) -> 0 | L34: =F34+H34+J34 -> 317089 | N34: TOTAL | O34: TOTAL
A36: 자동화시설 현장조치 1일 1개소 조치비용 EA ( 호표 4 ) | N36: 5AEFD64C42C02C596620B270548B0C
A37: S/W시험사 | B37: 광전자 직종 | C37: 인 | D37: 0.4 | E37: =단가대비표!O47 -> 0 | F37: =TRUNC(E37*D37,0) -> 0 | G37: =단가대비표!P47 -> 446358 | H37: =TRUNC(G37*D37,0) -> 178543 | I37: =단가대비표!V47 -> 0 | J37: =TRUNC(I37*D37,0) -> 0 | K37: =TRUNC(E37+G37+I37,0) -> 446358 | L37: =TRUNC(F37+H37+J37,0) -> 178543 | N37: 5AEFD64C42C02C596620B270548B0C | O37: 5A7506E70FB02750C970CAB3417ADAB8E7319E | P37: F | Q37: F | R37: T | V37: 1 | AW37: 5AEFD64C42C02C596620B270548B0C5A7506E70FB02750C970CAB3417ADAB8E7319E
A38: 특별인부 | B38: 일반공사 직종 | C38: 인 | D38: 0.4 | E38: =단가대비표!O31 -> 0 | F38: =TRUNC(E38*D38,0) -> 0 | G38: =단가대비표!P31 -> 226122 | H38: =TRUNC(G38*D38,0) -> 90448 | I38: =단가대비표!V31 -> 0 | J38: =TRUNC(I38*D38,0) -> 0 | K38: =TRUNC(E38+G38+I38,0) -> 226122 | L38: =TRUNC(F38+H38+J38,0) -> 90448 | N38: 5AEFD64C42C02C596620B270548B0C | O38: 5A7506E70FB02750C970C9AD749F14B50D8FC2 | P38: F | Q38: F | R38: T | V38: 1 | AW38: 5AEFD64C42C02C596620B270548B0C5A7506E70FB02750C970C9AD749F14B50D8FC2
A39: 공구손료 | B39: 인력품의 3% | C39: 식 | D39: 1 | E39: =TRUNC(SUMIF(V37:V39, RIGHTB(O39, 1), H37:H39)*U39, 2) -> 8069.73 | F39: =TRUNC(E39*D39,0) -> 8069 | G39: 0 | H39: =TRUNC(G39*D39,0) -> 0 | I39: 0 | J39: =TRUNC(I39*D39,0) -> 0 | K39: =TRUNC(E39+G39+I39,0) -> 8069 | L39: =TRUNC(F39+H39+J39,0) -> 8069 | N39: 5AEFD64C42C02C596620B270548B0C | O39: 5BB376D29710225D52800F96EF9F001 | P39: F | Q39: F | R39: F | S39: 1 | T39: 0 | U39: 0.03 | AW39: 5AEFD64C42C02C596620B270548B0C5BB376D29710225D52800F96EF9D003
A40: [ 합 계 ] | F40: =TRUNC(SUMIF(N37:N39, N36, F37:F39),0) -> 8069 | H40: =TRUNC(SUMIF(N37:N39, N36, H37:H39),0) -> 268991 | J40: =TRUNC(SUMIF(N37:N39, N36, J37:J39),0) -> 0 | L40: =F40+H40+J40 -> 277060 | N40: TOTAL | O40: TOTAL
A42: 자동화시설 현장조치 2번째 이상 개소당 조치비용 EA ( 호표 5 ) | N42: 5AEFD64C42C02C596620B270548B0D
A43: S/W시험사 | B43: 광전자 직종 | C43: 인 | D43: 0.11 | E43: =단가대비표!O47 -> 0 | F43: =TRUNC(E43*D43,0) -> 0 | G43: =단가대비표!P47 -> 446358 | H43: =TRUNC(G43*D43,0) -> 49099 | I43: =단가대비표!V47 -> 0 | J43: =TRUNC(I43*D43,0) -> 0 | K43: =TRUNC(E43+G43+I43,0) -> 446358 | L43: =TRUNC(F43+H43+J43,0) -> 49099 | N43: 5AEFD64C42C02C596620B270548B0D | O43: 5A7506E70FB02750C970CAB3417ADAB8E7319E | P43: F | Q43: F | R43: T | V43: 1 | AW43: 5AEFD64C42C02C596620B270548B0D5A7506E70FB02750C970CAB3417ADAB8E7319E
A44: 특별인부 | B44: 일반공사 직종 | C44: 인 | D44: 0.11 | E44: =단가대비표!O31 -> 0 | F44: =TRUNC(E44*D44,0) -> 0 | G44: =단가대비표!P31 -> 226122 | H44: =TRUNC(G44*D44,0) -> 24873 | I44: =단가대비표!V31 -> 0 | J44: =TRUNC(I44*D44,0) -> 0 | K44: =TRUNC(E44+G44+I44,0) -> 226122 | L44: =TRUNC(F44+H44+J44,0) -> 24873 | N44: 5AEFD64C42C02C596620B270548B0D | O44: 5A7506E70FB02750C970C9AD749F14B50D8FC2 | P44: F | Q44: F | R44: T | V44: 1 | AW44: 5AEFD64C42C02C596620B270548B0D5A7506E70FB02750C970C9AD749F14B50D8FC2
A45: 공구손료 | B45: 인력품의 3% | C45: 식 | D45: 1 | E45: =TRUNC(SUMIF(V43:V45, RIGHTB(O45, 1), H43:H45)*U45, 2) -> 2219.16 | F45: =TRUNC(E45*D45,0) -> 2219 | G45: 0 | H45: =TRUNC(G45*D45,0) -> 0 | I45: 0 | J45: =TRUNC(I45*D45,0) -> 0 | K45: =TRUNC(E45+G45+I45,0) -> 2219 | L45: =TRUNC(F45+H45+J45,0) -> 2219 | N45: 5AEFD64C42C02C596620B270548B0D | O45: 5BB376D29710225D52800F96EF9F001 | P45: F | Q45: F | R45: F | S45: 1 | T45: 0 | U45: 0.03 | AW45: 5AEFD64C42C02C596620B270548B0D5BB376D29710225D52800F96EF9D003
A46: [ 합 계 ] | F46: =TRUNC(SUMIF(N43:N45, N42, F43:F45),0) -> 2219 | H46: =TRUNC(SUMIF(N43:N45, N42, H43:H45),0) -> 73972 | J46: =TRUNC(SUMIF(N43:N45, N42, J43:J45),0) -> 0 | L46: =F46+H46+J46 -> 76191 | N46: TOTAL | O46: TOTAL
A48: 중앙관리소 현장조치 컴퓨터 장비 HR ( 호표 6 ) | N48: 5AEFD64C42C02C596620B270548B0E
A49: S/W시험사 | B49: 광전자 직종 | C49: 인 | D49: 0.08 | E49: =단가대비표!O47 -> 0 | F49: =TRUNC(E49*D49,0) -> 0 | G49: =단가대비표!P47 -> 446358 | H49: =TRUNC(G49*D49,0) -> 35708 | I49: =단가대비표!V47 -> 0 | J49: =TRUNC(I49*D49,0) -> 0 | K49: =TRUNC(E49+G49+I49,0) -> 446358 | L49: =TRUNC(F49+H49+J49,0) -> 35708 | N49: 5AEFD64C42C02C596620B270548B0E | O49: 5A7506E70FB02750C970CAB3417ADAB8E7319E | P49: F | Q49: F | R49: T | V49: 1 | AW49: 5AEFD64C42C02C596620B270548B0E5A7506E70FB02750C970CAB3417ADAB8E7319E
A50: H/W시험사 | B50: 광전자 직종 | C50: 인 | D50: 0.08 | E50: =단가대비표!O46 -> 0 | F50: =TRUNC(E50*D50,0) -> 0 | G50: =단가대비표!P46 -> 393090 | H50: =TRUNC(G50*D50,0) -> 31447 | I50: =단가대비표!V46 -> 0 | J50: =TRUNC(I50*D50,0) -> 0 | K50: =TRUNC(E50+G50+I50,0) -> 393090 | L50: =TRUNC(F50+H50+J50,0) -> 31447 | N50: 5AEFD64C42C02C596620B270548B0E | O50: 5A7506E70FB02750C970CAB3417ADAB8E73199 | P50: F | Q50: F | R50: T | V50: 1 | AW50: 5AEFD64C42C02C596620B270548B0E5A7506E70FB02750C970CAB3417ADAB8E73199
A51: 특별인부 | B51: 일반공사 직종 | C51: 인 | D51: 0.05 | E51: =단가대비표!O31 -> 0 | F51: =TRUNC(E51*D51,0) -> 0 | G51: =단가대비표!P31 -> 226122 | H51: =TRUNC(G51*D51,0) -> 11306 | I51: =단가대비표!V31 -> 0 | J51: =TRUNC(I51*D51,0) -> 0 | K51: =TRUNC(E51+G51+I51,0) -> 226122 | L51: =TRUNC(F51+H51+J51,0) -> 11306 | N51: 5AEFD64C42C02C596620B270548B0E | O51: 5A7506E70FB02750C970C9AD749F14B50D8FC2 | P51: F | Q51: F | R51: T | V51: 1 | AW51: 5AEFD64C42C02C596620B270548B0E5A7506E70FB02750C970C9AD749F14B50D8FC2
A52: 공구손료 | B52: 인력품의 3% | C52: 식 | D52: 1 | E52: =TRUNC(SUMIF(V49:V52, RIGHTB(O52, 1), H49:H52)*U52, 2) -> 2353.83 | F52: =TRUNC(E52*D52,0) -> 2353 | G52: 0 | H52: =TRUNC(G52*D52,0) -> 0 | I52: 0 | J52: =TRUNC(I52*D52,0) -> 0 | K52: =TRUNC(E52+G52+I52,0) -> 2353 | L52: =TRUNC(F52+H52+J52,0) -> 2353 | N52: 5AEFD64C42C02C596620B270548B0E | O52: 5BB376D29710225D52800F96EF9F001 | P52: F | Q52: F | R52: F | S52: 1 | T52: 0 | U52: 0.03 | AW52: 5AEFD64C42C02C596620B270548B0E5BB376D29710225D52800F96EF9D003
A53: [ 합 계 ] | F53: =TRUNC(SUMIF(N49:N52, N48, F49:F52),0) -> 2353 | H53: =TRUNC(SUMIF(N49:N52, N48, H49:H52),0) -> 78461 | J53: =TRUNC(SUMIF(N49:N52, N48, J49:J52),0) -> 0 | L53: =F53+H53+J53 -> 80814 | N53: TOTAL | O53: TOTAL
A55: 중앙관리소 현장조치 HMI S/W HR ( 호표 7 ) | N55: 5AEFD64C42C02C596620B270548B00
A56: S/W시험사 | B56: 광전자 직종 | C56: 인 | D56: 0.08 | E56: =단가대비표!O47 -> 0 | F56: =TRUNC(E56*D56,0) -> 0 | G56: =단가대비표!P47 -> 446358 | H56: =TRUNC(G56*D56,0) -> 35708 | I56: =단가대비표!V47 -> 0 | J56: =TRUNC(I56*D56,0) -> 0 | K56: =TRUNC(E56+G56+I56,0) -> 446358 | L56: =TRUNC(F56+H56+J56,0) -> 35708 | N56: 5AEFD64C42C02C596620B270548B00 | O56: 5A7506E70FB02750C970CAB3417ADAB8E7319E | P56: F | Q56: F | R56: T | V56: 1 | AW56: 5AEFD64C42C02C596620B270548B005A7506E70FB02750C970CAB3417ADAB8E7319E
A57: H/W시험사 | B57: 광전자 직종 | C57: 인 | D57: 0.08 | E57: =단가대비표!O46 -> 0 | F57: =TRUNC(E57*D57,0) -> 0 | G57: =단가대비표!P46 -> 393090 | H57: =TRUNC(G57*D57,0) -> 31447 | I57: =단가대비표!V46 -> 0 | J57: =TRUNC(I57*D57,0) -> 0 | K57: =TRUNC(E57+G57+I57,0) -> 393090 | L57: =TRUNC(F57+H57+J57,0) -> 31447 | N57: 5AEFD64C42C02C596620B270548B00 | O57: 5A7506E70FB02750C970CAB3417ADAB8E73199 | P57: F | Q57: F | R57: T | V57: 1 | AW57: 5AEFD64C42C02C596620B270548B005A7506E70FB02750C970CAB3417ADAB8E73199
A58: 특별인부 | B58: 일반공사 직종 | C58: 인 | D58: 0.05 | E58: =단가대비표!O31 -> 0 | F58: =TRUNC(E58*D58,0) -> 0 | G58: =단가대비표!P31 -> 226122 | H58: =TRUNC(G58*D58,0) -> 11306 | I58: =단가대비표!V31 -> 0 | J58: =TRUNC(I58*D58,0) -> 0 | K58: =TRUNC(E58+G58+I58,0) -> 226122 | L58: =TRUNC(F58+H58+J58,0) -> 11306 | N58: 5AEFD64C42C02C596620B270548B00 | O58: 5A7506E70FB02750C970C9AD749F14B50D8FC2 | P58: F | Q58: F | R58: T | V58: 1 | AW58: 5AEFD64C42C02C596620B270548B005A7506E70FB02750C970C9AD749F14B50D8FC2
A59: 공구손료 | B59: 인력품의 3% | C59: 식 | D59: 1 | E59: =TRUNC(SUMIF(V56:V59, RIGHTB(O59, 1), H56:H59)*U59, 2) -> 2353.83 | F59: =TRUNC(E59*D59,0) -> 2353 | G59: 0 | H59: =TRUNC(G59*D59,0) -> 0 | I59: 0 | J59: =TRUNC(I59*D59,0) -> 0 | K59: =TRUNC(E59+G59+I59,0) -> 2353 | L59: =TRUNC(F59+H59+J59,0) -> 2353 | N59: 5AEFD64C42C02C596620B270548B00 | O59: 5BB376D29710225D52800F96EF9F001 | P59: F | Q59: F | R59: F | S59: 1 | T59: 0 | U59: 0.03 | AW59: 5AEFD64C42C02C596620B270548B005BB376D29710225D52800F96EF9D003
A60: [ 합 계 ] | F60: =TRUNC(SUMIF(N56:N59, N55, F56:F59),0) -> 2353 | H60: =TRUNC(SUMIF(N56:N59, N55, H56:H59),0) -> 78461 | J60: =TRUNC(SUMIF(N56:N59, N55, J56:J59),0) -> 0 | L60: =F60+H60+J60 -> 80814 | N60: TOTAL | O60: TOTAL
A62: 중앙관리소 현장조치 CCTV S/W HR ( 호표 8 ) | N62: 5AEFD64C42C02C596620B270548B01
A63: S/W시험사 | B63: 광전자 직종 | C63: 인 | D63: 0.08 | E63: =단가대비표!O47 -> 0 | F63: =TRUNC(E63*D63,0) -> 0 | G63: =단가대비표!P47 -> 446358 | H63: =TRUNC(G63*D63,0) -> 35708 | I63: =단가대비표!V47 -> 0 | J63: =TRUNC(I63*D63,0) -> 0 | K63: =TRUNC(E63+G63+I63,0) -> 446358 | L63: =TRUNC(F63+H63+J63,0) -> 35708 | N63: 5AEFD64C42C02C596620B270548B01 | O63: 5A7506E70FB02750C970CAB3417ADAB8E7319E | P63: F | Q63: F | R63: T | V63: 1 | AW63: 5AEFD64C42C02C596620B270548B015A7506E70FB02750C970CAB3417ADAB8E7319E
A64: H/W시험사 | B64: 광전자 직종 | C64: 인 | D64: 0.08 | E64: =단가대비표!O46 -> 0 | F64: =TRUNC(E64*D64,0) -> 0 | G64: =단가대비표!P46 -> 393090 | H64: =TRUNC(G64*D64,0) -> 31447 | I64: =단가대비표!V46 -> 0 | J64: =TRUNC(I64*D64,0) -> 0 | K64: =TRUNC(E64+G64+I64,0) -> 393090 | L64: =TRUNC(F64+H64+J64,0) -> 31447 | N64: 5AEFD64C42C02C596620B270548B01 | O64: 5A7506E70FB02750C970CAB3417ADAB8E73199 | P64: F | Q64: F | R64: T | V64: 1 | AW64: 5AEFD64C42C02C596620B270548B015A7506E70FB02750C970CAB3417ADAB8E73199
A65: 특별인부 | B65: 일반공사 직종 | C65: 인 | D65: 0.05 | E65: =단가대비표!O31 -> 0 | F65: =TRUNC(E65*D65,0) -> 0 | G65: =단가대비표!P31 -> 226122 | H65: =TRUNC(G65*D65,0) -> 11306 | I65: =단가대비표!V31 -> 0 | J65: =TRUNC(I65*D65,0) -> 0 | K65: =TRUNC(E65+G65+I65,0) -> 226122 | L65: =TRUNC(F65+H65+J65,0) -> 11306 | N65: 5AEFD64C42C02C596620B270548B01 | O65: 5A7506E70FB02750C970C9AD749F14B50D8FC2 | P65: F | Q65: F | R65: T | V65: 1 | AW65: 5AEFD64C42C02C596620B270548B015A7506E70FB02750C970C9AD749F14B50D8FC2
A66: 공구손료 | B66: 인력품의 3% | C66: 식 | D66: 1 | E66: =TRUNC(SUMIF(V63:V66, RIGHTB(O66, 1), H63:H66)*U66, 2) -> 2353.83 | F66: =TRUNC(E66*D66,0) -> 2353 | G66: 0 | H66: =TRUNC(G66*D66,0) -> 0 | I66: 0 | J66: =TRUNC(I66*D66,0) -> 0 | K66: =TRUNC(E66+G66+I66,0) -> 2353 | L66: =TRUNC(F66+H66+J66,0) -> 2353 | N66: 5AEFD64C42C02C596620B270548B01 | O66: 5BB376D29710225D52800F96EF9F001 | P66: F | Q66: F | R66: F | S66: 1 | T66: 0 | U66: 0.03 | AW66: 5AEFD64C42C02C596620B270548B015BB376D29710225D52800F96EF9D003
A67: [ 합 계 ] | F67: =TRUNC(SUMIF(N63:N66, N62, F63:F66),0) -> 2353 | H67: =TRUNC(SUMIF(N63:N66, N62, H63:H66),0) -> 78461 | J67: =TRUNC(SUMIF(N63:N66, N62, J63:J66),0) -> 0 | L67: =F67+H67+J67 -> 80814 | N67: TOTAL | O67: TOTAL
A69: LAN케이블 UTP.CAT.6/CM EA ( 호표 9 ) | N69: 5AEFD64C42C02C596620B270564CCD
A70: LAN케이블 | B70: UTP.CAT.6/CM | C70: EA | D70: 1 | E70: =단가대비표!O297 -> 1370 | F70: =TRUNC(E70*D70,0) -> 1370 | G70: =단가대비표!P297 -> 0 | H70: =TRUNC(G70*D70,0) -> 0 | I70: =단가대비표!V297 -> 0 | J70: =TRUNC(I70*D70,0) -> 0 | K70: =TRUNC(E70+G70+I70,0) -> 1370 | L70: =TRUNC(F70+H70+J70,0) -> 1370 | N70: 5AEFD64C42C02C596620B270564CCD | O70: 5A6496FE91702A5141309D15AE2D5F8ED9BBA1 | P70: F | Q70: F | R70: T | V70: 1 | AW70: 5AEFD64C42C02C596620B270564CCD5A6496FE91702A5141309D15AE2D5F8ED9BBA1
A71: 잡재료 | B71: 주재료비의 2% | C71: 식 | D71: 1 | E71: =TRUNC(SUMIF(V70:V73, RIGHTB(O71, 1), F70:F73)*U71, 2) -> 27.4 | F71: =TRUNC(E71*D71,0) -> 27 | G71: 0 | H71: =TRUNC(G71*D71,0) -> 0 | I71: 0 | J71: =TRUNC(I71*D71,0) -> 0 | K71: =TRUNC(E71+G71+I71,0) -> 27 | L71: =TRUNC(F71+H71+J71,0) -> 27 | N71: 5AEFD64C42C02C596620B270564CCD | O71: 5BB376D29710225D52800F96EF9F001 | P71: F | Q71: F | R71: F | S71: 0 | T71: 0 | U71: 0.02 | W71: 2 | AW71: 5AEFD64C42C02C596620B270564CCD5BB376D29710225D52800F96EF9A004
A72: 통신케이블공 | B72: 일반공사 직종 | C72: 인 | D72: =공량산출근거서_일위대가!K6 -> 0.15 | E72: =단가대비표!O44 -> 0 | F72: =TRUNC(E72*D72,0) -> 0 | G72: =단가대비표!P44 -> 436224 | H72: =TRUNC(G72*D72,0) -> 65433 | I72: =단가대비표!V44 -> 0 | J72: =TRUNC(I72*D72,0) -> 0 | K72: =TRUNC(E72+G72+I72,0) -> 436224 | L72: =TRUNC(F72+H72+J72,0) -> 65433 | N72: 5AEFD64C42C02C596620B270564CCD | O72: 5A7506E70FB02750C970C9AD749F14B50D8782 | P72: F | Q72: F | R72: T | W72: 2 | AW72: 5AEFD64C42C02C596620B270564CCD5A7506E70FB02750C970C9AD749F14B50D8782
A73: 공구손료 | B73: 인력품의 3% | C73: 식 | D73: 1 | E73: =TRUNC(SUMIF(W70:W73, RIGHTB(O73, 1), H70:H73)*U73, 2) -> 1962.99 | F73: =TRUNC(E73*D73,0) -> 1962 | G73: 0 | H73: =TRUNC(G73*D73,0) -> 0 | I73: 0 | J73: =TRUNC(I73*D73,0) -> 0 | K73: =TRUNC(E73+G73+I73,0) -> 1962 | L73: =TRUNC(F73+H73+J73,0) -> 1962 | N73: 5AEFD64C42C02C596620B270564CCD | O73: 5BB376D29710225D52800F96EF9C002 | P73: F | Q73: F | R73: F | S73: 1 | T73: 0 | U73: 0.03 | AW73: 5AEFD64C42C02C596620B270564CCD5BB376D29710225D52800F96EF9D003
A74: [ 합 계 ] | F74: =TRUNC(SUMIF(N70:N73, N69, F70:F73),0) -> 3359 | H74: =TRUNC(SUMIF(N70:N73, N69, H70:H73),0) -> 65433 | J74: =TRUNC(SUMIF(N70:N73, N69, J70:J73),0) -> 0 | L74: =F74+H74+J74 -> 68792 | N74: TOTAL | O74: TOTAL
A76: 저독성난연가요폴리올레핀절연전선 HFIX 단선 2.5㎟ M ( 호표 10 ) | N76: 5AEFD64C42C02C596620B270548683
A77: 저독성난연가교폴리올레핀절연전선 | B77: HFIX 2.5㎟ | C77: M | D77: 1.1 | E77: =단가대비표!O292 -> 557 | F77: =TRUNC(E77*D77,0) -> 612 | G77: =단가대비표!P292 -> 0 | H77: =TRUNC(G77*D77,0) -> 0 | I77: =단가대비표!V292 -> 0 | J77: =TRUNC(I77*D77,0) -> 0 | K77: =TRUNC(E77+G77+I77,0) -> 557 | L77: =TRUNC(F77+H77+J77,0) -> 612 | N77: 5AEFD64C42C02C596620B270548683 | O77: 5A6496FE91702A5141309D15AE2D5F8EDA4B59 | P77: F | Q77: F | R77: T | V77: 1 | AW77: 5AEFD64C42C02C596620B2705486835A6496FE91702A5141309D15AE2D5F8EDA4B59
A78: 잡재료 | B78: 주재료비의 2% | C78: 식 | D78: 1 | E78: =TRUNC(SUMIF(V77:V80, RIGHTB(O78, 1), F77:F80)*U78, 2) -> 12.24 | F78: =TRUNC(E78*D78,0) -> 12 | G78: 0 | H78: =TRUNC(G78*D78,0) -> 0 | I78: 0 | J78: =TRUNC(I78*D78,0) -> 0 | K78: =TRUNC(E78+G78+I78,0) -> 12 | L78: =TRUNC(F78+H78+J78,0) -> 12 | N78: 5AEFD64C42C02C596620B270548683 | O78: 5BB376D29710225D52800F96EF9F001 | P78: F | Q78: F | R78: F | S78: 0 | T78: 0 | U78: 0.02 | AW78: 5AEFD64C42C02C596620B2705486835BB376D29710225D52800F96EF9F001
A79: 내선전공 | B79: 일반공사 직종 | C79: 인 | D79: =공량산출근거서_일위대가!K9 -> 0.011 | E79: =단가대비표!O49 -> 0 | F79: =TRUNC(E79*D79,0) -> 0 | G79: =단가대비표!P49 -> 273676 | H79: =TRUNC(G79*D79,0) -> 3010 | I79: =단가대비표!V49 -> 0 | J79: =TRUNC(I79*D79,0) -> 0 | K79: =TRUNC(E79+G79+I79,0) -> 273676 | L79: =TRUNC(F79+H79+J79,0) -> 3010 | N79: 5AEFD64C42C02C596620B270548683 | O79: 5A7506E70FB02750C970CD079E4CA1374BB702 | P79: F | Q79: F | R79: T | W79: 2 | AW79: 5AEFD64C42C02C596620B2705486835A7506E70FB02750C970CD079E4CA1374BB702
A80: 공구손료 | B80: 인력품의 3% | C80: 식 | D80: 1 | E80: =TRUNC(SUMIF(W77:W80, RIGHTB(O80, 1), H77:H80)*U80, 2) -> 90.3 | F80: =TRUNC(E80*D80,0) -> 90 | G80: 0 | H80: =TRUNC(G80*D80,0) -> 0 | I80: 0 | J80: =TRUNC(I80*D80,0) -> 0 | K80: =TRUNC(E80+G80+I80,0) -> 90 | L80: =TRUNC(F80+H80+J80,0) -> 90 | N80: 5AEFD64C42C02C596620B270548683 | O80: 5BB376D29710225D52800F96EF9C002 | P80: F | Q80: F | R80: F | S80: 1 | T80: 0 | U80: 0.03 | AW80: 5AEFD64C42C02C596620B2705486835BB376D29710225D52800F96EF9C002
A81: [ 합 계 ] | F81: =TRUNC(SUMIF(N77:N80, N76, F77:F80),0) -> 714 | H81: =TRUNC(SUMIF(N77:N80, N76, H77:H80),0) -> 3010 | J81: =TRUNC(SUMIF(N77:N80, N76, J77:J80),0) -> 0 | L81: =F81+H81+J81 -> 3724 | N81: TOTAL | O81: TOTAL
A83: 저독성난연가요폴리올레핀절연전선 HFIX 연선 4㎟ M ( 호표 11 ) | N83: 5AEFD64C42C02C596620B270548680
A84: 저독성난연가교폴리올레핀절연전선 | B84: HFIX 4㎟ | C84: M | D84: 1.1 | E84: =단가대비표!O293 -> 879 | F84: =TRUNC(E84*D84,0) -> 966 | G84: =단가대비표!P293 -> 0 | H84: =TRUNC(G84*D84,0) -> 0 | I84: =단가대비표!V293 -> 0 | J84: =TRUNC(I84*D84,0) -> 0 | K84: =TRUNC(E84+G84+I84,0) -> 879 | L84: =TRUNC(F84+H84+J84,0) -> 966 | N84: 5AEFD64C42C02C596620B270548680 | O84: 5A6496FE91702A5141309D15AE2D5F8EDA4B58 | P84: F | Q84: F | R84: T | V84: 1 | AW84: 5AEFD64C42C02C596620B2705486805A6496FE91702A5141309D15AE2D5F8EDA4B58
A85: 잡재료 | B85: 주재료비의 2% | C85: 식 | D85: 1 | E85: =TRUNC(SUMIF(V84:V87, RIGHTB(O85, 1), F84:F87)*U85, 2) -> 19.32 | F85: =TRUNC(E85*D85,0) -> 19 | G85: 0 | H85: =TRUNC(G85*D85,0) -> 0 | I85: 0 | J85: =TRUNC(I85*D85,0) -> 0 | K85: =TRUNC(E85+G85+I85,0) -> 19 | L85: =TRUNC(F85+H85+J85,0) -> 19 | N85: 5AEFD64C42C02C596620B270548680 | O85: 5BB376D29710225D52800F96EF9F001 | P85: F | Q85: F | R85: F | S85: 0 | T85: 0 | U85: 0.02 | AW85: 5AEFD64C42C02C596620B2705486805BB376D29710225D52800F96EF9F001
A86: 내선전공 | B86: 일반공사 직종 | C86: 인 | D86: =공량산출근거서_일위대가!K12 -> 0.011 | E86: =단가대비표!O49 -> 0 | F86: =TRUNC(E86*D86,0) -> 0 | G86: =단가대비표!P49 -> 273676 | H86: =TRUNC(G86*D86,0) -> 3010 | I86: =단가대비표!V49 -> 0 | J86: =TRUNC(I86*D86,0) -> 0 | K86: =TRUNC(E86+G86+I86,0) -> 273676 | L86: =TRUNC(F86+H86+J86,0) -> 3010 | N86: 5AEFD64C42C02C596620B270548680 | O86: 5A7506E70FB02750C970CD079E4CA1374BB702 | P86: F | Q86: F | R86: T | W86: 2 | AW86: 5AEFD64C42C02C596620B2705486805A7506E70FB02750C970CD079E4CA1374BB702
A87: 공구손료 | B87: 인력품의 3% | C87: 식 | D87: 1 | E87: =TRUNC(SUMIF(W84:W87, RIGHTB(O87, 1), H84:H87)*U87, 2) -> 90.3 | F87: =TRUNC(E87*D87,0) -> 90 | G87: 0 | H87: =TRUNC(G87*D87,0) -> 0 | I87: 0 | J87: =TRUNC(I87*D87,0) -> 0 | K87: =TRUNC(E87+G87+I87,0) -> 90 | L87: =TRUNC(F87+H87+J87,0) -> 90 | N87: 5AEFD64C42C02C596620B270548680 | O87: 5BB376D29710225D52800F96EF9C002 | P87: F | Q87: F | R87: F | S87: 1 | T87: 0 | U87: 0.03 | AW87: 5AEFD64C42C02C596620B2705486805BB376D29710225D52800F96EF9C002
A88: [ 합 계 ] | F88: =TRUNC(SUMIF(N84:N87, N83, F84:F87),0) -> 1075 | H88: =TRUNC(SUMIF(N84:N87, N83, H84:H87),0) -> 3010 | J88: =TRUNC(SUMIF(N84:N87, N83, J84:J87),0) -> 0 | L88: =F88+H88+J88 -> 4085 | N88: TOTAL | O88: TOTAL
A90: 접지선 F-GV 2.5㎟ M ( 호표 12 ) | N90: 5AEFD64C42C02C596620B270548681
A91: 접지선 | B91: F-GV 2.5㎟ | C91: M | D91: 1.1 | E91: =단가대비표!O287 -> 864 | F91: =TRUNC(E91*D91,0) -> 950 | G91: =단가대비표!P287 -> 0 | H91: =TRUNC(G91*D91,0) -> 0 | I91: =단가대비표!V287 -> 0 | J91: =TRUNC(I91*D91,0) -> 0 | K91: =TRUNC(E91+G91+I91,0) -> 864 | L91: =TRUNC(F91+H91+J91,0) -> 950 | N91: 5AEFD64C42C02C596620B270548681 | O91: 5A6496FE91702A5141309D15AE2D5F8EDA4B52 | P91: F | Q91: F | R91: T | V91: 1 | AW91: 5AEFD64C42C02C596620B2705486815A6496FE91702A5141309D15AE2D5F8EDA4B52
A92: 잡재료 | B92: 주재료비의 2% | C92: 식 | D92: 1 | E92: =TRUNC(SUMIF(V91:V94, RIGHTB(O92, 1), F91:F94)*U92, 2) -> 19 | F92: =TRUNC(E92*D92,0) -> 19 | G92: 0 | H92: =TRUNC(G92*D92,0) -> 0 | I92: 0 | J92: =TRUNC(I92*D92,0) -> 0 | K92: =TRUNC(E92+G92+I92,0) -> 19 | L92: =TRUNC(F92+H92+J92,0) -> 19 | N92: 5AEFD64C42C02C596620B270548681 | O92: 5BB376D29710225D52800F96EF9F001 | P92: F | Q92: F | R92: F | S92: 0 | T92: 0 | U92: 0.02 | AW92: 5AEFD64C42C02C596620B2705486815BB376D29710225D52800F96EF9F001
A93: 내선전공 | B93: 일반공사 직종 | C93: 인 | D93: =공량산출근거서_일위대가!K15 -> 0.0066 | E93: =단가대비표!O49 -> 0 | F93: =TRUNC(E93*D93,0) -> 0 | G93: =단가대비표!P49 -> 273676 | H93: =TRUNC(G93*D93,0) -> 1806 | I93: =단가대비표!V49 -> 0 | J93: =TRUNC(I93*D93,0) -> 0 | K93: =TRUNC(E93+G93+I93,0) -> 273676 | L93: =TRUNC(F93+H93+J93,0) -> 1806 | N93: 5AEFD64C42C02C596620B270548681 | O93: 5A7506E70FB02750C970CD079E4CA1374BB702 | P93: F | Q93: F | R93: T | W93: 2 | AW93: 5AEFD64C42C02C596620B2705486815A7506E70FB02750C970CD079E4CA1374BB702
A94: 공구손료 | B94: 인력품의 3% | C94: 식 | D94: 1 | E94: =TRUNC(SUMIF(W91:W94, RIGHTB(O94, 1), H91:H94)*U94, 2) -> 54.18 | F94: =TRUNC(E94*D94,0) -> 54 | G94: 0 | H94: =TRUNC(G94*D94,0) -> 0 | I94: 0 | J94: =TRUNC(I94*D94,0) -> 0 | K94: =TRUNC(E94+G94+I94,0) -> 54 | L94: =TRUNC(F94+H94+J94,0) -> 54 | N94: 5AEFD64C42C02C596620B270548681 | O94: 5BB376D29710225D52800F96EF9C002 | P94: F | Q94: F | R94: F | S94: 1 | T94: 0 | U94: 0.03 | AW94: 5AEFD64C42C02C596620B2705486815BB376D29710225D52800F96EF9C002
A95: [ 합 계 ] | F95: =TRUNC(SUMIF(N91:N94, N90, F91:F94),0) -> 1023 | H95: =TRUNC(SUMIF(N91:N94, N90, H91:H94),0) -> 1806 | J95: =TRUNC(SUMIF(N91:N94, N90, J91:J94),0) -> 0 | L95: =F95+H95+J95 -> 2829 | N95: TOTAL | O95: TOTAL
A97: 접지선 F-GV 4㎟ M ( 호표 13 ) | N97: 5AEFD64C42C02C596620B27054868E
A98: 접지선 | B98: F-GV 4㎟ | C98: M | D98: 1.1 | E98: =단가대비표!O288 -> 1172 | F98: =TRUNC(E98*D98,0) -> 1289 | G98: =단가대비표!P288 -> 0 | H98: =TRUNC(G98*D98,0) -> 0 | I98: =단가대비표!V288 -> 0 | J98: =TRUNC(I98*D98,0) -> 0 | K98: =TRUNC(E98+G98+I98,0) -> 1172 | L98: =TRUNC(F98+H98+J98,0) -> 1289 | N98: 5AEFD64C42C02C596620B27054868E | O98: 5A6496FE91702A5141309D15AE2D5F8EDA4B55 | P98: F | Q98: F | R98: T | V98: 1 | AW98: 5AEFD64C42C02C596620B27054868E5A6496FE91702A5141309D15AE2D5F8EDA4B55
A99: 잡재료 | B99: 주재료비의 2% | C99: 식 | D99: 1 | E99: =TRUNC(SUMIF(V98:V101, RIGHTB(O99, 1), F98:F101)*U99, 2) -> 25.78 | F99: =TRUNC(E99*D99,0) -> 25 | G99: 0 | H99: =TRUNC(G99*D99,0) -> 0 | I99: 0 | J99: =TRUNC(I99*D99,0) -> 0 | K99: =TRUNC(E99+G99+I99,0) -> 25 | L99: =TRUNC(F99+H99+J99,0) -> 25 | N99: 5AEFD64C42C02C596620B27054868E | O99: 5BB376D29710225D52800F96EF9F001 | P99: F | Q99: F | R99: F | S99: 0 | T99: 0 | U99: 0.02 | AW99: 5AEFD64C42C02C596620B27054868E5BB376D29710225D52800F96EF9F001
A100: 내선전공 | B100: 일반공사 직종 | C100: 인 | D100: =공량산출근거서_일위대가!K18 -> 0.0066 | E100: =단가대비표!O49 -> 0 | F100: =TRUNC(E100*D100,0) -> 0 | G100: =단가대비표!P49 -> 273676 | H100: =TRUNC(G100*D100,0) -> 1806 | I100: =단가대비표!V49 -> 0 | J100: =TRUNC(I100*D100,0) -> 0 | K100: =TRUNC(E100+G100+I100,0) -> 273676 | L100: =TRUNC(F100+H100+J100,0) -> 1806 | N100: 5AEFD64C42C02C596620B27054868E | O100: 5A7506E70FB02750C970CD079E4CA1374BB702 | P100: F | Q100: F | R100: T | W100: 2 | AW100: 5AEFD64C42C02C596620B27054868E5A7506E70FB02750C970CD079E4CA1374BB702
A101: 공구손료 | B101: 인력품의 3% | C101: 식 | D101: 1 | E101: =TRUNC(SUMIF(W98:W101, RIGHTB(O101, 1), H98:H101)*U101, 2) -> 54.18 | F101: =TRUNC(E101*D101,0) -> 54 | G101: 0 | H101: =TRUNC(G101*D101,0) -> 0 | I101: 0 | J101: =TRUNC(I101*D101,0) -> 0 | K101: =TRUNC(E101+G101+I101,0) -> 54 | L101: =TRUNC(F101+H101+J101,0) -> 54 | N101: 5AEFD64C42C02C596620B27054868E | O101: 5BB376D29710225D52800F96EF9C002 | P101: F | Q101: F | R101: F | S101: 1 | T101: 0 | U101: 0.03 | AW101: 5AEFD64C42C02C596620B27054868E5BB376D29710225D52800F96EF9C002
A102: [ 합 계 ] | F102: =TRUNC(SUMIF(N98:N101, N97, F98:F101),0) -> 1368 | H102: =TRUNC(SUMIF(N98:N101, N97, H98:H101),0) -> 1806 | J102: =TRUNC(SUMIF(N98:N101, N97, J98:J101),0) -> 0 | L102: =F102+H102+J102 -> 3174 | N102: TOTAL | O102: TOTAL
A104: 접지선 F-GV 6㎟ M ( 호표 14 ) | N104: 5AEFD64C42C02C596620B27054868F
A105: 접지선 | B105: F-GV 6㎟ | C105: M | D105: 1.1 | E105: =단가대비표!O289 -> 1395 | F105: =TRUNC(E105*D105,0) -> 1534 | G105: =단가대비표!P289 -> 0 | H105: =TRUNC(G105*D105,0) -> 0 | I105: =단가대비표!V289 -> 0 | J105: =TRUNC(I105*D105,0) -> 0 | K105: =TRUNC(E105+G105+I105,0) -> 1395 | L105: =TRUNC(F105+H105+J105,0) -> 1534 | N105: 5AEFD64C42C02C596620B27054868F | O105: 5A6496FE91702A5141309D15AE2D5F8EDA4B54 | P105: F | Q105: F | R105: T | V105: 1 | AW105: 5AEFD64C42C02C596620B27054868F5A6496FE91702A5141309D15AE2D5F8EDA4B54
A106: 잡재료 | B106: 주재료비의 2% | C106: 식 | D106: 1 | E106: =TRUNC(SUMIF(V105:V108, RIGHTB(O106, 1), F105:F108)*U106, 2) -> 30.68 | F106: =TRUNC(E106*D106,0) -> 30 | G106: 0 | H106: =TRUNC(G106*D106,0) -> 0 | I106: 0 | J106: =TRUNC(I106*D106,0) -> 0 | K106: =TRUNC(E106+G106+I106,0) -> 30 | L106: =TRUNC(F106+H106+J106,0) -> 30 | N106: 5AEFD64C42C02C596620B27054868F | O106: 5BB376D29710225D52800F96EF9F001 | P106: F | Q106: F | R106: F | S106: 0 | T106: 0 | U106: 0.02 | AW106: 5AEFD64C42C02C596620B27054868F5BB376D29710225D52800F96EF9F001
A107: 내선전공 | B107: 일반공사 직종 | C107: 인 | D107: =공량산출근거서_일위대가!K21 -> 0.0066 | E107: =단가대비표!O49 -> 0 | F107: =TRUNC(E107*D107,0) -> 0 | G107: =단가대비표!P49 -> 273676 | H107: =TRUNC(G107*D107,0) -> 1806 | I107: =단가대비표!V49 -> 0 | J107: =TRUNC(I107*D107,0) -> 0 | K107: =TRUNC(E107+G107+I107,0) -> 273676 | L107: =TRUNC(F107+H107+J107,0) -> 1806 | N107: 5AEFD64C42C02C596620B27054868F | O107: 5A7506E70FB02750C970CD079E4CA1374BB702 | P107: F | Q107: F | R107: T | W107: 2 | AW107: 5AEFD64C42C02C596620B27054868F5A7506E70FB02750C970CD079E4CA1374BB702
A108: 공구손료 | B108: 인력품의 3% | C108: 식 | D108: 1 | E108: =TRUNC(SUMIF(W105:W108, RIGHTB(O108, 1), H105:H108)*U108, 2) -> 54.18 | F108: =TRUNC(E108*D108,0) -> 54 | G108: 0 | H108: =TRUNC(G108*D108,0) -> 0 | I108: 0 | J108: =TRUNC(I108*D108,0) -> 0 | K108: =TRUNC(E108+G108+I108,0) -> 54 | L108: =TRUNC(F108+H108+J108,0) -> 54 | N108: 5AEFD64C42C02C596620B27054868F | O108: 5BB376D29710225D52800F96EF9C002 | P108: F | Q108: F | R108: F | S108: 1 | T108: 0 | U108: 0.03 | AW108: 5AEFD64C42C02C596620B27054868F5BB376D29710225D52800F96EF9C002
A109: [ 합 계 ] | F109: =TRUNC(SUMIF(N105:N108, N104, F105:F108),0) -> 1618 | H109: =TRUNC(SUMIF(N105:N108, N104, H105:H108),0) -> 1806 | J109: =TRUNC(SUMIF(N105:N108, N104, J105:J108),0) -> 0 | L109: =F109+H109+J109 -> 3424 | N109: TOTAL | O109: TOTAL
A111: 접지선 F-GV 25㎟ M ( 호표 15 ) | N111: 5AEFD64C42C02C596620B2705487AD
A112: 접지선 | B112: F-GV 25㎟ | C112: M | D112: 1.1 | E112: =단가대비표!O290 -> 4866 | F112: =TRUNC(E112*D112,0) -> 5352 | G112: =단가대비표!P290 -> 0 | H112: =TRUNC(G112*D112,0) -> 0 | I112: =단가대비표!V290 -> 0 | J112: =TRUNC(I112*D112,0) -> 0 | K112: =TRUNC(E112+G112+I112,0) -> 4866 | L112: =TRUNC(F112+H112+J112,0) -> 5352 | N112: 5AEFD64C42C02C596620B2705487AD | O112: 5A6496FE91702A5141309D15AE2D5F8EDA4B57 | P112: F | Q112: F | R112: T | V112: 1 | AW112: 5AEFD64C42C02C596620B2705487AD5A6496FE91702A5141309D15AE2D5F8EDA4B57
A113: 잡재료 | B113: 주재료비의 2% | C113: 식 | D113: 1 | E113: =TRUNC(SUMIF(V112:V115, RIGHTB(O113, 1), F112:F115)*U113, 2) -> 107.04 | F113: =TRUNC(E113*D113,0) -> 107 | G113: 0 | H113: =TRUNC(G113*D113,0) -> 0 | I113: 0 | J113: =TRUNC(I113*D113,0) -> 0 | K113: =TRUNC(E113+G113+I113,0) -> 107 | L113: =TRUNC(F113+H113+J113,0) -> 107 | N113: 5AEFD64C42C02C596620B2705487AD | O113: 5BB376D29710225D52800F96EF9F001 | P113: F | Q113: F | R113: F | S113: 0 | T113: 0 | U113: 0.02 | AW113: 5AEFD64C42C02C596620B2705487AD5BB376D29710225D52800F96EF9F001
A114: 내선전공 | B114: 일반공사 직종 | C114: 인 | D114: =공량산출근거서_일위대가!K24 -> 0.0077 | E114: =단가대비표!O49 -> 0 | F114: =TRUNC(E114*D114,0) -> 0 | G114: =단가대비표!P49 -> 273676 | H114: =TRUNC(G114*D114,0) -> 2107 | I114: =단가대비표!V49 -> 0 | J114: =TRUNC(I114*D114,0) -> 0 | K114: =TRUNC(E114+G114+I114,0) -> 273676 | L114: =TRUNC(F114+H114+J114,0) -> 2107 | N114: 5AEFD64C42C02C596620B2705487AD | O114: 5A7506E70FB02750C970CD079E4CA1374BB702 | P114: F | Q114: F | R114: T | W114: 2 | AW114: 5AEFD64C42C02C596620B2705487AD5A7506E70FB02750C970CD079E4CA1374BB702
...

Sheet 단가대비표
A1: 단 가 대 비 표
A2: [ 충주제천단양지사 물관리자동화시스템 정비보강용역공사 ]
A3: 코 드 | B3: 품 명 | C3: 규격 | D3: 단위 | E3: 재 료 비 | P3: 노 무 비 | Q3: 경 비 | W3: 번 호 | X3: 비 고 | Y3: 품목구분 | Z3: 노임구분 | AA3: 소수점처리 | AB3: 자재구분
E4: 농어촌공사 | F4: PAGE | G4: 거래가격 | H4: PAGE | I4: 유통물가 | J4: PAGE | K4: 물가자료 | L4: PAGE | M4: 조사가격 | N4: PAGE | O4: 적용단가 | Q4: 농어촌공사 | R4: 거래가격 | S4: 유통물가 | T4: 물가자료 | U4: 조사가격 | V4: 적용단가
A5: 5DB0F6F3B9E0205517101A9F3F9194719A6073 | B5: 굴착기(무한궤도) | C5: 0.2㎥ | D5: 대 | E5: 0 | G5: 0 | I5: 0 | K5: 0 | M5: 0 | O5: 0 | P5: 0 | Q5: 0 | R5: 0 | S5: 0 | T5: 0 | U5: 0 | V5: 0 | W5: 자재 1 | X5: 천원
A6: 5DB0F6F3B9E0215792206B2A4F3468828094A5 | B6: 진동롤러(핸드가이드식) | C6: 0.7ton | D6: 대 | E6: 0 | G6: 0 | I6: 0 | K6: 0 | M6: 0 | O6: 0 | P6: 0 | Q6: 0 | R6: 0 | S6: 0 | T6: 0 | U6: 0 | V6: 0 | W6: 자재 2 | X6: 천원
A7: 5DB0F6F3B9E022500F408946F717BF5CDDF565 | B7: 트럭탑재형 크레인 | C7: 10ton | D7: 대 | E7: 0 | G7: 0 | I7: 0 | K7: 0 | M7: 0 | O7: 0 | P7: 0 | Q7: 0 | R7: 0 | S7: 0 | T7: 0 | U7: 0 | V7: 0 | W7: 자재 3 | X7: 천원
A8: 5DA6D68A7CE0295EBC30C05A90CB358B232052 | B8: 경유 | C8: 경유, 저유황 | D8: L | E8: 0 | G8: 1505.45 | H8: 1451 | I8: 1510.9 | J8: 1189 | K8: 0 | M8: 0 | O8: =SMALL(E8:M8,COUNTIF(E8:M8,0)+1) -> 1505.45 | P8: 0 | Q8: 0 | R8: 0 | S8: 0 | T8: 0 | U8: 0 | V8: 0 | W8: 자재 4
A9: 5D947689B0B02F5544F0B4359DCE3E706A255A | B9: 기기용 비닐절연전선 | C9: 450/700V KIV 2.5㎟(0.04kg) | D9: m | E9: 507 | F9: M060707 | G9: 512 | H9: 994 | I9: 602 | J9: 836 | K9: 507 | L9: 1075 | M9: 545 | N9: 1163 | O9: =SMALL(E9:M9,COUNTIF(E9:M9,0)+1) -> 507 | P9: 0 | Q9: 0 | R9: 0 | S9: 0 | T9: 0 | U9: 0 | V9: 0 | W9: 자재 5
A10: 5D947689B0B02F5544F0B4359DCE3E7065A04E | B10: 접지용비닐절연전선(제조) | C10: F-GV, 50㎟ | D10: m | E10: 8577 | F10: M061327 | G10: 9455 | H10: 994 | I10: 9218 | J10: 833 | K10: 8959 | L10: 1075 | M10: 8577 | N10: 1161 | O10: =SMALL(E10:M10,COUNTIF(E10:M10,0)+1) -> 8577 | P10: 0 | Q10: 0 | R10: 0 | S10: 0 | T10: 0 | U10: 0 | V10: 0 | W10: 자재 6
A11: 5D8B367FBBD02458B8705DFA90ABC37F2DE013 | B11: DOOR HANDLE (배전반용) | C11: W/KEY(L) | D11: 개 | E11: 5690 | F11: M079080 | G11: 0 | I11: 0 | K11: 0 | M11: 0 | O11: =SMALL(E11:M11,COUNTIF(E11:M11,0)+1) -> 5690 | P11: 0 | Q11: 0 | R11: 0 | S11: 0 | T11: 0 | U11: 0 | V11: 0 | W11: 자재 7
A12: 5D8B367FBBD02458B8705DFA90ABC37F2DEF98 | B12: NAME PLATE | C12: 아크릴(L) | D12: 개 | E12: 5690 | F12: M079101 | G12: 0 | I12: 0 | K12: 0 | M12: 0 | O12: =SMALL(E12:M12,COUNTIF(E12:M12,0)+1) -> 5690 | P12: 0 | Q12: 0 | R12: 0 | S12: 0 | T12: 0 | U12: 0 | V12: 0 | W12: 자재 8
A13: 5D8B367FBBD02458E5B03AE8531774293EF753 | B13: 멀티탭 | C13: 멀티콘센트 5구 | D13: 개 | E13: 0 | G13: 21200 | H13: 1100 | I13: 0 | K13: 16800 | L13: 1204 | M13: 0 | O13: =SMALL(E13:M13,COUNTIF(E13:M13,0)+1) -> 16800 | P13: 0 | Q13: 0 | R13: 0 | S13: 0 | T13: 0 | U13: 0 | V13: 0 | W13: 자재 9
A14: 5D8B367FBBD02458E5A01697324F8AE3C180A2 | B14: 단자대 | C14: 2P 30A | D14: 개 | E14: 0 | G14: 0 | I14: 680 | J14: 856 | K14: 0 | M14: 680 | N14: 1194 | O14: =SMALL(E14:M14,COUNTIF(E14:M14,0)+1) -> 680 | P14: 0 | Q14: 0 | R14: 0 | S14: 0 | T14: 0 | U14: 0 | V14: 0 | W14: 자재 10
A15: 5D8B367FBBD02458E5A01697324F8AE3C0E06D | B15: 단자대 | C15: 10P 30A | D15: 개 | E15: 2500 | F15: M079128 | G15: 0 | I15: 3630 | J15: 856 | K15: 3630 | L15: 1202 | M15: 3630 | N15: 1194 | O15: =SMALL(E15:M15,COUNTIF(E15:M15,0)+1) -> 2500 | P15: 0 | Q15: 0 | R15: 0 | S15: 0 | T15: 0 | U15: 0 | V15: 0 | W15: 자재 11
A16: 5D8B367FBBD02458E5A01697324F8AE3C0E6F5 | B16: 찬넬 | C16: 1M | D16: 개 | E16: 0 | G16: 0 | I16: 2900 | J16: 856 | K16: 0 | M16: 2900 | N16: 1194 | O16: =SMALL(E16:M16,COUNTIF(E16:M16,0)+1) -> 2900 | P16: 0 | Q16: 0 | R16: 0 | S16: 0 | T16: 0 | U16: 0 | V16: 0 | W16: 자재 12
A17: 5D8B367FBBD02458F62027226E31B4A92FF6D4 | B17: 리미트 스위치 | C17: 배전반용 | D17: 개 | E17: 3300 | F17: M079153 | G17: 0 | H17: 1089 | I17: 0 | K17: 0 | M17: 7500 | N17: 1242 | O17: =SMALL(E17:M17,COUNTIF(E17:M17,0)+1) -> 3300 | P17: 0 | Q17: 0 | R17: 0 | S17: 0 | T17: 0 | U17: 0 | V17: 0 | W17: 자재 13
A18: 5D8B367FBBD02458F630370C86C5CFCDB345F0 | B18: 푸쉬버튼 스위치(LED) | C18: D25A110V/220V(조광형) | D18: 개 | E18: 6500 | F18: M080447 | G18: 6500 | H18: 1089 | I18: 6500 | J18: 910 | K18: 7000 | L18: 1202 | M18: 7000 | N18: 1246 | O18: =SMALL(E18:M18,COUNTIF(E18:M18,0)+1) -> 6500 | P18: 0 | Q18: 0 | R18: 0 | S18: 0 | T18: 0 | U18: 0 | V18: 0 | W18: 자재 14
A19: 5D8B367FBBD02458F63036651C329330DB8533 | B19: 자동복귀형 셀렉터스위치 | C19: 수동_자동 | D19: 개 | E19: 0 | G19: 0 | I19: 0 | K19: 3800 | L19: 1202 | M19: 3800 | N19: 1246 | O19: =SMALL(E19:M19,COUNTIF(E19:M19,0)+1) -> 3800 | P19: 0 | Q19: 0 | R19: 0 | S19: 0 | T19: 0 | U19: 0 | V19: 0 | W19: 자재 15
A20: 5D8B367FBBD02458F600681304ABC5BA46D60F | B20: 전자접촉기(개방형)AC용 | C20: (220V/380V)2.7/4kW | D20: 개 | E20: 12900 | F20: M081120 | G20: 12900 | H20: 1067 | I20: 12900 | J20: 902 | K20: 12900 | L20: 1144 | M20: 12900 | N20: 1237 | O20: =SMALL(E20:M20,COUNTIF(E20:M20,0)+1) -> 12900 | P20: 0 | Q20: 0 | R20: 0 | S20: 0 | T20: 0 | U20: 0 | V20: 0 | W20: 자재 16
A21: 5D8B367FBBD02458F61003E848E3F0EA32891A | B21: 신호등(LED) | C21: D25, AC 110/220V | D21: 개 | E21: 5800 | F21: M080446 | G21: 5800 | H21: 1089 | I21: 5800 | J21: 910 | K21: 5900 | L21: 1202 | M21: 5900 | N21: 1246 | O21: =SMALL(E21:M21,COUNTIF(E21:M21,0)+1) -> 5800 | P21: 0 | Q21: 0 | R21: 0 | S21: 0 | T21: 0 | U21: 0 | V21: 0 | W21: 자재 17
A22: 5D8B367FBBD02458F61003E848E3F0EA32891E | B22: FAULT LAMP | C22: SQUARE 난연성 | D22: 개 | E22: 0 | G22: 7300 | H22: 1089 | I22: 7300 | J22: 910 | K22: 6600 | L22: 1202 | M22: 6600 | N22: 1246 | O22: =SMALL(E22:M22,COUNTIF(E22:M22,0)+1) -> 6600 | P22: 0 | Q22: 0 | R22: 0 | S22: 0 | T22: 0 | U22: 0 | V22: 0 | W22: 자재 18
A23: 5D8B367FBBD02458CAC0BE6558D37D23C10D2B | B23: 누전차단기(ELCB) | C23: 분전반형, 2P 30AF | D23: 개 | E23: 12000 | F23: M081270 | G23: 13900 | H23: 1066 | I23: 13900 | J23: 901 | K23: 13900 | L23: 1161 | M23: 13900 | N23: 1230 | O23: =SMALL(E23:M23,COUNTIF(E23:M23,0)+1) -> 12000 | P23: 0 | Q23: 0 | R23: 0 | S23: 0 | T23: 0 | U23: 0 | V23: 0 | W23: 자재 19
A24: 5D8B367FBBD02458CAC0BE6558D37D23C10C1C | B24: 자동복귀 누전차단기 | C24: 220V 2P 30AF | D24: 개 | E24: 84000 | F24: M081261 | G24: 0 | I24: 0 | K24: 140000 | L24: 1162 | M24: 84000 | N24: 1229 | O24: =SMALL(E24:M24,COUNTIF(E24:M24,0)+1) -> 84000 | P24: 0 | Q24: 0 | R24: 0 | S24: 0 | T24: 0 | U24: 0 | V24: 0 | W24: 자재 20
A25: 5D8B367FBBD02458CAC0BCBB577B2C9B29C362 | B25: 배선용차단기(MCCB) | C25: 표준형 460V 2P 50AF | D25: 개 | E25: 36000 | F25: M081211 | G25: 40100 | H25: 1069 | I25: 40100 | J25: 895 | K25: 40100 | L25: 1154 | M25: 40100 | N25: 1231 | O25: =SMALL(E25:M25,COUNTIF(E25:M25,0)+1) -> 36000 | P25: 0 | Q25: 0 | R25: 0 | S25: 0 | T25: 0 | U25: 0 | V25: 0 | W25: 자재 21
A26: 5D8B367FBBD02458CAF00FD1E666800AF3467E | B26: SPD 외부분리기 | C26: CLASS Ⅱ, 2극 220V 80kA | D26: EA | E26: 0 | G26: 115200 | H26: 1071 | I26: 115200 | J26: 928 | K26: 115200 | L26: 1191 | M26: 115200 | N26: 1273 | O26: =SMALL(E26:M26,COUNTIF(E26:M26,0)+1) -> 115200 | P26: 0 | Q26: 0 | R26: 0 | S26: 0 | T26: 0 | U26: 0 | V26: 0 | W26: 자재 22
A27: 5DFE967EF580205FD980FA0299CD2A46727908 | B27: VPN | C27: 영상, 데이터용 | D27: 대 | E27: 0 | G27: 0 | I27: 0 | K27: 4000000 | L27: B사 | M27: 3500000 | N27: TIG | O27: =SMALL(E27:M27,COUNTIF(E27:M27,0)+1) -> 3500000 | P27: 0 | Q27: 0 | R27: 0 | S27: 0 | T27: 0 | U27: 0 | V27: 0 | W27: 자재 23
A28: 5DFEC63190002550EB0076CD8E2BA18E201A7C | B28: 부저 | C28: D65 AC110V/220V | D28: 개 | E28: 3800 | F28: M080540 | G28: 5100 | H28: 1089 | I28: 6300 | J28: 931 | K28: 5100 | L28: 1202 | M28: 5100 | N28: 1246 | O28: =SMALL(E28:M28,COUNTIF(E28:M28,0)+1) -> 3800 | P28: 0 | Q28: 0 | R28: 0 | S28: 0 | T28: 0 | U28: 0 | V28: 0 | W28: 자재 24
A29: 5A7506E70FB02750C970C9AD749F14B50D8FC0 | B29: 작업반장 | C29: 일반공사 직종 | D29: 인 | E29: 0 | G29: 0 | I29: 0 | K29: 0 | M29: 0 | O29: 0 | P29: 215907 | Q29: 0 | R29: 0 | S29: 0 | T29: 0 | U29: 0 | V29: 0 | W29: 노임 1 | Y29: B
A30: 5A7506E70FB02750C970C9AD749F14B50D8FC3 | B30: 보통인부 | C30: 일반공사 직종 | D30: 인 | E30: 0 | G30: 0 | I30: 0 | K30: 0 | M30: 0 | O30: 0 | P30: 172068 | Q30: 0 | R30: 0 | S30: 0 | T30: 0 | U30: 0 | V30: 0 | W30: 노임 2 | Y30: B
A31: 5A7506E70FB02750C970C9AD749F14B50D8FC2 | B31: 특별인부 | C31: 일반공사 직종 | D31: 인 | E31: 0 | G31: 0 | I31: 0 | K31: 0 | M31: 0 | O31: 0 | P31: 226122 | Q31: 0 | R31: 0 | S31: 0 | T31: 0 | U31: 0 | V31: 0 | W31: 노임 3 | Y31: B
A32: 5A7506E70FB02750C970C9AD749F14B50D8FC7 | B32: 비계공 | C32: 일반공사 직종 | D32: 인 | E32: 0 | G32: 0 | I32: 0 | K32: 0 | M32: 0 | O32: 0 | P32: 281939 | Q32: 0 | R32: 0 | S32: 0 | T32: 0 | U32: 0 | V32: 0 | W32: 노임 4 | Y32: B
A33: 5A7506E70FB02750C970C9AD749F14B50D8E3F | B33: 착암공 | C33: 일반공사 직종 | D33: 인 | E33: 0 | G33: 0 | I33: 0 | K33: 0 | M33: 0 | O33: 0 | P33: 222306 | Q33: 0 | R33: 0 | S33: 0 | T33: 0 | U33: 0 | V33: 0 | W33: 노임 5 | Y33: B
A34: 5A7506E70FB02750C970C9AD749F14B50D8C09 | B34: 줄눈공 | C34: 일반공사 직종 | D34: 인 | E34: 0 | G34: 0 | I34: 0 | K34: 0 | M34: 0 | O34: 0 | P34: 211653 | Q34: 0 | R34: 0 | S34: 0 | T34: 0 | U34: 0 | V34: 0 | W34: 노임 6 | Y34: B
A35: 5A7506E70FB02750C970C9AD749F14B50D8B6E | B35: 건설기계운전사 | C35: 일반공사 직종 | D35: 인 | E35: 0 | G35: 0 | I35: 0 | K35: 0 | M35: 0 | O35: 0 | P35: 283297 | Q35: 0 | R35: 0 | S35: 0 | T35: 0 | U35: 0 | V35: 0 | W35: 노임 7 | Y35: B
A36: 5A7506E70FB02750C970C9AD749F14B50D8B6F | B36: 화물차운전사 | C36: 일반공사 직종 | D36: 인 | E36: 0 | G36: 0 | I36: 0 | K36: 0 | M36: 0 | O36: 0 | P36: 238936 | Q36: 0 | R36: 0 | S36: 0 | T36: 0 | U36: 0 | V36: 0 | W36: 노임 8 | Y36: B
A37: 5A7506E70FB02750C970C9AD749F14B50D8A5F | B37: 일반기계운전사 | C37: 일반공사 직종 | D37: 인 | E37: 0 | G37: 0 | I37: 0 | K37: 0 | M37: 0 | O37: 0 | P37: 173995 | Q37: 0 | R37: 0 | S37: 0 | T37: 0 | U37: 0 | V37: 0 | W37: 노임 9 | Y37: B
A38: 5A7506E70FB02750C970C9AD749F14B50D8897 | B38: 내선전공 | C38: 일반공사 직종 | D38: 인 | E38: 0 | G38: 0 | I38: 0 | K38: 0 | M38: 0 | O38: 0 | P38: 273676 | Q38: 0 | R38: 0 | S38: 0 | T38: 0 | U38: 0 | V38: 0 | W38: 노임 10 | Y38: B
A39: 5A7506E70FB02750C970C9AD749F14B50D889A | B39: 저압케이블전공 | C39: 일반공사 직종 | D39: 인 | E39: 0 | G39: 0 | I39: 0 | K39: 0 | M39: 0 | O39: 0 | P39: 304156 | Q39: 0 | R39: 0 | S39: 0 | T39: 0 | U39: 0 | V39: 0 | W39: 노임 11 | Y39: B
A40: 5A7506E70FB02750C970C9AD749F14B50D878A | B40: 배전전공 | C40: 일반공사 직종 | D40: 인 | E40: 0 | G40: 0 | I40: 0 | K40: 0 | M40: 0 | O40: 0 | P40: 414968 | Q40: 0 | R40: 0 | S40: 0 | T40: 0 | U40: 0 | V40: 0 | W40: 노임 12 | Y40: B
... A53: 5A7506E70FB02750C970CD079E4CA1374BB4B3 | B53: 보통인부 | C53: 일반공사 직종 | D53: 인 | E53: 0 | G53: 0 | I53: 0 | K53: 0 | M53: 0 | O53: 0 | P53: 172068 | Q53: 0 | R53: 0 | S53: 0 | T53: 0 | U53: 0 | V53: 0 | W53: 노임 25 | Y53: B
A54: 5A7506E70FB02750E4409EE35E3FA258C501E9 | B54: 전기기계조립원 | C54: 제조부문 | D54: 인 | E54: 0 | G54: 0 | I54: 0 | K54: 0 | M54: 0 | O54: 0 | P54: 122522 | Q54: 0 | R54: 0 | S54: 0 | T54: 0 | U54: 0 | V54: 0 | W54: 노임 26 | X54: 중소기업중앙회 | Y54: B
A55: 5A7506E70FB02750E4409EE35E3FA258C5039C | B55: 전선원 | C55: 제조부문 | D55: 인 | E55: 0 | G55: 0 | I55: 0 | K55: 0 | M55: 0 | O55: 0 | P55: 99248 | Q55: 0 | R55: 0 | S55: 0 | T55: 0 | U55: 0 | V55: 0 | W55: 노임 27 | X55: 중소기업중앙회 | Y55: B
A56: 5A6496F034E02754EC3077391E3CF5B4466E2A | B56: NOISE FILTER | D56: 개 | E56: 59400 | F56: M061200 | G56: 0 | I56: 0 | K56: 0 | M56: 0 | O56: =SMALL(E56:M56,COUNTIF(E56:M56,0)+1) -> 59400 | P56: 0 | Q56: 0 | R56: 0 | S56: 0 | T56: 0 | U56: 0 | V56: 0 | W56: 자재 25
A57: 5A6496F034E02754D3800A1A69406D9C2EA4D3 | B57: 서지보호기(카운터)1상2선 | C57: 전원용 Class2, In 40kA이상, Imax 80kA이상,누설전류검출 | D57: SET | E57: 1450000 | F57: M061234 | G57: 0 | I57: 0 | K57: 0 | M57: 0 | O57: =SMALL(E57:M57,COUNTIF(E57:M57,0)+1) -> 1450000 | P57: 0 | Q57: 0 | R57: 0 | S57: 0 | T57: 0 | U57: 0 | V57: 0 | W57: 자재 26
A58: 5A6496F034E02754D3800A1A69406D9C2EA4D2 | B58: 서지보호기(카운터)1상2선(교체) | C58: 전원용 Class2, In 40kA이상, Imax 80kA이상,누설전류검출 | D58: SET | E58: 1450000 | F58: M061234 | G58: 0 | I58: 0 | K58: 0 | M58: 0 | O58: =SMALL(E58:M58,COUNTIF(E58:M58,0)+1) -> 1450000 | P58: 0 | Q58: 0 | R58: 0 | S58: 0 | T58: 0 | U58: 0 | V58: 0 | W58: 자재 27
A59: 5A6496F034E02754D3800A1A69406D9C2EA4D1 | B59: 서지보호기(카운터)3상4선(교체) | C59: 전원용 Class1,Iimp 12.5kA | D59: SET | E59: 0 | G59: 750000 | H59: 물가정보 | I59: 750000 | K59: 1344000 | M59: 0 | O59: =SMALL(E59:M59,COUNTIF(E59:M59,0)+1) -> 750000 | P59: 0 | Q59: 0 | R59: 0 | S59: 0 | T59: 0 | U59: 0 | V59: 0 | W59: 자재 28
A60: 5A6496F034E02754D3800A1A69406D9C2EA4D0 | B60: 서지보호기(카운터)3상4선(교체) | C60: 전원용 Class2,Imax 40kA이상 | D60: SET | E60: 0 | G60: 600000 | H60: 물가정보 | I60: 600000 | K60: 780000 | M60: 0 | O60: =SMALL(E60:M60,COUNTIF(E60:M60,0)+1) -> 600000 | P60: 0 | Q60: 0 | R60: 0 | S60: 0 | T60: 0 | U60: 0 | V60: 0 | W60: 자재 29
A61: 5A6496F034E02754D3800A1A69406D9C2EA4D7 | B61: 서지보호기(카운터)1상2선(교체) | C61: 전원용 Class2,Imax 40kA이상 | D61: SET | E61: 0 | G61: 450000 | H61: 물가정 | I61: 450000 | K61: 660000 | M61: 0 | O61: =SMALL(E61:M61,COUNTIF(E61:M61,0)+1) -> 450000 | P61: 0 | Q61: 0 | R61: 0 | S61: 0 | T61: 0 | U61: 0 | V61: 0 | W61: 자재 30
A62: 5A6496F034E02754D350B6DBC03AC9A6909BB6 | B62: 서지보호기(카운터) | C62: 통신(이더넷용) 20kA이상 | D62: 개 | E62: 385000 | F62: M061239 | G62: 0 | I62: 0 | K62: 0 | M62: 0 | O62: =SMALL(E62:M62,COUNTIF(E62:M62,0)+1) -> 385000 | P62: 0 | Q62: 0 | R62: 0 | S62: 0 | T62: 0 | U62: 0 | V62: 0 | W62: 자재 31
A63: 5A6496F034E02754D350B6DBC03AC9A6909BB7 | B63: 서지보호기(카운터) 교체 | C63: 통신(이더넷용) 20kA이상 | D63: 개 | E63: 385000 | F63: M061239 | G63: 0 | I63: 0 | K63: 0 | M63: 0 | O63: =SMALL(E63:M63,COUNTIF(E63:M63,0)+1) -> 385000 | P63: 0 | Q63: 0 | R63: 0 | S63: 0 | T63: 0 | U63: 0 | V63: 0 | W63: 자재 32
A64: 5A6496F034E02754A68007D1B0881C94884752 | B64: 서지보호기(카운터) | C64: 신호용(4-20mA) 20kA이상 | D64: 개 | E64: 350000 | F64: M061238 | G64: 0 | I64: 0 | K64: 0 | M64: 0 | O64: =SMALL(E64:M64,COUNTIF(E64:M64,0)+1) -> 350000 | P64: 0 | Q64: 0 | R64: 0 | S64: 0 | T64: 0 | U64: 0 | V64: 0 | W64: 자재 33
A65: 5A6496F034E02754A68007D1B0881C94884753 | B65: 서지보호기(카운터)교체 | C65: 신호용(4-20mA) 20kA이상 | D65: 개 | E65: 350000 | F65: M061238 | G65: 0 | I65: 0 | K65: 0 | M65: 0 | O65: =SMALL(E65:M65,COUNTIF(E65:M65,0)+1) -> 350000 | P65: 0 | Q65: 0 | R65: 0 | S65: 0 | T65: 0 | U65: 0 | V65: 0 | W65: 자재 34
A66: 5A6496F1D580255B3C70F6FF8AF53680CF6C27 | B66: 큐비클 외함(옥내형) | C66: 냉연강판 0.8(W)x2.0(D)x2.35(H) | D66: 면 | E66: 2720500 | F66: M079020 | G66: 0 | I66: 0 | K66: 0 | M66: 0 | O66: =SMALL(E66:M66,COUNTIF(E66:M66,0)+1) -> 2720500 | P66: 0 | Q66: 0 | R66: 0 | S66: 0 | T66: 0 | U66: 0 | V66: 0 | W66: 자재 35
A67: 5A6496F1D580255B3C0046EAC6A768DC922E4C | B67: 옥외형 조작반 외함(자립형) | C67: STS 0.8(W)x0.6(D)x1.8(H) | D67: 면 | E67: 3120400 | F67: M079064 | G67: 0 | I67: 0 | K67: 0 | M67: 0 | O67: =SMALL(E67:M67,COUNTIF(E67:M67,0)+1) -> 3120400 | P67: 0 | Q67: 0 | R67: 0 | S67: 0 | T67: 0 | U67: 0 | V67: 0 | W67: 자재 36
A68: 5A6496F1D580255B9550A452086BBBF3CC7B52 | B68: DOOR STOPPER | C68: STS | D68: 개 | E68: 10000 | F68: M079085 | G68: 0 | I68: 0 | K68: 0 | M68: 0 | O68: =SMALL(E68:M68,COUNTIF(E68:M68,0)+1) -> 10000 | P68: 0 | Q68: 0 | R68: 0 | S68: 0 | T68: 0 | U68: 0 | V68: 0 | W68: 자재 37
A69: 5A6496F1D580245AA2B07E04DB22BCC12F956B | B69: FAN | C69: AC 220V 150mm | D69: 개 | E69: 30000 | F69: M079103 | G69: 0 | I69: 0 | K69: 0 | M69: 0 | O69: =SMALL(E69:M69,COUNTIF(E69:M69,0)+1) -> 30000 | P69: 0 | Q69: 0 | R69: 0 | S69: 0 | T69: 0 | U69: 0 | V69: 0 | W69: 자재 38
A70: 5A6496F1D580245AA2C005D6793EA4D401D7A3 | B70: SPACE HEATER | C70: AC 220V 100W | D70: 개 | E70: 13970 | F70: M079104 | G70: 0 | I70: 0 | K70: 0 | M70: 0 | O70: =SMALL(E70:M70,COUNTIF(E70:M70,0)+1) -> 13970 | P70: 0 | Q70: 0 | R70: 0 | S70: 0 | T70: 0 | U70: 0 | V70: 0 | W70: 자재 39
A71: 5A6496F1D580245AA2D02CE0C3F5FF7C440D50 | B71: THERMOSTAT | C71: AC 220V 0~250℃ | D71: 개 | E71: 15970 | F71: M079105 | G71: 0 | I71: 0 | K71: 0 | M71: 0 | O71: =SMALL(E71:M71,COUNTIF(E71:M71,0)+1) -> 15970 | P71: 0 | Q71: 0 | R71: 0 | S71: 0 | T71: 0 | U71: 0 | V71: 0 | W71: 자재 40
A72: 5A6496F1D580245AA2E033D1F3B6B352096006 | B72: 전등 (배전반용) | C72: 삼파장 전구형, AC 220V 20W | D72: 개 | E72: 4100 | F72: M079106 | G72: 0 | I72: 0 | K72: 0 | M72: 0 | O72: =SMALL(E72:M72,COUNTIF(E72:M72,0)+1) -> 4100 | P72: 0 | Q72: 0 | R72: 0 | S72: 0 | T72: 0 | U72: 0 | V72: 0 | W72: 자재 41
A73: 5A6496F1D580245A87D083CA32AA2CEC29DBCC | B73: PVC DUCT | C73: 40 x 60 x 2m, W/COVER | D73: 개 | E73: 4680 | F73: M079127 | G73: 0 | I73: 0 | K73: 0 | M73: 0 | O73: =SMALL(E73:M73,COUNTIF(E73:M73,0)+1) -> 4680 | P73: 0 | Q73: 0 | R73: 0 | S73: 0 | T73: 0 | U73: 0 | V73: 0 | W73: 자재 42
... A130: 5A6496FE91702A5141309D15AE2D5F8EDB6BCB | B130: CCTV POLE PANEL | C130: STS 2.0T 600*700*500,이중단열판 | D130: EA | E130: 1254000 | F130: M085072 | G130: 0 | I130: 0 | K130: 0 | M130: 0 | O130: =SMALL(E130:M130,COUNTIF(E130:M130,0)+1) -> 1254000 | P130: 0 | Q130: 0 | R130: 0 | S130: 0 | T130: 0 | U130: 0 | V130: 0 | W130: 자재 99
A131: 5A6496FE91702A5141309D15AE2D5F8EDB6BC4 | B131: 스피드 돔 카메라(IR) | C131: 200만화소이상, 32배줌, 하우징일체 | D131: EA | E131: 0 | G131: 4620000 | H131: 물가정 | I131: 4200000 | K131: 4620000 | M131: 0 | O131: =SMALL(E131:M131,COUNTIF(E131:M131,0)+1) -> 4200000 | P131: 0 | Q131: 0 | R131: 0 | S131: 0 | T131: 0 | U131: 0 | V131: 0 | W131: 자재 100
A132: 5A6496FE91702A5141309D15AE2D5F8EDB6A21 | B132: 광컨버터 | C132: 100M, S/M, 1CORE | D132: EA | E132: 127000 | F132: M083123 | G132: 0 | I132: 0 | K132: 0 | M132: 0 | O132: =SMALL(E132:M132,COUNTIF(E132:M132,0)+1) -> 127000 | P132: 0 | Q132: 0 | R132: 0 | S132: 0 | T132: 0 | U132: 0 | V132: 0 | W132: 자재 101
A133: 5A6496FE91702A5141309D15AE2D5F8EDB6A20 | B133: 광점퍼코드 | C133: 3M | D133: EA | E133: 10000 | F133: M083122 | G133: 0 | I133: 0 | K133: 0 | M133: 0 | O133: =SMALL(E133:M133,COUNTIF(E133:M133,0)+1) -> 10000 | P133: 0 | Q133: 0 | R133: 0 | S133: 0 | T133: 0 | U133: 0 | V133: 0 | W133: 자재 102
A134: 5A6496FE91702A5141309D15AE2D5F8EDB6A23 | B134: 광단자함 | C134: 4CORE | D134: EA | E134: 78000 | F134: M083121 | G134: 0 | I134: 0 | K134: 0 | M134: 0 | O134: =SMALL(E134:M134,COUNTIF(E134:M134,0)+1) -> 78000 | P134: 0 | Q134: 0 | R134: 0 | S134: 0 | T134: 0 | U134: 0 | V134: 0 | W134: 자재 103
A135: 5A6496FE91702A5141309D15AE2D5F8EDB6A22 | B135: G.B JUMPER | C135: 25㎟ | D135: EA | E135: 1610 | F135: M083120 | G135: 0 | I135: 0 | K135: 0 | M135: 0 | O135: =SMALL(E135:M135,COUNTIF(E135:M135,0)+1) -> 1610 | P135: 0 | Q135: 0 | R135: 0 | S135: 0 | T135: 0 | U135: 0 | V135: 0 | W135: 자재 104
A136: 5A6496FE91702A5141309D15AE2D5F8EDB6A2D | B136: B.JUMPER | C136: 퓨즈형, 35㎟ | D136: EA | E136: 1610 | F136: M083119 | G136: 0 | I136: 0 | K136: 0 | M136: 0 | O136: =SMALL(E136:M136,COUNTIF(E136:M136,0)+1) -> 1610 | P136: 0 | Q136: 0 | R136: 0 | S136: 0 | T136: 0 | U136: 0 | V136: 0 | W136: 자재 105
A137: 5A6496FE91702A5141309D15AE2D5F8EDB6A2C | B137: CHANNEL SPRING NUT | C137: 아연도 | D137: EA | E137: 840 | F137: M083100 | G137: 0 | I137: 0 | K137: 0 | M137: 0 | O137: =SMALL(E137:M137,COUNTIF(E137:M137,0)+1) -> 840 | P137: 0 | Q137: 0 | R137: 0 | S137: 0 | T137: 0 | U137: 0 | V137: 0 | W137: 자재 106
A138: 5A6496FE91702A5141309D15AE2D5F8EDB6DF9 | B138: U-CHANNEL | D138: EA | E138: 9100 | F138: M083090 | G138: 0 | I138: 0 | K138: 0 | M138: 0 | O138: =SMALL(E138:M138,COUNTIF(E138:M138,0)+1) -> 9100 | P138: 0 | Q138: 0 | R138: 0 | S138: 0 | T138: 0 | U138: 0 | V138: 0 | W138: 자재 107
A139: 5A6496FE91702A5141309D15AE2D5F8EDB6DF8 | B139: HOLD DOWN CLAMP | D139: EA | E139: 650 | F139: M083080 | G139: 0 | I139: 0 | K139: 0 | M139: 0 | O139: =SMALL(E139:M139,COUNTIF(E139:M139,0)+1) -> 650 | P139: 0 | Q139: 0 | R139: 0 | S139: 0 | T139: 0 | U139: 0 | V139: 0 | W139: 자재 108
A140: 5A6496FE91702A5141309D15AE2D5F8EDB6DFB | B140: SHANK BOLT/NUT | C140: 아연도 | D140: EA | E140: 210 | F140: M083070 | G140: 0 | I140: 0 | K140: 0 | M140: 0 | O140: =SMALL(E140:M140,COUNTIF(E140:M140,0)+1) -> 210 | P140: 0 | Q140: 0 | R140: 0 | S140: 0 | T140: 0 | U140: 0 | V140: 0 | W140: 자재 109
A141: 5A6496FE91702A5141309D15AE2D5F8EDB6DFA | B141: JOINT CONNECTOR | C141: H100 | D141: EA | E141: 1650 | F141: M083069 | G141: 0 | I141: 0 | K141: 0 | M141: 0 | O141: =SMALL(E141:M141,COUNTIF(E141:M141,0)+1) -> 1650 | P141: 0 | Q141: 0 | R141: 0 | S141: 0 | T141: 0 | U141: 0 | V141: 0 | W141: 자재 110
A142: 5A6496FE91702A5141309D15AE2D5F8EDB6DFD | B142: 케이블 트레이 | C142: W150*H100*2.3T | D142: EA | E142: 15580 | F142: M083010 | G142: 0 | I142: 0 | K142: 0 | M142: 0 | O142: =SMALL(E142:M142,COUNTIF(E142:M142,0)+1) -> 15580 | P142: 0 | Q142: 0 | R142: 0 | S142: 0 | T142: 0 | U142: 0 | V142: 0 | W142: 자재 111
A143: 5A6496FE91702A5141309D15AE2D5F8EDB6DFC | B143: 케이블 트레이 | C143: W300*H100*2.3T | D143: EA | E143: 17010 | F143: M083011 | G143: 0 | I143: 0 | K143: 0 | M143: 0 | O143: =SMALL(E143:M143,COUNTIF(E143:M143,0)+1) -> 17010 | P143: 0 | Q143: 0 | R143: 0 | S143: 0 | T143: 0 | U143: 0 | V143: 0 | W143: 자재 112
A144: 5A6496FE91702A5141309D15AE2D5F8EDB6DFF | B144: 케이블 트레이 커버 | C144: W150*H100*2.3T | D144: EA | E144: 14560 | F144: M083016 | G144: 0 | I144: 0 | K144: 0 | M144: 0 | O144: =SMALL(E144:M144,COUNTIF(E144:M144,0)+1) -> 14560 | P144: 0 | Q144: 0 | R144: 0 | S144: 0 | T144: 0 | U144: 0 | V144: 0 | W144: 자재 113
A145: 5A6496FE91702A5141309D15AE2D5F8EDB6DFE | B145: 케이블 트레이 커버 | C145: W300*H100*2.3T | D145: EA | E145: 25940 | F145: M083018 | G145: 0 | I145: 0 | K145: 0 | M145: 0 | O145: =SMALL(E145:M145,COUNTIF(E145:M145,0)+1) -> 25940 | P145: 0 | Q145: 0 | R145: 0 | S145: 0 | T145: 0 | U145: 0 | V145: 0 | W145: 자재 114
A146: 5A6496FE91702A5141309D15AE2D5F8EDB6DF1 | B146: 케이블 트레이(90도 ELBOW) | C146: W150*H100*2.3T | D146: EA | E146: 20910 | F146: M083030 | G146: 0 | I146: 0 | K146: 0 | M146: 0 | O146: =SMALL(E146:M146,COUNTIF(E146:M146,0)+1) -> 20910 | P146: 0 | Q146: 0 | R146: 0 | S146: 0 | T146: 0 | U146: 0 | V146: 0 | W146: 자재 115
A147: 5A6496FE91702A5141309D15AE2D5F8EDB6DF0 | B147: 케이블 트레이(90도 ELBOW) | C147: W300*H100*2.3T | D147: EA | E147: 25520 | F147: M083031 | G147: 0 | I147: 0 | K147: 0 | M147: 0 | O147: =SMALL(E147:M147,COUNTIF(E147:M147,0)+1) -> 25520 | P147: 0 | Q147: 0 | R147: 0 | S147: 0 | T147: 0 | U147: 0 | V147: 0 | W147: 자재 116
A148: 5A6496FE91702A5141309D15AE2D5F8EDB6CD2 | B148: 케이블 트레이 커버(90도 ELBOW) | C148: W150*H100*2.3T | D148: EA | E148: 14500 | F148: M083035 | G148: 0 | I148: 0 | K148: 0 | M148: 0 | O148: =SMALL(E148:M148,COUNTIF(E148:M148,0)+1) -> 14500 | P148: 0 | Q148: 0 | R148: 0 | S148: 0 | T148: 0 | U148: 0 | V148: 0 | W148: 자재 117
A149: 5A6496FE91702A5141309D15AE2D5F8EDB6CD3 | B149: 케이블 트레이 커버(90도 ELBOW) | C149: W300*H100*2.3T | D149: EA | E149: 30860 | F149: M083036 | G149: 0 | I149: 0 | K149: 0 | M149: 0 | O149: =SMALL(E149:M149,COUNTIF(E149:M149,0)+1) -> 30860 | P149: 0 | Q149: 0 | R149: 0 | S149: 0 | T149: 0 | U149: 0 | V149: 0 | W149: 자재 118
A150: 5A6496FE91702A5141309D15AE2D5F8EDB6CD0 | B150: 케이블 덕트 | C150: W100*H100*2.3T | D150: EA | E150: 22690 | F150: M082621 | G150: 0 | I150: 0 | K150: 0 | M150: 0 | O150: =SMALL(E150:M150,COUNTIF(E150:M150,0)+1) -> 22690 | P150: 0 | Q150: 0 | R150: 0 | S150: 0 | T150: 0 | U150: 0 | V150: 0 | W150: 자재 119
A151: 5A6496FE91702A5141309D15AE2D5F8EDB6CD1 | B151: 케이블 덕트 | C151: W150*H100*2.3T | D151: EA | E151: 19370 | F151: M082622 | G151: 0 | I151: 0 | K151: 0 | M151: 0 | O151: =SMALL(E151:M151,COUNTIF(E151:M151,0)+1) -> 19370 | P151: 0 | Q151: 0 | R151: 0 | S151: 0 | T151: 0 | U151: 0 | V151: 0 | W151: 자재 120
... A201: 5A6496FE91702A5141309D15AE2D5F8EDA4277 | B201: 셀렉터 스위치 | C201: 자동복구형 | D201: EA | E201: 13500 | F201: M080546 | G201: 0 | I201: 0 | K201: 0 | M201: 0 | O201: =SMALL(E201:M201,COUNTIF(E201:M201,0)+1) -> 13500 | P201: 0 | Q201: 0 | R201: 0 | S201: 0 | T201: 0 | U201: 0 | V201: 0 | W201: 자재 170
A202: 5A6496FE91702A5141309D15AE2D5F8EDA4270 | B202: 셀렉터 스위치 | D202: EA | E202: 2100 | F202: M080545 | G202: 0 | I202: 0 | K202: 0 | M202: 0 | O202: =SMALL(E202:M202,COUNTIF(E202:M202,0)+1) -> 2100 | P202: 0 | Q202: 0 | R202: 0 | S202: 0 | T202: 0 | U202: 0 | V202: 0 | W202: 자재 171
A203: 5A6496FE91702A5141309D15AE2D5F8EDA4271 | B203: 부저 | C203: D65, AC110V/220V | D203: EA | E203: 3800 | F203: M080540 | G203: 0 | I203: 0 | K203: 0 | M203: 0 | O203: =SMALL(E203:M203,COUNTIF(E203:M203,0)+1) -> 3800 | P203: 0 | Q203: 0 | R203: 0 | S203: 0 | T203: 0 | U203: 0 | V203: 0 | W203: 자재 172
A204: 5A6496FE91702A5141309D15AE2D5F8EDA4272 | B204: 디지털메터 | C204: 전압, 전류 등, RS-485통신가능 | D204: EA | E204: 350000 | F204: M080545 | G204: 0 | I204: 0 | K204: 0 | M204: 0 | O204: =SMALL(E204:M204,COUNTIF(E204:M204,0)+1) -> 350000 | P204: 0 | Q204: 0 | R204: 0 | S204: 0 | T204: 0 | U204: 0 | V204: 0 | W204: 자재 173
A205: 5A6496FE91702A5141309D15AE2D5F8EDA4273 | B205: 보조릴레이 | C205: 4A,4B | D205: EA | E205: 19560 | F205: M080501 | G205: 0 | I205: 0 | K205: 0 | M205: 0 | O205: =SMALL(E205:M205,COUNTIF(E205:M205,0)+1) -> 19560 | P205: 0 | Q205: 0 | R205: 0 | S205: 0 | T205: 0 | U205: 0 | V205: 0 | W205: 자재 174
A206: 5A6496FE91702A5141309D15AE2D5F8EDA427C | B206: 보조릴레이 | C206: 2A,2B | D206: EA | E206: 13700 | F206: M080500 | G206: 0 | I206: 0 | K206: 0 | M206: 0 | O206: =SMALL(E206:M206,COUNTIF(E206:M206,0)+1) -> 13700 | P206: 0 | Q206: 0 | R206: 0 | S206: 0 | T206: 0 | U206: 0 | V206: 0 | W206: 자재 175
A207: 5A6496FE91702A5141309D15AE2D5F8EDA427D | B207: 푸쉬버튼스위치(LED) | C207: D25A AC110V/220V(조광형) | D207: EA | E207: 6500 | F207: M080447 | G207: 0 | I207: 0 | K207: 0 | M207: 0 | O207: =SMALL(E207:M207,COUNTIF(E207:M207,0)+1) -> 6500 | P207: 0 | Q207: 0 | R207: 0 | S207: 0 | T207: 0 | U207: 0 | V207: 0 | W207: 자재 176
A208: 5A6496FE91702A5141309D15AE2D5F8EDA431B | B208: 신호등(LED) | C208: D25A AC110V/220V | D208: EA | E208: 6500 | F208: M080446 | G208: 0 | I208: 0 | K208: 0 | M208: 0 | O208: =SMALL(E208:M208,COUNTIF(E208:M208,0)+1) -> 6500 | P208: 0 | Q208: 0 | R208: 0 | S208: 0 | T208: 0 | U208: 0 | V208: 0 | W208: 자재 177
A209: 5A6496FE91702A5141309D15AE2D5F8EDA431A | B209: 컨트롤 스위치 | C209: CB용 | D209: EA | E209: 10200 | F209: M080390 | G209: 0 | I209: 0 | K209: 0 | M209: 0 | O209: =SMALL(E209:M209,COUNTIF(E209:M209,0)+1) -> 10200 | P209: 0 | Q209: 0 | R209: 0 | S209: 0 | T209: 0 | U209: 0 | V209: 0 | W209: 자재 178
A210: 5A6496FE91702A5141309D15AE2D5F8EDA4319 | B210: 전압,전류절환스위치 | C210: VS,AS(250V 10A 3P 3W) | D210: EA | E210: 12090 | F210: M080370 | G210: 0 | I210: 0 | K210: 0 | M210: 0 | O210: =SMALL(E210:M210,COUNTIF(E210:M210,0)+1) -> 12090 | P210: 0 | Q210: 0 | R210: 0 | S210: 0 | T210: 0 | U210: 0 | V210: 0 | W210: 자재 179
A211: 5A6496FE91702A5141309D15AE2D5F8EDA4318 | B211: 전류 변환기 | C211: 1상, 입력 0~5A, 출력: 4-20mA | D211: EA | E211: 67500 | F211: M080294 | G211: 0 | I211: 0 | K211: 0 | M211: 0 | O211: =SMALL(E211:M211,COUNTIF(E211:M211,0)+1) -> 67500 | P211: 0 | Q211: 0 | R211: 0 | S211: 0 | T211: 0 | U211: 0 | V211: 0 | W211: 자재 180
A212: 5A6496FE91702A5141309D15AE2D5F8EDA431F | B212: 전류 변환기 | C212: 3상, 입력 0~5A, 출력: 4-20mA | D212: EA | E212: 135000 | F212: M080295 | G212: 0 | I212: 0 | K212: 0 | M212: 0 | O212: =SMALL(E212:M212,COUNTIF(E212:M212,0)+1) -> 135000 | P212: 0 | Q212: 0 | R212: 0 | S212: 0 | T212: 0 | U212: 0 | V212: 0 | W212: 자재 181
A213: 5A6496FE91702A5141309D15AE2D5F8EDA431E | B213: 전압 변환기 | C213: 1상, 입력 0-150A, 출력: 4-20mA | D213: EA | E213: 67500 | F213: M080299 | G213: 0 | I213: 0 | K213: 0 | M213: 0 | O213: =SMALL(E213:M213,COUNTIF(E213:M213,0)+1) -> 67500 | P213: 0 | Q213: 0 | R213: 0 | S213: 0 | T213: 0 | U213: 0 | V213: 0 | W213: 자재 182
A214: 5A6496FE91702A5141309D15AE2D5F8EDA431D | B214: 전압 변환기 | C214: 3상, 입력 0-150A, 출력: 4-20mA | D214: EA | E214: 135000 | F214: M080300 | G214: 0 | I214: 0 | K214: 0 | M214: 0 | O214: =SMALL(E214:M214,COUNTIF(E214:M214,0)+1) -> 135000 | P214: 0 | Q214: 0 | R214: 0 | S214: 0 | T214: 0 | U214: 0 | V214: 0 | W214: 자재 183
... A248: 5A6496FE91702A5141309D15AE2D5F8EDA47F6 | B248: 경고테이프 | C248: 200*250 | D248: M | E248: 202 | F248: M051659 | G248: 0 | I248: 0 | K248: 0 | M248: 0 | O248: =SMALL(E248:M248,COUNTIF(E248:M248,0)+1) -> 202 | P248: 0 | Q248: 0 | R248: 0 | S248: 0 | T248: 0 | U248: 0 | V248: 0 | W248: 자재 217
A249: 5A6496FE91702A5141309D15AE2D5F8EDA47F7 | B249: 반경관 취부밴드 | D249: EA | E249: 2704 | F249: M051657 | G249: 0 | I249: 0 | K249: 0 | M249: 0 | O249: =SMALL(E249:M249,COUNTIF(E249:M249,0)+1) -> 2704 | P249: 0 | Q249: 0 | R249: 0 | S249: 0 | T249: 0 | U249: 0 | V249: 0 | W249: 자재 218
A250: 5A6496FE91702A5141309D15AE2D5F8EDA47F4 | B250: 전기 맨홀 | C250: 600*600*600mm 150T | D250: EA | E250: 110000 | F250: M051680 | G250: 0 | I250: 0 | K250: 0 | M250: 0 | O250: =SMALL(E250:M250,COUNTIF(E250:M250,0)+1) -> 110000 | P250: 0 | Q250: 0 | R250: 0 | S250: 0 | T250: 0 | U250: 0 | V250: 0 | W250: 자재 219
...

Sheet 공량산출근거서
A1: 공 량 산 출 근 거 서
A2: [충주제천단양지사 물관리자동화시스템 정비보강용역공사 ]
A3: 코 드 | B3: 품 명 | C3: 규 격 | D3: 단위 | E3: 품 셈 목 록 | F3: 수 량 | G3: 할증 | H3: 노임할증-1 | I3: 노임할증-2 | J3: 노임할증-3 | K3: 내역수량 | L3: 직 종 명 | M3: 공 량 | N3: 계 | O3: 번 호 | P3: 비 고 | T3: 공종+자재 | V3: H/W시험사 | W3: S/W시험사
B4: A. 사급자재
B5: A. 사급자재 - 1. KRC-HMI 화면 작화
B6: A. 사급자재 - 2. 주요자재
A7: 5DFE967EF580205FD980FA0299CD2A46727908 | B7: VPN | C7: 영상, 데이터용 | D7: 대 | E7: 통신8-1-5 | F7: 1 | G7: 0 | K7: 1 | L7: H/W시험사 | M7: =0.39*(H7+100)/100*(I7+100)/100*(J7+100)/100 -> 0.39 | N7: =F7*M7 -> 0.39 | O7: 노임 18 | P7: 0.39*1 | Q7: 010102 | R7: 5A7506E70FB02750C970CAB3417ADAB8E73199 | S7: 0.39 | T7: 0101025DFE967EF580205FD980FA0299CD2A46727908 | V7: =N7 -> 0.39
L8: S/W시험사 | M8: =0.39*(H7+100)/100*(I7+100)/100*(J7+100)/100 -> 0.39 | N8: =F7*M8 -> 0.39 | O8: 노임 19 | P8: 0.39*1 | Q8: 010102 | R8: 5A7506E70FB02750C970CAB3417ADAB8E7319E | S8: 0.39 | T8: 0101025DFE967EF580205FD980FA0299CD2A46727908 | W8: =N8 -> 0.39
A9: 5A7506E70FB02750C970CAB3417ADAB8E73199 | B9: H/W시험사 | C9: 광전자 직종 | D9: 인 | F9: 0.39 | Q9: 010102 | T9: 0101025A7506E70FB02750C970CAB3417ADAB8E73199
A10: 5A7506E70FB02750C970CAB3417ADAB8E7319E | B10: S/W시험사 | C10: 광전자 직종 | D10: 인 | F10: 0.39 | Q10: 010102 | T10: 0101025A7506E70FB02750C970CAB3417ADAB8E7319E
B11: B. 자동화일반공사
B12: B. 자동화일반공사 - 1. 현장조치
B13: B. 자동화일반공사 - 2. 정비공사

Sheet 공량설정
A1: 공종명 | B1: 적용율(%) | C1: 소수점이하자릿수 | D1: 공종코드
A2: 010101 1. KRC-HMI 화면 작화 | B2: 100 | D2: 010101
A3: 010102 2. 주요자재 | B3: 100 | D3: 010102
A4: 010201 1. 현장조치 | B4: 100 | D4: 010201
A5: 010202 2. 정비공사 | B5: 100 | D5: 010202

Sheet 공량산출근거서_일위대가
A1: 공 량 산 출 근 거 서
A2: [충주제천단양지사 물관리자동화시스템 정비보강용역공사 ]
A3: 코 드 | B3: 품 명 | C3: 규 격 | D3: 단위 | E3: 품 셈 목 록 | F3: 수 량 | G3: 할증 | H3: 노임할증-1 | I3: 노임할증-2 | J3: 노임할증-3 | K3: 내역수량 | L3: 직 종 명 | M3: 공 량 | N3: 계 | O3: 번 호 | P3: 비 고 | T3: 일위대가목록+자재 | V3: 통신케이블공 | W3: 일반공사 직종 | X3: 내선전공 | Y3: 저압케이블전공 | Z3: 변전전공 | AA3: 보통인부 | AB3: H/W시험사 | AC3: 광전자 직종 | AD3: S/W시험사 | AE3: 통신설비공 | AF3: 무선안테나공 | AG3: 통신내선공 | AH3: 특별인부 | AI3: 통신외선공 | AJ3: 통신관련산업기사 | AK3: 기타 직종 | AL3: 착암공 | AM3: 배전전공 | AN3: 전선원 | AO3: 제조부문 | AP3: 전기기계조립원
B4: LAN케이블 UTP.CAT.6/CM EA (호표 9)
A5: 5A6496FE91702A5141309D15AE2D5F8ED9BBA1 | B5: LAN케이블 | C5: UTP.CAT.6/CM | D5: EA | E5: 통신품셈 4-3 | F5: 1 | G5: 0 | K5: 1 | L5: 통신케이블공 | M5: =0.15*(H5+100)/100*(I5+100)/100*(J5+100)/100 -> 0.15 | N5: =F5*M5 -> 0.15 | O5: 노임 16 | P5: 0.15*1 | Q5: 5AEFD64C42C02C596620B270564CCD | R5: 5A7506E70FB02750C970C9AD749F14B50D8782 | S5: 0.15 | T5: 5AEFD64C42C02C596620B270564CCD5A6496FE91702A5141309D15AE2D5F8ED9BBA1 | V5: =N5 -> 0.15
A6: 5A7506E70FB02750C970C9AD749F14B50D8782 | B6: 통신케이블공 | C6: 일반공사 직종 | D6: 인 | F6: =SUM(V5:V5) -> 0.15 | K6: =IF(TRUNC(F6*공량설정_일위대가!B25/100, 공량설정_일위대가!C26) = 0, TRUNC(F6*공량설정_일위대가!B25/100, 5), TRUNC(F6*공량설정_일위대가!B25/100, 공량설정_일위대가!C26)) -> 0.15 | O6: 노임 16 | Q6: 5AEFD64C42C02C596620B270564CCD | T6: 5AEFD64C42C02C596620B270564CCD5A7506E70FB02750C970C9AD749F14B50D8782
B7: 저독성난연가요폴리올레핀절연전선 HFIX 단선 2.5㎟ M (호표 10)
A8: 5A6496FE91702A5141309D15AE2D5F8EDA4B59 | B8: 저독성난연가교폴리올레핀절연전선 | C8: HFIX 2.5㎟ | D8: M | E8: 전기 5-10 | F8: 1.1 | K8: 1.1 | L8: 내선전공 | M8: =0.01*(H8+100)/100*(I8+100)/100*(J8+100)/100 -> 0.01 | N8: =F8*M8 -> 0.011 | O8: 노임 21 | P8: 0.01*1 | Q8: 5AEFD64C42C02C596620B270548683 | R8: 5A7506E70FB02750C970CD079E4CA1374BB702 | S8: 0.01 | T8: 5AEFD64C42C02C596620B2705486835A6496FE91702A5141309D15AE2D5F8EDA4B59 | X8: =N8 -> 0.011
A9: 5A7506E70FB02750C970CD079E4CA1374BB702 | B9: 내선전공 | C9: 일반공사 직종 | D9: 인 | F9: =SUM(X8:X8) -> 0.011 | K9: =IF(TRUNC(F9*공량설정_일위대가!B27/100, 공량설정_일위대가!C28) = 0, TRUNC(F9*공량설정_일위대가!B27/100, 5), TRUNC(F9*공량설정_일위대가!B27/100, 공량설정_일위대가!C28)) -> 0.011 | O9: 노임 21 | Q9: 5AEFD64C42C02C596620B270548683 | T9: 5AEFD64C42C02C596620B2705486835A7506E70FB02750C970CD079E4CA1374BB702
B10: 저독성난연가요폴리올레핀절연전선 HFIX 연선 4㎟ M (호표 11)
A11: 5A6496FE91702A5141309D15AE2D5F8EDA4B58 | B11: 저독성난연가교폴리올레핀절연전선 | C11: HFIX 4㎟ | D11: M | E11: 전기 5-10 | F11: 1.1 | G11: 0 | K11: 1.1 | L11: 내선전공 | M11: =0.01*(H11+100)/100*(I11+100)/100*(J11+100)/100 -> 0.01 | N11: =F11*M11 -> 0.011 | O11: 노임 21 | P11: 0.01*1 | Q11: 5AEFD64C42C02C596620B270548680 | R11: 5A7506E70FB02750C970CD079E4CA1374BB702 | S11: 0.01 | T11: 5AEFD64C42C02C596620B2705486805A6496FE91702A5141309D15AE2D5F8EDA4B58 | X11: =N11 -> 0.011
A12: 5A7506E70FB02750C970CD079E4CA1374BB702 | B12: 내선전공 | C12: 일반공사 직종 | D12: 인 | F12: =SUM(X11:X11) -> 0.011 | K12: =IF(TRUNC(F12*공량설정_일위대가!B29/100, 공량설정_일위대가!C30) = 0, TRUNC(F12*공량설정_일위대가!B29/100, 5), TRUNC(F12*공량설정_일위대가!B29/100, 공량설정_일위대가!C30)) -> 0.011 | O12: 노임 21 | Q12: 5AEFD64C42C02C596620B270548680 | T12: 5AEFD64C42C02C596620B2705486805A7506E70FB02750C970CD079E4CA1374BB702
B13: 접지선 F-GV 2.5㎟ M (호표 12)
A14: 5A6496FE91702A5141309D15AE2D5F8EDA4B52 | B14: 접지선 | C14: F-GV 2.5㎟ | D14: M | E14: 사전기 3-38 접지공 | F14: 1.1 | G14: 0 | K14: 1.1 | L14: 내선전공 | M14: =0.006*(H14+100)/100*(I14+100)/100*(J14+100)/100 -> 0.006 | N14: =F14*M14 -> 0.0066 | O14: 노임 21 | P14: 0.006*1 | Q14: 5AEFD64C42C02C596620B270548681 | R14: 5A7506E70FB02750C970CD079E4CA1374BB702 | S14: 0.006 | T14: 5AEFD64C42C02C596620B2705486815A6496FE91702A5141309D15AE2D5F8EDA4B52 | X14: =N14 -> 0.0066
A15: 5A7506E70FB02750C970CD079E4CA1374BB702 | B15: 내선전공 | C15: 일반공사 직종 | D15: 인 | F15: =SUM(X14:X14) -> 0.0066 | K15: =IF(TRUNC(F15*공량설정_일위대가!B31/100, 공량설정_일위대가!C32) = 0, TRUNC(F15*공량설정_일위대가!B31/100, 5), TRUNC(F15*공량설정_일위대가!B31/100, 공량설정_일위대가!C32)) -> 0.0066 | O15: 노임 21 | Q15: 5AEFD64C42C02C596620B270548681 | T15: 5AEFD64C42C02C596620B2705486815A7506E70FB02750C970CD079E4CA1374BB702
B16: 접지선 F-GV 4㎟ M (호표 13)
A17: 5A6496FE91702A5141309D15AE2D5F8EDA4B55 | B17: 접지선 | C17: F-GV 4㎟ | D17: M | E17: 전기 3-38 | F17: 1.1 | G17: 0 | K17: 1.1 | L17: 내선전공 | M17: =0.006*(H17+100)/100*(I17+100)/100*(J17+100)/100 -> 0.006 | N17: =F17*M17 -> 0.0066 | O17: 노임 21 | P17: 0.006*1 | Q17: 5AEFD64C42C02C596620B27054868E | R17: 5A7506E70FB02750C970CD079E4CA1374BB702 | S17: 0.006 | T17: 5AEFD64C42C02C596620B27054868E5A6496FE91702A5141309D15AE2D5F8EDA4B55 | X17: =N17 -> 0.0066
A18: 5A7506E70FB02750C970CD079E4CA1374BB702 | B18: 내선전공 | C18: 일반공사 직종 | D18: 인 | F18: =SUM(X17:X17) -> 0.0066 | K18: =IF(TRUNC(F18*공량설정_일위대가!B33/100, 공량설정_일위대가!C34) = 0, TRUNC(F18*공량설정_일위대가!B33/100, 5), TRUNC(F18*공량설정_일위대가!B33/100, 공량설정_일위대가!C34)) -> 0.0066 | O18: 노임 21 | Q18: 5AEFD64C42C02C596620B27054868E | T18: 5AEFD64C42C02C596620B27054868E5A7506E70FB02750C970CD079E4CA1374BB702
B19: 접지선 F-GV 6㎟ M (호표 14)
A20: 5A6496FE91702A5141309D15AE2D5F8EDA4B54 | B20: 접지선 | C20: F-GV 6㎟ | D20: M | E20: 전기 3-38 | F20: 1.1 | G20: 0 | K20: 1.1 | L20: 내선전공 | M20: =0.006*(H20+100)/100*(I20+100)/100*(J20+100)/100 -> 0.006 | N20: =F20*M20 -> 0.0066 | O20: 노임 21 | P20: 0.006*1 | Q20: 5AEFD64C42C02C596620B27054868F | R20: 5A7506E70FB02750C970CD079E4CA1374BB702 | S20: 0.006 | T20: 5AEFD64C42C02C596620B27054868F5A6496FE91702A5141309D15AE2D5F8EDA4B54 | X20: =N20 -> 0.0066
A21: 5A7506E70FB02750C970CD079E4CA1374BB702 | B21: 내선전공 | C21: 일반공사 직종 | D21: 인 | F21: =SUM(X20:X20) -> 0.0066 | K21: =IF(TRUNC(F21*공량설정_일위대가!B35/100, 공량설정_일위대가!C36) = 0, TRUNC(F21*공량설정_일위대가!B35/100, 5), TRUNC(F21*공량설정_일위대가!B35/100, 공량설정_일위대가!C36)) -> 0.0066 | O21: 노임 21 | Q21: 5AEFD64C42C02C596620B27054868F | T21: 5AEFD64C42C02C596620B27054868F5A7506E70FB02750C970CD079E4CA1374BB702
B22: 접지선 F-GV 25㎟ M (호표 15)
A23: 5A6496FE91702A5141309D15AE2D5F8EDA4B57 | B23: 접지선 | C23: F-GV 25㎟ | D23: M | E23: 전기 3-38 | F23: 1.1 | G23: 0 | K23: 1.1 | L23: 내선전공 | M23: =0.007*(H23+100)/100*(I23+100)/100*(J23+100)/100 -> 0.007 | N23: =F23*M23 -> 0.0077 | O23: 노임 21 | P23: 0.007*1 | Q23: 5AEFD64C42C02C596620B2705487AD | R23: 5A7506E70FB02750C970CD079E4CA1374BB702 | S23: 0.007 | T23: 5AEFD64C42C02C596620B2705487AD5A6496FE91702A5141309D15AE2D5F8EDA4B57 | X23: =N23 -> 0.0077
A24: 5A7506E70FB02750C970CD079E4CA1374BB702 | B24: 내선전공 | C24: 일반공사 직종 | D24: 인 | F24: =SUM(X23:X23) -> 0.0077 | K24: =IF(TRUNC(F24*공량설정_일위대가!B37/100, 공량설정_일위대가!C38) = 0, TRUNC(F24*공량설정_일위대가!B37/100, 5), TRUNC(F24*공량설정_일위대가!B37/100, 공량설정_일위대가!C38)) -> 0.0077 | O24: 노임 21 | Q24: 5AEFD64C42C02C596620B2705487AD | T24: 5AEFD64C42C02C596620B2705487AD5A7506E70FB02750C970CD079E4CA1374BB702
B25: 접지선 F-GV 70㎟ M (호표 16)
A26: 5A6496FE91702A5141309D15AE2D5F8EDA4B56 | B26: 접지선 | C26: F-GV 70㎟ | D26: M | E26: 전기 3-38 | F26: 1.1 | G26: 0 | K26: 1.1 | L26: 내선전공 | M26: =0.008*(H26+100)/100*(I26+100)/100*(J26+100)/100 -> 0.008 | N26: =F26*M26 -> 0.0088 | O26: 노임 21 | P26: 0.008*1 | Q26: 5AEFD64C42C02C596620B2705487AC | R26: 5A7506E70FB02750C970CD079E4CA1374BB702 | S26: 0.008 | T26: 5AEFD64C42C02C596620B2705487AC5A6496FE91702A5141309D15AE2D5F8EDA4B56 | X26: =N26 -> 0.0088
A27: 5A7506E70FB02750C970CD079E4CA1374BB702 | B27: 내선전공 | C27: 일반공사 직종 | D27: 인 | F27: =SUM(X26:X26) -> 0.0088 | K27: =IF(TRUNC(F27*공량설정_일위대가!B39/100, 공량설정_일위대가!C40) = 0, TRUNC(F27*공량설정_일위대가!B39/100, 5), TRUNC(F27*공량설정_일위대가!B39/100, 공량설정_일위대가!C40)) -> 0.0088 | O27: 노임 21 | Q27: 5AEFD64C42C02C596620B2705487AC | T27: 5AEFD64C42C02C596620B2705487AC5A7506E70FB02750C970CD079E4CA1374BB702
B28: 제어케이블 F-CVV-SB 2C 1.5㎟ M (호표 17)
A29: 5A6496FE91702A5141309D15AE2D5F8EDA4A4C | B29: 제어케이블 | C29: F-CVV-SB 2C 1.5㎟ | D29: M | E29: 전기 5-13 | F29: 1.03 | G29: 0 | K29: 1.03 | L29: 저압케이블전공 | M29: =0.014*(H29+100)/100*(I29+100)/100*(J29+100)/100 -> 0.014 | N29: =F29*M29 -> 0.01442 | O29: 노임 22 | P29: 0.014*1 | Q29: 5AEFD64C42C02C596620B2705487AF | R29: 5A7506E70FB02750C970CD079E4CA1374BB703 | S29: 0.014 | T29: 5AEFD64C42C02C596620B2705487AF5A6496FE91702A5141309D15AE2D5F8EDA4A4C | Y29: =N29 -> 0.01442
A30: 5A7506E70FB02750C970CD079E4CA1374BB703 | B30: 저압케이블전공 | C30: 일반공사 직종 | D30: 인 | F30: =SUM(Y29:Y29) -> 0.01442 | K30: =IF(TRUNC(F30*공량설정_일위대가!B41/100, 공량설정_일위대가!C42) = 0, TRUNC(F30*공량설정_일위대가!B41/100, 5), TRUNC(F30*공량설정_일위대가!B41/100, 공량설정_일위대가!C42)) -> 0.01442 | O30: 노임 22 | Q30: 5AEFD64C42C02C596620B2705487AF | T30: 5AEFD64C42C02C596620B2705487AF5A7506E70FB02750C970CD079E4CA1374BB703
B31: 제어케이블 F-CVV-SB 3C 1.5㎟ M (호표 18)
A32: 5A6496FE91702A5141309D15AE2D5F8EDA4A4D | B32: 제어케이블 | C32: F-CVV-SB 3C 1.5㎟ | D32: M | E32: 전기 5-13 | F32: 1.03 | G32: 0 | K32: 1.03 | L32: 저압케이블전공 | M32: =0.019*(H32+100)/100*(I32+100)/100*(J32+100)/100 -> 0.019 | N32: =F32*M32 -> 0.01957 | O32: 노임 22 | P32: 0.019*1 | Q32: 5AEFD64C42C02C596620B2705487AE | R32: 5A7506E70FB02750C970CD079E4CA1374BB703 | S32: 0.019 | T32: 5AEFD64C42C02C596620B2705487AE5A6496FE91702A5141309D15AE2D5F8EDA4A4D | Y32: =N32 -> 0.01957
A33: 5A7506E70FB02750C970CD079E4CA1374BB703 | B33: 저압케이블전공 | C33: 일반공사 직종 | D33: 인 | F33: =SUM(Y32:Y32) -> 0.01957 | K33: =IF(TRUNC(F33*공량설정_일위대가!B43/100, 공량설정_일위대가!C44) = 0, TRUNC(F33*공량설정_일위대가!B43/100, 5), TRUNC(F33*공량설정_일위대가!B43/100, 공량설정_일위대가!C44)) -> 0.01957 | O33: 노임 22 | Q33: 5AEFD64C42C02C596620B2705487AE | T33: 5AEFD64C42C02C596620B2705487AE5A7506E70FB02750C970CD079E4CA1374BB703
B34: 제어케이블 F-CVV-SB 5C 1.5㎟ M (호표 19)
A35: 5A6496FE91702A5141309D15AE2D5F8EDA4A42 | B35: 제어케이블 | C35: F-CVV-SB 5C 1.5㎟ | D35: M | E35: 전기 5-13 | F35: 1.03 | G35: 0 | K35: 1.03 | L35: 저압케이블전공 | M35: =0.032*(H35+100)/100*(I35+100)/100*(J35+100)/100 -> 0.032 | N35: =F35*M35 -> 0.03296 | O35: 노임 11 | P35: 0.032*1 | Q35: 5AEFD64C42C02C596620B2705487A9 | R35: 5A7506E70FB02750C970C9AD749F14B50D889A | S35: 0.032 | T35: 5AEFD64C42C02C596620B2705487A95A6496FE91702A5141309D15AE2D5F8EDA4A42 | Y35: =N35 -> 0.03296
A36: 5A7506E70FB02750C970C9AD749F14B50D889A | B36: 저압케이블전공 | C36: 일반공사 직종 | D36: 인 | F36: =SUM(Y35:Y35) -> 0.03296 | K36: =IF(TRUNC(F36*공량설정_일위대가!B45/100, 공량설정_일위대가!C46) = 0, TRUNC(F36*공량설정_일위대가!B45/100, 5), TRUNC(F36*공량설정_일위대가!B45/100, 공량설정_일위대가!C46)) -> 0.03296 | O36: 노임 11 | Q36: 5AEFD64C42C02C596620B2705487A9 | T36: 5AEFD64C42C02C596620B2705487A95A7506E70FB02750C970C9AD749F14B50D889A
B37: 제어케이블 F-CVV-SB 10C 1.5㎟ M (호표 20)
A38: 5A6496FE91702A5141309D15AE2D5F8EDA4A43 | B38: 제어케이블 | C38: F-CVV-SB 10C 1.5㎟ | D38: M | E38: 전기 5-13 | F38: 1.03 | G38: 0 | K38: 1.03 | L38: 저압케이블전공 | M38: =0.048*(H38+100)/100*(I38+100)/100*(J38+100)/100 -> 0.048 | N38: =F38*M38 -> 0.04944 | O38: 노임 11 | P38: 0.048*1 | Q38: 5AEFD64C42C02C596620B2705487A8 | R38: 5A7506E70FB02750C970C9AD749F14B50D889A | S38: 0.048 | T38: 5AEFD64C42C02C596620B2705487A85A6496FE91702A5141309D15AE2D5F8EDA4A43 | Y38: =N38 -> 0.04944
A39: 5A7506E70FB02750C970C9AD749F14B50D889A | B39: 저압케이블전공 | C39: 일반공사 직종 | D39: 인 | F39: =SUM(Y38:Y38) -> 0.04944 | K39: =IF(TRUNC(F39*공량설정_일위대가!B47/100, 공량설정_일위대가!C48) = 0, TRUNC(F39*공량설정_일위대가!B47/100, 5), TRUNC(F39*공량설정_일위대가!B47/100, 공량설정_일위대가!C48)) -> 0.04944 | O39: 노임 11 | Q39: 5AEFD64C42C02C596620B2705487A8 | T39: 5AEFD64C42C02C596620B2705487A85A7506E70FB02750C970C9AD749F14B50D889A
B40: 제어케이블 F-CVV-SB 12C 1.5㎟ M (호표 21)
A41: 5A6496FE91702A5141309D15AE2D5F8EDA4B51 | B41: 제어케이블 | C41: F-CVV-SB 12C 1.5㎟ | D41: M | E41: 전기 5-13 | F41: 1.03 | G41: 0 | K41: 1.03 | L41: 저압케이블전공 | M41: =0.054*(H41+100)/100*(I41+100)/100*(J41+100)/100 -> 0.054 | N41: =F41*M41 -> 0.05562 | O41: 노임 11 | P41: 0.054*1 | Q41: 5AEFD64C42C02C596620B2705487AB | R41: 5A7506E70FB02750C970C9AD749F14B50D889A | S41: 0.054 | T41: 5AEFD64C42C02C596620B2705487AB5A6496FE91702A5141309D15AE2D5F8EDA4B51 | Y41: =N41 -> 0.05562
A42: 5A7506E70FB02750C970C9AD749F14B50D889A | B42: 저압케이블전공 | C42: 일반공사 직종 | D42: 인 | F42: =SUM(Y41:Y41) -> 0.05562 | K42: =IF(TRUNC(F42*공량설정_일위대가!B49/100, 공량설정_일위대가!C50) = 0, TRUNC(F42*공량설정_일위대가!B49/100, 5), TRUNC(F42*공량설정_일위대가!B49/100, 공량설정_일위대가!C50)) -> 0.05562 | O42: 노임 11 | Q42: 5AEFD64C42C02C596620B2705487AB | T42: 5AEFD64C42C02C596620B2705487AB5A7506E70FB02750C970C9AD749F14B50D889A
B43: 제어케이블 F-CVV-SB 15C 1.5㎟ M (호표 22)
A44: 5A6496FE91702A5141309D15AE2D5F8EDA4B50 | B44: 제어케이블 | C44: F-CVV-SB 15C 1.5㎟ | D44: M | E44: 전기 5-13 | F44: 1.03 | G44: 0 | K44: 1.03 | L44: 저압케이블전공 | M44: =0.062*(H44+100)/100*(I44+100)/100*(J44+100)/100 -> 0.062 | N44: =F44*M44 -> 0.06386 | O44: 노임 11 | P44: 0.062*1 | Q44: 5AEFD64C42C02C596620B2705487AA | R44: 5A7506E70FB02750C970C9AD749F14B50D889A | S44: 0.062 | T44: 5AEFD64C42C02C596620B2705487AA5A6496FE91702A5141309D15AE2D5F8EDA4B50 | Y44: =N44 -> 0.06386
A45: 5A7506E70FB02750C970C9AD749F14B50D889A | B45: 저압케이블전공 | C45: 일반공사 직종 | D45: 인 | F45: =SUM(Y44:Y44) -> 0.06386 | K45: =IF(TRUNC(F45*공량설정_일위대가!B51/100, 공량설정_일위대가!C52) = 0, TRUNC(F45*공량설정_일위대가!B51/100, 5), TRUNC(F45*공량설정_일위대가!B51/100, 공량설정_일위대가!C52)) -> 0.06386 | O45: 노임 11 | Q45: 5AEFD64C42C02C596620B2705487AA | T45: 5AEFD64C42C02C596620B2705487AA5A7506E70FB02750C970C9AD749F14B50D889A
B46: 제어케이블 F-CVV-SB 20C 1.5㎟ M (호표 23)
A47: 5A6496FE91702A5141309D15AE2D5F8EDA4B53 | B47: 제어케이블 | C47: F-CVV-SB 20C 1.5㎟ | D47: M | E47: 전기 5-13 | F47: 1.03 | G47: 0 | K47: 1.03 | L47: 저압케이블전공 | M47: =0.074*(H47+100)/100*(I47+100)/100*(J47+100)/100 -> 0.074 | N47: =F47*M47 -> 0.07622 | O47: 노임 11 | P47: 0.074*1 | Q47: 5AEFD64C42C02C596620B2705487A5 | R47: 5A7506E70FB02750C970C9AD749F14B50D889A | S47: 0.074 | T47: 5AEFD64C42C02C596620B2705487A55A6496FE91702A5141309D15AE2D5F8EDA4B53 | Y47: =N47 -> 0.07622
A48: 5A7506E70FB02750C970C9AD749F14B50D889A | B48: 저압케이블전공 | C48: 일반공사 직종 | D48: 인 | F48: =SUM(Y47:Y47) -> 0.07622 | K48: =IF(TRUNC(F48*공량설정_일위대가!B53/100, 공량설정_일위대가!C54) = 0, TRUNC(F48*공량설정_일위대가!B53/100, 5), TRUNC(F48*공량설정_일위대가!B53/100, 공량설정_일위대가!C54)) -> 0.07622 | O48: 노임 11 | Q48: 5AEFD64C42C02C596620B2705487A5 | T48: 5AEFD64C42C02C596620B2705487A55A7506E70FB02750C970C9AD749F14B50D889A
B49: SPD용 회로분리기 CLASS2, 2극 Imax 40ka EA (호표 24)
A50: 5A6496FE91702A5141309D15AE2D5F8EDA4A48 | B50: SPD용 회로분리기 | C50: CLASS2, 2극, Imax 40ka | D50: EA | E50: 전기 5-18 | F50: 1 | G50: 0 | K50: 1 | L50: 내선전공 | M50: =0.43*(H50+100)/100*(I50+100)/100*(J50+100)/100 -> 0.43 | N50: =F50*M50 -> 0.43 | O50: 노임 21 | P50: 0.43*1 | Q50: 5AEFD64C42C02C596620B2705487A4 | R50: 5A7506E70FB02750C970CD079E4CA1374BB702 | S50: 0.43 | T50: 5AEFD64C42C02C596620B2705487A45A6496FE91702A5141309D15AE2D5F8EDA4A48 | X50: =N50 -> 0.43
A51: 5A7506E70FB02750C970CD079E4CA1374BB702 | B51: 내선전공 | C51: 일반공사 직종 | D51: 인 | F51: =SUM(X50:X50) -> 0.43 | K51: =IF(TRUNC(F51*공량설정_일위대가!B55/100, 공량설정_일위대가!C56) = 0, TRUNC(F51*공량설정_일위대가!B55/100, 5), TRUNC(F51*공량설정_일위대가!B55/100, 공량설정_일위대가!C56)) -> 0.43 | O51: 노임 21 | Q51: 5AEFD64C42C02C596620B2705487A4 | T51: 5AEFD64C42C02C596620B2705487A45A7506E70FB02750C970CD079E4CA1374BB702
B52: SPD용 회로분리기 CLASS2, 4극 Imax 40ka EA (호표 25)
A53: 5A6496FE91702A5141309D15AE2D5F8EDA4A49 | B53: SPD용 회로분리기 | C53: CLASS2, 4극, Imax 40ka | D53: EA | E53: 전기 5-18 | F53: 1 | G53: 0 | K53: 1 | L53: 내선전공 | M53: =0.7*(H53+100)/100*(I53+100)/100*(J53+100)/100 -> 0.7 | N53: =F53*M53 -> 0.7 | O53: 노임 21 | P53: 0.7*1 | Q53: 5AEFD64C42C02C596620B2705484D9 | R53: 5A7506E70FB02750C970CD079E4CA1374BB702 | S53: 0.7 | T53: 5AEFD64C42C02C596620B2705484D95A6496FE91702A5141309D15AE2D5F8EDA4A49 | X53: =N53 -> 0.7
A54: 5A7506E70FB02750C970CD079E4CA1374BB702 | B54: 내선전공 | C54: 일반공사 직종 | D54: 인 | F54: =SUM(X53:X53) -> 0.7 | K54: =IF(TRUNC(F54*공량설정_일위대가!B57/100, 공량설정_일위대가!C58) = 0, TRUNC(F54*공량설정_일위대가!B57/100, 5), TRUNC(F54*공량설정_일위대가!B57/100, 공량설정_일위대가!C58)) -> 0.7 | O54: 노임 21 | Q54: 5AEFD64C42C02C596620B2705484D9 | T54: 5AEFD64C42C02C596620B2705484D95A7506E70FB02750C970CD079E4CA1374BB702
B55: SPD용 회로분리기 CLASS2, 2극 Imax 80ka EA (호표 26)
A56: 5A6496FE91702A5141309D15AE2D5F8EDA4A4E | B56: SPD용 회로분리기 | C56: CLASS2, 2극, Imax 80ka | D56: EA | E56: 전기 5-18 | F56: 1 | G56: 0 | K56: 1 | L56: 내선전공 | M56: =0.43*(H56+100)/100*(I56+100)/100*(J56+100)/100 -> 0.43 | N56: =F56*M56 -> 0.43 | O56: 노임 21 | P56: 0.43*1 | Q56: 5AEFD64C42C02C596620B2705484D8 | R56: 5A7506E70FB02750C970CD079E4CA1374BB702 | S56: 0.43 | T56: 5AEFD64C42C02C596620B2705484D85A6496FE91702A5141309D15AE2D5F8EDA4A4E | X56: =N56 -> 0.43
A57: 5A7506E70FB02750C970CD079E4CA1374BB702 | B57: 내선전공 | C57: 일반공사 직종 | D57: 인 | F57: =SUM(X56:X56) -> 0.43 | K57: =IF(TRUNC(F57*공량설정_일위대가!B59/100, 공량설정_일위대가!C60) = 0, TRUNC(F57*공량설정_일위대가!B59/100, 5), TRUNC(F57*공량설정_일위대가!B59/100, 공량설정_일위대가!C60)) -> 0.43 | O57: 노임 21 | Q57: 5AEFD64C42C02C596620B2705484D8 | T57: 5AEFD64C42C02C596620B2705484D85A7506E70FB02750C970CD079E4CA1374BB702
B58: SPD용 회로분리기 CLASS2, 4극 Imax 80ka EA (호표 27)
A59: 5A6496FE91702A5141309D15AE2D5F8EDA4A4F | B59: SPD용 회로분리기 | C59: CLASS2, 4극, Imax 80ka | D59: EA | E59: 전기 5-18 | F59: 1 | G59: 0 | K59: 1 | L59: 내선전공 | M59: =0.7*(H59+100)/100*(I59+100)/100*(J59+100)/100 -> 0.7 | N59: =F59*M59 -> 0.7 | O59: 노임 21 | P59: 0.7*1 | Q59: 5AEFD64C42C02C596620B2705484DB | R59: 5A7506E70FB02750C970CD079E4CA1374BB702 | S59: 0.7 | T59: 5AEFD64C42C02C596620B2705484DB5A6496FE91702A5141309D15AE2D5F8EDA4A4F | X59: =N59 -> 0.7
A60: 5A7506E70FB02750C970CD079E4CA1374BB702 | B60: 내선전공 | C60: 일반공사 직종 | D60: 인 | F60: =SUM(X59:X59) -> 0.7 | K60: =IF(TRUNC(F60*공량설정_일위대가!B61/100, 공량설정_일위대가!C62) = 0, TRUNC(F60*공량설정_일위대가!B61/100, 5), TRUNC(F60*공량설정_일위대가!B61/100, 공량설정_일위대가!C62)) -> 0.7 | O60: 노임 21 | Q60: 5AEFD64C42C02C596620B2705484DB | T60: 5AEFD64C42C02C596620B2705484DB5A7506E70FB02750C970CD079E4CA1374BB702
B61: 난연 전력케이블 0.6/1KV F-CV 2C 2.5㎟ M (호표 28)
A62: 5A6496FE91702A5141309D15AE2D5F8EDA45CF | B62: 난연 전력케이블 | C62: 0.6/1KV F-CV 2C 2.5㎟ | D62: M | E62: 전기 5-13 | F62: 1.03 | G62: 0 | K62: 1.03 | L62: 저압케이블전공 | M62: =0.014*(H62+100)/100*(I62+100)/100*(J62+100)/100 -> 0.014 | N62: =F62*M62 -> 0.01442 | O62: 노임 22 | P62: 0.014*1 | Q62: 5AEFD64C42C02C596620B2705484DA | R62: 5A7506E70FB02750C970CD079E4CA1374BB703 | S62: 0.014 | T62: 5AEFD64C42C02C596620B2705484DA5A6496FE91702A5141309D15AE2D5F8EDA45CF | Y62: =N62 -> 0.01442
A63: 5A7506E70FB02750C970CD079E4CA1374BB703 | B63: 저압케이블전공 | C63: 일반공사 직종 | D63: 인 | F63: =SUM(Y62:Y62) -> 0.01442 | K63: =IF(TRUNC(F63*공량설정_일위대가!B63/100, 공량설정_일위대가!C64) = 0, TRUNC(F63*공량설정_일위대가!B63/100, 5), TRUNC(F63*공량설정_일위대가!B63/100, 공량설정_일위대가!C64)) -> 0.01442 | O63: 노임 22 | Q63: 5AEFD64C42C02C596620B2705484DA | T63: 5AEFD64C42C02C596620B2705484DA5A7506E70FB02750C970CD079E4CA1374BB703
B64: 난연 전력케이블 0.6/1KV F-CV 2C 4㎟ M (호표 29)
A65: 5A6496FE91702A5141309D15AE2D5F8EDA45CE | B65: 난연 전력케이블 | C65: 0.6/1KV F-CV 2C 4㎟ | D65: M | E65: 전기 5-13 | F65: 1.03 | G65: 0 | K65: 1.03 | L65: 저압케이블전공 | M65: =0.016*(H65+100)/100*(I65+100)/100*(J65+100)/100 -> 0.016 | N65: =F65*M65 -> 0.01648 | O65: 노임 22 | P65: 0.016*1 | Q65: 5AEFD64C42C02C596620B2705484DD | R65: 5A7506E70FB02750C970CD079E4CA1374BB703 | S65: 0.016 | T65: 5AEFD64C42C02C596620B2705484DD5A6496FE91702A5141309D15AE2D5F8EDA45CE | Y65: =N65 -> 0.01648
A66: 5A7506E70FB02750C970CD079E4CA1374BB703 | B66: 저압케이블전공 | C66: 일반공사 직종 | D66: 인 | F66: =SUM(Y65:Y65) -> 0.01648 | K66: =IF(TRUNC(F66*공량설정_일위대가!B65/100, 공량설정_일위대가!C66) = 0, TRUNC(F66*공량설정_일위대가!B65/100, 5), TRUNC(F66*공량설정_일위대가!B65/100, 공량설정_일위대가!C66)) -> 0.01648 | O66: 노임 22 | Q66: 5AEFD64C42C02C596620B2705484DD | T66: 5AEFD64C42C02C596620B2705484DD5A7506E70FB02750C970CD079E4CA1374BB703
B67: 난연 전력케이블 0.6/1KV F-CV 3C 2.5㎟ M (호표 30)
A68: 5A6496FE91702A5141309D15AE2D5F8EDA45C1 | B68: 난연 전력케이블 | C68: 0.6/1KV F-CV 3C 2.5㎟ | D68: M | E68: 전기 5-13 | F68: 1.03 | G68: 0 | K68: 1.03 | L68: 저압케이블전공 | M68: =0.019*(H68+100)/100*(I68+100)/100*(J68+100)/100 -> 0.019 | N68: =F68*M68 -> 0.01957 | O68: 노임 22 | P68: 0.019*1 | Q68: 5AEFD64C42C02C596620B2705484DC | R68: 5A7506E70FB02750C970CD079E4CA1374BB703 | S68: 0.019 | T68: 5AEFD64C42C02C596620B2705484DC5A6496FE91702A5141309D15AE2D5F8EDA45C1 | Y68: =N68 -> 0.01957
A69: 5A7506E70FB02750C970CD079E4CA1374BB703 | B69: 저압케이블전공 | C69: 일반공사 직종 | D69: 인 | F69: =SUM(Y68:Y68) -> 0.01957 | K69: =IF(TRUNC(F69*공량설정_일위대가!B67/100, 공량설정_일위대가!C68) = 0, TRUNC(F69*공량설정_일위대가!B67/100, 5), TRUNC(F69*공량설정_일위대가!B67/100, 공량설정_일위대가!C68)) -> 0.01957 | O69: 노임 22 | Q69: 5AEFD64C42C02C596620B2705484DC | T69: 5AEFD64C42C02C596620B2705484DC5A7506E70FB02750C970CD079E4CA1374BB703
B70: 난연 전력케이블 0.6/1KV F-CV 3C 4㎟ M (호표 31)
A71: 5A6496FE91702A5141309D15AE2D5F8EDA45C0 | B71: 난연 전력케이블 | C71: 0.6/1KV F-CV 3C 4㎟ | D71: M | E71: 전기 5-13 | F71: 1.03 | G71: 0 | K71: 1.03 | L71: 저압케이블전공 | M71: =0.022*(H71+100)/100*(I71+100)/100*(J71+100)/100 -> 0.022 | N71: =F71*M71 -> 0.02266 | O71: 노임 22 | P71: 0.022*1 | Q71: 5AEFD64C42C02C596620B2705484DF | R71: 5A7506E70FB02750C970CD079E4CA1374BB703 | S71: 0.022 | T71: 5AEFD64C42C02C596620B2705484DF5A6496FE91702A5141309D15AE2D5F8EDA45C0 | Y71: =N71 -> 0.02266
A72: 5A7506E70FB02750C970CD079E4CA1374BB703 | B72: 저압케이블전공 | C72: 일반공사 직종 | D72: 인 | F72: =SUM(Y71:Y71) -> 0.02266 | K72: =IF(TRUNC(F72*공량설정_일위대가!B69/100, 공량설정_일위대가!C70) = 0, TRUNC(F72*공량설정_일위대가!B69/100, 5), TRUNC(F72*공량설정_일위대가!B69/100, 공량설정_일위대가!C70)) -> 0.02266 | O72: 노임 22 | Q72: 5AEFD64C42C02C596620B2705484DF | T72: 5AEFD64C42C02C596620B2705484DF5A7506E70FB02750C970CD079E4CA1374BB703
B73: 난연 전력케이블 0.6/1KV F-CV 4C 6㎟ M (호표 32)
A74: 5A6496FE91702A5141309D15AE2D5F8EDA4A4A | B74: 난연 전력케이블 | C74: 0.6/1KV F-CV 4C 6㎟ | D74: M | E74: 전기 5-13 | F74: 1.03 | G74: 0 | K74: 1.03 | L74: 저압케이블전공 | M74: =0.034*(H74+100)/100*(I74+100)/100*(J74+100)/100 -> 0.034 | N74: =F74*M74 -> 0.03502 | O74: 노임 22 | P74: 0.034*1 | Q74: 5AEFD64C42C02C596620B2705484DE | R74: 5A7506E70FB02750C970CD079E4CA1374BB703 | S74: 0.034 | T74: 5AEFD64C42C02C596620B2705484DE5A6496FE91702A5141309D15AE2D5F8EDA4A4A | Y74: =N74 -> 0.03502
A75: 5A7506E70FB02750C970CD079E4CA1374BB703 | B75: 저압케이블전공 | C75: 일반공사 직종 | D75: 인 | F75: =SUM(Y74:Y74) -> 0.03502 | K75: =IF(TRUNC(F75*공량설정_일위대가!B71/100, 공량설정_일위대가!C72) = 0, TRUNC(F75*공량설정_일위대가!B71/100, 5), TRUNC(F75*공량설정_일위대가!B71/100, 공량설정_일위대가!C72)) -> 0.03502 | O75: 노임 22 | Q75: 5AEFD64C42C02C596620B2705484DE | T75: 5AEFD64C42C02C596620B2705484DE5A7506E70FB02750C970CD079E4CA1374BB703
B76: 난연 전력케이블 0.6/1KV F-CV 4C 10㎟ M (호표 33)
A77: 5A6496FE91702A5141309D15AE2D5F8EDA4A4B | B77: 난연 전력케이블 | C77: 0.6/1KV F-CV 4C 10㎟ | D77: M | E77: 전기 5-13 | F77: 1.03 | G77: 0 | K77: 1.03 | L77: 저압케이블전공 | M77: =0.049*(H77+100)/100*(I77+100)/100*(J77+100)/100 -> 0.049 | N77: =F77*M77 -> 0.05047 | O77: 노임 22 | P77: 0.049*1 | Q77: 5AEFD64C42C02C596620B2705484D1 | R77: 5A7506E70FB02750C970CD079E4CA1374BB703 | S77: 0.049 | T77: 5AEFD64C42C02C596620B2705484D15A6496FE91702A5141309D15AE2D5F8EDA4A4B | Y77: =N77 -> 0.05047
A78: 5A7506E70FB02750C970CD079E4CA1374BB703 | B78: 저압케이블전공 | C78: 일반공사 직종 | D78: 인 | F78: =SUM(Y77:Y77) -> 0.05047 | K78: =IF(TRUNC(F78*공량설정_일위대가!B73/100, 공량설정_일위대가!C74) = 0, TRUNC(F78*공량설정_일위대가!B73/100, 5), TRUNC(F78*공량설정_일위대가!B73/100, 공량설정_일위대가!C74)) -> 0.05047 | O78: 노임 22 | Q78: 5AEFD64C42C02C596620B2705484D1 | T78: 5AEFD64C42C02C596620B2705484D15A7506E70FB02750C970CD079E4CA1374BB703
B79: 나동선 연동연선(AS) 25㎟ M (호표 34)
A80: 5A6496FE91702A5141309D15AE2D5F8EDA45CD | B80: 나동선 연동연선(AS) | C80: 25㎟ | D80: M | E80: 전기 3-38 | F80: 1.1 | G80: 0 | K80: 1.1 | L80: 저압케이블전공 | M80: =0.007*(H80+100)/100*(I80+100)/100*(J80+100)/100 -> 0.007 | N80: =F80*M80 -> 0.0077 | O80: 노임 22 | P80: 0.007*1 | Q80: 5AEFD64C42C02C596620B2705484D0 | R80: 5A7506E70FB02750C970CD079E4CA1374BB703 | S80: 0.007 | T80: 5AEFD64C42C02C596620B2705484D05A6496FE91702A5141309D15AE2D5F8EDA45CD | Y80: =N80 -> 0.0077
A81: 5A7506E70FB02750C970CD079E4CA1374BB703 | B81: 저압케이블전공 | C81: 일반공사 직종 | D81: 인 | F81: =SUM(Y80:Y80) -> 0.0077 | K81: =IF(TRUNC(F81*공량설정_일위대가!B75/100, 공량설정_일위대가!C76) = 0, TRUNC(F81*공량설정_일위대가!B75/100, 5), TRUNC(F81*공량설정_일위대가!B75/100, 공량설정_일위대가!C76)) -> 0.0077 | O81: 노임 22 | Q81: 5AEFD64C42C02C596620B2705484D0 | T81: 5AEFD64C42C02C596620B2705484D05A7506E70FB02750C970CD079E4CA1374BB703
B82: 나동선 연동연선(AS) 70㎟ M (호표 35)
A83: 5A6496FE91702A5141309D15AE2D5F8EDA45CC | B83: 나동선 연동연선(AS) | C83: 70㎟ | D83: M | E83: 전기 3-38 | F83: 1.1 | G83: 0 | K83: 1.1 | L83: 저압케이블전공 | M83: =0.008*(H83+100)/100*(I83+100)/100*(J83+100)/100 -> 0.008 | N83: =F83*M83 -> 0.0088 | O83: 노임 22 | P83: 0.008*1 | Q83: 5AEFD64C42C02C596620B2705485FF | R83: 5A7506E70FB02750C970CD079E4CA1374BB703 | S83: 0.008 | T83: 5AEFD64C42C02C596620B2705485FF5A6496FE91702A5141309D15AE2D5F8EDA45CC | Y83: =N83 -> 0.0088
A84: 5A7506E70FB02750C970CD079E4CA1374BB703 | B84: 저압케이블전공 | C84: 일반공사 직종 | D84: 인 | F84: =SUM(Y83:Y83) -> 0.0088 | K84: =IF(TRUNC(F84*공량설정_일위대가!B77/100, 공량설정_일위대가!C78) = 0, TRUNC(F84*공량설정_일위대가!B77/100, 5), TRUNC(F84*공량설정_일위대가!B77/100, 공량설정_일위대가!C78)) -> 0.0088 | O84: 노임 22 | Q84: 5AEFD64C42C02C596620B2705485FF | T84: 5AEFD64C42C02C596620B2705485FF5A7506E70FB02750C970CD079E4CA1374BB703
B85: 기기용 비닐절연전선 KIV 1.5㎟ M (호표 36)
A86: 5A6496FE91702A5141309D15AE2D5F8EDA45CB | B86: 기기용 비닐절연전선 | C86: 450/700V 1.5㎟ | D86: M | E86: 전기 3-34 | F86: 1.1 | G86: 0 | K86: 1.1 | L86: 변전전공 | M86: =0.055*(H86+100)/100*(I86+100)/100*(J86+100)/100 -> 0.055 | N86: =F86*M86 -> 0.0605 | O86: 노임 24 | P86: 0.055*1 | Q86: 5AEFD64C42C02C596620B2705485FE | R86: 5A7506E70FB02750C970CD079E4CA1374BB4B2 | S86: 0.055 | T86: 5AEFD64C42C02C596620B2705485FE5A6496FE91702A5141309D15AE2D5F8EDA45CB | Z86: =N86 -> 0.0605
A87: 5A7506E70FB02750C970CD079E4CA1374BB4B2 | B87: 변전전공 | C87: 일반공사 직종 | D87: 인 | F87: =SUM(Z86:Z86) -> 0.0605 | K87: =IF(TRUNC(F87*공량설정_일위대가!B79/100, 공량설정_일위대가!C80) = 0, TRUNC(F87*공량설정_일위대가!B79/100, 5), TRUNC(F87*공량설정_일위대가!B79/100, 공량설정_일위대가!C80)) -> 0.0605 | O87: 노임 24 | Q87: 5AEFD64C42C02C596620B2705485FE | T87: 5AEFD64C42C02C596620B2705485FE5A7506E70FB02750C970CD079E4CA1374BB4B2
B88: 기기용 비닐절연전선 KIV 2.5㎟ M (호표 37)
A89: 5A6496FE91702A5141309D15AE2D5F8EDA45CA | B89: 기기용 비닐절연전선 | C89: 450/700V 2.5㎟ | D89: M | E89: 전기 3-34 | F89: 1.1 | G89: 0 | K89: 1.1 | L89: 변전전공 | M89: =0.055*(H89+100)/100*(I89+100)/100*(J89+100)/100 -> 0.055 | N89: =F89*M89 -> 0.0605 | O89: 노임 24 | P89: 0.055*1 | Q89: 5AEFD64C42C02C596620B2705485FD | R89: 5A7506E70FB02750C970CD079E4CA1374BB4B2 | S89: 0.055 | T89: 5AEFD64C42C02C596620B2705485FD5A6496FE91702A5141309D15AE2D5F8EDA45CA | Z89: =N89 -> 0.0605
A90: 5A7506E70FB02750C970CD079E4CA1374BB4B2 | B90: 변전전공 | C90: 일반공사 직종 | D90: 인 | F90: =SUM(Z89:Z89) -> 0.0605 | K90: =IF(TRUNC(F90*공량설정_일위대가!B81/100, 공량설정_일위대가!C82) = 0, TRUNC(F90*공량설정_일위대가!B81/100, 5), TRUNC(F90*공량설정_일위대가!B81/100, 공량설정_일위대가!C82)) -> 0.0605 | O90: 노임 24 | Q90: 5AEFD64C42C02C596620B2705485FD | T90: 5AEFD64C42C02C596620B2705485FD5A7506E70FB02750C970CD079E4CA1374BB4B2
B91: 접지 클램프 70㎟ EA (호표 38)
A92: 5A6496FE91702A5141309D15AE2D5F8EDA45C8 | B92: 접지 클램프 | C92: C-TYPE SLEEVE 70SQ | D92: EA | E92: 전기 3-38 | F92: 1 | G92: 0 | K92: 1 | L92: 내선전공 | M92: =0.097*(H92+100)/100*(I92+100)/100*(J92+100)/100 -> 0.097 | N92: =F92*M92 -> 0.097 | O92: 노임 21 | P92: 0.097*1 | Q92: 5AEFD64C42C02C596620B2705485FC | R92: 5A7506E70FB02750C970CD079E4CA1374BB702 | S92: 0.097 | T92: 5AEFD64C42C02C596620B2705485FC5A6496FE91702A5141309D15AE2D5F8EDA45C8 | X92: =N92 -> 0.097
A93: 5A7506E70FB02750C970CD079E4CA1374BB702 | B93: 내선전공 | C93: 일반공사 직종 | D93: 인 | F93: =SUM(X92:X92) -> 0.097 | K93: =IF(TRUNC(F93*공량설정_일위대가!B83/100, 공량설정_일위대가!C85) = 0, TRUNC(F93*공량설정_일위대가!B83/100, 5), TRUNC(F93*공량설정_일위대가!B83/100, 공량설정_일위대가!C85)) -> 0.097 | O93: 노임 21 | Q93: 5AEFD64C42C02C596620B2705485FC | T93: 5AEFD64C42C02C596620B2705485FC5A7506E70FB02750C970CD079E4CA1374BB702
B94: 접지봉 3본 연결 EA (호표 39)
A95: 5A6496FE91702A5141309D15AE2D5F8EDA45C8 | B95: 접지 클램프 | C95: C-TYPE SLEEVE 70SQ | D95: EA | E95: 전기 3-38 | F95: 3 | G95: 0 | K95: 3 | L95: 내선전공 | M95: =0.097*(H95+100)/100*(I95+100)/100*(J95+100)/100 -> 0.097 | N95: =F95*M95 -> 0.291 | O95: 노임 21 | P95: 0.097*1 | Q95: 5AEFD64C42C02C596620B2705485FB | R95: 5A7506E70FB02750C970CD079E4CA1374BB702 | S95: 0.097 | T95: 5AEFD64C42C02C596620B2705485FB5A6496FE91702A5141309D15AE2D5F8EDA45C8 | X95: =N95 -> 0.291
A96: 5A6496FE91702A5141309D15AE2D5F8EDA45C9 | B96: 접지봉 | C96: 16D*1800mm | D96: EA | E96: 전기 3-38 | F96: 3 | G96: 0 | K96: 3 | L96: 내선전공 | M96: =0*(H96+100)/100*(I96+100)/100*(J96+100)/100 -> 0 | N96: =F96*M96 -> 0 | O96: 노임 21 | Q96: 5AEFD64C42C02C596620B2705485FB | R96: 5A7506E70FB02750C970CD079E4CA1374BB702 | S96: 0 | T96: 5AEFD64C42C02C596620B2705485FB5A6496FE91702A5141309D15AE2D5F8EDA45C9 | X96: =N96 -> 0
A97: 5A7506E70FB02750C970CD079E4CA1374BB702 | B97: 내선전공 | C97: 일반공사 직종 | D97: 인 | F97: =SUM(X95:X96) -> 0.291 | K97: =IF(TRUNC(F97*공량설정_일위대가!B86/100, 공량설정_일위대가!C88) = 0, TRUNC(F97*공량설정_일위대가!B86/100, 5), TRUNC(F97*공량설정_일위대가!B86/100, 공량설정_일위대가!C88)) -> 0.291 | O97: 노임 21 | Q97: 5AEFD64C42C02C596620B2705485FB | T97: 5AEFD64C42C02C596620B2705485FB5A7506E70FB02750C970CD079E4CA1374BB702
B98: 제1종 금속제 가요전선관 16C 고장력방수 M (호표 40)
A99: 5A6496FE91702A5141309D15AE2D5F8EDA4420 | B99: 1종금속제 가요전선관 | C99: (고장력방수) 16mm | D99: M | E99: 전기 5-1 | F99: 1.1 | G99: 0 | K99: 1.1 | L99: 내선전공 | M99: =0.044*(H99+100)/100*(I99+100)/100*(J99+100)/100 -> 0.044 | N99: =F99*M99 -> 0.0484 | O99: 노임 21 | P99: 0.044*1 | Q99: 5AEFD64C42C02C596620B2705485FA | R99: 5A7506E70FB02750C970CD079E4CA1374BB702 | S99: 0.044 | T99: 5AEFD64C42C02C596620B2705485FA5A6496FE91702A5141309D15AE2D5F8EDA4420 | X99: =N99 -> 0.0484
A100: 5A7506E70FB02750C970CD079E4CA1374BB702 | B100: 내선전공 | C100: 일반공사 직종 | D100: 인 | F100: =SUM(X99:X99) -> 0.0484 | K100: =IF(TRUNC(F100*공량설정_일위대가!B90/100, 공량설정_일위대가!C91) = 0, TRUNC(F100*공량설정_일위대가!B90/100, 5), TRUNC(F100*공량설정_일위대가!B90/100, 공량설정_일위대가!C91)) -> 0.0484 | O100: 노임 21 | Q100: 5AEFD64C42C02C596620B2705485FA | T100: 5AEFD64C42C02C596620B2705485FA5A7506E70FB02750C970CD079E4CA1374BB702
...

Sheet 공량설정_일위대가
A1: 일위대가 | B1: 적용율(%) | C1: 소수점이하자릿수 | D1: 일위대가 코드
A2: 원격제어반(양배수장) (제작율 적용) 옥내자립형(ST), 800(W)x2,350(H)x2,000(D) (호표 1) | B2: 100 | D2: 5AEFD64C42C02C596620B27054807A
A3: 원격제어반(수문) (제작율 적용) 옥외자립형(STS), 800(W)x1800(H)x600(D) (호표 2) | B3: 100 | D3: 5AEFD64C42C02C596620B270548106
A4: 영상관제장치 점검 9-4-17 디지털 사이니지 (호표 3) | B4: 100 | D4: 5AEFD64C42C02C596620B270548686
A5: 통신관련산업기사 | C5: 2 | D5: 5AEFD64C42C02C596620B2705486865A7506E70FB02750C970CD079E4CA1374BB706
A6: S/W시험사 | C6: 2 | D6: 5AEFD64C42C02C596620B2705486865A7506E70FB02750C970CAB3417ADAB8E7319E
A7: 자동화시설 현장조치 1일 1개소 조치비용 (호표 4) | B7: 100 | D7: 5AEFD64C42C02C596620B270548B0C
A8: S/W시험사 | C8: 1 | D8: 5AEFD64C42C02C596620B270548B0C5A7506E70FB02750C970CAB3417ADAB8E7319E
A9: 특별인부 | C9: 1 | D9: 5AEFD64C42C02C596620B270548B0C5A7506E70FB02750C970C9AD749F14B50D8FC2
A10: 자동화시설 현장조치 2번째 이상 개소당 조치비용 (호표 5) | B10: 100 | D10: 5AEFD64C42C02C596620B270548B0D
A11: S/W시험사 | C11: 2 | D11: 5AEFD64C42C02C596620B270548B0D5A7506E70FB02750C970CAB3417ADAB8E7319E
A12: 특별인부 | C12: 2 | D12: 5AEFD64C42C02C596620B270548B0D5A7506E70FB02750C970C9AD749F14B50D8FC2
A13: 중앙관리소 현장조치 컴퓨터 장비 (호표 6) | B13: 100 | D13: 5AEFD64C42C02C596620B270548B0E
A14: S/W시험사 | C14: 2 | D14: 5AEFD64C42C02C596620B270548B0E5A7506E70FB02750C970CAB3417ADAB8E7319E
A15: H/W시험사 | C15: 2 | D15: 5AEFD64C42C02C596620B270548B0E5A7506E70FB02750C970CAB3417ADAB8E73199
A16: 특별인부 | C16: 2 | D16: 5AEFD64C42C02C596620B270548B0E5A7506E70FB02750C970C9AD749F14B50D8FC2
A17: 중앙관리소 현장조치 HMI S/W (호표 7) | B17: 100 | D17: 5AEFD64C42C02C596620B270548B00
A18: S/W시험사 | C18: 2 | D18: 5AEFD64C42C02C596620B270548B005A7506E70FB02750C970CAB3417ADAB8E7319E
A19: H/W시험사 | C19: 2 | D19: 5AEFD64C42C02C596620B270548B005A7506E70FB02750C970CAB3417ADAB8E73199
A20: 특별인부 | C20: 2 | D20: 5AEFD64C42C02C596620B270548B005A7506E70FB02750C970C9AD749F14B50D8FC2
A21: 중앙관리소 현장조치 CCTV S/W (호표 8) | B21: 100 | D21: 5AEFD64C42C02C596620B270548B01
A22: S/W시험사 | C22: 2 | D22: 5AEFD64C42C02C596620B270548B015A7506E70FB02750C970CAB3417ADAB8E7319E
A23: H/W시험사 | C23: 2 | D23: 5AEFD64C42C02C596620B270548B015A7506E70FB02750C970CAB3417ADAB8E73199
A24: 특별인부 | C24: 2 | D24: 5AEFD64C42C02C596620B270548B015A7506E70FB02750C970C9AD749F14B50D8FC2
A25: LAN케이블 UTP.CAT.6/CM (호표 9) | B25: 100 | D25: 5AEFD64C42C02C596620B270564CCD
A26: 통신케이블공 | C26: 2 | D26: 5AEFD64C42C02C596620B270564CCD5A7506E70FB02750C970C9AD749F14B50D8782
A27: 저독성난연가요폴리올레핀절연전선 HFIX 단선 2.5㎟ (호표 10) | B27: 100 | D27: 5AEFD64C42C02C596620B270548683
A28: 내선전공 | C28: 3 | D28: 5AEFD64C42C02C596620B2705486835A7506E70FB02750C970CD079E4CA1374BB702
A29: 저독성난연가요폴리올레핀절연전선 HFIX 연선 4㎟ (호표 11) | B29: 100 | D29: 5AEFD64C42C02C596620B270548680
A30: 내선전공 | C30: 3 | D30: 5AEFD64C42C02C596620B2705486805A7506E70FB02750C970CD079E4CA1374BB702
A31: 접지선 F-GV 2.5㎟ (호표 12) | B31: 100 | D31: 5AEFD64C42C02C596620B270548681
A32: 내선전공 | C32: 4 | D32: 5AEFD64C42C02C596620B2705486815A7506E70FB02750C970CD079E4CA1374BB702
A33: 접지선 F-GV 4㎟ (호표 13) | B33: 100 | D33: 5AEFD64C42C02C596620B27054868E
A34: 내선전공 | C34: 4 | D34: 5AEFD64C42C02C596620B27054868E5A7506E70FB02750C970CD079E4CA1374BB702
A35: 접지선 F-GV 6㎟ (호표 14) | B35: 100 | D35: 5AEFD64C42C02C596620B27054868F
A36: 내선전공 | C36: 4 | D36: 5AEFD64C42C02C596620B27054868F5A7506E70FB02750C970CD079E4CA1374BB702
A37: 접지선 F-GV 25㎟ (호표 15) | B37: 100 | D37: 5AEFD64C42C02C596620B2705487AD
A38: 내선전공 | C38: 4 | D38: 5AEFD64C42C02C596620B2705487AD5A7506E70FB02750C970CD079E4CA1374BB702
A39: 접지선 F-GV 70㎟ (호표 16) | B39: 100 | D39: 5AEFD64C42C02C596620B2705487AC
A40: 내선전공 | C40: 4 | D40: 5AEFD64C42C02C596620B2705487AC5A7506E70FB02750C970CD079E4CA1374BB702
A41: 제어케이블 F-CVV-SB 2C 1.5㎟ (호표 17) | B41: 100 | D41: 5AEFD64C42C02C596620B2705487AF
A42: 저압케이블전공 | C42: 5 | D42: 5AEFD64C42C02C596620B2705487AF5A7506E70FB02750C970CD079E4CA1374BB703
A43: 제어케이블 F-CVV-SB 3C 1.5㎟ (호표 18) | B43: 100 | D43: 5AEFD64C42C02C596620B2705487AE
A44: 저압케이블전공 | C44: 5 | D44: 5AEFD64C42C02C596620B2705487AE5A7506E70FB02750C970CD079E4CA1374BB703
A45: 제어케이블 F-CVV-SB 5C 1.5㎟ (호표 19) | B45: 100 | D45: 5AEFD64C42C02C596620B2705487A9
A46: 저압케이블전공 | C46: 5 | D46: 5AEFD64C42C02C596620B2705487A95A7506E70FB02750C970C9AD749F14B50D889A
A47: 제어케이블 F-CVV-SB 10C 1.5㎟ (호표 20) | B47: 100 | D47: 5AEFD64C42C02C596620B2705487A8
A48: 저압케이블전공 | C48: 5 | D48: 5AEFD64C42C02C596620B2705487A85A7506E70FB02750C970C9AD749F14B50D889A
A49: 제어케이블 F-CVV-SB 12C 1.5㎟ (호표 21) | B49: 100 | D49: 5AEFD64C42C02C596620B2705487AB
A50: 저압케이블전공 | C50: 5 | D50: 5AEFD64C42C02C596620B2705487AB5A7506E70FB02750C970C9AD749F14B50D889A
A51: 제어케이블 F-CVV-SB 15C 1.5㎟ (호표 22) | B51: 100 | D51: 5AEFD64C42C02C596620B2705487AA
A52: 저압케이블전공 | C52: 5 | D52: 5AEFD64C42C02C596620B2705487AA5A7506E70FB02750C970C9AD749F14B50D889A
A53: 제어케이블 F-CVV-SB 20C 1.5㎟ (호표 23) | B53: 100 | D53: 5AEFD64C42C02C596620B2705487A5
A54: 저압케이블전공 | C54: 5 | D54: 5AEFD64C42C02C596620B2705487A55A7506E70FB02750C970C9AD749F14B50D889A
A55: SPD용 회로분리기 CLASS2, 2극 Imax 40ka (호표 24) | B55: 100 | D55: 5AEFD64C42C02C596620B2705487A4
A56: 내선전공 | C56: 2 | D56: 5AEFD64C42C02C596620B2705487A45A7506E70FB02750C970CD079E4CA1374BB702
A57: SPD용 회로분리기 CLASS2, 4극 Imax 40ka (호표 25) | B57: 100 | D57: 5AEFD64C42C02C596620B2705484D9
A58: 내선전공 | C58: 1 | D58: 5AEFD64C42C02C596620B2705484D95A7506E70FB02750C970CD079E4CA1374BB702
A59: SPD용 회로분리기 CLASS2, 2극 Imax 80ka (호표 26) | B59: 100 | D59: 5AEFD64C42C02C596620B2705484D8
A60: 내선전공 | C60: 2 | D60: 5AEFD64C42C02C596620B2705484D85A7506E70FB02750C970CD079E4CA1374BB702
A61: SPD용 회로분리기 CLASS2, 4극 Imax 80ka (호표 27) | B61: 100 | D61: 5AEFD64C42C02C596620B2705484DB
A62: 내선전공 | C62: 1 | D62: 5AEFD64C42C02C596620B2705484DB5A7506E70FB02750C970CD079E4CA1374BB702
A63: 난연 전력케이블 0.6/1KV F-CV 2C 2.5㎟ (호표 28) | B63: 100 | D63: 5AEFD64C42C02C596620B2705484DA
A64: 저압케이블전공 | C64: 5 | D64: 5AEFD64C42C02C596620B2705484DA5A7506E70FB02750C970CD079E4CA1374BB703
A65: 난연 전력케이블 0.6/1KV F-CV 2C 4㎟ (호표 29) | B65: 100 | D65: 5AEFD64C42C02C596620B2705484DD
A66: 저압케이블전공 | C66: 5 | D66: 5AEFD64C42C02C596620B2705484DD5A7506E70FB02750C970CD079E4CA1374BB703
A67: 난연 전력케이블 0.6/1KV F-CV 3C 2.5㎟ (호표 30) | B67: 100 | D67: 5AEFD64C42C02C596620B2705484DC
A68: 저압케이블전공 | C68: 5 | D68: 5AEFD64C42C02C596620B2705484DC5A7506E70FB02750C970CD079E4CA1374BB703
A69: 난연 전력케이블 0.6/1KV F-CV 3C 4㎟ (호표 31) | B69: 100 | D69: 5AEFD64C42C02C596620B2705484DF
A70: 저압케이블전공 | C70: 5 | D70: 5AEFD64C42C02C596620B2705484DF5A7506E70FB02750C970CD079E4CA1374BB703
A71: 난연 전력케이블 0.6/1KV F-CV 4C 6㎟ (호표 32) | B71: 100 | D71: 5AEFD64C42C02C596620B2705484DE
A72: 저압케이블전공 | C72: 5 | D72: 5AEFD64C42C02C596620B2705484DE5A7506E70FB02750C970CD079E4CA1374BB703
A73: 난연 전력케이블 0.6/1KV F-CV 4C 10㎟ (호표 33) | B73: 100 | D73: 5AEFD64C42C02C596620B2705484D1
A74: 저압케이블전공 | C74: 5 | D74: 5AEFD64C42C02C596620B2705484D15A7506E70FB02750C970CD079E4CA1374BB703
A75: 나동선 연동연선(AS) 25㎟ (호표 34) | B75: 100 | D75: 5AEFD64C42C02C596620B2705484D0
A76: 저압케이블전공 | C76: 4 | D76: 5AEFD64C42C02C596620B2705484D05A7506E70FB02750C970CD079E4CA1374BB703
A77: 나동선 연동연선(AS) 70㎟ (호표 35) | B77: 100 | D77: 5AEFD64C42C02C596620B2705485FF
A78: 저압케이블전공 | C78: 4 | D78: 5AEFD64C42C02C596620B2705485FF5A7506E70FB02750C970CD079E4CA1374BB703
A79: 기기용 비닐절연전선 KIV 1.5㎟ (호표 36) | B79: 100 | D79: 5AEFD64C42C02C596620B2705485FE
A80: 변전전공 | C80: 4 | D80: 5AEFD64C42C02C596620B2705485FE5A7506E70FB02750C970CD079E4CA1374BB4B2
A81: 기기용 비닐절연전선 KIV 2.5㎟ (호표 37) | B81: 100 | D81: 5AEFD64C42C02C596620B2705485FD
A82: 변전전공 | C82: 4 | D82: 5AEFD64C42C02C596620B2705485FD5A7506E70FB02750C970CD079E4CA1374BB4B2
A83: 접지 클램프 70㎟ (호표 38) | B83: 100 | D83: 5AEFD64C42C02C596620B2705485FC
A84: 저압케이블전공 | C84: 3 | D84: 5AEFD64C42C02C596620B2705485FC5A7506E70FB02750C970CD079E4CA1374BB703
A85: 내선전공 | C85: 3 | D85: 5AEFD64C42C02C596620B2705485FC5A7506E70FB02750C970CD079E4CA1374BB702
A86: 접지봉 3본 연결 (호표 39) | B86: 100 | D86: 5AEFD64C42C02C596620B2705485FB
A87: 저압케이블전공 | C87: 2 | D87: 5AEFD64C42C02C596620B2705485FB5A7506E70FB02750C970CD079E4CA1374BB703
A88: 내선전공 | C88: 3 | D88: 5AEFD64C42C02C596620B2705485FB5A7506E70FB02750C970CD079E4CA1374BB702
A89: 보통인부 | C89: 1 | D89: 5AEFD64C42C02C596620B2705485FB5A7506E70FB02750C970CD079E4CA1374BB4B3
A90: 제1종 금속제 가요전선관 16C 고장력방수 (호표 40) | B90: 100 | D90: 5AEFD64C42C02C596620B2705485FA
A91: 내선전공 | C91: 4 | D91: 5AEFD64C42C02C596620B2705485FA5A7506E70FB02750C970CD079E4CA1374BB702
A92: 제1종 금속제 가요전선관 22C 고장력방수 (호표 41) | B92: 100 | D92: 5AEFD64C42C02C596620B2705485F9
A93: 내선전공 | C93: 4 | D93: 5AEFD64C42C02C596620B2705485F95A7506E70FB02750C970CD079E4CA1374BB702
A94: 제1종 금속제 가요전선관 28C 고장력방수 (호표 42) | B94: 100 | D94: 5AEFD64C42C02C596620B2705485F8
A95: 내선전공 | C95: 4 | D95: 5AEFD64C42C02C596620B2705485F85A7506E70FB02750C970CD079E4CA1374BB702
A96: 제1종 금속제 가요전선관 36C 고장력방수 (호표 43) | B96: 100 | D96: 5AEFD64C42C02C596620B2705485F7
A97: 내선전공 | C97: 4 | D97: 5AEFD64C42C02C596620B2705485F75A7506E70FB02750C970CD079E4CA1374BB702
A98: 노말밴드 ST 16mm (호표 44) | B98: 100 | D98: 5AEFD64C42C02C596620B2705485F6
A99: 내선전공 | C99: 2 | D99: 5AEFD64C42C02C596620B2705485F65A7506E70FB02750C970CD079E4CA1374BB702
A100: 노말밴드 ST 22mm (호표 45) | B100: 100 | D100: 5AEFD64C42C02C596620B270548A61
...

Sheet  공사설정 
A1: 이 Sheet는 수정하지 마십시요
A2: 공사구분 | B2: D | C2: 타이틀
A3: 확정내역 | B3: 원내역
A4: 자재단가적용 | B4: 5
A5: 경비단가적용 | B5: 5
A6: 품목코드형식 | B6: XXXX-XXXX-XXXXXXXXX
A7: 내역금액소수점처리 | B7: C | C7: 1
A8: 일위대가내역소수점처리 | B8: C | C8: 1
A9: 단가명 | B9: 농어촌공사 | C9: 거래가격 | D9: 유통물가 | E9: 물가자료 | F9: 조사가격 | G9: TTTTT
A10: 환율 | B10: 1095.1 | C10: 0 | D10: 0
A11: 시간당작업량 | B11: R | C11: 3
A12: 1회 사이클시간 | B12: R | C12: 3
A13: 시간당 작업사이클 | B13: R | C13: 2
A14: 일반변수 | B14: C | C14: 4
A15: 시간당 노임산출 계수 | B15: A | C15: 1/8*16/12*25/20 | D15: 1/8*16/12*25/20 | E15: 1/8*16/12*25/20 | F15: 1
A16: 재료비 할증 계수 | B16: 0 | C16: 0
A17: 노무비 할증 계수 | B17: 0 | C17: 0 | D17: 0 | E17: 0 | F17: 0 | G17: 0 | H17: 0 | I17: 0 | J17: 0 | K17: 0 | L17: 0 | M17: 0
A18: 경비 할증 계수 | B18: 0 | C18: 0
A19: 내역,일위대가 품명,규격,단위 따로적용
A20: 내역단가 소수점처리 | C20: 1
A21: 코드 | B21: 공종구분명 | C21: 원가비목코드
A22: 1 | B22: 작 업 부 산 물 | C22: A3
A23: 2 | B23: 운 반 비 | C23: C1
A24: 3 | B24: 관 급 자 재 비 | C24: DJ
A25: 4 | B25: 사 급 자 재 비 | C25: D3
A26: 5 | B26: 외 자 재
A27: 6 | B27: 한 전 납 입 금 | C27: DK
A28: 7 | B28: 통 신 납 입 금 | C28: DL
A29: 8 | B29: 기 술 지 도 비 | C29: DM
A30: 9 | B30: 주 요 자 재 | C30: DH
A43: 단가 순서 | B43: 1234

Sheet Sheet1
