Workbook
Name _1.구체: #REF!
Name _2.접속저판: #REF!
Name _3.기초: #REF!
Name _4.거푸집: #REF!
Name _5.거푸집: #REF!
Name _6.부직포: #REF!
Name _6.잡석채움: #REF!
Name _7.배수: #REF!
Name _8.스페이서: #REF!
Name _9.문양: #REF!
Name _A: #REF!
Name _fg34444: BlankMacro1
Name _HSH1: #REF!
Name _HSH2: #REF!
Name _NP1: #REF!
Name _NP2: #REF!
Name _NSH1: #REF!
Name _NSH2: #REF!
Name _PH1: #REF!
Name _PH2: #REF!
Name _PH3: #REF!
Name _RD1: #REF!
Name _RD2: #REF!
Name _RD3: #REF!
Name _RD4: [1]교각계산!#REF!
Name _RD5: [1]교각계산!#REF!
Name _RD6: [1]교각계산!#REF!
Name _rd7: [1]교각계산!#REF!
Name _RD8: [1]교각계산!#REF!
Name _RD9: [1]교각계산!#REF!
Name _rl1: [2]수로단위수량!#REF!
Name _RL2: #REF!
Name _RL3: #REF!
Name _RL4: [1]교각계산!#REF!
Name _RL5: [1]교각계산!#REF!
Name _RL6: [1]교각계산!#REF!
Name _RL7: [1]교각계산!#REF!
Name _rn1: [2]수로단위수량!#REF!
Name _SBB1: #REF!
Name _SBB2: #REF!
Name _SBB3: #REF!
Name _SBB4: #REF!
Name _SBB5: #REF!
Name _SHH1: #REF!
Name _SHH2: #REF!
Name _SHH3: #REF!
Name _XS1: [1]교각계산!$M$40
Name _XS2: #REF!
Name _XS3: [1]교각계산!#REF!
Name A: #REF!
Name a0: #REF!
Name AA: [4]계산중!$AQ$25:$AY$32
Name aaa: #REF!
Name aaaa: #REF!
Name aaaaaaaa: #REF!
Name aee: BlankMacro1
Name AF: [1]교각계산!#REF!
Name AFF: #REF!
Name AG: BlankMacro1
Name AN: #REF!

Sheet 표지
O1: =A6 -> 2018년 숲속의 전남 만들기 사업
A6: 2018년 숲속의 전남 만들기 사업
D8: [소안항일운동기념관 무궁화동산]
O16: =A19 -> 2018년
A19: 2018년
F25: 완도군
O26: =F25 -> 완도군

Sheet 원가계산서
B1: 원가계산서
B3: 비 목 | E3: 구분 | F3: 금 액 | G3: 요율 | H3: 산 출 근 거
C4: 재 | D4: 직 접 재 료 비 | E4: 1
C5: 료 | D5: 간 접 재 료 비 | E5: 2
C6: 비 | D6: 작업설.부산물등(△) | E6: 3
D7: 소 계 | E7: A | H7: (1 + 2 + 3 )
C8: 노 | D8: 직 접 노 무 비 | E8: 4
B9: 순 | C9: 무 | D9: 간 접 노 무 비 | E9: 5 | G9: 18.4% | H9: 4 × 0.184
C10: 비 | D10: 소 계 | E10: B | H10: ( 4 + 5 )
B11: 공 | D11: 산 출 경 비 | E11: 6
D12: 산 재 보 험 료 | E12: 7 | G12: 3.56% | H12: B × 0.0356
B13: 사 | D13: 고 용 보 험 료 | E13: 8 | G13: 1.01% | H13: B × 0.0101
C14: 경 | D14: 건 강 보 험 료 | E14: 9 | G14: 3.595% | H14: 4 × 0.03595
B15: 원 | D15: 연 금 보 험 료 | E15: 10 | G15: 4.75% | H15: 4 × 0.0475
D16: 노인장기요양 보 험 료 | E16: 11 | G16: 13.14% | H16: 9 × 0.1314
D17: 건설기계대여금지급보증서발급액 | E17: 12 | G17: 0.18% | H17: (A + 4 + 6) × 0.0018
D18: 산 업 안 전 보건관리비 | E18: 13 | G18: 2.07% | H18: (A + 4) × 0.0207 × 1.2
D19: 환 경 보 전 비 | E19: 14 | G19: 0.3% | H19: (A + 4 + 6) ×0.003
D20: 공 사 이 행 보증수수료 | E20: 15
C21: 비 | D21: 하도급대금지급보증수수료 | E21: 16 | G21: 0% | H21: (A + 4 + 6) ×0.0
D22: 석 면 분 담 금 | E22: 17 | G22: 0.006% | H22: B × 0.00006
D23: 임 금 채 권 부 담 금 | E23: 18 | G23: 0.09% | H23: B × 0.0009
D24: 기 타 경 비 | E24: 19 | G24: 4.9% | H24: (A + B) × 0.049
D25: 소 계 | E25: C | H25: (6:19)
D26: 순 공 사 원 가 | E26: D | H26: (A + B + C)
D27: 일 반 관 리 비 | E27: E | G27: 8% | H27: D × 0.08
D28: 이 윤 | E28: F | G28: 15% | H28: (B + C + E) ×0.15
D29: 총 원 가 | E29: G | H29: (D + E + F)
D30: 부 가 가 치 세 | E30: H | G30: 10% | H30: G × 0.1
D31: 도 급 액 | E31: I | H31: (G + H)
D32: 관 급 자 재 대 | E32: J | L32: 45023000 | M32: 242000
D33: 폐 기 물 처 리 비 | E33: K
D34: 총 공 사 비 | E34: L | H34: (I + J + K)
L52: 000

Sheet 내역서총괄표
B1: 내역서총괄표
B3: 공종 | C3: 품 명 | D3: 규 격 | E3: 수 량 | F3: 단위 | G3: 합 계 | H3: 노무비 | I3: 재료비 | J3: 경 비 | K3: 비 고
C4: 순 공 사 비
B5: 1. | C5: 데크1
B6: 1.1 | C6: 철거공사
B7: 1.2 | C7: 신설공사
B8: 2. | C8: 데크2
B9: 2.1 | C9: 철거공사
B10: 2.2 | C10: 신설공사
C11: 간접노무비 | E11: 18.4 | F11: %
C12: 산재보험료 | E12: 3.56 | F12: %
C13: 고용보험료 | E13: 1.01 | F13: %
C14: 건강보험료 | E14: 3.595 | F14: %
C15: 연금보험료 | E15: 4.75 | F15: %
C16: 노인장기요양보험료 | E16: 13.14 | F16: %
C17: 건설기계대여금지급보증서발급액 | E17: 0.18 | F17: %
C18: 산업안전보건관리비 | E18: 2.07 | F18: %
C19: 환경보전비 | E19: 0.3 | F19: %
C20: 하도급대금지급보증수수료 | F20: %
C21: 석면분담금 | E21: 0.006 | F21: %
C22: 임금채권부담금 | E22: 0.09 | F22: %
C23: 기타경비 | E23: 4.9 | F23: %
C24: 순공사원가
C25: 일반관리비 | E25: 8 | F25: %
C26: 이윤 | E26: 15 | F26: %
C27: 총원가
C28: 부가가치세 | E28: 10 | F28: %
C29: 도급액
C30: 총공사비

Sheet 내역서
B1: 내역서
B3: 공종 | C3: 품 명 | D3: 규 격 | E3: 수 량 | F3: 단위 | G3: 합 계 | I3: 노무비 | K3: 재료비 | M3: 경 비 | O3: 비 고
G4: 단 가 | H4: 금 액 | I4: 단 가 | J4: 금 액 | K4: 단 가 | L4: 금 액 | M4: 단 가 | N4: 금 액
C5: 순 공 사 비
B7: 1. | C7: 데크1
B8: 1.1 | C8: 철거공사
C9: 데크철거 | D9: 설치품의 50%적용, 장선보수포함 | E9: 188.92 | F9: ㎡
C10: 난간철거 | D10: 목재가공설치품의 10%적용 | E10: 23 | F10: 경간
C11: 폐기물운반비(상차포함) | D11: 30km이하,덤프15톤 | E11: 6.66 | F11: Ton
C12: 폐기물처리비 | D12: 건설폐재류 | E12: 6.66 | F12: Ton
B13: 1.2 | C13: 신설공사
C14: 목재데크 설치 | E14: 188.92 | F14: ㎡
C15: 재도장 시 바탕처리 | D15: 목재면 (B급) | E15: 29.93 | F15: ㎡
C16: 오일스테인칠 | D16: 목재면-2회칠 | E16: 29.93 | F16: ㎡
B18: 2. | C18: 데크2
B19: 2.1 | C19: 철거공사
C20: 데크철거 | D20: 설치품의 50%적용, 장선보수포함 | E20: 64.5 | F20: ㎡
C21: 난간철거 | D21: 목재가공설치품의 10%적용 | E21: 26 | F21: 경간
C22: 폐기물운반비(상차포함) | D22: 30km이하,덤프15톤 | E22: 2.5 | F22: Ton
C23: 폐기물처리비 | D23: 건설폐재류 | E23: 2.5 | F23: Ton
B24: 2.2 | C24: 신설공사
C25: 목재데크 설치 | E25: 64.5 | F25: ㎡
C26: 재도장 시 바탕처리 | D26: 철재면 (B급) | E26: 36 | F26: ㎡
C27: 조합페인트칠 | D27: 철재면2회 | E27: 36 | F27: ㎡
C28: 구조용각관(백관,아연도) | D28: 50*50*2.3t | E28: 13 | F28: M
B30: 6. | C30: 관급자재대
C31: 합성목재데크 | D31: 25*150 | E31: 278.76 | F31: ㎡
C32: 디자인형울타리 | D32: 합성목재,1500*1200 | E32: 49 | F32: 경간
C33: 조달수수료 | E33: 0.54 | F33: %

Sheet 예정공정표
A1: 예 정 공 정 표
A2: ="공 사 명 : "&#REF! -> #REF!
A3: 공 종 | B3: 보 할 | C3: 공 사 기 간 | I3: 비 고
C4: 15일 | D4: 30일 | E4: 45일 | F4: 60일 | G4: 75일 | H4: 90일
A5: 1. 설계서검토및 자재준비 | B5: 0.05 | C5: 0.05
A6: 완도호랑가시나무 해안경관숲 조성사업 | B6: 0.11752231 | C6: 0.014690288 | D6: 0.058761153 | E6: 0.044070865
A7: 3. 식재공사 | B7: 0.73507625 | D7: 0.024502542 | E7: 0.24502542 | F7: 0.24502542 | G7: 0.18376906 | H7: 0.036753813
A8: 4. 식재부대공사 | B8: 0 | D8: 0 | E8: 0 | F8: 0 | G8: 0 | H8: 0
A9: 4. 시설물및기타공사 | B9: 0.047401444 | E9: 0.0094802889 | F9: 0.015800481 | G9: 0.015800481 | H9: 0.0063201926
A10: 5. 뒷정리 | B10: 0.05 | H10: 0.05
A11: 계 | B11: =SUM($B$5:B10) -> 1 | C11: =SUM($C$5:C10) -> 0.064690288 | D11: =SUM($D$5:D10) -> 0.083263694 | E11: =SUM($E$5:E10) -> 0.29857657 | F11: =SUM($F$5:F10) -> 0.2608259 | G11: =SUM($G$5:G10) -> 0.19956954 | H11: =SUM($H$5:H10) -> 0.093074005
C12: =C11 -> 0.064690288 | D12: =C12+D11 -> 0.14795398 | E12: =D12+E11 -> 0.44653055 | F12: =E12+F11 -> 0.70735645 | G12: =F12+G11 -> 0.906926 | H12: =G12+H11 -> 1
A19: 2025년 07월
F25: 완도군

Sheet 건설기계 목록
A1: 건설기계목록표
A3: 공종 | B3: 규격 | C3: 수량 | D3: 단위 | E3: 합계 | F3: 재 료 비 | G3: 노 무 비 | H3: 경비 | I3: 비고
A4: =건설기계!A5 -> 취부기(녹생토) | B4: =건설기계!B5 -> [18.65kw] | C4: 1 | D4: 시간 | E4: =F4+G4+H4 -> 24973 | F4: =건설기계!H10 -> 0 | G4: =건설기계!J10 -> 0 | H4: =건설기계!L10 -> 24973 | I4: 기계 1호표
A5: =건설기계!A12 -> 건설용펌프(자흡식) | B5: =건설기계!B12 -> [50mm] | C5: 1 | D5: 시간 | E5: =F5+G5+H5 -> 54 | F5: =건설기계!H17 -> 0 | G5: =건설기계!J17 -> 0 | H5: =건설기계!L17 -> 54 | I5: 기계 2호표
A6: =건설기계!A19 -> 덤프트럭 | B6: =건설기계!B19 -> [4.5ton] | C6: 1 | D6: 시간 | E6: =F6+G6+H6 -> #REF! | F6: =건설기계!H24 -> #REF! | G6: =건설기계!J24 -> #REF! | H6: =건설기계!L24 -> 6499 | I6: 기계 3호표
A7: =건설기계!A33 -> 굴삭기(궤도) | B7: =건설기계!B33 -> [0.4㎥] | C7: 1 | D7: 시간 | E7: =F7+G7+H7 -> #REF! | F7: =건설기계!H38 -> #REF! | G7: =건설기계!J38 -> #REF! | H7: =건설기계!L38 -> 12453 | I7: 기계 2호표
A8: =건설기계!A40 -> 굴삭기(타이어) | B8: =건설기계!B40 -> [0.6㎥] | C8: 1 | D8: 시간 | E8: =F8+G8+H8 -> #REF! | F8: =건설기계!H45 -> #REF! | G8: =건설기계!J45 -> #REF! | H8: =건설기계!L45 -> 22085 | I8: 기계 3호표
A9: =건설기계!A47 -> 트럭탑재형크레인 | B9: =건설기계!B47 -> [15ton] | C9: 1 | D9: 시간 | E9: =F9+G9+H9 -> #REF! | F9: =건설기계!H52 -> #REF! | G9: =건설기계!J52 -> #REF! | H9: =건설기계!L52 -> 24804 | I9: 기계 4호표
A10: =건설기계!A54 -> 트럭탑재형크레인 | B10: =건설기계!B54 -> [5ton] | C10: 1 | D10: 시간 | E10: =F10+G10+H10 -> #REF! | F10: =건설기계!H59 -> #REF! | G10: =건설기계!J59 -> #REF! | H10: =건설기계!L59 -> 10362 | I10: 기계 5호표
A11: =건설기계!A61 -> 발전기 | B11: =건설기계!B61 -> [50kW] | C11: 1 | D11: 시간 | E11: =F11+G11+H11 -> #REF! | F11: =건설기계!H66 -> #REF! | G11: =건설기계!J66 -> #REF! | H11: =건설기계!L66 -> 3752 | I11: 기계 6호표
A12: 덤프트럭 | B12: =건설기계!B68 -> [15ton] | C12: 1 | D12: 시간 | E12: =F12+G12+H12 -> #REF! | F12: =건설기계!H73 -> #REF! | G12: =건설기계!J73 -> #REF! | H12: =건설기계!L73 -> 17283 | I12: 기계 7호표
A13: 플레이트 콤팩터 | B13: =건설기계!B75 -> [1.5ton] | C13: 1 | D13: 시간 | E13: =F13+G13+H13 -> #REF! | F13: =건설기계!H80 -> #REF! | G13: =건설기계!J80 -> #REF! | H13: =건설기계!L80 -> #REF! | I13: 기계 8호표
A14: 덤프트럭 | B14: =건설기계!B82 -> [2.5ton] | C14: 1 | D14: 시간 | E14: =F14+G14+H14 -> #REF! | F14: =건설기계!H87 -> #REF! | G14: =건설기계!J87 -> #REF! | H14: =건설기계!L87 -> 5567 | I14: 기계 9호표
A15: =건설기계!A89 -> 트레일러 | B15: =건설기계!B89 -> [20ton] | C15: 1 | D15: 시간 | E15: =F15+G15+H15 -> #REF! | F15: =건설기계!H94 -> #REF! | G15: =건설기계!J94 -> #REF! | H15: =건설기계!L94 -> #REF! | I15: 기계 10호표
E16: =F16+G16+H16 -> 0
E17: =F17+G17+H17 -> 0
E18: =F18+G18+H18 -> 0
E19: =F19+G19+H19 -> 0
E20: =F20+G20+H20 -> 0
E21: =F21+G21+H21 -> 0
E22: =F22+G22+H22 -> 0
E23: =F23+G23+H23 -> 0
E24: =F24+G24+H24 -> 0
E25: =F25+G25+H25 -> 0
E26: =F26+G26+H26 -> 0
E27: =F27+G27+H27 -> 0
... E36: =F36+G36+H36 -> 0

Sheet 건설기계
A1: 건설기계
A3: 공종 | B3: 규격 | C3: 수량 | D3: 단위 | E3: 합계 | G3: 재료비 | I3: 노무비 | K3: 경비 | M3: 비고
E4: 단가 | F4: 금액 | G4: 단가 | H4: 금액 | I4: 단가 | J4: 금액 | K4: 단가 | L4: 금액
A5: 취부기(녹생토) | B5: [18.65kw] | C5: 58240
A6: 주연료 | C6: 0 | D6: ℓ | E6: =G6+I6+K6 -> 0 | F6: =H6+J6+L6 -> 0 | H6: =ROUNDDOWN($C6*G6,0) -> 0 | J6: =ROUNDDOWN($C6*I6,0) -> 0 | L6: =ROUNDDOWN($C6*K6,0) -> 0
A7: 잡품 | B7: =C7 -> 0 | D7: % | E7: =G7+I7+K7 -> 0 | F7: =H7+J7+L7 -> 0 | G7: =H6 -> 0 | H7: =ROUNDDOWN($C7*G7/100,0) -> 0 | J7: =ROUNDDOWN($C7*I7/100,0) -> 0 | L7: =ROUNDDOWN($C7*K7/100,0) -> 0
D8: 인 | E8: =G8+I8+K8 -> 0 | F8: =H8+J8+L8 -> 0 | H8: =ROUNDDOWN($C8*G8,0) -> 0 | J8: =ROUNDDOWN($C8*I8,0) -> 0 | L8: =ROUNDDOWN($C8*K8,0) -> 0
A9: 기계손료 | B9: 4288 | C9: =B9/10000 -> 0.4288 | E9: =G9+I9+K9 -> 58240 | F9: =H9+J9+L9 -> 24973 | H9: =ROUNDDOWN($C9*G9,0) -> 0 | J9: =ROUNDDOWN($C9*I9,0) -> 0 | K9: =C5 -> 58240 | L9: =ROUNDDOWN($C9*K9,0) -> 24973
A10: 계 | F10: =H10+J10+L10 -> 24973 | H10: =SUM(H6:H9) -> 0 | J10: =SUM(J6:J9) -> 0 | L10: =SUM(L6:L9) -> 24973
A12: 건설용펌프(자흡식) | B12: [50mm] | C12: 202
A13: 주연료 | C13: 0 | D13: ℓ | E13: =G13+I13+K13 -> 0 | F13: =H13+J13+L13 -> 0 | H13: =ROUNDDOWN($C13*G13,0) -> 0 | J13: =ROUNDDOWN($C13*I13,0) -> 0 | L13: =ROUNDDOWN($C13*K13,0) -> 0
A14: 잡품 | B14: =C14 -> 0 | C14: 0 | D14: % | E14: =G14+I14+K14 -> 0 | F14: =H14+J14+L14 -> 0 | G14: =H13 -> 0 | H14: =ROUNDDOWN($C14*G14/100,0) -> 0 | J14: =ROUNDDOWN($C14*I14/100,0) -> 0 | L14: =ROUNDDOWN($C14*K14/100,0) -> 0
C15: 0 | D15: 인 | E15: =G15+I15+K15 -> 0 | F15: =H15+J15+L15 -> 0 | H15: =ROUNDDOWN($C15*G15,0) -> 0 | J15: =ROUNDDOWN($C15*I15,0) -> 0 | L15: =ROUNDDOWN($C15*K15,0) -> 0
A16: 기계손료 | B16: 2686 | C16: =B16/10000 -> 0.2686 | E16: =G16+I16+K16 -> 202 | F16: =H16+J16+L16 -> 54 | H16: =ROUNDDOWN($C16*G16,0) -> 0 | J16: =ROUNDDOWN($C16*I16,0) -> 0 | K16: =C12 -> 202 | L16: =ROUNDDOWN($C16*K16,0) -> 54
A17: 계 | F17: =H17+J17+L17 -> 54 | H17: =SUM(H13:H16) -> 0 | J17: =SUM(J13:J16) -> 0 | L17: =SUM(L13:L16) -> 54
A19: 덤프트럭 | B19: [4.5ton] | C19: 22406
A20: 주연료 | B20: 경유 | C20: 5 | D20: ℓ | E20: =G20+I20+K20 -> #REF! | F20: =H20+J20+L20 -> #REF! | G20: =#REF! -> #REF! | H20: =ROUNDDOWN($C20*G20,0) -> #REF! | J20: =ROUNDDOWN($C20*I20,0) -> 0 | L20: =ROUNDDOWN($C20*K20,0) -> 0
A21: 잡품 | B21: =C21 -> 38 | C21: 38 | D21: % | E21: =G21+I21+K21 -> #REF! | F21: =H21+J21+L21 -> #REF! | G21: =H20 -> #REF! | H21: =ROUNDDOWN($C21*G21/100,0) -> #REF! | J21: =ROUNDDOWN($C21*I21/100,0) -> 0 | L21: =ROUNDDOWN($C21*K21/100,0) -> 0
A22: =#REF! -> #REF! | C22: 1 | D22: 인 | E22: =G22+I22+K22 -> #REF! | F22: =H22+J22+L22 -> #REF! | H22: =ROUNDDOWN($C22*G22,0) -> 0 | I22: =#REF!/8*16/12*25/20 -> #REF! | J22: =ROUNDDOWN($C22*I22,0) -> #REF! | L22: =ROUNDDOWN($C22*K22,0) -> 0
A23: 기계손료 | B23: 2901 | C23: =B23/10000 -> 0.2901 | E23: =G23+I23+K23 -> 22406 | F23: =H23+J23+L23 -> 6499 | H23: =ROUNDDOWN($C23*G23,0) -> 0 | J23: =ROUNDDOWN($C23*I23,0) -> 0 | K23: =C19 -> 22406 | L23: =ROUNDDOWN($C23*K23,0) -> 6499
A24: 계 | F24: =H24+J24+L24 -> #REF! | H24: =SUM(H20:H23) -> #REF! | J24: =SUM(J20:J23) -> #REF! | L24: =SUM(L20:L23) -> 6499
A26: 굴삭기(궤도) | B26: [0.2㎥] | C26: 52000
A27: 주연료 | B27: 경유 | C27: 5 | D27: ℓ | E27: =G27+I27+K27 -> #REF! | F27: =H27+J27+L27 -> #REF! | G27: =#REF! -> #REF! | H27: =ROUNDDOWN($C27*G27,0) -> #REF! | J27: =ROUNDDOWN($C27*I27,0) -> 0 | L27: =ROUNDDOWN($C27*K27,0) -> 0
A28: 잡품 | B28: 주연료의 21% | C28: 21 | D28: % | E28: =G28+I28+K28 -> #REF! | F28: =H28+J28+L28 -> #REF! | G28: =H27 -> #REF! | H28: =ROUNDDOWN($C28*G28/100,0) -> #REF! | J28: =ROUNDDOWN($C28*I28/100,0) -> 0 | L28: =ROUNDDOWN($C28*K28/100,0) -> 0
A29: =#REF! -> #REF! | C29: 1 | D29: 인 | E29: =G29+I29+K29 -> #REF! | F29: =H29+J29+L29 -> #REF! | H29: =ROUNDDOWN($C29*G29,0) -> 0 | I29: =#REF!/8*16/12*25/20 -> #REF! | J29: =ROUNDDOWN($C29*I29,0) -> #REF! | L29: =ROUNDDOWN($C29*K29,0) -> 0
A30: 기계손료 | B30: 2038 | C30: =B30/10000 -> 0.2038 | E30: =G30+I30+K30 -> 52000 | F30: =H30+J30+L30 -> 10597 | H30: =ROUNDDOWN($C30*G30,0) -> 0 | J30: =ROUNDDOWN($C30*I30,0) -> 0 | K30: =C26 -> 52000 | L30: =ROUNDDOWN($C30*K30,0) -> 10597
A31: 계 | F31: =H31+J31+L31 -> #REF! | H31: =SUM(H27:H30) -> #REF! | J31: =SUM(J27:J30) -> #REF! | L31: =SUM(L27:L30) -> 10597
A33: 굴삭기(궤도) | B33: [0.4㎥] | C33: 61106
A34: 주연료 | B34: 경유 | C34: 9.9 | D34: ℓ | E34: =G34+I34+K34 -> #REF! | F34: =H34+J34+L34 -> #REF! | G34: =#REF! -> #REF! | H34: =ROUNDDOWN($C34*G34,0) -> #REF! | J34: =ROUNDDOWN($C34*I34,0) -> 0 | L34: =ROUNDDOWN($C34*K34,0) -> 0
A35: 잡품 | B35: 주연료의 22% | C35: 22 | D35: % | E35: =G35+I35+K35 -> #REF! | F35: =H35+J35+L35 -> #REF! | G35: =H34 -> #REF! | H35: =ROUNDDOWN($C35*G35/100,0) -> #REF! | J35: =ROUNDDOWN($C35*I35/100,0) -> 0 | L35: =ROUNDDOWN($C35*K35/100,0) -> 0
A36: =#REF! -> #REF! | C36: 1 | D36: 인 | E36: =G36+I36+K36 -> #REF! | F36: =H36+J36+L36 -> #REF! | H36: =ROUNDDOWN($C36*G36,0) -> 0 | I36: =#REF!/8*16/12*25/20 -> #REF! | J36: =ROUNDDOWN($C36*I36,0) -> #REF! | L36: =ROUNDDOWN($C36*K36,0) -> 0
A37: 기계손료 | B37: 2038 | C37: =B37/10000 -> 0.2038 | E37: =G37+I37+K37 -> 61106 | F37: =H37+J37+L37 -> 12453 | H37: =ROUNDDOWN($C37*G37,0) -> 0 | J37: =ROUNDDOWN($C37*I37,0) -> 0 | K37: =C33 -> 61106 | L37: =ROUNDDOWN($C37*K37,0) -> 12453
A38: 계 | F38: =H38+J38+L38 -> #REF! | H38: =SUM(H34:H37) -> #REF! | J38: =SUM(J34:J37) -> #REF! | L38: =SUM(L34:L37) -> 12453
A40: 굴삭기(타이어) | B40: [0.6㎥] | C40: 99800
A41: 주연료 | B41: 경유 | C41: 11.6 | D41: ℓ | E41: =G41+I41+K41 -> #REF! | F41: =H41+J41+L41 -> #REF! | G41: =#REF! -> #REF! | H41: =ROUNDDOWN($C41*G41,0) -> #REF! | J41: =ROUNDDOWN($C41*I41,0) -> 0 | L41: =ROUNDDOWN($C41*K41,0) -> 0
A42: 잡품 | B42: 주연료의 24% | C42: 24 | D42: % | E42: =G42+I42+K42 -> #REF! | F42: =H42+J42+L42 -> #REF! | G42: =H41 -> #REF! | H42: =ROUNDDOWN($C42*G42/100,0) -> #REF! | J42: =ROUNDDOWN($C42*I42/100,0) -> 0 | L42: =ROUNDDOWN($C42*K42/100,0) -> 0
A43: =#REF! -> #REF! | C43: 1 | D43: 인 | E43: =G43+I43+K43 -> #REF! | F43: =H43+J43+L43 -> #REF! | H43: =ROUNDDOWN($C43*G43,0) -> 0 | I43: =#REF!/8*16/12*25/20 -> #REF! | J43: =ROUNDDOWN($C43*I43,0) -> #REF! | L43: =ROUNDDOWN($C43*K43,0) -> 0
A44: 기계손료 | B44: 2213 | C44: =B44/10000 -> 0.2213 | E44: =G44+I44+K44 -> 99800 | F44: =H44+J44+L44 -> 22085 | H44: =ROUNDDOWN($C44*G44,0) -> 0 | J44: =ROUNDDOWN($C44*I44,0) -> 0 | K44: =C40 -> 99800 | L44: =ROUNDDOWN($C44*K44,0) -> 22085
A45: 계 | F45: =H45+J45+L45 -> #REF! | H45: =SUM(H41:H44) -> #REF! | J45: =SUM(J41:J44) -> #REF! | L45: =SUM(L41:L44) -> 22085
A47: 트럭탑재형크레인 | B47: [15ton] | C47: 99100
...

Sheet 토적계산
A1: 토공계산
A2: 구분 | B2: 측점 | C2: 거리 | D2: 잡석부설 | F2: 흙채움 | H2: 터파기 | J2: 뒷채움 | L2: 되메우기
D3: 단면적 | E3: 체적 | F3: 단면적 | G3: 체적 | H3: 단면적 | I3: 체적 | J3: 단면적 | K3: 체적 | L3: 단면적 | M3: 체적
A4: 수변데크 성 토 면 보 강 1 구간 | B4: NO. 0 | D4: 1.95 | F4: 0.03
B5: NO. 1 | C5: 20 | D5: 0.8 | E5: =ROUND((D4+D5)/2*$C5,2) -> 27.5 | F5: 0.05 | G5: =ROUND((F4+F5)/2*$C5,2) -> 0.8
A6: 수변데크 성 토 면 보 강 2 구간 | B6: NO. 0 | D6: 1.96 | F6: 0.02
B7: NO. 1 | C7: 20 | D7: 0.79 | E7: =ROUND((D6+D7)/2*$C7,2) -> 27.5 | F7: 0.03 | G7: =ROUND((F6+F7)/2*$C7,2) -> 0.5
B8: NO. 2 | C8: 20 | D8: 1.07 | E8: =ROUND((D7+D8)/2*$C8,2) -> 18.6 | F8: 0.03 | G8: =ROUND((F7+F8)/2*$C8,2) -> 0.6
B9: NO. 3 | C9: 20 | D9: 1.03 | E9: =ROUND((D8+D9)/2*$C9,2) -> 21 | F9: 0.02 | G9: =ROUND((F8+F9)/2*$C9,2) -> 0.5
A10: 옹벽 | C10: 18.2 | I10: =ROUND($C10*H10,2) -> 0 | M10: =ROUND($C10*L10,2) -> 0
C11: 12.2 | K11: =ROUND($C11*J11,2) -> 0
B12: 막구조기초 | C12: 6 | K12: =ROUND($C12*J12,2) -> 0
A13: 조경석 | C13: 8 | I13: =ROUND($C13*H13,2) -> 0
C14: 4 | I14: =ROUND($C14*H14,2) -> 0
A15: 무대 | C15: 0.3 | I15: =ROUND($C15*H15,2) -> 0 | M15: =ROUND($C15*L15,2) -> 0
A16: 화장실 | I16: =#REF! -> #REF! | M16: =#REF! -> #REF!
A26: 합계 | E26: =SUM(E4:E19) -> 94.6 | G26: =SUM(G4:G19) -> 2.4 | I26: =SUM(I4:I19) -> #REF! | K26: =SUM(K4:K19) -> 0 | M26: =SUM(M4:M19) -> #REF!
