Workbook
Name _: #N/A
Name __10: #REF!
Name __11: #REF!
Name __6: #REF!
Name __7: #REF!
Name __8: #REF!
Name __9: #REF!
Name __A1: [1]Sheet1!#REF!
Name __DemandLoad: TRUE
Name __각재: #REF!
Name __경유: #REF!
Name __경첩: #REF!
Name __구리스: #REF!
Name __모래: #REF!
Name __모빌유: #REF!
Name __박리제: #REF!
Name __벤토나이트: #REF!
Name __복사비a3: #REF!
Name __복사비A4: #REF!
Name __상하수도료: #REF!
Name __시멘트: #REF!
Name __시멘트포대: #REF!
Name __용지대a3: #REF!
Name __용지대A4: #REF!
Name __자갈: #REF!
Name __잠금고리: #REF!
Name __전기료: #REF!
Name __제본비a3: #REF!
Name __제본비A4: #REF!
Name __철못: #REF!
Name __철못1: #REF!
Name __철선: #REF!
Name __청사진: #REF!
Name __청사진제본비: #REF!
Name __축소비a3: #REF!
Name __판재: #REF!
Name __합판: #REF!
Name __합판1: #REF!
Name __화강암: #REF!
Name __휘발유: #REF!
Name _1: #REF!
Name _1: "★★"
Name _10: #N/A
Name _11: #N/A
Name _12: #N/A
Name _12_G_0Extract: #REF!
Name _13: #N/A
Name _14: #N/A
Name _15: #N/A
Name _15A: [2]금액내역서!$D$3:$D$10
Name _16: #N/A
Name _17: #N/A
Name _18: #N/A
Name _19: #N/A
Name _1공장: #REF!
Name _2: #REF!
Name _2: #N/A
Name _20: #N/A
Name _21: #N/A
Name _22: #N/A

Sheet 표지 (2)
B4: 운산리 취약지역생활여건개조사업 지역역량강화 용역 설 계 내 역 서
G16: 2026. 09.
H23: 한국농어촌공사 의성군위지사

Sheet 리더교육(1일 6시간)
B1: 리더교육(1일 6시간 기준, 주민30인)
B3: 구분 | C3: 항목 | D3: 규격 | F3: 금액 | G3: 산출내역
B4: 인건비 | D4: 소계 | F4: =SUM(F5:F8) -> 1668962 | G4: 2023년 학술연구용역인건비 기준단가 적용 | Z4: 인건비 총액=기준단가에 의한 금액+근로기준법에서 정한 합산금액
C5: 급여 | D5: 연구원 | F5: =ROUND(G5*I5*K5,0) -> 1072490 | G5: 2681226 | H5: × | I5: 0.4 | J5: × | K5: 1 | Z5: ①제수당: 계약목적 달성을 위해 불가피한 연장, 야간, 휴일근무에 대해서는 통상 임금의 50/100이상을 가산금으로 지급
D6: 연구보조원 | F6: =ROUND(G6*I6*K6,0) -> 179231 | G6: 1792309 | H6: × | I6: 0.1 | J6: × | K6: 1 | Z6: ②상여금: 연간 지급액이 기준단가 월급여액의 400%를 초과할 수 없음
C7: 제수당 | D7: 연구원 | F7: =ROUND(G7*I7/K7*M7*O7,0) -> 357497 | G7: =G5 -> 2681226 | H7: × | I7: 4 | J7: ÷ | K7: 12 | L7: × | M7: 0.4 | N7: × | O7: 1 | Z7: ③퇴직급여충당금: 근로년수가 1년 이상일 경우, 1년당 30일분 이상의 평균임금
D8: 연구보조원 | F8: =ROUND(G8*I8/K8*M8*O8,0) -> 59744 | G8: =G6 -> 1792309 | H8: × | I8: 4 | J8: ÷ | K8: 12 | L8: × | M8: 0.1 | N8: × | O8: 1 | Z8: ④교통비는 교통비 산출시트의 편도 114km 기준
B9: 경비 | D9: 소계 | F9: =SUM(F10:F13) -> 405000 | G9: 공무원여비규정 적용
C10: 여비 | D10: 연구원 | F10: =(25000*2)+(25000*2)+(50000*2) -> 200000 | G10: 일비(25,000원 × 2회)+식비(25,000원 × 2회)+교통비(50,000원 × 2회)
D11: 연구보조원 | F11: =(25000*2)+(25000*2)+(50000*2) -> 200000 | G11: 일비(25,000원 × 2회)+식비(25,000원 × 2회)+교통비(50,000원 × 2회)
C12: 통신비 | D12: 전화료 | F12: =ROUND(G12*I12,0) -> 3000 | G12: 30000 | H12: × | I12: 0.1
D13: 우편료 | F13: =ROUND(G13*I13,0) -> 2000 | G13: 20000 | H13: × | I13: 0.1
B14: 직접비 | D14: 소계 | F14: =SUM(F15:F21) -> 1870000
C15: 강사료 | D15: 강의비 | E15: C급 강사 | F15: =ROUND(G15*I15,0) -> 900000 | G15: 150000 | H15: × | I15: 6 | J15: ※B급 강사 적용 가능
D16: 강사여비 | E16: 편도120km, 왕복 기준 | F16: =ROUND(G16*I16,0) -> 150000 | G16: =교통비산출!K18 -> 50000 | H16: × | I16: 3 | J16: ※(강사당 2시간, 3인) 시간 및 인원조절 가능, 교통비산출 sheet 참조
C17: 숙식비 | D17: 식비 | E17: 중식(1회) : 1인당 1만원 | F17: =ROUND(G17*I17,0) -> 300000 | G17: 10000 | H17: × | I17: 30 | P17: 중식1회
D18: 간식비 | E18: 1인당 4천원 | F18: =ROUND(G18*I18,0) -> 120000 | G18: 4000 | H18: × | I18: 30
C19: 기타 | D19: 강의실사용료 | E19: 20~40인석 | F19: =ROUND(G19*I19,0) -> 200000 | G19: 200000 | H19: × | I19: 1
D20: 도서인쇄비 | E20: 복사 및 제본 | F20: =ROUND(G20*I20,0) -> 150000 | G20: 5000 | H20: × | I20: 30
D21: 현수막 제작 | E21: 길이 5.0m | F21: =ROUND(G21*I21,0) -> 50000 | G21: 50000 | H21: × | I21: 1
B22: 소계 | F22: =SUM(F4,F9,F14) -> 3943962
B23: 일반관리비 | F23: =TRUNC(F22*0.06,0) -> 236637 | G23: (인건비+경비+직접비)X6%범위내
B24: 이윤 | C24: 이윤 | F24: =TRUNC((F22+F23)*0.1,0) -> 418059 | G24: (인건비+경비+직접비+일반관리비)X10%범위내
B25: 합계 | F25: =TRUNC(SUM(F22:F24),-4) -> 4590000
B26: 부가세 | F26: =F25*0.1 -> 459000
B27: 총합계 | F27: =F25+F26 -> 5049000
V28: =8.5/22 -> 0.38636364 | X28: =2/22 -> 0.090909091

Sheet 리더교육(1박2일)
B1: 리더교육(1박2일 기준, 주민20인)
B3: 구분 | C3: 항목 | D3: 규격 | F3: 금액 | G3: 산출내역
B4: 인건비 | D4: 소계 | F4: =SUM(F5:F8) -> 2743383 | G4: ='리더교육(1일 6시간)'!G4:O4 -> 2023년 학술연구용역인건비 기준단가 적용
C5: 급여 | D5: 연구원 | F5: =ROUND(G5*I5*K5,0) -> 1340613 | G5: 2681226 | H5: × | I5: 0.5 | J5: × | K5: 1
D6: 연구보조원 | F6: =ROUND(G6*I6*K6,0) -> 716924 | G6: 1792309 | H6: × | I6: 0.4 | J6: × | K6: 1
C7: 제수당 | D7: 연구원 | F7: =ROUND(G7*I7/K7*M7*O7,0) -> 446871 | G7: =G5 -> 2681226 | H7: × | I7: 4 | J7: ÷ | K7: 12 | L7: × | M7: 0.5 | N7: × | O7: 1
D8: 연구보조원 | F8: =ROUND(G8*I8/K8*M8*O8,0) -> 238975 | G8: =G6 -> 1792309 | H8: × | I8: 4 | J8: ÷ | K8: 12 | L8: × | M8: 0.4 | N8: × | O8: 1
B9: 경비 | C9: 소계 | D9: 소계 | F9: =SUM(F10:F13) -> 615000 | G9: 공무원여비규정 적용
C10: 여비 | D10: 연구원 | F10: =(25000*3)+(25000*3)+(50000*3) -> 300000 | G10: 일비(25,000원 × 3회)+식비(25,000원 × 3회)+교통비(50,000원 × 3회)
D11: 연구보조원 | F11: =(25000*3)+(25000*3)+(50000*3) -> 300000 | G11: 일비(25,000원 × 3회)+식비(25,000원 × 3회)+교통비(50,000원 × 3회)
C12: 통신비 | D12: 전화료 | F12: =ROUND(G12*I12,0) -> 9000 | G12: 30000 | H12: × | I12: 0.3
D13: 우편료 | F13: =ROUND(G13*I13,0) -> 6000 | G13: 20000 | H13: × | I13: 0.3
B14: 직접비 | D14: 소계 | F14: =SUM(F15:F22) -> 4750000
C15: 강사료 | D15: 강의비 | E15: C급 강사 | F15: =ROUND(G15*I15,0) -> 1800000 | G15: ='리더교육(1일 6시간)'!G15 -> 150000 | H15: × | I15: 12 | J15: ='리더교육(1일 6시간)'!J15:O15 -> ※B급 강사 적용 가능
D16: 강사여비 | E16: ='리더교육(1일 6시간)'!E16 -> 편도120km, 왕복 기준 | F16: =ROUND(G16*I16,0) -> 300000 | G16: ='리더교육(1일 6시간)'!G16 -> 50000 | H16: × | I16: 6 | J16: ※(강사당 2시간, 6인) 시간 및 인원조절 가능, 교통비산출 sheet 참조
C17: 숙식비 | D17: 숙박비 | E17: 1인당 7만원 | F17: =ROUND(G17*I17,0) -> 1400000 | G17: 70000 | H17: × | I17: 20
D18: 식비 | E18: 중식(1회) : 1인당 1만원 석식(1회) : 1인당 1만5천원 | F18: =ROUND(G18*I18+K18*M18,0)*O18 -> 700000 | G18: ='리더교육(2일 10시간)'!G17 -> 10000 | H18: × | I18: 2 | J18: + | K18: ='리더교육(2일 10시간)'!K17 -> 15000 | L18: × | M18: 1 | N18: × | O18: 20 | P18: 중식2회, 석식1회
D19: 간식비 | E19: 1인당 4천원 | F19: =ROUND(G19*I19*K19,0) -> 160000 | G19: ='리더교육(1일 6시간)'!G18 -> 4000 | H19: × | I19: 2 | J19: × | K19: 20
C20: 기타 | D20: 강의실사용료 | E20: 20~40인석 | F20: =ROUND(G20*I20,0) -> 200000 | G20: ='리더교육(1일 6시간)'!G19 -> 200000 | H20: × | I20: 1
D21: 도서인쇄비 | E21: 복사 및 제본 | F21: =ROUND(G21*I21,0) -> 140000 | G21: 7000 | H21: × | I21: 20
D22: 현수막 제작 | E22: 길이 5.0m | F22: =ROUND(G22*I22,0) -> 50000 | G22: ='리더교육(1일 6시간)'!G21 -> 50000 | H22: × | I22: 1
B23: 소계 | F23: =SUM(F4,F9,F14) -> 8108383
B24: 일반관리비 | F24: =TRUNC(F23*0.06,0) -> 486502 | G24: (인건비+경비+직접비)X6%범위내
B25: 이윤 | C25: 이윤 | F25: =TRUNC((F23+F24)*0.1,0) -> 859488 | G25: (인건비+경비+직접비+일반관리비)X10%범위내
B26: 합계 | F26: =TRUNC(SUM(F23:F25),-4) -> 9450000
B27: 부가세 | F27: =F26*0.1 -> 945000
B28: 총합계 | F28: =F26+F27 -> 10395000
T30: =10.5/22 -> 0.47727273 | V30: =9/22 -> 0.40909091
T31: =ROUND(T30,1) -> 0.5 | V31: =ROUND(V30,1) -> 0.4

Sheet 리더교육(2일 10시간)
B1: 리더교육(2일 10시간 기준, 주민20인)
B3: 구분 | C3: 항목 | D3: 규격 | F3: 금액 | G3: 산출내역
B4: 인건비 | D4: 소계 | F4: =SUM(F5:F8) -> 4054848 | G4: ='리더교육(1일 6시간)'!G4:O4 -> 2023년 학술연구용역인건비 기준단가 적용
C5: 급여 | D5: 연구원 | F5: =ROUND(G5*I5*K5,0) -> 2144981 | G5: 2681226 | H5: × | I5: 0.8 | J5: × | K5: 1
D6: 연구보조원 | F6: =ROUND(G6*I6*K6,0) -> 896155 | G6: 1792309 | H6: × | I6: 0.5 | J6: × | K6: 1
C7: 제수당 | D7: 연구원 | F7: =ROUND(G7*I7/K7*M7*O7,0) -> 714994 | G7: =G5 -> 2681226 | H7: × | I7: 4 | J7: ÷ | K7: 12 | L7: × | M7: 0.8 | N7: × | O7: 1
D8: 연구보조원 | F8: =ROUND(G8*I8/K8*M8*O8,0) -> 298718 | G8: =G6 -> 1792309 | H8: × | I8: 4 | J8: ÷ | K8: 12 | L8: × | M8: 0.5 | N8: × | O8: 1
B9: 경비 | D9: 소계 | F9: =SUM(F10:F13) -> 620000 | G9: 공무원여비규정 적용
C10: 여비 | D10: 연구원 | F10: =(25000*3)+(25000*3)+(50000*3) -> 300000 | G10: 일비(25,000원 × 3회)+식비(25,000원 × 3회)+교통비(50,000원 × 3회)
D11: 연구보조원 | F11: =(25000*3)+(25000*3)+(50000*3) -> 300000 | G11: 일비(25,000원 × 3회)+식비(25,000원 × 3회)+교통비(50,000원 × 3회)
C12: 통신비 | D12: 전화료 | F12: =ROUND(G12*I12,0) -> 12000 | G12: 30000 | H12: × | I12: 0.4
D13: 우편료 | F13: =ROUND(G13*I13,0) -> 8000 | G13: 20000 | H13: × | I13: 0.4
B14: 직접비 | D14: 소계 | F14: =SUM(F15:F21) -> 3000000
C15: 강사료 | D15: 강의비 | E15: C급 강사 | F15: =ROUND(G15*I15,0) -> 1500000 | G15: ='리더교육(1일 6시간)'!G15 -> 150000 | H15: × | I15: 10 | J15: ='리더교육(1일 6시간)'!J15:O15 -> ※B급 강사 적용 가능
D16: 강사여비 | E16: ='리더교육(1일 6시간)'!E16 -> 편도120km, 왕복 기준 | F16: =ROUND(G16*I16,0) -> 250000 | G16: ='리더교육(1일 6시간)'!G16 -> 50000 | H16: × | I16: 5 | J16: ※(강사당 2시간, 5인) 시간 및 인원조절 가능, 교통비산출 sheet 참조
C17: 숙식비 | D17: 식비 | E17: 중식(1회) : 1인당 1만원 석식(1회) : 1인당 1만5천원 | F17: =ROUND(G17*I17+K17*M17,0) -> 500000 | G17: 10000 | H17: × | I17: 20 | J17: + | K17: 15000 | L17: × | M17: 20 | P17: 중식1회, 석식1회
D18: 간식비 | E18: 1인당 4천원 | F18: =ROUND(G18*I18*K18,0) -> 160000 | G18: ='리더교육(1일 6시간)'!G18 -> 4000 | H18: × | I18: 2 | J18: × | K18: 20
C19: 기타 | D19: 강의실사용료 | E19: 20~40인석 | F19: =ROUND(G19*I19,0) -> 400000 | G19: ='리더교육(1일 6시간)'!G19 -> 200000 | H19: × | I19: 2
D20: 도서인쇄비 | E20: 복사 및 제본 | F20: =ROUND(G20*I20,0) -> 140000 | G20: 7000 | H20: × | I20: 20
D21: 현수막 제작 | E21: 길이 5.0m | F21: =ROUND(G21*I21,0) -> 50000 | G21: ='리더교육(1일 6시간)'!G21 -> 50000 | H21: × | I21: 1
B22: 소계 | F22: =SUM(F4,F9,F14) -> 7674848
B23: 일반관리비 | F23: =TRUNC(F22*0.06,0) -> 460490 | G23: (인건비+경비+직접비)X6%범위내
B24: 이윤 | C24: 이윤 | F24: =TRUNC((F22+F23)*0.1,0) -> 813533 | G24: (인건비+경비+직접비+일반관리비)X10%범위내
B25: 합계 | F25: =TRUNC(SUM(F22:F24),-4) -> 8940000
B26: 부가세 | F26: =F25*0.1 -> 894000
B27: 총합계 | F27: =F25+F26 -> 9834000
U29: =17/22 -> 0.77272727 | W29: =10.5/22 -> 0.47727273
U30: =ROUND(U29,1) -> 0.8 | W30: =ROUND(W29,1) -> 0.5

Sheet 리더교육(2박3일)
B1: 리더교육(2박3일 기준, 주민20인)
B3: 구분 | C3: 항목 | D3: 규격 | E3: 규격 | F3: 금액 | G3: 산출내역
B4: 인건비 | D4: 소계 | F4: =SUM(F5:F8) -> 2982357 | G4: ='리더교육(1일 6시간)'!G4:O4 -> 2023년 학술연구용역인건비 기준단가 적용
C5: 급여 | D5: 연구원 | F5: =ROUND(G5*I5*K5,0) -> 1340613 | G5: 2681226 | H5: × | I5: 0.5 | J5: × | K5: 1
D6: 연구보조원 | F6: =ROUND(G6*I6*K6,0) -> 896155 | G6: 1792309 | H6: × | I6: 0.5 | J6: × | K6: 1
C7: 제수당 | D7: 연구원 | F7: =ROUND(G7*I7/K7*M7*O7,0) -> 446871 | G7: =G5 -> 2681226 | H7: × | I7: 4 | J7: ÷ | K7: 12 | L7: × | M7: 0.5 | N7: × | O7: 1
D8: 연구보조원 | F8: =ROUND(G8*I8/K8*M8*O8,0) -> 298718 | G8: =G6 -> 1792309 | H8: × | I8: 4 | J8: ÷ | K8: 12 | L8: × | M8: 0.5 | N8: × | O8: 1
B9: 경비 | D9: 소계 | F9: =SUM(F10:F13) -> 900000 | G9: 공무원여비규정 적용
C10: 여비 | D10: 연구원 | F10: =(25000*4)+(25000*4)+(50000*2)+(70000*2) -> 440000 | G10: 일비(25,000원×4회)+식비(25,000원×4회)+교통비(50,000원×2회)+숙박비(70,000원×2회) | W10: ='리더교육(1일 6시간)'!G5 -> 2681226
D11: 연구보조원 | F11: =(25000*4)+(25000*4)+(50000*2)+(70000*2) -> 440000 | G11: 일비(25,000원×4회)+식비(25,000원×4회)+교통비(50,000원×2회)+숙박비(70,000원×2회)
C12: 통신비 | D12: 전화료 | F12: =ROUND(G12*I12,0) -> 12000 | G12: 30000 | H12: × | I12: 0.4
D13: 우편료 | F13: =ROUND(G13*I13,0) -> 8000 | G13: 20000 | H13: × | I13: 0.4
B14: 직접비 | D14: 소계 | F14: =SUM(F15:F24) -> 10040000
C15: 강사료 | D15: 강의비 | E15: C급 강사 | F15: =ROUND(G15*I15,0) -> 2700000 | G15: ='리더교육(1일 6시간)'!G15 -> 150000 | H15: × | I15: 18 | J15: ='리더교육(1일 6시간)'!J15:O15 -> ※B급 강사 적용 가능
D16: 강사여비 | E16: ='리더교육(1일 6시간)'!E16 -> 편도120km, 왕복 기준 | F16: =ROUND(G16*I16,0) -> 450000 | G16: ='리더교육(1일 6시간)'!G16 -> 50000 | H16: × | I16: 9 | J16: ※(강사당 2시간, 9인) 시간 및 인원조절 가능, 교통비산출 sheet 참조
C17: 숙식비 | D17: 숙박비 | E17: 1인당 7만원 | F17: =ROUND(G17*I17*K17,0) -> 2800000 | G17: 70000 | H17: × | I17: 20 | J17: × | K17: 2
D18: 식비 | E18: 중식(1회) : 1인당 1만원 석식(1회) : 1인당 1만5천원 | F18: =ROUND(G18*I18+K18*M18,0)*O18 -> 1600000 | G18: ='리더교육(2일 10시간)'!G17 -> 10000 | H18: × | I18: 5 | J18: + | K18: ='리더교육(2일 10시간)'!K17 -> 15000 | L18: × | M18: 2 | N18: × | O18: 20 | P18: 조식2회, 중식3회, 석식2회
D19: 간식비 | E19: 1인당 4천원 | F19: =ROUND(G19*I19*K19,0) -> 240000 | G19: ='리더교육(1일 6시간)'!G18 -> 4000 | H19: × | I19: 3 | J19: × | K19: 20
C20: 기타 | D20: 강의실사용료 | E20: 20~40인석 | F20: =ROUND(G20*I20,0) -> 400000 | G20: ='리더교육(1일 6시간)'!G19 -> 200000 | H20: × | I20: 2
D21: 버스임차료 | E21: 20인승 이상 | F21: =ROUND(G21*I21,0) -> 1520000 | G21: 760000 | H21: × | I21: 2 | K21: ※버스임차료 여건에 따라 조정 시행
D22: 보험료 | E22: 1인 3일 기준 | F22: =ROUND(G22*I22,0) -> 140000 | G22: 7000 | H22: × | I22: 20
D23: 도서인쇄비 | E23: 복사 및 제본 | F23: =ROUND(G23*I23,0) -> 140000 | G23: 7000 | H23: × | I23: 20
D24: 현수막 제작 | E24: 길이 5.0m | F24: =ROUND(G24*I24,0) -> 50000 | G24: ='리더교육(1일 6시간)'!G21 -> 50000 | H24: × | I24: 1
B25: 소계 | F25: =SUM(F4,F9,F14) -> 13922357
B26: 일반관리비 | F26: =TRUNC(F25*0.06,0) -> 835341 | G26: (인건비+경비+직접비)X6%범위내
B27: 이윤 | C27: 이윤 | F27: =TRUNC((F25+F26)*0.1,0) -> 1475769 | G27: (인건비+경비+직접비+일반관리비)X10%범위내
B28: 합계 | F28: =TRUNC(SUM(F25:F27),-4) -> 16230000
B29: 부가세 | F29: =F28*0.1 -> 1623000
B30: 총합계 | F30: =F28+F29 -> 17853000 | S30: =11.5/22 -> 0.52272727
S31: =ROUND(S30,1) -> 0.5

Sheet 위탁교육(인건비 외부위탁비 별도)
B1: 위탁교육-준비, 시행 성과관리(인건비 외부위탁비 별도)
B3: 구분 | C3: 항목 | D3: 규격 | F3: 금액 | G3: 산출내역
B4: 인건비 | D4: 소계 | F4: =SUM(F5:F6) -> 1072491 | G4: ='리더교육(1일 6시간)'!G4:O4 -> 2023년 학술연구용역인건비 기준단가 적용
C5: 급여 | D5: 연구원 | F5: =ROUND(G5*I5*K5,0) -> 804368 | G5: 2681226 | H5: × | I5: 0.3 | J5: × | K5: 1
C6: 제수당 | D6: 연구원 | F6: =ROUND(G6*I6/K6*M6*O6,0) -> 268123 | G6: =G5 -> 2681226 | H6: × | I6: 4 | J6: ÷ | K6: 12 | L6: × | M6: 0.3 | N6: × | O6: 1
B7: 경비 | D7: 소계 | F7: =SUM(F8:F9) -> 5000
C8: 통신비 | D8: 전화료 | F8: =ROUND(G8*I8,0) -> 3000 | G8: 30000 | H8: × | I8: 0.1
D9: 우편료 | F9: =ROUND(G9*I9,0) -> 2000 | G9: 20000 | H9: × | I9: 0.1
B10: 소계 | F10: =SUM(F4,F7) -> 1077491
B11: 일반관리비 | F11: =TRUNC(F10*0.06,0) -> 64649 | G11: (인건비+경비+직접비)X6%범위내
B12: 이윤 | C12: 이윤 | F12: =TRUNC((F10+F11)*0.1,0) -> 114214 | G12: (인건비+경비+직접비+일반관리비)X10%범위내
B13: 합계 | F13: =TRUNC(SUM(F10:F12),-4) -> 1250000
B14: 부가세 | F14: =F13*0.1 -> 125000
B15: 총합계 | F15: =F13+F14 -> 1375000
Q26: =6.5/22 -> 0.29545455
Q27: =ROUND(Q26,1) -> 0.3

Sheet 주민교육(당일 2시간, 일회성)
B1: 주민교육(당일 2시간, 일회성_주민40인)
B3: 구분 | C3: 항목 | D3: 규격 | E3: 규격 | F3: 금액 | G3: 산출내역
B4: 인건비 | D4: 소계 | F4: =SUM(F5:F6) -> 1429987 | G4: ='리더교육(1일 6시간)'!G4:O4 -> 2023년 학술연구용역인건비 기준단가 적용
C5: 급여 | D5: 연구원 | F5: =ROUND(G5*I5*K5,0) -> 1072490 | G5: 2681226 | H5: × | I5: 0.4 | J5: × | K5: 1
C6: 제수당 | D6: 연구원 | F6: =ROUND(G6*I6/K6*M6*O6,0) -> 357497 | G6: =G5 -> 2681226 | H6: × | I6: 4 | J6: ÷ | K6: 12 | L6: × | M6: 0.4 | N6: × | O6: 1
B7: 경비 | D7: 소계 | F7: =SUM(F8:F10) -> 205000 | G7: 공무원여비규정 적용
C8: 여비 | D8: 연구원 | F8: =(25000*2)+(25000*2)+(50000*2) -> 200000 | G8: 일비(25,000원 × 2회)+식비(25,000원 × 2회)+교통비(50,000원 × 2회)
C9: 통신비 | D9: 전화료 | F9: =ROUND(G9*I9,0) -> 3000 | G9: 30000 | H9: × | I9: 0.1
D10: 우편료 | F10: =ROUND(G10*I10,0) -> 2000 | G10: 20000 | H10: × | I10: 0.1
B11: 직접비 | D11: 소계 | F11: =SUM(F12:F15) -> 560000
C12: 강사료 | D12: 강의비 | E12: C급 강사 | F12: =ROUND(G12*I12,0) -> 300000 | G12: ='리더교육(1일 6시간)'!G15 -> 150000 | H12: × | I12: 2 | J12: ='리더교육(1일 6시간)'!J15:O15 -> ※B급 강사 적용 가능
D13: 강사여비 | E13: ='리더교육(1일 6시간)'!E16 -> 편도120km, 왕복 기준 | F13: =ROUND(G13*I13,0) -> 50000 | G13: ='리더교육(1일 6시간)'!G16 -> 50000 | H13: × | I13: 1 | J13: ※교통비산출 sheet 참조
C14: 숙식비 | D14: 간식비 | E14: 1인당 4천원 | F14: =ROUND(G14*I14,0) -> 160000 | G14: ='리더교육(1일 6시간)'!G18 -> 4000 | H14: × | I14: 40
C15: 기타 | D15: 현수막 제작 | E15: 길이 5.0m | F15: =ROUND(G15*I15,0) -> 50000 | G15: ='리더교육(1일 6시간)'!G21 -> 50000 | H15: × | I15: 1
B16: 소계 | F16: =SUM(F4,F7,F11) -> 2194987
B17: 일반관리비 | F17: =TRUNC(F16*0.06,0) -> 131699 | G17: (인건비+경비+직접비)X6%범위내
B18: 이윤 | C18: 이윤 | F18: =TRUNC((F16+F17)*0.1,0) -> 232668 | G18: (인건비+경비+직접비+일반관리비)X10%범위내
B19: 합계 | F19: =TRUNC(SUM(F16:F18),-4) -> 2550000
B20: 부가세 | F20: =F19*0.1 -> 255000
B21: 총합계 | F21: =F19+F20 -> 2805000
Q24: 8.5 | R24: =Q24/Q25 -> 0.38636364
Q25: 22 | R25: =ROUND(R24,1) -> 0.4

Sheet 휴먼케어(장춘드론기능인양성-11인기준)
B1: 휴먼케어(장춘드론기능인양성 - 위탁교육 11인 기준)
B3: 구분 | C3: 항목 | D3: 규격 | E3: 규격 | F3: 금액 | G3: 산출내역
B4: 인건비 | D4: 소계 | F4: =SUM(F5:F6) -> 370367 | G4: 2024년 학술연구용역인건비 기준단가 적용
C5: 급여 | D5: 연구원 | F5: =ROUND(G5*I5*K5,0) -> 277775 | G5: 2777750 | H5: × | I5: 0.1 | J5: × | K5: 1
C6: 제수당 | D6: 연구원 | F6: =ROUND(G6*I6/K6*M6*O6,0) -> 92592 | G6: =G5 -> 2777750 | H6: × | I6: 4 | J6: ÷ | K6: 12 | L6: × | M6: 0.1 | N6: × | O6: 1
B7: 경비 | D7: 소계 | F7: =SUM(F8:F8) -> 12100000 | G7: 공무원여비규정 적용
C8: 경비 | D8: 위탁교육비 | F8: =G8*I8 -> 12100000 | G8: 1100000 | H8: × | I8: 11 | J8: (교육이수비용 실비)
D9: 소계 | F9: =F4+F7 -> 12470367
B10: 일반관리비 | F10: =(F9)*0.05 -> 623518.35 | G10: (인건비+경비)X6%범위내
B11: 이윤 | F11: =(F9+F10)*0.09 -> 1178449.7 | G11: (인건비+경비+직접비+일반관리비)X10%범위내
B12: 합계 | F12: =TRUNC(SUM(F9,F10:F11),-4) -> 14270000
B13: 부가세 | F13: =F12*0.1 -> 1427000
B14: 총합계 | F14: =F12+F13 -> 15697000
Q34: =7/22 -> 0.31818182 | R34: =11/22 -> 0.5
Q35: =ROUND(Q34,1) -> 0.3 | R35: =ROUND(R34,1) -> 0.5

Sheet 휴먼케어(사업성과물 동영상제작)
B1: 휴먼케어(사업성과물동영상제작- 1회)
B3: 구분 | C3: 항목 | D3: 규격 | E3: 규격 | F3: 금액 | G3: 산출내역
B4: 인건비 | D4: 소계 | F4: =SUM(F5:F8) -> 1853833 | G4: 2024년 학술연구용역인건비 기준단가 적용
C5: 급여 | D5: 연구원 | F5: =ROUND(G5*I5*K5,0) -> 833325 | G5: 2777750 | H5: × | I5: 0.3 | J5: × | K5: 1
D6: 연구보조원 | F6: =ROUND(G6*I6*K6,0) -> 557050 | G6: 1856832 | H6: × | I6: 0.3 | J6: × | K6: 1
C7: 제수당 | D7: 연구원 | F7: =ROUND(G7*I7/K7*M7*O7,0) -> 277775 | G7: =G5 -> 2777750 | H7: × | I7: 4 | J7: ÷ | K7: 12 | L7: × | M7: 0.3 | N7: × | O7: 1
D8: 연구보조원 | F8: =ROUND(G8*I8/K8*M8*O8,0) -> 185683 | G8: 1856832 | H8: × | I8: 4 | J8: ÷ | K8: 12 | L8: × | M8: 0.3 | N8: × | O8: 1
B9: 경비 | D9: 소계 | F9: =SUM(F10:F10) -> 450000 | G9: 공무원여비규정 적용
C10: 여비 | D10: 연구원 | F10: =(25000*5)+(25000*5)+(40000*5) -> 450000 | G10: 일비(25,000원 × 5회)+식비(25,000원 × 5회)+교통비(40,000원 × 5회)
B11: 직접비 | D11: 소계 | F11: =SUM(F12:F16) -> 1460000
C12: 영상 편집 | D12: 영상 편집 | E12: 시장가 적용 | F12: =G12 -> 1300000 | G12: 1300000 | H12: × | I12: 1식 | W12: 1.5
C13: 기획보고회 | D13: 기획보고회 | F13: =1500*10 -> 15000 | G13: 1,500원 * 10부
C14: 제작보고회 | D14: 제작보고회 | F14: =1500*10 -> 15000 | G14: 1,500원 * 10부
A15: ㅐ | C15: 현수막 | D15: 현수막 | F15: =G15 -> 50000 | G15: 50000 | H15: × | I15: 1
C16: 다과비 | D16: 기획,제작보고회 | E16: 1인당 4천원 | F16: =ROUND(G16*I16*K16,0) -> 80000 | G16: 4000 | H16: × | I16: 10 | J16: × | K16: 2 | W16: 1
B17: 소계 | F17: =SUM(F4,F9,F11) -> 3763833
B18: 일반관리비 | F18: =TRUNC(F17*0.05,0) -> 188191 | G18: (인건비+경비+직접비)X6%범위내
B19: 이윤 | C19: 이윤 | F19: =TRUNC((F17+F18)*0.09,0) -> 355682 | G19: (인건비+경비+직접비+일반관리비)X10%범위내
B20: 합계 | F20: =TRUNC(SUM(F17:F19),-4) -> 4300000
B21: 부가세 | F21: =F20*0.1 -> 430000
B22: 총합계 | F22: =F20+F21 -> 4730000
R26: =7.5/22 -> 0.34090909 | T26: =10/22 -> 0.45454545
R27: =ROUND(R26,1) -> 0.3 | T27: =ROUND(T26,1) -> 0.5

Sheet 휴먼케어(장춘 화합의날)
B1: 휴먼케어(장춘화합의 날)
B3: 구분 | C3: 항목 | D3: 규격 | E3: 규격 | F3: 금액 | G3: 산출내역
B4: 인건비 | D4: 소계 | F4: =SUM(F5:F8) -> 1112100 | G4: 2024년 학술연구용역인건비 기준단가 적용
C5: 급여 | D5: 연구원 | F5: =ROUND(G5*I5*K5,0) -> 555550 | G5: 2777750 | H5: × | I5: 0.2 | J5: × | K5: 1
D6: 연구보조원 | F6: =ROUND(G6*I6*K6,0) -> 278525 | G6: 1856832 | H6: × | I6: 0.15 | J6: × | K6: 1
C7: 제수당 | D7: 연구원 | F7: =ROUND(G7*I7/K7*M7*O7,0) -> 185183 | G7: =G5 -> 2777750 | H7: × | I7: 4 | J7: ÷ | K7: 12 | L7: × | M7: 0.2 | N7: × | O7: 1
D8: 연구보조원 | F8: =ROUND(G8*I8/K8*M8*O8,0) -> 92842 | G8: =G6 -> 1856832 | H8: × | I8: 4 | J8: ÷ | K8: 12 | L8: × | M8: 0.15 | N8: × | O8: 1
B9: 경비 | D9: 소계 | F9: =SUM(F10:F10) -> 180000 | G9: 공무원여비규정 적용
C10: 여비 | D10: 연구원 | F10: =(25000*2)+(25000*2)+(40000*2) -> 180000 | G10: 일비(25,000원 × 2회)+식비(25,000원 × 2회)+교통비(40,000원 × 2회)
B11: 직접비 | D11: 소계 | F11: =SUM(F12:F18) -> 4950000
C12: 행사지원 | D12: 무대장치 | E12: 음향시설, 간이의자 및 깔개, 조명시설, 노트북, 음악파일 등 | F12: =ROUND(G12*I12,0) -> 1000000 | G12: 1000000 | H12: × | I12: 1 | K12: ※행사규모에 따라 조정 시행
D13: 음향기기 | F13: =G13 -> 1500000 | G13: 1500000 | H13: × | I13: 1식
D14: 천막외 | F14: =G14 -> 800000 | G14: 800000 | H14: × | I14: 1식
D15: 커팅식 | F15: =ROUND(G15*I15,0) -> 500000 | G15: 500000 | H15: × | I15: 1
D16: 인건비 | F16: =G16 -> 800000 | G16: 800000 | H16: × | I16: 1 | K16: 사회자 1인
D17: 사무용품 | F17: =G17 -> 150000 | G17: 150000 | H17: × | I17: 1 | K17: 만국기, 방명록
D18: 현수막 | F18: =ROUND(G18*I18,-3) -> 200000 | G18: 200000 | H18: × | I18: 1
B19: 소계 | F19: =SUM(F4,F9,F11) -> 6242100
B20: 일반관리비 | F20: =TRUNC(F19*0.05,0) -> 312105 | G20: (인건비+경비+직접비)X6%범위내
B21: 이윤 | C21: 이윤 | F21: =TRUNC((F19+F20)*0.09,0) -> 589878 | G21: (인건비+경비+직접비+일반관리비)X10%범위내
B22: 합계 | F22: =TRUNC(SUM(F19:F21),-4) -> 7140000
B23: 부가세 | F23: =F22*0.1 -> 714000
B24: 총합계 | F24: =F22+F23 -> 7854000
G28: 449644
G29: 1350000
G30: 1934984
G31: 1800000
Q44: =13/22 -> 0.59090909 | R44: =15.5/22 -> 0.70454545
Q45: =ROUND(Q44,1) -> 0.6 | R45: =ROUND(R44,1) -> 0.7

Sheet 주민교육(1일 4시간, 일회성)
B1: 주민교육(권역맞춤형, 1일 4시간, 일회성_주민40인)
B3: 구분 | C3: 항목 | D3: 규격 | F3: 금액 | G3: 산출내역
B4: 인건비 | D4: 소계 | F4: =SUM(F5:F6) -> 1429987 | G4: ='리더교육(1일 6시간)'!G4:O4 -> 2023년 학술연구용역인건비 기준단가 적용
C5: 급여 | D5: 연구원 | F5: =ROUND(G5*I5*K5,0) -> 1072490 | G5: 2681226 | H5: × | I5: 0.4 | J5: × | K5: 1
C6: 제수당 | D6: 연구원 | F6: =ROUND(G6*I6/K6*M6*O6,0) -> 357497 | G6: =G5 -> 2681226 | H6: × | I6: 4 | J6: ÷ | K6: 12 | L6: × | M6: 0.4 | N6: × | O6: 1
B7: 경비 | D7: 소계 | F7: =SUM(F8:F10) -> 205000 | G7: 공무원여비규정 적용
C8: 여비 | D8: 연구원 | F8: =(25000*2)+(25000*2)+(50000*2) -> 200000 | G8: 일비(25,000원 × 2회)+식비(25,000원 × 2회)+교통비(50,000원 × 2회)
C9: 통신비 | D9: 전화료 | F9: =ROUND(G9*I9,0) -> 3000 | G9: 30000 | H9: × | I9: 0.1
D10: 우편료 | F10: =ROUND(G10*I10,0) -> 2000 | G10: 20000 | H10: × | I10: 0.1
B11: 직접비 | D11: 소계 | F11: =SUM(F12:F16) -> 1310000
C12: 강사료 | D12: 강의비 | E12: C급 강사 | F12: =ROUND(G12*I12,0) -> 600000 | G12: ='리더교육(1일 6시간)'!G15 -> 150000 | H12: × | I12: 4 | J12: ='리더교육(1일 6시간)'!J15:O15 -> ※B급 강사 적용 가능
D13: 강사여비 | E13: ='리더교육(1일 6시간)'!E16 -> 편도120km, 왕복 기준 | F13: =ROUND(G13*I13,0) -> 100000 | G13: ='리더교육(1일 6시간)'!G16 -> 50000 | H13: × | I13: 2 | J13: ※(강사당 2시간, 2인) 시간 및 인원조절 가능, 교통비산출 sheet 참조
C14: 숙식비 | D14: 식비 | E14: 중식(1회) : 1인당 1만원 | F14: =ROUND(G14*I14,0) -> 400000 | G14: ='리더교육(2일 10시간)'!G17 -> 10000 | H14: × | I14: 40 | P14: 중식1
D15: 간식비 | E15: 1인당 4천원 | F15: =ROUND(G15*I15,0) -> 160000 | G15: ='리더교육(1일 6시간)'!G18 -> 4000 | H15: × | I15: 40
C16: 기타 | D16: 현수막 제작 | E16: 길이 5.0m | F16: =ROUND(G16*I16,0) -> 50000 | G16: ='리더교육(1일 6시간)'!G21 -> 50000 | H16: × | I16: 1
B17: 소계 | F17: =SUM(F4,F7,F11) -> 2944987
B18: 일반관리비 | F18: =TRUNC(F17*0.06,0) -> 176699 | G18: (인건비+경비+직접비)X6%범위내
B19: 이윤 | C19: 이윤 | F19: =(F17+F18)*0.1 -> 312168.6 | G19: (인건비+경비+직접비+일반관리비)X10%범위내
B20: 합계 | F20: =TRUNC(SUM(F17:F19),-4) -> 3430000
B21: 부가세 | F21: =F20*0.1 -> 343000
B22: 총합계 | F22: =F20+F21 -> 3773000
Q26: =8.5/22 -> 0.38636364
Q27: =ROUND(Q26,1) -> 0.4

Sheet 주민워크습(주민50인)
B1: 주민워크숍(주민 50인)
B3: 구분 | C3: 항목 | D3: 규격 | E3: 규격 | F3: 금액 | G3: 산출내역
B4: 인건비 | D4: 소계 | F4: =SUM(F5:F8) -> 1668962 | G4: ='리더교육(1일 6시간)'!G4:O4 -> 2023년 학술연구용역인건비 기준단가 적용
C5: 급여 | D5: 연구원 | F5: =ROUND(G5*I5*K5,0) -> 1072490 | G5: 2681226 | H5: × | I5: 0.4 | J5: × | K5: 1
D6: 연구보조원 | F6: =ROUND(G6*I6*K6,0) -> 179231 | G6: 1792309 | H6: × | I6: 0.1 | J6: × | K6: 1
C7: 제수당 | D7: 연구원 | F7: =ROUND(G7*I7/K7*M7*O7,0) -> 357497 | G7: =G5 -> 2681226 | H7: × | I7: 4 | J7: ÷ | K7: 12 | L7: × | M7: 0.4 | N7: × | O7: 1
D8: 연구보조원 | F8: =ROUND(G8*I8/K8*M8*O8,0) -> 59744 | G8: =G6 -> 1792309 | H8: × | I8: 4 | J8: ÷ | K8: 12 | L8: × | M8: 0.1 | N8: × | O8: 1
B9: 경비 | D9: 소계 | F9: =SUM(F10:F13) -> 405000 | G9: 공무원여비규정 적용
C10: 여비 | D10: 연구원 | F10: =(25000*2)+(25000*2)+(50000*2) -> 200000 | G10: 일비(25,000원 × 2회)+식비(25,000원 × 2회)+교통비(50,000원 × 2회)
D11: 연구보조원 | F11: =(25000*2)+(25000*2)+(50000*2) -> 200000 | G11: 일비(25,000원 × 2회)+식비(25,000원 × 2회)+교통비(50,000원 × 2회)
C12: 통신비 | D12: 전화료 | F12: =ROUND(G12*I12,0) -> 3000 | G12: 30000 | H12: × | I12: 0.1
D13: 우편료 | F13: =ROUND(G13*I13,0) -> 2000 | G13: 20000 | H13: × | I13: 0.1
B14: 직접비 | D14: 소계 | F14: =SUM(F15:F20) -> 2500000
C15: 강사료 | D15: 강의비 | E15: C급 강사 | F15: =ROUND(G15*I15,0) -> 1200000 | G15: ='리더교육(1일 6시간)'!G15 -> 150000 | H15: × | I15: 8 | J15: ='리더교육(1일 6시간)'!J15:O15&", 퍼실리테이터 적용 가능" -> ※B급 강사 적용 가능, 퍼실리테이터 적용 가능
D16: 강사여비 | E16: ='리더교육(1일 6시간)'!E16 -> 편도120km, 왕복 기준 | F16: =ROUND(G16*I16,0) -> 200000 | G16: ='리더교육(1일 6시간)'!G16 -> 50000 | H16: × | I16: 4 | J16: ※(강사당 2시간, 4인) 시간 및 인원조절 가능, 교통비산출 sheet 참조
C17: 숙박비 | D17: 식비 | E17: 중식(1회) : 1인당 1만원 | F17: =ROUND(G17*I17,0) -> 500000 | G17: ='리더교육(2일 10시간)'!G17 -> 10000 | H17: × | I17: 50 | P17: 중식1
D18: 간식비 | E18: 1인당 4천원 | F18: =ROUND(G18*I18,0) -> 200000 | G18: ='리더교육(1일 6시간)'!G18 -> 4000 | H18: × | I18: 50
C19: 기타 | D19: 도서인쇄비 | E19: 복사 및 제본 | F19: =ROUND(G19*I19,0) -> 350000 | G19: 7000 | H19: × | I19: 50
D20: 현수막 제작 | E20: 길이 5.0m | F20: =ROUND(G20*I20,0) -> 50000 | G20: ='리더교육(1일 6시간)'!G21 -> 50000 | H20: × | I20: 1
B21: 소계 | F21: =SUM(F4,F9,F14) -> 4573962
B22: 일반관리비 | F22: =TRUNC(F21*0.06,0) -> 274437 | G22: (인건비+경비+직접비)X6%범위내
B23: 이윤 | C23: 이윤 | F23: =(F21+F22)*0.1 -> 484839.9 | G23: (인건비+경비+직접비+일반관리비)X10%범위내
B24: 합계 | F24: =TRUNC(SUM(F21:F23),-4) -> 5330000
B25: 부가세 | F25: =F24*0.1 -> 533000
B26: 총합계 | F26: =F24+F25 -> 5863000
Q27: =8.5/22 -> 0.38636364 | S27: =2/22 -> 0.090909091
Q28: =ROUND(Q27,1) -> 0.4 | S28: =ROUND(S27,1) -> 0.1

Sheet 선진지견학(국내 1박2일)
B1: 선진지견학 (국내 1박2일_주민35인)
B3: 구분 | C3: 항목 | D3: 규격 | E3: 규격 | F3: 금액 | G3: 산출내역
B4: 인건비 | D4: 소계 | F4: =SUM(F5:F8) -> 2146911 | G4: ='리더교육(1일 6시간)'!G4:O4 -> 2023년 학술연구용역인건비 기준단가 적용
C5: 급여 | D5: 연구원 | F5: =ROUND(G5*I5*K5,0) -> 1072490 | G5: 2681226 | H5: × | I5: 0.4 | J5: × | K5: 1
D6: 연구보조원 | F6: =ROUND(G6*I6*K6,0) -> 537693 | G6: 1792309 | H6: × | I6: 0.3 | J6: × | K6: 1
C7: 제수당 | D7: 연구원 | F7: =ROUND(G7*I7/K7*M7*O7,0) -> 357497 | G7: =G5 -> 2681226 | H7: × | I7: 4 | J7: ÷ | K7: 12 | L7: × | M7: 0.4 | N7: × | O7: 1
D8: 연구보조원 | F8: =ROUND(G8*I8/K8*M8*O8,0) -> 179231 | G8: =G6 -> 1792309 | H8: × | I8: 4 | J8: ÷ | K8: 12 | L8: × | M8: 0.3 | N8: × | O8: 1
B9: 경비 | D9: 소계 | F9: =SUM(F10:F13) -> 660000 | G9: 공무원여비규정 적용
C10: 여비 | D10: 연구원 | F10: =(25000*3)+(25000*3)+(50000*2)+(70000*1) -> 320000 | G10: 일비(25,000원×3회)+식비(25,000원×3회)+교통비(50,000원×2회)+숙박비(70,000원×1회)
D11: 연구보조원 | F11: =(25000*3)+(25000*3)+(50000*2)+(70000*1) -> 320000 | G11: 일비(25,000원×3회)+식비(25,000원×3회)+교통비(50,000원×2회)+숙박비(70,000원×1회)
C12: 통신비 | D12: 전화료 | F12: =ROUND(G12*I12,0) -> 12000 | G12: 30000 | H12: × | I12: 0.4
D13: 우편료 | F13: =ROUND(G13*I13,0) -> 8000 | G13: 20000 | H13: × | I13: 0.4
B14: 직접비 | D14: 소계 | F14: =SUM(F15:F25) -> #REF!
C15: 강사료 | D15: 강의비 | E15: C급 강사(마을위원장, 사무장) | F15: =ROUND(G15*I15*K15,0) -> 300000 | G15: ='리더교육(1일 6시간)'!G15 -> 150000 | H15: × | I15: 1 | J15: × | K15: 2
C16: 숙식비 | D16: 숙박비 | E16: 1인당 7만원 | F16: =ROUND(G16*I16,0) -> 2450000 | G16: 70000 | H16: × | I16: 35
D17: 식비 | E17: 조식(1회), 중식(2회) : 1인당 1만원 석식(2회) : 1인당 1만5천원 | F17: =ROUND(G17*I17+K17*M17,0)*O17 -> 2100000 | G17: ='리더교육(2일 10시간)'!G17 -> 10000 | H17: × | I17: 3 | J17: + | K17: ='리더교육(2일 10시간)'!K17 -> 15000 | L17: × | M17: 2 | N17: × | O17: 35 | P17: 조식1, 중식2, 석식2
D18: 간식비 | E18: 1인당 5천원 | F18: =ROUND(G18*I18*K18,0) -> #REF! | G18: =#REF! -> #REF! | H18: × | I18: 2 | J18: × | K18: 35
C19: 기타 | D19: 강의실사용료 | E19: 20~40인석 | F19: =ROUND(G19*I19,0) -> 400000 | G19: ='리더교육(1일 6시간)'!G19 -> 200000 | H19: × | I19: 2
D20: 사무용품비 | E20: 1인당 4천원 | F20: =ROUND(G20*I20,0) -> 140000 | G20: 4000 | H20: × | I20: 35
D21: 체험비 | E21: 1인당 1.5만원 | F21: =ROUND(G21*I21,0) -> #REF! | G21: =#REF! -> #REF! | H21: × | I21: 35
D22: 버스임차료 | E22: 40인승 이상 | F22: =ROUND(G22*I22,0) -> 1800000 | G22: 900000 | H22: × | I22: 2 | K22: ※버스임차료 여건에 따라 조정 시행
D23: 보험료 | E23: 1인 2일 기준 | F23: =ROUND(G23*I23,0) -> 210000 | G23: 6000 | H23: × | I23: 35 | K23: =#REF! -> #REF!
D24: 도서인쇄비 | E24: 복사 | F24: =ROUND(G24*I24,0) -> 70000 | G24: 2000 | H24: × | I24: 35
D25: 현수막 제작 | E25: 길이 5.0m | F25: =ROUND(G25*I25,0) -> 50000 | G25: ='리더교육(1일 6시간)'!G21 -> 50000 | H25: × | I25: 1
B26: 소계 | F26: =SUM(F4,F9,F14) -> #REF!
B27: 일반관리비 | F27: =TRUNC(F26*0.06,0) -> #REF! | G27: (인건비+경비+직접비)X6%범위내 | R27: =8.5/22 -> 0.38636364 | T27: =6/22 -> 0.27272727
B28: 이윤 | C28: 이윤 | F28: =TRUNC((F26+F27)*0.1,0) -> #REF! | G28: (인건비+경비+직접비+일반관리비)X10%범위내 | R28: =ROUND(R27,1) -> 0.4 | T28: =ROUND(T27,1) -> 0.3
B29: 합계 | F29: =TRUNC(SUM(F26:F28),-4) -> #REF!
B30: 부가세 | F30: =F29*0.1 -> #REF!
B31: 총합계 | F31: =F29+F30 -> #REF!

Sheet 선진지견학(국내 2박3일)
B1: 선진지견학 (국내 2박3일_주민20인)
B3: 구분 | C3: 항목 | D3: 규격 | E3: 규격 | F3: 금액 | G3: 산출내역
B4: 인건비 | D4: 소계 | F4: =SUM(F5:F8) -> 2146911 | G4: ='리더교육(1일 6시간)'!G4:O4 -> 2023년 학술연구용역인건비 기준단가 적용
C5: 급여 | D5: 연구원 | F5: =ROUND(G5*I5*K5,0) -> 1072490 | G5: 2681226 | H5: × | I5: 0.4 | J5: × | K5: 1
D6: 연구보조원 | F6: =ROUND(G6*I6*K6,0) -> 537693 | G6: 1792309 | H6: × | I6: 0.3 | J6: × | K6: 1
C7: 제수당 | D7: 연구원 | F7: =ROUND(G7*I7/K7*M7*O7,0) -> 357497 | G7: =G5 -> 2681226 | H7: × | I7: 4 | J7: ÷ | K7: 12 | L7: × | M7: 0.4 | N7: × | O7: 1
D8: 연구보조원 | F8: =ROUND(G8*I8/K8*M8*O8,0) -> 179231 | G8: =G6 -> 1792309 | H8: × | I8: 4 | J8: ÷ | K8: 12 | L8: × | M8: 0.3 | N8: × | O8: 1
B9: 경비 | D9: 소계 | F9: =SUM(F10:F13) -> 815000 | G9: 공무원여비규정 적용
C10: 여비 | D10: 연구원 | F10: =(25000*4)+(25000*4)+(50000*2)+(70000*2)+(250000*1) -> 690000 | G10: 일비(25,000원×4회)+식비(25,000원×4회)+교통비(50,000원×2회)+숙박비(70,000원×2회)+항공료(250,000원×1회)
D11: 연구보조원 | F11: =(25000*1)+(25000*1)+(50000*1) -> 100000 | G11: 일비(25,000원 × 1회)+식비(25,000원 × 1회)+교통비(50,000원 × 1회)
C12: 통신비 | D12: 전화료 | F12: =ROUND(G12*I12,0) -> 15000 | G12: 30000 | H12: × | I12: 0.5
D13: 우편료 | F13: =ROUND(G13*I13,0) -> 10000 | G13: 20000 | H13: × | I13: 0.5
B14: 직접비 | D14: 소계 | F14: =SUM(F15:F26) -> #REF!
C15: 강사료 | D15: 강의비 | E15: C급 강사(마을위원장, 사무장) | F15: =ROUND(G15*I15*K15,0) -> 450000 | G15: ='리더교육(1일 6시간)'!G15 -> 150000 | H15: × | I15: 1 | J15: × | K15: 3
C16: 항공료 | D16: 항공료 | E16: 1인당 25만원 | F16: =ROUND(G16*I16,0) -> 5000000 | G16: 250000 | H16: × | I16: 20
C17: 숙식비 | D17: 숙박비 | E17: 1인당 7만원 | F17: =ROUND(G17*I17*K17,0) -> 2800000 | G17: 70000 | H17: × | I17: 20 | J17: × | K17: 2
D18: 식비 | E18: 조식(2회), 중식(3회) : 1인당 1만원 석식(3회) : 1인당 1만5천원 | F18: =ROUND(G18*I18+K18*M18,0)*O18 -> 1900000 | G18: ='리더교육(2일 10시간)'!G17 -> 10000 | H18: × | I18: 5 | J18: + | K18: ='리더교육(2일 10시간)'!K17 -> 15000 | L18: × | M18: 3 | N18: × | O18: 20 | P18: 조식2, 중식3, 석식3
D19: 간식비 | E19: 1인당 5천원 | F19: =ROUND(G19*I19*K19,0) -> #REF! | G19: =#REF! -> #REF! | H19: × | I19: 2 | J19: × | K19: 20
C20: 기타 | D20: 강의실사용료 | E20: 20~40인석 | F20: =ROUND(G20*I20,0) -> 600000 | G20: ='리더교육(1일 6시간)'!G19 -> 200000 | H20: × | I20: 3
D21: 사무용품비 | E21: 1인당 4천원 | F21: =ROUND(G21*I21,0) -> 80000 | G21: 4000 | H21: × | I21: 20
D22: 체험비 | E22: 1인당 1.5만원 | F22: =ROUND(G22*I22*K22,0) -> #REF! | G22: =#REF! -> #REF! | H22: × | I22: 20 | J22: × | K22: 2
D23: 버스임차료 | E23: 20인승 이상(도내 이동) | F23: =ROUND(G23*I23,0) -> 3040000 | G23: 760000 | H23: × | I23: 4 | K23: ※버스임차료 여건에 따라 조정 시행 | P23: 권역↔인근공항, 제주공항↔견학 권역
D24: 보험료 | E24: 1인 3일 기준 | F24: =ROUND(G24*I24,0) -> 140000 | G24: 7000 | H24: × | I24: 20 | K24: =#REF! -> #REF!
D25: 도서인쇄비 | E25: 복사 | F25: =ROUND(G25*I25,0) -> 40000 | G25: 2000 | H25: × | I25: 20 | P25: 복사
D26: 현수막 제작 | E26: 길이 5.0m | F26: =ROUND(G26*I26,0) -> 50000 | G26: ='리더교육(1일 6시간)'!G21 -> 50000 | H26: × | I26: 1
B27: 소계 | F27: =SUM(F4,F9,F14) -> #REF!
B28: 일반관리비 | F28: =TRUNC(F27*0.06,0) -> #REF! | G28: (인건비+경비+직접비)X6%범위내 | R28: =9/22 -> 0.40909091 | T28: =5.5/22 -> 0.25
B29: 이윤 | C29: 이윤 | F29: =TRUNC((F27+F28)*0.1,0) -> #REF! | G29: (인건비+경비+직접비+일반관리비)X10%범위내 | R29: 0.2적용 | T29: 0.1 적용
B30: 합계 | F30: =TRUNC(SUM(F27:F29),-4) -> #REF! | R30: =ROUND(R28,1) -> 0.4 | T30: =ROUND(T28,1) -> 0.3
B31: 부가세 | F31: =F30*0.1 -> #REF!
B32: 총합계 | F32: =F30+F31 -> #REF!
B34: ※ 버스임차료 산정 근거
B35: 1. 제주도 견학 시 버스임차료 산정기준 : 권역 ↔ 인근공항(2회), 제주공항 ↔ 견학권역(2회)
B36: 2. 제주도 외 견학 시 계획에 따른 임차료 별도 산정
B38: ※ 항공료는 제주도 견학 시 반영

Sheet 선진지견학(국외 4박5일)
B1: 선진지견학 (국외 4박5일)
B3: 구분 | C3: 항목 | D3: 규격 | E3: 규격 | F3: 금액 | G3: 산출내역
B4: 인건비 | D4: 소계 | F4: =SUM(F5:F8) -> 3219401 | G4: ='리더교육(1일 6시간)'!G4:O4 -> 2023년 학술연구용역인건비 기준단가 적용
C5: 급여 | D5: 연구원 | F5: =ROUND(G5*I5*K5,0) -> 1876858 | G5: 2681226 | H5: × | I5: 0.7 | J5: × | K5: 1
D6: 연구보조원 | F6: =ROUND(G6*I6*K6,0) -> 537693 | G6: 1792309 | H6: × | I6: 0.3 | J6: × | K6: 1
C7: 제수당 | D7: 연구원 | F7: =ROUND(G7*I7/K7*M7*O7,0) -> 625619 | G7: =G5 -> 2681226 | H7: × | I7: 4 | J7: ÷ | K7: 12 | L7: × | M7: 0.7 | N7: × | O7: 1
D8: 연구보조원 | F8: =ROUND(G8*I8/K8*M8*O8,0) -> 179231 | G8: =G6 -> 1792309 | H8: × | I8: 4 | J8: ÷ | K8: 12 | L8: × | M8: 0.3 | N8: × | O8: 1
B9: 경비 | D9: 소계 | F9: =SUM(F10:F13) -> 1470000 | G9: 공무원여비규정 적용
C10: 여비 | D10: 연구원 | F10: =(25000*6)+(25000*6)+(50000*2)+(100000*4)+(540000*1) -> 1340000 | G10: 일비(25,000원×6회)+식비(25,000원×6회)+교통비(50,000원×2회)+숙박비(100,000원×4회)+항공료(540,000원×1회)
D11: 연구보조원 | F11: =(25000*1)+(25000*1)+(50000*1) -> 100000 | G11: 일비(25,000원 × 1회)+식비(25,000원 × 1회)+교통비(50,000원 × 1회)
C12: 통신비 | D12: 전화료 | F12: =ROUND(G12*I12,0) -> 18000 | G12: 30000 | H12: × | I12: 0.6
D13: 우편료 | F13: =ROUND(G13*I13,0) -> 12000 | G13: 20000 | H13: × | I13: 0.6
B14: 직접비 | D14: 소계 | F14: =SUM(F15:F26) -> 21255000
C15: 교통비 | D15: 버스임차료 | E15: 20인승 이상(도내 이동) | F15: =ROUND(G15*I15,0) -> 1520000 | G15: 760000 | H15: × | I15: 2 | K15: ※버스임차료 여건에 따라 조정 시행 | AA15: =67/3 -> 22.333333
D16: 항공료 | E16: 1인당 54만원 | F16: =ROUND(G16*I16,0) -> 5400000 | G16: 540000 | H16: × | I16: 10 | K16: ※항공료 및 숙박비 실비 정산
C17: 숙식비 | D17: 숙박비 | E17: 1인당 10만원 | F17: =ROUND(G17*I17*K17,0) -> 4000000 | G17: 100000 | H17: × | I17: 10 | J17: × | K17: 4 | P17: * 공무원여비규정 식비/일 67$ → 한끼 67$/3=22.3$≒25,000원
D18: 식비 | E18: 조식(4회), 중식(5회), 석식(4회) : 1인당 2만5천원 | F18: =ROUND(G18*I18,0)*K18 -> 3250000 | G18: 25000 | H18: × | I18: 13 | J18: × | K18: 10 | P18: 조식4, 중식5, 석식4
D19: 간식비 | E19: 1인당 7천원 | F19: =ROUND(G19*I19*K19,0) -> 350000 | G19: 7000 | H19: × | I19: 5 | J19: × | K19: 10
C20: 기타 | D20: 기관방문비 | E20: 1개소당 25만원 | F20: =ROUND(G20*I20,0) -> 1000000 | G20: 250000 | H20: × | I20: 4
D21: 현지교통비 | E21: 60만원/일 | F21: =ROUND(G21*I21,0) -> 3000000 | G21: 600000 | H21: × | I21: 5
D22: 현지안내비 | E22: 20.5만원/일 | F22: =ROUND(G22*I22,0) -> 1025000 | G22: 205000 | H22: × | I22: 5
D23: 문화체험비 | E23: 1인당 13만원 | F23: =ROUND(G23*I23,0) -> 1300000 | G23: 130000 | H23: × | I23: 10 | P23: 권역↔인근공항, 제주공항↔견학 권역
D24: 보험료 | E24: 3만원/일 | F24: =ROUND(G24*I24,0) -> 300000 | G24: 30000 | H24: × | I24: 10
D25: 도서인쇄비 | E25: 복사(30장) | F25: =ROUND(G25*I25,0) -> 60000 | G25: 6000 | H25: × | I25: 10 | P25: 복사
D26: 현수막 제작 | E26: 길이 5.0m | F26: =ROUND(G26*I26,0) -> 50000 | G26: ='리더교육(1일 6시간)'!G21 -> 50000 | H26: × | I26: 1
D27: 사무용품비 | E27: 1인당 4천원 | F27: =ROUND(G27*I27,0) -> 40000 | G27: 4000 | H27: × | I27: 10
B28: 소계 | F28: =SUM(F4,F9,F14) -> 25944401
B29: 일반관리비 | F29: =TRUNC(F28*0.06,0) -> 1556664 | G29: (인건비+경비+직접비)X6%범위내
B30: 이윤 | C30: 이윤 | F30: =TRUNC((F28+F29)*0.1,0) -> 2750106 | G30: (인건비+경비+직접비+일반관리비)X10%범위내 | U30: =15/22 -> 0.68181818 | W30: =7/22 -> 0.31818182
B31: 합계 | F31: =TRUNC(SUM(F28:F30),-4) -> 30250000
B32: 부가세 | F32: =F31*0.1 -> 3025000 | U32: =ROUND(U30,1) -> 0.7 | W32: =ROUND(W30,1) -> 0.3
B33: 총합계 | F33: =F31+F32 -> 33275000
B35: ※ 버스임차료 산정 근거
B36: 1. 제주도 견학 시 버스임차료 산정기준 : 권역 ↔ 인근공항(2회), 제주공항 ↔ 견학권역(2회)
B37: 2. 제주도 외 견학 시 계획에 따른 임차료 별도 산정
B39: ※ 항공료는 제주도 견학 시 반영

Sheet 선진지견학(국외 6박8일)
B1: 선진지견학 (국외 6박8일)
B3: 구분 | C3: 항목 | D3: 규격 | E3: 규격 | F3: 금액 | G3: 산출내역
B4: 인건비 | D4: 소계 | F4: =SUM(F5:F8) -> 4054848 | G4: ='리더교육(1일 6시간)'!G4:O4 -> 2023년 학술연구용역인건비 기준단가 적용
C5: 급여 | D5: 연구원 | F5: =ROUND(G5*I5*K5,0) -> 2144981 | G5: 2681226 | H5: × | I5: 0.8 | J5: × | K5: 1
D6: 연구보조원 | F6: =ROUND(G6*I6*K6,0) -> 896155 | G6: 1792309 | H6: × | I6: 0.5 | J6: × | K6: 1
C7: 제수당 | D7: 연구원 | F7: =ROUND(G7*I7/K7*M7*O7,0) -> 714994 | G7: =G5 -> 2681226 | H7: × | I7: 4 | J7: ÷ | K7: 12 | L7: × | M7: 0.8 | N7: × | O7: 1
D8: 연구보조원 | F8: =ROUND(G8*I8/K8*M8*O8,0) -> 298718 | G8: =G6 -> 1792309 | H8: × | I8: 4 | J8: ÷ | K8: 12 | L8: × | M8: 0.5 | N8: × | O8: 1
B9: 경비 | D9: 소계 | F9: =SUM(F10:F13) -> 3315000 | G9: 공무원여비규정 적용
C10: 여비 | D10: 연구원 | F10: =(25000*9)+(25000*9)+(50000*2)+(100000*6)+(2030000*1) -> 3180000 | G10: 일비(25,000원×9회)+식비(25,000원×9회)+교통비(50,000원×2회)+숙박비(100,000원×6회)+항공료(2,030,000×1회)
D11: 연구보조원 | F11: =(25000*1)+(25000*1)+(50000*1) -> 100000 | G11: 일비(25,000원 × 1회)+식비(25,000원 × 1회)+교통비(50,000원 × 1회)
C12: 통신비 | D12: 전화료 | F12: =ROUND(G12*I12,0) -> 21000 | G12: 30000 | H12: × | I12: 0.7
D13: 우편료 | F13: =ROUND(G13*I13,0) -> 14000 | G13: 20000 | H13: × | I13: 0.7
B14: 직접비 | D14: 소계 | F14: =SUM(F15:F26) -> 43890000
C15: 교통비 | D15: 버스임차료 | E15: 20인승 이상(도내 이동) | F15: =ROUND(G15*I15,0) -> 1520000 | G15: 760000 | H15: × | I15: 2 | K15: ※버스임차료 여건에 따라 조정 시행 | AA15: =67/3 -> 22.333333
D16: 항공료 | E16: 1인당 200만원 | F16: =ROUND(G16*I16,0) -> 20300000 | G16: 2030000 | H16: × | I16: 10 | K16: ※항공료 및 숙박비 실비 정산
C17: 숙식비 | D17: 숙박비 | E17: 1인당 10만원 | F17: =ROUND(G17*I17*K17,0) -> 6000000 | G17: 100000 | H17: × | I17: 10 | J17: × | K17: 6 | P17: * 공무원여비규정 식비/일 67$ → 한끼 67$/3=22.3$≒25,000원
D18: 식비 | E18: 조식(7회), 중식(8회), 석식(7회) : 1인당 2만5천원 | F18: =ROUND(G18*I18,0)*K18 -> 5500000 | G18: 25000 | H18: × | I18: 22 | J18: × | K18: 10 | P18: 조식7, 중식8, 석식7
D19: 간식비 | E19: 1인당 7천원 | F19: =ROUND(G19*I19*K19,0) -> 560000 | G19: 7000 | H19: × | I19: 8 | J19: × | K19: 10
C20: 기타 | D20: 기관방문비 | E20: 1개소당 25만원 | F20: =ROUND(G20*I20,0) -> 1750000 | G20: 250000 | H20: × | I20: 7
D21: 현지교통비 | E21: 60만원/일 | F21: =ROUND(G21*I21,0) -> 4800000 | G21: 600000 | H21: × | I21: 8
D22: 현지안내비 | E22: 20.5만원/일 | F22: =ROUND(G22*I22,0) -> 1640000 | G22: 205000 | H22: × | I22: 8
D23: 문화체험비 | E23: 1인당 13만원 | F23: =ROUND(G23*I23,0) -> 1300000 | G23: 130000 | H23: × | I23: 10 | P23: 권역↔인근공항, 제주공항↔견학 권역
D24: 보험료 | E24: 4만원/일 | F24: =ROUND(G24*I24,0) -> 400000 | G24: 40000 | H24: × | I24: 10
D25: 도서인쇄비 | E25: 복사(40장)+제본 | F25: =ROUND(G25*I25,0) -> 70000 | G25: 7000 | H25: × | I25: 10 | P25: 복사
D26: 현수막 제작 | E26: 길이 5.0m | F26: =ROUND(G26*I26,0) -> 50000 | G26: ='리더교육(1일 6시간)'!G21 -> 50000 | H26: × | I26: 1
D27: 사무용품비 | E27: 1인당 4천원 | F27: =ROUND(G27*I27,0) -> 40000 | G27: 4000 | H27: × | I27: 10
B28: 소계 | F28: =SUM(F4,F9,F14) -> 51259848
B29: 일반관리비 | F29: =TRUNC(F28*0.06,0) -> 3075590 | G29: (인건비+경비+직접비)X6%범위내
B30: 이윤 | C30: 이윤 | F30: =TRUNC((F28+F29)*0.1,0) -> 5433543 | G30: (인건비+경비+직접비+일반관리비)X10%범위내 | U30: =18/22 -> 0.81818182 | W30: =11/22 -> 0.5
B31: 합계 | F31: =TRUNC(SUM(F28:F30),-4) -> 59760000
B32: 부가세 | F32: =F31*0.1 -> 5976000 | U32: =ROUND(U30,1) -> 0.8 | W32: =ROUND(W30,1) -> 0.5
B33: 총합계 | F33: =F31+F32 -> 65736000
B35: ※ 버스임차료 산정 근거
B36: 1. 제주도 견학 시 버스임차료 산정기준 : 권역 ↔ 인근공항(2회), 제주공항 ↔ 견학권역(2회)
B37: 2. 제주도 외 견학 시 계획에 따른 임차료 별도 산정
B39: ※ 항공료는 제주도 견학 시 반영

Sheet 컨설팅(전문분야 상급)
B1: 컨설팅(전문분야 상급_권역활성화, 향토음식개발, 동아리운영활성화 등)
B3: 구분 | C3: 항목 | D3: 규격 | E3: 규격 | F3: 금액 | G3: 산출내역
B4: 인건비 | D4: 소계 | F4: =SUM(F5:F10) -> 14466301 | G4: ='리더교육(1일 6시간)'!G4:O4 -> 2023년 학술연구용역인건비 기준단가 적용
C5: 급여 | D5: 책임연구원 | F5: =ROUND(G5*I5*K5,0) -> 2797363 | G5: 3496704 | H5: × | I5: 0.8 | J5: × | K5: 1
D6: 연구원 | F6: =ROUND(G6*I6*K6,0) -> 4826207 | G6: 2681226 | H6: × | I6: 1.8 | J6: × | K6: 1
D7: 연구보조원 | F7: =ROUND(G7*I7*K7,0) -> 3226156 | G7: 1792309 | H7: × | I7: 1.8 | J7: × | K7: 1
C8: 제수당 | D8: 책임연구원 | F8: =ROUND(G8*I8/K8*M8*O8,0) -> 932454 | G8: =G5 -> 3496704 | H8: × | I8: 4 | J8: ÷ | K8: 12 | L8: × | M8: 0.8 | N8: × | O8: 1
D9: 연구원 | F9: =ROUND(G9*I9/K9*M9*O9,0) -> 1608736 | G9: =G6 -> 2681226 | H9: × | I9: 4 | J9: ÷ | K9: 12 | L9: × | M9: 1.8 | N9: × | O9: 1
D10: 연구보조원 | F10: =ROUND(G10*I10/K10*M10*O10,0) -> 1075385 | G10: =G7 -> 1792309 | H10: × | I10: 4 | J10: ÷ | K10: 12 | L10: × | M10: 1.8 | N10: × | O10: 1
B11: 경비 | D11: 소계 | F11: =SUM(F12:F16) -> 1200000 | G11: 공무원여비규정 적용
C12: 여비 | D12: 책임연구원 | F12: =(25000*4)+(25000*4)+(50000*4) -> 400000 | G12: 일비(25,000원 × 4회)+식비(25,000원 × 4회)+교통비(50,000원 × 4회)
D13: 연구원 | F13: =(25000*4)+(25000*4)+(50000*4) -> 400000 | G13: 일비(25,000원 × 4회)+식비(25,000원 × 4회)+교통비(50,000원 × 4회)
D14: 연구보조원 | F14: =(25000*3)+(25000*3)+(50000*3) -> 300000 | G14: 일비(25,000원 × 3회)+식비(25,000원 × 3회)+교통비(50,000원 × 3회)
C15: 통신비 | D15: 전화료 | F15: =ROUND(G15*I15,0) -> 60000 | G15: 30000 | H15: × | I15: 2
D16: 우편료 | F16: =ROUND(G16*I16,0) -> 40000 | G16: 20000 | H16: × | I16: 2
B17: 직접비 | D17: 소계 | F17: =SUM(F18:F22) -> 780000
C18: 다과비 | D18: 중간보고회 | E18: 1인당 4천원 | F18: =ROUND(G18*I18*K18,0) -> 120000 | G18: 4000 | H18: × | I18: 15 | J18: × | K18: 2
D19: 최종보고회 | E19: 1인당 4천원 | F19: =ROUND(G19*I19,0) -> 60000 | G19: 4000 | H19: × | I19: 15
C20: 인쇄비 | D20: 중간보고서 | E20: 복사 및 제본 | F20: =ROUND(G20*I20*K20,0) -> 225000 | G20: 7500 | H20: × | I20: 15 | J20: × | K20: 2 | P20: 복사
D21: 최종보고서 | E21: 복사 및 제본 | F21: =ROUND(G21*I21,0) -> 225000 | G21: 15000 | H21: × | I21: 15
C22: 기타 | D22: 현수막 제작 | E22: 길이 5.0m | F22: =ROUND(G22*I22,0) -> 150000 | G22: ='리더교육(1일 6시간)'!G21 -> 50000 | H22: × | I22: 3
B23: 소계 | F23: =SUM(F4,F11,F17) -> 16446301
B24: 일반관리비 | F24: =TRUNC(F23*0.06,0) -> 986778 | G24: (인건비+경비+직접비)X6%범위내
B25: 이윤 | C25: 이윤 | F25: =(F23+F24)*0.1 -> 1743307.9 | G25: (인건비+경비+직접비+일반관리비)X10%범위내
B26: 합계 | F26: =TRUNC(SUM(F23:F25),-4) -> 19170000
B27: 부가세 | F27: =F26*0.1 -> 1917000
B28: 총합계 | F28: =F26+F27 -> 21087000
Q37: =18/22 -> 0.81818182 | R37: =39/22 -> 1.7727273 | S37: =38.9/22 -> 1.7681818
Q38: =ROUND(Q37,1) -> 0.8 | R38: =ROUND(R37,1) -> 1.8 | S38: =ROUND(S37,1) -> 1.8

Sheet 컨설팅(전문분야 중급)
B1: 컨설팅(전문분야 중급_소득활성화, 시장활성화, 체험프로그램개발 등)
B3: 구분 | C3: 항목 | D3: 규격 | E3: 규격 | F3: 금액 | G3: 산출내역
B4: 인건비 | D4: 소계 | F4: =SUM(F5:F8) -> 9901037 | G4: ='리더교육(1일 6시간)'!G4:O4 -> 2023년 학술연구용역인건비 기준단가 적용
C5: 급여 | D5: 연구원 | F5: =ROUND(G5*I5*K5,0) -> 4558084 | G5: 2681226 | H5: × | I5: 1.7 | J5: × | K5: 1
D6: 연구보조원 | F6: =ROUND(G6*I6*K6,0) -> 2867694 | G6: 1792309 | H6: × | I6: 1.6 | J6: × | K6: 1
C7: 제수당 | D7: 연구원 | F7: =ROUND(G7*I7/K7*M7*O7,0) -> 1519361 | G7: =G5 -> 2681226 | H7: × | I7: 4 | J7: ÷ | K7: 12 | L7: × | M7: 1.7 | N7: × | O7: 1
D8: 연구보조원 | F8: =ROUND(G8*I8/K8*M8*O8,0) -> 955898 | G8: =G6 -> 1792309 | H8: × | I8: 4 | J8: ÷ | K8: 12 | L8: × | M8: 1.6 | N8: × | O8: 1
B9: 경비 | D9: 소계 | F9: =SUM(F10:F13) -> 900000 | G9: 공무원여비규정 적용
C10: 여비 | D10: 연구원 | F10: =(25000*4)+(25000*4)+(50000*4) -> 400000 | G10: 일비(25,000원 × 4회)+식비(25,000원 × 4회)+교통비(50,000원 × 4회)
D11: 연구보조원 | F11: =(25000*4)+(25000*4)+(50000*4) -> 400000 | G11: 일비(25,000원 × 4회)+식비(25,000원 × 4회)+교통비(50,000원 × 4회)
C12: 통신비 | D12: 전화료 | F12: =ROUND(G12*I12,0) -> 60000 | G12: 30000 | H12: × | I12: 2
D13: 우편료 | F13: =ROUND(G13*I13,0) -> 40000 | G13: 20000 | H13: × | I13: 2
B14: 직접비 | D14: 소계 | F14: =SUM(F15:F19) -> 780000
C15: 다과비 | D15: 중간보고회 | E15: 1인당 4천원 | F15: =ROUND(G15*I15*K15,0) -> 120000 | G15: 4000 | H15: × | I15: 15 | J15: × | K15: 2
D16: 최종보고회 | E16: 1인당 4천원 | F16: =ROUND(G16*I16,0) -> 60000 | G16: 4000 | H16: × | I16: 15
C17: 인쇄비 | D17: 중간보고서 | E17: 복사 및 제본 | F17: =ROUND(G17*I17*K17,0) -> 225000 | G17: 7500 | H17: × | I17: 15 | J17: × | K17: 2 | P17: 복사
D18: 최종보고서 | E18: 복사 및 제본 | F18: =ROUND(G18*I18,0) -> 225000 | G18: 15000 | H18: × | I18: 15
C19: 기타 | D19: 현수막 제작 | E19: 길이 5.0m | F19: =ROUND(G19*I19,0) -> 150000 | G19: ='리더교육(1일 6시간)'!G21 -> 50000 | H19: × | I19: 3
B20: 소계 | F20: =SUM(F4,F9,F14) -> 11581037
B21: 일반관리비 | F21: =TRUNC(F20*0.06,0) -> 694862 | G21: (인건비+경비+직접비)X6%범위내
B22: 이윤 | C22: 이윤 | F22: =TRUNC((F20+F21)*0.1,0) -> 1227589 | G22: (인건비+경비+직접비+일반관리비)X10%범위내
B23: 합계 | F23: =TRUNC(SUM(F20:F22),-4) -> 13500000
B24: 부가세 | F24: =F23*0.1 -> 1350000
B25: 총합계 | F25: =F23+F24 -> 14850000
R42: =38/22 -> 1.7272727 | T42: =35.8/22 -> 1.6272727
R43: =ROUND(R42,1) -> 1.7 | T43: =ROUND(T42,1) -> 1.6

Sheet 컨설팅(일반분야 중급)
B1: 컨설팅(일반분야 중급_축제프로그램 개발, 실행계획, 발전계획 등)
B3: 구분 | C3: 항목 | D3: 규격 | E3: 규격 | F3: 금액 | G3: 산출내역
B4: 인건비 | D4: 소계 | F4: =SUM(F5:F8) -> 7039134 | G4: ='리더교육(1일 6시간)'!G4:O4 -> 2023년 학술연구용역인건비 기준단가 적용
C5: 급여 | D5: 연구원 | F5: =ROUND(G5*I5*K5,0) -> 2949349 | G5: 2681226 | H5: × | I5: 1.1 | J5: × | K5: 1
D6: 연구보조원 | F6: =ROUND(G6*I6*K6,0) -> 2330002 | G6: 1792309 | H6: × | I6: 1.3 | J6: × | K6: 1
C7: 제수당 | D7: 연구원 | F7: =ROUND(G7*I7/K7*M7*O7,0) -> 983116 | G7: =G5 -> 2681226 | H7: × | I7: 4 | J7: ÷ | K7: 12 | L7: × | M7: 1.1 | N7: × | O7: 1
D8: 연구보조원 | F8: =ROUND(G8*I8/K8*M8*O8,0) -> 776667 | G8: =G6 -> 1792309 | H8: × | I8: 4 | J8: ÷ | K8: 12 | L8: × | M8: 1.3 | N8: × | O8: 1
B9: 경비 | D9: 소계 | F9: =SUM(F10:F13) -> 700000 | G9: 공무원여비규정 적용
C10: 여비 | D10: 연구원 | F10: =(25000*3)+(25000*3)+(50000*3) -> 300000 | G10: 일비(25,000원 × 3회)+식비(25,000원 × 3회)+교통비(50,000원 × 3회)
D11: 연구보조원 | F11: =(25000*3)+(25000*3)+(50000*3) -> 300000 | G11: 일비(25,000원 × 3회)+식비(25,000원 × 3회)+교통비(50,000원 × 3회)
C12: 통신비 | D12: 전화료 | F12: =ROUND(G12*I12,0) -> 60000 | G12: 30000 | H12: × | I12: 2
D13: 우편료 | F13: =ROUND(G13*I13,0) -> 40000 | G13: 20000 | H13: × | I13: 2
B14: 직접비 | D14: 소계 | F14: =SUM(F15:F19) -> 557500
C15: 다과비 | D15: 중간보고회 | E15: 1인당 4천원 | F15: =ROUND(G15*I15,0) -> 60000 | G15: 4000 | H15: × | I15: 15
D16: 최종보고회 | E16: 1인당 4천원 | F16: =ROUND(G16*I16,0) -> 60000 | G16: 4000 | H16: × | I16: 15
C17: 인쇄비 | D17: 중간보고서 | E17: 복사 및 제본 | F17: =ROUND(G17*I17,0) -> 112500 | G17: 7500 | H17: × | I17: 15 | P17: 복사
D18: 최종보고서 | E18: 복사 및 제본 | F18: =ROUND(G18*I18,0) -> 225000 | G18: 15000 | H18: × | I18: 15
C19: 기타 | D19: 현수막 | E19: 길이 5.0m | F19: =ROUND(G19*I19,0) -> 100000 | G19: ='리더교육(1일 6시간)'!G21 -> 50000 | H19: × | I19: 2
B20: 소계 | F20: =SUM(F4,F9,F14) -> 8296634
B21: 일반관리비 | F21: =TRUNC(F20*0.06,0) -> 497798 | G21: (인건비+경비+직접비)X6%범위내
B22: 이윤 | C22: 이윤 | F22: =TRUNC((F20+F21)*0.1,0) -> 879443 | G22: (인건비+경비+직접비+일반관리비)X10%범위내
B23: 합계 | F23: =TRUNC(SUM(F20:F22),-4) -> 9670000
B24: 부가세 | F24: =F23*0.1 -> 967000
B25: 총합계 | F25: =F23+F24 -> 10637000
Q40: =24/22 -> 1.0909091 | S40: =29/22 -> 1.3181818
Q41: =ROUND(Q40,1) -> 1.1 | S41: =ROUND(S40,1) -> 1.3

Sheet 홍보마케팅(브랜드개발)
B1: 홍보마케팅(브랜드개발)
B3: 구분 | C3: 항목 | D3: 규격 | E3: 규격 | F3: 금액 | G3: 산출내역
B4: 인건비 | D4: 소계 | F4: =SUM(F5:F10) -> 12352626 | G4: ='리더교육(1일 6시간)'!G4:O4 -> 2023년 학술연구용역인건비 기준단가 적용
C5: 급여 | D5: 책임연구원 | F5: =ROUND(G5*I5*K5,0) -> 1748352 | G5: 3496704 | H5: × | I5: 0.5 | J5: × | K5: 1
D6: 연구원 | F6: =ROUND(G6*I6*K6,0) -> 4289962 | G6: 2681226 | H6: × | I6: 1.6 | J6: × | K6: 1
D7: 연구보조원 | F7: =ROUND(G7*I7*K7,0) -> 3226156 | G7: 1792309 | H7: × | I7: 1.8 | J7: × | K7: 1
C8: 제수당 | D8: 책임연구원 | F8: =ROUND(G8*I8/K8*M8*O8,0) -> 582784 | G8: =G5 -> 3496704 | H8: × | I8: 4 | J8: ÷ | K8: 12 | L8: × | M8: 0.5 | N8: × | O8: 1
D9: 연구원 | F9: =ROUND(G9*I9/K9*M9*O9,0) -> 1429987 | G9: =G6 -> 2681226 | H9: × | I9: 4 | J9: ÷ | K9: 12 | L9: × | M9: 1.6 | N9: × | O9: 1
D10: 연구보조원 | F10: =ROUND(G10*I10/K10*M10*O10,0) -> 1075385 | G10: =G7 -> 1792309 | H10: × | I10: 4 | J10: ÷ | K10: 12 | L10: × | M10: 1.8 | N10: × | O10: 1
B11: 경비 | D11: 소계 | F11: =SUM(F12:F19) -> 3220000 | G11: 공무원여비규정 적용
C12: 여비 | D12: 책임연구원 | F12: =(25000*4)+(25000*4)+(50000*4) -> 400000 | G12: 일비(25,000원 × 4회)+식비(25,000원 × 4회)+교통비(50,000원 × 4회)
D13: 연구원 | F13: =(25000*4)+(25000*4)+(50000*4) -> 400000 | G13: 일비(25,000원 × 4회)+식비(25,000원 × 4회)+교통비(50,000원 × 4회)
D14: 연구보조원 | F14: =(25000*4)+(25000*4)+(50000*4) -> 400000 | G14: 일비(25,000원 × 4회)+식비(25,000원 × 4회)+교통비(50,000원 × 4회)
C15: 통신비 | D15: 전화료 | F15: =ROUND(G15*I15,0) -> 60000 | G15: 30000 | H15: × | I15: 2
D16: 우편료 | F16: =ROUND(G16*I16,0) -> 40000 | G16: 20000 | H16: × | I16: 2
C17: 진단 | D17: 설문조사 및 분석 | E17: 1식 | F17: =ROUND(G17*I17,0) -> 120000 | G17: 1200 | H17: × | I17: 100
C18: 브랜드개발 | D18: 개발비용 | E18: CD 제작, 토너 및 용지 비용 포함 | F18: =ROUND(G18*I18,0) -> 300000 | G18: 300000 | H18: × | I18: 1
C19: 시제품제작 | D19: 제작비용 | E19: 특산물 포장지 등 샘플제품 | F19: =ROUND(G19*I19,0) -> 1500000 | G19: 1500000 | H19: × | I19: 1
B20: 직접비 | D20: 소계 | F20: =SUM(F21:F26) -> 2857500
C21: 다과비 | D21: 중간보고회 | E21: 1인당 4천원 | F21: =ROUND(G21*I21,0) -> 60000 | G21: 4000 | H21: × | I21: 15
D22: 최종보고회 | E22: 1인당 4천원 | F22: =ROUND(G22*I22,0) -> 60000 | G22: 4000 | H22: × | I22: 15
C23: 자문료 | D23: 자문료 | E23: 자문평가 4시간 미만 | F23: =ROUND(G23*I23,0) -> 400000 | G23: 200000 | H23: × | I23: 2
C24: 출원료 | D24: 출원료 | E24: 4개류 | F24: =ROUND(G24*I24,0) -> 2000000 | G24: 500000 | H24: × | I24: 4 | J24: ※ 지구별 적당한 수의 류 결정 후 비용 반영
C25: 인쇄비 | D25: 중간보고서 | E25: 복사및제본 | F25: =ROUND(G25*I25,0) -> 112500 | G25: 7500 | H25: × | I25: 15 | P25: 복사
D26: 최종보고서 | E26: 복사및제본 | F26: =ROUND(G26*I26,0) -> 225000 | G26: 15000 | H26: × | I26: 15
B27: 소계 | F27: =SUM(F4,F11,F20) -> 18430126
B28: 일반관리비 | F28: =TRUNC(F27*0.06,0) -> 1105807 | G28: (인건비+경비+직접비)X6%범위내
B29: 이윤 | C29: 이윤 | F29: =TRUNC((F27+F28)*0.1,0) -> 1953593 | G29: (인건비+경비+직접비+일반관리비)X10%범위내
B30: 합계 | F30: =TRUNC(SUM(F27:F29),-4) -> 21480000
B31: 부가세 | F31: =F30*0.1 -> 2148000
B32: 총합계 | F32: =F30+F31 -> 23628000
C34: ○ 농촌관련 류
Q37: =10/22 -> 0.45454545 | R37: =36/22 -> 1.6363636 | S37: =40/22 -> 1.8181818
Q38: =ROUND(Q37,1) -> 0.5 | R38: =ROUND(R37,1) -> 1.6 | S38: =ROUND(S37,1) -> 1.8

Sheet 홍보마케팅(도시민초청행사)
B1: 홍보마케팅(도시민초청행사, 도농교류이벤트)
B3: 구분 | C3: 항목 | D3: 규격 | E3: 규격 | F3: 금액 | G3: 산출내역
B4: 인건비 | D4: 소계 | F4: =SUM(F5:F8) -> 1192942 | G4: ='리더교육(1일 6시간)'!G4:O4 -> 2023년 학술연구용역인건비 기준단가 적용
C5: 급여 | D5: 연구원 | F5: =ROUND(G5*I5*K5,0) -> 536245 | G5: 2681226 | H5: × | I5: 0.2 | J5: × | K5: 1
D6: 연구보조원 | F6: =ROUND(G6*I6*K6,0) -> 358462 | G6: 1792309 | H6: × | I6: 0.2 | J6: × | K6: 1
C7: 제수당 | D7: 연구원 | F7: =ROUND(G7*I7/K7*M7*O7,0) -> 178748 | G7: =G5 -> 2681226 | H7: × | I7: 4 | J7: ÷ | K7: 12 | L7: × | M7: 0.2 | N7: × | O7: 1
D8: 연구보조원 | F8: =ROUND(G8*I8/K8*M8*O8,0) -> 119487 | G8: =G6 -> 1792309 | H8: × | I8: 4 | J8: ÷ | K8: 12 | L8: × | M8: 0.2 | N8: × | O8: 1
B9: 경비 | D9: 소계 | F9: =SUM(F10:F13) -> 420000 | G9: 공무원여비규정 적용
C10: 여비 | D10: 연구원 | F10: =(25000*2)+(25000*2)+(50000*2) -> 200000 | G10: 일비(25,000원 × 2회)+식비(25,000원 × 2회)+교통비(50,000원 × 2회)
D11: 연구보조원 | F11: =(25000*2)+(25000*2)+(50000*2) -> 200000 | G11: 일비(25,000원 × 2회)+식비(25,000원 × 2회)+교통비(50,000원 × 2회)
C12: 통신비 | D12: 전화료 | F12: =ROUND(G12*I12,0) -> 12000 | G12: 30000 | H12: × | I12: 0.4
D13: 우편료 | F13: =ROUND(G13*I13,0) -> 8000 | G13: 20000 | H13: × | I13: 0.4
B14: 직접비 | D14: 소계 | F14: =SUM(F15:F26) -> #REF!
C15: 강사료 | D15: 강의비 | E15: C급 강사 | F15: =ROUND(G15*I15,0) -> 300000 | G15: 150000 | H15: × | I15: 2 | J15: ※B급 강사 적용 가능, 레크레이션 강사 적용 가능
D16: 강사여비 | E16: ='리더교육(1일 6시간)'!E16 -> 편도120km, 왕복 기준 | F16: =ROUND(G16*I16,0) -> 50000 | G16: ='리더교육(1일 6시간)'!G16 -> 50000 | H16: × | I16: 1 | J16: ※교통비산출 sheet 참조
C17: 숙식비 | D17: 숙박비 | E17: 1인당 7만원 | F17: =ROUND(G17*I17,0) -> 2800000 | G17: 70000 | H17: × | I17: 40
D18: 식비 | E18: 중식(1회) : 1인당 1만원 | F18: =ROUND(G18*I18,0) -> 400000 | G18: 10000 | H18: × | I18: 40
D19: 간식비 | E19: 1인당 4천원 | F19: =ROUND(G19*I19,0) -> 160000 | G19: 4000 | H19: × | I19: 40
C20: 기타 | D20: 증정용선물 | E20: 1인당 1만원 | F20: =ROUND(G20*I20,0) -> 400000 | G20: 10000 | H20: × | I20: 40
D21: 초청장제작 | E21: 제작, 배포 | F21: =ROUND(G21*I21,0) -> 80000 | G21: 2000 | H21: × | I21: 40
D22: 체험비 | E22: 1인당 1만원 | F22: =ROUND(G22*I22,0) -> #REF! | G22: =#REF! -> #REF! | H22: × | I22: 40
D23: 버스임차료 | E23: 40인승 이상 | F23: =ROUND(G23*I23,0) -> 900000 | G23: 900000 | H23: × | I23: 1 | K23: ※버스임차료 여건에 따라 조정 시행
D24: 보험료 | E24: 1인 1일 기준 | F24: =ROUND(G24*I24,0) -> 200000 | G24: 5000 | H24: × | I24: 40 | K24: =#REF! -> #REF!
D25: 도서인쇄비 | E25: 복사 | F25: =ROUND(G25*I25,0) -> 80000 | G25: 2000 | H25: × | I25: 40
D26: 현수막 제작 | E26: 길이 5.0m | F26: =ROUND(G26*I26,0) -> 100000 | G26: ='리더교육(1일 6시간)'!G21 -> 50000 | H26: × | I26: 2
B27: 소계 | F27: =SUM(F4,F9,F14) -> #REF!
B28: 일반관리비 | F28: =TRUNC(F27*0.06,0) -> #REF! | G28: (인건비+경비+직접비)X6%범위내 | R28: =4/22 -> 0.18181818 | T28: =3.5/22 -> 0.15909091
B29: 이윤 | C29: 이윤 | F29: =TRUNC((F27+F28)*0.1,0) -> #REF! | G29: (인건비+경비+직접비+일반관리비)X10%범위내 | R29: =ROUND(R28,1) -> 0.2 | T29: =ROUND(T28,1) -> 0.2
B30: 합계 | F30: =TRUNC(SUM(F27:F29),-4) -> #REF!
B31: 부가세 | F31: =F30*0.1 -> #REF!
B32: 총합계 | F32: =F30+F31 -> #REF!

Sheet 마을가꾸기 문패달기활동
B1: 마을가꾸기 문패달기활동(총1식_53호 기준)
B3: 구분 | C3: 항목 | D3: 규격 | F3: 금액 | G3: 산출내역
B4: 인건비 | D4: 소계 | F4: =SUM(F5:F8) -> 1853833 | G4: 2024년 학술연구용역인건비 기준단가 적용
C5: 급여 | D5: 연구원 | F5: =ROUND(G5*I5*K5,0) -> 833325 | G5: 2777750 | H5: × | I5: 0.3 | J5: × | K5: 1
D6: 연구보조원 | F6: =ROUND(G6*I6*K6,0) -> 557050 | G6: 1856832 | H6: × | I6: 0.3 | J6: × | K6: 1
C7: 제수당 | D7: 연구원 | F7: =ROUND(G7*I7/K7*M7*O7,0) -> 277775 | G7: =G5 -> 2777750 | H7: × | I7: 4 | J7: ÷ | K7: 12 | L7: × | M7: 0.3 | N7: × | O7: 1
D8: 연구보조원 | F8: =ROUND(G8*I8/K8*M8*O8,0) -> 185683 | G8: =G6 -> 1856832 | H8: × | I8: 4 | J8: ÷ | K8: 12 | L8: × | M8: 0.3 | N8: × | O8: 1
B9: 경비 | D9: 소계 | F9: =SUM(F10:F11) -> 360000 | G9: 공무원여비규정 적용
C10: 여비 | D10: 연구원 | F10: =(25000*2)+(25000*2)+(40000*2) -> 180000 | G10: 일비(25,000원 × 2회)+식비(25,000원 × 2회)+교통비(40,000원 × 2회)
D11: 연구보조원 | F11: =(25000*2)+(25000*2)+(40000*2) -> 180000 | G11: 일비(25,000원 × 2회)+식비(25,000원 × 2회)+교통비(40,000원 × 2회)
B12: 직접비 | C12: 소계 | F12: =SUM(F13:F17) -> 5925000
C13: 인건비 | D13: 강의료 | F13: =ROUND(G13*I13,0) -> 300000 | G13: ='리더교육(1일 6시간)'!G15 -> 150000 | H13: × | I13: 2
D14: 강사여비 | F14: =ROUND(G14*I14,0) -> 50000 | G14: 50000 | H14: × | I14: 1
D15: 인쇄비 | E15: 인쇄비 | F15: =1500*50 -> 75000 | G15: 1,500* 50부
C16: 숙식비 | D16: 간식비 | E16: 1인당 4천원 | F16: =ROUND(G16*I16*K16,0) -> 200000 | G16: ='리더교육(1일 6시간)'!G18 -> 4000 | H16: × | I16: 1 | J16: × | K16: 50
D17: 재료비 | E17: 재료비 | F17: =ROUND(G17*I17,0) -> 5300000 | G17: 100000 | H17: × | I17: 53 | J17: 실비적용
B18: 소계 | F18: =SUM(F4,F9,F12) -> 8138833
B19: 일반관리비 | F19: =TRUNC(F18*0.049,0) -> 398802 | G19: (인건비+경비+직접비)X6%범위내
B20: 이윤 | C20: 이윤 | F20: =TRUNC((F18+F19)*0.09,0) -> 768387 | G20: (인건비+경비+직접비+일반관리비)X10%범위내
B21: 합계 | F21: =TRUNC(SUM(F18:F20),-4) -> 9300000
B22: 부가세 | F22: =F21*0.1 -> 930000
B23: 총합계 | F23: =F21+F22 -> 10230000
Q26: =17/22 -> 0.77272727 | S26: =13/22 -> 0.59090909
Q27: =ROUND(Q26,1) -> 0.8 | S27: =ROUND(S26,1) -> 0.6

Sheet 전문가초청교육
B1: 전문가초청교육(총2회 20명)
B3: 구분 | C3: 항목 | D3: 규격 | F3: 금액 | G3: 산출내역
B4: 인건비 | D4: 소계 | G4: 2024년 학술연구용역인건비 기준단가 적용
C5: 급여 | D5: 연구원 | G5: 2777750 | H5: × | I5: 0.15 | J5: × | K5: 1
D6: 연구보조원 | G6: 1856832 | H6: × | I6: 0.15 | J6: × | K6: 1
C7: 제수당 | D7: 연구원 | G7: =G5 -> 2777750 | H7: × | I7: 4 | J7: ÷ | K7: 12 | L7: × | M7: 0.15 | N7: × | O7: 1
D8: 연구보조원 | G8: =G6 -> 1856832 | H8: × | I8: 4 | J8: ÷ | K8: 12 | L8: × | M8: 0.15 | N8: × | O8: 1
B9: 경비 | D9: 소계 | G9: 공무원여비규정 적용
C10: 여비 | D10: 연구원 | G10: 일비(25,000원 × 1회)+식비(25,000원 × 1회)+교통비(40,000원 × 1회)
D11: 연구보조원 | G11: 일비(25,000원 × 1회)+식비(25,000원 × 1회)+교통비(40,000원 × 1회)
B12: 직접비 | C12: 소계
C13: 인건비 | D13: 강의료 | G13: ='리더교육(1일 6시간)'!G15 -> 150000 | H13: × | I13: 1
D14: 강사여비 | G14: 50000 | H14: × | I14: 1
D15: 인쇄비 | E15: 인쇄비 | G15: 1,500* 20부
C16: 숙식비 | D16: 간식비 | E16: 1인당 4천원 | G16: ='리더교육(1일 6시간)'!G18 -> 4000 | H16: × | I16: 1 | J16: × | K16: 20
D17: 사무용품비 | G17: 3000 | H17: × | I17: 20
B18: 소계
B19: 일반관리비 | G19: (인건비+경비+직접비)X6%범위내
B20: 이윤 | C20: 이윤 | G20: (인건비+경비+직접비+일반관리비)X10%범위내
B21: 합계
B22: 부가세
B23: 총합계
Q26: =17/22 -> 0.77272727 | S26: =13/22 -> 0.59090909
Q27: =ROUND(Q26,1) -> 0.8 | S27: =ROUND(S26,1) -> 0.6

Sheet 마을발전워크숍
B1: 마을발전워크숍(총1회, 20인기준)
B3: 구분 | C3: 항목 | D3: 규격 | F3: 금액 | G3: 산출내역
B4: 인건비 | D4: 소계 | G4: 2024년 학술연구용역인건비 기준단가 적용
C5: 급여 | D5: 연구원 | G5: 2777750 | H5: × | I5: 0.15 | J5: × | K5: 1
D6: 연구보조원 | G6: 1856832 | H6: × | I6: 0.15 | J6: × | K6: 1
C7: 제수당 | D7: 연구원 | G7: =G5 -> 2777750 | H7: × | I7: 4 | J7: ÷ | K7: 12 | L7: × | M7: 0.15 | N7: × | O7: 1
D8: 연구보조원 | G8: =G6 -> 1856832 | H8: × | I8: 4 | J8: ÷ | K8: 12 | L8: × | M8: 0.15 | N8: × | O8: 1
B9: 경비 | D9: 소계 | G9: 공무원여비규정 적용
C10: 여비 | D10: 연구원 | G10: 일비(25,000원 × 1회)+식비(25,000원 × 1회)+교통비(40,000원 × 1회)
D11: 연구보조원 | G11: 일비(25,000원 × 1회)+식비(25,000원 × 1회)+교통비(40,000원 × 1회)
B12: 직접비 | C12: 소계
C13: 인건비 | D13: 강의료 | G13: ='리더교육(1일 6시간)'!G15 -> 150000 | H13: × | I13: 2
D14: 강사여비 | G14: 50000 | H14: × | I14: 1
D15: 인쇄비 | E15: 인쇄비 | G15: 1,500* 20부
C16: 숙식비 | D16: 식비 | E16: 식비 | G16: 중식 10,000원 | H16: × | I16: 20 | J16: , | K16: 석식 15,000원 | L16: × | M16: 20
D17: 간식비 | E17: 1인당 4천원 | G17: ='리더교육(1일 6시간)'!G18 -> 4000 | H17: × | I17: 1 | J17: × | K17: 20
D18: 재료비 | G18: 5000 | H18: × | I18: 20
B19: 소계
B20: 일반관리비 | G20: (인건비+경비+직접비)X6%범위내
B21: 이윤 | C21: 이윤 | G21: (인건비+경비+직접비+일반관리비)X10%범위내
B22: 합계
B23: 부가세
B24: 총합계
Q27: =17/22 -> 0.77272727 | S27: =13/22 -> 0.59090909
Q28: =ROUND(Q27,1) -> 0.8 | S28: =ROUND(S27,1) -> 0.6

Sheet 총괄표
A2: 운산리 취약지역 생활여건개조사업 주민역량강화 용역 총 괄 표
A3: (단위:원)
A4: 구 분 | B4: 세부사업 | E4: 단가 | F4: 총괄 | H4: 2026년 | J4: 2027년
F5: 사업량 | G5: 총사업비 | H5: 사업량 | I5: 총사업비 | J5: 사업량 | K5: 총사업비
A6: 주민 역량 강화 | B6: 우수지구 선진지견학(국내 당일) | E6: ='우수지구 선진지견학(국내 당일)'!F28 -> 8300000.2 | F6: 2 | G6: =E6*F6 -> 16600000 | H6: 1 | I6: =E6*H6 -> 8300000.2 | J6: =F6-H6 -> 1 | K6: =G6-I6 -> 8300000.2
B7: 운산리 마을발전 공감교육 | E7: ='운산리 마을발전 공감교육'!F19 -> 2939999.8 | F7: 2 | G7: =E7*F7 -> 5879999.7 | H7: 2 | I7: =E7*H7 -> 5879999.7
B8: 운산리 어울림교실 | E8: ='운산리 어울림교실(1일 2시간, 2식 연속10회)'!F24 -> 2090000 | F8: 10 | G8: =E8*F8 -> 20900000 | J8: =F8-H8 -> 10 | K8: =G8-I8 -> 20900000
B9: 소계 | F9: =SUM(F6:F8) -> 14 | G9: =SUM(G6:G8) -> 43380000 | H9: =SUM(H6:H8) -> 3 | I9: =SUM(I6:I8) -> 14180000 | J9: =SUM(J6:J8) -> 11 | K9: =SUM(K6:K8) -> 29200000
A10: 주민역량강화 합계 | F10: =SUM(F9) -> 14 | G10: =SUM(G9) -> 43380000 | H10: =SUM(H9) -> 3 | I10: =SUM(I9) -> 14180000 | J10: =SUM(J9) -> 11 | K10: =SUM(K9) -> 29200000

Sheet 우수지구 선진지견학(국내 당일)
B1: 우수지구 선진지견학 (국내 당일_주민40인)
B3: 구분 | C3: 항목 | D3: 규격 | E3: 규격 | F3: 금액 | G3: 산출내역
B4: 인건비 | D4: 소계 | F4: =SUM(F5:F8) -> 2064548 | G4: ='[249]리더교육(1일 6시간)'!G4:O4 -> 2026년 학술연구용역인건비 기준단가 적용
C5: 급여 | D5: 연구원 | F5: =ROUND(G5*I5*K5,0) -> 1160525 | G5: 2901312 | H5: × | I5: 0.4 | J5: × | K5: 1
D6: 연구보조원 | F6: =ROUND(G6*I6*K6,0) -> 387886 | G6: 1939429 | H6: × | I6: 0.2 | J6: × | K6: 1
C7: 제수당 | D7: 연구원 | F7: =ROUND(G7*I7/K7*M7*O7,0) -> 386842 | G7: =G5 -> 2901312 | H7: × | I7: 4 | J7: ÷ | K7: 12 | L7: × | M7: 0.4 | N7: × | O7: 1
D8: 연구보조원 | F8: =ROUND(G8*I8/K8*M8*O8,0) -> 129295 | G8: =G6 -> 1939429 | H8: × | I8: 4 | J8: ÷ | K8: 12 | L8: × | M8: 0.2 | N8: × | O8: 1
B9: 경비 | D9: 소계 | F9: =SUM(F10:F11) -> 380000 | G9: 공무원여비규정 적용
C10: 여비 | D10: 연구원 | F10: =(25000+25000+45000)*2 -> 190000 | G10: 일비(25,000원 × 2회)+식비(25,000원 × 2회)+교통비(45,000원 × 2회)
D11: 연구보조원 | F11: =(25000+25000+45000)*2 -> 190000 | G11: 일비(25,000원 × 2회)+식비(25,000원 × 2회)+교통비(45,000원 × 2회)
B12: 직접비 | D12: 소계 | F12: =SUM(F13:F22) -> 4030000
C13: 강사료 | D13: 강의비 | E13: C급 강사(마을위원장, 사무장) | F13: =ROUND(G13*I13*K13,0) -> 300000 | G13: ='[249]리더교육(1일 6시간)'!G15 -> 150000 | H13: × | I13: 1 | J13: × | K13: 2 | P13: 추진위원장, 사무장
C14: 숙박비 | D14: 식비 | E14: 중식(1회) : 1인당 1만원 석식(1회) : 1인당 2만4천원 | F14: =ROUND(G14*I14+K14*M14,0)*O14 -> 1360000 | G14: ='[249]리더교육(2일 10시간)'!G17 -> 10000 | H14: × | I14: 1 | J14: + | K14: 24000 | L14: × | M14: 1 | N14: × | O14: 40 | P14: 중식1, 석식1
D15: 간식비 | E15: 1인당 5천원 | F15: =ROUND(G15*I15,0) -> 200000 | G15: 5000 | H15: × | I15: 40
C16: 기타 | D16: 강의실사용료 | E16: 20~40인석 | F16: =ROUND(G16*I16,0) -> 200000 | G16: ='[249]리더교육(1일 6시간)'!G19 -> 200000 | H16: × | I16: 1
D17: 사무용품비 | E17: 1인당 4천원 | F17: =ROUND(G17*I17,0) -> 160000 | G17: 4000 | H17: × | I17: 40
D18: 체험비 | E18: 1인당 1.5만원 | F18: =ROUND(G18*I18,0) -> 600000 | G18: 15000 | H18: × | I18: 40
D19: 버스임차료 | E19: 40인승 이상 | F19: =ROUND(G19*I19,0) -> 900000 | G19: 900000 | H19: × | I19: 1 | K19: ※버스임차료 여건에 따라 조정 시행
D20: 보험료 | E20: 1인 당일 기준 | F20: =ROUND(G20*I20,0) -> 200000 | G20: 5000 | H20: × | I20: 40 | K20: ※보험료 실비 정산(연령, 보장내용에 따라 다양)
D21: 도서인쇄비 | E21: 복사 | F21: =ROUND(G21*I21,0) -> 60000 | G21: 1500 | H21: × | I21: 40 | P21: 복사
D22: 현수막 제작 | E22: 길이 5.0m | F22: =ROUND(G22*I22,0) -> 50000 | G22: ='[249]리더교육(1일 6시간)'!G21 -> 50000 | H22: × | I22: 1
B23: 소계 | F23: =SUM(F4,F9,F12) -> 6474548
B24: 일반관리비 | F24: =TRUNC(F23*0.06,0) -> 388472 | G24: (인건비+경비+직접비)X6%범위내
B25: 이윤 | C25: 이윤 | F25: =(F23+F24)*0.1-3867.3 -> 682434.7 | G25: (인건비+경비+직접비+일반관리비)X10%범위내 | R25: =8.5/22 -> 0.38636364 | T25: =4.5/22 -> 0.20454545
B26: 소계 | F26: =SUM(F23:F25) -> 7545454.7 | R26: =ROUND(R25,1) -> 0.4 | T26: =ROUND(T25,1) -> 0.2
B27: 부가세 | F27: =F26*0.1 -> 754545.47
B28: 1회 합계 | F28: =F26+F27 -> 8300000.2 | G28: 1회 기준(주민 40인 기준)
B29: 총사업비 | F29: =F28*2 -> 16600000 | G29: 총 2회
F30: =4254/1.1 -> 3867.2727

Sheet 운산리 마을발전 공감교육
B1: 운산리 마을발전 공감교육(2시간 1회_주민40인)
B3: 구분 | C3: 항목 | D3: 규격 | F3: 금액 | G3: 산출내역
B4: 인건비 | D4: 소계 | F4: =SUM(F5:F6) -> 1547367 | G4: ='[249]리더교육(1일 6시간)'!G4:O4 -> 2026년 학술연구용역인건비 기준단가 적용
C5: 급여 | D5: 연구원 | F5: =ROUND(G5*I5*K5,0) -> 1160525 | G5: 2901312 | H5: × | I5: 0.4 | J5: × | K5: 1
C6: 제수당 | D6: 연구원 | F6: =ROUND(G6*I6/K6*M6*O6,0) -> 386842 | G6: =G5 -> 2901312 | H6: × | I6: 4 | J6: ÷ | K6: 12 | L6: × | M6: 0.4 | N6: × | O6: 1
B7: 경비 | D7: 소계 | F7: =SUM(F8:F8) -> 190000 | G7: 공무원여비규정 적용
C8: 여비 | D8: 연구원 | F8: =(25000+25000+45000)*2 -> 190000 | G8: 일비(25,000원 × 2회)+식비(25,000원 × 2회)+교통비(45,000원 × 2회)
B9: 직접비 | D9: 소계 | F9: =SUM(F10:F13) -> 555000
C10: 강사료 | D10: 강의비 | E10: C급 강사 | F10: =ROUND(G10*I10,0) -> 300000 | G10: ='[249]리더교육(1일 6시간)'!G15 -> 150000 | H10: × | I10: 2 | J10: ='[249]리더교육(1일 6시간)'!J15:O15 -> ※B급 강사 적용 가능
