Workbook

Sheet 식재료 총금액
A1: 2026년 4/4분기 보람의집 식재료 기초단가 총괄표
A2: 품 목 | B2: 기초단가 합계금액 | C2: 금 액
A3: 합 계 | B3: =SUM(B4:B9) -> 3995349.8 | C3: =SUM(C4:C9) -> 38788541
A4: 농산물,김치 | B4: ='농산물 김치'!F3 -> 522226 | C4: ='농산물 김치'!G3 -> 4898276
A5: 공산품,장아찌 | B5: ='공산품 장아찌 '!F3 -> 1379637 | C5: ='공산품 장아찌 '!G3 -> 9938310
A6: 정육,육계,란 | B6: ='정육 육계 란'!F3 -> 788916 | C6: ='정육 육계 란'!G3 -> 7778382
A7: 수산물,건어물 | B7: ='수산물 건어물'!F3 -> 708353 | C7: ='수산물 건어물'!G3 -> 5320057
A8: 유제품,과일 | B8: ='유제품 과일'!F3 -> 386630 | C8: ='유제품 과일'!G3 -> 8770478
A9: 양곡 | B9: =양곡!F3 -> 209587.8 | C9: =양곡!G3 -> 2083038

Sheet 농산물 김치
A1: 2026년 4/4분기 보람의집 식재료(농산물, 김치등) 기초단가
A2: NO | B2: 식품명/상세식품명 | C2: 단위 | D2: 규격 | E2: 예정소요량 | F2: 기초단가 | G2: 예정총금액
B3: 계 | F3: =SUM(F4:F49) -> 522226 | G3: =SUM(G4:G49) -> 4898276
A4: 1 | B4: 감자 | C4: 박스 | D4: 220g이상/개 20Kg/BOX | E4: 5 | F4: 65000 | G4: =E4*F4 -> 325000
A5: 2 | B5: 김치 | C5: EA | D5: 포기김치(생 10Kg/BOX) | E5: 20 | F5: 70210 | G5: =E5*F5 -> 1404200
A6: 3 | B6: 고구마 | C6: EA | D6: (100~150g/개 찜용 5Kg/EA) | E6: 4 | F6: 40500 | G6: =E6*F6 -> 162000
A7: 4 | B7: 가지 | C7: EA | D7: (130g~160g/개_1kg내외 1Kg/EA) | E7: 7 | F7: 6140 | G7: =E7*F7 -> 42980
A8: 5 | B8: 고비 | C8: EA | D8: 데친고비(1Kg/EA) | E8: 5 | F8: 17017 | G8: =E8*F8 -> 85085
A9: 6 | B9: 고사리 | C9: EA | D9: 데침고사리(완제품_고사리 66.67% 1Kg/EA) | E9: 5 | F9: 3553 | G9: =E9*F9 -> 17765
A10: 7 | B10: 근대 | C10: EA | D10: 국내산 KG/EA | E10: 7 | F10: 5480 | G10: =E10*F10 -> 38360
A11: 8 | B11: 꽈리고추 | C11: EA | D11: 꽈리고추(kg) | E11: 6 | F11: 9910 | G11: =E11*F11 -> 59460
A12: 9 | B12: 깻잎 | C12: EA | D12: 깻잎(쌈채_원물 KG) | E12: 5 | F12: 22000 | G12: =E12*F12 -> 110000
A13: 10 | B13: 느타리버섯 | C13: EA | D13: 느타리버섯(상품 다발_친환경 1Kg/BOX) | E13: 6 | F13: 4860 | G13: =E13*F13 -> 29160
A14: 11 | B14: 대파 | C14: EA | D14: 깐대파(국내산 kg/EA) | E14: 15 | F14: 3162 | G14: =E14*F14 -> 47430
A15: 12 | B15: 다진마늘 | C15: EA | D15: 국내산 다진마늘(1Kg/EA) | E15: 16 | F15: 12720 | G15: =E15*F15 -> 203520
... A30: 27 | B30: 숙주 | C30: EA | D30: 숙주나물(상품 상 1Kg/EA) | E30: 5 | F30: 2150 | G30: =E30*F30 -> 10750
A31: 28 | B31: 시금치 | D31: 시금치(굿픽 1Kg/EA) | E31: 8 | F31: 5620 | G31: =E31*F31 -> 44960
A32: 29 | B32: 순두부 | C32: EA | D32: 400G*5입 묶음 2KG/EA | E32: 6 | F32: 4020 | G32: =E32*F32 -> 24120
A33: 30 | B33: 아욱 | C33: EA | D33: 아욱(굿픽 1Kg/EA) | E33: 8 | F33: 10030 | G33: =E33*F33 -> 80240
A34: 31 | B34: 알배기배추 | C34: EA | D34: 알배기배추(상품 KG) | E34: 10 | F34: 4320 | G34: =E34*F34 -> 43200
A35: 32 | B35: 알감자 | C35: EA | D35: 알감자조림(NEW 1Kg/EA) | E35: 30 | F35: 6402 | G35: =E35*F35 -> 192060
A36: 33 | B36: 애호박 | C36: EA | D36: (굿픽_1.5kg내외 1.5Kg/EA) | E36: 15 | F36: 5310 | G36: =E36*F36 -> 79650
A37: 34 | B37: 양배추 | C37: EA | D37: 깐양배추(굿픽_1~2입 2Kg/EA) | E37: 12 | F37: 3100 | G37: =E37*F37 -> 37200
A38: 35 | B38: 양파 | C38: EA | D38: 국내산 피양파300g이상/개 10Kg/BOX) | E38: 10 | F38: 25300 | G38: =E38*F38 -> 253000
A39: 36 | B39: 오이 | C39: EA | D39: 다다기오이(굿픽_1kg내외 1Kg/EA) | E39: 10 | F39: 3000 | G39: =E39*F39 -> 30000
A40: 37 | B40: 아삭이고추 | C40: EA | D40: 굿픽_1kg내외 1Kg/EA) | E40: 10 | F40: 7390 | G40: =E40*F40 -> 73900
A41: 38 | B41: 우엉채 | C41: EA | D41: 깐우엉(채 KG) | E41: 4 | F41: 13420 | G41: =E41*F41 -> 53680
A42: 39 | B42: 청양고추 | C42: EA | D42: 청양고추(KG) | E42: 5 | F42: 9240 | G42: =E42*F42 -> 46200
A43: 40 | B43: 콩비지 | C43: EA | D43: 1Kg/EA | E43: 10 | F43: 4950 | G43: =E43*F43 -> 49500
... A48: 45 | B48: 표고버섯 | C48: EA | D48: 국산 표고버섯(상품 1Kg/EA) | E48: 10 | F48: 15670 | G48: =E48*F48 -> 156700
L68: ,

Sheet 공산품 장아찌 
A1: 2026년 4/4분기 보람의집 식재료(공산품, 장아찌등) 기초단가
A2: NO | B2: 식품명/상세식품명 | C2: 단위 | D2: 규격 | E2: 예정소요량 | F2: 기초단가 | G2: 예정총금액
B3: 계 | F3: =SUM(F4:F117) -> 1379637 | G3: =SUM(G4:G117) -> 9938310
A4: 1 | B4: 고구마떡 | C4: EA | D4: 떡안애 고구마떡(NEW 1Kg/EA) | E4: 8 | F4: 5896 | G4: =E4*F4 -> 47168
A5: 2 | B5: 궁채절임 | C5: EA | D5: 궁채절임 kg/ea | E5: 10 | F5: 9050 | G5: =E5*F5 -> 90500
A6: 3 | B6: 감자뇨끼 | C6: EA | D6: 감자뇨끼(1Kg/EA) | E6: 8 | F6: 11737 | G6: =E6*F6 -> 93896
A7: 4 | B7: 고추지 | C7: EA | D7: 간장고추지(1Kg/EA | E7: 7 | F7: 7480 | G7: =E7*F7 -> 52360
A8: 5 | B8: 고춧잎무침 | C8: EA | D8: 고추잎무침(1Kg/EA) | E8: 4 | F8: 7293 | G8: =E8*F8 -> 29172
A9: 6 | B9: 고추장 | C9: EA | D9: 알찬고추장(6.5Kg/EA) | E9: 5 | F9: 35024 | G9: =E9*F9 -> 175120
A10: 7 | B10: 감자튀김 | C10: EA | D10: 냉동감자(해쉬브라운_63.7g/개 637g/EA) | E10: 6 | F10: 6116 | G10: =E10*F10 -> 36696
A11: 8 | B11: 국간장 | C11: EA | D11: 국간장(1.7L_자연숙성 1.7Kg/EA) | E11: 5 | F11: 18601 | G11: =E11*F11 -> 93005
A12: 9 | B12: 군만두 | C12: EA | D12: 정성가득군만두(1.3Kg/EA) | E12: 9 | F12: 8393 | G12: =E12*F12 -> 75537
A13: 10 | B13: 고로케 | C13: EA | D13: 고구마고로케(30g*30개입 900g/EA) | E13: 5 | F13: 7634 | G13: =E13*F13 -> 38170
A14: 11 | B14: 고구마맛탕 | C14: EA | D14: 냉동유탕고구마(4~6cm_난절 1Kg/EA) | E14: 6 | F14: 5698 | G14: =E14*F14 -> 34188
A15: 12 | B15: 고들빼기무침 | C15: EA | D15: 고들빼기무침(1Kg/EA) | E15: 5 | F15: 10406 | G15: =E15*F15 -> 52030
... A117: 114 | B117: 치즈스틱 | C117: EA | D117: 모짜렐라치즈KG/EA | E117: 5 | F117: 12760 | G117: =E117*F117 -> 63800

Sheet 정육 육계 란
A1: 2026년 4/4분기 보람의집 식재료(정육, 육계, 란등) 기초단가
A2: NO | B2: 식품명/상세식품명 | C2: 단위 | D2: 규격 | E2: 예정소요량 | F2: 기초단가 | G2: 예정총금액
B3: 계 | F3: =SUM(F4:F32) -> 788916 | G3: =SUM(G4:G32) -> 7778382
A4: 1 | B4: 계란 | C4: EA | D4: 으뜸 계란(무항생제_특란_60g*30입 1.8Kg/EA) | E4: 30 | F4: 13360 | G4: =E4*F4 -> 400800
A5: 2 | B5: 우국거리 | C5: EA | D5: 소목심(3*2*0.3cm 국거리용 KG) | E5: 20 | F5: 31000 | G5: =E5*F5 -> 620000
A6: 3 | B6: 우다짐육 | C6: EA | D6: 호주산,KG,민찌,다짐육 | E6: 10 | F6: 28240 | G6: =E6*F6 -> 282400
A7: 4 | B7: 우불고기 | C7: EA | D7: 우육(척롤):호주산,참푸드,5KG/PAC | E7: 8 | F7: 133930 | G7: =E7*F7 -> 1071440
A8: 5 | B8: 우삼겹 | C8: EA | D8: 소삼겹양지(1mm두께_슬라이스_3등분_실링포장 KG) | E8: 15 | F8: 22052 | G8: =E8*F8 -> 330780
A9: 6 | B9: 오리불고기 | C9: EA | D9: 고추장오리불고기:국내산,,1KG/PAC | E9: 10 | F9: 19240 | G9: =E9*F9 -> 192400
A10: 7 | B10: 오리훈제 | C10: EA | D10: 오메가3오리훈제슬라이스KG/EA | E10: 10 | F10: 25000 | G10: =E10*F10 -> 250000
A11: 8 | B11: 차돌박이 | C11: EA | D11: 미국산1MM슬라이스 KG/EA | E11: 10 | F11: 29910 | G11: =E11*F11 -> 299100
A12: 9 | B12: 돈불고기 | C12: EA | D12: 제육고추장불고기:국내산,,5KG/PAC | E12: 6 | F12: 66140 | G12: =E12*F12 -> 396840
A13: 10 | B13: 돈채 | C13: EA | D13: 국내산,KG,0.5*0.5*3CM,D-2,잡채용 | E13: 4 | F13: 36550 | G13: =E13*F13 -> 146200
A14: 11 | B14: 돈찌게 | C14: EA | D14: 국내산,KG,3*3*1.5,2등급이상,찌개용 | E14: 10 | F14: 18980 | G14: =E14*F14 -> 189800
A15: 12 | B15: 돈등갈비 | C15: EA | D15: 국내산,KG,1대씩절단 | E15: 40 | F15: 28110 | G15: =E15*F15 -> 1124400
... A32: 29 | B32: 쇠고기장조림 | C32: EA | D32: 우육:호주산KG/EA | E32: 5 | F32: 20350 | G32: =E32*F32 -> 101750

Sheet 수산물 건어물
A1: 2026년 4/4분기 보람의집 식재료(수산물, 건어물등) 기초단가
A2: NO | B2: 식품명/상세식품명 | C2: 단위 | D2: 규격 | E2: 예정소요량 | F2: 기초단가 | G2: 예정총금액
B3: 계 | F3: =SUM(F4:F43) -> 708353 | G3: =SUM(G4:G43) -> 5320057
A4: 1 | B4: 건미역 | C4: EA | D4: (절단_굿픽_실속 1Kg/EA) | E4: 3 | F4: 25650 | G4: =E4*F4 -> 76950
A5: 2 | B5: 건새우 | C5: EA | D5: 두절건새우(대 500g/EA) | E5: 2 | F5: 25730 | G5: =E5*F5 -> 51460
A6: 3 | B6: 구이김 | C6: EA | D6: 전장김(12~14매_60g*20봉입 1.2Kg/BOX) | E6: 7 | F6: 72809 | G6: =E6*F6 -> 509663
A7: 4 | B7: 김가루 | C7: EA | D7: 국내산 조미김가루 400G/EA | E7: 4 | F7: 20020 | G7: =E7*F7 -> 80080
A8: 5 | B8: 김자반 | C8: EA | D8: 김자반볶음(돌김 500g/EA) | E8: 8 | F8: 18634 | G8: =E8*F8 -> 149072
A9: 6 | B9: 고등어 | C9: EA | D9: 국내산,해미래,KG,구이용 | E9: 13 | F9: 9620 | G9: =E9*F9 -> 125060
A10: 7 | B10: 갈치 | C10: EA | D10: 세네갈산,KG,100G/EA,상 | E10: 10 | F10: 16170 | G10: =E10*F10 -> 161700
A11: 8 | B11: 낙지젓 | C11: EA | D11: 양념낙지젓(1Kg/EA) | E11: 8 | F11: 21809 | G11: =E11*F11 -> 174472
A12: 9 | B12: 낙지 | C12: EA | D12: 절단낙지(L 500g/EA) | E12: 14 | F12: 11820 | G12: =E12*F12 -> 165480
A13: 10 | B13: 냉동굴 | C13: EA | D13: (굿픽_깐것_수율90% 1Kg/EA) | E13: 10 | F13: 18510 | G13: =E13*F13 -> 185100
A14: 11 | B14: 동태포 | C14: EA | D14: 러시아산.kg,수작업.원물작업 | E14: 3 | F14: 20280 | G14: =E14*F14 -> 60840
A15: 12 | B15: 동태 | C15: EA | D15: 동태(내장제거_70~90g/토막 KG) | E15: 6 | F15: 8900 | G15: =E15*F15 -> 53400
... A43: 40 | B43: 해파리 | C43: EA | D43: 해파리채(염장-수율95%EA) | E43: 6 | F43: 9710 | G43: =E43*F43 -> 58260

Sheet 유제품 과일
A1: 2026년 4/4분기 보람의집 식재료(유제품,과일) 기초단가
A2: NO | B2: 식품명/상세식품명 | C2: 단위 | D2: 규격 | E2: 예정소요량 | F2: 기초단가 | G2: 예정총금액
B3: 계 | F3: =SUM(F4:F17) -> 386630 | G3: =SUM(G4:G17) -> 8770478
A4: 1 | B4: 두유 | C4: EA | D4: 검은콩깨베지밀(190ml 190g/EA) | E4: 280 | F4: 946 | G4: =E4*F4 -> 264880
A5: 2 | B5: 하루야채 | C5: EA | D5: 하루야채,200ML/EA | E5: 280 | F5: 2760 | G5: =E5*F5 -> 772800
A6: 3 | B6: 우유 | C6: EA | D6: (카톤_200ml 200g/EA) | E6: 600 | F6: 1050 | G6: =E6*F6 -> 630000
A7: 4 | B7: 마시는요거트 | C7: EA | D7: 바이오드링킹,250ML/EA | E7: 280 | F7: 1530 | G7: =E7*F7 -> 428400
A8: 5 | B8: 요플레 | C8: EA | D8: 요거트(복숭아 85g/EA) | E8: 280 | F8: 957 | G8: =E8*F8 -> 267960
A9: 6 | B9: 이오 | C9: EA | D9: (요구르트맛 190g/EA) | E9: 280 | F9: 660 | G9: =E9*F9 -> 184800
A10: 7 | B10: 감귤 | C10: BOX | D10: 감귤 5KG/BOX | E10: 40 | F10: 35000 | G10: =E10*F10 -> 1400000
A11: 8 | B11: 바나나 | C11: BOX | D11: 바나나(6수_송이_6입 13Kg/BOX) | E11: 10 | F11: 63280 | G11: =E11*F11 -> 632800
A12: 9 | B12: 포도 | C12: BOX | D12: 켐벨(3KG/BOX) | E12: 60 | F12: 20000 | G12: =E12*F12 -> 1200000
A13: 10 | B13: 배 | C13: BOX | D13: 배(상품 26~30과 15Kg/BOX) | E13: 6 | F13: 93000 | G13: =E13*F13 -> 558000
A14: 11 | B14: 토마토 | D14: 흑대추방울스테비아토마토 KG/EA | E14: 60 | F14: 19310 | G14: =E14*F14 -> 1158600
A15: 12 | B15: 사과 | C15: BOX | D15: 사과(41~45입 10Kg/BOX) | E15: 6 | F15: 142890 | G15: =E15*F15 -> 857340
A16: 13 | B16: 빵 | C16: EA | D16: 팥이빵빵단팥빵(86g/EA) | E16: 280 | F16: 1441 | G16: =E16*F16 -> 403480
A17: 14 | B17: 식빵 | C17: EA | D17: 식빵(사각_겉장포함24쪽 토스트용 750g/EA) | E17: 3 | F17: 3806 | G17: =E17*F17 -> 11418

Sheet 양곡
A1: 2026년 4/4분기 보람의집 식재료(양곡) 기초단가
A2: NO | B2: 식품명/상세식품명 | C2: 단위 | D2: 규격 | E2: 예정소요량 | F2: 기초단가 | G2: 예정총금액
B3: 계 | F3: =SUM(F4:F9) -> 209587.8 | G3: =SUM(G4:G9) -> 2083038
A4: 1 | B4: 백미 | C4: EA | D4: 국내산 단일품종 상품 20KG/포 | E4: 18 | F4: 75000 | G4: =E4*F4 -> 1350000
A5: 2 | B5: 찹쌀 | C5: EA | D5: 10KG/EA 한국 | E5: 4 | F5: 66000 | G5: =E5*F5 -> 264000
A6: 3 | B6: 서리태 | C6: EA | D6: 1KG/EA 한국 | E6: 10 | F6: 15705.8 | G6: =E6*F6 -> 157058
A7: 4 | B7: 보리쌀 | C7: EA | D7: 농협 1KG/EA | E7: 10 | F7: 7493 | G7: =E7*F7 -> 74930
A8: 5 | B8: 찰흑미 | C8: EA | D8: 농협 1KG/EA | E8: 10 | F8: 9249 | G8: =E8*F8 -> 92490
A9: 6 | B9: 팥 | D9: 국내산 KG/EA | E9: 4 | F9: 36140 | G9: =E9*F9 -> 144560

Sheet Sheet1
