Workbook
Name __SBB1: #REF!
Name __SBB1: #REF!
Name __SBB2: #REF!
Name __SBB2: #REF!
Name __SBB3: #REF!
Name __SBB3: #REF!
Name __SBB4: #REF!
Name __SBB4: #REF!
Name __SBB5: #REF!
Name __SBB5: #REF!
Name __SHH1: #REF!
Name __SHH1: #REF!
Name __SHH2: #REF!
Name __SHH2: #REF!
Name __SHH3: #REF!
Name __SHH3: #REF!
Name _0: [1]직재!#REF!
Name _0: [1]직재!#REF!
Name _1: [2]I一般比!#REF!
Name _1: [2]I一般比!#REF!
Name _1._PANEL_BD.__LP___1: #REF!
Name _1._PANEL_BD.__LP___1: #REF!
Name _15A: [3]가격조사서!$D$4:$D$11
Name _1차_94년: #N/A
Name _2: [4]J直材4!$F$5:$G$5
Name _2차결제일: #N/A
Name _3: #N/A
Name _4: #REF!
Name _4: #REF!
Name _5: '[5]설직재-1'!#REF!
Name _5: '[5]설직재-1'!#REF!
Name _6: #REF!
Name _6: #REF!
Name _7: '[5]설직재-1'!#REF!
Name _7: '[5]설직재-1'!#REF!
Name _A: #REF!
Name _A: #REF!
Name _a1: '[6]1호맨홀토공'!$R$12
Name _a100000: #REF!
Name _a100000: #REF!
Name _aab42: #REF!
Name _aab42: #REF!
Name _B140007: '[7]설직재-1'!#REF!
Name _B140007: '[7]설직재-1'!#REF!
Name _B2: '[8]단면 (2)'!$K$55
Name _CON135: #REF!
Name _CON135: #REF!
Name _CON210: #REF!
Name _CON210: #REF!
Name _CON240: #REF!
Name _CON240: #REF!
Name _dia300: [9]대로근거!#REF!
Name _dia300: [9]대로근거!#REF!
Name _dia350: [9]대로근거!#REF!
Name _dia350: [9]대로근거!#REF!
Name _DOG1: #REF!
Name _DOG1: #REF!
Name _DOG2: #REF!
Name _DOG2: #REF!
Name _DOG22: #REF!

Sheet 앞면
A1: 설계년월일 | B1: 2026년 8월 | C1: 설계자 | E1: 담당자 | G1: 팀 장 | I1: 과 장
A5: 2026년 해양쓰레기정화사업 완도군 폐기물 처리용역(5차)
A7: 1. 용역개요
A9: - 장 소 : 완도군 완도읍 해안가 일원
O10: 톤
A11: ∘ 폐기물 운반 및 처리량 : 폐합성수지류 등 (폐어망어구 등) | H11: =설계내역서!B34&""&앞면!O10 -> 250톤 | O11: ㎥
A12: 폐발포합성수지(폐스티로폼) | H12: =설계내역서!B38&""&앞면!O11 -> 300㎥
A14: - 용 역 기 간 : 착수일로부터 120일
A16: 2. 용역비
A18: 총용역비 | C18: ="금 "&NUMBERSTRING(H18,1)&"원 정" -> 금 구천육백이십팔만오천원 정 | G18: (￦ | H18: =설계내역서!E47 -> 96285000 | I18: )

Sheet 설계내역서
A1: 설 계 내 역 서
A30: =앞면!A5 -> 2026년 해양쓰레기정화사업 완도군 폐기물 처리용역(5차)
A31: 공종 | B31: 수량 | C31: 단위 | D31: 계 | F31: 노무비 | H31: 재료비 | J31: 경비 | L31: 비고
D32: 단가 | E32: 금액 | F32: 단가 | G32: 금액 | H32: 단가 | I32: 금액 | J32: 단가 | K32: 금액
A33: 1. 폐합성수지류 수거,처리 용역
A34: 1-1 폐합성수지류 처리비 | B34: ='산출근거(폐합성수지)'!BA36 -> 250 | C34: 톤 | D34: 269000 | E34: =B34*D34 -> 67250000 | F34: - | G34: - | H34: - | I34: - | J34: =D34 -> 269000 | K34: =E34 -> 67250000
A35: 1-2 폐합성수지류 수집운반비 | B35: =B34 -> 250 | C35: 톤 | D35: ='산출근거(폐합성수지)'!BH40 -> 29500 | E35: =B35*D35 -> 7375000 | F35: - | G35: - | H35: - | I35: - | J35: =D35 -> 29500 | K35: =E35 -> 7375000
A36: 소계 | D36: =SUM(D34:D35) -> 298500 | E36: =SUM(E34:E35) -> 74625000 | F36: - | G36: - | H36: - | I36: - | J36: =SUM(J34:J35) -> 298500 | K36: =SUM(K34:K35) -> 74625000
A37: 2. 폐스티로폼 수거,처리 용역
A38: 2-1 폐스티로폼 처리비 | B38: ='산출근거(폐스티로폼)'!CG63 -> 300 | C38: ㎥ | D38: ='산출근거(폐스티로폼)'!CN41 -> 40850 | E38: =B38*D38 -> 12255000 | F38: - | G38: - | H38: - | I38: - | J38: =D38 -> 40850 | K38: =E38 -> 12255000
A39: 2-2 폐스티로폼 수집운반비 | B39: =B38 -> 300 | C39: ㎥ | D39: ='산출근거(폐스티로폼)'!CN67 -> 6520.36 | E39: 652000 | F39: - | G39: - | H39: - | I39: - | J39: =D39 -> 6520.36 | K39: =E39 -> 652000
A40: 소계 | D40: =SUM(D38:D39) -> 47370.36 | E40: =SUM(E38:E39) -> 12907000 | F40: - | G40: - | H40: - | I40: - | J40: =SUM(J38:J39) -> 47370.36 | K40: =SUM(K38:K39) -> 12907000
A41: 계 | D41: =D36+D40 -> 345870.36 | E41: =E36+E40 -> 87532000 | F41: - | G41: - | H41: - | I41: - | J41: =J36+J40 -> 345870.36 | K41: =K36+K40 -> 87532000
A42: 3 .순용역비 | E42: =E41 -> 87532000 | F42: - | G42: - | H42: - | I42: - | J42: - | K42: =K41 -> 87532000
A43: 4. 순용역원가 | E43: =E41 -> 87532000
A44: 5. 공급가액 | E44: =E43 -> 87532000
A45: 6. 부가가치세 | E45: =E41*0.1 -> 8753200 | F45: (공급가액)의10%
A46: 합 계 | E46: =ROUNDDOWN(E41+E45,-3) -> 96285000 | F46: (천원미만 절삭)
A47: 7. 총용역비 | E47: =E46 -> 96285000 | F47: (공급가액 + 부가가치세)

Sheet 산출근거(폐합성수지)
B1: 산 출 근 거
B26: 산 출 근 거 | CL26: 총계 | CV26: 노무비 | DF26: 재료비 | DP26: 경 비
B28: * 산거 1호표
F32: 1. 폐합성수지류 수집운반비
I34: o | K34: 수집운반비(원) = (고정비 + 변동비 × 운반거리) × 쓰레기 추정량
K36: * | M36: ( | N36: 29200 | U36: 원/톤 | Z36: + | AB36: 25.1 | AG36: 원/톤·km | AO36: × | AQ36: 12 | AU36: km | AX36: ) | AY36: × | BA36: 250 | BE36: 톤 | BH36: = | BJ36: =(N36+AB36*AQ36)*BA36 -> 7375300 | BT36: 원
I38: o 해양쓰레기 추정량 | BA38: C | BF38: = | BH38: =BA36 -> 250 | BR38: ton
I40: o | K40: 해양쓰레기 톤당 운반비 | BF40: = | BH40: =ROUNDDOWN(N36+AB36*AQ36,-1) -> 29500 | BR40: 원/ton
G43: * 해양쓰레기 수집운반 소요예산 내역 :
H44: o 노무비 : | S44: 0 | AC44: 원/ton | AL44: × | AR44: C | BF44: = | BH44: =S44*$BH$38 -> 0 | BR44: 원 | CL44: =SUM(CV44,DF44,DP44) -> 7375000 | CV44: =BH44 -> 0 | DF44: =BH45 -> 0 | DP44: =BH46 -> 7375000
H45: o 재료비 : | S45: 0 | AC45: 원/ton | AL45: × | AR45: C | BF45: = | BH45: =S45*$BH$38 -> 0 | BR45: 원
H46: o 경 비 : | S46: =BH40 -> 29500 | AC46: 원/ton | AL46: × | AR46: C | BF46: = | BH46: =S46*$BH$38 -> 7375000 | BR46: 원
CL50: =SUM(CV50:DY50) -> 7375000 | CV50: =SUM(CV28:DE49) -> 0 | DF50: =SUM(DF28:DO49) -> 0 | DP50: =SUM(DP28:DY49) -> 7375000
B51: 산 출 근 거 | CL51: 총계 | CV51: 노무비 | DF51: 재료비 | DP51: 경 비
B53: * 산거 2호표
F57: 2. 폐합성수지류 처리비
I59: o | K59: 처리비(원)=방치폐기물 처리이행보증보험금 산출을 위한 폐기물의 종류별 처리단가(원) × 쓰레기 추정량(톤)
K61: * | M61: ( | N61: 269000 | V61: 원/톤 | AA61: × | AC61: =BA36 -> 250 | AG61: 톤 | AJ61: = | AL61: =N61*AC61 -> 67250000 | AW61: 원
I63: o | K63: 해양쓰레기 추정량 | BA63: C | BF63: = | BH63: =AC61 -> 250 | BR63: ton
I65: o | K65: 해양쓰레기 톤당 처리비 | BF65: = | BH65: =N61 -> 269000 | BR65: 원/ton
G68: * 해양쓰레기 위탁처리 소요예산 내역 :
H69: o 노무비 : | S69: 0 | AC69: 원/ton | AL69: × | AR69: C | BF69: = | BH69: =S69*$BH$38 -> 0 | BT69: 원 | CL69: =SUM(CV69,DF69,DP69) -> 67250000 | CV69: =BH69 -> 0 | DF69: =BH70 -> 0 | DP69: =BH71 -> 67250000
H70: o 재료비 : | S70: 0 | AC70: 원/ton | AL70: × | AR70: C | BF70: = | BH70: =S70*$BH$38 -> 0 | BT70: 원
H71: o 경 비 : | S71: =BH65 -> 269000 | AC71: 원/ton | AL71: × | AR71: C | BF71: = | BH71: =S71*$BH$38 -> 67250000 | BT71: 원
CL75: =SUM(CV75:DY75) -> 67250000 | CV75: =SUM(CV53:DE74) -> 0 | DF75: =SUM(DF53:DO74) -> 0 | DP75: =SUM(DP53:DY74) -> 67250000

Sheet 산출근거(폐스티로폼)
B1: 산 출 근 거
B27: 산 출 근 거 | DR27: 총계 | EB27: 노무비 | EL27: 재료비 | EV27: 경 비
B29: * 산거 1호표
F33: 1. 폐스티로폼 부표 처리비
I35: o | K35: 처리비(원)=방치폐기물 처리이행보증보험금 산출을 위한 폐기물의 종류별 처리단가(원/톤) × 폐스티로폼 비중(톤/㎥) × 쓰레기 추정량(㎥)
K37: * | N37: ( | O37: 269000 | W37: 원/톤 | AB37: × | AD37: 0.15 | AI37: 톤/㎥ | AN37: × | AP37: =CG63 -> 300 | AT37: ㎥ | AW37: = | AY37: =O37*AD37*AP37 -> 12105000 | BI37: 원
I39: o | K39: 폐스티로폼 부표 추정량 | CG39: C | CL39: = | CN39: =AP37 -> 300 | CX39: ㎥
I41: o | K41: 폐스티로폼 부표 ㎥당 처리비 | CL41: = | CN41: =O37*AD37+500 -> 40850 | CX41: 원/㎥
G44: * 폐스티로폼 부표 위탁처리 소요예산 내역 :
H45: o 노무비 : | T45: 0 | AP45: 원/ton | AY45: × | BD45: C | CL45: = | CN45: =T45*CN41 -> 0 | CZ45: 원 | DR45: =SUM(EB45,EL45,EV45) -> 12255000 | EB45: =CN45 -> 0 | EL45: =CN46 -> 0 | EV45: =CN47 -> 12255000
H46: o 재료비 : | T46: 0 | AP46: 원/ton | AY46: × | BD46: C | CL46: = | CN46: =T46*CN41 -> 0 | CZ46: 원
H47: o 경 비 : | T47: =CN41 -> 40850 | AP47: 원/㎥ | AY47: × | BD47: C | CL47: = | CN47: =T47*CN39 -> 12255000 | CZ47: 원
DR51: =SUM(EB51:FE51) -> 12255000 | EB51: =SUM(EB29:EK50) -> 0 | EL51: =SUM(EL29:EU50) -> 0 | EV51: =SUM(EV29:FE50) -> 12255000
B53: 산 출 근 거 | DR53: 총계 | EB53: 노무비 | EL53: 재료비 | EV53: 경 비
B55: * 산거 2호표
F59: 2. 폐스티로폼 부표 수집운반비
I61: o | K61: 수집운반비(원) = {(고정비 + 변동비 × 운반거리) × 폐스티로폼 비중} × 쓰레기 추정량
K63: * | M63: { | N63: ( | O63: 40900 | V63: 원/톤 | AA63: + | AC63: 352 | AT63: 원/톤·km | BA63: × | BC63: 12 | BG63: km | BJ63: / | BM63: 10km | BP63: ) | BR63: × | BT63: 0.15 | BX63: 톤/㎥ | CB63: } | CE63: × | CG63: 300 | CK63: ㎥ | CN63: = | CP63: =((O63+AC63*BC63/10)*BT63)*CG63 -> 1859508 | CZ63: 원
I65: o | K65: 폐스티로폼 부표 추정량 | CG65: C | CL65: = | CN65: =CG63 -> 300 | CX65: ㎥
I67: o | K67: 폐스티로폼 부표 ㎥당 운반비 | CL67: = | CN67: =(O63+AC63*BC63/10)*BT63+322 -> 6520.36 | CX67: 원/㎥
G70: * 폐스티로폼 부표 수집운반 소요예산 내역 :
H71: o 노무비 : | T71: 0 | AP71: 원/ton | AY71: × | BD71: C | CL71: = | CN71: =T71*CN65 -> 0 | CX71: 원 | DR71: =SUM(EB71,EL71,EV71) -> 1956108 | EB71: =CN71 -> 0 | EL71: =CN72 -> 0 | EV71: =CN73 -> 1956108
H72: o 재료비 : | T72: 0 | AP72: 원/ton | AY72: × | BD72: C | CL72: = | CN72: =T72*CN65 -> 0 | CX72: 원
H73: o 경 비 : | T73: =CN67 -> 6520.36 | AP73: 원/㎥ | AY73: × | BD73: C | CL73: = | CN73: =T73*CN65 -> 1956108 | CX73: 원
DR77: =SUM(EB77:FE77) -> 1956108 | EB77: =SUM(EB55:EK76) -> 0 | EL77: =SUM(EL55:EU76) -> 0 | EV77: =SUM(EV55:FE76) -> 1956108

Sheet 적용기준
A1: 해양쓰레기 처리비 단가적용 근거(2027년에 바뀔예정)
H17: =설계내역서!E47 -> 96285000
A31: 해양쓰레기 수집운반비 근거
A32: 1. 지정폐기물 공공처리시설 반입수수료
BY33: [시행 2016. 1. 1.] [환경부고시 제2015-200호, 2015. 10. 7., 타법개정.]

Sheet 위탁처리단가 종합
A1: 2026년 해양쓰레기 위탁처리 단가
A2: (단위 : 원/톤, 부가세 별도)
A3: 구분 | B3: 운반비 (①) | C3: 처리단가 (②) | D3: 수집운반 기준거리(km) | E3: 도선료 (③) | F3: 중간‧최종‧종합 재활용 위탁처리비 (①+②+③) | G3: 폐스티로폼 위탁처리비 (원/㎥)
A4: 완도 | B4: 29500 | C4: 269000 | D4: 12 | F4: =B4+C4+E4 -> 298500 | G4: 47370
A5: 금일 | B5: 30400 | C5: 269000 | D5: 48 | E5: 10800 | F5: =B5+C5+E5 -> 310200 | G5: 49030
A6: 노화 | B6: 29770 | C6: 269000 | D6: 23 | E6: 14400 | F6: =B6+C6+E6 -> 313170 | G6: 48730
A7: 군외 | B7: 29720 | C7: 269000 | D7: 21 | F7: =B7+C7+E7 -> 298720 | G7: 47370
A8: 신지 | B8: 29770 | C8: 269000 | D8: 23 | F8: =B8+C8+E8 -> 298770 | G8: 47370
A9: 고금 | B9: 30100 | C9: 269000 | D9: 36 | F9: =B9+C9+E9 -> 299100 | G9: 47370
A10: 약산 | B10: 30600 | C10: 269000 | D10: 56 | F10: =B10+C10+E10 -> 299600 | G10: 47980
A11: 청산 | B11: 29600 | C11: 269000 | D11: 16 | E11: 20000 | F11: =B11+C11+E11 -> 318600 | G11: 51640
A12: 소안 | B12: 29770 | C12: 269000 | D12: 23 | E12: 16000 | F12: =B12+C12+E12 -> 314770 | G12: 49310
A13: 금당 | B13: 31880 | C13: 269000 | D13: =ROUNDDOWN((48+5.7)*2,0) -> 107 | E13: 15000 | F13: =B13+C13+E13 -> 315880 | G13: 50380
A14: 보길 | B14: 30100 | C14: 269000 | D14: 36 | E14: 14400 | F14: =B14+C14+E14 -> 313500 | G14: 49700
A15: 생일 | B15: 30880 | C15: 269000 | D15: =ROUNDDOWN((33+0.5)*2,0) -> 67 | E15: 10800 | F15: =B15+C15+E15 -> 310680 | G15: 48630
A16: 노화 넙도 내리 | B16: 30320 | C16: 269000 | D16: 45 | E16: 30800 | F16: =B16+C16+E16 -> 330120 | G16: 50380
A17: ※ 폐스티로폼 위탁처리 시 5톤 폐기물 차량 기준 만재 적재량은 26㎥를 기준으로 산정
