Workbook
Name ___A999999: #REF!
Name ___A999999: #REF!
Name ___LL1: #REF!
Name ___LL1: #REF!
Name ___RD5: [1]교각계산!$K$86
Name ___SBB1: #REF!
Name ___SBB2: #REF!
Name ___SBB3: #REF!
Name ___SBB4: #REF!
Name ___SBB5: #REF!
Name ___SHH1: #REF!
Name ___SHH2: #REF!
Name ___SHH3: #REF!
Name ___XS1: [1]교각계산!$M$40
Name __A183154: #REF!
Name __A183154: #REF!
Name __A999999: #REF!
Name __A999999: #REF!
Name __A999999: #REF!
Name __A999999: #REF!
Name __A999999: #REF!
Name __A999999: #REF!
Name __LL1: #REF!
Name __LL1: #REF!
Name __LL1: #REF!
Name __LL1: #REF!
Name __LL1: #REF!
Name __PH2: '[3]기둥(원형)'!#REF!
Name __PNO10: [4]INPUT!#REF!
Name __PNO3: [4]INPUT!#REF!
Name __PNO4: [4]INPUT!#REF!
Name __PNO5: [4]INPUT!#REF!
Name __PNO6: [4]INPUT!#REF!
Name __PNO7: [4]INPUT!#REF!
Name __PNO8: [4]INPUT!#REF!
Name __PNO9: [4]INPUT!#REF!
Name __RD5: [5]교각계산!$K$86
Name __SBB1: #REF!
Name __SBB1: #REF!
Name __SBB2: #REF!
Name __SBB2: #REF!
Name __SBB3: #REF!
Name __SBB3: #REF!
Name __SBB4: #REF!
Name __SBB5: #REF!
Name __SHH1: #REF!
Name __SHH2: #REF!
Name __SHH3: #REF!
Name __XS1: [5]교각계산!$M$40
Name _0: [6]직재!#REF!
Name _01: #REF!
Name _01: #REF!
Name _02: #REF!
Name _02: #REF!
Name _03: #REF!
Name _03: #REF!
Name _1: #REF!
Name _1: #REF!
Name _1: #REF!
Name _1: #REF!

Sheet 1.사업개요
A4: 2026년 공사관리 지하수시설물 원상복구공사 외주시행계획서
A10: 2026. 8.
A20: 강원지역본부 지하수지질부
A24: 1. 사업시행 개요
A26: 가. 사 업 명 : | C26: 2026년 공사관리 지하수시설물 원상복구공사
A27: 나. 목 적 : | C27: 농업생산기반시설폐지로 이용종료 시설의 지하환경 오염 예방을 위한 원상복구
A28: 다. 위 치 : | C28: 강원특별자치도 춘천시 및 횡성군 일원
A29: 라. 사 업 량 : | C29: 원상복구 2개소
A30: 마. 사업기간 : | C30: 계약일로부터 27일간
A31: 바. 사 업 비: | C31: ='4. 공사비총괄표'!G34 -> 10571000 | D31: 원
C33: 301290000

Sheet 2.조사량 및 시행방법
B1: 2. 조사량 및 시행방법
B2: 조사항목 | C2: 조사공종 | D2: 조사량 | E2: 시행방법 | F2: 비 고
B3: 공사관리관정 유지관리
B4: 1.지하수 수질검사 | C4: - 지하수 수질 채취 및 분석 | D4: ='2-1.사업수량표'!B6 -> 43 | F4: - 지하수 수질보전을 지속적으로 파악하여 국민보건 위생상 안전하고 깨끗한 지하수를 사용하기 위함
B5: 2. 지하수영향조사 | C5: - 연장허가기간이 도래한 지하수관정에 대한 영향조사 | D5: ='2-1.사업수량표'!D6 -> 37 | E5: 외주시행 | F5: - 공사관리 관정의 수리 및 정비를 통해 농업기반시설의 선량한 유지관리 도모
B6: 3. 지하수사후관리 | C6: -양수시설 인양세척 및 주변정리 - 취수정내부 고압세척 - 수중모터 및 동력선 점검 - 양수장옥, 방호시설 등 도색 | D6: ='2-1.사업수량표'!E6 -> 13 | F6: - 지하수시설에 대한 법적 시설물 및 안내표지판 설치를 통한 지하수시설물의 효율적 관리로 원활한 영농용수 공급을 위함
B7: 4. 원상복구(폐공) | C7: - 도시계획 편입 등 목적을 상실한 관정에 대한 원상복구 등 | D7: ='2-1.사업수량표'!F6 -> 2

Sheet 2-1.사업수량표
A1: 2-1. 2026년 사업수량표(지사별)
A3: 지사별
C4: 외주 사업량
B5: 수질검사 | C5: 계 | D5: 영향조사 | E5: 사후관리 | F5: 원상복구
A6: 계 | B6: =SUM(B7:B11) -> 43 | C6: =SUM(C7:C11) -> 52 | D6: =SUM(D7:D11) -> 37 | E6: =SUM(E7:E11) -> 13 | F6: =SUM(F7:F11) -> 2
A7: 홍천·춘천지사 | B7: 0 | C7: =SUM(D7:F7) -> 23 | D7: ='2-3.지구별내역(지하수영향조사)'!C5 -> 17 | E7: ='2-4.지구별내역(지하수사후관리)'!C6 -> 4 | F7: ='2. 관정내역'!C4 -> 2
A8: 원주지사 | B8: ='2-2.지구별내역(정기수질검사)'!C50 -> 1 | C8: =SUM(D8:F8) -> 0 | D8: 0 | E8: 0 | F8: 0
A9: 강릉지사 | B9: ='2-2.지구별내역(정기수질검사)'!C44 -> 2 | C9: =SUM(D9:F9) -> 2 | D9: ='2-3.지구별내역(지하수영향조사)'!C43 -> 1 | E9: ='2-4.지구별내역(지하수사후관리)'!C11 -> 1 | F9: 0
A10: 속초·고성·양양지사 | B10: ='2-2.지구별내역(정기수질검사)'!C47 -> 2 | C10: =SUM(D10:F10) -> 0 | D10: 0 | E10: 0 | F10: 0
A11: 철원·화천지사 | B11: ='2-2.지구별내역(정기수질검사)'!C5 -> 38 | C11: =SUM(D11:F11) -> 27 | D11: ='2-3.지구별내역(지하수영향조사)'!C23 -> 19 | E11: ='2-4.지구별내역(지하수사후관리)'!C13 -> 8 | F11: 0

Sheet 2-2.지구별내역(영향조사)
A1: 2-2. 지구별 내역(영향조사)
A2: 사업구분 | B2: 관할 지사 | C2: 시설명 | D2: 시설 형태 | E2: 위치 | I2: 허가/신고번호 | J2: 허가 신고량 (m3/D) | K2: 유효기간시작일 | L2: 유효기간만료일 | M2: 비 고
E3: 시군 | F3: 읍면 | G3: 동리 | H3: 지번
A4: - 영향조사 소계 | C4: =COUNTA(C5:C25) -> 21 | D4: 개소
A5: 영향조사 | B5: 철원 | C5: 암반20호 | D5: 암반 | E5: 철원군 | F5: 철원읍 | G5: 내포리 | H5: 2-4 | I5: 제1200200016호 | J5: 700 | K5: 43318 | L5: 45112 | M5: 연장허가
C6: 암반38호 | D6: 암반 | E6: 철원군 | F6: 동송읍 | G6: 이평리 | H6: 1521 | I6: 제1200200026호 | J6: 400 | K6: 43318 | L6: 45112 | M6: ″
C7: 암반40호 | D7: 암반 | E7: 철원군 | F7: 동송읍 | G7: 오덕리 | H7: 3460 | I7: 제1200200028호 | J7: 1100 | K7: 43318 | L7: 45112 | M7: ″
C8: 암반41호 | D8: 암반 | E8: 철원군 | F8: 동송읍 | G8: 관우리 | H8: 791-1 | I8: 제1200200029호 | J8: 600 | K8: 43318 | L8: 45112 | M8: ″
C9: 암반42호 | D9: 암반 | E9: 철원군 | F9: 동송읍 | G9: 관우리 | H9: 1655 | I9: 제1200200030호 | J9: 700 | K9: 43318 | L9: 45112 | M9: ″
C10: 암반43호 | D10: 암반 | E10: 철원군 | F10: 동송읍 | G10: 대위리 | H10: 225-2 | I10: 제1200200031호 | J10: 650 | K10: 43318 | L10: 45112 | M10: ″
C11: 암반44호 | D11: 암반 | E11: 철원군 | F11: 동송읍 | G11: 관우리 | H11: 734-2 | I11: 제1200200032호 | J11: 500 | K11: 43318 | L11: 45112 | M11: ″
C12: 암반45호 | D12: 암반 | E12: 철원군 | F12: 동송읍 | G12: 상노리 | H12: 1246 | I12: 제1200200033호 | J12: 740 | K12: 43318 | L12: 45112 | M12: ″
C13: 암반48호 | D13: 암반 | E13: 철원군 | F13: 동송읍 | G13: 오지리 | H13: 1778 | I13: 제1200200035호 | J13: 650 | K13: 43318 | L13: 45112 | M13: ″
C14: 암반49호 | D14: 암반 | E14: 철원군 | F14: 동송읍 | G14: 강산리 | H14: 2485 | I14: 제1200200036호 | J14: 650 | K14: 43318 | L14: 45112 | M14: ″
C15: 암반50호 | D15: 암반 | E15: 철원군 | F15: 동송읍 | G15: 강산리 | H15: 2997 | I15: 제1200200045호 | J15: 850 | K15: 43318 | L15: 45112 | M15: ″
C16: 암반51호 | D16: 암반 | E16: 철원군 | F16: 동송읍 | G16: 하갈리 | H16: 1622 | I16: 제1200200037호 | J16: 370 | K16: 43318 | L16: 45112 | M16: ″
C17: 암반52호 | D17: 암반 | E17: 철원군 | F17: 동송읍 | G17: 하갈리 | H17: 1134 | I17: 제1200200038호 | J17: 800 | K17: 43318 | L17: 45112 | M17: ″
... C25: 암반60호 | D25: 암반 | E25: 철원군 | F25: 동송읍 | G25: 오지리 | H25: 159 | I25: 제2200100125호 | J25: 600 | K25: 43318 | L25: 45112 | M25: ″

Sheet 2-2.지구별내역(정기수질검사)
A1: 2-2. 지구별 내역(정기수질검사)
A2: 사업구분 | B2: 관할지사 | C2: 시설명 | D2: 사용형태 | E2: 위치 | I2: 허가번호 | J2: 양수능력 (㎥/D) | K2: 최근 수질검사 이행종료일
E3: 시군 | F3: 읍면 | G3: 동리 | H3: 지번
A4: 수질검사 계 | C4: =C5+C44+C47+C50 -> 43 | D4: 개소
B5: 소계 | C5: =COUNTA(C6:C43) -> 38 | D5: 개소
B6: 철원·화천 (38) | C6: 암반49호 | D6: 암반 | E6: 철원군 | F6: 동송읍 | G6: 강산리 | H6: 2485 | I6: 제1200200036호 | J6: 650 | K6: 45085
C7: 암반55호 | D7: 암반 | E7: 철원군 | F7: 동송읍 | G7: 강산리 | H7: 2493 | I7: 제1200200041호 | J7: 700 | K7: 45085
C8: 암반54호 | D8: 암반 | E8: 철원군 | F8: 동송읍 | G8: 강산리 | H8: 2506 | I8: 제1200200040호 | J8: 600 | K8: 45085
C9: 암반50호 | D9: 암반 | E9: 철원군 | F9: 동송읍 | G9: 강산리 | H9: 2997 | I9: 제1200200045호 | J9: 850 | K9: 45085
C10: 암반56호 | D10: 암반 | E10: 철원군 | F10: 동송읍 | G10: 관우리 | H10: 518 | I10: 제2200100122호 | J10: 400 | K10: 45085
C11: 암반44호 | D11: 암반 | E11: 철원군 | F11: 동송읍 | G11: 관우리 | H11: 734-2 | I11: 제1200200032호 | J11: 500 | K11: 45085
C12: 암반41호 | D12: 암반 | E12: 철원군 | F12: 동송읍 | G12: 관우리 | H12: 791-1 | I12: 제1200200029호 | J12: 600 | K12: 45085
C13: 암반42호 | D13: 암반 | E13: 철원군 | F13: 동송읍 | G13: 관우리 | H13: 1655 | I13: 제1200200030호 | J13: 700 | K13: 45085
C14: 암반43호 | D14: 암반 | E14: 철원군 | F14: 동송읍 | G14: 대위리 | H14: 193-24 | I14: 제1200200031호 | J14: 650 | K14: 45085
C15: 암반45호 | D15: 암반 | E15: 철원군 | F15: 동송읍 | G15: 상노리 | H15: 1246 | I15: 제1200200033호 | J15: 740 | K15: 45085
C16: 암반40호 | D16: 암반 | E16: 철원군 | F16: 동송읍 | G16: 오덕리 | H16: 3460 | I16: 제1200200028호 | J16: 1100 | K16: 45085
C17: 암반60호 | D17: 암반 | E17: 철원군 | F17: 동송읍 | G17: 오지리 | H17: 159 | I17: 제2200100125호 | J17: 600 | K17: 45085
C18: 암반48호 | D18: 암반 | E18: 철원군 | F18: 동송읍 | G18: 오지리 | H18: 1778 | I18: 제1200200035호 | J18: 650 | K18: 45085
C19: 암반38호 | D19: 암반 | E19: 철원군 | F19: 동송읍 | G19: 이평리 | H19: 1521 | I19: 제1200200026호 | J19: 400 | K19: 45085
C20: 암반52호 | D20: 암반 | E20: 철원군 | F20: 동송읍 | G20: 하갈리 | H20: 1134 | I20: 제1200200038호 | J20: 800 | K20: 45085
C21: 암반53호 | D21: 암반 | E21: 철원군 | F21: 동송읍 | G21: 하갈리 | H21: 1135 | I21: 제1200200039호 | J21: 800 | K21: 45085
C22: 암반51호 | D22: 암반 | E22: 철원군 | F22: 동송읍 | G22: 하갈리 | H22: 1622 | I22: 제1200200037호 | J22: 370 | K22: 45085
C23: 암반59호 | D23: 암반 | E23: 철원군 | F23: 동송읍 | G23: 하갈리 | H23: 1626 | I23: 제2200100123호 | J23: 600 | K23: 45085
C24: 암반20호 | D24: 암반 | E24: 철원군 | F24: 철원읍 | G24: 내포리 | H24: 2-4 | I24: 제1200200016호 | J24: 700 | K24: 45085
C25: 암반58호 | D25: 암반 | E25: 철원군 | F25: 동송읍 | G25: 관우리 | H25: 6 | I25: 제2200100121호 | J25: 600 | K25: 45090
C26: 암반57호 | D26: 암반 | E26: 철원군 | F26: 동송읍 | G26: 대위리 | H26: 205-7 | I26: 제2200100124호 | J26: 400 | K26: 45090
C27: 암반64호 | D27: 암반 | E27: 철원군 | F27: 동송읍 | G27: 강산리 | H27: 2931 | I27: 제2201700002호 | J27: 145 | K27: 45139
C28: 암반63호 | D28: 암반 | E28: 철원군 | F28: 동송읍 | G28: 강산리 | H28: 2998 | I28: 제2201600169호 | J28: 145 | K28: 45139
C29: 암반27호 | D29: 암반 | E29: 철원군 | F29: 동송읍 | G29: 상노리 | H29: 1239 | I29: 제2199800006호 | J29: 150 | K29: 45139
C30: 암반26호 | D30: 암반 | E30: 철원군 | F30: 동송읍 | G30: 오지리 | H30: 1879 | I30: 제2199800005호 | J30: 150 | K30: 45139
C31: 암반31호 | D31: 암반 | E31: 철원군 | F31: 철원읍 | G31: 사요리 | H31: 921-3 | I31: 제2199800010호 | J31: 144 | K31: 45139
C32: 암반30호 | D32: 암반 | E32: 철원군 | F32: 철원읍 | G32: 사요리 | H32: 922-3 | I32: 제2199800011호 | J32: 144 | K32: 45139
C33: 암반28호 | D33: 암반 | E33: 철원군 | F33: 철원읍 | G33: 외촌리 | H33: 677 | I33: 제2199800009호 | J33: 150 | K33: 45139
C34: 암반29호 | D34: 암반 | E34: 철원군 | F34: 철원읍 | G34: 외촌리 | H34: 687-9 | I34: 제2199800008호 | J34: 144 | K34: 45139
C35: 암반70호 | D35: 암반 | E35: 철원군 | F35: 철원읍 | G35: 중세리 | H35: 497-8 | I35: 제2201600157호 | J35: 145 | K35: 45139
C36: 암반69호 | D36: 암반 | E36: 철원군 | F36: 갈말읍 | G36: 정연리 | H36: 1713 | I36: 제2201700032호 | J36: 145 | K36: 45140
C37: 암반66호 | D37: 암반 | E37: 철원군 | F37: 동송읍 | G37: 관우리 | H37: 930-2 | I37: 제2201600186호 | J37: 145 | K37: 45140
C38: 암반65호 | D38: 암반 | E38: 철원군 | F38: 동송읍 | G38: 관우리 | H38: 1949 | I38: 제2201600184호 | J38: 145 | K38: 45140
C39: 암반68호 | D39: 암반 | E39: 철원군 | F39: 동송읍 | G39: 이길리 | H39: 481-1 | I39: 제2201700033호 | J39: 145 | K39: 45140
C40: 암반72호 | D40: 암반 | E40: 철원군 | F40: 동송읍 | G40: 하갈리 | H40: 1633 | I40: 제2201700140호 | J40: 145 | K40: 45140
...

Sheet 2-3.지구별내역(지하수영향조사)
A1: 2-3. 지구별 내역(지하수영향조사)
A2: 사업구분 | B2: 관할지사 | C2: 시설명 | D2: 사용형태 | E2: 위치 | I2: 신고 및 허가번호 | J2: 양수능력 (㎥/D) | K2: 심도 | L2: 펌프설치 심도 | M2: 구경 | N2: 토출관구경(mm)
E3: 시군 | F3: 읍면 | G3: 동리 | H3: 지번
A4: 지하수영향조사 (37) | C4: =C5+C23+C43 -> 37 | D4: 개소
A5: 지하수영향조사 (37) | B5: 소계 | C5: =COUNTA(C6:C22) -> 17 | D5: 개소
B6: 홍천·춘천 (17) | C6: 금산 | D6: 암반 | E6: 춘천시 | F6: 서면 | G6: 금산리 | H6: 1188 | I6: 1201100006 | J6: 350 | K6: 70 | L6: 65 | M6: 250 | N6: 80
C7: 용산2 | D7: 암반 | E7: 춘천시 | G7: 신동 | H7: 989-2 | I7: 16-03 | J7: 380 | K7: 220 | L7: 54 | M7: 250 | N7: 50
C8: 신동 | D8: 암반 | E8: 춘천시 | G8: 신동 | H8: 1308-2 | I8: 1201100008 | J8: 350 | K8: 70 | L8: 50 | M8: 200 | N8: 80
C9: 산천1 | D9: 암반 | E9: 춘천시 | F9: 신북읍 | G9: 산천리 | H9: 926 | I9: 1201100011 | J9: 450 | K9: 74 | L9: 40 | M9: 200 | N9: 80
C10: 산천2 | D10: 암반 | E10: 춘천시 | F10: 신북읍 | G10: 산천리 | H10: 1081 | I10: 1201100010 | J10: 300 | K10: 70 | L10: 60 | M10: 200 | N10: 80
C11: 용산 | D11: 암반 | E11: 춘천시 | F11: 신북읍 | G11: 용산리 | H11: 212-3 | I11: 1201100009 | J11: 180 | K11: 90 | L11: 70 | M11: 200 | N11: 60
C12: 유포1 | D12: 암반 | E12: 춘천시 | F12: 신북읍 | G12: 유포리 | H12: 897 | I12: 1201100013 | J12: 430 | K12: 65 | L12: 54 | M12: 200 | N12: 80
C13: 율문2 | D13: 암반 | E13: 춘천시 | F13: 신북읍 | G13: 율문리 | H13: 595 | I13: 1201100015 | J13: 500 | K13: 70 | L13: 50 | M13: 200 | N13: 60
C14: 율문1 | D14: 암반 | E14: 춘천시 | F14: 신북읍 | G14: 율문리 | H14: 695 | I14: 1201100014 | J14: 480 | K14: 67 | L14: 42 | M14: 200 | N14: 80
C15: 천전1 | D15: 암반 | E15: 춘천시 | F15: 신북읍 | G15: 천전리 | H15: 957 | I15: 1201100017 | J15: 380 | K15: 70 | L15: 54 | M15: 200 | N15: 80
C16: 천전2 | D16: 암반 | E16: 춘천시 | F16: 신북읍 | G16: 천전리 | H16: 957 | I16: 1201100016 | J16: 400 | K16: 73 | L16: 50 | M16: 200 | N16: 80
C17: 개운 | D17: 암반 | E17: 홍천군 | F17: 영귀미면 | G17: 개운리 | H17: 813-2 | I17: 1200100006 | J17: 200 | K17: 80 | L17: 65 | M17: 250 | N17: 50
C18: 좌운1 | D18: 암반 | E18: 홍천군 | F18: 영귀미면 | G18: 좌운리 | H18: 1893 | I18: 1201100012 | J18: 1052 | K18: 70 | L18: 54 | M18: 200 | N18: 80
C19: 좌운4 | D19: 암반 | E19: 홍천군 | F19: 영귀미면 | G19: 좌운리 | H19: 1955 | I19: 1200100005 | J19: 250 | K19: 80 | L19: 60 | M19: 200 | N19: 50
C20: 좌운3 | D20: 암반 | E20: 홍천군 | F20: 영귀미면 | G20: 좌운리 | H20: 2183 | I20: 1201100009 | J20: 150 | K20: 70 | L20: 40 | M20: 200 | N20: 65
C21: 후동 | D21: 암반 | E21: 홍천군 | F21: 영귀미면 | G21: 후동리 | H21: 802 | I21: 1201100011 | J21: 400 | K21: 70 | L21: 54 | M21: 200 | N21: 80
C22: 하오안1 | D22: 암반 | E22: 홍천군 | F22: 홍천읍 | G22: 하오안리 | H22: 1032-10 | I22: 1201100008 | J22: 150 | K22: 70 | L22: 60 | M22: 200 | N22: 65
B23: 소계 | C23: =COUNTA(C24:C42) -> 19 | D23: 개소
B24: 철원·화천 (19) | C24: 암반01호 | D24: 암반 | E24: 철원군 | F24: 동송읍 | G24: 관우리 | H24: 1684 | I24: 제1200200002호 | J24: 1500 | K24: 81 | L24: 30 | M24: 250 | N24: 100
C25: 암반02호 | D25: 암반 | E25: 철원군 | F25: 동송읍 | G25: 관우리 | H25: 1642 | I25: 제1200200003호 | J25: 800 | K25: 73 | L25: 30 | M25: 250 | N25: 80
C26: 암반04호 | D26: 암반 | E26: 철원군 | F26: 동송읍 | G26: 관우리 | H26: 798-1 | I26: 제1200200004호 | J26: 1200 | K26: 68 | L26: 42 | M26: 250 | N26: 80
C27: 암반05호 | D27: 암반 | E27: 철원군 | F27: 동송읍 | G27: 관우리 | H27: 780-1 | I27: 제1200200005호 | J27: 1500 | K27: 66.32 | L27: 45 | M27: 250 | N27: 100
C28: 암반06호 | D28: 암반 | E28: 철원군 | F28: 동송읍 | G28: 관우리 | H28: 1670 | I28: 제1200200006호 | J28: 600 | K28: 88 | L28: 42 | M28: 250 | N28: 80
C29: 암반07호 | D29: 암반 | E29: 철원군 | F29: 동송읍 | G29: 이평리 | H29: 1529 | I29: 제1200200043호 | J29: 1500 | K29: 70 | L29: 36 | M29: 250 | N29: 100
C30: 암반10호 | D30: 암반 | E30: 철원군 | F30: 동송읍 | G30: 관우리 | H30: 778 | I30: 제1200200007호 | J30: 1500 | K30: 79 | L30: 24.5 | M30: 250 | N30: 100
C31: 암반11호 | D31: 암반 | E31: 철원군 | F31: 동송읍 | G31: 중강리 | H31: 1118-1 | I31: 제1200200008호 | J31: 1500 | K31: 72.9 | L31: 72 | M31: 250 | N31: 80
C32: 암반12호 | D32: 암반 | E32: 철원군 | F32: 동송읍 | G32: 강산리 | H32: 1691 | I32: 제1200200009호 | J32: 800 | K32: 73 | L32: 63 | M32: 250 | N32: 80
C33: 암반13호 | D33: 암반 | E33: 철원군 | F33: 동송읍 | G33: 강산리 | H33: 1116-1 | I33: 제1200200010호 | J33: 900 | K33: 71 | L33: 66 | M33: 250 | N33: 80
C34: 암반14호 | D34: 암반 | E34: 철원군 | F34: 철원읍 | G34: 외촌리 | H34: 496-1 | I34: 제1200200044호 | J34: 690 | K34: 69.71 | L34: 54 | M34: 250 | N34: 65
C35: 암반15호 | D35: 암반 | E35: 철원군 | F35: 철원읍 | G35: 내포리 | H35: 481-1 | I35: 제1200200011호 | J35: 790 | K35: 65 | L35: 60 | M35: 250 | N35: 80
C36: 암반16호 | D36: 암반 | E36: 철원군 | F36: 동송읍 | G36: 이평리 | H36: 937 | I36: 제1200200012호 | J36: 1200 | K36: 43 | L36: 36 | M36: 200 | N36: 80
C37: 암반17호 | D37: 암반 | E37: 철원군 | F37: 동송읍 | G37: 이평리 | H37: 928 | I37: 제1200200013호 | J37: 640 | K37: 45.63 | L37: 36 | M37: 200 | N37: 65
C38: 암반18호 | D38: 암반 | E38: 철원군 | F38: 동송읍 | G38: 오덕리 | H38: 1609 | I38: 제1200200014호 | J38: 1200 | K38: 70 | L38: 45 | M38: 200 | N38: 100
C39: 암반36호 | D39: 암반 | E39: 철원군 | F39: 동송읍 | G39: 이평리 | H39: 1525 | I39: 제1200200024호 | J39: 400 | K39: 37 | L39: 30 | M39: 250 | N39: 65
C40: 암반37호 | D40: 암반 | E40: 철원군 | F40: 동송읍 | G40: 이평리 | H40: 1528 | I40: 제1200200025호 | J40: 400 | K40: 37.3 | L40: 33 | M40: 200 | N40: 65
...

Sheet 2-4.지구별내역(지하수사후관리)
A1: 2-4. 지구별 내역(지하수사후관리)
A2: 사업구분 | B2: 관할지사 | C2: 시설명 | D2: 사용형태 | E2: 위치 | I2: 시 설 제 원 | P2: 사 업 량
I3: 신고 및 허가번호 | J3: 양수능력 | K3: 굴착심도 | L3: 굴착지름 | M3: 모터마력 | N3: 설치심도 | O3: 수위측정관 | P3: 기계기 구설치 | Q3: 펌프설 치인양 | R3: 에어 써징 | S3: 검사및 정 비 | T3: 수위측정 관 설 치 | U3: 운반비 | V3: 지하수 안내문 | W3: 수중TV검층
E4: 시군 | F4: 읍면 | G4: 동리 | H4: 지번 | J4: (㎥/D) | K4: (m) | L4: (mm) | M4: (H.P.) | N4: (m) | O4: (m) | P4: (회) | Q4: (회) | R4: (m) | S4: (회) | T4: (m) | U4: (회) | V4: (회) | W4: (m)
A5: 지하수사후관리 (37) | C5: =11+7+60+37 -> 115 | D5: 개소 | P5: =SUM(P6,P11,P13) -> 13 | Q5: =SUM(Q6,Q11,Q13) -> 13 | R5: =SUM(R6,R11,R13) -> 927 | S5: =SUM(S6,S11,S13) -> 12 | T5: =SUM(T6,T11,T13) -> 558 | U5: =SUM(U6,U11,U13) -> 13 | V5: =SUM(V6,V11,V13) -> 12 | W5: =SUM(W6,W11,W13) -> 927
A6: 지하수사후관리 (13) | B6: 소계 | C6: =COUNTA(C7:C10) -> 4 | D6: 개소 | P6: =SUM(P7:P10) -> 4 | Q6: =SUM(Q7:Q10) -> 4 | R6: =SUM(R7:R10) -> 422 | S6: =SUM(S7:S10) -> 4 | T6: =SUM(T7:T10) -> 210 | U6: =SUM(U7:U10) -> 4 | V6: =SUM(V7:V10) -> 4 | W6: =SUM(W7:W10) -> 422
B7: 홍천.춘천 (4) | C7: 용산2 | D7: 암반 | E7: 춘천시 | G7: 신동 | H7: 989-2 | I7: 16-03 | J7: 380 | K7: 220 | L7: 250 | M7: 10 | N7: 54 | O7: 54 | P7: 1 | Q7: 1 | R7: 220 | S7: 1 | T7: 54 | U7: 1 | V7: 1 | W7: 220
C8: 산천2 | D8: 암반 | E8: 춘천시 | F8: 신북읍 | G8: 산천리 | H8: 1081 | I8: 1201100010 | J8: 300 | K8: 70 | L8: 200 | M8: 15 | N8: 60 | O8: 60 | P8: 1 | Q8: 1 | R8: 70 | S8: 1 | T8: 60 | U8: 1 | V8: 1 | W8: 70
C9: 유포1 | D9: 암반 | E9: 춘천시 | F9: 신북읍 | G9: 유포리 | H9: 897 | I9: 1201100013 | J9: 430 | K9: 65 | L9: 200 | M9: 15 | N9: 54 | O9: 54 | P9: 1 | Q9: 1 | R9: 65 | S9: 1 | T9: 54 | U9: 1 | V9: 1 | W9: 65
C10: 율문1 | D10: 암반 | E10: 춘천시 | F10: 신북읍 | G10: 율문리 | H10: 695 | I10: 1201100014 | J10: 480 | K10: 67 | L10: 200 | M10: 10 | N10: 42 | O10: 42 | P10: 1 | Q10: 1 | R10: 67 | S10: 1 | T10: 42 | U10: 1 | V10: 1 | W10: 67
B11: 소계 | C11: =COUNTA(C12:C12) -> 1 | D11: 개소 | P11: =SUM(P12) -> 1 | Q11: =SUM(Q12) -> 1 | R11: =SUM(R12) -> 86 | S11: =SUM(S12) -> 1 | T11: =SUM(T12) -> 60 | U11: =SUM(U12) -> 1 | V11: =SUM(V12) -> 1 | W11: =SUM(W12) -> 86
B12: 강릉(1) | C12: 동덕3 | D12: 암반 | E12: 강릉시 | F12: 연곡면 | G12: 동덕리 | H12: 354-1 | I12: 제2201000193호 | J12: 200 | K12: 125 | L12: 250 | M12: 5 | N12: 60 | O12: 60 | P12: 1 | Q12: 1 | R12: 86 | S12: 1 | T12: 60 | U12: 1 | V12: 1 | W12: 86
C13: =COUNTA(C14:C21) -> 8 | D13: 개소 | P13: =SUM(P14:P21) -> 8 | Q13: =SUM(Q14:Q21) -> 8 | R13: =SUM(R14:R21) -> 419 | S13: =SUM(S14:S21) -> 7 | T13: =SUM(T14:T21) -> 288 | U13: =SUM(U14:U21) -> 8 | V13: =SUM(V14:V21) -> 7 | W13: =SUM(W14:W21) -> 419
B14: 철원·화천 (8) | C14: 암반04호 | D14: 암반 | E14: 철원군 | F14: 동송읍 | G14: 관우리 | H14: 798-1 | I14: 제1200200004호 | J14: 1200 | K14: 68 | L14: 250 | M14: 15 | N14: 42 | O14: =N14 -> 42 | P14: 1 | Q14: 1 | R14: 68 | S14: 1 | T14: 42 | U14: 1 | V14: 1 | W14: 68
C15: 암반02호 | D15: 암반 | E15: 철원군 | F15: 동송읍 | G15: 관우리 | H15: 1642 | I15: 제1200200003호 | J15: 800 | K15: 73 | L15: 250 | M15: 15 | N15: 30 | O15: =N15 -> 30 | P15: 1 | Q15: 1 | R15: 73 | S15: 1 | T15: 30 | U15: 1 | V15: 1 | W15: 73
C16: 암반06호 | D16: 암반 | E16: 철원군 | F16: 동송읍 | G16: 관우리 | H16: 1670 | I16: 제1200200006호 | J16: 600 | K16: 88 | L16: 250 | M16: 20 | N16: 42 | O16: =N16 -> 42 | P16: 1 | Q16: 1 | R16: 88 | S16: 1 | T16: 42 | U16: 1 | V16: 1 | W16: 88
C17: 암반18호 | D17: 암반 | E17: 철원군 | F17: 동송읍 | G17: 오덕리 | H17: 1609 | I17: 제1200200014호 | J17: 1200 | K17: 70 | L17: 200 | M17: 30 | N17: 45 | O17: =N17 -> 45 | P17: 1 | Q17: 1 | R17: 70 | S17: 1 | T17: 45 | U17: 1 | V17: 1 | W17: 70
C18: 암반36호 | D18: 암반 | E18: 철원군 | F18: 동송읍 | G18: 이평리 | H18: 1525 | I18: 제1200200024호 | J18: 400 | K18: 37 | L18: 200 | M18: 8 | N18: 30 | O18: =N18 -> 30 | P18: 1 | Q18: 1 | R18: 37 | S18: 1 | T18: 30 | U18: 1 | V18: 1 | W18: 37
C19: 암반39호 | D19: 암반 | E19: 철원군 | F19: 동송읍 | G19: 이평리 | H19: 1526 | I19: 제1200200027호 | J19: 650 | K19: 18 | L19: 200 | M19: 15 | N19: 15 | O19: =N19 -> 15 | P19: 1 | Q19: 1 | R19: 18 | S19: 1 | T19: 15 | U19: 1 | V19: 1 | W19: 18
C20: 암반15호 | D20: 암반 | E20: 철원군 | F20: 철원읍 | G20: 내포리 | H20: 481-1 | I20: 제1200200011호 | J20: 790 | K20: 65 | L20: 200 | M20: 20 | N20: 60 | O20: =N20 -> 60 | P20: 1 | Q20: 1 | R20: 65 | S20: 1 | T20: 60 | U20: 1 | V20: 1 | W20: 65
C21: 암반10호 | D21: 암반 | E21: 철원군 | F21: 동송읍 | G21: 관우리 | H21: 778 | I21: 제1200200007호 | J21: 1500 | K21: 74 | L21: 200 | M21: 20 | N21: 24 | O21: =N21 -> 24 | P21: 1 | Q21: 1 | R21: 0 | S21: 0 | T21: 24 | U21: 1 | V21: 0 | W21: 0

Sheet 2. 관정내역
A1: 2-5. 지구별 내역(원상복구) | B1: 2. 지구별 내역(원상복구)
A2: 사업구분 | B2: 관할지사 | C2: 시설명 | D2: 사용형태 | E2: 위치 | I2: 허가번호 | J2: 관정 내역 | O2: 원상복구 사업량 | S2: 비고
E3: 시군 | F3: 읍면 | G3: 동리 | H3: 지번 | J3: 구경(mm) | K3: 심도(m) | L3: 모터설치 심도(m) | M3: 모타 마력(HP) | N3: 동력(V) | O3: 수중모터 펌프인양 | P3: 케이싱 절단 | Q3: 되메우기 | R3: 폐기물처리, 부지정리
A4: - 원상복구 소계 | B4: 소계 | C4: =COUNTA(C5:C6) -> 2 | O4: =SUM(O5:O6) -> 2 | P4: =SUM(P5:P6) -> 2 | Q4: =SUM(Q5:Q6) -> 2 | R4: =SUM(R5:R6) -> 2
A5: 원상복구 | B5: 홍천·춘천 | C5: 율동2 | D5: 암반 | E5: 횡성군 | F5: 갑천면 | G5: 율동리 | H5: 407 | I5: 제1201100004호 | J5: 200 | K5: 70 | L5: 55 | M5: 5 | N5: - | O5: 1 | P5: 1 | Q5: 1 | R5: 1 | S5: 홍천수자원-1970(2026.8.31.)호.
C6: 유포2 | D6: 암반 | E6: 춘천시 | F6: 신북읍 | G6: 유포리 | H6: 1112 | I6: 제1201100012호 | J6: 200 | K6: 70 | L6: 60 | M6: 15 | N6: - | O6: 1 | P6: 1 | Q6: 1 | R6: 1 | S6: 홍천수자원-1970(2026.8.31.)호.

Sheet 3.조사공정계획표
A1: 3. 공정 계획표
A2: 공 종 | B2: 조사량 | C2: 단위 | D2: 시 행 일 정 | P2: 비고
D3: 1월 | E3: 2월 | F3: 3월 | G3: 4월 | H3: 5월 | I3: 6월 | J3: 7월 | K3: 8월 | L3: 9월 | M3: 10월 | N3: 11월 | O3: 12월
A4: 공사관리관정 유지관리
A5: 1. 연장허가 지하수영향조사 | B5: ='2-1.사업수량표'!D6 -> 37 | C5: 지구
A6: 1) 자료수집 및 현장조사 | B6: =B5 -> 37 | C6: 지구
A7: 2) 대수성 시험(연속, 회복) | B7: =B6 -> 37 | C7: 회
A8: 3) 적정취수량 분석 및 오염영향 분석 | B8: =B7 -> 37 | C8: 지구
A9: 4) 수질검사 | B9: =B8 -> 37 | C9: 지구
A10: 5) 보고서 작성 | B10: =B9 -> 37 | C10: 지구
A11: 2. 지하수 사후관리 | B11: ='2-1.사업수량표'!E6 -> 13 | C11: 지구
A12: 1) 에어써징 | B12: =B11-1 -> 12 | C12: 지구
A13: 2) 모타설치 및 인양 | B13: =B11 -> 13 | C13: 회
A14: 3) 관정정비 및 인양 | B14: =B13 -> 13 | C14: 공
A15: 4) 수위측정관 및 볼트너트 교체 | B15: =B14 -> 13 | C15: 지구
A16: 5) 장비운반 | B16: =B15 -> 13 | C16: 회
A17: 3. 지하수 수질검사 | B17: ='2-1.사업수량표'!B6 -> 43 | C17: 공 | P17: 농업용 15항목
A18: 4. 원상복구 | B18: ='2-1.사업수량표'!F6 -> 2 | C18: 지구 | P18: 율동2 및 유포2 관정
A19: 4. 관정시설물 점검 | B19: ='2-1.사업수량표'!#REF! -> #REF! | C19: 개소

Sheet 5.직접비산출내역
A1: 5. 직접비 산출내역
J2: (단위: 원)
A3: 구분 | B3: 원수 | C3: 단위 | D3: 합 계 | E3: 노무비 | G3: 재료비 | I3: 경 비 | K3: 외주용역비 | M3: 비고
E4: 단가 | F4: 금액 | G4: 단 가 | H4: 금 액 | I4: 단 가 | J4: 금 액 | K4: 단 가 | L4: 금 액
A5: 계 | D5: =F5+H5+J5+L5 -> 272086000 | F5: =F6 -> 0 | H5: =H6 -> 0 | J5: =J6 -> 4705000 | L5: =L6 -> 267381000
A6: 지하수관정 유지관리 | D6: =F6+H6+J6+L6 -> 272086000 | F6: =F7+F9 -> 0 | H6: =H7+H9 -> 0 | J6: =J7+J9 -> 4705000 | L6: =L7+L9 -> 267381000
A7: - 직영시행 | D7: =F7+H7+J7+L7 -> 4705000 | F7: =TRUNC(SUM(F8:F8),-3) -> 0 | H7: =TRUNC(SUM(H8:H8),-3) -> 0 | J7: =TRUNC(J8,-2) -> 4705000 | L7: =TRUNC(SUM(L8:L8),-3) -> 0
A8: 정기수질검사 | B8: ='2-1.사업수량표'!B6 -> 43 | C8: 공 | D8: =F8+H8+J8+L8 -> 4705000 | E8: =직영일위대가!G15 -> 0 | F8: =INT($B8*E8) -> 0 | G8: =직영일위대가!I15 -> 0 | H8: =TRUNC($B8*G8,-3) -> 0 | I8: =직영일위대가!K15 -> 109400 | J8: =ROUNDUP($B8*I8,-3) -> 4705000 | K8: 0 | L8: =B8*K8 -> 0
A9: - 외주시행 | D9: =F9+H9+J9+L9 -> 267381000 | F9: =TRUNC(SUM(F11:F11),-3) -> 0 | H9: =TRUNC(SUM(H11:H11),-3) -> 0 | J9: =TRUNC(SUM(J11:J11),-3) -> 0 | L9: =TRUNC(SUM(L10:L11),-2) -> 267381000 | O9: 영향조사 | P9: =#REF! -> #REF!
A10: 지하수영향조사 및 사후관리 | B10: 1 | C10: 식 | D10: =F10+H10+J10+L10 -> 256810000 | K10: ='5-1. 영향조사 및 사후관리 용역 총괄'!C13 -> 256810000 | L10: =K10*B10 -> 256810000
A11: 원상복구 | B11: 1 | C11: 식 | D11: =F11+H11+J11+L11 -> 10571000 | F11: 0 | H11: 0 | I11: 0 | J11: =B11*I11 -> 0 | K11: ='4. 공사비총괄표'!G34 -> 10571000 | L11: =K11*B11 -> 10571000 | O11: 원상복구 | P11: =#REF! -> #REF!
A12: ='1.사업개요'!C33-'5.직접비산출내역'!D5 -> 29204000

Sheet 5-2. 법적시설 정비비
A1: <제1호표> | E1: 유 량 계 설 치(50mm)
A2: 일 금 : | B2: =E19 -> 278000 | C2: 원 | E2: ( 개소당 ) | I2: 1 | J2: 개소/일
A3: 구분 | B3: 규격 | C3: 원수 | D3: 단위 | E3: 총 액 | F3: 직 접 노 무 비 | H3: 직 접 재 료 비 | J3: 직 접 경 비 | L3: 비고
F4: 단 가 | G4: 금 액 | H4: 단 가 | I4: 금 액 | J4: 단 가 | K4: 금 액
A5: 유 량 계 | B5: 50mm | C5: 1 | D5: 개 | E5: =G5+I5+K5 -> 278000 | H5: 278000 | I5: =INT($C5*H5) -> 278000 | K5: 0 | L5: 물가정보 801
J6: 0 | K6: 0
A19: 합 계 | E19: =G19+I19+K19 -> 278000 | G19: =SUM(G5:G18) -> 0 | I19: =SUM(I5:I18) -> 278000 | K19: =SUM(K5:K18) -> 0
A22: <제5호표> | E22: 수 위 측 정 관 설 치
A24: 일 금 : | B24: =E46 -> 1000 | C24: 원 | E24: ( M 당 )
A25: 공종별 | B25: 규격 | C25: 원수 | D25: 단위 | E25: 총 액 | F25: 직접인건비 | H25: 직 접 경 비 | L25: 산출근거
F26: 인건비 | H26: 재료비 | J26: 경비
F27: 단 가 | G27: 금 액 | H27: 단 가 | I27: 금 액
A28: PE파이프 | C28: 1 | D28: M | E28: =G28+I28+K28 -> 1000 | H28: =단가표!E28 -> 1000 | I28: =INT(C28*H28) -> 1000
A29: ※ 설치품은 양수설비인양 및 재설치에 포함됨
A30: ※ 필요시 적용
A46: 합 계 | E46: =G46+I46+K46 -> 1000 | G46: =SUM(G28:G45) -> 0 | I46: =SUM(I28:I45) -> 1000 | K46: =SUM(K28:K45) -> 0

Sheet 5-1. 영향조사 및 사후관리 용역 총괄
A1: 5-1. 지하수영향조사 및 사후관리 용역비 총괄
A2: 구 분 | C2: 계 | D2: 1공구 | E2: 2공구 | F2: 적 요 | H2: 1공구
A3: 직접인건비 | C3: =SUM(D3:E3) -> 56638431 | D3: ='5-1-1. 사업비명세서'!G6 -> 27956715 | E3: ='5-1-1. 사업비명세서'!G7 -> 28681716 | F3: A | I3: 27956715
A4: 직접경비 | B4: 노무비 | C4: =SUM(D4:E4) -> 60242196 | D4: ='5-1-1. 사업비명세서'!I6 -> 28248305 | E4: ='5-1-1. 사업비명세서'!I7 -> 31993891 | F4: B | I4: 28248305
B5: 재료비 | C5: =SUM(D5:E5) -> 12396412 | D5: ='5-1-1. 사업비명세서'!K6 -> 5515442 | E5: ='5-1-1. 사업비명세서'!K7 -> 6880970 | F5: C | I5: 5515442
B6: 경 비 | C6: =SUM(D6:E6) -> 14063761 | D6: ='5-1-1. 사업비명세서'!M6 -> 5946002 | E6: ='5-1-1. 사업비명세서'!M7 -> 8117759 | F6: D | I6: 5946002
B7: 소 계 | C7: =SUM(D7:E7) -> 86702369 | D7: =D4+D5+D6 -> 39709749 | E7: =E4+E5+E6 -> 46992620 | F7: E = B + C + D | I7: 39709749
A8: 제경비 | C8: =SUM(D8:E8) -> 62302273 | D8: =INT(D3*$H$8) -> 30752386 | E8: =INT(E3*$H$8) -> 31549887 | F8: F = 직접인건비 × 110~120% 이내 | H8: 1.1 | I8: 30752386
A9: 기술료 | C9: =SUM(D9:E9) -> 23482564 | D9: =INT((D3+D8)*$H$9)-297488 -> 11444332 | E9: =INT((E3+E8)*$H$9)-8088 -> 12038232 | F9: G = (직접인건비+제경비) × 20~40%이내 | H9: 0.2 | I9: 11444332
A10: 안전보건관리비 | C10: =SUM(D10:E10) -> 4338000 | D10: 2155000 | E10: 2183000 | F10: H = (A + B + C) × 2.93% | I10: 2155000
A11: 계 | C11: =SUM(D11:E11) -> 233463637 | D11: =D3+D7+D8+D9+D10 -> 112018182 | E11: =E3+E7+E8+E9+E10 -> 121445455 | F11: I = A + E + F + G + H | I11: 112018182
A12: 부가가치세 | C12: =SUM(D12:E12) -> 23346363 | D12: =INT(D11*$H$12) -> 11201818 | E12: =INT(E11*$H$12) -> 12144545 | F12: J = I × 10% | H12: 0.1 | I12: 11201818
A13: 합 계 | C13: =SUM(D13:E13) -> 256810000 | D13: =D11+D12 -> 123220000 | E13: =E11+E12 -> 133590000 | F13: K = I + J | I13: 123220000
A16: <2026년 예산편성 금액> | C16: 영향조사 | D16: 사후관리 | E16: 합계
B17: 공당단가 | C17: 5720000 | D17: 5610000 | E17: =C17+D17 -> 11330000
C18: =C17*38 -> 217360000 | D18: =D17*12 -> 67320000 | E18: =C18+D18 -> 284680000
A20: <2026년 예산편성 금액> | C20: 원상복구 | D20: 합계
B21: 공당단가 | C21: 11880000 | D21: =C21 -> 11880000
B22: 1지구 | C22: =C21*1 -> 11880000 | D22: =C22 -> 11880000
A24: <2026년 예산편성 금액> | C24: 수질검사 | D24: 합계
B25: 공당단가 | C25: 110000 | D25: =C25 -> 110000
B26: 43지구 | C26: =C25*43 -> 4730000 | D26: =C26 -> 4730000

Sheet 5-1-1. 사업비명세서
A1: 5-1-1. 지하수영향조사 및 사후관리 사업비 명세서 | O1: =129391230/146935000 -> 0.88060183
A2: 일 금 : | B2: =E26 -> 143340800 | C2: 원
A3: 공 종 별 | B3: 재료 또는 치수 | C3: 원수 | D3: 단 위 | E3: 총 액 | F3: 직접인건비 | H3: 직접경비
H4: 노 무 비 | J4: 재 료 비 | L4: 경 비 | N4: 비 고
F5: 단 가 | G5: 금 액 | H5: 단 가 | I5: 금 액 | J5: 단 가 | K5: 금 액 | L5: 단 가 | M5: 금 액
A6: 1공구 | C6: 1 | D6: 식 | E6: =SUM(G6,I6,K6,M6) -> 67666464 | F6: =G56 -> 27956715 | G6: =TRUNC(C6*F6,0) -> 27956715 | H6: =I56 -> 28248305 | I6: =TRUNC(C6*H6,0) -> 28248305 | J6: =K56 -> 5515442 | K6: =TRUNC(C6*J6,0) -> 5515442 | L6: =M56 -> 5946002 | M6: =TRUNC(C6*L6,0) -> 5946002
A7: 2공구 | C7: 1 | D7: 식 | E7: =SUM(G7,I7,K7,M7) -> 75674336 | F7: =G87 -> 28681716 | G7: =TRUNC(C7*F7,0) -> 28681716 | H7: =I87 -> 31993891 | I7: =TRUNC(C7*H7,0) -> 31993891 | J7: =K87 -> 6880970 | K7: =TRUNC(C7*J7,0) -> 6880970 | L7: =M87 -> 8117759 | M7: =TRUNC(C7*L7,0) -> 8117759
A26: 합 계 | E26: =SUBTOTAL(9,E6:E25) -> 143340800 | G26: =SUBTOTAL(9,G6:G25) -> 56638431 | I26: =SUBTOTAL(9,I6:I25) -> 60242196 | K26: =SUBTOTAL(9,K6:K25) -> 12396412 | M26: =SUBTOTAL(9,M6:M25) -> 14063761
A27: 1공구 사업비 명세서
A28: 일 금 : | B28: =E49 -> 0 | C28: 원
A29: 공 종 별 | B29: 재료 또는 치수 | C29: 원수 | D29: 단 위 | E29: 총 액 | F29: 직접인건비 | H29: 직접경비
H30: 노 무 비 | J30: 재 료 비 | L30: 경 비 | N30: 비 고
F31: 단 가 | G31: 금 액 | H31: 단 가 | I31: 금 액 | J31: 단 가 | K31: 금 액 | L31: 단 가 | M31: 금 액
A32: <지하수영향조사>
A33: ='[381]일위대가표(영향조사)'!A6 -> 기존자료 수집 | C33: ='2-3.지구별내역(지하수영향조사)'!C5+'2-3.지구별내역(지하수영향조사)'!C43 -> 18 | D33: 지구 | E33: =SUM(G33,I33,K33,M33) -> 2230434 | F33: =INT('5-1-2. 일위대가표(영향조사) 1공구'!G6*$O$1) -> 123913 | G33: =TRUNC(C33*F33,0) -> 2230434 | H33: =INT('5-1-2. 일위대가표(영향조사) 1공구'!I6*$O$1) -> 0 | I33: =TRUNC(C33*H33,0) -> 0 | J33: =INT('5-1-2. 일위대가표(영향조사) 1공구'!K6*$O$1) -> 0 | K33: =TRUNC(C33*J33,0) -> 0 | L33: =INT('5-1-2. 일위대가표(영향조사) 1공구'!M6*$O$1) -> 0 | M33: =TRUNC(C33*L33,0) -> 0
A34: ='[381]일위대가표(영향조사)'!A7 -> 현지답사 | C34: =C33 -> 18 | D34: 지구 | E34: =SUM(G34,I34,K34,M34) -> 3471156 | F34: =INT('5-1-2. 일위대가표(영향조사) 1공구'!G7*$O$1) -> 192842 | G34: =TRUNC(C34*F34,0) -> 3471156 | H34: =INT('5-1-2. 일위대가표(영향조사) 1공구'!I7*$O$1) -> 0 | I34: =TRUNC(C34*H34,0) -> 0 | J34: =INT('5-1-2. 일위대가표(영향조사) 1공구'!K7*$O$1) -> 0 | K34: =TRUNC(C34*J34,0) -> 0 | L34: =INT('5-1-2. 일위대가표(영향조사) 1공구'!M7*$O$1) -> 0 | M34: =TRUNC(C34*L34,0) -> 0
A35: ='[381]일위대가표(영향조사)'!A8 -> 대수성시험 | C35: =C34 -> 18 | D35: 공 | E35: =SUM(G35,I35,K35,M35) -> 29464596 | F35: =INT('5-1-2. 일위대가표(영향조사) 1공구'!G8*$O$1) -> 687759 | G35: =TRUNC(C35*F35,0) -> 12379662 | H35: =INT('5-1-2. 일위대가표(영향조사) 1공구'!I8*$O$1) -> 949163 | I35: =TRUNC(C35*H35,0) -> 17084934 | J35: =INT('5-1-2. 일위대가표(영향조사) 1공구'!K8*$O$1) -> 0 | K35: =TRUNC(C35*J35,0) -> 0 | L35: =INT('5-1-2. 일위대가표(영향조사) 1공구'!M8*$O$1) -> 0 | M35: =TRUNC(C35*L35,0) -> 0
A36: ='[381]일위대가표(영향조사)'!A9 -> 적정취수량 및 영향범위 산정 | C36: =C35 -> 18 | D36: 공 | E36: =SUM(G36,I36,K36,M36) -> 1754208 | F36: =INT('5-1-2. 일위대가표(영향조사) 1공구'!G9*$O$1) -> 97456 | G36: =TRUNC(C36*F36,0) -> 1754208 | H36: =INT('5-1-2. 일위대가표(영향조사) 1공구'!I9*$O$1) -> 0 | I36: =TRUNC(C36*H36,0) -> 0 | J36: =INT('5-1-2. 일위대가표(영향조사) 1공구'!K9*$O$1) -> 0 | K36: =TRUNC(C36*J36,0) -> 0 | L36: =INT('5-1-2. 일위대가표(영향조사) 1공구'!M9*$O$1) -> 0 | M36: =TRUNC(C36*L36,0) -> 0
A37: ='[381]일위대가표(영향조사)'!A10 -> 수질검사비 | C37: =C36 -> 18 | D37: 회 | E37: =SUM(G37,I37,K37,M37) -> 1734066 | F37: =INT('5-1-2. 일위대가표(영향조사) 1공구'!G10*$O$1) -> 0 | G37: =TRUNC(C37*F37,0) -> 0 | H37: =INT('5-1-2. 일위대가표(영향조사) 1공구'!I10*$O$1) -> 0 | I37: =TRUNC(C37*H37,0) -> 0 | J37: =INT('5-1-2. 일위대가표(영향조사) 1공구'!K10*$O$1) -> 0 | K37: =TRUNC(C37*J37,0) -> 0 | L37: =INT('5-1-2. 일위대가표(영향조사) 1공구'!M10*$O$1) -> 96337 | M37: =TRUNC(C37*L37,0) -> 1734066
A38: ='[381]일위대가표(영향조사)'!A11 -> 보고서작성 | C38: =C37 -> 18 | D38: 지구 | E38: =SUM(G38,I38,K38,M38) -> 5996232 | F38: =INT('5-1-2. 일위대가표(영향조사) 1공구'!G11*$O$1) -> 233018 | G38: =TRUNC(C38*F38,0) -> 4194324 | H38: =INT('5-1-2. 일위대가표(영향조사) 1공구'!I11*$O$1) -> 0 | I38: =TRUNC(C38*H38,0) -> 0 | J38: =INT('5-1-2. 일위대가표(영향조사) 1공구'!K11*$O$1) -> 64882 | K38: =TRUNC(C38*J38,0) -> 1167876 | L38: =INT('5-1-2. 일위대가표(영향조사) 1공구'!M11*$O$1) -> 35224 | M38: =TRUNC(C38*L38,0) -> 634032
A39: <지하수사후관리>
A40: ='[381]일위대가표(사후관리)'!M6 -> 기계기구설치 | C40: ='2-4.지구별내역(지하수사후관리)'!P6+'2-4.지구별내역(지하수사후관리)'!P11 -> 5 | D40: 회 | E40: =SUM(G40,I40,K40,M40) -> 2305075 | F40: =INT('5-1-3. 일위대가표(사후관리) 1공구'!S6*$O$1) -> 0 | G40: =TRUNC(C40*F40,0) -> 0 | H40: =INT('5-1-3. 일위대가표(사후관리) 1공구'!U6*$O$1) -> 461015 | I40: =TRUNC(C40*H40,0) -> 2305075 | J40: =INT('5-1-3. 일위대가표(사후관리) 1공구'!W6*$O$1) -> 0 | K40: =TRUNC(C40*J40,0) -> 0 | L40: =INT('5-1-3. 일위대가표(사후관리) 1공구'!Y6*$O$1) -> 0 | M40: =TRUNC(C40*L40,0) -> 0
A41: ='[381]일위대가표(사후관리)'!M7 -> 수중펌프설치인양 | C41: =C40 -> 5 | D41: 회 | E41: =SUM(G41,I41,K41,M41) -> 7217255 | F41: =INT('5-1-3. 일위대가표(사후관리) 1공구'!S7*$O$1) -> 215715 | G41: =TRUNC(C41*F41,0) -> 1078575 | H41: =INT('5-1-3. 일위대가표(사후관리) 1공구'!U7*$O$1) -> 1100621 | I41: =TRUNC(C41*H41,0) -> 5503105 | J41: =INT('5-1-3. 일위대가표(사후관리) 1공구'!W7*$O$1) -> 54364 | K41: =TRUNC(C41*J41,0) -> 271820 | L41: =INT('5-1-3. 일위대가표(사후관리) 1공구'!Y7*$O$1) -> 72751 | M41: =TRUNC(C41*L41,0) -> 363755
A42: ='[381]일위대가표(사후관리)'!M8 -> 에어써징(고압압축 불기공법) | C42: ='2-4.지구별내역(지하수사후관리)'!R6+'2-4.지구별내역(지하수사후관리)'!R11 -> 508 | D42: m | E42: =SUM(G42,I42,K42,M42) -> 6812788 | F42: =INT('5-1-3. 일위대가표(사후관리) 1공구'!S8*$O$1) -> 2320 | G42: =TRUNC(C42*F42,0) -> 1178560 | H42: =INT('5-1-3. 일위대가표(사후관리) 1공구'!U8*$O$1) -> 3886 | I42: =TRUNC(C42*H42,0) -> 1974088 | J42: =INT('5-1-3. 일위대가표(사후관리) 1공구'!W8*$O$1) -> 6602 | K42: =TRUNC(C42*J42,0) -> 3353816 | L42: =INT('5-1-3. 일위대가표(사후관리) 1공구'!Y8*$O$1) -> 603 | M42: =TRUNC(C42*L42,0) -> 306324
A43: ='[381]일위대가표(사후관리)'!M9 -> 검사 및 정비 | C43: =C41 -> 5 | D43: 회 | E43: =SUM(G43,I43,K43,M43) -> 464275 | F43: =INT('5-1-3. 일위대가표(사후관리) 1공구'!S9*$O$1) -> 0 | G43: =TRUNC(C43*F43,0) -> 0 | H43: =INT('5-1-3. 일위대가표(사후관리) 1공구'!U9*$O$1) -> 73935 | I43: =TRUNC(C43*H43,0) -> 369675 | J43: =INT('5-1-3. 일위대가표(사후관리) 1공구'!W9*$O$1) -> 0 | K43: =TRUNC(C43*J43,0) -> 0 | L43: =INT('5-1-3. 일위대가표(사후관리) 1공구'!Y9*$O$1) -> 18920 | M43: =TRUNC(C43*L43,0) -> 94600
A44: ='[381]일위대가표(사후관리)'!M10 -> 수위측정관설치 | C44: ='2-4.지구별내역(지하수사후관리)'!T6+'2-4.지구별내역(지하수사후관리)'!T11 -> 270 | D44: m | E44: =SUM(G44,I44,K44,M44) -> 237600 | F44: =INT('5-1-3. 일위대가표(사후관리) 1공구'!S10*$O$1) -> 0 | G44: =TRUNC(C44*F44,0) -> 0 | H44: =INT('5-1-3. 일위대가표(사후관리) 1공구'!U10*$O$1) -> 0 | I44: =TRUNC(C44*H44,0) -> 0 | J44: =INT('5-1-3. 일위대가표(사후관리) 1공구'!W10*$O$1) -> 880 | K44: =TRUNC(C44*J44,0) -> 237600 | L44: =INT('5-1-3. 일위대가표(사후관리) 1공구'!Y10*$O$1) -> 0 | M44: =TRUNC(C44*L44,0) -> 0
A45: ='[381]일위대가표(사후관리)'!M11 -> 운반비 | C45: =C43 -> 5 | D45: 회 | E45: =SUM(G45,I45,K45,M45) -> 2366185 | F45: =INT('5-1-3. 일위대가표(사후관리) 1공구'!S11*$O$1) -> 0 | G45: =TRUNC(C45*F45,0) -> 0 | H45: =INT('5-1-3. 일위대가표(사후관리) 1공구'!U11*$O$1) -> 0 | I45: =TRUNC(C45*H45,0) -> 0 | J45: =INT('5-1-3. 일위대가표(사후관리) 1공구'!W11*$O$1) -> 0 | K45: =TRUNC(C45*J45,0) -> 0 | L45: =INT('5-1-3. 일위대가표(사후관리) 1공구'!Y11*$O$1) -> 473237 | M45: =TRUNC(C45*L45,0) -> 2366185
A46: ='[381]일위대가표(사후관리)'!M12 -> 지하수이용시설 안내문 설치 | C46: =C45 -> 5 | D46: 식 | E46: =SUM(G46,I46,K46,M46) -> 484330 | F46: =INT('5-1-3. 일위대가표(사후관리) 1공구'!S12*$O$1) -> 0 | G46: =TRUNC(C46*F46,0) -> 0 | H46: =INT('5-1-3. 일위대가표(사후관리) 1공구'!U12*$O$1) -> 0 | I46: =TRUNC(C46*H46,0) -> 0 | J46: =INT('5-1-3. 일위대가표(사후관리) 1공구'!W12*$O$1) -> 96866 | K46: =TRUNC(C46*J46,0) -> 484330 | L46: =INT('5-1-3. 일위대가표(사후관리) 1공구'!Y12*$O$1) -> 0 | M46: =TRUNC(C46*L46,0) -> 0
A47: ='[381]일위대가표(사후관리)'!M13 -> 수중TV검층 | C47: =C42 -> 508 | D47: m | E47: =SUM(G47,I47,K47,M47) -> 3128264 | F47: =INT('5-1-3. 일위대가표(사후관리) 1공구'!S13*$O$1) -> 3287 | G47: =TRUNC(C47*F47,0) -> 1669796 | H47: =INT('5-1-3. 일위대가표(사후관리) 1공구'!U13*$O$1) -> 1991 | I47: =TRUNC(C47*H47,0) -> 1011428 | J47: =INT('5-1-3. 일위대가표(사후관리) 1공구'!W13*$O$1) -> 0 | K47: =TRUNC(C47*J47,0) -> 0 | L47: =INT('5-1-3. 일위대가표(사후관리) 1공구'!Y13*$O$1) -> 880 | M47: =TRUNC(C47*L47,0) -> 447040
A48: ='[381]일위대가표(사후관리)'!M14 -> 수중모터펌프(3HP) 교체 | D48: 개
A49: ='[381]일위대가표(사후관리)'!M15 -> 수중모터펌프(5HP) 교체 | D49: 개
A50: ='[381]일위대가표(사후관리)'!M16 -> 수중모터펌프(7.5HP) 교체 | D50: 개
A51: ='[381]일위대가표(사후관리)'!M17 -> 유량계 교체(32mm) 교체 | D51: 개
A52: ='[381]일위대가표(사후관리)'!M18 -> 유량계 교체(40mm) 교체 | D52: 개
A53: ='[381]일위대가표(사후관리)'!M19 -> 유량계 교체(50mm) 교체 | D53: 개
A54: ='[381]일위대가표(사후관리)'!M20 -> 유량계 교체(50mm) 교체-플랜지타입 | D54: 개
A56: 합 계 | E56: =SUBTOTAL(9,E33:E54) -> 67666464 | G56: =SUBTOTAL(9,G33:G54) -> 27956715 | I56: =SUBTOTAL(9,I33:I54) -> 28248305 | K56: =SUBTOTAL(9,K33:K54) -> 5515442 | M56: =SUBTOTAL(9,M33:M54) -> 5946002
A57: 2공구 사업비 명세서
A58: 일 금 : | B58: =E87 -> 75674336 | C58: 원
A59: 공 종 별 | B59: 재료 또는 치수 | C59: 원수 | D59: 단 위 | E59: 총 액 | F59: 직접인건비 | H59: 직접경비
...

Sheet 5-1-2. 일위대가표(영향조사) 1공구
A1: 5-1-2. 지하수영향조사(연장허가) 일위대가표
A3: 공종별 | B3: 재료또는치수 | C3: 원수 | D3: 단위 | E3: 총액 | F3: 직접인건비 | H3: 직접경비 | N3: 산출근거
F4: 인건비 | H4: 노무비 | J4: 재료비 | L4: 경비
F5: 단가 | G5: 금액 | H5: 단가 | I5: 금액 | J5: 단가 | K5: 금액 | L5: 단가 | M5: 금액
A6: =A26 -> 기존자료 수집 | C6: 1 | D6: 지구 | E6: =SUM(G6,I6,K6,M6) -> 140715 | F6: =G50 -> 140715 | G6: =TRUNC(C6*F6,0) -> 140715 | H6: =I50 -> 0 | I6: =TRUNC(C6*H6,0) -> 0 | J6: =K50 -> 0 | K6: =TRUNC(C6*J6,0) -> 0 | L6: =M50 -> 0 | M6: =TRUNC(C6*L6,0) -> 0 | N6: <제1호표>
A7: =A51 -> 현지답사 | C7: 1 | D7: 지구 | E7: =SUM(G7,I7,K7,M7) -> 218989 | F7: =G75 -> 218989 | G7: =TRUNC(C7*F7,0) -> 218989 | H7: =I75 -> 0 | I7: =TRUNC(C7*H7,0) -> 0 | J7: =K75 -> 0 | K7: =TRUNC(C7*J7,0) -> 0 | L7: =M75 -> 0 | M7: =TRUNC(C7*L7,0) -> 0 | N7: <제2호표>
A8: =A76 -> 대수성시험 | C8: 1 | D8: 공 | E8: =SUM(G8,I8,K8,M8) -> 1858869 | F8: =G100 -> 781011 | G8: =TRUNC(C8*F8,0) -> 781011 | H8: =I100 -> 1077858 | I8: =TRUNC(C8*H8,0) -> 1077858 | J8: =K100 -> 0 | K8: =TRUNC(C8*J8,0) -> 0 | L8: =M100 -> 0 | M8: =TRUNC(C8*L8,0) -> 0 | N8: <제3호표>
A9: =A201 -> 적정취수량 및 영향범위 산정 | C9: 1 | D9: 공 | E9: =SUM(G9,I9,K9,M9) -> 110670 | F9: =G225 -> 110670 | G9: =TRUNC(C9*F9,0) -> 110670 | H9: =I225 -> 0 | I9: =TRUNC(C9*H9,0) -> 0 | J9: =K225 -> 0 | K9: =TRUNC(C9*J9,0) -> 0 | L9: =M225 -> 0 | M9: =TRUNC(C9*L9,0) -> 0 | N9: <제4호표>
A10: =A226 -> 수질검사비 | C10: 1 | D10: 회 | E10: =SUM(G10,I10,K10,M10) -> 109400 | F10: =G250 -> 0 | G10: =TRUNC(C10*F10,0) -> 0 | H10: =I250 -> 0 | I10: =TRUNC(C10*H10,0) -> 0 | J10: =K250 -> 0 | K10: =TRUNC(C10*J10,0) -> 0 | L10: =M250 -> 109400 | M10: =TRUNC(C10*L10,0) -> 109400 | N10: <제5호표>
A11: =A251 -> 보고서작성 | C11: 1 | D11: 지구 | E11: =SUM(G11,I11,K11,M11) -> 378293 | F11: =G275 -> 264613 | G11: =TRUNC(C11*F11,0) -> 264613 | H11: =I275 -> 0 | I11: =TRUNC(C11*H11,0) -> 0 | J11: =K275 -> 73680 | K11: =TRUNC(C11*J11,0) -> 73680 | L11: =M275 -> 40000 | M11: =TRUNC(C11*L11,0) -> 40000 | N11: <제6호표>
E12: =SUM(G12,K12,M12) -> 0 | G12: =TRUNC(C12*F12,0) -> 0 | K12: =TRUNC(C12*J12,0) -> 0 | M12: =TRUNC(C12*L12,0) -> 0
E13: =SUM(G13,K13,M13) -> 0 | G13: =TRUNC(C13*F13,0) -> 0 | K13: =TRUNC(C13*J13,0) -> 0 | M13: =TRUNC(C13*L13,0) -> 0
G14: =TRUNC(C14*F14,0) -> 0 | K14: =TRUNC(C14*J14,0) -> 0 | M14: =TRUNC(C14*L14,0) -> 0
G15: =TRUNC(C15*F15,0) -> 0 | K15: =TRUNC(C15*J15,0) -> 0 | M15: =TRUNC(C15*L15,0) -> 0
G16: =TRUNC(C16*F16,0) -> 0 | K16: =TRUNC(C16*J16,0) -> 0 | M16: =TRUNC(C16*L16,0) -> 0
G17: =TRUNC(C17*F17,0) -> 0 | K17: =TRUNC(C17*J17,0) -> 0 | M17: =TRUNC(C17*L17,0) -> 0
G18: =TRUNC(C18*F18,0) -> 0 | K18: =TRUNC(C18*J18,0) -> 0 | M18: =TRUNC(C18*L18,0) -> 0
G19: =TRUNC(C19*F19,0) -> 0 | K19: =TRUNC(C19*J19,0) -> 0 | M19: =TRUNC(C19*L19,0) -> 0
E20: =SUM(G20,K20,M20) -> 0 | G20: =TRUNC(C20*F20,0) -> 0 | K20: =TRUNC(C20*J20,0) -> 0 | M20: =TRUNC(C20*L20,0) -> 0
E21: =SUM(G21,K21,M21) -> 0 | G21: =TRUNC(C21*F21,0) -> 0 | K21: =TRUNC(C21*J21,0) -> 0 | M21: =TRUNC(C21*L21,0) -> 0
E22: =SUM(G22,K22,M22) -> 0 | G22: =TRUNC(C22*F22,0) -> 0 | K22: =TRUNC(C22*J22,0) -> 0 | M22: =TRUNC(C22*L22,0) -> 0
E24: =SUM(G24,K24,M24) -> 0 | G24: =TRUNC(C24*F24,0) -> 0 | K24: =TRUNC(C24*J24,0) -> 0 | M24: =TRUNC(C24*L24,0) -> 0
E25: =SUBTOTAL(9,E6:E24) -> 2816936 | G25: =SUBTOTAL(9,G6:G24) -> 1515998 | I25: =SUBTOTAL(9,I6:I24) -> 1077858 | K25: =SUBTOTAL(9,K6:K24) -> 73680 | M25: =SUBTOTAL(9,M6:M24) -> 149400
A26: 기존자료 수집
A27: <제1호표> | N27: =C34 -> 0.227
A28: 공종별 | B28: 재료또는치수 | C28: 원수 | D28: 단위 | E28: 총액 | F28: 직접인건비 | H28: 직접경비 | N28: 산출근거
F29: 인건비 | H29: 노무비 | J29: 재료비 | L29: 경비 | P29: ='[381]4. 외주용역비 총괄'!C16 -> 영향조사
F30: 단가 | G30: 금액 | H30: 단가 | I30: 금액 | J30: 단가 | K30: 금액 | L30: 단가 | M30: 금액
A31: <노무비> | E31: =SUM(G31,K31,M31) -> 0 | G31: =TRUNC(C31*F31,0) -> 0 | K31: =TRUNC(C31*J31,0) -> 0 | M31: =TRUNC(C31*L31,0) -> 0 | N31: 지하수 조사.계획 품셈(2022), P.13
A32: 특급기술자 | C32: =0.1*O32 -> 0.0454 | D32: 인 | E32: =SUM(G32,I32,K32,M32) -> 16950 | F32: ='단가(영향조사)'!$B$4 -> 373353 | G32: =TRUNC(C32*F32,0) -> 16950 | K32: =TRUNC(C32*J32,0) -> 0 | M32: =TRUNC(C32*L32,0) -> 0 | O32: 0.454
A33: 고급기술자 | C33: 0 | D33: 인 | E33: =SUM(G33,I33,K33,M33) -> 0 | F33: ='단가(영향조사)'!$B$5 -> 310884 | G33: =TRUNC(C33*F33,0) -> 0 | K33: =TRUNC(C33*J33,0) -> 0 | M33: =TRUNC(C33*L33,0) -> 0
A34: 중급기술자 | C34: =0.5*O32 -> 0.227 | D34: 인 | E34: =SUM(G34,I34,K34,M34) -> 66996 | F34: ='단가(영향조사)'!$B$6 -> 295138 | G34: =TRUNC(C34*F34,0) -> 66996 | K34: =TRUNC(C34*J34,0) -> 0 | M34: =TRUNC(C34*L34,0) -> 0
A35: 초급기술자 | C35: 0 | D35: 인 | E35: =SUM(G35,I35,K35,M35) -> 0 | F35: ='단가(영향조사)'!$B$7 -> 235459 | G35: =TRUNC(C35*F35,0) -> 0 | K35: =TRUNC(C35*J35,0) -> 0 | M35: =TRUNC(C35*L35,0) -> 0
A36: 중급숙련기술자 | C36: =0.5*O32 -> 0.227 | D36: 인 | E36: =SUM(G36,I36,K36,M36) -> 56769 | F36: ='단가(영향조사)'!$B$9 -> 250087 | G36: =TRUNC(C36*F36,0) -> 56769 | K36: =TRUNC(C36*J36,0) -> 0 | M36: =TRUNC(C36*L36,0) -> 0
A37: 초급숙련기술자 | C37: 0 | D37: 인 | E37: =SUM(G37,I37,K37,M37) -> 0 | F37: ='단가(영향조사)'!$B$10 -> 218142 | G37: =TRUNC(C37*F37,0) -> 0 | K37: =TRUNC(C37*J37,0) -> 0 | M37: =TRUNC(C37*L37,0) -> 0
A38: 보링공 | D38: 인 | E38: =SUM(G38,I38,K38,M38) -> 0 | G38: =TRUNC(C38*F38,0) -> 0 | J38: ='단가(영향조사)'!$B$11 -> 232562 | K38: =TRUNC(C38*J38,0) -> 0 | M38: =TRUNC(C38*L38,0) -> 0
A39: 특별인부 | D39: 인 | E39: =SUM(G39,I39,K39,M39) -> 0 | G39: =TRUNC(C39*F39,0) -> 0 | J39: ='단가(영향조사)'!$B$12 -> 226122 | K39: =TRUNC(C39*J39,0) -> 0 | M39: =TRUNC(C39*L39,0) -> 0
A40: 보통인부 | D40: 인 | E40: =SUM(G40,I40,K40,M40) -> 0 | G40: =TRUNC(C40*F40,0) -> 0 | J40: ='단가(영향조사)'!$B$13 -> 172068 | K40: =TRUNC(C40*J40,0) -> 0 | M40: =TRUNC(C40*L40,0) -> 0
A41: <재료비> | B41: <<기존자료 수집 및 현지답사 포함사항>> | G41: =TRUNC(C41*F41,0) -> 0 | K41: =TRUNC(C41*J41,0) -> 0 | M41: =TRUNC(C41*L41,0) -> 0 | N41: 지하수 조사.계획 품셈(2022), P.12
B42: 정천현황조사(현장실사) | G42: =TRUNC(C42*F42,0) -> 0 | K42: =TRUNC(C42*J42,0) -> 0 | M42: =TRUNC(C42*L42,0) -> 0
...

Sheet 5-1-3. 일위대가표(사후관리) 1공구
E1: 사후관리 | M1: 5-1-3. 지하수사후관리 일위대가표
M2: 일 금 : | N2: =Q23 -> 10509755 | P2: 원 | X2: 기 종 : 콤프레샤 21kg/cm2 이상
A3: 공종별 | B3: 규격 | C3: 원수 | D3: 단위 | E3: 총 액 | F3: 직접인건비 | H3: 직 접 경 비 | L3: 산출근거 | M3: 공종별 | N3: 규격 | O3: 원수 | P3: 단위 | Q3: 총 액 | R3: 직접인건비 | T3: 직 접 경 비 | Z3: 산출근거
F4: 인건비 | H4: 재료비 | J4: 경비 | R4: 인건비 | T4: 노무비 | V4: 재료비 | X4: 경비 | AB4: 원수조정 | AC4: 0.83
F5: 단 가 | G5: 금 액 | H5: 단 가 | I5: 금 액 | R5: 단 가 | S5: 금 액 | T5: 단 가 | U5: 금 액 | V5: 단 가 | W5: 금 액 | X5: 단 가 | Y5: 금 액
A6: =E24 -> 시설현황조사 | C6: =#REF! -> #REF! | D6: 회 | E6: =SUM(G6,I6,K6) -> #REF! | G6: =G48 -> #REF! | I6: =I48 -> #REF! | K6: =K48 -> #REF! | M6: 기계기구설치 | O6: 1 | P6: 회 | Q6: =S6+U6+W6+Y6 -> 523523 | R6: =S48 -> 0 | S6: =TRUNC($O6*R6) -> 0 | T6: =U48 -> 523523 | U6: =TRUNC($O6*T6) -> 523523 | V6: =W48 -> 0 | W6: =TRUNC($O6*V6) -> 0 | X6: =Y48 -> 0 | Y6: =TRUNC($O6*X6) -> 0 | Z6: 제1호표
A7: =E99 -> 공내청소 | C7: =C106 -> 966 | D7: m | E7: =SUM(G7,I7,K7) -> 19049484 | G7: =G123 -> 4622028 | I7: =I123 -> 4390242 | K7: =K123 -> 10037214 | M7: 수중펌프설치인양 | O7: 1 | P7: 회 | Q7: =S7+U7+W7+Y7 -> 1639168 | R7: =S73 -> 244964 | S7: =TRUNC($O7*R7) -> 244964 | T7: =U73 -> 1249852 | U7: =TRUNC($O7*T7) -> 1249852 | V7: =W73 -> 61736 | W7: =TRUNC($O7*V7) -> 61736 | X7: =Y73 -> 82616 | Y7: =TRUNC($O7*X7) -> 82616 | Z7: 제2호표
A8: =E424 -> 시설정비 및 설치 | C8: ='[381]2-2. 공종별 내역(사후관리)'!L5 -> 12 | D8: 회 | E8: =SUM(G8,I8,K8) -> 56848 | G8: =G448 -> 0 | I8: =I448 -> 56848 | K8: =K448 -> 0 | M8: 에어써징(고압압축 불기공법) | O8: 1 | P8: m | Q8: =S8+U8+W8+Y8 -> 15231 | R8: =S98 -> 2635 | S8: =TRUNC($O8*R8) -> 2635 | T8: =U98 -> 4413 | U8: =TRUNC($O8*T8) -> 4413 | V8: =W98 -> 7498 | W8: =TRUNC($O8*V8) -> 7498 | X8: =Y98 -> 685 | Y8: =TRUNC($O8*X8) -> 685 | Z8: 제3호표
E9: =SUM(G9,I9,K9) -> 0 | G9: =TRUNC(C9*F9,0) -> 0 | I9: =TRUNC(C9*H9,0) -> 0 | K9: =TRUNC(C9*J9,0) -> 0 | M9: 검사 및 정비 | O9: 1 | P9: 회 | Q9: =S9+U9+W9+Y9 -> 105446 | R9: =S123 -> 0 | S9: =TRUNC($O9*R9) -> 0 | T9: =U123 -> 83960 | U9: =TRUNC($O9*T9) -> 83960 | V9: =W123 -> 0 | W9: =TRUNC($O9*V9) -> 0 | X9: =Y123 -> 21486 | Y9: =TRUNC($O9*X9) -> 21486 | Z9: 제4호표
E10: =SUM(G10,I10,K10) -> 0 | G10: =TRUNC(C10*F10,0) -> 0 | I10: =TRUNC(C10*H10,0) -> 0 | K10: =TRUNC(C10*J10,0) -> 0 | M10: 수위측정관설치 | O10: 1 | P10: m | Q10: =S10+U10+W10+Y10 -> 1000 | R10: =S148 -> 0 | S10: =TRUNC($O10*R10) -> 0 | T10: =U148 -> 0 | U10: =TRUNC($O10*T10) -> 0 | V10: =W148 -> 1000 | W10: =TRUNC($O10*V10) -> 1000 | X10: =Y148 -> 0 | Y10: =TRUNC($O10*X10) -> 0 | Z10: 제5호표
E11: =SUM(G11,I11,K11) -> 0 | G11: =TRUNC(C11*F11,0) -> 0 | I11: =TRUNC(C11*H11,0) -> 0 | K11: =TRUNC(C11*J11,0) -> 0 | M11: 운반비 | O11: 1 | P11: 회 | Q11: =S11+U11+W11+Y11 -> 537402 | R11: =S173 -> 0 | S11: =TRUNC($O11*R11) -> 0 | T11: =U173 -> 0 | U11: =TRUNC($O11*T11) -> 0 | V11: =W173 -> 0 | W11: =TRUNC($O11*V11) -> 0 | X11: =Y173 -> 537402 | Y11: =TRUNC($O11*X11) -> 537402 | Z11: 제6호표
M12: 지하수이용시설 안내문 설치 | O12: 1 | P12: 식 | Q12: =S12+U12+W12+Y12 -> 110000 | R12: =S198 -> 0 | T12: =U198 -> 0 | U12: =TRUNC($O12*T12) -> 0 | V12: =W198 -> 110000 | W12: =TRUNC($O12*V12) -> 110000 | Z12: 제7호표
M13: 수중TV검층 | O13: 1 | P13: m | Q13: =S13+U13+W13+Y13 -> 6994 | R13: =S223 -> 3733 | S13: =TRUNC($O13*R13) -> 3733 | T13: =U223 -> 2261 | U13: =TRUNC($O13*T13) -> 2261 | V13: =W223 -> 0 | W13: =TRUNC($O13*V13) -> 0 | X13: =Y223 -> 1000 | Y13: =TRUNC($O13*X13) -> 1000 | Z13: 제8호표
E14: =SUM(G14,I14,K14) -> 0 | G14: =TRUNC(C14*F14,0) -> 0 | I14: =TRUNC(C14*H14,0) -> 0 | K14: =TRUNC(C14*J14,0) -> 0 | M14: 수중모터펌프(3HP) 교체 | O14: 1 | P14: 개 | Q14: =S14+U14+W14+Y14 -> 2032000 | T14: =U248 -> 0 | U14: =TRUNC($O14*T14) -> 0 | V14: =W248 -> 2032000 | W14: =TRUNC($O14*V14) -> 2032000 | Z14: 제9호표
E15: =SUM(G15,I15,K15) -> 0 | G15: =TRUNC(C15*F15,0) -> 0 | I15: =TRUNC(C15*H15,0) -> 0 | K15: =TRUNC(C15*J15,0) -> 0 | M15: 수중모터펌프(5HP) 교체 | O15: 1 | P15: 개 | Q15: =S15+U15+W15+Y15 -> 2912000 | T15: =U273 -> 0 | U15: =TRUNC($O15*T15) -> 0 | V15: =W273 -> 2912000 | W15: =TRUNC($O15*V15) -> 2912000 | Z15: 제10호표
G16: =TRUNC(C16*F16,0) -> 0 | I16: =TRUNC(C16*H16,0) -> 0 | K16: =TRUNC(C16*J16,0) -> 0 | M16: 수중모터펌프(7.5HP) 교체 | O16: 1 | P16: 개 | Q16: =S16+U16+W16+Y16 -> 3424000 | T16: =U298 -> 0 | U16: =TRUNC($O16*T16) -> 0 | V16: =W298 -> 3424000 | W16: =TRUNC($O16*V16) -> 3424000 | Z16: 제11호표
E17: =SUM(G17,I17,K17) -> 0 | G17: =TRUNC(C17*F17,0) -> 0 | I17: =TRUNC(C17*H17,0) -> 0 | K17: =TRUNC(C17*J17,0) -> 0 | M17: 유량계 교체(32mm) 교체 | O17: 1 | P17: 개 | Q17: =S17+U17+W17+Y17 -> 140000 | T17: =U323 -> 0 | U17: =TRUNC($O17*T17) -> 0 | V17: =W323 -> 140000 | W17: =TRUNC($O17*V17) -> 140000 | Z17: 제12호표
E18: =SUM(G18,I18,K18) -> 0 | G18: =TRUNC(C18*F18,0) -> 0 | I18: =TRUNC(C18*H18,0) -> 0 | K18: =TRUNC(C18*J18,0) -> 0 | M18: 유량계 교체(40mm) 교체 | O18: 1 | P18: 개 | Q18: =S18+U18+W18+Y18 -> 147000 | T18: =U348 -> 0 | U18: =TRUNC($O18*T18) -> 0 | V18: =W348 -> 147000 | W18: =TRUNC($O18*V18) -> 147000 | Z18: 제13호표
E19: =SUM(G19,I19,K19) -> 0 | G19: =TRUNC(C19*F19,0) -> 0 | I19: =TRUNC(C19*H19,0) -> 0 | K19: =TRUNC(C19*J19,0) -> 0 | M19: 유량계 교체(50mm) 교체 | O19: 1 | P19: 개 | Q19: =S19+U19+W19+Y19 -> 250000 | T19: =U373 -> 0 | U19: =TRUNC($O19*T19) -> 0 | V19: =W373 -> 250000 | W19: =TRUNC($O19*V19) -> 250000 | Z19: 제14호표
E20: =SUM(G20,I20,K20) -> 0 | G20: =TRUNC(C20*F20,0) -> 0 | I20: =TRUNC(C20*H20,0) -> 0 | K20: =TRUNC(C20*J20,0) -> 0 | M20: 유량계 교체(50mm) 교체-플랜지타입 | O20: 1 | P20: 개 | Q20: =S20+U20+W20+Y20 -> 530000 | T20: =U398 -> 0 | U20: =TRUNC($O20*T20) -> 0 | V20: =W398 -> 530000 | W20: =TRUNC($O20*V20) -> 530000 | Z20: 제15호표
E21: =SUM(G21,I21,K21) -> 0 | G21: =TRUNC(C21*F21,0) -> 0 | I21: =TRUNC(C21*H21,0) -> 0 | K21: =TRUNC(C21*J21,0) -> 0
E22: =SUM(G22,I22,K22) -> 0 | G22: =TRUNC(C22*F22,0) -> 0 | I22: =TRUNC(C22*H22,0) -> 0 | K22: =TRUNC(C22*J22,0) -> 0
A23: 합 계 | E23: =G23+I23+K23 -> 19106332 | G23: =SUM(G7:G22) -> 4622028 | I23: =SUM(I7:I22) -> 4447090 | K23: =SUM(K7:K22) -> 10037214 | M23: 합 계 | Q23: =S23+W23+Y23 -> 10509755 | S23: =SUM(S6:S22) -> 251332 | U23: =SUM(U6:U22) -> 1864009 | W23: =SUM(W6:W22) -> 9615234 | Y23: =SUM(Y6:Y22) -> 643189
E24: 시설현황조사 | M24: <제1호표> | Q24: 기 계 기 구 설 치
A25: 1 | M25: 일 금 : | N25: =Q48 -> 523523 | O25: 원 | Q25: ( 회 당 ) | W25: 1 | X25: 회/일 | AB25: 지하수개발이용시설 공사 설계실무요령(2008)
A26: 공종별 | B26: 규격 | C26: 원수 | D26: 단위 | E26: 총 액 | F26: 직접인건비 | H26: 직 접 경 비 | L26: 산출근거 | M26: 공종별 | N26: 규격 | O26: 원수 | P26: 단위 | Q26: 총 액 | R26: 직접인건비 | T26: 직 접 경 비 | Z26: 산출근거
F27: 인건비 | H27: 재료비 | J27: 경비 | R27: 인건비 | T27: 노무비 | V27: 재료비 | X27: 경비
F28: 단 가 | G28: 금 액 | H28: 단 가 | I28: 금 액 | R28: 단 가 | S28: 금 액 | T28: 단 가 | U28: 금 액 | V28: 단 가 | W28: 금 액 | X28: 단 가 | Y28: 금 액
A29: =B75 -> 공내 촬영 | C29: ='[381]2-2. 공종별 내역(사후관리)'!#REF! -> #REF! | D29: m | E29: =SUM(G29,I29,K29) -> #REF! | F29: =G98 -> 4206 | G29: =TRUNC(C29*F29,0) -> #REF! | H29: =I98 -> 116 | I29: =TRUNC(C29*H29,0) -> #REF! | J29: =K98 -> 2261 | K29: =TRUNC(C29*J29,0) -> #REF! | M29: 보링공 | O29: =INT(1/W$25)*AC4 -> 0.83 | P29: 인 | Q29: =S29+U29+W29+Y29 -> 193026 | T29: ='단가(사후관리)'!E11 -> 232562 | U29: =TRUNC(O29*T29) -> 193026 | Z29: 조사비적산기준(2023) p.132 기계기구 설치
E30: =SUM(G30,I30,K30) -> 0 | G30: =TRUNC(C30*F30,0) -> 0 | I30: =TRUNC(C30*H30,0) -> 0 | K30: =TRUNC(C30*J30,0) -> 0 | M30: 특별인부 | O30: =INT(1/W$25)*AC4 -> 0.83 | P30: 인 | Q30: =S30+U30+W30+Y30 -> 187681 | T30: ='단가(사후관리)'!E12 -> 226122 | U30: =TRUNC(O30*T30) -> 187681
E31: =SUM(G31,I31,K31) -> 0 | G31: =TRUNC(C31*F31,0) -> 0 | I31: =TRUNC(C31*H31,0) -> 0 | K31: =TRUNC(C31*J31,0) -> 0 | M31: 보통인부 | O31: =INT(1/W$25)*AC4 -> 0.83 | P31: 인 | Q31: =S31+U31+W31+Y31 -> 142816 | T31: ='단가(사후관리)'!E13 -> 172068 | U31: =TRUNC(O31*T31) -> 142816
E32: =SUM(G32,I32,K32) -> 0 | G32: =TRUNC(C32*F32,0) -> 0 | I32: =TRUNC(C32*H32,0) -> 0 | K32: =TRUNC(C32*J32,0) -> 0
E33: =SUM(G33,I33,K33) -> 0 | G33: =TRUNC(C33*F33,0) -> 0 | I33: =TRUNC(C33*H33,0) -> 0 | K33: =TRUNC(C33*J33,0) -> 0
E34: =SUM(G34,I34,K34) -> 0 | G34: =TRUNC(C34*F34,0) -> 0 | I34: =TRUNC(C34*H34,0) -> 0 | K34: =TRUNC(C34*J34,0) -> 0
E35: =SUM(G35,I35,K35) -> 0 | G35: =TRUNC(C35*F35,0) -> 0 | I35: =TRUNC(C35*H35,0) -> 0 | K35: =TRUNC(C35*J35,0) -> 0
G36: =TRUNC(C36*F36,0) -> 0 | I36: =TRUNC(C36*H36,0) -> 0 | K36: =TRUNC(C36*J36,0) -> 0
E38: =SUM(G38,I38,K38) -> 0 | G38: =TRUNC(C38*F38,0) -> 0 | I38: =TRUNC(C38*H38,0) -> 0 | K38: =TRUNC(C38*J38,0) -> 0
E39: =SUM(G39,I39,K39) -> 0 | G39: =TRUNC(C39*F39,0) -> 0 | I39: =TRUNC(C39*H39,0) -> 0 | K39: =TRUNC(C39*J39,0) -> 0
E40: =SUM(G40,I40,K40) -> 0 | G40: =TRUNC(C40*F40,0) -> 0 | I40: =TRUNC(C40%*H40,0) -> 0 | K40: =TRUNC(C40*J40,0) -> 0
E41: =SUM(G41,I41,K41) -> 0 | G41: =TRUNC(C41*F41,0) -> 0 | I41: =TRUNC(C41*H41,0) -> 0 | K41: =TRUNC(C41*J41,0) -> 0
...

Sheet 5-1-2. 일위대가표(영향조사)
A1: 5-1-2. 지하수영향조사(연장허가) 일위대가표
A3: 공종별 | B3: 재료또는치수 | C3: 원수 | D3: 단위 | E3: 총액 | F3: 직접인건비 | H3: 직접경비 | N3: 산출근거
F4: 인건비 | H4: 노무비 | J4: 재료비 | L4: 경비
F5: 단가 | G5: 금액 | H5: 단가 | I5: 금액 | J5: 단가 | K5: 금액 | L5: 단가 | M5: 금액
A6: =A26 -> 기존자료 수집 | C6: 1 | D6: 지구 | E6: =SUM(G6,I6,K6,M6) -> 119466 | F6: =G50 -> 119466 | G6: =TRUNC(C6*F6,0) -> 119466 | H6: =I50 -> 0 | I6: =TRUNC(C6*H6,0) -> 0 | J6: =K50 -> 0 | K6: =TRUNC(C6*J6,0) -> 0 | L6: =M50 -> 0 | M6: =TRUNC(C6*L6,0) -> 0 | N6: <제1호표>
A7: =A51 -> 현지답사 | C7: 1 | D7: 지구 | E7: =SUM(G7,I7,K7,M7) -> 185921 | F7: =G75 -> 185921 | G7: =TRUNC(C7*F7,0) -> 185921 | H7: =I75 -> 0 | I7: =TRUNC(C7*H7,0) -> 0 | J7: =K75 -> 0 | K7: =TRUNC(C7*J7,0) -> 0 | L7: =M75 -> 0 | M7: =TRUNC(C7*L7,0) -> 0 | N7: <제2호표>
A8: =A76 -> 대수성시험 | C8: 1 | D8: 공 | E8: =SUM(G8,I8,K8,M8) -> 1578178 | F8: =G100 -> 663077 | G8: =TRUNC(C8*F8,0) -> 663077 | H8: =I100 -> 915101 | I8: =TRUNC(C8*H8,0) -> 915101 | J8: =K100 -> 0 | K8: =TRUNC(C8*J8,0) -> 0 | L8: =M100 -> 0 | M8: =TRUNC(C8*L8,0) -> 0 | N8: <제3호표>
A9: =A201 -> 적정취수량 및 영향범위 산정 | C9: 1 | D9: 공 | E9: =SUM(G9,I9,K9,M9) -> 93958 | F9: =G225 -> 93958 | G9: =TRUNC(C9*F9,0) -> 93958 | H9: =I225 -> 0 | I9: =TRUNC(C9*H9,0) -> 0 | J9: =K225 -> 0 | K9: =TRUNC(C9*J9,0) -> 0 | L9: =M225 -> 0 | M9: =TRUNC(C9*L9,0) -> 0 | N9: <제4호표>
A10: =A226 -> 수질검사비 | C10: 1 | D10: 회 | E10: =SUM(G10,I10,K10,M10) -> 109400 | F10: =G250 -> 0 | G10: =TRUNC(C10*F10,0) -> 0 | H10: =I250 -> 0 | I10: =TRUNC(C10*H10,0) -> 0 | J10: =K250 -> 0 | K10: =TRUNC(C10*J10,0) -> 0 | L10: =M250 -> 109400 | M10: =TRUNC(C10*L10,0) -> 109400 | N10: <제5호표>
A11: =A251 -> 보고서작성 | C11: 1 | D11: 지구 | E11: =SUM(G11,I11,K11,M11) -> 338336 | F11: =G275 -> 224656 | G11: =TRUNC(C11*F11,0) -> 224656 | H11: =I275 -> 0 | I11: =TRUNC(C11*H11,0) -> 0 | J11: =K275 -> 73680 | K11: =TRUNC(C11*J11,0) -> 73680 | L11: =M275 -> 40000 | M11: =TRUNC(C11*L11,0) -> 40000 | N11: <제6호표>
E12: =SUM(G12,K12,M12) -> 0 | G12: =TRUNC(C12*F12,0) -> 0 | K12: =TRUNC(C12*J12,0) -> 0 | M12: =TRUNC(C12*L12,0) -> 0
E13: =SUM(G13,K13,M13) -> 0 | G13: =TRUNC(C13*F13,0) -> 0 | K13: =TRUNC(C13*J13,0) -> 0 | M13: =TRUNC(C13*L13,0) -> 0
G14: =TRUNC(C14*F14,0) -> 0 | K14: =TRUNC(C14*J14,0) -> 0 | M14: =TRUNC(C14*L14,0) -> 0
G15: =TRUNC(C15*F15,0) -> 0 | K15: =TRUNC(C15*J15,0) -> 0 | M15: =TRUNC(C15*L15,0) -> 0
G16: =TRUNC(C16*F16,0) -> 0 | K16: =TRUNC(C16*J16,0) -> 0 | M16: =TRUNC(C16*L16,0) -> 0
G17: =TRUNC(C17*F17,0) -> 0 | K17: =TRUNC(C17*J17,0) -> 0 | M17: =TRUNC(C17*L17,0) -> 0
G18: =TRUNC(C18*F18,0) -> 0 | K18: =TRUNC(C18*J18,0) -> 0 | M18: =TRUNC(C18*L18,0) -> 0
G19: =TRUNC(C19*F19,0) -> 0 | K19: =TRUNC(C19*J19,0) -> 0 | M19: =TRUNC(C19*L19,0) -> 0
E20: =SUM(G20,K20,M20) -> 0 | G20: =TRUNC(C20*F20,0) -> 0 | K20: =TRUNC(C20*J20,0) -> 0 | M20: =TRUNC(C20*L20,0) -> 0
E21: =SUM(G21,K21,M21) -> 0 | G21: =TRUNC(C21*F21,0) -> 0 | K21: =TRUNC(C21*J21,0) -> 0 | M21: =TRUNC(C21*L21,0) -> 0
E22: =SUM(G22,K22,M22) -> 0 | G22: =TRUNC(C22*F22,0) -> 0 | K22: =TRUNC(C22*J22,0) -> 0 | M22: =TRUNC(C22*L22,0) -> 0
E24: =SUM(G24,K24,M24) -> 0 | G24: =TRUNC(C24*F24,0) -> 0 | K24: =TRUNC(C24*J24,0) -> 0 | M24: =TRUNC(C24*L24,0) -> 0
E25: =SUBTOTAL(9,E6:E24) -> 2425259 | G25: =SUBTOTAL(9,G6:G24) -> 1287078 | I25: =SUBTOTAL(9,I6:I24) -> 915101 | K25: =SUBTOTAL(9,K6:K24) -> 73680 | M25: =SUBTOTAL(9,M6:M24) -> 149400
A26: 기존자료 수집
A27: <제1호표> | N27: =C34 -> 0.192723
A28: 공종별 | B28: 재료또는치수 | C28: 원수 | D28: 단위 | E28: 총액 | F28: 직접인건비 | H28: 직접경비 | N28: 산출근거
F29: 인건비 | H29: 노무비 | J29: 재료비 | L29: 경비 | P29: ='[381]4. 외주용역비 총괄'!C16 -> 영향조사
F30: 단가 | G30: 금액 | H30: 단가 | I30: 금액 | J30: 단가 | K30: 금액 | L30: 단가 | M30: 금액
A31: <노무비> | E31: =SUM(G31,K31,M31) -> 0 | G31: =TRUNC(C31*F31,0) -> 0 | K31: =TRUNC(C31*J31,0) -> 0 | M31: =TRUNC(C31*L31,0) -> 0 | N31: 지하수 조사.계획 품셈(2022), P.13
A32: 특급기술자 | C32: =0.1*O32 -> 0.0385446 | D32: 인 | E32: =SUM(G32,I32,K32,M32) -> 14390 | F32: ='단가(영향조사)'!$B$4 -> 373353 | G32: =TRUNC(C32*F32,0) -> 14390 | K32: =TRUNC(C32*J32,0) -> 0 | M32: =TRUNC(C32*L32,0) -> 0 | O32: 0.385446
A33: 고급기술자 | C33: 0 | D33: 인 | E33: =SUM(G33,I33,K33,M33) -> 0 | F33: ='단가(영향조사)'!$B$5 -> 310884 | G33: =TRUNC(C33*F33,0) -> 0 | K33: =TRUNC(C33*J33,0) -> 0 | M33: =TRUNC(C33*L33,0) -> 0
A34: 중급기술자 | C34: =0.5*O32 -> 0.192723 | D34: 인 | E34: =SUM(G34,I34,K34,M34) -> 56879 | F34: ='단가(영향조사)'!$B$6 -> 295138 | G34: =TRUNC(C34*F34,0) -> 56879 | K34: =TRUNC(C34*J34,0) -> 0 | M34: =TRUNC(C34*L34,0) -> 0
A35: 초급기술자 | C35: 0 | D35: 인 | E35: =SUM(G35,I35,K35,M35) -> 0 | F35: ='단가(영향조사)'!$B$7 -> 235459 | G35: =TRUNC(C35*F35,0) -> 0 | K35: =TRUNC(C35*J35,0) -> 0 | M35: =TRUNC(C35*L35,0) -> 0
A36: 중급숙련기술자 | C36: =0.5*O32 -> 0.192723 | D36: 인 | E36: =SUM(G36,I36,K36,M36) -> 48197 | F36: ='단가(영향조사)'!$B$9 -> 250087 | G36: =TRUNC(C36*F36,0) -> 48197 | K36: =TRUNC(C36*J36,0) -> 0 | M36: =TRUNC(C36*L36,0) -> 0
A37: 초급숙련기술자 | C37: 0 | D37: 인 | E37: =SUM(G37,I37,K37,M37) -> 0 | F37: ='단가(영향조사)'!$B$10 -> 218142 | G37: =TRUNC(C37*F37,0) -> 0 | K37: =TRUNC(C37*J37,0) -> 0 | M37: =TRUNC(C37*L37,0) -> 0
A38: 보링공 | D38: 인 | E38: =SUM(G38,I38,K38,M38) -> 0 | G38: =TRUNC(C38*F38,0) -> 0 | J38: ='단가(영향조사)'!$B$11 -> 232562 | K38: =TRUNC(C38*J38,0) -> 0 | M38: =TRUNC(C38*L38,0) -> 0
A39: 특별인부 | D39: 인 | E39: =SUM(G39,I39,K39,M39) -> 0 | G39: =TRUNC(C39*F39,0) -> 0 | J39: ='단가(영향조사)'!$B$12 -> 226122 | K39: =TRUNC(C39*J39,0) -> 0 | M39: =TRUNC(C39*L39,0) -> 0
A40: 보통인부 | D40: 인 | E40: =SUM(G40,I40,K40,M40) -> 0 | G40: =TRUNC(C40*F40,0) -> 0 | J40: ='단가(영향조사)'!$B$13 -> 172068 | K40: =TRUNC(C40*J40,0) -> 0 | M40: =TRUNC(C40*L40,0) -> 0
A41: <재료비> | B41: <<기존자료 수집 및 현지답사 포함사항>> | G41: =TRUNC(C41*F41,0) -> 0 | K41: =TRUNC(C41*J41,0) -> 0 | M41: =TRUNC(C41*L41,0) -> 0 | N41: 지하수 조사.계획 품셈(2022), P.12
B42: 정천현황조사(현장실사) | G42: =TRUNC(C42*F42,0) -> 0 | K42: =TRUNC(C42*J42,0) -> 0 | M42: =TRUNC(C42*L42,0) -> 0
...

Sheet 5-1-3. 일위대가표(사후관리)
E1: 사후관리 | M1: 5-1-3. 지하수사후관리 일위대가표
M2: 일 금 : | N2: =Q23 -> 10472515 | P2: 원 | X2: 기 종 : 콤프레샤 21kg/cm2 이상
A3: 공종별 | B3: 규격 | C3: 원수 | D3: 단위 | E3: 총 액 | F3: 직접인건비 | H3: 직 접 경 비 | L3: 산출근거 | M3: 공종별 | N3: 규격 | O3: 원수 | P3: 단위 | Q3: 총 액 | R3: 직접인건비 | T3: 직 접 경 비 | Z3: 산출근거
F4: 인건비 | H4: 재료비 | J4: 경비 | R4: 인건비 | T4: 노무비 | V4: 재료비 | X4: 경비 | AB4: 원수조정 | AC4: 0.70467
F5: 단 가 | G5: 금 액 | H5: 단 가 | I5: 금 액 | R5: 단 가 | S5: 금 액 | T5: 단 가 | U5: 금 액 | V5: 단 가 | W5: 금 액 | X5: 단 가 | Y5: 금 액
A6: =E24 -> 시설현황조사 | C6: =#REF! -> #REF! | D6: 회 | E6: =SUM(G6,I6,K6) -> #REF! | G6: =G48 -> #REF! | I6: =I48 -> #REF! | K6: =K48 -> #REF! | M6: 기계기구설치 | O6: 1 | P6: 회 | Q6: =S6+U6+W6+Y6 -> 444471 | R6: =S48 -> 0 | S6: =TRUNC($O6*R6) -> 0 | T6: =U48 -> 444471 | U6: =TRUNC($O6*T6) -> 444471 | V6: =W48 -> 0 | W6: =TRUNC($O6*V6) -> 0 | X6: =Y48 -> 0 | Y6: =TRUNC($O6*X6) -> 0 | Z6: 제1호표
A7: =E99 -> 공내청소 | C7: =C106 -> 966 | D7: m | E7: =SUM(G7,I7,K7) -> 19049484 | G7: =G123 -> 4622028 | I7: =I123 -> 4390242 | K7: =K123 -> 10037214 | M7: 수중펌프설치인양 | O7: 1 | P7: 회 | Q7: =S7+U7+W7+Y7 -> 1473221 | R7: =S73 -> 207974 | S7: =TRUNC($O7*R7) -> 207974 | T7: =U73 -> 1120895 | U7: =TRUNC($O7*T7) -> 1120895 | V7: =W73 -> 61736 | W7: =TRUNC($O7*V7) -> 61736 | X7: =Y73 -> 82616 | Y7: =TRUNC($O7*X7) -> 82616 | Z7: 제2호표
A8: =E424 -> 시설정비 및 설치 | C8: ='[381]2-2. 공종별 내역(사후관리)'!L5 -> 12 | D8: 회 | E8: =SUM(G8,I8,K8) -> 56848 | G8: =G448 -> 0 | I8: =I448 -> 56848 | K8: =K448 -> 0 | M8: 에어써징(고압압축 불기공법) | O8: 1 | P8: m | Q8: =S8+U8+W8+Y8 -> 14351 | R8: =S98 -> 2385 | S8: =TRUNC($O8*R8) -> 2385 | T8: =U98 -> 3783 | U8: =TRUNC($O8*T8) -> 3783 | V8: =W98 -> 7498 | W8: =TRUNC($O8*V8) -> 7498 | X8: =Y98 -> 685 | Y8: =TRUNC($O8*X8) -> 685 | Z8: 제3호표
E9: =SUM(G9,I9,K9) -> 0 | G9: =TRUNC(C9*F9,0) -> 0 | I9: =TRUNC(C9*H9,0) -> 0 | K9: =TRUNC(C9*J9,0) -> 0 | M9: 검사 및 정비 | O9: 1 | P9: 회 | Q9: =S9+U9+W9+Y9 -> 92767 | R9: =S123 -> 0 | S9: =TRUNC($O9*R9) -> 0 | T9: =U123 -> 71281 | U9: =TRUNC($O9*T9) -> 71281 | V9: =W123 -> 0 | W9: =TRUNC($O9*V9) -> 0 | X9: =Y123 -> 21486 | Y9: =TRUNC($O9*X9) -> 21486 | Z9: 제4호표
E10: =SUM(G10,I10,K10) -> 0 | G10: =TRUNC(C10*F10,0) -> 0 | I10: =TRUNC(C10*H10,0) -> 0 | K10: =TRUNC(C10*J10,0) -> 0 | M10: 수위측정관설치 | O10: 1 | P10: m | Q10: =S10+U10+W10+Y10 -> 1000 | R10: =S148 -> 0 | S10: =TRUNC($O10*R10) -> 0 | T10: =U148 -> 0 | U10: =TRUNC($O10*T10) -> 0 | V10: =W148 -> 1000 | W10: =TRUNC($O10*V10) -> 1000 | X10: =Y148 -> 0 | Y10: =TRUNC($O10*X10) -> 0 | Z10: 제5호표
E11: =SUM(G11,I11,K11) -> 0 | G11: =TRUNC(C11*F11,0) -> 0 | I11: =TRUNC(C11*H11,0) -> 0 | K11: =TRUNC(C11*J11,0) -> 0 | M11: 운반비 | O11: 1 | P11: 회 | Q11: =S11+U11+W11+Y11 -> 537402 | R11: =S173 -> 0 | S11: =TRUNC($O11*R11) -> 0 | T11: =U173 -> 0 | U11: =TRUNC($O11*T11) -> 0 | V11: =W173 -> 0 | W11: =TRUNC($O11*V11) -> 0 | X11: =Y173 -> 537402 | Y11: =TRUNC($O11*X11) -> 537402 | Z11: 제6호표
M12: 지하수이용시설 안내문 설치 | O12: 1 | P12: 식 | Q12: =S12+U12+W12+Y12 -> 110000 | R12: =S198 -> 0 | T12: =U198 -> 0 | U12: =TRUNC($O12*T12) -> 0 | V12: =W198 -> 110000 | W12: =TRUNC($O12*V12) -> 110000 | Z12: 제7호표
M13: 수중TV검층 | O13: 1 | P13: m | Q13: =S13+U13+W13+Y13 -> 6994 | R13: =S223 -> 3733 | S13: =TRUNC($O13*R13) -> 3733 | T13: =U223 -> 2261 | U13: =TRUNC($O13*T13) -> 2261 | V13: =W223 -> 0 | W13: =TRUNC($O13*V13) -> 0 | X13: =Y223 -> 1000 | Y13: =TRUNC($O13*X13) -> 1000 | Z13: 제8호표
E14: =SUM(G14,I14,K14) -> 0 | G14: =TRUNC(C14*F14,0) -> 0 | I14: =TRUNC(C14*H14,0) -> 0 | K14: =TRUNC(C14*J14,0) -> 0 | M14: 수중모터펌프(3HP) 교체 | O14: 1 | P14: 개 | Q14: =S14+U14+W14+Y14 -> 2032000 | T14: =U248 -> 0 | U14: =TRUNC($O14*T14) -> 0 | V14: =W248 -> 2032000 | W14: =TRUNC($O14*V14) -> 2032000 | Z14: 제9호표
E15: =SUM(G15,I15,K15) -> 0 | G15: =TRUNC(C15*F15,0) -> 0 | I15: =TRUNC(C15*H15,0) -> 0 | K15: =TRUNC(C15*J15,0) -> 0 | M15: 수중모터펌프(5HP) 교체 | O15: 1 | P15: 개 | Q15: =S15+U15+W15+Y15 -> 2912000 | T15: =U273 -> 0 | U15: =TRUNC($O15*T15) -> 0 | V15: =W273 -> 2912000 | W15: =TRUNC($O15*V15) -> 2912000 | Z15: 제10호표
G16: =TRUNC(C16*F16,0) -> 0 | I16: =TRUNC(C16*H16,0) -> 0 | K16: =TRUNC(C16*J16,0) -> 0 | M16: 수중모터펌프(7.5HP) 교체 | O16: 1 | P16: 개 | Q16: =S16+U16+W16+Y16 -> 3424000 | T16: =U298 -> 0 | U16: =TRUNC($O16*T16) -> 0 | V16: =W298 -> 3424000 | W16: =TRUNC($O16*V16) -> 3424000 | Z16: 제11호표
E17: =SUM(G17,I17,K17) -> 0 | G17: =TRUNC(C17*F17,0) -> 0 | I17: =TRUNC(C17*H17,0) -> 0 | K17: =TRUNC(C17*J17,0) -> 0 | M17: 유량계 교체(32mm) 교체 | O17: 1 | P17: 개 | Q17: =S17+U17+W17+Y17 -> 140000 | T17: =U323 -> 0 | U17: =TRUNC($O17*T17) -> 0 | V17: =W323 -> 140000 | W17: =TRUNC($O17*V17) -> 140000 | Z17: 제12호표
E18: =SUM(G18,I18,K18) -> 0 | G18: =TRUNC(C18*F18,0) -> 0 | I18: =TRUNC(C18*H18,0) -> 0 | K18: =TRUNC(C18*J18,0) -> 0 | M18: 유량계 교체(40mm) 교체 | O18: 1 | P18: 개 | Q18: =S18+U18+W18+Y18 -> 147000 | T18: =U348 -> 0 | U18: =TRUNC($O18*T18) -> 0 | V18: =W348 -> 147000 | W18: =TRUNC($O18*V18) -> 147000 | Z18: 제13호표
E19: =SUM(G19,I19,K19) -> 0 | G19: =TRUNC(C19*F19,0) -> 0 | I19: =TRUNC(C19*H19,0) -> 0 | K19: =TRUNC(C19*J19,0) -> 0 | M19: 유량계 교체(50mm) 교체 | O19: 1 | P19: 개 | Q19: =S19+U19+W19+Y19 -> 250000 | T19: =U373 -> 0 | U19: =TRUNC($O19*T19) -> 0 | V19: =W373 -> 250000 | W19: =TRUNC($O19*V19) -> 250000 | Z19: 제14호표
E20: =SUM(G20,I20,K20) -> 0 | G20: =TRUNC(C20*F20,0) -> 0 | I20: =TRUNC(C20*H20,0) -> 0 | K20: =TRUNC(C20*J20,0) -> 0 | M20: 유량계 교체(50mm) 교체-플랜지타입 | O20: 1 | P20: 개 | Q20: =S20+U20+W20+Y20 -> 530000 | T20: =U398 -> 0 | U20: =TRUNC($O20*T20) -> 0 | V20: =W398 -> 530000 | W20: =TRUNC($O20*V20) -> 530000 | Z20: 제15호표
