Workbook
Name ___A999999: #REF!
Name ___A999999: #REF!
Name ___LL1: #REF!
Name ___LL1: #REF!
Name ___RD5: [1]교각계산!$K$86
Name ___SBB1: #REF!
Name ___SBB2: #REF!
Name ___SBB3: #REF!
Name ___SBB4: #REF!
Name ___SBB5: #REF!
Name ___SHH1: #REF!
Name ___SHH2: #REF!
Name ___SHH3: #REF!
Name ___XS1: [1]교각계산!$M$40
Name __A183154: #REF!
Name __A183154: #REF!
Name __A999999: #REF!
Name __A999999: #REF!
Name __A999999: #REF!
Name __A999999: #REF!
Name __A999999: #REF!
Name __A999999: #REF!
Name __LL1: #REF!
Name __LL1: #REF!
Name __LL1: #REF!
Name __LL1: #REF!
Name __LL1: #REF!
Name __PH2: '[3]기둥(원형)'!#REF!
Name __PNO10: [4]INPUT!#REF!
Name __PNO3: [4]INPUT!#REF!
Name __PNO4: [4]INPUT!#REF!
Name __PNO5: [4]INPUT!#REF!
Name __PNO6: [4]INPUT!#REF!
Name __PNO7: [4]INPUT!#REF!
Name __PNO8: [4]INPUT!#REF!
Name __PNO9: [4]INPUT!#REF!
Name __RD5: [5]교각계산!$K$86
Name __SBB1: #REF!
Name __SBB1: #REF!
Name __SBB2: #REF!
Name __SBB2: #REF!
Name __SBB3: #REF!
Name __SBB3: #REF!
Name __SBB4: #REF!
Name __SBB5: #REF!
Name __SHH1: #REF!
Name __SHH2: #REF!
Name __SHH3: #REF!
Name __XS1: [5]교각계산!$M$40
Name _0: [6]직재!#REF!
Name _01: #REF!
Name _01: #REF!
Name _02: #REF!
Name _02: #REF!
Name _03: #REF!
Name _03: #REF!
Name _1: #REF!
Name _1: #REF!
Name _1: #REF!
Name _1: #REF!

Sheet 1.사업개요
A4: 2026년 공사관리 지하수시설물 원상복구공사 외주시행계획서
A10: 2026. 8.
A20: 강원지역본부 지하수지질부
A24: 1. 사업시행 개요
A26: 가. 사 업 명 : | C26: 2026년 공사관리 지하수시설물 원상복구공사
A27: 나. 목 적 : | C27: 농업생산기반시설폐지로 이용종료 시설의 지하환경 오염 예방을 위한 원상복구
A28: 다. 위 치 : | C28: 강원특별자치도 춘천시 및 횡성군 일원
A29: 라. 사 업 량 : | C29: 원상복구 2개소
A30: 마. 사업기간 : | C30: 계약일로부터 27일간
A31: 바. 사 업 비: | C31: ='4. 공사비총괄표'!G34 -> 10571000 | D31: 원
C33: 301290000

Sheet 2.조사량 및 시행방법
B1: 2. 조사량 및 시행방법
B2: 조사항목 | C2: 조사공종 | D2: 조사량 | E2: 시행방법 | F2: 비 고
B3: 공사관리관정 유지관리
B4: 1.지하수 수질검사 | C4: - 지하수 수질 채취 및 분석 | D4: ='2-1.사업수량표'!B6 -> 43 | F4: - 지하수 수질보전을 지속적으로 파악하여 국민보건 위생상 안전하고 깨끗한 지하수를 사용하기 위함
B5: 2. 지하수영향조사 | C5: - 연장허가기간이 도래한 지하수관정에 대한 영향조사 | D5: ='2-1.사업수량표'!D6 -> 37 | E5: 외주시행 | F5: - 공사관리 관정의 수리 및 정비를 통해 농업기반시설의 선량한 유지관리 도모
B6: 3. 지하수사후관리 | C6: -양수시설 인양세척 및 주변정리 - 취수정내부 고압세척 - 수중모터 및 동력선 점검 - 양수장옥, 방호시설 등 도색 | D6: ='2-1.사업수량표'!E6 -> 13 | F6: - 지하수시설에 대한 법적 시설물 및 안내표지판 설치를 통한 지하수시설물의 효율적 관리로 원활한 영농용수 공급을 위함
B7: 4. 원상복구(폐공) | C7: - 도시계획 편입 등 목적을 상실한 관정에 대한 원상복구 등 | D7: ='2-1.사업수량표'!F6 -> 2

Sheet 2-1.사업수량표
A1: 2-1. 2026년 사업수량표(지사별)
A3: 지사별
C4: 외주 사업량
B5: 수질검사 | C5: 계 | D5: 영향조사 | E5: 사후관리 | F5: 원상복구
A6: 계 | B6: =SUM(B7:B11) -> 43 | C6: =SUM(C7:C11) -> 52 | D6: =SUM(D7:D11) -> 37 | E6: =SUM(E7:E11) -> 13 | F6: =SUM(F7:F11) -> 2
A7: 홍천·춘천지사 | B7: 0 | C7: =SUM(D7:F7) -> 23 | D7: ='2-3.지구별내역(지하수영향조사)'!C5 -> 17 | E7: ='2-4.지구별내역(지하수사후관리)'!C6 -> 4 | F7: ='2. 관정내역'!C4 -> 2
A8: 원주지사 | B8: ='2-2.지구별내역(정기수질검사)'!C50 -> 1 | C8: =SUM(D8:F8) -> 0 | D8: 0 | E8: 0 | F8: 0
A9: 강릉지사 | B9: ='2-2.지구별내역(정기수질검사)'!C44 -> 2 | C9: =SUM(D9:F9) -> 2 | D9: ='2-3.지구별내역(지하수영향조사)'!C43 -> 1 | E9: ='2-4.지구별내역(지하수사후관리)'!C11 -> 1 | F9: 0
A10: 속초·고성·양양지사 | B10: ='2-2.지구별내역(정기수질검사)'!C47 -> 2 | C10: =SUM(D10:F10) -> 0 | D10: 0 | E10: 0 | F10: 0
A11: 철원·화천지사 | B11: ='2-2.지구별내역(정기수질검사)'!C5 -> 38 | C11: =SUM(D11:F11) -> 27 | D11: ='2-3.지구별내역(지하수영향조사)'!C23 -> 19 | E11: ='2-4.지구별내역(지하수사후관리)'!C13 -> 8 | F11: 0

Sheet 2-2.지구별내역(영향조사)
A1: 2-2. 지구별 내역(영향조사)
A2: 사업구분 | B2: 관할 지사 | C2: 시설명 | D2: 시설 형태 | E2: 위치 | I2: 허가/신고번호 | J2: 허가 신고량 (m3/D) | K2: 유효기간시작일 | L2: 유효기간만료일 | M2: 비 고
E3: 시군 | F3: 읍면 | G3: 동리 | H3: 지번
A4: - 영향조사 소계 | C4: =COUNTA(C5:C25) -> 21 | D4: 개소
A5: 영향조사 | B5: 철원 | C5: 암반20호 | D5: 암반 | E5: 철원군 | F5: 철원읍 | G5: 내포리 | H5: 2-4 | I5: 제1200200016호 | J5: 700 | K5: 43318 | L5: 45112 | M5: 연장허가
C6: 암반38호 | D6: 암반 | E6: 철원군 | F6: 동송읍 | G6: 이평리 | H6: 1521 | I6: 제1200200026호 | J6: 400 | K6: 43318 | L6: 45112 | M6: ″
C7: 암반40호 | D7: 암반 | E7: 철원군 | F7: 동송읍 | G7: 오덕리 | H7: 3460 | I7: 제1200200028호 | J7: 1100 | K7: 43318 | L7: 45112 | M7: ″
C8: 암반41호 | D8: 암반 | E8: 철원군 | F8: 동송읍 | G8: 관우리 | H8: 791-1 | I8: 제1200200029호 | J8: 600 | K8: 43318 | L8: 45112 | M8: ″
C9: 암반42호 | D9: 암반 | E9: 철원군 | F9: 동송읍 | G9: 관우리 | H9: 1655 | I9: 제1200200030호 | J9: 700 | K9: 43318 | L9: 45112 | M9: ″
C10: 암반43호 | D10: 암반 | E10: 철원군 | F10: 동송읍 | G10: 대위리 | H10: 225-2 | I10: 제1200200031호 | J10: 650 | K10: 43318 | L10: 45112 | M10: ″
C11: 암반44호 | D11: 암반 | E11: 철원군 | F11: 동송읍 | G11: 관우리 | H11: 734-2 | I11: 제1200200032호 | J11: 500 | K11: 43318 | L11: 45112 | M11: ″
C12: 암반45호 | D12: 암반 | E12: 철원군 | F12: 동송읍 | G12: 상노리 | H12: 1246 | I12: 제1200200033호 | J12: 740 | K12: 43318 | L12: 45112 | M12: ″
C13: 암반48호 | D13: 암반 | E13: 철원군 | F13: 동송읍 | G13: 오지리 | H13: 1778 | I13: 제1200200035호 | J13: 650 | K13: 43318 | L13: 45112 | M13: ″
C14: 암반49호 | D14: 암반 | E14: 철원군 | F14: 동송읍 | G14: 강산리 | H14: 2485 | I14: 제1200200036호 | J14: 650 | K14: 43318 | L14: 45112 | M14: ″
C15: 암반50호 | D15: 암반 | E15: 철원군 | F15: 동송읍 | G15: 강산리 | H15: 2997 | I15: 제1200200045호 | J15: 850 | K15: 43318 | L15: 45112 | M15: ″
C16: 암반51호 | D16: 암반 | E16: 철원군 | F16: 동송읍 | G16: 하갈리 | H16: 1622 | I16: 제1200200037호 | J16: 370 | K16: 43318 | L16: 45112 | M16: ″
C17: 암반52호 | D17: 암반 | E17: 철원군 | F17: 동송읍 | G17: 하갈리 | H17: 1134 | I17: 제1200200038호 | J17: 800 | K17: 43318 | L17: 45112 | M17: ″
... C25: 암반60호 | D25: 암반 | E25: 철원군 | F25: 동송읍 | G25: 오지리 | H25: 159 | I25: 제2200100125호 | J25: 600 | K25: 43318 | L25: 45112 | M25: ″

Sheet 2-2.지구별내역(정기수질검사)
A1: 2-2. 지구별 내역(정기수질검사)
A2: 사업구분 | B2: 관할지사 | C2: 시설명 | D2: 사용형태 | E2: 위치 | I2: 허가번호 | J2: 양수능력 (㎥/D) | K2: 최근 수질검사 이행종료일
E3: 시군 | F3: 읍면 | G3: 동리 | H3: 지번
A4: 수질검사 계 | C4: =C5+C44+C47+C50 -> 43 | D4: 개소
B5: 소계 | C5: =COUNTA(C6:C43) -> 38 | D5: 개소
B6: 철원·화천 (38) | C6: 암반49호 | D6: 암반 | E6: 철원군 | F6: 동송읍 | G6: 강산리 | H6: 2485 | I6: 제1200200036호 | J6: 650 | K6: 45085
C7: 암반55호 | D7: 암반 | E7: 철원군 | F7: 동송읍 | G7: 강산리 | H7: 2493 | I7: 제1200200041호 | J7: 700 | K7: 45085
C8: 암반54호 | D8: 암반 | E8: 철원군 | F8: 동송읍 | G8: 강산리 | H8: 2506 | I8: 제1200200040호 | J8: 600 | K8: 45085
C9: 암반50호 | D9: 암반 | E9: 철원군 | F9: 동송읍 | G9: 강산리 | H9: 2997 | I9: 제1200200045호 | J9: 850 | K9: 45085
C10: 암반56호 | D10: 암반 | E10: 철원군 | F10: 동송읍 | G10: 관우리 | H10: 518 | I10: 제2200100122호 | J10: 400 | K10: 45085
C11: 암반44호 | D11: 암반 | E11: 철원군 | F11: 동송읍 | G11: 관우리 | H11: 734-2 | I11: 제1200200032호 | J11: 500 | K11: 45085
C12: 암반41호 | D12: 암반 | E12: 철원군 | F12: 동송읍 | G12: 관우리 | H12: 791-1 | I12: 제1200200029호 | J12: 600 | K12: 45085
C13: 암반42호 | D13: 암반 | E13: 철원군 | F13: 동송읍 | G13: 관우리 | H13: 1655 | I13: 제1200200030호 | J13: 700 | K13: 45085
C14: 암반43호 | D14: 암반 | E14: 철원군 | F14: 동송읍 | G14: 대위리 | H14: 193-24 | I14: 제1200200031호 | J14: 650 | K14: 45085
C15: 암반45호 | D15: 암반 | E15: 철원군 | F15: 동송읍 | G15: 상노리 | H15: 1246 | I15: 제1200200033호 | J15: 740 | K15: 45085
C16: 암반40호 | D16: 암반 | E16: 철원군 | F16: 동송읍 | G16: 오덕리 | H16: 3460 | I16: 제1200200028호 | J16: 1100 | K16: 45085
C17: 암반60호 | D17: 암반 | E17: 철원군 | F17: 동송읍 | G17: 오지리 | H17: 159 | I17: 제2200100125호 | J17: 600 | K17: 45085
C18: 암반48호 | D18: 암반 | E18: 철원군 | F18: 동송읍 | G18: 오지리 | H18: 1778 | I18: 제1200200035호 | J18: 650 | K18: 45085
C19: 암반38호 | D19: 암반 | E19: 철원군 | F19: 동송읍 | G19: 이평리 | H19: 1521 | I19: 제1200200026호 | J19: 400 | K19: 45085
C20: 암반52호 | D20: 암반 | E20: 철원군 | F20: 동송읍 | G20: 하갈리 | H20: 1134 | I20: 제1200200038호 | J20: 800 | K20: 45085
C21: 암반53호 | D21: 암반 | E21: 철원군 | F21: 동송읍 | G21: 하갈리 | H21: 1135 | I21: 제1200200039호 | J21: 800 | K21: 45085
C22: 암반51호 | D22: 암반 | E22: 철원군 | F22: 동송읍 | G22: 하갈리 | H22: 1622 | I22: 제1200200037호 | J22: 370 | K22: 45085
C23: 암반59호 | D23: 암반 | E23: 철원군 | F23: 동송읍 | G23: 하갈리 | H23: 1626 | I23: 제2200100123호 | J23: 600 | K23: 45085
C24: 암반20호 | D24: 암반 | E24: 철원군 | F24: 철원읍 | G24: 내포리 | H24: 2-4 | I24: 제1200200016호 | J24: 700 | K24: 45085
C25: 암반58호 | D25: 암반 | E25: 철원군 | F25: 동송읍 | G25: 관우리 | H25: 6 | I25: 제2200100121호 | J25: 600 | K25: 45090
C26: 암반57호 | D26: 암반 | E26: 철원군 | F26: 동송읍 | G26: 대위리 | H26: 205-7 | I26: 제2200100124호 | J26: 400 | K26: 45090
C27: 암반64호 | D27: 암반 | E27: 철원군 | F27: 동송읍 | G27: 강산리 | H27: 2931 | I27: 제2201700002호 | J27: 145 | K27: 45139
C28: 암반63호 | D28: 암반 | E28: 철원군 | F28: 동송읍 | G28: 강산리 | H28: 2998 | I28: 제2201600169호 | J28: 145 | K28: 45139
C29: 암반27호 | D29: 암반 | E29: 철원군 | F29: 동송읍 | G29: 상노리 | H29: 1239 | I29: 제2199800006호 | J29: 150 | K29: 45139
C30: 암반26호 | D30: 암반 | E30: 철원군 | F30: 동송읍 | G30: 오지리 | H30: 1879 | I30: 제2199800005호 | J30: 150 | K30: 45139
C31: 암반31호 | D31: 암반 | E31: 철원군 | F31: 철원읍 | G31: 사요리 | H31: 921-3 | I31: 제2199800010호 | J31: 144 | K31: 45139
C32: 암반30호 | D32: 암반 | E32: 철원군 | F32: 철원읍 | G32: 사요리 | H32: 922-3 | I32: 제2199800011호 | J32: 144 | K32: 45139
C33: 암반28호 | D33: 암반 | E33: 철원군 | F33: 철원읍 | G33: 외촌리 | H33: 677 | I33: 제2199800009호 | J33: 150 | K33: 45139
C34: 암반29호 | D34: 암반 | E34: 철원군 | F34: 철원읍 | G34: 외촌리 | H34: 687-9 | I34: 제2199800008호 | J34: 144 | K34: 45139
C35: 암반70호 | D35: 암반 | E35: 철원군 | F35: 철원읍 | G35: 중세리 | H35: 497-8 | I35: 제2201600157호 | J35: 145 | K35: 45139
C36: 암반69호 | D36: 암반 | E36: 철원군 | F36: 갈말읍 | G36: 정연리 | H36: 1713 | I36: 제2201700032호 | J36: 145 | K36: 45140
C37: 암반66호 | D37: 암반 | E37: 철원군 | F37: 동송읍 | G37: 관우리 | H37: 930-2 | I37: 제2201600186호 | J37: 145 | K37: 45140
C38: 암반65호 | D38: 암반 | E38: 철원군 | F38: 동송읍 | G38: 관우리 | H38: 1949 | I38: 제2201600184호 | J38: 145 | K38: 45140
C39: 암반68호 | D39: 암반 | E39: 철원군 | F39: 동송읍 | G39: 이길리 | H39: 481-1 | I39: 제2201700033호 | J39: 145 | K39: 45140
C40: 암반72호 | D40: 암반 | E40: 철원군 | F40: 동송읍 | G40: 하갈리 | H40: 1633 | I40: 제2201700140호 | J40: 145 | K40: 45140
C41: 암반71호 | D41: 암반 | E41: 철원군 | F41: 동송읍 | G41: 하갈리 | H41: 1870 | I41: 제2201700139호 | J41: 145 | K41: 45140
C42: 암반73호 | D42: 암반 | E42: 철원군 | F42: 동송읍 | G42: 하갈리 | H42: 1942 | I42: 제2201700141호 | J42: 145 | K42: 45140
C43: 암반67호 | D43: 암반 | E43: 철원군 | F43: 철원읍 | G43: 외촌리 | H43: 710 | I43: 제2201600185호 | J43: 145 | K43: 45140
B44: 소계 | C44: =COUNTA(C45:C46) -> 2 | D44: 개소
B45: 강릉(2) | C45: 동덕1 | D45: 암반 | E45: 강릉시 | F45: 연곡면 | G45: 동덕리 | H45: 1657 | I45: 제2201000190호 | J45: 142 | K45: 45155
C46: 성덕2 | D46: 충적 | E46: 강릉시 | F46: 월호평동 | H46: 647 | I46: 제20-2호 | J46: 140 | K46: 45187
B47: 소계 | C47: =COUNTA(C48:C49) -> 2 | D47: 개소
B48: 속초·고성·양양 (2) | C48: 1가10 | D48: 충적 | E48: 양양군 | F48: 양양읍 | G48: 조산리 | H48: 123-1 | I48: 제11-02호 | J48: 150 | K48: 45155
C49: 1가11 | D49: 충적 | E49: 양양군 | F49: 양양읍 | G49: 조산리 | H49: 123-3 | I49: 제11-03호 | J49: 150 | K49: 45155
B50: 소계 | C50: =COUNTA(C51) -> 1 | D50: 개소
B51: 원주(1) | C51: 손곡2호 | D51: 암반 | E51: 원주시 | F51: 부론면 | G51: 손곡리 | H51: 1242 | I51: 제2017-456호 | J51: 145 | K51: 45163
A94: 시행시 제외할것

Sheet 2-3.지구별내역(지하수영향조사)
A1: 2-3. 지구별 내역(지하수영향조사)
A2: 사업구분 | B2: 관할지사 | C2: 시설명 | D2: 사용형태 | E2: 위치 | I2: 신고 및 허가번호 | J2: 양수능력 (㎥/D) | K2: 심도 | L2: 펌프설치 심도 | M2: 구경 | N2: 토출관구경(mm)
E3: 시군 | F3: 읍면 | G3: 동리 | H3: 지번
A4: 지하수영향조사 (37) | C4: =C5+C23+C43 -> 37 | D4: 개소
A5: 지하수영향조사 (37) | B5: 소계 | C5: =COUNTA(C6:C22) -> 17 | D5: 개소
B6: 홍천·춘천 (17) | C6: 금산 | D6: 암반 | E6: 춘천시 | F6: 서면 | G6: 금산리 | H6: 1188 | I6: 1201100006 | J6: 350 | K6: 70 | L6: 65 | M6: 250 | N6: 80
C7: 용산2 | D7: 암반 | E7: 춘천시 | G7: 신동 | H7: 989-2 | I7: 16-03 | J7: 380 | K7: 220 | L7: 54 | M7: 250 | N7: 50
C8: 신동 | D8: 암반 | E8: 춘천시 | G8: 신동 | H8: 1308-2 | I8: 1201100008 | J8: 350 | K8: 70 | L8: 50 | M8: 200 | N8: 80
C9: 산천1 | D9: 암반 | E9: 춘천시 | F9: 신북읍 | G9: 산천리 | H9: 926 | I9: 1201100011 | J9: 450 | K9: 74 | L9: 40 | M9: 200 | N9: 80
C10: 산천2 | D10: 암반 | E10: 춘천시 | F10: 신북읍 | G10: 산천리 | H10: 1081 | I10: 1201100010 | J10: 300 | K10: 70 | L10: 60 | M10: 200 | N10: 80
C11: 용산 | D11: 암반 | E11: 춘천시 | F11: 신북읍 | G11: 용산리 | H11: 212-3 | I11: 1201100009 | J11: 180 | K11: 90 | L11: 70 | M11: 200 | N11: 60
C12: 유포1 | D12: 암반 | E12: 춘천시 | F12: 신북읍 | G12: 유포리 | H12: 897 | I12: 1201100013 | J12: 430 | K12: 65 | L12: 54 | M12: 200 | N12: 80
C13: 율문2 | D13: 암반 | E13: 춘천시 | F13: 신북읍 | G13: 율문리 | H13: 595 | I13: 1201100015 | J13: 500 | K13: 70 | L13: 50 | M13: 200 | N13: 60
C14: 율문1 | D14: 암반 | E14: 춘천시 | F14: 신북읍 | G14: 율문리 | H14: 695 | I14: 1201100014 | J14: 480 | K14: 67 | L14: 42 | M14: 200 | N14: 80
C15: 천전1 | D15: 암반 | E15: 춘천시 | F15: 신북읍 | G15: 천전리 | H15: 957 | I15: 1201100017 | J15: 380 | K15: 70 | L15: 54 | M15: 200 | N15: 80
C16: 천전2 | D16: 암반 | E16: 춘천시 | F16: 신북읍 | G16: 천전리 | H16: 957 | I16: 1201100016 | J16: 400 | K16: 73 | L16: 50 | M16: 200 | N16: 80
C17: 개운 | D17: 암반 | E17: 홍천군 | F17: 영귀미면 | G17: 개운리 | H17: 813-2 | I17: 1200100006 | J17: 200 | K17: 80 | L17: 65 | M17: 250 | N17: 50
C18: 좌운1 | D18: 암반 | E18: 홍천군 | F18: 영귀미면 | G18: 좌운리 | H18: 1893 | I18: 1201100012 | J18: 1052 | K18: 70 | L18: 54 | M18: 200 | N18: 80
C19: 좌운4 | D19: 암반 | E19: 홍천군 | F19: 영귀미면 | G19: 좌운리 | H19: 1955 | I19: 1200100005 | J19: 250 | K19: 80 | L19: 60 | M19: 200 | N19: 50
C20: 좌운3 | D20: 암반 | E20: 홍천군 | F20: 영귀미면 | G20: 좌운리 | H20: 2183 | I20: 1201100009 | J20: 150 | K20: 70 | L20: 40 | M20: 200 | N20: 65
C21: 후동 | D21: 암반 | E21: 홍천군 | F21: 영귀미면 | G21: 후동리 | H21: 802 | I21: 1201100011 | J21: 400 | K21: 70 | L21: 54 | M21: 200 | N21: 80
C22: 하오안1 | D22: 암반 | E22: 홍천군 | F22: 홍천읍 | G22: 하오안리 | H22: 1032-10 | I22: 1201100008 | J22: 150 | K22: 70 | L22: 60 | M22: 200 | N22: 65
B23: 소계 | C23: =COUNTA(C24:C42) -> 19 | D23: 개소
B24: 철원·화천 (19) | C24: 암반01호 | D24: 암반 | E24: 철원군 | F24: 동송읍 | G24: 관우리 | H24: 1684 | I24: 제1200200002호 | J24: 1500 | K24: 81 | L24: 30 | M24: 250 | N24: 100
C25: 암반02호 | D25: 암반 | E25: 철원군 | F25: 동송읍 | G25: 관우리 | H25: 1642 | I25: 제1200200003호 | J25: 800 | K25: 73 | L25: 30 | M25: 250 | N25: 80
C26: 암반04호 | D26: 암반 | E26: 철원군 | F26: 동송읍 | G26: 관우리 | H26: 798-1 | I26: 제1200200004호 | J26: 1200 | K26: 68 | L26: 42 | M26: 250 | N26: 80
C27: 암반05호 | D27: 암반 | E27: 철원군 | F27: 동송읍 | G27: 관우리 | H27: 780-1 | I27: 제1200200005호 | J27: 1500 | K27: 66.32 | L27: 45 | M27: 250 | N27: 100
C28: 암반06호 | D28: 암반 | E28: 철원군 | F28: 동송읍 | G28: 관우리 | H28: 1670 | I28: 제1200200006호 | J28: 600 | K28: 88 | L28: 42 | M28: 250 | N28: 80
C29: 암반07호 | D29: 암반 | E29: 철원군 | F29: 동송읍 | G29: 이평리 | H29: 1529 | I29: 제1200200043호 | J29: 1500 | K29: 70 | L29: 36 | M29: 250 | N29: 100
C30: 암반10호 | D30: 암반 | E30: 철원군 | F30: 동송읍 | G30: 관우리 | H30: 778 | I30: 제1200200007호 | J30: 1500 | K30: 79 | L30: 24.5 | M30: 250 | N30: 100
C31: 암반11호 | D31: 암반 | E31: 철원군 | F31: 동송읍 | G31: 중강리 | H31: 1118-1 | I31: 제1200200008호 | J31: 1500 | K31: 72.9 | L31: 72 | M31: 250 | N31: 80
C32: 암반12호 | D32: 암반 | E32: 철원군 | F32: 동송읍 | G32: 강산리 | H32: 1691 | I32: 제1200200009호 | J32: 800 | K32: 73 | L32: 63 | M32: 250 | N32: 80
C33: 암반13호 | D33: 암반 | E33: 철원군 | F33: 동송읍 | G33: 강산리 | H33: 1116-1 | I33: 제1200200010호 | J33: 900 | K33: 71 | L33: 66 | M33: 250 | N33: 80
C34: 암반14호 | D34: 암반 | E34: 철원군 | F34: 철원읍 | G34: 외촌리 | H34: 496-1 | I34: 제1200200044호 | J34: 690 | K34: 69.71 | L34: 54 | M34: 250 | N34: 65
C35: 암반15호 | D35: 암반 | E35: 철원군 | F35: 철원읍 | G35: 내포리 | H35: 481-1 | I35: 제1200200011호 | J35: 790 | K35: 65 | L35: 60 | M35: 250 | N35: 80
C36: 암반16호 | D36: 암반 | E36: 철원군 | F36: 동송읍 | G36: 이평리 | H36: 937 | I36: 제1200200012호 | J36: 1200 | K36: 43 | L36: 36 | M36: 200 | N36: 80
C37: 암반17호 | D37: 암반 | E37: 철원군 | F37: 동송읍 | G37: 이평리 | H37: 928 | I37: 제1200200013호 | J37: 640 | K37: 45.63 | L37: 36 | M37: 200 | N37: 65
C38: 암반18호 | D38: 암반 | E38: 철원군 | F38: 동송읍 | G38: 오덕리 | H38: 1609 | I38: 제1200200014호 | J38: 1200 | K38: 70 | L38: 45 | M38: 200 | N38: 100
C39: 암반36호 | D39: 암반 | E39: 철원군 | F39: 동송읍 | G39: 이평리 | H39: 1525 | I39: 제1200200024호 | J39: 400 | K39: 37 | L39: 30 | M39: 250 | N39: 65
C40: 암반37호 | D40: 암반 | E40: 철원군 | F40: 동송읍 | G40: 이평리 | H40: 1528 | I40: 제1200200025호 | J40: 400 | K40: 37.3 | L40: 33 | M40: 200 | N40: 65
C41: 암반39호 | D41: 암반 | E41: 철원군 | F41: 동송읍 | G41: 이평리 | H41: 1526 | I41: 제1200200027호 | J41: 650 | K41: 18 | L41: 15 | M41: 250 | N41: 80
C42: 암반47호 | D42: 암반 | E42: 포천시 | F42: 관인면 | G42: 탄동리 | H42: 982 | I42: 제2011-7호 | J42: 750 | K42: 34 | L42: 15 | M42: 200 | N42: 80
B43: 소계 | C43: =COUNTA(C44) -> 1 | D43: 개소
B44: 강릉 (1) | C44: 동덕3 | D44: 암반 | E44: 강릉시 | F44: 연곡면 | G44: 동덕리 | H44: 354-1 | I44: 22011-4 | J44: 200 | K44: 86 | L44: 60 | M44: 250 | N44: 50

Sheet 2-4.지구별내역(지하수사후관리)
A1: 2-4. 지구별 내역(지하수사후관리)
A2: 사업구분 | B2: 관할지사 | C2: 시설명 | D2: 사용형태 | E2: 위치 | I2: 시 설 제 원 | P2: 사 업 량
I3: 신고 및 허가번호 | J3: 양수능력 | K3: 굴착심도 | L3: 굴착지름 | M3: 모터마력 | N3: 설치심도 | O3: 수위측정관 | P3: 기계기 구설치 | Q3: 펌프설 치인양 | R3: 에어 써징 | S3: 검사및 정 비 | T3: 수위측정 관 설 치 | U3: 운반비 | V3: 지하수 안내문 | W3: 수중TV검층
E4: 시군 | F4: 읍면 | G4: 동리 | H4: 지번 | J4: (㎥/D) | K4: (m) | L4: (mm) | M4: (H.P.) | N4: (m) | O4: (m) | P4: (회) | Q4: (회) | R4: (m) | S4: (회) | T4: (m) | U4: (회) | V4: (회) | W4: (m)
A5: 지하수사후관리 (37) | C5: =11+7+60+37 -> 115 | D5: 개소 | P5: =SUM(P6,P11,P13) -> 13 | Q5: =SUM(Q6,Q11,Q13) -> 13 | R5: =SUM(R6,R11,R13) -> 927 | S5: =SUM(S6,S11,S13) -> 12 | T5: =SUM(T6,T11,T13) -> 558 | U5: =SUM(U6,U11,U13) -> 13 | V5: =SUM(V6,V11,V13) -> 12 | W5: =SUM(W6,W11,W13) -> 927
A6: 지하수사후관리 (13) | B6: 소계 | C6: =COUNTA(C7:C10) -> 4 | D6: 개소 | P6: =SUM(P7:P10) -> 4 | Q6: =SUM(Q7:Q10) -> 4 | R6: =SUM(R7:R10) -> 422 | S6: =SUM(S7:S10) -> 4 | T6: =SUM(T7:T10) -> 210 | U6: =SUM(U7:U10) -> 4 | V6: =SUM(V7:V10) -> 4 | W6: =SUM(W7:W10) -> 422
B7: 홍천.춘천 (4) | C7: 용산2 | D7: 암반 | E7: 춘천시 | G7: 신동 | H7: 989-2 | I7: 16-03 | J7: 380 | K7: 220 | L7: 250 | M7: 10 | N7: 54 | O7: 54 | P7: 1 | Q7: 1 | R7: 220 | S7: 1 | T7: 54 | U7: 1 | V7: 1 | W7: 220
C8: 산천2 | D8: 암반 | E8: 춘천시 | F8: 신북읍 | G8: 산천리 | H8: 1081 | I8: 1201100010 | J8: 300 | K8: 70 | L8: 200 | M8: 15 | N8: 60 | O8: 60 | P8: 1 | Q8: 1 | R8: 70 | S8: 1 | T8: 60 | U8: 1 | V8: 1 | W8: 70
C9: 유포1 | D9: 암반 | E9: 춘천시 | F9: 신북읍 | G9: 유포리 | H9: 897 | I9: 1201100013 | J9: 430 | K9: 65 | L9: 200 | M9: 15 | N9: 54 | O9: 54 | P9: 1 | Q9: 1 | R9: 65 | S9: 1 | T9: 54 | U9: 1 | V9: 1 | W9: 65
C10: 율문1 | D10: 암반 | E10: 춘천시 | F10: 신북읍 | G10: 율문리 | H10: 695 | I10: 1201100014 | J10: 480 | K10: 67 | L10: 200 | M10: 10 | N10: 42 | O10: 42 | P10: 1 | Q10: 1 | R10: 67 | S10: 1 | T10: 42 | U10: 1 | V10: 1 | W10: 67
B11: 소계 | C11: =COUNTA(C12:C12) -> 1 | D11: 개소 | P11: =SUM(P12) -> 1 | Q11: =SUM(Q12) -> 1 | R11: =SUM(R12) -> 86 | S11: =SUM(S12) -> 1 | T11: =SUM(T12) -> 60 | U11: =SUM(U12) -> 1 | V11: =SUM(V12) -> 1 | W11: =SUM(W12) -> 86
B12: 강릉(1) | C12: 동덕3 | D12: 암반 | E12: 강릉시 | F12: 연곡면 | G12: 동덕리 | H12: 354-1 | I12: 제2201000193호 | J12: 200 | K12: 125 | L12: 250 | M12: 5 | N12: 60 | O12: 60 | P12: 1 | Q12: 1 | R12: 86 | S12: 1 | T12: 60 | U12: 1 | V12: 1 | W12: 86
C13: =COUNTA(C14:C21) -> 8 | D13: 개소 | P13: =SUM(P14:P21) -> 8 | Q13: =SUM(Q14:Q21) -> 8 | R13: =SUM(R14:R21) -> 419 | S13: =SUM(S14:S21) -> 7 | T13: =SUM(T14:T21) -> 288 | U13: =SUM(U14:U21) -> 8 | V13: =SUM(V14:V21) -> 7 | W13: =SUM(W14:W21) -> 419
B14: 철원·화천 (8) | C14: 암반04호 | D14: 암반 | E14: 철원군 | F14: 동송읍 | G14: 관우리 | H14: 798-1 | I14: 제1200200004호 | J14: 1200 | K14: 68 | L14: 250 | M14: 15 | N14: 42 | O14: =N14 -> 42 | P14: 1 | Q14: 1 | R14: 68 | S14: 1 | T14: 42 | U14: 1 | V14: 1 | W14: 68
C15: 암반02호 | D15: 암반 | E15: 철원군 | F15: 동송읍 | G15: 관우리 | H15: 1642 | I15: 제1200200003호 | J15: 800 | K15: 73 | L15: 250 | M15: 15 | N15: 30 | O15: =N15 -> 30 | P15: 1 | Q15: 1 | R15: 73 | S15: 1 | T15: 30 | U15: 1 | V15: 1 | W15: 73
C16: 암반06호 | D16: 암반 | E16: 철원군 | F16: 동송읍 | G16: 관우리 | H16: 1670 | I16: 제1200200006호 | J16: 600 | K16: 88 | L16: 250 | M16: 20 | N16: 42 | O16: =N16 -> 42 | P16: 1 | Q16: 1 | R16: 88 | S16: 1 | T16: 42 | U16: 1 | V16: 1 | W16: 88
C17: 암반18호 | D17: 암반 | E17: 철원군 | F17: 동송읍 | G17: 오덕리 | H17: 1609 | I17: 제1200200014호 | J17: 1200 | K17: 70 | L17: 200 | M17: 30 | N17: 45 | O17: =N17 -> 45 | P17: 1 | Q17: 1 | R17: 70 | S17: 1 | T17: 45 | U17: 1 | V17: 1 | W17: 70
C18: 암반36호 | D18: 암반 | E18: 철원군 | F18: 동송읍 | G18: 이평리 | H18: 1525 | I18: 제1200200024호 | J18: 400 | K18: 37 | L18: 200 | M18: 8 | N18: 30 | O18: =N18 -> 30 | P18: 1 | Q18: 1 | R18: 37 | S18: 1 | T18: 30 | U18: 1 | V18: 1 | W18: 37
C19: 암반39호 | D19: 암반 | E19: 철원군 | F19: 동송읍 | G19: 이평리 | H19: 1526 | I19: 제1200200027호 | J19: 650 | K19: 18 | L19: 200 | M19: 15 | N19: 15 | O19: =N19 -> 15 | P19: 1 | Q19: 1 | R19: 18 | S19: 1 | T19: 15 | U19: 1 | V19: 1 | W19: 18
C20: 암반15호 | D20: 암반 | E20: 철원군 | F20: 철원읍 | G20: 내포리 | H20: 481-1 | I20: 제1200200011호 | J20: 790 | K20: 65 | L20: 200 | M20: 20 | N20: 60 | O20: =N20 -> 60 | P20: 1 | Q20: 1 | R20: 65 | S20: 1 | T20: 60 | U20: 1 | V20: 1 | W20: 65
C21: 암반10호 | D21: 암반 | E21: 철원군 | F21: 동송읍 | G21: 관우리 | H21: 778 | I21: 제1200200007호 | J21: 1500 | K21: 74 | L21: 200 | M21: 20 | N21: 24 | O21: =N21 -> 24 | P21: 1 | Q21: 1 | R21: 0 | S21: 0 | T21: 24 | U21: 1 | V21: 0 | W21: 0

Sheet 2. 관정내역
A1: 2-5. 지구별 내역(원상복구) | B1: 2. 지구별 내역(원상복구)
A2: 사업구분 | B2: 관할지사 | C2: 시설명 | D2: 사용형태 | E2: 위치 | I2: 허가번호 | J2: 관정 내역 | O2: 원상복구 사업량 | S2: 비고
E3: 시군 | F3: 읍면 | G3: 동리 | H3: 지번 | J3: 구경(mm) | K3: 심도(m) | L3: 모터설치 심도(m) | M3: 모타 마력(HP) | N3: 동력(V) | O3: 수중모터 펌프인양 | P3: 케이싱 절단 | Q3: 되메우기 | R3: 폐기물처리, 부지정리
A4: - 원상복구 소계 | B4: 소계 | C4: =COUNTA(C5:C6) -> 2 | O4: =SUM(O5:O6) -> 2 | P4: =SUM(P5:P6) -> 2 | Q4: =SUM(Q5:Q6) -> 2 | R4: =SUM(R5:R6) -> 2
A5: 원상복구 | B5: 홍천·춘천 | C5: 율동2 | D5: 암반 | E5: 횡성군 | F5: 갑천면 | G5: 율동리 | H5: 407 | I5: 제1201100004호 | J5: 200 | K5: 70 | L5: 55 | M5: 5 | N5: - | O5: 1 | P5: 1 | Q5: 1 | R5: 1 | S5: 홍천수자원-1970(2026.8.31.)호.
C6: 유포2 | D6: 암반 | E6: 춘천시 | F6: 신북읍 | G6: 유포리 | H6: 1112 | I6: 제1201100012호 | J6: 200 | K6: 70 | L6: 60 | M6: 15 | N6: - | O6: 1 | P6: 1 | Q6: 1 | R6: 1 | S6: 홍천수자원-1970(2026.8.31.)호.

Sheet 3.조사공정계획표
A1: 3. 공정 계획표
A2: 공 종 | B2: 조사량 | C2: 단위 | D2: 시 행 일 정 | P2: 비고
D3: 1월 | E3: 2월 | F3: 3월 | G3: 4월 | H3: 5월 | I3: 6월 | J3: 7월 | K3: 8월 | L3: 9월 | M3: 10월 | N3: 11월 | O3: 12월
A4: 공사관리관정 유지관리
A5: 1. 연장허가 지하수영향조사 | B5: ='2-1.사업수량표'!D6 -> 37 | C5: 지구
A6: 1) 자료수집 및 현장조사 | B6: =B5 -> 37 | C6: 지구
A7: 2) 대수성 시험(연속, 회복) | B7: =B6 -> 37 | C7: 회
A8: 3) 적정취수량 분석 및 오염영향 분석 | B8: =B7 -> 37 | C8: 지구
A9: 4) 수질검사 | B9: =B8 -> 37 | C9: 지구
A10: 5) 보고서 작성 | B10: =B9 -> 37 | C10: 지구
A11: 2. 지하수 사후관리 | B11: ='2-1.사업수량표'!E6 -> 13 | C11: 지구
A12: 1) 에어써징 | B12: =B11-1 -> 12 | C12: 지구
A13: 2) 모타설치 및 인양 | B13: =B11 -> 13 | C13: 회
A14: 3) 관정정비 및 인양 | B14: =B13 -> 13 | C14: 공
A15: 4) 수위측정관 및 볼트너트 교체 | B15: =B14 -> 13 | C15: 지구
A16: 5) 장비운반 | B16: =B15 -> 13 | C16: 회
A17: 3. 지하수 수질검사 | B17: ='2-1.사업수량표'!B6 -> 43 | C17: 공 | P17: 농업용 15항목
A18: 4. 원상복구 | B18: ='2-1.사업수량표'!F6 -> 2 | C18: 지구 | P18: 율동2 및 유포2 관정
A19: 4. 관정시설물 점검 | B19: ='2-1.사업수량표'!#REF! -> #REF! | C19: 개소

Sheet 5.직접비산출내역
A1: 5. 직접비 산출내역
J2: (단위: 원)
A3: 구분 | B3: 원수 | C3: 단위 | D3: 합 계 | E3: 노무비 | G3: 재료비 | I3: 경 비 | K3: 외주용역비 | M3: 비고
E4: 단가 | F4: 금액 | G4: 단 가 | H4: 금 액 | I4: 단 가 | J4: 금 액 | K4: 단 가 | L4: 금 액
A5: 계 | D5: =F5+H5+J5+L5 -> 272086000 | F5: =F6 -> 0 | H5: =H6 -> 0 | J5: =J6 -> 4705000 | L5: =L6 -> 267381000
A6: 지하수관정 유지관리 | D6: =F6+H6+J6+L6 -> 272086000 | F6: =F7+F9 -> 0 | H6: =H7+H9 -> 0 | J6: =J7+J9 -> 4705000 | L6: =L7+L9 -> 267381000
A7: - 직영시행 | D7: =F7+H7+J7+L7 -> 4705000 | F7: =TRUNC(SUM(F8:F8),-3) -> 0 | H7: =TRUNC(SUM(H8:H8),-3) -> 0 | J7: =TRUNC(J8,-2) -> 4705000 | L7: =TRUNC(SUM(L8:L8),-3) -> 0
A8: 정기수질검사 | B8: ='2-1.사업수량표'!B6 -> 43 | C8: 공 | D8: =F8+H8+J8+L8 -> 4705000 | E8: =직영일위대가!G15 -> 0 | F8: =INT($B8*E8) -> 0 | G8: =직영일위대가!I15 -> 0 | H8: =TRUNC($B8*G8,-3) -> 0 | I8: =직영일위대가!K15 -> 109400 | J8: =ROUNDUP($B8*I8,-3) -> 4705000 | K8: 0 | L8: =B8*K8 -> 0
A9: - 외주시행 | D9: =F9+H9+J9+L9 -> 267381000 | F9: =TRUNC(SUM(F11:F11),-3) -> 0 | H9: =TRUNC(SUM(H11:H11),-3) -> 0 | J9: =TRUNC(SUM(J11:J11),-3) -> 0 | L9: =TRUNC(SUM(L10:L11),-2) -> 267381000 | O9: 영향조사 | P9: =#REF! -> #REF!
A10: 지하수영향조사 및 사후관리 | B10: 1 | C10: 식 | D10: =F10+H10+J10+L10 -> 256810000 | K10: ='5-1. 영향조사 및 사후관리 용역 총괄'!C13 -> 256810000 | L10: =K10*B10 -> 256810000
A11: 원상복구 | B11: 1 | C11: 식 | D11: =F11+H11+J11+L11 -> 10571000 | F11: 0 | H11: 0 | I11: 0 | J11: =B11*I11 -> 0 | K11: ='4. 공사비총괄표'!G34 -> 10571000 | L11: =K11*B11 -> 10571000 | O11: 원상복구 | P11: =#REF! -> #REF!
A12: ='1.사업개요'!C33-'5.직접비산출내역'!D5 -> 29204000

Sheet 5-2. 법적시설 정비비
A1: <제1호표> | E1: 유 량 계 설 치(50mm)
A2: 일 금 : | B2: =E19 -> 278000 | C2: 원 | E2: ( 개소당 ) | I2: 1 | J2: 개소/일
A3: 구분 | B3: 규격 | C3: 원수 | D3: 단위 | E3: 총 액 | F3: 직 접 노 무 비 | H3: 직 접 재 료 비 | J3: 직 접 경 비 | L3: 비고
F4: 단 가 | G4: 금 액 | H4: 단 가 | I4: 금 액 | J4: 단 가 | K4: 금 액
A5: 유 량 계 | B5: 50mm | C5: 1 | D5: 개 | E5: =G5+I5+K5 -> 278000 | H5: 278000 | I5: =INT($C5*H5) -> 278000 | K5: 0 | L5: 물가정보 801
J6: 0 | K6: 0
A19: 합 계 | E19: =G19+I19+K19 -> 278000 | G19: =SUM(G5:G18) -> 0 | I19: =SUM(I5:I18) -> 278000 | K19: =SUM(K5:K18) -> 0
A22: <제5호표> | E22: 수 위 측 정 관 설 치
A24: 일 금 : | B24: =E46 -> 1000 | C24: 원 | E24: ( M 당 )
A25: 공종별 | B25: 규격 | C25: 원수 | D25: 단위 | E25: 총 액 | F25: 직접인건비 | H25: 직 접 경 비 | L25: 산출근거
F26: 인건비 | H26: 재료비 | J26: 경비
F27: 단 가 | G27: 금 액 | H27: 단 가 | I27: 금 액
A28: PE파이프 | C28: 1 | D28: M | E28: =G28+I28+K28 -> 1000 | H28: =단가표!E28 -> 1000 | I28: =INT(C28*H28) -> 1000
A29: ※ 설치품은 양수설비인양 및 재설치에 포함됨
A30: ※ 필요시 적용
A46: 합 계 | E46: =G46+I46+K46 -> 1000 | G46: =SUM(G28:G45) -> 0 | I46: =SUM(I28:I45) -> 1000 | K46: =SUM(K28:K45) -> 0

Sheet 5-1. 영향조사 및 사후관리 용역 총괄
A1: 5-1. 지하수영향조사 및 사후관리 용역비 총괄
A2: 구 분 | C2: 계 | D2: 1공구 | E2: 2공구 | F2: 적 요 | H2: 1공구
A3: 직접인건비 | C3: =SUM(D3:E3) -> 56638431 | D3: ='5-1-1. 사업비명세서'!G6 -> 27956715 | E3: ='5-1-1. 사업비명세서'!G7 -> 28681716 | F3: A | I3: 27956715
A4: 직접경비 | B4: 노무비 | C4: =SUM(D4:E4) -> 60242196 | D4: ='5-1-1. 사업비명세서'!I6 -> 28248305 | E4: ='5-1-1. 사업비명세서'!I7 -> 31993891 | F4: B | I4: 28248305
B5: 재료비 | C5: =SUM(D5:E5) -> 12396412 | D5: ='5-1-1. 사업비명세서'!K6 -> 5515442 | E5: ='5-1-1. 사업비명세서'!K7 -> 6880970 | F5: C | I5: 5515442
B6: 경 비 | C6: =SUM(D6:E6) -> 14063761 | D6: ='5-1-1. 사업비명세서'!M6 -> 5946002 | E6: ='5-1-1. 사업비명세서'!M7 -> 8117759 | F6: D | I6: 5946002
B7: 소 계 | C7: =SUM(D7:E7) -> 86702369 | D7: =D4+D5+D6 -> 39709749 | E7: =E4+E5+E6 -> 46992620 | F7: E = B + C + D | I7: 39709749
A8: 제경비 | C8: =SUM(D8:E8) -> 62302273 | D8: =INT(D3*$H$8) -> 30752386 | E8: =INT(E3*$H$8) -> 31549887 | F8: F = 직접인건비 × 110~120% 이내 | H8: 1.1 | I8: 30752386
A9: 기술료 | C9: =SUM(D9:E9) -> 23482564 | D9: =INT((D3+D8)*$H$9)-297488 -> 11444332 | E9: =INT((E3+E8)*$H$9)-8088 -> 12038232 | F9: G = (직접인건비+제경비) × 20~40%이내 | H9: 0.2 | I9: 11444332
A10: 안전보건관리비 | C10: =SUM(D10:E10) -> 4338000 | D10: 2155000 | E10: 2183000 | F10: H = (A + B + C) × 2.93% | I10: 2155000
A11: 계 | C11: =SUM(D11:E11) -> 233463637 | D11: =D3+D7+D8+D9+D10 -> 112018182 | E11: =E3+E7+E8+E9+E10 -> 121445455 | F11: I = A + E + F + G + H | I11: 112018182
A12: 부가가치세 | C12: =SUM(D12:E12) -> 23346363 | D12: =INT(D11*$H$12) -> 11201818 | E12: =INT(E11*$H$12) -> 12144545 | F12: J = I × 10% | H12: 0.1 | I12: 11201818
A13: 합 계 | C13: =SUM(D13:E13) -> 256810000 | D13: =D11+D12 -> 123220000 | E13: =E11+E12 -> 133590000 | F13: K = I + J | I13: 123220000
A16: <2026년 예산편성 금액> | C16: 영향조사 | D16: 사후관리 | E16: 합계
B17: 공당단가 | C17: 5720000 | D17: 5610000 | E17: =C17+D17 -> 11330000
C18: =C17*38 -> 217360000 | D18: =D17*12 -> 67320000 | E18: =C18+D18 -> 284680000
A20: <2026년 예산편성 금액> | C20: 원상복구 | D20: 합계
B21: 공당단가 | C21: 11880000 | D21: =C21 -> 11880000
B22: 1지구 | C22: =C21*1 -> 11880000 | D22: =C22 -> 11880000
A24: <2026년 예산편성 금액> | C24: 수질검사 | D24: 합계
B25: 공당단가 | C25: 110000 | D25: =C25 -> 110000
B26: 43지구 | C26: =C25*43 -> 4730000 | D26: =C26 -> 4730000

Sheet 5-1-1. 사업비명세서
A1: 5-1-1. 지하수영향조사 및 사후관리 사업비 명세서 | O1: =129391230/146935000 -> 0.88060183
A2: 일 금 : | B2: =E26 -> 143340800 | C2: 원
A3: 공 종 별 | B3: 재료 또는 치수 | C3: 원수 | D3: 단 위 | E3: 총 액 | F3: 직접인건비 | H3: 직접경비
H4: 노 무 비 | J4: 재 료 비 | L4: 경 비 | N4: 비 고
F5: 단 가 | G5: 금 액 | H5: 단 가 | I5: 금 액 | J5: 단 가 | K5: 금 액 | L5: 단 가 | M5: 금 액
A6: 1공구 | C6: 1 | D6: 식 | E6: =SUM(G6,I6,K6,M6) -> 67666464 | F6: =G56 -> 27956715 | G6: =TRUNC(C6*F6,0) -> 27956715 | H6: =I56 -> 28248305 | I6: =TRUNC(C6*H6,0) -> 28248305 | J6: =K56 -> 5515442 | K6: =TRUNC(C6*J6,0) -> 5515442 | L6: =M56 -> 5946002 | M6: =TRUNC(C6*L6,0) -> 5946002
A7: 2공구 | C7: 1 | D7: 식 | E7: =SUM(G7,I7,K7,M7) -> 75674336 | F7: =G87 -> 28681716 | G7: =TRUNC(C7*F7,0) -> 28681716 | H7: =I87 -> 31993891 | I7: =TRUNC(C7*H7,0) -> 31993891 | J7: =K87 -> 6880970 | K7: =TRUNC(C7*J7,0) -> 6880970 | L7: =M87 -> 8117759 | M7: =TRUNC(C7*L7,0) -> 8117759
A26: 합 계 | E26: =SUBTOTAL(9,E6:E25) -> 143340800 | G26: =SUBTOTAL(9,G6:G25) -> 56638431 | I26: =SUBTOTAL(9,I6:I25) -> 60242196 | K26: =SUBTOTAL(9,K6:K25) -> 12396412 | M26: =SUBTOTAL(9,M6:M25) -> 14063761
A27: 1공구 사업비 명세서
A28: 일 금 : | B28: =E49 -> 0 | C28: 원
A29: 공 종 별 | B29: 재료 또는 치수 | C29: 원수 | D29: 단 위 | E29: 총 액 | F29: 직접인건비 | H29: 직접경비
H30: 노 무 비 | J30: 재 료 비 | L30: 경 비 | N30: 비 고
F31: 단 가 | G31: 금 액 | H31: 단 가 | I31: 금 액 | J31: 단 가 | K31: 금 액 | L31: 단 가 | M31: 금 액
A32: <지하수영향조사>
A33: ='[381]일위대가표(영향조사)'!A6 -> 기존자료 수집 | C33: ='2-3.지구별내역(지하수영향조사)'!C5+'2-3.지구별내역(지하수영향조사)'!C43 -> 18 | D33: 지구 | E33: =SUM(G33,I33,K33,M33) -> 2230434 | F33: =INT('5-1-2. 일위대가표(영향조사) 1공구'!G6*$O$1) -> 123913 | G33: =TRUNC(C33*F33,0) -> 2230434 | H33: =INT('5-1-2. 일위대가표(영향조사) 1공구'!I6*$O$1) -> 0 | I33: =TRUNC(C33*H33,0) -> 0 | J33: =INT('5-1-2. 일위대가표(영향조사) 1공구'!K6*$O$1) -> 0 | K33: =TRUNC(C33*J33,0) -> 0 | L33: =INT('5-1-2. 일위대가표(영향조사) 1공구'!M6*$O$1) -> 0 | M33: =TRUNC(C33*L33,0) -> 0
A34: ='[381]일위대가표(영향조사)'!A7 -> 현지답사 | C34: =C33 -> 18 | D34: 지구 | E34: =SUM(G34,I34,K34,M34) -> 3471156 | F34: =INT('5-1-2. 일위대가표(영향조사) 1공구'!G7*$O$1) -> 192842 | G34: =TRUNC(C34*F34,0) -> 3471156 | H34: =INT('5-1-2. 일위대가표(영향조사) 1공구'!I7*$O$1) -> 0 | I34: =TRUNC(C34*H34,0) -> 0 | J34: =INT('5-1-2. 일위대가표(영향조사) 1공구'!K7*$O$1) -> 0 | K34: =TRUNC(C34*J34,0) -> 0 | L34: =INT('5-1-2. 일위대가표(영향조사) 1공구'!M7*$O$1) -> 0 | M34: =TRUNC(C34*L34,0) -> 0
A35: ='[381]일위대가표(영향조사)'!A8 -> 대수성시험 | C35: =C34 -> 18 | D35: 공 | E35: =SUM(G35,I35,K35,M35) -> 29464596 | F35: =INT('5-1-2. 일위대가표(영향조사) 1공구'!G8*$O$1) -> 687759 | G35: =TRUNC(C35*F35,0) -> 12379662 | H35: =INT('5-1-2. 일위대가표(영향조사) 1공구'!I8*$O$1) -> 949163 | I35: =TRUNC(C35*H35,0) -> 17084934 | J35: =INT('5-1-2. 일위대가표(영향조사) 1공구'!K8*$O$1) -> 0 | K35: =TRUNC(C35*J35,0) -> 0 | L35: =INT('5-1-2. 일위대가표(영향조사) 1공구'!M8*$O$1) -> 0 | M35: =TRUNC(C35*L35,0) -> 0
A36: ='[381]일위대가표(영향조사)'!A9 -> 적정취수량 및 영향범위 산정 | C36: =C35 -> 18 | D36: 공 | E36: =SUM(G36,I36,K36,M36) -> 1754208 | F36: =INT('5-1-2. 일위대가표(영향조사) 1공구'!G9*$O$1) -> 97456 | G36: =TRUNC(C36*F36,0) -> 1754208 | H36: =INT('5-1-2. 일위대가표(영향조사) 1공구'!I9*$O$1) -> 0 | I36: =TRUNC(C36*H36,0) -> 0 | J36: =INT('5-1-2. 일위대가표(영향조사) 1공구'!K9*$O$1) -> 0 | K36: =TRUNC(C36*J36,0) -> 0 | L36: =INT('5-1-2. 일위대가표(영향조사) 1공구'!M9*$O$1) -> 0 | M36: =TRUNC(C36*L36,0) -> 0
A37: ='[381]일위대가표(영향조사)'!A10 -> 수질검사비 | C37: =C36 -> 18 | D37: 회 | E37: =SUM(G37,I37,K37,M37) -> 1734066 | F37: =INT('5-1-2. 일위대가표(영향조사) 1공구'!G10*$O$1) -> 0 | G37: =TRUNC(C37*F37,0) -> 0 | H37: =INT('5-1-2. 일위대가표(영향조사) 1공구'!I10*$O$1) -> 0 | I37: =TRUNC(C37*H37,0) -> 0 | J37: =INT('5-1-2. 일위대가표(영향조사) 1공구'!K10*$O$1) -> 0 | K37: =TRUNC(C37*J37,0) -> 0 | L37: =INT('5-1-2. 일위대가표(영향조사) 1공구'!M10*$O$1) -> 96337 | M37: =TRUNC(C37*L37,0) -> 1734066
A38: ='[381]일위대가표(영향조사)'!A11 -> 보고서작성 | C38: =C37 -> 18 | D38: 지구 | E38: =SUM(G38,I38,K38,M38) -> 5996232 | F38: =INT('5-1-2. 일위대가표(영향조사) 1공구'!G11*$O$1) -> 233018 | G38: =TRUNC(C38*F38,0) -> 4194324 | H38: =INT('5-1-2. 일위대가표(영향조사) 1공구'!I11*$O$1) -> 0 | I38: =TRUNC(C38*H38,0) -> 0 | J38: =INT('5-1-2. 일위대가표(영향조사) 1공구'!K11*$O$1) -> 64882 | K38: =TRUNC(C38*J38,0) -> 1167876 | L38: =INT('5-1-2. 일위대가표(영향조사) 1공구'!M11*$O$1) -> 35224 | M38: =TRUNC(C38*L38,0) -> 634032
A39: <지하수사후관리>
A40: ='[381]일위대가표(사후관리)'!M6 -> 기계기구설치 | C40: ='2-4.지구별내역(지하수사후관리)'!P6+'2-4.지구별내역(지하수사후관리)'!P11 -> 5 | D40: 회 | E40: =SUM(G40,I40,K40,M40) -> 2305075 | F40: =INT('5-1-3. 일위대가표(사후관리) 1공구'!S6*$O$1) -> 0 | G40: =TRUNC(C40*F40,0) -> 0 | H40: =INT('5-1-3. 일위대가표(사후관리) 1공구'!U6*$O$1) -> 461015 | I40: =TRUNC(C40*H40,0) -> 2305075 | J40: =INT('5-1-3. 일위대가표(사후관리) 1공구'!W6*$O$1) -> 0 | K40: =TRUNC(C40*J40,0) -> 0 | L40: =INT('5-1-3. 일위대가표(사후관리) 1공구'!Y6*$O$1) -> 0 | M40: =TRUNC(C40*L40,0) -> 0
A41: ='[381]일위대가표(사후관리)'!M7 -> 수중펌프설치인양 | C41: =C40 -> 5 | D41: 회 | E41: =SUM(G41,I41,K41,M41) -> 7217255 | F41: =INT('5-1-3. 일위대가표(사후관리) 1공구'!S7*$O$1) -> 215715 | G41: =TRUNC(C41*F41,0) -> 1078575 | H41: =INT('5-1-3. 일위대가표(사후관리) 1공구'!U7*$O$1) -> 1100621 | I41: =TRUNC(C41*H41,0) -> 5503105 | J41: =INT('5-1-3. 일위대가표(사후관리) 1공구'!W7*$O$1) -> 54364 | K41: =TRUNC(C41*J41,0) -> 271820 | L41: =INT('5-1-3. 일위대가표(사후관리) 1공구'!Y7*$O$1) -> 72751 | M41: =TRUNC(C41*L41,0) -> 363755
A42: ='[381]일위대가표(사후관리)'!M8 -> 에어써징(고압압축 불기공법) | C42: ='2-4.지구별내역(지하수사후관리)'!R6+'2-4.지구별내역(지하수사후관리)'!R11 -> 508 | D42: m | E42: =SUM(G42,I42,K42,M42) -> 6812788 | F42: =INT('5-1-3. 일위대가표(사후관리) 1공구'!S8*$O$1) -> 2320 | G42: =TRUNC(C42*F42,0) -> 1178560 | H42: =INT('5-1-3. 일위대가표(사후관리) 1공구'!U8*$O$1) -> 3886 | I42: =TRUNC(C42*H42,0) -> 1974088 | J42: =INT('5-1-3. 일위대가표(사후관리) 1공구'!W8*$O$1) -> 6602 | K42: =TRUNC(C42*J42,0) -> 3353816 | L42: =INT('5-1-3. 일위대가표(사후관리) 1공구'!Y8*$O$1) -> 603 | M42: =TRUNC(C42*L42,0) -> 306324
A43: ='[381]일위대가표(사후관리)'!M9 -> 검사 및 정비 | C43: =C41 -> 5 | D43: 회 | E43: =SUM(G43,I43,K43,M43) -> 464275 | F43: =INT('5-1-3. 일위대가표(사후관리) 1공구'!S9*$O$1) -> 0 | G43: =TRUNC(C43*F43,0) -> 0 | H43: =INT('5-1-3. 일위대가표(사후관리) 1공구'!U9*$O$1) -> 73935 | I43: =TRUNC(C43*H43,0) -> 369675 | J43: =INT('5-1-3. 일위대가표(사후관리) 1공구'!W9*$O$1) -> 0 | K43: =TRUNC(C43*J43,0) -> 0 | L43: =INT('5-1-3. 일위대가표(사후관리) 1공구'!Y9*$O$1) -> 18920 | M43: =TRUNC(C43*L43,0) -> 94600
A44: ='[381]일위대가표(사후관리)'!M10 -> 수위측정관설치 | C44: ='2-4.지구별내역(지하수사후관리)'!T6+'2-4.지구별내역(지하수사후관리)'!T11 -> 270 | D44: m | E44: =SUM(G44,I44,K44,M44) -> 237600 | F44: =INT('5-1-3. 일위대가표(사후관리) 1공구'!S10*$O$1) -> 0 | G44: =TRUNC(C44*F44,0) -> 0 | H44: =INT('5-1-3. 일위대가표(사후관리) 1공구'!U10*$O$1) -> 0 | I44: =TRUNC(C44*H44,0) -> 0 | J44: =INT('5-1-3. 일위대가표(사후관리) 1공구'!W10*$O$1) -> 880 | K44: =TRUNC(C44*J44,0) -> 237600 | L44: =INT('5-1-3. 일위대가표(사후관리) 1공구'!Y10*$O$1) -> 0 | M44: =TRUNC(C44*L44,0) -> 0
A45: ='[381]일위대가표(사후관리)'!M11 -> 운반비 | C45: =C43 -> 5 | D45: 회 | E45: =SUM(G45,I45,K45,M45) -> 2366185 | F45: =INT('5-1-3. 일위대가표(사후관리) 1공구'!S11*$O$1) -> 0 | G45: =TRUNC(C45*F45,0) -> 0 | H45: =INT('5-1-3. 일위대가표(사후관리) 1공구'!U11*$O$1) -> 0 | I45: =TRUNC(C45*H45,0) -> 0 | J45: =INT('5-1-3. 일위대가표(사후관리) 1공구'!W11*$O$1) -> 0 | K45: =TRUNC(C45*J45,0) -> 0 | L45: =INT('5-1-3. 일위대가표(사후관리) 1공구'!Y11*$O$1) -> 473237 | M45: =TRUNC(C45*L45,0) -> 2366185
A46: ='[381]일위대가표(사후관리)'!M12 -> 지하수이용시설 안내문 설치 | C46: =C45 -> 5 | D46: 식 | E46: =SUM(G46,I46,K46,M46) -> 484330 | F46: =INT('5-1-3. 일위대가표(사후관리) 1공구'!S12*$O$1) -> 0 | G46: =TRUNC(C46*F46,0) -> 0 | H46: =INT('5-1-3. 일위대가표(사후관리) 1공구'!U12*$O$1) -> 0 | I46: =TRUNC(C46*H46,0) -> 0 | J46: =INT('5-1-3. 일위대가표(사후관리) 1공구'!W12*$O$1) -> 96866 | K46: =TRUNC(C46*J46,0) -> 484330 | L46: =INT('5-1-3. 일위대가표(사후관리) 1공구'!Y12*$O$1) -> 0 | M46: =TRUNC(C46*L46,0) -> 0
A47: ='[381]일위대가표(사후관리)'!M13 -> 수중TV검층 | C47: =C42 -> 508 | D47: m | E47: =SUM(G47,I47,K47,M47) -> 3128264 | F47: =INT('5-1-3. 일위대가표(사후관리) 1공구'!S13*$O$1) -> 3287 | G47: =TRUNC(C47*F47,0) -> 1669796 | H47: =INT('5-1-3. 일위대가표(사후관리) 1공구'!U13*$O$1) -> 1991 | I47: =TRUNC(C47*H47,0) -> 1011428 | J47: =INT('5-1-3. 일위대가표(사후관리) 1공구'!W13*$O$1) -> 0 | K47: =TRUNC(C47*J47,0) -> 0 | L47: =INT('5-1-3. 일위대가표(사후관리) 1공구'!Y13*$O$1) -> 880 | M47: =TRUNC(C47*L47,0) -> 447040
A48: ='[381]일위대가표(사후관리)'!M14 -> 수중모터펌프(3HP) 교체 | D48: 개
A49: ='[381]일위대가표(사후관리)'!M15 -> 수중모터펌프(5HP) 교체 | D49: 개
A50: ='[381]일위대가표(사후관리)'!M16 -> 수중모터펌프(7.5HP) 교체 | D50: 개
A51: ='[381]일위대가표(사후관리)'!M17 -> 유량계 교체(32mm) 교체 | D51: 개
A52: ='[381]일위대가표(사후관리)'!M18 -> 유량계 교체(40mm) 교체 | D52: 개
A53: ='[381]일위대가표(사후관리)'!M19 -> 유량계 교체(50mm) 교체 | D53: 개
A54: ='[381]일위대가표(사후관리)'!M20 -> 유량계 교체(50mm) 교체-플랜지타입 | D54: 개
A56: 합 계 | E56: =SUBTOTAL(9,E33:E54) -> 67666464 | G56: =SUBTOTAL(9,G33:G54) -> 27956715 | I56: =SUBTOTAL(9,I33:I54) -> 28248305 | K56: =SUBTOTAL(9,K33:K54) -> 5515442 | M56: =SUBTOTAL(9,M33:M54) -> 5946002
A57: 2공구 사업비 명세서
A58: 일 금 : | B58: =E87 -> 75674336 | C58: 원
A59: 공 종 별 | B59: 재료 또는 치수 | C59: 원수 | D59: 단 위 | E59: 총 액 | F59: 직접인건비 | H59: 직접경비
H60: 노 무 비 | J60: 재 료 비 | L60: 경 비 | N60: 비 고
F61: 단 가 | G61: 금 액 | H61: 단 가 | I61: 금 액 | J61: 단 가 | K61: 금 액 | L61: 단 가 | M61: 금 액
A62: <지하수영향조사>
A63: ='[381]일위대가표(영향조사)'!A6 -> 기존자료 수집 | C63: ='2-3.지구별내역(지하수영향조사)'!C23 -> 19 | D63: 지구 | E63: =SUM(G63,I63,K63,M63) -> 2269854 | F63: ='5-1-2. 일위대가표(영향조사)'!F6 -> 119466 | G63: =INT($C63*F63) -> 2269854 | H63: ='5-1-2. 일위대가표(영향조사)'!H6 -> 0 | I63: =TRUNC(C63*H63,0) -> 0 | J63: ='5-1-2. 일위대가표(영향조사)'!J6 -> 0 | K63: =INT($C63*J63) -> 0 | L63: ='5-1-2. 일위대가표(영향조사)'!L6 -> 0 | M63: =INT($C63*L63) -> 0
A64: ='[381]일위대가표(영향조사)'!A7 -> 현지답사 | C64: =C63 -> 19 | D64: 지구 | E64: =SUM(G64,I64,K64,M64) -> 3532499 | F64: ='5-1-2. 일위대가표(영향조사)'!F7 -> 185921 | G64: =INT($C64*F64) -> 3532499 | H64: ='5-1-2. 일위대가표(영향조사)'!H7 -> 0 | I64: =TRUNC(C64*H64,0) -> 0 | J64: ='5-1-2. 일위대가표(영향조사)'!J7 -> 0 | K64: =INT($C64*J64) -> 0 | L64: ='5-1-2. 일위대가표(영향조사)'!L7 -> 0 | M64: =INT($C64*L64) -> 0
A65: ='[381]일위대가표(영향조사)'!A8 -> 대수성시험 | C65: =C64 -> 19 | D65: 공 | E65: =SUM(G65,I65,K65,M65) -> 29985382 | F65: ='5-1-2. 일위대가표(영향조사)'!F8 -> 663077 | G65: =INT($C65*F65) -> 12598463 | H65: ='5-1-2. 일위대가표(영향조사)'!H8 -> 915101 | I65: =TRUNC(C65*H65,0) -> 17386919 | J65: ='5-1-2. 일위대가표(영향조사)'!J8 -> 0 | K65: =INT($C65*J65) -> 0 | L65: ='5-1-2. 일위대가표(영향조사)'!L8 -> 0 | M65: =INT($C65*L65) -> 0
A66: ='[381]일위대가표(영향조사)'!A9 -> 적정취수량 및 영향범위 산정 | C66: =C65 -> 19 | D66: 공 | E66: =SUM(G66,I66,K66,M66) -> 1785202 | F66: ='5-1-2. 일위대가표(영향조사)'!F9 -> 93958 | G66: =INT($C66*F66) -> 1785202 | H66: ='5-1-2. 일위대가표(영향조사)'!H9 -> 0 | I66: =TRUNC(C66*H66,0) -> 0 | J66: ='5-1-2. 일위대가표(영향조사)'!J9 -> 0 | K66: =INT($C66*J66) -> 0 | L66: ='5-1-2. 일위대가표(영향조사)'!L9 -> 0 | M66: =INT($C66*L66) -> 0
A67: ='[381]일위대가표(영향조사)'!A10 -> 수질검사비 | C67: =C66 -> 19 | D67: 회 | E67: =SUM(G67,I67,K67,M67) -> 2078600 | F67: ='5-1-2. 일위대가표(영향조사)'!F10 -> 0 | G67: =INT($C67*F67) -> 0 | H67: ='5-1-2. 일위대가표(영향조사)'!H10 -> 0 | I67: =TRUNC(C67*H67,0) -> 0 | J67: ='5-1-2. 일위대가표(영향조사)'!J10 -> 0 | K67: =INT($C67*J67) -> 0 | L67: ='5-1-2. 일위대가표(영향조사)'!L10 -> 109400 | M67: =INT($C67*L67) -> 2078600
A68: ='[381]일위대가표(영향조사)'!A11 -> 보고서작성 | C68: =C67 -> 19 | D68: 지구 | E68: =SUM(G68,I68,K68,M68) -> 6428384 | F68: ='5-1-2. 일위대가표(영향조사)'!F11 -> 224656 | G68: =INT($C68*F68) -> 4268464 | H68: ='5-1-2. 일위대가표(영향조사)'!H11 -> 0 | I68: =TRUNC(C68*H68,0) -> 0 | J68: ='5-1-2. 일위대가표(영향조사)'!J11 -> 73680 | K68: =INT($C68*J68) -> 1399920 | L68: ='5-1-2. 일위대가표(영향조사)'!L11 -> 40000 | M68: =INT($C68*L68) -> 760000
A69: <지하수사후관리>
A70: ='[381]일위대가표(사후관리)'!M6 -> 기계기구설치 | C70: ='2-4.지구별내역(지하수사후관리)'!P13 -> 8 | D70: 회 | E70: =SUM(G70,I70,K70,M70) -> 3555768 | F70: ='5-1-3. 일위대가표(사후관리)'!R6 -> 0 | G70: =INT($C70*F70) -> 0 | H70: ='5-1-3. 일위대가표(사후관리)'!T6 -> 444471 | I70: =TRUNC(C70*H70,0) -> 3555768 | J70: ='5-1-3. 일위대가표(사후관리)'!V6 -> 0 | K70: =INT($C70*J70) -> 0 | L70: ='5-1-3. 일위대가표(사후관리)'!X6 -> 0 | M70: =INT($C70*L70) -> 0
A71: ='[381]일위대가표(사후관리)'!M7 -> 수중펌프설치인양 | C71: =C70 -> 8 | D71: 회 | E71: =SUM(G71,I71,K71,M71) -> 11785768 | F71: ='5-1-3. 일위대가표(사후관리)'!R7 -> 207974 | G71: =INT($C71*F71) -> 1663792 | H71: ='5-1-3. 일위대가표(사후관리)'!T7 -> 1120895 | I71: =TRUNC(C71*H71,0) -> 8967160 | J71: ='5-1-3. 일위대가표(사후관리)'!V7 -> 61736 | K71: =INT($C71*J71) -> 493888 | L71: ='5-1-3. 일위대가표(사후관리)'!X7 -> 82616 | M71: =INT($C71*L71) -> 660928
A72: ='[381]일위대가표(사후관리)'!M8 -> 에어써징(고압압축 불기공법) | C72: ='2-4.지구별내역(지하수사후관리)'!R13 -> 419 | D72: m | E72: =SUM(G72,I72,K72,M72) -> 6013069 | F72: ='5-1-3. 일위대가표(사후관리)'!R8 -> 2385 | G72: =INT($C72*F72) -> 999315 | H72: ='5-1-3. 일위대가표(사후관리)'!T8 -> 3783 | I72: =TRUNC(C72*H72,0) -> 1585077 | J72: ='5-1-3. 일위대가표(사후관리)'!V8 -> 7498 | K72: =INT($C72*J72) -> 3141662 | L72: ='5-1-3. 일위대가표(사후관리)'!X8 -> 685 | M72: =INT($C72*L72) -> 287015
A73: ='[381]일위대가표(사후관리)'!M9 -> 검사 및 정비 | C73: ='2-4.지구별내역(지하수사후관리)'!S13 -> 7 | D73: 회 | E73: =SUM(G73,I73,K73,M73) -> 649369 | F73: ='5-1-3. 일위대가표(사후관리)'!R9 -> 0 | G73: =INT($C73*F73) -> 0 | H73: ='5-1-3. 일위대가표(사후관리)'!T9 -> 71281 | I73: =TRUNC(C73*H73,0) -> 498967 | J73: ='5-1-3. 일위대가표(사후관리)'!V9 -> 0 | K73: =INT($C73*J73) -> 0 | L73: ='5-1-3. 일위대가표(사후관리)'!X9 -> 21486 | M73: =INT($C73*L73) -> 150402
A74: ='[381]일위대가표(사후관리)'!M10 -> 수위측정관설치 | C74: ='2-4.지구별내역(지하수사후관리)'!T13 -> 288 | D74: m | E74: =SUM(G74,I74,K74,M74) -> 288000 | F74: ='5-1-3. 일위대가표(사후관리)'!R10 -> 0 | G74: =INT($C74*F74) -> 0 | H74: ='5-1-3. 일위대가표(사후관리)'!T10 -> 0 | I74: =TRUNC(C74*H74,0) -> 0 | J74: ='5-1-3. 일위대가표(사후관리)'!V10 -> 1000 | K74: =INT($C74*J74) -> 288000 | L74: ='5-1-3. 일위대가표(사후관리)'!X10 -> 0 | M74: =INT($C74*L74) -> 0
A75: ='[381]일위대가표(사후관리)'!M11 -> 운반비 | C75: =C73 -> 7 | D75: 회 | E75: =SUM(G75,I75,K75,M75) -> 3761814 | F75: ='5-1-3. 일위대가표(사후관리)'!R11 -> 0 | G75: =INT($C75*F75) -> 0 | H75: ='5-1-3. 일위대가표(사후관리)'!T11 -> 0 | I75: =TRUNC(C75*H75,0) -> 0 | J75: ='5-1-3. 일위대가표(사후관리)'!V11 -> 0 | K75: =INT($C75*J75) -> 0 | L75: ='5-1-3. 일위대가표(사후관리)'!X11 -> 537402 | M75: =INT($C75*L75) -> 3761814
A76: ='[381]일위대가표(사후관리)'!M12 -> 지하수이용시설 안내문 설치 | C76: =C75 -> 7 | D76: 식 | E76: =SUM(G76,I76,K76,M76) -> 770000 | F76: ='5-1-3. 일위대가표(사후관리)'!R12 -> 0 | G76: =INT($C76*F76) -> 0 | H76: ='5-1-3. 일위대가표(사후관리)'!T12 -> 0 | I76: =TRUNC(C76*H76,0) -> 0 | J76: ='5-1-3. 일위대가표(사후관리)'!V12 -> 110000 | K76: =INT($C76*J76) -> 770000 | L76: ='5-1-3. 일위대가표(사후관리)'!X12 -> 0 | M76: =INT($C76*L76) -> 0
A77: ='[381]일위대가표(사후관리)'!M13 -> 수중TV검층 | C77: =C72 -> 419 | D77: m | E77: =SUM(G77,I77,K77,M77) -> 1983127 | F77: ='5-1-3. 일위대가표(사후관리)'!R13 -> 3733 | G77: =INT($C77*F77) -> 1564127 | H77: ='5-1-3. 일위대가표(사후관리)'!T13 -> 2261 | J77: ='5-1-3. 일위대가표(사후관리)'!V13 -> 0 | K77: =INT($C77*J77) -> 0 | L77: ='5-1-3. 일위대가표(사후관리)'!X13 -> 1000 | M77: =INT($C77*L77) -> 419000
A78: 수중케이블교체 | B78: 10SQ*3C | C78: 45 | D78: m | E78: =SUM(G78,I78,K78,M78) -> 787500 | K78: 787500 | N78: 견적처리
A79: ='[381]일위대가표(사후관리)'!M14 -> 수중모터펌프(3HP) 교체 | D79: 개
A80: ='[381]일위대가표(사후관리)'!M15 -> 수중모터펌프(5HP) 교체 | D80: 개
A81: ='[381]일위대가표(사후관리)'!M16 -> 수중모터펌프(7.5HP) 교체 | D81: 개
A82: ='[381]일위대가표(사후관리)'!M17 -> 유량계 교체(32mm) 교체 | D82: 개
A83: ='[381]일위대가표(사후관리)'!M18 -> 유량계 교체(40mm) 교체 | D83: 개
A84: ='[381]일위대가표(사후관리)'!M19 -> 유량계 교체(50mm) 교체 | D84: 개
A85: ='[381]일위대가표(사후관리)'!M20 -> 유량계 교체(50mm) 교체-플랜지타입 | D85: 개
A87: 합 계 | E87: =SUBTOTAL(9,E63:E85) -> 75674336 | G87: =SUBTOTAL(9,G63:G85) -> 28681716 | I87: =SUBTOTAL(9,I63:I85) -> 31993891 | K87: =SUBTOTAL(9,K63:K85) -> 6880970 | M87: =SUBTOTAL(9,M63:M85) -> 8117759 | N87: =SUM(N62:N86) -> 0
A88: 수질검사 명세서
A89: 일 금 : | B89: =E109 -> 0 | C89: 원
A90: 공 종 별 | B90: 재료 또는 치수 | C90: 원수 | D90: 단 위 | E90: 총 액 | F90: 직접인건비 | H90: 직접경비
H91: 노 무 비 | J91: 재 료 비 | L91: 경 비 | N91: 비 고
F92: 단 가 | G92: 금 액 | H92: 단 가 | I92: 금 액 | J92: 단 가 | K92: 금 액 | L92: 단 가 | M92: 금 액
A93: ='[381]일위대가표(수질검사)'!A6 -> 수질검사 | C93: ='[381]2-4.위치및사업량(수질검사)'!C5 -> 43 | D93: ='[381]일위대가표(수질검사)'!D6 -> 회 | E93: =SUM(G93,I93,K93,M93) -> 4704200 | F93: ='[381]일위대가표(수질검사)'!F6 -> 0 | G93: =INT($C93*F93) -> 0 | H93: ='[381]일위대가표(수질검사)'!H6 -> 0 | I93: =TRUNC(C93*H93,0) -> 0 | J93: ='[381]일위대가표(수질검사)'!J6 -> 0 | K93: =TRUNC(C93*J93,0) -> 0 | L93: ='[381]일위대가표(수질검사)'!L6 -> 109400 | M93: =INT($C93*L93) -> 4704200
A119: 합 계 | E119: =G119+K119+M119 -> 4704200 | G119: =SUM(G93:G118) -> 0 | I119: =SUM(I93:I118) -> 0 | K119: =SUM(K93:K118) -> 0 | M119: =SUM(M93:M118) -> 4704200 | N119: =SUM(N99:N118) -> 0
A120: 원상복구 명세서
A121: 일 금 : | B121: =E141 -> 0 | C121: 원
A122: 공 종 별 | B122: 재료 또는 치수 | C122: 원수 | D122: 단 위 | E122: 총 액 | F122: 직접인건비 | H122: 직접경비
H123: 노 무 비 | J123: 재 료 비 | L123: 경 비 | N123: 비 고
F124: 단 가 | G124: 금 액 | H124: 단 가 | I124: 금 액 | J124: 단 가 | K124: 금 액 | L124: 단 가 | M124: 금 액
A125: ='[381]일위대가표(원상복구)'!A6 -> 지하수시설물 폐공처리(양수장옥) | C125: 1 | D125: 식 | E125: =SUM(G125,I125,K125,M125) -> 3049340 | F125: ='[381]일위대가표(원상복구)'!G11 -> 765999 | G125: =INT($C125*F125) -> 765999 | H125: ='[381]일위대가표(원상복구)'!I11 -> 2012858 | I125: =TRUNC(C125*H125,0) -> 2012858 | J125: ='[381]일위대가표(원상복구)'!K11 -> 198553 | K125: =TRUNC(C125*J125,0) -> 198553 | L125: ='[381]일위대가표(원상복구)'!M11 -> 71930 | M125: =INT($C125*L125) -> 71930
A151: 합 계 | E151: =G151+K151+M151 -> 1036482 | G151: =SUM(G125:G150) -> 765999 | I151: =SUM(I125:I150) -> 2012858 | K151: =SUM(K125:K150) -> 198553 | M151: =SUM(M125:M150) -> 71930 | N151: =SUM(N131:N150) -> 0

Sheet 5-1-2. 일위대가표(영향조사) 1공구
A1: 5-1-2. 지하수영향조사(연장허가) 일위대가표
A3: 공종별 | B3: 재료또는치수 | C3: 원수 | D3: 단위 | E3: 총액 | F3: 직접인건비 | H3: 직접경비 | N3: 산출근거
F4: 인건비 | H4: 노무비 | J4: 재료비 | L4: 경비
F5: 단가 | G5: 금액 | H5: 단가 | I5: 금액 | J5: 단가 | K5: 금액 | L5: 단가 | M5: 금액
A6: =A26 -> 기존자료 수집 | C6: 1 | D6: 지구 | E6: =SUM(G6,I6,K6,M6) -> 140715 | F6: =G50 -> 140715 | G6: =TRUNC(C6*F6,0) -> 140715 | H6: =I50 -> 0 | I6: =TRUNC(C6*H6,0) -> 0 | J6: =K50 -> 0 | K6: =TRUNC(C6*J6,0) -> 0 | L6: =M50 -> 0 | M6: =TRUNC(C6*L6,0) -> 0 | N6: <제1호표>
A7: =A51 -> 현지답사 | C7: 1 | D7: 지구 | E7: =SUM(G7,I7,K7,M7) -> 218989 | F7: =G75 -> 218989 | G7: =TRUNC(C7*F7,0) -> 218989 | H7: =I75 -> 0 | I7: =TRUNC(C7*H7,0) -> 0 | J7: =K75 -> 0 | K7: =TRUNC(C7*J7,0) -> 0 | L7: =M75 -> 0 | M7: =TRUNC(C7*L7,0) -> 0 | N7: <제2호표>
A8: =A76 -> 대수성시험 | C8: 1 | D8: 공 | E8: =SUM(G8,I8,K8,M8) -> 1858869 | F8: =G100 -> 781011 | G8: =TRUNC(C8*F8,0) -> 781011 | H8: =I100 -> 1077858 | I8: =TRUNC(C8*H8,0) -> 1077858 | J8: =K100 -> 0 | K8: =TRUNC(C8*J8,0) -> 0 | L8: =M100 -> 0 | M8: =TRUNC(C8*L8,0) -> 0 | N8: <제3호표>
A9: =A201 -> 적정취수량 및 영향범위 산정 | C9: 1 | D9: 공 | E9: =SUM(G9,I9,K9,M9) -> 110670 | F9: =G225 -> 110670 | G9: =TRUNC(C9*F9,0) -> 110670 | H9: =I225 -> 0 | I9: =TRUNC(C9*H9,0) -> 0 | J9: =K225 -> 0 | K9: =TRUNC(C9*J9,0) -> 0 | L9: =M225 -> 0 | M9: =TRUNC(C9*L9,0) -> 0 | N9: <제4호표>
A10: =A226 -> 수질검사비 | C10: 1 | D10: 회 | E10: =SUM(G10,I10,K10,M10) -> 109400 | F10: =G250 -> 0 | G10: =TRUNC(C10*F10,0) -> 0 | H10: =I250 -> 0 | I10: =TRUNC(C10*H10,0) -> 0 | J10: =K250 -> 0 | K10: =TRUNC(C10*J10,0) -> 0 | L10: =M250 -> 109400 | M10: =TRUNC(C10*L10,0) -> 109400 | N10: <제5호표>
A11: =A251 -> 보고서작성 | C11: 1 | D11: 지구 | E11: =SUM(G11,I11,K11,M11) -> 378293 | F11: =G275 -> 264613 | G11: =TRUNC(C11*F11,0) -> 264613 | H11: =I275 -> 0 | I11: =TRUNC(C11*H11,0) -> 0 | J11: =K275 -> 73680 | K11: =TRUNC(C11*J11,0) -> 73680 | L11: =M275 -> 40000 | M11: =TRUNC(C11*L11,0) -> 40000 | N11: <제6호표>
E12: =SUM(G12,K12,M12) -> 0 | G12: =TRUNC(C12*F12,0) -> 0 | K12: =TRUNC(C12*J12,0) -> 0 | M12: =TRUNC(C12*L12,0) -> 0
E13: =SUM(G13,K13,M13) -> 0 | G13: =TRUNC(C13*F13,0) -> 0 | K13: =TRUNC(C13*J13,0) -> 0 | M13: =TRUNC(C13*L13,0) -> 0
G14: =TRUNC(C14*F14,0) -> 0 | K14: =TRUNC(C14*J14,0) -> 0 | M14: =TRUNC(C14*L14,0) -> 0
G15: =TRUNC(C15*F15,0) -> 0 | K15: =TRUNC(C15*J15,0) -> 0 | M15: =TRUNC(C15*L15,0) -> 0
G16: =TRUNC(C16*F16,0) -> 0 | K16: =TRUNC(C16*J16,0) -> 0 | M16: =TRUNC(C16*L16,0) -> 0
G17: =TRUNC(C17*F17,0) -> 0 | K17: =TRUNC(C17*J17,0) -> 0 | M17: =TRUNC(C17*L17,0) -> 0
G18: =TRUNC(C18*F18,0) -> 0 | K18: =TRUNC(C18*J18,0) -> 0 | M18: =TRUNC(C18*L18,0) -> 0
G19: =TRUNC(C19*F19,0) -> 0 | K19: =TRUNC(C19*J19,0) -> 0 | M19: =TRUNC(C19*L19,0) -> 0
E20: =SUM(G20,K20,M20) -> 0 | G20: =TRUNC(C20*F20,0) -> 0 | K20: =TRUNC(C20*J20,0) -> 0 | M20: =TRUNC(C20*L20,0) -> 0
E21: =SUM(G21,K21,M21) -> 0 | G21: =TRUNC(C21*F21,0) -> 0 | K21: =TRUNC(C21*J21,0) -> 0 | M21: =TRUNC(C21*L21,0) -> 0
E22: =SUM(G22,K22,M22) -> 0 | G22: =TRUNC(C22*F22,0) -> 0 | K22: =TRUNC(C22*J22,0) -> 0 | M22: =TRUNC(C22*L22,0) -> 0
E24: =SUM(G24,K24,M24) -> 0 | G24: =TRUNC(C24*F24,0) -> 0 | K24: =TRUNC(C24*J24,0) -> 0 | M24: =TRUNC(C24*L24,0) -> 0
E25: =SUBTOTAL(9,E6:E24) -> 2816936 | G25: =SUBTOTAL(9,G6:G24) -> 1515998 | I25: =SUBTOTAL(9,I6:I24) -> 1077858 | K25: =SUBTOTAL(9,K6:K24) -> 73680 | M25: =SUBTOTAL(9,M6:M24) -> 149400
A26: 기존자료 수집
A27: <제1호표> | N27: =C34 -> 0.227
A28: 공종별 | B28: 재료또는치수 | C28: 원수 | D28: 단위 | E28: 총액 | F28: 직접인건비 | H28: 직접경비 | N28: 산출근거
F29: 인건비 | H29: 노무비 | J29: 재료비 | L29: 경비 | P29: ='[381]4. 외주용역비 총괄'!C16 -> 영향조사
F30: 단가 | G30: 금액 | H30: 단가 | I30: 금액 | J30: 단가 | K30: 금액 | L30: 단가 | M30: 금액
A31: <노무비> | E31: =SUM(G31,K31,M31) -> 0 | G31: =TRUNC(C31*F31,0) -> 0 | K31: =TRUNC(C31*J31,0) -> 0 | M31: =TRUNC(C31*L31,0) -> 0 | N31: 지하수 조사.계획 품셈(2022), P.13
A32: 특급기술자 | C32: =0.1*O32 -> 0.0454 | D32: 인 | E32: =SUM(G32,I32,K32,M32) -> 16950 | F32: ='단가(영향조사)'!$B$4 -> 373353 | G32: =TRUNC(C32*F32,0) -> 16950 | K32: =TRUNC(C32*J32,0) -> 0 | M32: =TRUNC(C32*L32,0) -> 0 | O32: 0.454
A33: 고급기술자 | C33: 0 | D33: 인 | E33: =SUM(G33,I33,K33,M33) -> 0 | F33: ='단가(영향조사)'!$B$5 -> 310884 | G33: =TRUNC(C33*F33,0) -> 0 | K33: =TRUNC(C33*J33,0) -> 0 | M33: =TRUNC(C33*L33,0) -> 0
A34: 중급기술자 | C34: =0.5*O32 -> 0.227 | D34: 인 | E34: =SUM(G34,I34,K34,M34) -> 66996 | F34: ='단가(영향조사)'!$B$6 -> 295138 | G34: =TRUNC(C34*F34,0) -> 66996 | K34: =TRUNC(C34*J34,0) -> 0 | M34: =TRUNC(C34*L34,0) -> 0
A35: 초급기술자 | C35: 0 | D35: 인 | E35: =SUM(G35,I35,K35,M35) -> 0 | F35: ='단가(영향조사)'!$B$7 -> 235459 | G35: =TRUNC(C35*F35,0) -> 0 | K35: =TRUNC(C35*J35,0) -> 0 | M35: =TRUNC(C35*L35,0) -> 0
A36: 중급숙련기술자 | C36: =0.5*O32 -> 0.227 | D36: 인 | E36: =SUM(G36,I36,K36,M36) -> 56769 | F36: ='단가(영향조사)'!$B$9 -> 250087 | G36: =TRUNC(C36*F36,0) -> 56769 | K36: =TRUNC(C36*J36,0) -> 0 | M36: =TRUNC(C36*L36,0) -> 0
A37: 초급숙련기술자 | C37: 0 | D37: 인 | E37: =SUM(G37,I37,K37,M37) -> 0 | F37: ='단가(영향조사)'!$B$10 -> 218142 | G37: =TRUNC(C37*F37,0) -> 0 | K37: =TRUNC(C37*J37,0) -> 0 | M37: =TRUNC(C37*L37,0) -> 0
A38: 보링공 | D38: 인 | E38: =SUM(G38,I38,K38,M38) -> 0 | G38: =TRUNC(C38*F38,0) -> 0 | J38: ='단가(영향조사)'!$B$11 -> 232562 | K38: =TRUNC(C38*J38,0) -> 0 | M38: =TRUNC(C38*L38,0) -> 0
A39: 특별인부 | D39: 인 | E39: =SUM(G39,I39,K39,M39) -> 0 | G39: =TRUNC(C39*F39,0) -> 0 | J39: ='단가(영향조사)'!$B$12 -> 226122 | K39: =TRUNC(C39*J39,0) -> 0 | M39: =TRUNC(C39*L39,0) -> 0
A40: 보통인부 | D40: 인 | E40: =SUM(G40,I40,K40,M40) -> 0 | G40: =TRUNC(C40*F40,0) -> 0 | J40: ='단가(영향조사)'!$B$13 -> 172068 | K40: =TRUNC(C40*J40,0) -> 0 | M40: =TRUNC(C40*L40,0) -> 0
A41: <재료비> | B41: <<기존자료 수집 및 현지답사 포함사항>> | G41: =TRUNC(C41*F41,0) -> 0 | K41: =TRUNC(C41*J41,0) -> 0 | M41: =TRUNC(C41*L41,0) -> 0 | N41: 지하수 조사.계획 품셈(2022), P.12
B42: 정천현황조사(현장실사) | G42: =TRUNC(C42*F42,0) -> 0 | K42: =TRUNC(C42*J42,0) -> 0 | M42: =TRUNC(C42*L42,0) -> 0
B43: 지하수 이용량 산정 | G43: =TRUNC(C43*F43,0) -> 0 | K43: =TRUNC(C43*J43,0) -> 0 | M43: =TRUNC(C43*L43,0) -> 0
B44: 하천현황조사 | G44: =TRUNC(C44*F44,0) -> 0 | K44: =TRUNC(C44*J44,0) -> 0 | M44: =TRUNC(C44*L44,0) -> 0
B45: 잠재오염원 조사 | G45: =TRUNC(C45*F45,0) -> 0 | K45: =TRUNC(C45*J45,0) -> 0 | M45: =TRUNC(C45*L45,0) -> 0
A46: <경비> | E46: =SUM(G46,K46,M46) -> 0 | G46: =TRUNC(C46*F46,0) -> 0 | K46: =TRUNC(C46*J46,0) -> 0 | M46: =TRUNC(C46*L46,0) -> 0
E47: =SUM(G47,K47,M47) -> 0 | G47: =TRUNC(C47*F47,0) -> 0 | K47: =TRUNC(C47*J47,0) -> 0 | M47: =TRUNC(C47*L47,0) -> 0
E48: =SUM(G48,K48,M48) -> 0 | G48: =TRUNC(C48*F48,0) -> 0 | K48: =TRUNC(C48*J48,0) -> 0 | M48: =TRUNC(C48*L48,0) -> 0
E49: =SUM(G49,K49,M49) -> 0 | G49: =TRUNC(C49*F49,0) -> 0 | K49: =TRUNC(C49*J49,0) -> 0 | M49: =TRUNC(C49*L49,0) -> 0
A50: 합 계 | E50: =SUBTOTAL(9,E31:E49) -> 140715 | G50: =SUBTOTAL(9,G31:G49) -> 140715 | I50: =SUBTOTAL(9,I31:I49) -> 0 | K50: =SUBTOTAL(9,K31:K49) -> 0 | M50: =SUBTOTAL(9,M31:M49) -> 0
A51: 현지답사
A52: 2 | N52: =C59 -> 0.454
A53: 공종별 | B53: 재료또는치수 | C53: 원수 | D53: 단위 | E53: 총액 | F53: 직접인건비 | H53: 직접경비 | N53: 산출근거
F54: 인건비 | H54: 노무비 | J54: 재료비 | L54: 경비
F55: 단가 | G55: 금액 | H55: 단가 | I55: 금액 | J55: 단가 | K55: 금액 | L55: 단가 | M55: 금액
A56: <노무비> | E56: =SUM(G56,K56,M56) -> 0 | G56: =TRUNC(C56*F56,0) -> 0 | K56: =TRUNC(C56*J56,0) -> 0 | M56: =TRUNC(C56*L56,0) -> 0 | N56: 지하수 조사.계획 품셈(2022), P.13
A57: 특급기술자 | C57: 0 | D57: 인 | E57: =SUM(G57,I57,K57,M57) -> 0 | F57: ='단가(영향조사)'!$B$4 -> 373353 | G57: =TRUNC(C57*F57,0) -> 0 | K57: =TRUNC(C57*J57,0) -> 0 | M57: =TRUNC(C57*L57,0) -> 0
A58: 고급기술자 | C58: =0.2*$O$32 -> 0.0908 | D58: 인 | E58: =SUM(G58,I58,K58,M58) -> 28228 | F58: ='단가(영향조사)'!$B$5 -> 310884 | G58: =TRUNC(C58*F58,0) -> 28228 | K58: =TRUNC(C58*J58,0) -> 0 | M58: =TRUNC(C58*L58,0) -> 0
A59: 중급기술자 | C59: =1*$O$32 -> 0.454 | D59: 인 | E59: =SUM(G59,I59,K59,M59) -> 133992 | F59: ='단가(영향조사)'!$B$6 -> 295138 | G59: =TRUNC(C59*F59,0) -> 133992 | K59: =TRUNC(C59*J59,0) -> 0 | M59: =TRUNC(C59*L59,0) -> 0
A60: 초급기술자 | C60: 0 | D60: 인 | E60: =SUM(G60,I60,K60,M60) -> 0 | F60: ='단가(영향조사)'!$B$7 -> 235459 | G60: =TRUNC(C60*F60,0) -> 0 | K60: =TRUNC(C60*J60,0) -> 0 | M60: =TRUNC(C60*L60,0) -> 0
A61: 중급숙련기술자 | C61: =0.5*$O$32 -> 0.227 | D61: 인 | E61: =SUM(G61,I61,K61,M61) -> 56769 | F61: ='단가(영향조사)'!$B$9 -> 250087 | G61: =TRUNC(C61*F61,0) -> 56769 | K61: =TRUNC(C61*J61,0) -> 0 | M61: =TRUNC(C61*L61,0) -> 0
A62: 초급숙련기술자 | C62: 0 | D62: 인 | E62: =SUM(G62,I62,K62,M62) -> 0 | F62: ='단가(영향조사)'!$B$10 -> 218142 | G62: =TRUNC(C62*F62,0) -> 0 | K62: =TRUNC(C62*J62,0) -> 0 | M62: =TRUNC(C62*L62,0) -> 0
A63: 보링공 | D63: 인 | E63: =SUM(G63,I63,K63,M63) -> 0 | G63: =TRUNC(C63*F63,0) -> 0 | J63: ='단가(영향조사)'!$B$11 -> 232562 | K63: =TRUNC(C63*J63,0) -> 0 | M63: =TRUNC(C63*L63,0) -> 0
A64: 특별인부 | D64: 인 | E64: =SUM(G64,I64,K64,M64) -> 0 | G64: =TRUNC(C64*F64,0) -> 0 | J64: ='단가(영향조사)'!$B$12 -> 226122 | K64: =TRUNC(C64*J64,0) -> 0 | M64: =TRUNC(C64*L64,0) -> 0
A65: 보통인부 | D65: 인 | E65: =SUM(G65,I65,K65,M65) -> 0 | G65: =TRUNC(C65*F65,0) -> 0 | J65: ='단가(영향조사)'!$B$13 -> 172068 | K65: =TRUNC(C65*J65,0) -> 0 | M65: =TRUNC(C65*L65,0) -> 0
A66: <재료비> | B66: <<기존자료 수집 및 현지답사 포함사항>> | G66: =TRUNC(C66*F66,0) -> 0 | K66: =TRUNC(C66*J66,0) -> 0 | M66: =TRUNC(C66*L66,0) -> 0 | N66: 지하수 조사.계획 품셈(2022), P.12
B67: 정천현황조사(현장실사) | G67: =TRUNC(C67*F67,0) -> 0 | K67: =TRUNC(C67*J67,0) -> 0 | M67: =TRUNC(C67*L67,0) -> 0
B68: 지하수 이용량 산정 | G68: =TRUNC(C68*F68,0) -> 0 | K68: =TRUNC(C68*J68,0) -> 0 | M68: =TRUNC(C68*L68,0) -> 0
B69: 하천현황조사 | G69: =TRUNC(C69*F69,0) -> 0 | K69: =TRUNC(C69*J69,0) -> 0 | M69: =TRUNC(C69*L69,0) -> 0
B70: 잠재오염원 조사 | G70: =TRUNC(C70*F70,0) -> 0 | K70: =TRUNC(C70*J70,0) -> 0 | M70: =TRUNC(C70*L70,0) -> 0
A71: <경비> | E71: =SUM(G71,K71,M71) -> 0 | G71: =TRUNC(C71*F71,0) -> 0 | K71: =TRUNC(C71*J71,0) -> 0 | M71: =TRUNC(C71*L71,0) -> 0
E72: =SUM(G72,K72,M72) -> 0 | G72: =TRUNC(C72*F72,0) -> 0 | K72: =TRUNC(C72*J72,0) -> 0 | M72: =TRUNC(C72*L72,0) -> 0
E73: =SUM(G73,K73,M73) -> 0 | G73: =TRUNC(C73*F73,0) -> 0 | K73: =TRUNC(C73*J73,0) -> 0 | M73: =TRUNC(C73*L73,0) -> 0
E74: =SUM(G74,K74,M74) -> 0 | G74: =TRUNC(C74*F74,0) -> 0 | K74: =TRUNC(C74*J74,0) -> 0 | M74: =TRUNC(C74*L74,0) -> 0
A75: 합 계 | E75: =SUBTOTAL(9,E56:E74) -> 218989 | G75: =SUBTOTAL(9,G56:G74) -> 218989 | I75: =SUBTOTAL(9,I56:I74) -> 0 | K75: =SUBTOTAL(9,K56:K74) -> 0 | M75: =SUBTOTAL(9,M56:M74) -> 0
A76: 대수성시험
A77: 3 | N77: =SUM(,N127,N152,N177) -> 1.2643333
A78: 공종별 | B78: 재료또는치수 | C78: 원수 | D78: 단위 | E78: 총액 | F78: 직접인건비 | H78: 직접경비 | N78: 산출근거
F79: 인건비 | H79: 노무비 | J79: 재료비 | L79: 경비
F80: 단가 | G80: 금액 | H80: 단가 | I80: 금액 | J80: 단가 | K80: 금액 | L80: 단가 | M80: 금액
E81: =SUM(G81,K81,M81) -> 0 | G81: =TRUNC(C81*F81,0) -> 0 | K81: =TRUNC(C81*J81,0) -> 0 | M81: =TRUNC(C81*L81,0) -> 0
A82: 단계대수성시험 | C82: 0 | D82: 식 | E82: =SUM(G82,I82,K82,M82) -> 0 | F82: =G125 -> 139785 | G82: =TRUNC(C82*F82,0) -> 0 | H82: =I125 -> 215570 | I82: =TRUNC(C82*H82,0) -> 0 | J82: =K125 -> 0 | K82: =TRUNC(C82*J82,0) -> 0 | L82: =M125 -> 0 | M82: =TRUNC(C82*L82,0) -> 0
A83: 연속대수성시험 | C83: 1 | D83: 식 | E83: =SUM(G83,I83,K83,M83) -> 1315143 | F83: =G150 -> 452855 | G83: =TRUNC(C83*F83,0) -> 452855 | H83: =I150 -> 862288 | I83: =TRUNC(C83*H83,0) -> 862288 | J83: =K150 -> 0 | K83: =TRUNC(C83*J83,0) -> 0 | L83: =M150 -> 0 | M83: =TRUNC(C83*L83,0) -> 0
A84: 회복시험 | C84: 1 | D84: 식 | E84: =SUM(G84,I84,K84,M84) -> 272339 | F84: =G175 -> 56769 | G84: =TRUNC(C84*F84,0) -> 56769 | H84: =I175 -> 215570 | I84: =TRUNC(C84*H84,0) -> 215570 | J84: =K175 -> 0 | K84: =TRUNC(C84*J84,0) -> 0 | L84: =M175 -> 0 | M84: =TRUNC(C84*L84,0) -> 0
A85: 해석 | C85: 1 | D85: 식 | E85: =SUM(G85,I85,K85,M85) -> 271387 | F85: =G200 -> 271387 | G85: =TRUNC(C85*F85,0) -> 271387 | H85: =I200 -> 0 | I85: =TRUNC(C85*H85,0) -> 0 | J85: =K200 -> 0 | K85: =TRUNC(C85*J85,0) -> 0 | L85: =M200 -> 0 | M85: =TRUNC(C85*L85,0) -> 0
E86: =SUM(G86,K86,M86) -> 0 | G86: =TRUNC(C86*F86,0) -> 0 | K86: =TRUNC(C86*J86,0) -> 0 | M86: =TRUNC(C86*L86,0) -> 0
E87: =SUM(G87,K87,M87) -> 0 | G87: =TRUNC(C87*F87,0) -> 0 | K87: =TRUNC(C87*J87,0) -> 0 | M87: =TRUNC(C87*L87,0) -> 0
E88: =SUM(G88,K88,M88) -> 0 | G88: =TRUNC(C88*F88,0) -> 0 | K88: =TRUNC(C88*J88,0) -> 0 | M88: =TRUNC(C88*L88,0) -> 0
E89: =SUM(G89,K89,M89) -> 0 | G89: =TRUNC(C89*F89,0) -> 0 | K89: =TRUNC(C89*J89,0) -> 0 | M89: =TRUNC(C89*L89,0) -> 0
E91: =SUM(G91,K91,M91) -> 0 | G91: =TRUNC(C91*F91,0) -> 0 | K91: =TRUNC(C91*J91,0) -> 0 | M91: =TRUNC(C91*L91,0) -> 0
E92: =SUM(G92,K92,M92) -> 0 | G92: =TRUNC(C92*F92,0) -> 0 | K92: =TRUNC(C92*J92,0) -> 0 | M92: =TRUNC(C92*L92,0) -> 0
E93: =SUM(G93,K93,M93) -> 0 | G93: =TRUNC(C93*F93,0) -> 0 | K93: =TRUNC(C93*J93,0) -> 0 | M93: =TRUNC(C93*L93,0) -> 0
E94: =SUM(G94,K94,M94) -> 0 | G94: =TRUNC(C94*F94,0) -> 0 | K94: =TRUNC(C94*J94,0) -> 0 | M94: =TRUNC(C94*L94,0) -> 0
E95: =SUM(G95,K95,M95) -> 0 | G95: =TRUNC(C95*F95,0) -> 0 | K95: =TRUNC(C95*J95,0) -> 0 | M95: =TRUNC(C95*L95,0) -> 0
E96: =SUM(G96,K96,M96) -> 0 | G96: =TRUNC(C96*F96,0) -> 0 | K96: =TRUNC(C96*J96,0) -> 0 | M96: =TRUNC(C96*L96,0) -> 0
E97: =SUM(G97,K97,M97) -> 0 | G97: =TRUNC(C97*F97,0) -> 0 | K97: =TRUNC(C97*J97,0) -> 0 | M97: =TRUNC(C97*L97,0) -> 0
E98: =SUM(G98,K98,M98) -> 0 | G98: =TRUNC(C98*F98,0) -> 0 | K98: =TRUNC(C98*J98,0) -> 0 | M98: =TRUNC(C98*L98,0) -> 0
E99: =SUM(G99,K99,M99) -> 0 | G99: =TRUNC(C99*F99,0) -> 0 | K99: =TRUNC(C99*J99,0) -> 0 | M99: =TRUNC(C99*L99,0) -> 0
A100: 합 계 | E100: =SUBTOTAL(9,E81:E99) -> 1858869 | G100: =SUBTOTAL(9,G81:G99) -> 781011 | I100: =SUBTOTAL(9,I81:I99) -> 1077858 | K100: =SUBTOTAL(9,K81:K99) -> 0 | M100: =SUBTOTAL(9,M81:M99) -> 0
A101: 대수성시험
A102: 3-1 | B102: 단계대수성시험 | N102: =4/24 -> 0.16666667
A103: 공종별 | B103: 재료또는치수 | C103: 원수 | D103: 단위 | E103: 총액 | F103: 직접인건비 | H103: 직접경비 | N103: 산출근거
...

Sheet 5-1-3. 일위대가표(사후관리) 1공구
E1: 사후관리 | M1: 5-1-3. 지하수사후관리 일위대가표
M2: 일 금 : | N2: =Q23 -> 10509755 | P2: 원 | X2: 기 종 : 콤프레샤 21kg/cm2 이상
A3: 공종별 | B3: 규격 | C3: 원수 | D3: 단위 | E3: 총 액 | F3: 직접인건비 | H3: 직 접 경 비 | L3: 산출근거 | M3: 공종별 | N3: 규격 | O3: 원수 | P3: 단위 | Q3: 총 액 | R3: 직접인건비 | T3: 직 접 경 비 | Z3: 산출근거
F4: 인건비 | H4: 재료비 | J4: 경비 | R4: 인건비 | T4: 노무비 | V4: 재료비 | X4: 경비 | AB4: 원수조정 | AC4: 0.83
F5: 단 가 | G5: 금 액 | H5: 단 가 | I5: 금 액 | R5: 단 가 | S5: 금 액 | T5: 단 가 | U5: 금 액 | V5: 단 가 | W5: 금 액 | X5: 단 가 | Y5: 금 액
A6: =E24 -> 시설현황조사 | C6: =#REF! -> #REF! | D6: 회 | E6: =SUM(G6,I6,K6) -> #REF! | G6: =G48 -> #REF! | I6: =I48 -> #REF! | K6: =K48 -> #REF! | M6: 기계기구설치 | O6: 1 | P6: 회 | Q6: =S6+U6+W6+Y6 -> 523523 | R6: =S48 -> 0 | S6: =TRUNC($O6*R6) -> 0 | T6: =U48 -> 523523 | U6: =TRUNC($O6*T6) -> 523523 | V6: =W48 -> 0 | W6: =TRUNC($O6*V6) -> 0 | X6: =Y48 -> 0 | Y6: =TRUNC($O6*X6) -> 0 | Z6: 제1호표
A7: =E99 -> 공내청소 | C7: =C106 -> 966 | D7: m | E7: =SUM(G7,I7,K7) -> 19049484 | G7: =G123 -> 4622028 | I7: =I123 -> 4390242 | K7: =K123 -> 10037214 | M7: 수중펌프설치인양 | O7: 1 | P7: 회 | Q7: =S7+U7+W7+Y7 -> 1639168 | R7: =S73 -> 244964 | S7: =TRUNC($O7*R7) -> 244964 | T7: =U73 -> 1249852 | U7: =TRUNC($O7*T7) -> 1249852 | V7: =W73 -> 61736 | W7: =TRUNC($O7*V7) -> 61736 | X7: =Y73 -> 82616 | Y7: =TRUNC($O7*X7) -> 82616 | Z7: 제2호표
A8: =E424 -> 시설정비 및 설치 | C8: ='[381]2-2. 공종별 내역(사후관리)'!L5 -> 12 | D8: 회 | E8: =SUM(G8,I8,K8) -> 56848 | G8: =G448 -> 0 | I8: =I448 -> 56848 | K8: =K448 -> 0 | M8: 에어써징(고압압축 불기공법) | O8: 1 | P8: m | Q8: =S8+U8+W8+Y8 -> 15231 | R8: =S98 -> 2635 | S8: =TRUNC($O8*R8) -> 2635 | T8: =U98 -> 4413 | U8: =TRUNC($O8*T8) -> 4413 | V8: =W98 -> 7498 | W8: =TRUNC($O8*V8) -> 7498 | X8: =Y98 -> 685 | Y8: =TRUNC($O8*X8) -> 685 | Z8: 제3호표
E9: =SUM(G9,I9,K9) -> 0 | G9: =TRUNC(C9*F9,0) -> 0 | I9: =TRUNC(C9*H9,0) -> 0 | K9: =TRUNC(C9*J9,0) -> 0 | M9: 검사 및 정비 | O9: 1 | P9: 회 | Q9: =S9+U9+W9+Y9 -> 105446 | R9: =S123 -> 0 | S9: =TRUNC($O9*R9) -> 0 | T9: =U123 -> 83960 | U9: =TRUNC($O9*T9) -> 83960 | V9: =W123 -> 0 | W9: =TRUNC($O9*V9) -> 0 | X9: =Y123 -> 21486 | Y9: =TRUNC($O9*X9) -> 21486 | Z9: 제4호표
E10: =SUM(G10,I10,K10) -> 0 | G10: =TRUNC(C10*F10,0) -> 0 | I10: =TRUNC(C10*H10,0) -> 0 | K10: =TRUNC(C10*J10,0) -> 0 | M10: 수위측정관설치 | O10: 1 | P10: m | Q10: =S10+U10+W10+Y10 -> 1000 | R10: =S148 -> 0 | S10: =TRUNC($O10*R10) -> 0 | T10: =U148 -> 0 | U10: =TRUNC($O10*T10) -> 0 | V10: =W148 -> 1000 | W10: =TRUNC($O10*V10) -> 1000 | X10: =Y148 -> 0 | Y10: =TRUNC($O10*X10) -> 0 | Z10: 제5호표
E11: =SUM(G11,I11,K11) -> 0 | G11: =TRUNC(C11*F11,0) -> 0 | I11: =TRUNC(C11*H11,0) -> 0 | K11: =TRUNC(C11*J11,0) -> 0 | M11: 운반비 | O11: 1 | P11: 회 | Q11: =S11+U11+W11+Y11 -> 537402 | R11: =S173 -> 0 | S11: =TRUNC($O11*R11) -> 0 | T11: =U173 -> 0 | U11: =TRUNC($O11*T11) -> 0 | V11: =W173 -> 0 | W11: =TRUNC($O11*V11) -> 0 | X11: =Y173 -> 537402 | Y11: =TRUNC($O11*X11) -> 537402 | Z11: 제6호표
M12: 지하수이용시설 안내문 설치 | O12: 1 | P12: 식 | Q12: =S12+U12+W12+Y12 -> 110000 | R12: =S198 -> 0 | T12: =U198 -> 0 | U12: =TRUNC($O12*T12) -> 0 | V12: =W198 -> 110000 | W12: =TRUNC($O12*V12) -> 110000 | Z12: 제7호표
M13: 수중TV검층 | O13: 1 | P13: m | Q13: =S13+U13+W13+Y13 -> 6994 | R13: =S223 -> 3733 | S13: =TRUNC($O13*R13) -> 3733 | T13: =U223 -> 2261 | U13: =TRUNC($O13*T13) -> 2261 | V13: =W223 -> 0 | W13: =TRUNC($O13*V13) -> 0 | X13: =Y223 -> 1000 | Y13: =TRUNC($O13*X13) -> 1000 | Z13: 제8호표
E14: =SUM(G14,I14,K14) -> 0 | G14: =TRUNC(C14*F14,0) -> 0 | I14: =TRUNC(C14*H14,0) -> 0 | K14: =TRUNC(C14*J14,0) -> 0 | M14: 수중모터펌프(3HP) 교체 | O14: 1 | P14: 개 | Q14: =S14+U14+W14+Y14 -> 2032000 | T14: =U248 -> 0 | U14: =TRUNC($O14*T14) -> 0 | V14: =W248 -> 2032000 | W14: =TRUNC($O14*V14) -> 2032000 | Z14: 제9호표
E15: =SUM(G15,I15,K15) -> 0 | G15: =TRUNC(C15*F15,0) -> 0 | I15: =TRUNC(C15*H15,0) -> 0 | K15: =TRUNC(C15*J15,0) -> 0 | M15: 수중모터펌프(5HP) 교체 | O15: 1 | P15: 개 | Q15: =S15+U15+W15+Y15 -> 2912000 | T15: =U273 -> 0 | U15: =TRUNC($O15*T15) -> 0 | V15: =W273 -> 2912000 | W15: =TRUNC($O15*V15) -> 2912000 | Z15: 제10호표
G16: =TRUNC(C16*F16,0) -> 0 | I16: =TRUNC(C16*H16,0) -> 0 | K16: =TRUNC(C16*J16,0) -> 0 | M16: 수중모터펌프(7.5HP) 교체 | O16: 1 | P16: 개 | Q16: =S16+U16+W16+Y16 -> 3424000 | T16: =U298 -> 0 | U16: =TRUNC($O16*T16) -> 0 | V16: =W298 -> 3424000 | W16: =TRUNC($O16*V16) -> 3424000 | Z16: 제11호표
E17: =SUM(G17,I17,K17) -> 0 | G17: =TRUNC(C17*F17,0) -> 0 | I17: =TRUNC(C17*H17,0) -> 0 | K17: =TRUNC(C17*J17,0) -> 0 | M17: 유량계 교체(32mm) 교체 | O17: 1 | P17: 개 | Q17: =S17+U17+W17+Y17 -> 140000 | T17: =U323 -> 0 | U17: =TRUNC($O17*T17) -> 0 | V17: =W323 -> 140000 | W17: =TRUNC($O17*V17) -> 140000 | Z17: 제12호표
E18: =SUM(G18,I18,K18) -> 0 | G18: =TRUNC(C18*F18,0) -> 0 | I18: =TRUNC(C18*H18,0) -> 0 | K18: =TRUNC(C18*J18,0) -> 0 | M18: 유량계 교체(40mm) 교체 | O18: 1 | P18: 개 | Q18: =S18+U18+W18+Y18 -> 147000 | T18: =U348 -> 0 | U18: =TRUNC($O18*T18) -> 0 | V18: =W348 -> 147000 | W18: =TRUNC($O18*V18) -> 147000 | Z18: 제13호표
E19: =SUM(G19,I19,K19) -> 0 | G19: =TRUNC(C19*F19,0) -> 0 | I19: =TRUNC(C19*H19,0) -> 0 | K19: =TRUNC(C19*J19,0) -> 0 | M19: 유량계 교체(50mm) 교체 | O19: 1 | P19: 개 | Q19: =S19+U19+W19+Y19 -> 250000 | T19: =U373 -> 0 | U19: =TRUNC($O19*T19) -> 0 | V19: =W373 -> 250000 | W19: =TRUNC($O19*V19) -> 250000 | Z19: 제14호표
E20: =SUM(G20,I20,K20) -> 0 | G20: =TRUNC(C20*F20,0) -> 0 | I20: =TRUNC(C20*H20,0) -> 0 | K20: =TRUNC(C20*J20,0) -> 0 | M20: 유량계 교체(50mm) 교체-플랜지타입 | O20: 1 | P20: 개 | Q20: =S20+U20+W20+Y20 -> 530000 | T20: =U398 -> 0 | U20: =TRUNC($O20*T20) -> 0 | V20: =W398 -> 530000 | W20: =TRUNC($O20*V20) -> 530000 | Z20: 제15호표
E21: =SUM(G21,I21,K21) -> 0 | G21: =TRUNC(C21*F21,0) -> 0 | I21: =TRUNC(C21*H21,0) -> 0 | K21: =TRUNC(C21*J21,0) -> 0
E22: =SUM(G22,I22,K22) -> 0 | G22: =TRUNC(C22*F22,0) -> 0 | I22: =TRUNC(C22*H22,0) -> 0 | K22: =TRUNC(C22*J22,0) -> 0
A23: 합 계 | E23: =G23+I23+K23 -> 19106332 | G23: =SUM(G7:G22) -> 4622028 | I23: =SUM(I7:I22) -> 4447090 | K23: =SUM(K7:K22) -> 10037214 | M23: 합 계 | Q23: =S23+W23+Y23 -> 10509755 | S23: =SUM(S6:S22) -> 251332 | U23: =SUM(U6:U22) -> 1864009 | W23: =SUM(W6:W22) -> 9615234 | Y23: =SUM(Y6:Y22) -> 643189
E24: 시설현황조사 | M24: <제1호표> | Q24: 기 계 기 구 설 치
A25: 1 | M25: 일 금 : | N25: =Q48 -> 523523 | O25: 원 | Q25: ( 회 당 ) | W25: 1 | X25: 회/일 | AB25: 지하수개발이용시설 공사 설계실무요령(2008)
A26: 공종별 | B26: 규격 | C26: 원수 | D26: 단위 | E26: 총 액 | F26: 직접인건비 | H26: 직 접 경 비 | L26: 산출근거 | M26: 공종별 | N26: 규격 | O26: 원수 | P26: 단위 | Q26: 총 액 | R26: 직접인건비 | T26: 직 접 경 비 | Z26: 산출근거
F27: 인건비 | H27: 재료비 | J27: 경비 | R27: 인건비 | T27: 노무비 | V27: 재료비 | X27: 경비
F28: 단 가 | G28: 금 액 | H28: 단 가 | I28: 금 액 | R28: 단 가 | S28: 금 액 | T28: 단 가 | U28: 금 액 | V28: 단 가 | W28: 금 액 | X28: 단 가 | Y28: 금 액
A29: =B75 -> 공내 촬영 | C29: ='[381]2-2. 공종별 내역(사후관리)'!#REF! -> #REF! | D29: m | E29: =SUM(G29,I29,K29) -> #REF! | F29: =G98 -> 4206 | G29: =TRUNC(C29*F29,0) -> #REF! | H29: =I98 -> 116 | I29: =TRUNC(C29*H29,0) -> #REF! | J29: =K98 -> 2261 | K29: =TRUNC(C29*J29,0) -> #REF! | M29: 보링공 | O29: =INT(1/W$25)*AC4 -> 0.83 | P29: 인 | Q29: =S29+U29+W29+Y29 -> 193026 | T29: ='단가(사후관리)'!E11 -> 232562 | U29: =TRUNC(O29*T29) -> 193026 | Z29: 조사비적산기준(2023) p.132 기계기구 설치
E30: =SUM(G30,I30,K30) -> 0 | G30: =TRUNC(C30*F30,0) -> 0 | I30: =TRUNC(C30*H30,0) -> 0 | K30: =TRUNC(C30*J30,0) -> 0 | M30: 특별인부 | O30: =INT(1/W$25)*AC4 -> 0.83 | P30: 인 | Q30: =S30+U30+W30+Y30 -> 187681 | T30: ='단가(사후관리)'!E12 -> 226122 | U30: =TRUNC(O30*T30) -> 187681
E31: =SUM(G31,I31,K31) -> 0 | G31: =TRUNC(C31*F31,0) -> 0 | I31: =TRUNC(C31*H31,0) -> 0 | K31: =TRUNC(C31*J31,0) -> 0 | M31: 보통인부 | O31: =INT(1/W$25)*AC4 -> 0.83 | P31: 인 | Q31: =S31+U31+W31+Y31 -> 142816 | T31: ='단가(사후관리)'!E13 -> 172068 | U31: =TRUNC(O31*T31) -> 142816
E32: =SUM(G32,I32,K32) -> 0 | G32: =TRUNC(C32*F32,0) -> 0 | I32: =TRUNC(C32*H32,0) -> 0 | K32: =TRUNC(C32*J32,0) -> 0
E33: =SUM(G33,I33,K33) -> 0 | G33: =TRUNC(C33*F33,0) -> 0 | I33: =TRUNC(C33*H33,0) -> 0 | K33: =TRUNC(C33*J33,0) -> 0
E34: =SUM(G34,I34,K34) -> 0 | G34: =TRUNC(C34*F34,0) -> 0 | I34: =TRUNC(C34*H34,0) -> 0 | K34: =TRUNC(C34*J34,0) -> 0
E35: =SUM(G35,I35,K35) -> 0 | G35: =TRUNC(C35*F35,0) -> 0 | I35: =TRUNC(C35*H35,0) -> 0 | K35: =TRUNC(C35*J35,0) -> 0
G36: =TRUNC(C36*F36,0) -> 0 | I36: =TRUNC(C36*H36,0) -> 0 | K36: =TRUNC(C36*J36,0) -> 0
E38: =SUM(G38,I38,K38) -> 0 | G38: =TRUNC(C38*F38,0) -> 0 | I38: =TRUNC(C38*H38,0) -> 0 | K38: =TRUNC(C38*J38,0) -> 0
E39: =SUM(G39,I39,K39) -> 0 | G39: =TRUNC(C39*F39,0) -> 0 | I39: =TRUNC(C39*H39,0) -> 0 | K39: =TRUNC(C39*J39,0) -> 0
E40: =SUM(G40,I40,K40) -> 0 | G40: =TRUNC(C40*F40,0) -> 0 | I40: =TRUNC(C40%*H40,0) -> 0 | K40: =TRUNC(C40*J40,0) -> 0
E41: =SUM(G41,I41,K41) -> 0 | G41: =TRUNC(C41*F41,0) -> 0 | I41: =TRUNC(C41*H41,0) -> 0 | K41: =TRUNC(C41*J41,0) -> 0
E43: =SUM(G43,I43,K43) -> 0 | G43: =TRUNC(C43*F43,0) -> 0 | I43: =TRUNC(C43*H43,0) -> 0 | K43: =TRUNC(C43*J43,0) -> 0
E44: =SUM(G44,I44,K44) -> 0 | G44: =TRUNC(C44*F44,0) -> 0 | I44: =TRUNC(C44*H44,0) -> 0 | K44: =TRUNC(C44*J44,0) -> 0
E45: =SUM(G45,I45,K45) -> 0 | G45: =TRUNC(C45*F45,0) -> 0 | I45: =TRUNC(C45*H45,0) -> 0 | K45: =TRUNC(C45*J45,0) -> 0
E46: =SUM(G46,I46,K46) -> 0 | G46: =TRUNC(C46*F46,0) -> 0 | I46: =TRUNC(C46*H46,0) -> 0 | K46: =TRUNC(C46*J46,0) -> 0
E47: =SUM(G47,I47,K47) -> 0 | G47: =TRUNC(C47*F47,0) -> 0 | I47: =TRUNC(C47*H47,0) -> 0 | K47: =TRUNC(C47*J47,0) -> 0
A48: 합 계 | E48: =G48+I48+K48 -> #REF! | G48: =SUM(G29:G47) -> #REF! | I48: =SUM(I29:I47) -> #REF! | K48: =SUM(K29:K47) -> #REF! | M48: 합 계 | Q48: =S48+U48+W48+Y48 -> 523523 | S48: =SUM(S29:S47) -> 0 | U48: =SUM(U29:U47) -> 523523 | W48: =SUM(W29:W47) -> 0 | Y48: =SUM(Y29:Y47) -> 0
E49: 시설현황조사 | M49: <제2호표> | Q49: 수 중 펌 프 설 치 인 양
A50: 1-1 | B50: 양수설비 인양 및 상태점검 | F50: (재원조사 포함) | H50: (회당) | M50: 일 금 : | N50: =Q73 -> 1639168 | O50: 원 | Q50: ( 회 당 ) | W50: 1 | X50: 회/일
A51: 공종별 | B51: 규격 | C51: 원수 | D51: 단위 | E51: 총 액 | F51: 직접인건비 | H51: 직 접 경 비 | L51: 산출근거 | M51: 공종별 | N51: 규격 | O51: 원수 | P51: 단위 | Q51: 총 액 | R51: 직접인건비 | T51: 직 접 경 비 | Z51: 산출근거
F52: 인건비 | H52: 재료비 | J52: 경비 | R52: 인건비 | T52: 노무비 | V52: 재료비 | X52: 경비
F53: 단 가 | G53: 금 액 | H53: 단 가 | I53: 금 액 | R53: 단 가 | S53: 금 액 | T53: 단 가 | U53: 금 액 | V53: 단 가 | W53: 금 액 | X53: 단 가 | Y53: 금 액
A54: <노무비> | L54: 이용시설설계요령, P136 | M54: 중급기술자 | O54: =1*AC4 -> 0.83 | P54: 인 | Q54: =S54+U54+W54+Y54 -> 244964 | R54: ='단가(사후관리)'!E6 -> 295138 | S54: =INT(O54*R54) -> 244964 | W54: =INT(O54*V54) -> 0 | Y54: =INT(O54*X54) -> 0 | Z54: 조사비적산기준(2023) p.133 수중펌프설치인양
A55: 특급기술자 | D55: 인 | E55: =SUM(G55,I55,K55) -> 0 | F55: ='단가(사후관리)'!$E$4 -> 373353 | G55: =TRUNC(C55*F55,0) -> 0 | I55: =TRUNC(C55*H55,0) -> 0 | K55: =TRUNC(C55*J55,0) -> 0 | M55: 보링공 | O55: =1*AC4 -> 0.83 | P55: 인 | Q55: =S55+U55+W55+Y55 -> 193026 | T55: ='단가(사후관리)'!E11 -> 232562 | U55: =INT(O55*T55) -> 193026 | W55: =INT(O55*V55) -> 0 | Y55: =INT(O55*X55) -> 0
A56: 고급기술자 | D56: 인 | E56: =SUM(G56,I56,K56) -> 0 | F56: ='단가(사후관리)'!$E$5 -> 310884 | G56: =TRUNC(C56*F56,0) -> 0 | I56: =TRUNC(C56*H56,0) -> 0 | K56: =TRUNC(C56*J56,0) -> 0 | M56: 특별인부 | O56: =2*AC4 -> 1.66 | P56: 인 | Q56: =S56+U56+W56+Y56 -> 375362 | T56: ='단가(사후관리)'!E12 -> 226122 | U56: =INT(O56*T56) -> 375362 | W56: =INT(O56*V56) -> 0 | Y56: =INT(O56*X56) -> 0
A57: 중급기술자 | D57: 인 | E57: =SUM(G57,I57,K57) -> 0 | F57: ='단가(사후관리)'!$E$6 -> 295138 | G57: =TRUNC(C57*F57,0) -> 0 | I57: =TRUNC(C57*H57,0) -> 0 | K57: =TRUNC(C57*J57,0) -> 0 | M57: 보통인부 | O57: =2*AC4 -> 1.66 | P57: 인 | Q57: =S57+U57+W57+Y57 -> 285632 | S57: =INT(O57*R57) -> 0 | T57: ='단가(사후관리)'!E13 -> 172068 | U57: =INT(O57*T57) -> 285632 | W57: =INT(O57*V57) -> 0 | Y57: =INT(O57*X57) -> 0
A58: 초급기술자 | D58: 인 | E58: =SUM(G58,I58,K58) -> 0 | F58: ='단가(사후관리)'!$E$7 -> 235459 | G58: =TRUNC(C58*F58,0) -> 0 | I58: =TRUNC(C58*H58,0) -> 0 | K58: =TRUNC(C58*J58,0) -> 0 | M58: 트럭탑제형크레인(5ton) | O58: 8 | P58: 시간 | Q58: =S58+U58+W58+Y58 -> 540184 | S58: =INT(O58*R58) -> 0 | T58: 49479.1 | U58: =INT(O58*T58) -> 395832 | V58: 7717 | W58: =INT(O58*V58) -> 61736 | X58: 10327 | Y58: =INT(O58*X58) -> 82616 | Z58: 2025년 표준단가표 5ton 트럭탑제형크레인 시간당 이용료
A59: 중급숙련기술자 | D59: 인 | E59: =SUM(G59,I59,K59) -> 0 | F59: ='단가(사후관리)'!$E$8 -> 250087 | G59: =TRUNC(C59*F59,0) -> 0 | I59: =TRUNC(C59*H59,0) -> 0 | K59: =TRUNC(C59*J59,0) -> 0 | M59: 소 계 | Q59: =S59+U59+W59+Y59 -> 0 | V59: =W58 -> 61736 | W59: =INT(O59*V59) -> 0
A60: 기계설비공 | B60: 5.5kw 이하 | C60: 3 | D60: 인 | E60: =SUM(G60,I60,K60) -> 1379520 | F60: ='단가(사후관리)'!$E$9 -> 218142 | G60: =TRUNC(C60*F60,0) -> 654426 | I60: =TRUNC(C60*H60,0) -> 0 | J60: ='단가(사후관리)'!E10 -> 241698 | K60: =TRUNC(C60*J60,0) -> 725094
A61: 보링공 | C61: 0 | D61: 인 | E61: =SUM(G61,I61,K61) -> 0 | G61: =TRUNC(C61*F61,0) -> 0 | I61: =TRUNC(C61*H61,0) -> 0 | J61: ='단가(사후관리)'!$E$11 -> 232562 | K61: =TRUNC(C61*J61,0) -> 0
A62: 특별인부 | D62: 인 | G62: =TRUNC(C62*F62,0) -> 0 | I62: =TRUNC(C62*H62,0) -> 0 | J62: ='단가(사후관리)'!$E$12 -> 226122 | K62: =TRUNC(C62*J62,0) -> 0
A63: 보통인부 | C63: 1.5 | D63: 인 | E63: =SUM(G63,I63,K63) -> 258102 | G63: =TRUNC(C63*F63,0) -> 0 | I63: =TRUNC(C63*H63,0) -> 0 | J63: ='단가(사후관리)'!$E$13 -> 172068 | K63: =TRUNC(C63*J63,0) -> 258102
A64: <재료비> | E64: =SUM(G64,I64,K64) -> 0 | G64: =TRUNC(C64*F64,0) -> 0 | I64: =TRUNC(C64*H64,0) -> 0 | K64: =TRUNC(C64*J64,0) -> 0
A65: 유류대 | B65: 경유 | C65: 15.3 | D65: L | E65: =SUM(G65,I65,K65) -> 22212 | G65: =TRUNC(C65*F65,0) -> 0 | H65: ='단가(사후관리)'!E17 -> 1451.8182 | I65: =TRUNC(C65*H65,0) -> 22212 | K65: =TRUNC(C65*J65,0) -> 0
A66: 잡유 | C66: 20 | D66: % | E66: =SUM(G66,I66,K66) -> 4442 | G66: =TRUNC(C66*F66,0) -> 0 | H66: =I65 -> 22212 | I66: =TRUNC(C66%*H66,0) -> 4442 | K66: =TRUNC(C66*J66,0) -> 0
E67: =SUM(G67,I67,K67) -> 0 | G67: =TRUNC(C67*F67,0) -> 0 | I67: =TRUNC(C67*H67,0) -> 0 | K67: =TRUNC(C67*J67,0) -> 0
E68: =SUM(G68,I68,K68) -> 0 | G68: =TRUNC(C68*F68,0) -> 0 | I68: =TRUNC(C68*H68,0) -> 0 | K68: =TRUNC(C68*J68,0) -> 0
A69: <경비> | E69: =SUM(G69,I69,K69) -> 0 | G69: =TRUNC(C69*F69,0) -> 0 | I69: =TRUNC(C69*H69,0) -> 0 | K69: =TRUNC(C69*J69,0) -> 0
A70: 크레인 손료 | C70: 3 | D70: 시간 | E70: =SUM(G70,I70,K70) -> 0 | G70: =TRUNC(C70*F70,0) -> 0 | I70: =TRUNC(C70*H70,0) -> 0 | K70: =TRUNC(C70*J70,0) -> 0
E71: =SUM(G71,I71,K71) -> 0 | G71: =TRUNC(C71*F71,0) -> 0 | I71: =TRUNC(C71*H71,0) -> 0 | K71: =TRUNC(C71*J71,0) -> 0 | W71: =INT(V71*O71) -> 0
E72: =SUM(G72,I72,K72) -> 0 | G72: =TRUNC(C72*F72,0) -> 0 | I72: =TRUNC(C72*H72,0) -> 0 | K72: =TRUNC(C72*J72,0) -> 0
A73: 합 계 | E73: =G73+I73+K73 -> 1664276 | G73: =SUM(G55:G72) -> 654426 | I73: =SUM(I55:I72) -> 26654 | K73: =SUM(K55:K72) -> 983196 | M73: 합 계 | Q73: =S73+U73+W73+Y73 -> 1639168 | S73: =SUM(S54:S72) -> 244964 | U73: =SUM(U54:U72) -> 1249852 | W73: =SUM(W54:W72) -> 61736 | Y73: =SUM(Y54:Y72) -> 82616
E74: 시설현황조사 | M74: <제3호표> | Q74: 에 어 써 징
A75: 1-2 | B75: 공내 촬영 | H75: (m당) | M75: 일 금 : | N75: =Q98 -> 15231 | O75: 원 | Q75: ( M 당 ) | W75: 111.23 | X75: m/일 | Y75: 기종 :콤프레샤 21kg/cm2 이상
A76: 공종별 | B76: 규격 | C76: 원수 | D76: 단위 | E76: 총 액 | F76: 직접인건비 | H76: 직 접 경 비 | L76: 산출근거 | M76: 공종별 | N76: 규격 | O76: 원수 | P76: 단위 | Q76: 총 액 | R76: 직접인건비 | T76: 직 접 경 비 | Z76: 산출근거
F77: 인건비 | H77: 재료비 | J77: 경비 | R77: 인건비 | T77: 노무비 | V77: 재료비 | X77: 경비
F78: 단 가 | G78: 금 액 | H78: 단 가 | I78: 금 액 | R78: 단 가 | S78: 금 액 | T78: 단 가 | U78: 금 액 | V78: 단 가 | W78: 금 액 | X78: 단 가 | Y78: 금 액
A79: <노무비> | L79: 이용시설설계요령, P136 | M79: 중급기술자 | O79: =TRUNC(0.5/111.23*AC4,3) -> 0.003 | P79: 인 | Q79: =S79+U79+W79+Y79 -> 885 | R79: ='단가(사후관리)'!E6 -> 295138 | S79: =TRUNC(O79*R79) -> 885 | Z79: 조사비적산기준(2023) p.132 에어써징(콤퓨레샤)
A80: 특급기술자 | D80: 인 | E80: =SUM(G80,I80,K80) -> 0 | F80: ='단가(사후관리)'!$E$4 -> 373353 | G80: =TRUNC(C80*F80,0) -> 0 | I80: =TRUNC(C80*H80,0) -> 0 | K80: =TRUNC(C80*J80,0) -> 0 | M80: 중급숙련기술자 | O80: =TRUNC(1/111.23*AC4,3) -> 0.007 | P80: 인 | Q80: =S80+U80+W80+Y80 -> 1750 | R80: ='단가(사후관리)'!E8 -> 250087 | S80: =TRUNC(O80*R80) -> 1750
A81: 고급기술자 | C81: 0.005 | D81: 인 | E81: =SUM(G81,I81,K81) -> 1554 | F81: ='단가(사후관리)'!$E$5 -> 310884 | G81: =TRUNC(C81*F81,0) -> 1554 | I81: =TRUNC(C81*H81,0) -> 0 | K81: =TRUNC(C81*J81,0) -> 0 | M81: 보링공 | O81: =TRUNC(1/111.23*AC4,3) -> 0.007 | P81: 인 | Q81: =S81+U81+W81+Y81 -> 1627 | T81: ='단가(사후관리)'!E11 -> 232562 | U81: =TRUNC(O81*T81) -> 1627
A82: 중급기술자 | C82: 0.005 | D82: 인 | E82: =SUM(G82,I82,K82) -> 1475 | F82: ='단가(사후관리)'!$E$6 -> 295138 | G82: =TRUNC(C82*F82,0) -> 1475 | I82: =TRUNC(C82*H82,0) -> 0 | K82: =TRUNC(C82*J82,0) -> 0 | M82: 특별인부 | O82: =TRUNC(1/111.23*AC4,3) -> 0.007 | P82: 인 | Q82: =S82+U82+W82+Y82 -> 1582 | T82: ='단가(사후관리)'!E12 -> 226122 | U82: =TRUNC(O82*T82) -> 1582
A83: 초급기술자 | C83: 0.005 | D83: 인 | E83: =SUM(G83,I83,K83) -> 1177 | F83: ='단가(사후관리)'!$E$7 -> 235459 | G83: =TRUNC(C83*F83,0) -> 1177 | I83: =TRUNC(C83*H83,0) -> 0 | K83: =TRUNC(C83*J83,0) -> 0 | M83: 보통인부 | O83: =TRUNC(1/111.23*AC4,3) -> 0.007 | P83: 인 | Q83: =S83+U83+W83+Y83 -> 1204 | T83: ='단가(사후관리)'!E13 -> 172068 | U83: =TRUNC(O83*T83) -> 1204
A84: 중급숙련기술자 | D84: 인 | E84: =SUM(G84,I84,K84) -> 0 | F84: ='단가(사후관리)'!$E$8 -> 250087 | G84: =TRUNC(C84*F84,0) -> 0 | I84: =TRUNC(C84*H84,0) -> 0 | K84: =TRUNC(C84*J84,0) -> 0 | M84: 경 유 | O84: 4.099 | P84: L | Q84: =S84+U84+W84+Y84 -> 5951 | V84: ='단가(사후관리)'!E17 -> 1451.8182 | W84: =TRUNC(O84*V84) -> 5951
A85: 기계설비공 | D85: 인 | E85: =SUM(G85,I85,K85) -> 0 | F85: ='단가(사후관리)'!$E$9 -> 218142 | G85: =TRUNC(C85*F85,0) -> 0 | I85: =TRUNC(C85*H85,0) -> 0 | J85: ='단가(사후관리)'!E10 -> 241698 | K85: =TRUNC(C85*J85,0) -> 0 | M85: 잡 유 | O85: 0.2 | Q85: =S85+U85+W85+Y85 -> 1190 | V85: =W84 -> 5951 | W85: =TRUNC(V85*O85) -> 1190
A86: 보링공 | D86: 인 | E86: =SUM(G86,I86,K86) -> 0 | G86: =TRUNC(C86*F86,0) -> 0 | I86: =TRUNC(C86*H86,0) -> 0 | J86: ='단가(사후관리)'!$E$11 -> 232562 | K86: =TRUNC(C86*J86,0) -> 0
A87: 특별인부 | C87: 0.01 | D87: 인 | G87: =TRUNC(C87*F87,0) -> 0 | I87: =TRUNC(C87*H87,0) -> 0 | J87: ='단가(사후관리)'!$E$12 -> 226122 | K87: =TRUNC(C87*J87,0) -> 2261 | M87: 공압기손료 | N87: 상각비 | O87: =INT(1/W75*1000)/1000 -> 0.008 | P87: 시간 | Q87: =S87+U87+W87+Y87 -> 299 | X87: ='단가(사후관리)'!E19 -> 37496 | Y87: =INT(O87*X87) -> 299
A88: 보통인부 | D88: 인 | E88: =SUM(G88,I88,K88) -> 0 | G88: =TRUNC(C88*F88,0) -> 0 | I88: =TRUNC(C88*H88,0) -> 0 | J88: ='단가(사후관리)'!$E$13 -> 172068 | K88: =TRUNC(C88*J88,0) -> 0 | N88: 정비비 | O88: =INT(1/W75*1000)/1000 -> 0.008 | P88: 시간 | Q88: =S88+U88+W88+Y88 -> 166 | X88: ='단가(사후관리)'!E20 -> 20848 | Y88: =INT(O88*X88) -> 166
A89: <재료비> | E89: =SUM(G89,I89,K89) -> 0 | G89: =TRUNC(C89*F89,0) -> 0 | I89: =TRUNC(C89*H89,0) -> 0 | K89: =TRUNC(C89*J89,0) -> 0 | N89: 관리비 | O89: =INT(1/W75*1000)/1000 -> 0.008 | P89: 시간 | Q89: =S89+U89+W89+Y89 -> 220 | X89: ='단가(사후관리)'!E21 -> 27600 | Y89: =INT(O89*X89) -> 220
A90: 유류대 | B90: 휘발유 | C90: 0.075 | D90: L | E90: =SUM(G90,I90,K90) -> 116 | G90: =TRUNC(C90*F90,0) -> 0 | H90: ='단가(사후관리)'!E18 -> 1548.1818 | I90: =TRUNC(C90*H90,0) -> 116 | K90: =TRUNC(C90*J90,0) -> 0 | M90: 소 계 | Q90: =S90+U90+W90+Y90 -> 14874 | S90: =SUM(S79:S89) -> 2635 | U90: =SUM(U79:U89) -> 4413 | W90: =SUM(W79:W89) -> 7141 | Y90: =SUM(Y79:Y89) -> 685
A91: DVD-R (VTR테이프) | C91: 0.005 | D91: 개 | E91: =SUM(G91,I91,K91) -> 0 | G91: =TRUNC(C91*F91,0) -> 0 | H91: =I90 -> 116 | I91: =TRUNC(C91*H91,0) -> 0 | K91: =TRUNC(C91*J91,0) -> 0
E92: =SUM(G92,I92,K92) -> 0 | G92: =TRUNC(C92*F92,0) -> 0 | I92: =TRUNC(C92*H92,0) -> 0 | K92: =TRUNC(C92*J92,0) -> 0
E93: =SUM(G93,I93,K93) -> 0 | G93: =TRUNC(C93*F93,0) -> 0 | I93: =TRUNC(C93*H93,0) -> 0 | K93: =TRUNC(C93*J93,0) -> 0
A94: <경비> | E94: =SUM(G94,I94,K94) -> 0 | G94: =TRUNC(C94*F94,0) -> 0 | I94: =TRUNC(C94*H94,0) -> 0 | K94: =TRUNC(C94*J94,0) -> 0
A95: 검층기 손료 | C95: 0.005 | D95: 일 | E95: =SUM(G95,I95,K95) -> 0 | G95: =TRUNC(C95*F95,0) -> 0 | I95: =TRUNC(C95*H95,0) -> 0 | K95: =TRUNC(C95*J95,0) -> 0
E96: =SUM(G96,I96,K96) -> 0 | G96: =TRUNC(C96*F96,0) -> 0 | I96: =TRUNC(C96*H96,0) -> 0 | K96: =TRUNC(C96*J96,0) -> 0 | M96: 잡재료 | O96: 0.05 | Q96: =S96+U96+W96+Y96 -> 357 | V96: =W90 -> 7141 | W96: =INT(V96*O96) -> 357
E97: =SUM(G97,I97,K97) -> 0 | G97: =TRUNC(C97*F97,0) -> 0 | I97: =TRUNC(C97*H97,0) -> 0 | K97: =TRUNC(C97*J97,0) -> 0
A98: 합 계 | E98: =G98+I98+K98 -> 6583 | G98: =SUM(G80:G97) -> 4206 | I98: =SUM(I80:I97) -> 116 | K98: =SUM(K80:K97) -> 2261 | M98: 합 계 | Q98: =S98+U98+W98+Y98 -> 15231 | S98: =SUM(S90:S97) -> 2635 | U98: =SUM(U90:U97) -> 4413 | W98: =SUM(W90:W97) -> 7498 | Y98: =SUM(Y90:Y97) -> 685
E99: 공내청소 | M99: <제4호표> | Q99: 검 사 및 정 비
A100: 2 | M100: 일 금 : | N100: =Q123 -> 105446 | O100: 원 | Q100: (공 당 ) | W100: 4 | X100: 공/일
A101: 공종별 | B101: 규격 | C101: 원수 | D101: 단위 | E101: 총 액 | F101: 직접인건비 | H101: 직 접 경 비 | L101: 산출근거 | M101: 공종별 | N101: 규격 | O101: 원수 | P101: 단위 | Q101: 총 액 | R101: 직접인건비 | T101: 직 접 경 비 | Z101: 산출근거
F102: 인건비 | H102: 재료비 | J102: 경비 | R102: 인건비 | T102: 노무비 | V102: 재료비 | X102: 경비
...

Sheet 5-1-2. 일위대가표(영향조사)
A1: 5-1-2. 지하수영향조사(연장허가) 일위대가표
A3: 공종별 | B3: 재료또는치수 | C3: 원수 | D3: 단위 | E3: 총액 | F3: 직접인건비 | H3: 직접경비 | N3: 산출근거
F4: 인건비 | H4: 노무비 | J4: 재료비 | L4: 경비
F5: 단가 | G5: 금액 | H5: 단가 | I5: 금액 | J5: 단가 | K5: 금액 | L5: 단가 | M5: 금액
A6: =A26 -> 기존자료 수집 | C6: 1 | D6: 지구 | E6: =SUM(G6,I6,K6,M6) -> 119466 | F6: =G50 -> 119466 | G6: =TRUNC(C6*F6,0) -> 119466 | H6: =I50 -> 0 | I6: =TRUNC(C6*H6,0) -> 0 | J6: =K50 -> 0 | K6: =TRUNC(C6*J6,0) -> 0 | L6: =M50 -> 0 | M6: =TRUNC(C6*L6,0) -> 0 | N6: <제1호표>
A7: =A51 -> 현지답사 | C7: 1 | D7: 지구 | E7: =SUM(G7,I7,K7,M7) -> 185921 | F7: =G75 -> 185921 | G7: =TRUNC(C7*F7,0) -> 185921 | H7: =I75 -> 0 | I7: =TRUNC(C7*H7,0) -> 0 | J7: =K75 -> 0 | K7: =TRUNC(C7*J7,0) -> 0 | L7: =M75 -> 0 | M7: =TRUNC(C7*L7,0) -> 0 | N7: <제2호표>
A8: =A76 -> 대수성시험 | C8: 1 | D8: 공 | E8: =SUM(G8,I8,K8,M8) -> 1578178 | F8: =G100 -> 663077 | G8: =TRUNC(C8*F8,0) -> 663077 | H8: =I100 -> 915101 | I8: =TRUNC(C8*H8,0) -> 915101 | J8: =K100 -> 0 | K8: =TRUNC(C8*J8,0) -> 0 | L8: =M100 -> 0 | M8: =TRUNC(C8*L8,0) -> 0 | N8: <제3호표>
A9: =A201 -> 적정취수량 및 영향범위 산정 | C9: 1 | D9: 공 | E9: =SUM(G9,I9,K9,M9) -> 93958 | F9: =G225 -> 93958 | G9: =TRUNC(C9*F9,0) -> 93958 | H9: =I225 -> 0 | I9: =TRUNC(C9*H9,0) -> 0 | J9: =K225 -> 0 | K9: =TRUNC(C9*J9,0) -> 0 | L9: =M225 -> 0 | M9: =TRUNC(C9*L9,0) -> 0 | N9: <제4호표>
A10: =A226 -> 수질검사비 | C10: 1 | D10: 회 | E10: =SUM(G10,I10,K10,M10) -> 109400 | F10: =G250 -> 0 | G10: =TRUNC(C10*F10,0) -> 0 | H10: =I250 -> 0 | I10: =TRUNC(C10*H10,0) -> 0 | J10: =K250 -> 0 | K10: =TRUNC(C10*J10,0) -> 0 | L10: =M250 -> 109400 | M10: =TRUNC(C10*L10,0) -> 109400 | N10: <제5호표>
A11: =A251 -> 보고서작성 | C11: 1 | D11: 지구 | E11: =SUM(G11,I11,K11,M11) -> 338336 | F11: =G275 -> 224656 | G11: =TRUNC(C11*F11,0) -> 224656 | H11: =I275 -> 0 | I11: =TRUNC(C11*H11,0) -> 0 | J11: =K275 -> 73680 | K11: =TRUNC(C11*J11,0) -> 73680 | L11: =M275 -> 40000 | M11: =TRUNC(C11*L11,0) -> 40000 | N11: <제6호표>
E12: =SUM(G12,K12,M12) -> 0 | G12: =TRUNC(C12*F12,0) -> 0 | K12: =TRUNC(C12*J12,0) -> 0 | M12: =TRUNC(C12*L12,0) -> 0
E13: =SUM(G13,K13,M13) -> 0 | G13: =TRUNC(C13*F13,0) -> 0 | K13: =TRUNC(C13*J13,0) -> 0 | M13: =TRUNC(C13*L13,0) -> 0
G14: =TRUNC(C14*F14,0) -> 0 | K14: =TRUNC(C14*J14,0) -> 0 | M14: =TRUNC(C14*L14,0) -> 0
G15: =TRUNC(C15*F15,0) -> 0 | K15: =TRUNC(C15*J15,0) -> 0 | M15: =TRUNC(C15*L15,0) -> 0
G16: =TRUNC(C16*F16,0) -> 0 | K16: =TRUNC(C16*J16,0) -> 0 | M16: =TRUNC(C16*L16,0) -> 0
G17: =TRUNC(C17*F17,0) -> 0 | K17: =TRUNC(C17*J17,0) -> 0 | M17: =TRUNC(C17*L17,0) -> 0
G18: =TRUNC(C18*F18,0) -> 0 | K18: =TRUNC(C18*J18,0) -> 0 | M18: =TRUNC(C18*L18,0) -> 0
G19: =TRUNC(C19*F19,0) -> 0 | K19: =TRUNC(C19*J19,0) -> 0 | M19: =TRUNC(C19*L19,0) -> 0
E20: =SUM(G20,K20,M20) -> 0 | G20: =TRUNC(C20*F20,0) -> 0 | K20: =TRUNC(C20*J20,0) -> 0 | M20: =TRUNC(C20*L20,0) -> 0
E21: =SUM(G21,K21,M21) -> 0 | G21: =TRUNC(C21*F21,0) -> 0 | K21: =TRUNC(C21*J21,0) -> 0 | M21: =TRUNC(C21*L21,0) -> 0
E22: =SUM(G22,K22,M22) -> 0 | G22: =TRUNC(C22*F22,0) -> 0 | K22: =TRUNC(C22*J22,0) -> 0 | M22: =TRUNC(C22*L22,0) -> 0
E24: =SUM(G24,K24,M24) -> 0 | G24: =TRUNC(C24*F24,0) -> 0 | K24: =TRUNC(C24*J24,0) -> 0 | M24: =TRUNC(C24*L24,0) -> 0
E25: =SUBTOTAL(9,E6:E24) -> 2425259 | G25: =SUBTOTAL(9,G6:G24) -> 1287078 | I25: =SUBTOTAL(9,I6:I24) -> 915101 | K25: =SUBTOTAL(9,K6:K24) -> 73680 | M25: =SUBTOTAL(9,M6:M24) -> 149400
A26: 기존자료 수집
A27: <제1호표> | N27: =C34 -> 0.192723
A28: 공종별 | B28: 재료또는치수 | C28: 원수 | D28: 단위 | E28: 총액 | F28: 직접인건비 | H28: 직접경비 | N28: 산출근거
F29: 인건비 | H29: 노무비 | J29: 재료비 | L29: 경비 | P29: ='[381]4. 외주용역비 총괄'!C16 -> 영향조사
F30: 단가 | G30: 금액 | H30: 단가 | I30: 금액 | J30: 단가 | K30: 금액 | L30: 단가 | M30: 금액
A31: <노무비> | E31: =SUM(G31,K31,M31) -> 0 | G31: =TRUNC(C31*F31,0) -> 0 | K31: =TRUNC(C31*J31,0) -> 0 | M31: =TRUNC(C31*L31,0) -> 0 | N31: 지하수 조사.계획 품셈(2022), P.13
A32: 특급기술자 | C32: =0.1*O32 -> 0.0385446 | D32: 인 | E32: =SUM(G32,I32,K32,M32) -> 14390 | F32: ='단가(영향조사)'!$B$4 -> 373353 | G32: =TRUNC(C32*F32,0) -> 14390 | K32: =TRUNC(C32*J32,0) -> 0 | M32: =TRUNC(C32*L32,0) -> 0 | O32: 0.385446
A33: 고급기술자 | C33: 0 | D33: 인 | E33: =SUM(G33,I33,K33,M33) -> 0 | F33: ='단가(영향조사)'!$B$5 -> 310884 | G33: =TRUNC(C33*F33,0) -> 0 | K33: =TRUNC(C33*J33,0) -> 0 | M33: =TRUNC(C33*L33,0) -> 0
A34: 중급기술자 | C34: =0.5*O32 -> 0.192723 | D34: 인 | E34: =SUM(G34,I34,K34,M34) -> 56879 | F34: ='단가(영향조사)'!$B$6 -> 295138 | G34: =TRUNC(C34*F34,0) -> 56879 | K34: =TRUNC(C34*J34,0) -> 0 | M34: =TRUNC(C34*L34,0) -> 0
A35: 초급기술자 | C35: 0 | D35: 인 | E35: =SUM(G35,I35,K35,M35) -> 0 | F35: ='단가(영향조사)'!$B$7 -> 235459 | G35: =TRUNC(C35*F35,0) -> 0 | K35: =TRUNC(C35*J35,0) -> 0 | M35: =TRUNC(C35*L35,0) -> 0
A36: 중급숙련기술자 | C36: =0.5*O32 -> 0.192723 | D36: 인 | E36: =SUM(G36,I36,K36,M36) -> 48197 | F36: ='단가(영향조사)'!$B$9 -> 250087 | G36: =TRUNC(C36*F36,0) -> 48197 | K36: =TRUNC(C36*J36,0) -> 0 | M36: =TRUNC(C36*L36,0) -> 0
A37: 초급숙련기술자 | C37: 0 | D37: 인 | E37: =SUM(G37,I37,K37,M37) -> 0 | F37: ='단가(영향조사)'!$B$10 -> 218142 | G37: =TRUNC(C37*F37,0) -> 0 | K37: =TRUNC(C37*J37,0) -> 0 | M37: =TRUNC(C37*L37,0) -> 0
A38: 보링공 | D38: 인 | E38: =SUM(G38,I38,K38,M38) -> 0 | G38: =TRUNC(C38*F38,0) -> 0 | J38: ='단가(영향조사)'!$B$11 -> 232562 | K38: =TRUNC(C38*J38,0) -> 0 | M38: =TRUNC(C38*L38,0) -> 0
A39: 특별인부 | D39: 인 | E39: =SUM(G39,I39,K39,M39) -> 0 | G39: =TRUNC(C39*F39,0) -> 0 | J39: ='단가(영향조사)'!$B$12 -> 226122 | K39: =TRUNC(C39*J39,0) -> 0 | M39: =TRUNC(C39*L39,0) -> 0
A40: 보통인부 | D40: 인 | E40: =SUM(G40,I40,K40,M40) -> 0 | G40: =TRUNC(C40*F40,0) -> 0 | J40: ='단가(영향조사)'!$B$13 -> 172068 | K40: =TRUNC(C40*J40,0) -> 0 | M40: =TRUNC(C40*L40,0) -> 0
A41: <재료비> | B41: <<기존자료 수집 및 현지답사 포함사항>> | G41: =TRUNC(C41*F41,0) -> 0 | K41: =TRUNC(C41*J41,0) -> 0 | M41: =TRUNC(C41*L41,0) -> 0 | N41: 지하수 조사.계획 품셈(2022), P.12
B42: 정천현황조사(현장실사) | G42: =TRUNC(C42*F42,0) -> 0 | K42: =TRUNC(C42*J42,0) -> 0 | M42: =TRUNC(C42*L42,0) -> 0
B43: 지하수 이용량 산정 | G43: =TRUNC(C43*F43,0) -> 0 | K43: =TRUNC(C43*J43,0) -> 0 | M43: =TRUNC(C43*L43,0) -> 0
B44: 하천현황조사 | G44: =TRUNC(C44*F44,0) -> 0 | K44: =TRUNC(C44*J44,0) -> 0 | M44: =TRUNC(C44*L44,0) -> 0
B45: 잠재오염원 조사 | G45: =TRUNC(C45*F45,0) -> 0 | K45: =TRUNC(C45*J45,0) -> 0 | M45: =TRUNC(C45*L45,0) -> 0
A46: <경비> | E46: =SUM(G46,K46,M46) -> 0 | G46: =TRUNC(C46*F46,0) -> 0 | K46: =TRUNC(C46*J46,0) -> 0 | M46: =TRUNC(C46*L46,0) -> 0
E47: =SUM(G47,K47,M47) -> 0 | G47: =TRUNC(C47*F47,0) -> 0 | K47: =TRUNC(C47*J47,0) -> 0 | M47: =TRUNC(C47*L47,0) -> 0
E48: =SUM(G48,K48,M48) -> 0 | G48: =TRUNC(C48*F48,0) -> 0 | K48: =TRUNC(C48*J48,0) -> 0 | M48: =TRUNC(C48*L48,0) -> 0
E49: =SUM(G49,K49,M49) -> 0 | G49: =TRUNC(C49*F49,0) -> 0 | K49: =TRUNC(C49*J49,0) -> 0 | M49: =TRUNC(C49*L49,0) -> 0
A50: 합 계 | E50: =SUBTOTAL(9,E31:E49) -> 119466 | G50: =SUBTOTAL(9,G31:G49) -> 119466 | I50: =SUBTOTAL(9,I31:I49) -> 0 | K50: =SUBTOTAL(9,K31:K49) -> 0 | M50: =SUBTOTAL(9,M31:M49) -> 0
A51: 현지답사
A52: 2 | N52: =C59 -> 0.385446
A53: 공종별 | B53: 재료또는치수 | C53: 원수 | D53: 단위 | E53: 총액 | F53: 직접인건비 | H53: 직접경비 | N53: 산출근거
F54: 인건비 | H54: 노무비 | J54: 재료비 | L54: 경비
F55: 단가 | G55: 금액 | H55: 단가 | I55: 금액 | J55: 단가 | K55: 금액 | L55: 단가 | M55: 금액
A56: <노무비> | E56: =SUM(G56,K56,M56) -> 0 | G56: =TRUNC(C56*F56,0) -> 0 | K56: =TRUNC(C56*J56,0) -> 0 | M56: =TRUNC(C56*L56,0) -> 0 | N56: 지하수 조사.계획 품셈(2022), P.13
A57: 특급기술자 | C57: 0 | D57: 인 | E57: =SUM(G57,I57,K57,M57) -> 0 | F57: ='단가(영향조사)'!$B$4 -> 373353 | G57: =TRUNC(C57*F57,0) -> 0 | K57: =TRUNC(C57*J57,0) -> 0 | M57: =TRUNC(C57*L57,0) -> 0
A58: 고급기술자 | C58: =0.2*$O$32 -> 0.0770892 | D58: 인 | E58: =SUM(G58,I58,K58,M58) -> 23965 | F58: ='단가(영향조사)'!$B$5 -> 310884 | G58: =TRUNC(C58*F58,0) -> 23965 | K58: =TRUNC(C58*J58,0) -> 0 | M58: =TRUNC(C58*L58,0) -> 0
A59: 중급기술자 | C59: =1*$O$32 -> 0.385446 | D59: 인 | E59: =SUM(G59,I59,K59,M59) -> 113759 | F59: ='단가(영향조사)'!$B$6 -> 295138 | G59: =TRUNC(C59*F59,0) -> 113759 | K59: =TRUNC(C59*J59,0) -> 0 | M59: =TRUNC(C59*L59,0) -> 0
A60: 초급기술자 | C60: 0 | D60: 인 | E60: =SUM(G60,I60,K60,M60) -> 0 | F60: ='단가(영향조사)'!$B$7 -> 235459 | G60: =TRUNC(C60*F60,0) -> 0 | K60: =TRUNC(C60*J60,0) -> 0 | M60: =TRUNC(C60*L60,0) -> 0
A61: 중급숙련기술자 | C61: =0.5*$O$32 -> 0.192723 | D61: 인 | E61: =SUM(G61,I61,K61,M61) -> 48197 | F61: ='단가(영향조사)'!$B$9 -> 250087 | G61: =TRUNC(C61*F61,0) -> 48197 | K61: =TRUNC(C61*J61,0) -> 0 | M61: =TRUNC(C61*L61,0) -> 0
A62: 초급숙련기술자 | C62: 0 | D62: 인 | E62: =SUM(G62,I62,K62,M62) -> 0 | F62: ='단가(영향조사)'!$B$10 -> 218142 | G62: =TRUNC(C62*F62,0) -> 0 | K62: =TRUNC(C62*J62,0) -> 0 | M62: =TRUNC(C62*L62,0) -> 0
A63: 보링공 | D63: 인 | E63: =SUM(G63,I63,K63,M63) -> 0 | G63: =TRUNC(C63*F63,0) -> 0 | J63: ='단가(영향조사)'!$B$11 -> 232562 | K63: =TRUNC(C63*J63,0) -> 0 | M63: =TRUNC(C63*L63,0) -> 0
A64: 특별인부 | D64: 인 | E64: =SUM(G64,I64,K64,M64) -> 0 | G64: =TRUNC(C64*F64,0) -> 0 | J64: ='단가(영향조사)'!$B$12 -> 226122 | K64: =TRUNC(C64*J64,0) -> 0 | M64: =TRUNC(C64*L64,0) -> 0
A65: 보통인부 | D65: 인 | E65: =SUM(G65,I65,K65,M65) -> 0 | G65: =TRUNC(C65*F65,0) -> 0 | J65: ='단가(영향조사)'!$B$13 -> 172068 | K65: =TRUNC(C65*J65,0) -> 0 | M65: =TRUNC(C65*L65,0) -> 0
A66: <재료비> | B66: <<기존자료 수집 및 현지답사 포함사항>> | G66: =TRUNC(C66*F66,0) -> 0 | K66: =TRUNC(C66*J66,0) -> 0 | M66: =TRUNC(C66*L66,0) -> 0 | N66: 지하수 조사.계획 품셈(2022), P.12
B67: 정천현황조사(현장실사) | G67: =TRUNC(C67*F67,0) -> 0 | K67: =TRUNC(C67*J67,0) -> 0 | M67: =TRUNC(C67*L67,0) -> 0
B68: 지하수 이용량 산정 | G68: =TRUNC(C68*F68,0) -> 0 | K68: =TRUNC(C68*J68,0) -> 0 | M68: =TRUNC(C68*L68,0) -> 0
B69: 하천현황조사 | G69: =TRUNC(C69*F69,0) -> 0 | K69: =TRUNC(C69*J69,0) -> 0 | M69: =TRUNC(C69*L69,0) -> 0
B70: 잠재오염원 조사 | G70: =TRUNC(C70*F70,0) -> 0 | K70: =TRUNC(C70*J70,0) -> 0 | M70: =TRUNC(C70*L70,0) -> 0
A71: <경비> | E71: =SUM(G71,K71,M71) -> 0 | G71: =TRUNC(C71*F71,0) -> 0 | K71: =TRUNC(C71*J71,0) -> 0 | M71: =TRUNC(C71*L71,0) -> 0
E72: =SUM(G72,K72,M72) -> 0 | G72: =TRUNC(C72*F72,0) -> 0 | K72: =TRUNC(C72*J72,0) -> 0 | M72: =TRUNC(C72*L72,0) -> 0
E73: =SUM(G73,K73,M73) -> 0 | G73: =TRUNC(C73*F73,0) -> 0 | K73: =TRUNC(C73*J73,0) -> 0 | M73: =TRUNC(C73*L73,0) -> 0
E74: =SUM(G74,K74,M74) -> 0 | G74: =TRUNC(C74*F74,0) -> 0 | K74: =TRUNC(C74*J74,0) -> 0 | M74: =TRUNC(C74*L74,0) -> 0
A75: 합 계 | E75: =SUBTOTAL(9,E56:E74) -> 185921 | G75: =SUBTOTAL(9,G56:G74) -> 185921 | I75: =SUBTOTAL(9,I56:I74) -> 0 | K75: =SUBTOTAL(9,K56:K74) -> 0 | M75: =SUBTOTAL(9,M56:M74) -> 0
A76: 대수성시험
A77: 3 | N77: =SUM(,N127,N152,N177) -> 1.1615023
A78: 공종별 | B78: 재료또는치수 | C78: 원수 | D78: 단위 | E78: 총액 | F78: 직접인건비 | H78: 직접경비 | N78: 산출근거
F79: 인건비 | H79: 노무비 | J79: 재료비 | L79: 경비
F80: 단가 | G80: 금액 | H80: 단가 | I80: 금액 | J80: 단가 | K80: 금액 | L80: 단가 | M80: 금액
E81: =SUM(G81,K81,M81) -> 0 | G81: =TRUNC(C81*F81,0) -> 0 | K81: =TRUNC(C81*J81,0) -> 0 | M81: =TRUNC(C81*L81,0) -> 0
A82: 단계대수성시험 | C82: 0 | D82: 식 | E82: =SUM(G82,I82,K82,M82) -> 0 | F82: =G125 -> 118676 | G82: =TRUNC(C82*F82,0) -> 0 | H82: =I125 -> 183019 | I82: =TRUNC(C82*H82,0) -> 0 | J82: =K125 -> 0 | K82: =TRUNC(C82*J82,0) -> 0 | L82: =M125 -> 0 | M82: =TRUNC(C82*L82,0) -> 0
A83: 연속대수성시험 | C83: 1 | D83: 식 | E83: =SUM(G83,I83,K83,M83) -> 1116555 | F83: =G150 -> 384473 | G83: =TRUNC(C83*F83,0) -> 384473 | H83: =I150 -> 732082 | I83: =TRUNC(C83*H83,0) -> 732082 | J83: =K150 -> 0 | K83: =TRUNC(C83*J83,0) -> 0 | L83: =M150 -> 0 | M83: =TRUNC(C83*L83,0) -> 0
A84: 회복시험 | C84: 1 | D84: 식 | E84: =SUM(G84,I84,K84,M84) -> 231216 | F84: =G175 -> 48197 | G84: =TRUNC(C84*F84,0) -> 48197 | H84: =I175 -> 183019 | I84: =TRUNC(C84*H84,0) -> 183019 | J84: =K175 -> 0 | K84: =TRUNC(C84*J84,0) -> 0 | L84: =M175 -> 0 | M84: =TRUNC(C84*L84,0) -> 0
A85: 해석 | C85: 1 | D85: 식 | E85: =SUM(G85,I85,K85,M85) -> 230407 | F85: =G200 -> 230407 | G85: =TRUNC(C85*F85,0) -> 230407 | H85: =I200 -> 0 | I85: =TRUNC(C85*H85,0) -> 0 | J85: =K200 -> 0 | K85: =TRUNC(C85*J85,0) -> 0 | L85: =M200 -> 0 | M85: =TRUNC(C85*L85,0) -> 0
E86: =SUM(G86,K86,M86) -> 0 | G86: =TRUNC(C86*F86,0) -> 0 | K86: =TRUNC(C86*J86,0) -> 0 | M86: =TRUNC(C86*L86,0) -> 0
E87: =SUM(G87,K87,M87) -> 0 | G87: =TRUNC(C87*F87,0) -> 0 | K87: =TRUNC(C87*J87,0) -> 0 | M87: =TRUNC(C87*L87,0) -> 0
E88: =SUM(G88,K88,M88) -> 0 | G88: =TRUNC(C88*F88,0) -> 0 | K88: =TRUNC(C88*J88,0) -> 0 | M88: =TRUNC(C88*L88,0) -> 0
E89: =SUM(G89,K89,M89) -> 0 | G89: =TRUNC(C89*F89,0) -> 0 | K89: =TRUNC(C89*J89,0) -> 0 | M89: =TRUNC(C89*L89,0) -> 0
E91: =SUM(G91,K91,M91) -> 0 | G91: =TRUNC(C91*F91,0) -> 0 | K91: =TRUNC(C91*J91,0) -> 0 | M91: =TRUNC(C91*L91,0) -> 0
E92: =SUM(G92,K92,M92) -> 0 | G92: =TRUNC(C92*F92,0) -> 0 | K92: =TRUNC(C92*J92,0) -> 0 | M92: =TRUNC(C92*L92,0) -> 0
E93: =SUM(G93,K93,M93) -> 0 | G93: =TRUNC(C93*F93,0) -> 0 | K93: =TRUNC(C93*J93,0) -> 0 | M93: =TRUNC(C93*L93,0) -> 0
E94: =SUM(G94,K94,M94) -> 0 | G94: =TRUNC(C94*F94,0) -> 0 | K94: =TRUNC(C94*J94,0) -> 0 | M94: =TRUNC(C94*L94,0) -> 0
E95: =SUM(G95,K95,M95) -> 0 | G95: =TRUNC(C95*F95,0) -> 0 | K95: =TRUNC(C95*J95,0) -> 0 | M95: =TRUNC(C95*L95,0) -> 0
E96: =SUM(G96,K96,M96) -> 0 | G96: =TRUNC(C96*F96,0) -> 0 | K96: =TRUNC(C96*J96,0) -> 0 | M96: =TRUNC(C96*L96,0) -> 0
E97: =SUM(G97,K97,M97) -> 0 | G97: =TRUNC(C97*F97,0) -> 0 | K97: =TRUNC(C97*J97,0) -> 0 | M97: =TRUNC(C97*L97,0) -> 0
E98: =SUM(G98,K98,M98) -> 0 | G98: =TRUNC(C98*F98,0) -> 0 | K98: =TRUNC(C98*J98,0) -> 0 | M98: =TRUNC(C98*L98,0) -> 0
E99: =SUM(G99,K99,M99) -> 0 | G99: =TRUNC(C99*F99,0) -> 0 | K99: =TRUNC(C99*J99,0) -> 0 | M99: =TRUNC(C99*L99,0) -> 0
A100: 합 계 | E100: =SUBTOTAL(9,E81:E99) -> 1578178 | G100: =SUBTOTAL(9,G81:G99) -> 663077 | I100: =SUBTOTAL(9,I81:I99) -> 915101 | K100: =SUBTOTAL(9,K81:K99) -> 0 | M100: =SUBTOTAL(9,M81:M99) -> 0
A101: 대수성시험
A102: 3-1 | B102: 단계대수성시험 | N102: =4/24 -> 0.16666667
A103: 공종별 | B103: 재료또는치수 | C103: 원수 | D103: 단위 | E103: 총액 | F103: 직접인건비 | H103: 직접경비 | N103: 산출근거
...

Sheet 5-1-3. 일위대가표(사후관리)
E1: 사후관리 | M1: 5-1-3. 지하수사후관리 일위대가표
M2: 일 금 : | N2: =Q23 -> 10472515 | P2: 원 | X2: 기 종 : 콤프레샤 21kg/cm2 이상
A3: 공종별 | B3: 규격 | C3: 원수 | D3: 단위 | E3: 총 액 | F3: 직접인건비 | H3: 직 접 경 비 | L3: 산출근거 | M3: 공종별 | N3: 규격 | O3: 원수 | P3: 단위 | Q3: 총 액 | R3: 직접인건비 | T3: 직 접 경 비 | Z3: 산출근거
F4: 인건비 | H4: 재료비 | J4: 경비 | R4: 인건비 | T4: 노무비 | V4: 재료비 | X4: 경비 | AB4: 원수조정 | AC4: 0.70467
F5: 단 가 | G5: 금 액 | H5: 단 가 | I5: 금 액 | R5: 단 가 | S5: 금 액 | T5: 단 가 | U5: 금 액 | V5: 단 가 | W5: 금 액 | X5: 단 가 | Y5: 금 액
A6: =E24 -> 시설현황조사 | C6: =#REF! -> #REF! | D6: 회 | E6: =SUM(G6,I6,K6) -> #REF! | G6: =G48 -> #REF! | I6: =I48 -> #REF! | K6: =K48 -> #REF! | M6: 기계기구설치 | O6: 1 | P6: 회 | Q6: =S6+U6+W6+Y6 -> 444471 | R6: =S48 -> 0 | S6: =TRUNC($O6*R6) -> 0 | T6: =U48 -> 444471 | U6: =TRUNC($O6*T6) -> 444471 | V6: =W48 -> 0 | W6: =TRUNC($O6*V6) -> 0 | X6: =Y48 -> 0 | Y6: =TRUNC($O6*X6) -> 0 | Z6: 제1호표
A7: =E99 -> 공내청소 | C7: =C106 -> 966 | D7: m | E7: =SUM(G7,I7,K7) -> 19049484 | G7: =G123 -> 4622028 | I7: =I123 -> 4390242 | K7: =K123 -> 10037214 | M7: 수중펌프설치인양 | O7: 1 | P7: 회 | Q7: =S7+U7+W7+Y7 -> 1473221 | R7: =S73 -> 207974 | S7: =TRUNC($O7*R7) -> 207974 | T7: =U73 -> 1120895 | U7: =TRUNC($O7*T7) -> 1120895 | V7: =W73 -> 61736 | W7: =TRUNC($O7*V7) -> 61736 | X7: =Y73 -> 82616 | Y7: =TRUNC($O7*X7) -> 82616 | Z7: 제2호표
A8: =E424 -> 시설정비 및 설치 | C8: ='[381]2-2. 공종별 내역(사후관리)'!L5 -> 12 | D8: 회 | E8: =SUM(G8,I8,K8) -> 56848 | G8: =G448 -> 0 | I8: =I448 -> 56848 | K8: =K448 -> 0 | M8: 에어써징(고압압축 불기공법) | O8: 1 | P8: m | Q8: =S8+U8+W8+Y8 -> 14351 | R8: =S98 -> 2385 | S8: =TRUNC($O8*R8) -> 2385 | T8: =U98 -> 3783 | U8: =TRUNC($O8*T8) -> 3783 | V8: =W98 -> 7498 | W8: =TRUNC($O8*V8) -> 7498 | X8: =Y98 -> 685 | Y8: =TRUNC($O8*X8) -> 685 | Z8: 제3호표
E9: =SUM(G9,I9,K9) -> 0 | G9: =TRUNC(C9*F9,0) -> 0 | I9: =TRUNC(C9*H9,0) -> 0 | K9: =TRUNC(C9*J9,0) -> 0 | M9: 검사 및 정비 | O9: 1 | P9: 회 | Q9: =S9+U9+W9+Y9 -> 92767 | R9: =S123 -> 0 | S9: =TRUNC($O9*R9) -> 0 | T9: =U123 -> 71281 | U9: =TRUNC($O9*T9) -> 71281 | V9: =W123 -> 0 | W9: =TRUNC($O9*V9) -> 0 | X9: =Y123 -> 21486 | Y9: =TRUNC($O9*X9) -> 21486 | Z9: 제4호표
E10: =SUM(G10,I10,K10) -> 0 | G10: =TRUNC(C10*F10,0) -> 0 | I10: =TRUNC(C10*H10,0) -> 0 | K10: =TRUNC(C10*J10,0) -> 0 | M10: 수위측정관설치 | O10: 1 | P10: m | Q10: =S10+U10+W10+Y10 -> 1000 | R10: =S148 -> 0 | S10: =TRUNC($O10*R10) -> 0 | T10: =U148 -> 0 | U10: =TRUNC($O10*T10) -> 0 | V10: =W148 -> 1000 | W10: =TRUNC($O10*V10) -> 1000 | X10: =Y148 -> 0 | Y10: =TRUNC($O10*X10) -> 0 | Z10: 제5호표
E11: =SUM(G11,I11,K11) -> 0 | G11: =TRUNC(C11*F11,0) -> 0 | I11: =TRUNC(C11*H11,0) -> 0 | K11: =TRUNC(C11*J11,0) -> 0 | M11: 운반비 | O11: 1 | P11: 회 | Q11: =S11+U11+W11+Y11 -> 537402 | R11: =S173 -> 0 | S11: =TRUNC($O11*R11) -> 0 | T11: =U173 -> 0 | U11: =TRUNC($O11*T11) -> 0 | V11: =W173 -> 0 | W11: =TRUNC($O11*V11) -> 0 | X11: =Y173 -> 537402 | Y11: =TRUNC($O11*X11) -> 537402 | Z11: 제6호표
M12: 지하수이용시설 안내문 설치 | O12: 1 | P12: 식 | Q12: =S12+U12+W12+Y12 -> 110000 | R12: =S198 -> 0 | T12: =U198 -> 0 | U12: =TRUNC($O12*T12) -> 0 | V12: =W198 -> 110000 | W12: =TRUNC($O12*V12) -> 110000 | Z12: 제7호표
M13: 수중TV검층 | O13: 1 | P13: m | Q13: =S13+U13+W13+Y13 -> 6994 | R13: =S223 -> 3733 | S13: =TRUNC($O13*R13) -> 3733 | T13: =U223 -> 2261 | U13: =TRUNC($O13*T13) -> 2261 | V13: =W223 -> 0 | W13: =TRUNC($O13*V13) -> 0 | X13: =Y223 -> 1000 | Y13: =TRUNC($O13*X13) -> 1000 | Z13: 제8호표
E14: =SUM(G14,I14,K14) -> 0 | G14: =TRUNC(C14*F14,0) -> 0 | I14: =TRUNC(C14*H14,0) -> 0 | K14: =TRUNC(C14*J14,0) -> 0 | M14: 수중모터펌프(3HP) 교체 | O14: 1 | P14: 개 | Q14: =S14+U14+W14+Y14 -> 2032000 | T14: =U248 -> 0 | U14: =TRUNC($O14*T14) -> 0 | V14: =W248 -> 2032000 | W14: =TRUNC($O14*V14) -> 2032000 | Z14: 제9호표
E15: =SUM(G15,I15,K15) -> 0 | G15: =TRUNC(C15*F15,0) -> 0 | I15: =TRUNC(C15*H15,0) -> 0 | K15: =TRUNC(C15*J15,0) -> 0 | M15: 수중모터펌프(5HP) 교체 | O15: 1 | P15: 개 | Q15: =S15+U15+W15+Y15 -> 2912000 | T15: =U273 -> 0 | U15: =TRUNC($O15*T15) -> 0 | V15: =W273 -> 2912000 | W15: =TRUNC($O15*V15) -> 2912000 | Z15: 제10호표
G16: =TRUNC(C16*F16,0) -> 0 | I16: =TRUNC(C16*H16,0) -> 0 | K16: =TRUNC(C16*J16,0) -> 0 | M16: 수중모터펌프(7.5HP) 교체 | O16: 1 | P16: 개 | Q16: =S16+U16+W16+Y16 -> 3424000 | T16: =U298 -> 0 | U16: =TRUNC($O16*T16) -> 0 | V16: =W298 -> 3424000 | W16: =TRUNC($O16*V16) -> 3424000 | Z16: 제11호표
E17: =SUM(G17,I17,K17) -> 0 | G17: =TRUNC(C17*F17,0) -> 0 | I17: =TRUNC(C17*H17,0) -> 0 | K17: =TRUNC(C17*J17,0) -> 0 | M17: 유량계 교체(32mm) 교체 | O17: 1 | P17: 개 | Q17: =S17+U17+W17+Y17 -> 140000 | T17: =U323 -> 0 | U17: =TRUNC($O17*T17) -> 0 | V17: =W323 -> 140000 | W17: =TRUNC($O17*V17) -> 140000 | Z17: 제12호표
E18: =SUM(G18,I18,K18) -> 0 | G18: =TRUNC(C18*F18,0) -> 0 | I18: =TRUNC(C18*H18,0) -> 0 | K18: =TRUNC(C18*J18,0) -> 0 | M18: 유량계 교체(40mm) 교체 | O18: 1 | P18: 개 | Q18: =S18+U18+W18+Y18 -> 147000 | T18: =U348 -> 0 | U18: =TRUNC($O18*T18) -> 0 | V18: =W348 -> 147000 | W18: =TRUNC($O18*V18) -> 147000 | Z18: 제13호표
E19: =SUM(G19,I19,K19) -> 0 | G19: =TRUNC(C19*F19,0) -> 0 | I19: =TRUNC(C19*H19,0) -> 0 | K19: =TRUNC(C19*J19,0) -> 0 | M19: 유량계 교체(50mm) 교체 | O19: 1 | P19: 개 | Q19: =S19+U19+W19+Y19 -> 250000 | T19: =U373 -> 0 | U19: =TRUNC($O19*T19) -> 0 | V19: =W373 -> 250000 | W19: =TRUNC($O19*V19) -> 250000 | Z19: 제14호표
E20: =SUM(G20,I20,K20) -> 0 | G20: =TRUNC(C20*F20,0) -> 0 | I20: =TRUNC(C20*H20,0) -> 0 | K20: =TRUNC(C20*J20,0) -> 0 | M20: 유량계 교체(50mm) 교체-플랜지타입 | O20: 1 | P20: 개 | Q20: =S20+U20+W20+Y20 -> 530000 | T20: =U398 -> 0 | U20: =TRUNC($O20*T20) -> 0 | V20: =W398 -> 530000 | W20: =TRUNC($O20*V20) -> 530000 | Z20: 제15호표
E21: =SUM(G21,I21,K21) -> 0 | G21: =TRUNC(C21*F21,0) -> 0 | I21: =TRUNC(C21*H21,0) -> 0 | K21: =TRUNC(C21*J21,0) -> 0
E22: =SUM(G22,I22,K22) -> 0 | G22: =TRUNC(C22*F22,0) -> 0 | I22: =TRUNC(C22*H22,0) -> 0 | K22: =TRUNC(C22*J22,0) -> 0
A23: 합 계 | E23: =G23+I23+K23 -> 19106332 | G23: =SUM(G7:G22) -> 4622028 | I23: =SUM(I7:I22) -> 4447090 | K23: =SUM(K7:K22) -> 10037214 | M23: 합 계 | Q23: =S23+W23+Y23 -> 10472515 | S23: =SUM(S6:S22) -> 214092 | U23: =SUM(U6:U22) -> 1642691 | W23: =SUM(W6:W22) -> 9615234 | Y23: =SUM(Y6:Y22) -> 643189
E24: 시설현황조사 | M24: <제1호표> | Q24: 기 계 기 구 설 치
A25: 1 | M25: 일 금 : | N25: =Q48 -> 444471 | O25: 원 | Q25: ( 회 당 ) | W25: 1 | X25: 회/일 | AB25: 지하수개발이용시설 공사 설계실무요령(2008)
A26: 공종별 | B26: 규격 | C26: 원수 | D26: 단위 | E26: 총 액 | F26: 직접인건비 | H26: 직 접 경 비 | L26: 산출근거 | M26: 공종별 | N26: 규격 | O26: 원수 | P26: 단위 | Q26: 총 액 | R26: 직접인건비 | T26: 직 접 경 비 | Z26: 산출근거
F27: 인건비 | H27: 재료비 | J27: 경비 | R27: 인건비 | T27: 노무비 | V27: 재료비 | X27: 경비
F28: 단 가 | G28: 금 액 | H28: 단 가 | I28: 금 액 | R28: 단 가 | S28: 금 액 | T28: 단 가 | U28: 금 액 | V28: 단 가 | W28: 금 액 | X28: 단 가 | Y28: 금 액
A29: =B75 -> 공내 촬영 | C29: ='[381]2-2. 공종별 내역(사후관리)'!#REF! -> #REF! | D29: m | E29: =SUM(G29,I29,K29) -> #REF! | F29: =G98 -> 4206 | G29: =TRUNC(C29*F29,0) -> #REF! | H29: =I98 -> 116 | I29: =TRUNC(C29*H29,0) -> #REF! | J29: =K98 -> 2261 | K29: =TRUNC(C29*J29,0) -> #REF! | M29: 보링공 | O29: =INT(1/W$25)*AC4 -> 0.70467 | P29: 인 | Q29: =S29+U29+W29+Y29 -> 163879 | T29: ='단가(사후관리)'!E11 -> 232562 | U29: =TRUNC(O29*T29) -> 163879 | Z29: 조사비적산기준(2023) p.132 기계기구 설치
E30: =SUM(G30,I30,K30) -> 0 | G30: =TRUNC(C30*F30,0) -> 0 | I30: =TRUNC(C30*H30,0) -> 0 | K30: =TRUNC(C30*J30,0) -> 0 | M30: 특별인부 | O30: =INT(1/W$25)*AC4 -> 0.70467 | P30: 인 | Q30: =S30+U30+W30+Y30 -> 159341 | T30: ='단가(사후관리)'!E12 -> 226122 | U30: =TRUNC(O30*T30) -> 159341
E31: =SUM(G31,I31,K31) -> 0 | G31: =TRUNC(C31*F31,0) -> 0 | I31: =TRUNC(C31*H31,0) -> 0 | K31: =TRUNC(C31*J31,0) -> 0 | M31: 보통인부 | O31: =INT(1/W$25)*AC4 -> 0.70467 | P31: 인 | Q31: =S31+U31+W31+Y31 -> 121251 | T31: ='단가(사후관리)'!E13 -> 172068 | U31: =TRUNC(O31*T31) -> 121251
E32: =SUM(G32,I32,K32) -> 0 | G32: =TRUNC(C32*F32,0) -> 0 | I32: =TRUNC(C32*H32,0) -> 0 | K32: =TRUNC(C32*J32,0) -> 0
E33: =SUM(G33,I33,K33) -> 0 | G33: =TRUNC(C33*F33,0) -> 0 | I33: =TRUNC(C33*H33,0) -> 0 | K33: =TRUNC(C33*J33,0) -> 0
E34: =SUM(G34,I34,K34) -> 0 | G34: =TRUNC(C34*F34,0) -> 0 | I34: =TRUNC(C34*H34,0) -> 0 | K34: =TRUNC(C34*J34,0) -> 0
E35: =SUM(G35,I35,K35) -> 0 | G35: =TRUNC(C35*F35,0) -> 0 | I35: =TRUNC(C35*H35,0) -> 0 | K35: =TRUNC(C35*J35,0) -> 0
G36: =TRUNC(C36*F36,0) -> 0 | I36: =TRUNC(C36*H36,0) -> 0 | K36: =TRUNC(C36*J36,0) -> 0
E38: =SUM(G38,I38,K38) -> 0 | G38: =TRUNC(C38*F38,0) -> 0 | I38: =TRUNC(C38*H38,0) -> 0 | K38: =TRUNC(C38*J38,0) -> 0
E39: =SUM(G39,I39,K39) -> 0 | G39: =TRUNC(C39*F39,0) -> 0 | I39: =TRUNC(C39*H39,0) -> 0 | K39: =TRUNC(C39*J39,0) -> 0
E40: =SUM(G40,I40,K40) -> 0 | G40: =TRUNC(C40*F40,0) -> 0 | I40: =TRUNC(C40%*H40,0) -> 0 | K40: =TRUNC(C40*J40,0) -> 0
E41: =SUM(G41,I41,K41) -> 0 | G41: =TRUNC(C41*F41,0) -> 0 | I41: =TRUNC(C41*H41,0) -> 0 | K41: =TRUNC(C41*J41,0) -> 0
E43: =SUM(G43,I43,K43) -> 0 | G43: =TRUNC(C43*F43,0) -> 0 | I43: =TRUNC(C43*H43,0) -> 0 | K43: =TRUNC(C43*J43,0) -> 0
E44: =SUM(G44,I44,K44) -> 0 | G44: =TRUNC(C44*F44,0) -> 0 | I44: =TRUNC(C44*H44,0) -> 0 | K44: =TRUNC(C44*J44,0) -> 0
E45: =SUM(G45,I45,K45) -> 0 | G45: =TRUNC(C45*F45,0) -> 0 | I45: =TRUNC(C45*H45,0) -> 0 | K45: =TRUNC(C45*J45,0) -> 0
E46: =SUM(G46,I46,K46) -> 0 | G46: =TRUNC(C46*F46,0) -> 0 | I46: =TRUNC(C46*H46,0) -> 0 | K46: =TRUNC(C46*J46,0) -> 0
E47: =SUM(G47,I47,K47) -> 0 | G47: =TRUNC(C47*F47,0) -> 0 | I47: =TRUNC(C47*H47,0) -> 0 | K47: =TRUNC(C47*J47,0) -> 0
A48: 합 계 | E48: =G48+I48+K48 -> #REF! | G48: =SUM(G29:G47) -> #REF! | I48: =SUM(I29:I47) -> #REF! | K48: =SUM(K29:K47) -> #REF! | M48: 합 계 | Q48: =S48+U48+W48+Y48 -> 444471 | S48: =SUM(S29:S47) -> 0 | U48: =SUM(U29:U47) -> 444471 | W48: =SUM(W29:W47) -> 0 | Y48: =SUM(Y29:Y47) -> 0
E49: 시설현황조사 | M49: <제2호표> | Q49: 수 중 펌 프 설 치 인 양
A50: 1-1 | B50: 양수설비 인양 및 상태점검 | F50: (재원조사 포함) | H50: (회당) | M50: 일 금 : | N50: =Q73 -> 1473221 | O50: 원 | Q50: ( 회 당 ) | W50: 1 | X50: 회/일
A51: 공종별 | B51: 규격 | C51: 원수 | D51: 단위 | E51: 총 액 | F51: 직접인건비 | H51: 직 접 경 비 | L51: 산출근거 | M51: 공종별 | N51: 규격 | O51: 원수 | P51: 단위 | Q51: 총 액 | R51: 직접인건비 | T51: 직 접 경 비 | Z51: 산출근거
F52: 인건비 | H52: 재료비 | J52: 경비 | R52: 인건비 | T52: 노무비 | V52: 재료비 | X52: 경비
F53: 단 가 | G53: 금 액 | H53: 단 가 | I53: 금 액 | R53: 단 가 | S53: 금 액 | T53: 단 가 | U53: 금 액 | V53: 단 가 | W53: 금 액 | X53: 단 가 | Y53: 금 액
A54: <노무비> | L54: 이용시설설계요령, P136 | M54: 중급기술자 | O54: =1*AC4 -> 0.70467 | P54: 인 | Q54: =S54+U54+W54+Y54 -> 207974 | R54: ='단가(사후관리)'!E6 -> 295138 | S54: =INT(O54*R54) -> 207974 | W54: =INT(O54*V54) -> 0 | Y54: =INT(O54*X54) -> 0 | Z54: 조사비적산기준(2023) p.133 수중펌프설치인양
A55: 특급기술자 | D55: 인 | E55: =SUM(G55,I55,K55) -> 0 | F55: ='단가(사후관리)'!$E$4 -> 373353 | G55: =TRUNC(C55*F55,0) -> 0 | I55: =TRUNC(C55*H55,0) -> 0 | K55: =TRUNC(C55*J55,0) -> 0 | M55: 보링공 | O55: =1*AC4 -> 0.70467 | P55: 인 | Q55: =S55+U55+W55+Y55 -> 163879 | T55: ='단가(사후관리)'!E11 -> 232562 | U55: =INT(O55*T55) -> 163879 | W55: =INT(O55*V55) -> 0 | Y55: =INT(O55*X55) -> 0
A56: 고급기술자 | D56: 인 | E56: =SUM(G56,I56,K56) -> 0 | F56: ='단가(사후관리)'!$E$5 -> 310884 | G56: =TRUNC(C56*F56,0) -> 0 | I56: =TRUNC(C56*H56,0) -> 0 | K56: =TRUNC(C56*J56,0) -> 0 | M56: 특별인부 | O56: =2*AC4 -> 1.40934 | P56: 인 | Q56: =S56+U56+W56+Y56 -> 318682 | T56: ='단가(사후관리)'!E12 -> 226122 | U56: =INT(O56*T56) -> 318682 | W56: =INT(O56*V56) -> 0 | Y56: =INT(O56*X56) -> 0
A57: 중급기술자 | D57: 인 | E57: =SUM(G57,I57,K57) -> 0 | F57: ='단가(사후관리)'!$E$6 -> 295138 | G57: =TRUNC(C57*F57,0) -> 0 | I57: =TRUNC(C57*H57,0) -> 0 | K57: =TRUNC(C57*J57,0) -> 0 | M57: 보통인부 | O57: =2*AC4 -> 1.40934 | P57: 인 | Q57: =S57+U57+W57+Y57 -> 242502 | S57: =INT(O57*R57) -> 0 | T57: ='단가(사후관리)'!E13 -> 172068 | U57: =INT(O57*T57) -> 242502 | W57: =INT(O57*V57) -> 0 | Y57: =INT(O57*X57) -> 0
A58: 초급기술자 | D58: 인 | E58: =SUM(G58,I58,K58) -> 0 | F58: ='단가(사후관리)'!$E$7 -> 235459 | G58: =TRUNC(C58*F58,0) -> 0 | I58: =TRUNC(C58*H58,0) -> 0 | K58: =TRUNC(C58*J58,0) -> 0 | M58: 트럭탑제형크레인(5ton) | O58: 8 | P58: 시간 | Q58: =S58+U58+W58+Y58 -> 540184 | S58: =INT(O58*R58) -> 0 | T58: 49479.1 | U58: =INT(O58*T58) -> 395832 | V58: 7717 | W58: =INT(O58*V58) -> 61736 | X58: 10327 | Y58: =INT(O58*X58) -> 82616 | Z58: 2025년 표준단가표 5ton 트럭탑제형크레인 시간당 이용료
A59: 중급숙련기술자 | D59: 인 | E59: =SUM(G59,I59,K59) -> 0 | F59: ='단가(사후관리)'!$E$8 -> 250087 | G59: =TRUNC(C59*F59,0) -> 0 | I59: =TRUNC(C59*H59,0) -> 0 | K59: =TRUNC(C59*J59,0) -> 0 | M59: 소 계 | Q59: =S59+U59+W59+Y59 -> 0 | V59: =W58 -> 61736 | W59: =INT(O59*V59) -> 0
A60: 기계설비공 | B60: 5.5kw 이하 | C60: 3 | D60: 인 | E60: =SUM(G60,I60,K60) -> 1379520 | F60: ='단가(사후관리)'!$E$9 -> 218142 | G60: =TRUNC(C60*F60,0) -> 654426 | I60: =TRUNC(C60*H60,0) -> 0 | J60: ='단가(사후관리)'!E10 -> 241698 | K60: =TRUNC(C60*J60,0) -> 725094
A61: 보링공 | C61: 0 | D61: 인 | E61: =SUM(G61,I61,K61) -> 0 | G61: =TRUNC(C61*F61,0) -> 0 | I61: =TRUNC(C61*H61,0) -> 0 | J61: ='단가(사후관리)'!$E$11 -> 232562 | K61: =TRUNC(C61*J61,0) -> 0
A62: 특별인부 | D62: 인 | G62: =TRUNC(C62*F62,0) -> 0 | I62: =TRUNC(C62*H62,0) -> 0 | J62: ='단가(사후관리)'!$E$12 -> 226122 | K62: =TRUNC(C62*J62,0) -> 0
A63: 보통인부 | C63: 1.5 | D63: 인 | E63: =SUM(G63,I63,K63) -> 258102 | G63: =TRUNC(C63*F63,0) -> 0 | I63: =TRUNC(C63*H63,0) -> 0 | J63: ='단가(사후관리)'!$E$13 -> 172068 | K63: =TRUNC(C63*J63,0) -> 258102
A64: <재료비> | E64: =SUM(G64,I64,K64) -> 0 | G64: =TRUNC(C64*F64,0) -> 0 | I64: =TRUNC(C64*H64,0) -> 0 | K64: =TRUNC(C64*J64,0) -> 0
A65: 유류대 | B65: 경유 | C65: 15.3 | D65: L | E65: =SUM(G65,I65,K65) -> 22212 | G65: =TRUNC(C65*F65,0) -> 0 | H65: ='단가(사후관리)'!E17 -> 1451.8182 | I65: =TRUNC(C65*H65,0) -> 22212 | K65: =TRUNC(C65*J65,0) -> 0
A66: 잡유 | C66: 20 | D66: % | E66: =SUM(G66,I66,K66) -> 4442 | G66: =TRUNC(C66*F66,0) -> 0 | H66: =I65 -> 22212 | I66: =TRUNC(C66%*H66,0) -> 4442 | K66: =TRUNC(C66*J66,0) -> 0
E67: =SUM(G67,I67,K67) -> 0 | G67: =TRUNC(C67*F67,0) -> 0 | I67: =TRUNC(C67*H67,0) -> 0 | K67: =TRUNC(C67*J67,0) -> 0
E68: =SUM(G68,I68,K68) -> 0 | G68: =TRUNC(C68*F68,0) -> 0 | I68: =TRUNC(C68*H68,0) -> 0 | K68: =TRUNC(C68*J68,0) -> 0
A69: <경비> | E69: =SUM(G69,I69,K69) -> 0 | G69: =TRUNC(C69*F69,0) -> 0 | I69: =TRUNC(C69*H69,0) -> 0 | K69: =TRUNC(C69*J69,0) -> 0
A70: 크레인 손료 | C70: 3 | D70: 시간 | E70: =SUM(G70,I70,K70) -> 0 | G70: =TRUNC(C70*F70,0) -> 0 | I70: =TRUNC(C70*H70,0) -> 0 | K70: =TRUNC(C70*J70,0) -> 0
E71: =SUM(G71,I71,K71) -> 0 | G71: =TRUNC(C71*F71,0) -> 0 | I71: =TRUNC(C71*H71,0) -> 0 | K71: =TRUNC(C71*J71,0) -> 0 | W71: =INT(V71*O71) -> 0
E72: =SUM(G72,I72,K72) -> 0 | G72: =TRUNC(C72*F72,0) -> 0 | I72: =TRUNC(C72*H72,0) -> 0 | K72: =TRUNC(C72*J72,0) -> 0
A73: 합 계 | E73: =G73+I73+K73 -> 1664276 | G73: =SUM(G55:G72) -> 654426 | I73: =SUM(I55:I72) -> 26654 | K73: =SUM(K55:K72) -> 983196 | M73: 합 계 | Q73: =S73+U73+W73+Y73 -> 1473221 | S73: =SUM(S54:S72) -> 207974 | U73: =SUM(U54:U72) -> 1120895 | W73: =SUM(W54:W72) -> 61736 | Y73: =SUM(Y54:Y72) -> 82616
E74: 시설현황조사 | M74: <제3호표> | Q74: 에 어 써 징
A75: 1-2 | B75: 공내 촬영 | H75: (m당) | M75: 일 금 : | N75: =Q98 -> 14351 | O75: 원 | Q75: ( M 당 ) | W75: 111.23 | X75: m/일 | Y75: 기종 :콤프레샤 21kg/cm2 이상
A76: 공종별 | B76: 규격 | C76: 원수 | D76: 단위 | E76: 총 액 | F76: 직접인건비 | H76: 직 접 경 비 | L76: 산출근거 | M76: 공종별 | N76: 규격 | O76: 원수 | P76: 단위 | Q76: 총 액 | R76: 직접인건비 | T76: 직 접 경 비 | Z76: 산출근거
F77: 인건비 | H77: 재료비 | J77: 경비 | R77: 인건비 | T77: 노무비 | V77: 재료비 | X77: 경비
F78: 단 가 | G78: 금 액 | H78: 단 가 | I78: 금 액 | R78: 단 가 | S78: 금 액 | T78: 단 가 | U78: 금 액 | V78: 단 가 | W78: 금 액 | X78: 단 가 | Y78: 금 액
A79: <노무비> | L79: 이용시설설계요령, P136 | M79: 중급기술자 | O79: =TRUNC(0.5/111.23*AC4,3) -> 0.003 | P79: 인 | Q79: =S79+U79+W79+Y79 -> 885 | R79: ='단가(사후관리)'!E6 -> 295138 | S79: =TRUNC(O79*R79) -> 885 | Z79: 조사비적산기준(2023) p.132 에어써징(콤퓨레샤)
A80: 특급기술자 | D80: 인 | E80: =SUM(G80,I80,K80) -> 0 | F80: ='단가(사후관리)'!$E$4 -> 373353 | G80: =TRUNC(C80*F80,0) -> 0 | I80: =TRUNC(C80*H80,0) -> 0 | K80: =TRUNC(C80*J80,0) -> 0 | M80: 중급숙련기술자 | O80: =TRUNC(1/111.23*AC4,3) -> 0.006 | P80: 인 | Q80: =S80+U80+W80+Y80 -> 1500 | R80: ='단가(사후관리)'!E8 -> 250087 | S80: =TRUNC(O80*R80) -> 1500
A81: 고급기술자 | C81: 0.005 | D81: 인 | E81: =SUM(G81,I81,K81) -> 1554 | F81: ='단가(사후관리)'!$E$5 -> 310884 | G81: =TRUNC(C81*F81,0) -> 1554 | I81: =TRUNC(C81*H81,0) -> 0 | K81: =TRUNC(C81*J81,0) -> 0 | M81: 보링공 | O81: =TRUNC(1/111.23*AC4,3) -> 0.006 | P81: 인 | Q81: =S81+U81+W81+Y81 -> 1395 | T81: ='단가(사후관리)'!E11 -> 232562 | U81: =TRUNC(O81*T81) -> 1395
A82: 중급기술자 | C82: 0.005 | D82: 인 | E82: =SUM(G82,I82,K82) -> 1475 | F82: ='단가(사후관리)'!$E$6 -> 295138 | G82: =TRUNC(C82*F82,0) -> 1475 | I82: =TRUNC(C82*H82,0) -> 0 | K82: =TRUNC(C82*J82,0) -> 0 | M82: 특별인부 | O82: =TRUNC(1/111.23*AC4,3) -> 0.006 | P82: 인 | Q82: =S82+U82+W82+Y82 -> 1356 | T82: ='단가(사후관리)'!E12 -> 226122 | U82: =TRUNC(O82*T82) -> 1356
A83: 초급기술자 | C83: 0.005 | D83: 인 | E83: =SUM(G83,I83,K83) -> 1177 | F83: ='단가(사후관리)'!$E$7 -> 235459 | G83: =TRUNC(C83*F83,0) -> 1177 | I83: =TRUNC(C83*H83,0) -> 0 | K83: =TRUNC(C83*J83,0) -> 0 | M83: 보통인부 | O83: =TRUNC(1/111.23*AC4,3) -> 0.006 | P83: 인 | Q83: =S83+U83+W83+Y83 -> 1032 | T83: ='단가(사후관리)'!E13 -> 172068 | U83: =TRUNC(O83*T83) -> 1032
A84: 중급숙련기술자 | D84: 인 | E84: =SUM(G84,I84,K84) -> 0 | F84: ='단가(사후관리)'!$E$8 -> 250087 | G84: =TRUNC(C84*F84,0) -> 0 | I84: =TRUNC(C84*H84,0) -> 0 | K84: =TRUNC(C84*J84,0) -> 0 | M84: 경 유 | O84: 4.099 | P84: L | Q84: =S84+U84+W84+Y84 -> 5951 | V84: ='단가(사후관리)'!E17 -> 1451.8182 | W84: =TRUNC(O84*V84) -> 5951
A85: 기계설비공 | D85: 인 | E85: =SUM(G85,I85,K85) -> 0 | F85: ='단가(사후관리)'!$E$9 -> 218142 | G85: =TRUNC(C85*F85,0) -> 0 | I85: =TRUNC(C85*H85,0) -> 0 | J85: ='단가(사후관리)'!E10 -> 241698 | K85: =TRUNC(C85*J85,0) -> 0 | M85: 잡 유 | O85: 0.2 | Q85: =S85+U85+W85+Y85 -> 1190 | V85: =W84 -> 5951 | W85: =TRUNC(V85*O85) -> 1190
A86: 보링공 | D86: 인 | E86: =SUM(G86,I86,K86) -> 0 | G86: =TRUNC(C86*F86,0) -> 0 | I86: =TRUNC(C86*H86,0) -> 0 | J86: ='단가(사후관리)'!$E$11 -> 232562 | K86: =TRUNC(C86*J86,0) -> 0
A87: 특별인부 | C87: 0.01 | D87: 인 | G87: =TRUNC(C87*F87,0) -> 0 | I87: =TRUNC(C87*H87,0) -> 0 | J87: ='단가(사후관리)'!$E$12 -> 226122 | K87: =TRUNC(C87*J87,0) -> 2261 | M87: 공압기손료 | N87: 상각비 | O87: =INT(1/W75*1000)/1000 -> 0.008 | P87: 시간 | Q87: =S87+U87+W87+Y87 -> 299 | X87: ='단가(사후관리)'!E19 -> 37496 | Y87: =INT(O87*X87) -> 299
A88: 보통인부 | D88: 인 | E88: =SUM(G88,I88,K88) -> 0 | G88: =TRUNC(C88*F88,0) -> 0 | I88: =TRUNC(C88*H88,0) -> 0 | J88: ='단가(사후관리)'!$E$13 -> 172068 | K88: =TRUNC(C88*J88,0) -> 0 | N88: 정비비 | O88: =INT(1/W75*1000)/1000 -> 0.008 | P88: 시간 | Q88: =S88+U88+W88+Y88 -> 166 | X88: ='단가(사후관리)'!E20 -> 20848 | Y88: =INT(O88*X88) -> 166
A89: <재료비> | E89: =SUM(G89,I89,K89) -> 0 | G89: =TRUNC(C89*F89,0) -> 0 | I89: =TRUNC(C89*H89,0) -> 0 | K89: =TRUNC(C89*J89,0) -> 0 | N89: 관리비 | O89: =INT(1/W75*1000)/1000 -> 0.008 | P89: 시간 | Q89: =S89+U89+W89+Y89 -> 220 | X89: ='단가(사후관리)'!E21 -> 27600 | Y89: =INT(O89*X89) -> 220
A90: 유류대 | B90: 휘발유 | C90: 0.075 | D90: L | E90: =SUM(G90,I90,K90) -> 116 | G90: =TRUNC(C90*F90,0) -> 0 | H90: ='단가(사후관리)'!E18 -> 1548.1818 | I90: =TRUNC(C90*H90,0) -> 116 | K90: =TRUNC(C90*J90,0) -> 0 | M90: 소 계 | Q90: =S90+U90+W90+Y90 -> 13994 | S90: =SUM(S79:S89) -> 2385 | U90: =SUM(U79:U89) -> 3783 | W90: =SUM(W79:W89) -> 7141 | Y90: =SUM(Y79:Y89) -> 685
A91: DVD-R (VTR테이프) | C91: 0.005 | D91: 개 | E91: =SUM(G91,I91,K91) -> 0 | G91: =TRUNC(C91*F91,0) -> 0 | H91: =I90 -> 116 | I91: =TRUNC(C91*H91,0) -> 0 | K91: =TRUNC(C91*J91,0) -> 0
E92: =SUM(G92,I92,K92) -> 0 | G92: =TRUNC(C92*F92,0) -> 0 | I92: =TRUNC(C92*H92,0) -> 0 | K92: =TRUNC(C92*J92,0) -> 0
E93: =SUM(G93,I93,K93) -> 0 | G93: =TRUNC(C93*F93,0) -> 0 | I93: =TRUNC(C93*H93,0) -> 0 | K93: =TRUNC(C93*J93,0) -> 0
A94: <경비> | E94: =SUM(G94,I94,K94) -> 0 | G94: =TRUNC(C94*F94,0) -> 0 | I94: =TRUNC(C94*H94,0) -> 0 | K94: =TRUNC(C94*J94,0) -> 0
A95: 검층기 손료 | C95: 0.005 | D95: 일 | E95: =SUM(G95,I95,K95) -> 0 | G95: =TRUNC(C95*F95,0) -> 0 | I95: =TRUNC(C95*H95,0) -> 0 | K95: =TRUNC(C95*J95,0) -> 0
E96: =SUM(G96,I96,K96) -> 0 | G96: =TRUNC(C96*F96,0) -> 0 | I96: =TRUNC(C96*H96,0) -> 0 | K96: =TRUNC(C96*J96,0) -> 0 | M96: 잡재료 | O96: 0.05 | Q96: =S96+U96+W96+Y96 -> 357 | V96: =W90 -> 7141 | W96: =INT(V96*O96) -> 357
E97: =SUM(G97,I97,K97) -> 0 | G97: =TRUNC(C97*F97,0) -> 0 | I97: =TRUNC(C97*H97,0) -> 0 | K97: =TRUNC(C97*J97,0) -> 0
A98: 합 계 | E98: =G98+I98+K98 -> 6583 | G98: =SUM(G80:G97) -> 4206 | I98: =SUM(I80:I97) -> 116 | K98: =SUM(K80:K97) -> 2261 | M98: 합 계 | Q98: =S98+U98+W98+Y98 -> 14351 | S98: =SUM(S90:S97) -> 2385 | U98: =SUM(U90:U97) -> 3783 | W98: =SUM(W90:W97) -> 7498 | Y98: =SUM(Y90:Y97) -> 685
E99: 공내청소 | M99: <제4호표> | Q99: 검 사 및 정 비
A100: 2 | M100: 일 금 : | N100: =Q123 -> 92767 | O100: 원 | Q100: (공 당 ) | W100: 4 | X100: 공/일
A101: 공종별 | B101: 규격 | C101: 원수 | D101: 단위 | E101: 총 액 | F101: 직접인건비 | H101: 직 접 경 비 | L101: 산출근거 | M101: 공종별 | N101: 규격 | O101: 원수 | P101: 단위 | Q101: 총 액 | R101: 직접인건비 | T101: 직 접 경 비 | Z101: 산출근거
F102: 인건비 | H102: 재료비 | J102: 경비 | R102: 인건비 | T102: 노무비 | V102: 재료비 | X102: 경비
...

Sheet 3사업량
A1: 3. 사업량
A3: 공종별 | B3: 사업량 | C3: 단위 | D3: 비고
A4: 관정보호시설 도색 | C4: 개소
A5: 관정보호시설 철거
A6: - 노후 양수장옥 철거 | B6: 0 | C6: 개소
A7: - 노후 보호공 철거 | B7: 0 | C7: 개소
A8: - 노후 양수장옥(조립식) 철거 | B8: 2 | C8: 개소
A9: 원상복구(폐공처리) | B9: 2 | C9: 개소
A10: - 원상복구(보호공철거 제외) | B10: 0 | C10: 개소
A11: 관정보호시설 설치(조립식) | B11: 0 | C11: 개소
A12: 관정 주변 정리 | B12: =B9 -> 2 | C12: 개소

Sheet 4. 공사비총괄표
B1: 4. 공사비 총괄표
H2: (단위 : 원)
B3: 구 분 | G3: 공 종 | H3: 비 고
G4: 원상복구
B5: 재 료 비 | C5: 직 접 재 료 비 | G5: ='5. 공사비명세서'!I6 -> 492926
C6: 간 접 재 료 비
C7: 소 계 | G7: =SUM(G5:G6) -> 492926
B8: 노 무 비 | C8: 직 접 노 무 비 | G8: ='5. 공사비명세서'!G6 -> 4588836
C9: 간 접 노 무 비 | D9: ( | E9: 0.191 | F9: ) | G9: =INT(G8*$E9) -> 876467
C10: 소 계 | G10: =SUM(G8:G9) -> 5465303
B11: 경 비 | C11: 경 비 | G11: ='5. 공사비명세서'!K6 -> 1024106
C12: 산 재 보 험 료 | D12: ( | E12: 0.0356 | F12: ) | G12: =INT(G10*$E12) -> 194564
C13: 고 용 보 험 료 | D13: ( | E13: 0.0101 | F13: ) | G13: =INT(G10*$E13) -> 55199
C14: 건 강 보 험 료 | D14: ( | E14: 0.03595 | F14: ) | G14: =INT(G8*$E14)*0 -> 0 | H14: 30일미만 공사로 제외
C15: 연 금 보 험 료 | D15: ( | E15: 0.0475 | F15: ) | G15: =INT(G8*$E15)*0 -> 0 | H15: 30일미만 공사로 제외
C16: 노인장기요양보험료 | D16: ( | E16: 0.1314 | F16: ) | G16: =INT(G14*$E16)*0 -> 0 | H16: 30일미만 공사로 제외
C17: 퇴직공제부금비 | D17: ( | E17: 0.023 | F17: ) | G17: - | H17: 추정가격 1억 미만 공사로 제외
C18: 건설기계대여보증서 | D18: ( | E18: 0.004 | F18: ) | G18: =INT((G8+G7+G11)*$E18) -> 24423
C19: 산업안전보건관리비 | D19: ( | E19: 0.0315 | F19: ) | G19: =INT(G8+G7)*$E19 -> 160075.5
C20: 기 타 경 비 | D20: ( | E20: 0.055 | F20: ) | G20: =INT((G10+G7)*$E20) -> 327702
C21: 건설하도급대금보증서발급수수료 | D21: ( | E21: 0.00081 | F21: ) | G21: =INT((G7+G8+G11)*$E21) -> 4945
C22: 환경보전비 | D22: ( | E22: 0.008 | F22: ) | G22: =INT((G7+G8+G11)*$E22) -> 48846
C23: 석면분담금 | D23: ( | E23: 6e-05 | F23: ) | G23: =INT(G10*$E23) -> 327
C24: 임금채권분담금 | D24: ( | E24: 0.0009 | F24: ) | G24: =INT(G10*$E24) -> 4918
C25: 계 ( 3 ) | G25: =SUM(G11:G24) -> 1845105.5
C26: 계 ( 1 + 2 + 3 ) | G26: =SUM(G7,G10,G25) -> 7803334.5
C27: 일 반 관 리 비 | D27: ( | E27: 0.08 | F27: ) | G27: =INT(G26*$E27) -> 624266
C28: 계 | G28: =SUM(G26:G27) -> 8427600.5
C29: 이 윤 | D29: ( | E29: 0.15 | F29: ) | G29: =INT((G10+G25+G27)*$E29)-7801 -> 1182400
C30: 합 계 | G30: =INT(G28+G29) -> 9610000
C31: 부 가 가 치 세 | D31: ( | E31: 0.1 | F31: ) | G31: =INT(G30*$E31) -> 961000
C32: 도 급 예 정 액 | G32: =SUM(G30:G31) -> 10571000
C34: 총공사비 | G34: =G32+G33 -> 10571000

Sheet 5. 공사비명세서
A1: 5. 공사비 명세서
A3: 공 종 별 | B3: 규 격 | C3: 원수 | D3: 단위 | E3: 총 액 | F3: 노 무 비 | H3: 재 료 비 | J3: 경 비 | L3: 비고
F4: 단 가 | G4: 금 액 | H4: 단 가 | I4: 금 액 | J4: 단 가 | K4: 금 액
A5: - 원상복구(폐공처리)비 | C5: 2 | D5: 개소 | E5: =G5+I5+K5 -> 6105868 | F5: ='7. 일위대가'!G56 -> 2294418 | G5: =TRUNC($C5*F5) -> 4588836 | H5: ='7. 일위대가'!I56 -> 246463 | I5: =TRUNC($C5*H5) -> 492926 | J5: ='7. 일위대가'!K56 -> 512053 | K5: =TRUNC($C5*J5) -> 1024106
A6: 합 계 | E6: =SUM(E5:E5) -> 6105868 | G6: =SUM(G5:G5) -> 4588836 | I6: =SUM(I5:I5) -> 492926 | K6: =SUM(K5:K5) -> 1024106
A8: [지급자재 명세서]
A9: 공 종 별 | B9: 규 격 | C9: 원수 | D9: 단위 | E9: 총 액 | F9: 노 무 비 | H9: 재 료 비 | J9: 경 비 | L9: 비고
F10: 단 가 | G10: 금 액 | H10: 단 가 | I10: 금 액 | J10: 단 가 | K10: 금 액
A11: #REF!
A12: #REF! | C12: #REF! | D12: #REF! | E12: =G12+I12+K12 -> #REF! | F12: 0 | G12: =TRUNC($C12*F12) -> #REF! | H12: 0 | I12: =TRUNC($C12*H12) -> #REF! | J12: 0 | K12: =TRUNC($C12*J12) -> #REF!
A13: #REF! | C13: #REF! | D13: #REF! | E13: =G13+I13+K13 -> #REF! | F13: 0 | G13: =TRUNC($C13*F13) -> #REF! | H13: 0 | I13: =TRUNC($C13*H13) -> #REF! | J13: 0 | K13: =TRUNC($C13*J13) -> #REF!
A14: #REF! | C14: #REF! | D14: #REF! | E14: =G14+I14+K14 -> #REF! | F14: 0 | G14: =TRUNC($C14*F14) -> #REF! | H14: 0 | I14: =TRUNC($C14*H14) -> #REF! | J14: 0 | K14: =TRUNC($C14*J14) -> #REF!
A15: 합 계 | E15: =SUM(E12:E14) -> #REF! | G15: =SUM(G12:G14) -> #REF! | I15: =SUM(I12:I14) -> #REF! | K15: =SUM(K12:K14) -> #REF!

Sheet 6.소요일수
A1: 6. 작업소요일수
A3: 구 분 | D3: 사업량 | E3: 단 위 | F3: 조사 소요일수 | H3: 비 고
F4: 1일작업량 | G4: 소요일수 | J4: 소요일수
A5: 원상복구 | B5: 사업준비 | G5: 10 | H5: 지하수법에 따른 인허가 이행 등
B6: 현장시행 | C6: 수중모터펌프인양 | D6: ='3사업량'!B9 -> 2 | E6: 공 | F6: 1 | G6: =INT(D6*F6*1000)/1000 -> 2
C7: 보호공철거 및 되메우기 | D7: =D6 -> 2 | E7: 공 | F7: 0.1 | G7: =INT(D7*F7*1000)/1000 -> 0.2
C8: 폐기물 및 고재처리 | D8: =D7 -> 2 | E8: 공 | F8: 0.5 | G8: =INT(D8*F8*1000)/1000 -> 1
B9: 소계 | E9: 공 | G9: =SUM(G6:G8) -> 3.2
B10: 준공 | C10: 준공서류작성 | D10: =D8 -> 2 | E10: 공 | F10: 3 | G10: =INT(D10*F10*1000)/1000 -> 6
B11: 주말 등 공휴일 제외 | G11: 8
B12: 계 | G12: =SUM(G5,G9,G10,G11) -> 27.2

Sheet 7. 일위대가
A1: 7. 관정정비 일위대가표
A3: 공 종 별 | B3: 규 격 | C3: 원수 | D3: 단위 | E3: 총 액 | F3: 노 무 비 | H3: 재 료 비 | J3: 경 비 | L3: 비고
F4: 단 가 | G4: 금 액 | H4: 단 가 | I4: 금 액 | J4: 단 가 | K4: 금 액
A5: 수중펌프설치인양 | C5: 1 | D5: 회 | E5: =G5+I5+K5 -> #REF! | G5: =#REF! -> #REF! | I5: =#REF! -> #REF! | K5: =#REF! -> #REF! | L5: 제1호표
A6: 에어써징 | C6: 1 | D6: m | E6: =G6+I6+K6 -> #REF! | G6: =#REF! -> #REF! | I6: =#REF! -> #REF! | K6: =#REF! -> #REF! | L6: 제2호표
A7: 관정검사및정비 | C7: 1 | D7: 공 | E7: =G7+I7+K7 -> #REF! | G7: =#REF! -> #REF! | I7: =#REF! -> #REF! | K7: =#REF! -> #REF! | L7: 제3호표
A8: 기계기구설치 | C8: 1 | D8: 회 | E8: =G8+I8+K8 -> #REF! | G8: =#REF! -> #REF! | I8: =#REF! -> #REF! | K8: =#REF! -> #REF! | L8: 제4호표
A9: 운반비 | C9: 1 | D9: 회 | E9: =G9+I9+K9 -> #REF! | G9: =#REF! -> #REF! | I9: =#REF! -> #REF! | K9: =#REF! -> #REF! | L9: 제5호표
A10: 펌프자동제어장치 | B10: 7.5HP | C10: 1 | D10: 대 | E10: =G10+I10+K10 -> #REF! | G10: =#REF! -> #REF! | I10: =#REF! -> #REF! | K10: =#REF! -> #REF! | L10: 제6호표
A11: 펌프자동제어장치 | B11: 5HP | C11: 1 | D11: 대 | E11: =G11+I11+K11 -> #REF! | G11: =#REF! -> #REF! | I11: =#REF! -> #REF! | K11: =#REF! -> #REF! | L11: 제6호표
A12: 펌프자동제어장치 | B12: 5HP,220V위상변환시스템 | C12: 1 | D12: 대 | E12: =G12+I12+K12 -> #REF! | G12: =#REF! -> #REF! | I12: =#REF! -> #REF! | K12: =#REF! -> #REF! | L12: 제6호표
A13: 펌프자동제어장치 | B13: 3HP | C13: 1 | D13: 대 | E13: =G13+I13+K13 -> #REF! | G13: =#REF! -> #REF! | I13: =#REF! -> #REF! | K13: =#REF! -> #REF! | L13: 제6호표
A14: 펌프자동제어장치 | B14: 2HP | C14: 1 | D14: 대 | E14: =G14+I14+K14 -> #REF! | G14: =#REF! -> #REF! | I14: =#REF! -> #REF! | K14: =#REF! -> #REF! | L14: 제6호표
A15: 펌프자동제어장치 | B15: 1HP | C15: 1 | D15: 대 | E15: =G15+I15+K15 -> #REF! | G15: =#REF! -> #REF! | I15: =#REF! -> #REF! | K15: =#REF! -> #REF! | L15: 제6호표
A16: 수위감지기 | B16: FLOATLESS 스위치 | C16: 1 | D16: 개 | E16: =G16+I16+K16 -> #REF! | G16: =#REF! -> #REF! | I16: =#REF! -> #REF! | K16: =#REF! -> #REF! | L16: 제6호표
A17: 기동박스 | B17: 3상 | C17: 1 | D17: 개 | E17: =G17+I17+K17 -> #REF! | G17: =#REF! -> #REF! | I17: =#REF! -> #REF! | L17: 제6호표
A18: 기동박스 | B18: 단상 | C18: 1 | D18: 개 | E18: =G18+I18+K18 -> #REF! | G18: =#REF! -> #REF! | I18: =#REF! -> #REF! | L18: 제6호표
A19: 유량계 | B19: 50mm | C19: 1 | D19: 개 | E19: =G19+I19+K19 -> #REF! | G19: =#REF! -> #REF! | I19: =#REF! -> #REF! | K19: =#REF! -> #REF! | L19: 제6호표
A20: 유량계 | B20: 40mm | C20: 1 | D20: 개 | E20: =G20+I20+K20 -> #REF! | G20: =#REF! -> #REF! | I20: =#REF! -> #REF! | K20: =#REF! -> #REF! | L20: 제6호표
A21: 유량계 | B21: 32mm | C21: 1 | D21: 개 | E21: =G21+I21+K21 -> #REF! | G21: =#REF! -> #REF! | I21: =#REF! -> #REF! | K21: =#REF! -> #REF! | L21: 제6호표
A22: STS파이프 | B22: 65mm(플랜지포함) | C22: 1 | D22: 본 | E22: =G22+I22+K22 -> #REF! | G22: =#REF! -> #REF! | I22: =#REF! -> #REF! | K22: =#REF! -> #REF! | L22: 제6호표
A23: STS파이프 | B23: 50mm(플랜지포함) | C23: 1 | D23: 본 | E23: =G23+I23+K23 -> #REF! | G23: =#REF! -> #REF! | I23: =#REF! -> #REF! | K23: =#REF! -> #REF! | L23: 제6호표
A24: STS파이프 | B24: 40mm(플랜지포함) | C24: 1 | D24: 본 | E24: =G24+I24+K24 -> #REF! | G24: =#REF! -> #REF! | I24: =#REF! -> #REF! | K24: =#REF! -> #REF! | L24: 제6호표
A25: STS파이프 | B25: 32mm(플랜지포함) | C25: 1 | D25: 본 | E25: =G25+I25+K25 -> #REF! | G25: =#REF! -> #REF! | I25: =#REF! -> #REF! | K25: =#REF! -> #REF! | L25: 제6호표
A26: 관정정비 일위대가표(계속)
A28: 공 종 별 | B28: 규 격 | C28: 원수 | D28: 단위 | E28: 총 액 | F28: 노 무 비 | H28: 재 료 비 | J28: 경 비 | L28: 비고
F29: 단 가 | G29: 금 액 | H29: 단 가 | I29: 금 액 | J29: 단 가 | K29: 금 액
A30: 수위측정관 | B30: 25mm, PE파이프 | C30: 1 | D30: m | E30: =G30+I30+K30 -> #REF! | G30: =#REF! -> #REF! | I30: =#REF! -> #REF! | K30: =#REF! -> #REF! | L30: 제6호표
A31: 수중케이블 | B31: CVF-6㎟ | C31: 1 | D31: m | E31: =G31+I31+K31 -> #REF! | G31: =#REF! -> #REF! | I31: =#REF! -> #REF! | K31: =#REF! -> #REF! | L31: 제6호표
A32: 수중모터펌프 | B32: 7.5HP | C32: 1 | D32: 대 | E32: =G32+I32+K32 -> #REF! | G32: =#REF! -> #REF! | I32: =#REF! -> #REF! | K32: =#REF! -> #REF! | L32: 제6호표
A33: 수중모터펌프 | B33: 5HP | C33: 1 | D33: 대 | E33: =G33+I33+K33 -> #REF! | G33: =#REF! -> #REF! | I33: =#REF! -> #REF! | K33: =#REF! -> #REF! | L33: 제6호표
A34: 수중모터펌프 | B34: 3HP | C34: 1 | D34: 대 | E34: =G34+I34+K34 -> #REF! | G34: =#REF! -> #REF! | I34: =#REF! -> #REF! | K34: =#REF! -> #REF! | L34: 제6호표
A35: 수중모터펌프 | B35: =#REF! -> #REF! | C35: 1 | D35: 대 | E35: =G35+I35+K35 -> #REF! | G35: =#REF! -> #REF! | I35: =#REF! -> #REF! | K35: =#REF! -> #REF! | L35: 제6호표 | M35: YI-005, YI-426
A36: 수중모터펌프 | B36: =#REF! -> #REF! | C36: 1 | D36: 대 | E36: =G36+I36+K36 -> #REF! | G36: =#REF! -> #REF! | I36: =#REF! -> #REF! | K36: =#REF! -> #REF! | L36: 제6호표 | M36: YI-023, YI-400
A37: 수중모터펌프 | B37: =#REF! -> #REF! | C37: 1 | D37: 대 | E37: =G37+I37+K37 -> #REF! | G37: =#REF! -> #REF! | I37: =#REF! -> #REF! | K37: =#REF! -> #REF! | L37: 제6호표 | M37: YI-026
A38: 수중모터펌프 | B38: =#REF! -> #REF! | C38: 1 | D38: 대 | E38: =G38+I38+K38 -> #REF! | G38: =#REF! -> #REF! | I38: =#REF! -> #REF! | K38: =#REF! -> #REF! | L38: 제6호표 | M38: YI-061
A39: 굴삭기 | B39: 03W | C39: 1 | D39: 일 | E39: =G39+I39+K39 -> #REF! | G39: =#REF! -> #REF! | I39: =#REF! -> #REF! | K39: =#REF! -> #REF! | L39: 제6호표
A40: 장옥출입문교체 | C40: 1 | D40: 개 | E40: =G40+I40+K40 -> #REF! | G40: =#REF! -> #REF! | I40: =#REF! -> #REF! | K40: =#REF! -> #REF! | L40: 제6호표
A41: 보호공덮개 | C41: 1 | D41: 개 | E41: =G41+I41+K41 -> #REF! | G41: =#REF! -> #REF! | I41: =#REF! -> #REF! | K41: =#REF! -> #REF! | L41: 제6호표
A42: 보호시설 도색 | B42: 양수장옥 | C42: 1 | D42: 개소 | E42: =G42+I42+K42 -> #REF! | G42: =#REF! -> #REF! | I42: =#REF! -> #REF! | K42: =#REF! -> #REF! | L42: 제7호표
A43: 보호시설 도색 | B43: 보호공 | C43: 1 | D43: 개소 | E43: =G43+I43+K43 -> #REF! | G43: =#REF! -> #REF! | I43: =#REF! -> #REF! | K43: =#REF! -> #REF! | L43: 제7호표
A44: 케이싱접합 | B44: 250mm | C44: 1 | D44: 개소 | E44: =G44+I44+K44 -> #REF! | G44: =#REF! -> #REF! | I44: =#REF! -> #REF! | K44: =#REF! -> #REF! | L44: 제8호표
A45: 밀폐형상부보호공설치(자재대제외) | C45: 1 | D45: 개소 | E45: =G45+I45+K45 -> #REF! | G45: =#REF! -> #REF! | I45: =#REF! -> #REF! | K45: =#REF! -> #REF! | L45: 제9호표
A46: 바닥기초설치비 | C46: 1 | D46: 개소 | E46: =G46+I46+K46 -> #REF! | G46: =#REF! -> #REF! | I46: =#REF! -> #REF! | K46: =#REF! -> #REF! | L46: 제10호표
A47: 휀스설치비 | C47: 1 | D47: 개소 | E47: =G47+I47+K47 -> #REF! | G47: =#REF! -> #REF! | I47: =#REF! -> #REF! | K47: =#REF! -> #REF! | L47: 제11호표
A48: 양수장옥(저수조)철거 | C48: 1 | D48: 개소 | E48: =G48+I48+K48 -> #REF! | G48: =#REF! -> #REF! | I48: =#REF! -> #REF! | K48: =#REF! -> #REF! | L48: 제12호표
A49: 보호공철거 | B49: 맨홀 | C49: 1 | D49: 개소 | E49: =G49+I49+K49 -> #REF! | G49: =#REF! -> #REF! | I49: =#REF! -> #REF! | K49: =#REF! -> #REF! | L49: 제13호표
A50: 양수장옥설치 | C50: 1 | D50: 개소
A51: 보호공설치 | B51: 맨홀 | C51: 1 | D51: 개소 | E51: =G51+I51+K51 -> #REF! | G51: =#REF! -> #REF! | I51: =#REF! -> #REF! | K51: =#REF! -> #REF! | L51: 제14호표
A52: 7. 일위대가표 | M52: 1
A54: 공 종 별 | B54: 규 격 | C54: 원수 | D54: 단위 | E54: 총 액 | F54: 노 무 비 | H54: 재 료 비 | J54: 경 비 | L54: 비고
F55: 단 가 | G55: 금 액 | H55: 단 가 | I55: 금 액 | J55: 단 가 | K55: 금 액
A56: 원상복구 | C56: 1 | D56: 개소 | E56: =G56+I56+K56 -> 3052934 | G56: =G99 -> 2294418 | I56: =I99 -> 246463 | K56: =K99 -> 512053 | L56: 제1호표
P70: 실측 | Q70: 적용
O71: 지표면기초높이 | P71: 25 | Q71: 25
O72: 펜스높이 | P72: 158 | Q72: 160
O73: 펜스너비 | P73: 183 | Q73: 185
O74: 관정뚜껑너비 | P74: =73.5/2 -> 36.75 | Q74: 37
A75: <제1호표> | E75: 율동2지구 원상복구(폐공처리)비 | O75: 관정높이 | P75: 89 | Q75: 90
A76: 일 금 : | B76: =E99 -> 3052934 | C76: 원 | E76: (개소당 )
A77: 구 분 | B77: 규격 | C77: 원수 | D77: 단위 | E77: 총 액 | F77: 노 무 비 | H77: 재 료 비 | J77: 경 비 | L77: 비고
F78: 단 가 | G78: 금 액 | H78: 단 가 | I78: 금 액 | J78: 단 가 | K78: 금 액 | N78: 지우지말것 | P78: 200 | Q78: 200
A79: 수중펌프인양 | B79: 5.5Kw이하 | C79: 1 | D79: 식 | E79: =G79+I79+K79 -> 892500 | F79: =G109 -> 862126 | G79: =INT(F79*$C79) -> 862126 | H79: =I109 -> 14384 | I79: =INT(H79*$C79) -> 14384 | J79: =K109 -> 15990 | K79: =INT(J79*$C79) -> 15990 | L79: 제1-1호표 | N79: 케이싱설치심도 | O79: 관정심도 | P79: 케이싱반경 | Q79: 굴착반경
A80: 보호공철거 | B80: 양수장옥 | C80: =1.3*1.3*1.8 -> 3.042 | D80: ㎥ | E80: =G80+I80+K80 -> 59060 | F80: =G119 -> 19415 | G80: =INT(F80*$C80) -> 59060 | H80: =I119 -> 0 | I80: =INT(H80*$C80) -> 0 | J80: =K119 -> 0 | K80: =INT(J80*$C80) -> 0 | L80: 제1-2호표 | N80: 12 | O80: =70-N80 -> 58 | P80: 0.1 | Q80: 0.1
A81: 콘크리트 기초 제거 | C81: 0 | D81: ㎥ | E81: =G81+I81+K81 -> 0 | F81: =G114 -> 20925 | G81: =INT(F81*$C81) -> 0 | H81: =I114 -> 7413 | I81: =INT(H81*$C81) -> 0 | J81: =K114 -> 0 | K81: =INT(J81*$C81) -> 0 | L81: 제1-2호표
A82: 굴삭기 | C82: 8 | D82: 시간 | E82: =G82+I82+K82 -> 556800 | F82: 55700 | G82: =INT(F82*$C82) -> 445600 | H82: 4929 | I82: =INT(H82*$C82) -> 39432 | J82: 8971 | K82: =INT(J82*C82) -> 71768 | L82: 2024년 표준단가표
A83: 케이싱인발 | B83: m당 | C83: 12 | D83: m | E83: =G83+I83+K83 -> 834384 | F83: =G129 -> 54162 | G83: =INT(F83*$C83) -> 649944 | H83: =I129 -> 0 | I83: =INT(H83*$C83) -> 0 | J83: =K129 -> 15370 | K83: =INT(J83*C83) -> 184440 | L83: 제1-3호표
A84: 케이싱절단 | B84: 회당 | C84: 0 | D84: 회 | E84: =G84+I84+K84 -> 0 | F84: =G135 -> 72095 | G84: =INT(F84*$C84) -> 0 | H84: =I135 -> 14500 | I84: =INT(H84*$C84) -> 0 | L84: 제1-3호표
A85: 인력터파기 | B85: 2.5*3*1 | C85: 0 | D85: ㎥ | E85: =G85+I85+K85 -> 0 | F85: =G138 -> 33109 | G85: =INT(F85*$C85) -> 0 | L85: 제1-4호표
A86: 인력되메움 | B86: 2.5*3*0.7 | C86: 0 | D86: ㎥ | E86: =G86+I86+K86 -> 0 | F86: =G142 -> 16554 | G86: =INT(F86*$C86) -> 0 | L86: 제1-5호표
A87: 지표부처리 | B87: 1.3*1.3*0.3 | C87: =1.3*1.3*0.3 -> 0.507 | D87: ㎥ | E87: =G87+I87+K87 -> 174853 | F87: =G148 -> 206481 | G87: =INT(F87*$C87) -> 104685 | H87: =I148 -> 138400 | I87: =INT(H87*$C87) -> 70168 | J87: =K148 -> 0 | K87: =J87*C87 -> 0 | L87: 제1-4호표
A88: 폐공되메우기 | B88: 10m | C88: =(N80+O80)/10 -> 7 | D88: 10m | E88: =G88+I88+K88 -> 107618 | F88: =INT(G165/10) -> 15374 | G88: =INT(F88*$C88) -> 107618 | H88: =INT(I165/10) -> 0 | J88: =INT(K165/10) -> 0 | K88: =J88*C88 -> 0 | L88: 제1-6호표
A89: 모르타르 | B89: 1:1 | C89: =ROUND(((N80)*3.14*P80*P80),2)*1 -> 0.38 | D89: ㎥ | E89: =G89+I89+K89 -> 142364 | F89: =G171 -> 172068 | G89: =INT(F89*$C89) -> 65385 | H89: =I171 -> 202577 | I89: =INT(H89*$C89) -> 76979 | J89: =K171 -> 0 | K89: =J89*C89 -> 0 | L89: 제1-7호표
A90: 모 래 | C90: =ROUND((O80*3.14*Q80^2),2) -> 1.82 | D90: ㎥ | E90: =G90+I90+K90 -> 45500 | G90: =INT(F90*$C90) -> 0 | H90: =H170 -> 25000 | I90: =INT(H90*$C90) -> 45500 | L90: 물가정보 2025년 3월 세사 기준
A91: 폐기물처리비 | B91: 콘크리트 | C91: =C80*1.6 -> 4.8672 | D91: 톤 | E91: =G91+I91+K91 -> 239855 | F91: =G188 -> 0 | G91: =INT(F91*$C91) -> 0 | H91: =I188 -> 0 | I91: =INT(H91*$C91) -> 0 | J91: =K188 -> 49280 | K91: =INT(J91*C91) -> 239855 | L91: 제1-8호표
A99: 합 계 | E99: =G99+I99+K99 -> 3052934 | G99: =SUM(G79:G98) -> 2294418 | I99: =SUM(I79:I98) -> 246463 | K99: =SUM(K79:K98) -> 512053
A101: 구 분 | B101: 규격 | C101: 원수 | D101: 단위 | E101: 총 액 | F101: 노 무 비 | H101: 재 료 비 | J101: 경 비 | L101: 비고
F102: 단 가 | G102: 금 액 | H102: 단 가 | I102: 금 액 | J102: 단 가 | K102: 금 액
A104: <제1-1호표> 펌프인양 공사비명세서 (수중펌프 5.5Kw 이하 적용)
A105: 기계설비공 | C105: =TRUNC(6*M52,2) -> 6 | D105: 인 | E105: =G105+I105+K105 -> 1450188 | F105: =단가표!E10 -> 241698 | G105: =TRUNC($C105*F105) -> 1450188 | L105: 지하수 개발이용시설공사 설계 실무요령
A106: 보통 인부 | C106: =TRUNC(3*M52,2) -> 3 | D106: 인 | E106: =G106+I106+K106 -> 516204 | F106: =단가표!E15 -> 172068 | G106: =TRUNC($C106*F106) -> 516204
A107: 트럭탑제형크레인(5ton) | C107: =TRUNC(4*M52,2) -> 4 | D107: 시간 | E107: =G107+I107+K107 -> 264860 | F107: 47231 | G107: =TRUNC($C107*F107) -> 188924 | H107: 7790 | I107: 35960 | J107: 9994 | K107: =INT($C107*J107) -> 39976 | L107: 2024 표준단가표 p. 392
A108: 계 | E108: =G108+I108+K108 -> 2231252 | G108: =SUM(G105:G107) -> 2155316 | I108: =SUM(I105:I107) -> 35960 | K108: =SUM(K105:K107) -> 39976
A109: 펌프인양시 | B109: 설치비의 40% | E109: =G109+I109+K109 -> 892500 | G109: =TRUNC(G108*0.4) -> 862126 | I109: =TRUNC(I108*0.4) -> 14384 | K109: =TRUNC(K108*0.4) -> 15990 | N109: [지하수개발이용시설공사 설계 실무요령]
A111: <제1-2호표> 콘크리트 기초 제거(파쇄, ㎥당)
A112: 굴삭기(무한궤도)+펄버라이져 | C112: 0.3229 | D112: 시간 | E112: =G112+I112+#REF! -> #REF! | F112: 44299 | G112: =INT($C112*F112) -> 14304 | H112: 22959 | I112: =INT($C112*H112) -> 7413 | J112: 43013 | L112: 2021 표준단가표 p.56
A113: 보통인부 | C113: 0.04 | D113: 인 | E113: =G113+I113+K113 -> 6621 | F113: 165545 | G113: =TRUNC($C113*F113) -> 6621
A114: 소 계 | E114: =G114+I114+K114 -> 28338 | G114: =SUM(G112:G113) -> 20925 | I114: =SUM(I112:I113) -> 7413 | K114: =SUM(K112:K113) -> 0
A116: <제1-2호표> 보호공 해체 철거(기계사용, ㎥당)
A117: 용접공 | C117: =TRUNC(0.02*M52,2) -> 0.02 | D117: 인 | E117: =G117+I117+K117 -> 5650 | F117: =단가표!E11 -> 282536 | G117: =TRUNC($C117*F117) -> 5650
A118: 보통인부 | C118: =TRUNC(0.08*M52,2) -> 0.08 | D118: 인 | E118: =G118+I118+K118 -> 13765 | F118: =F106 -> 172068 | G118: =TRUNC($C118*F118) -> 13765
A119: 소 계 | E119: =G119+I119+K119 -> 19415 | G119: =SUM(G117:G118) -> 19415
A121: <제 1-3호표> 케이싱 인발(m당)
A122: 중급기술자 | C122: =TRUNC(0.03*M52,2) -> 0.03 | D122: 인 | E122: =G122+I122+K122 -> 8854 | F122: =F161 -> 295138 | G122: =TRUNC($C122*F122) -> 8854
A123: 중급숙련기술자 | C123: =TRUNC(0.13*M52,2) -> 0.13 | D123: 인 | E123: =G123+I123+K123 -> 32511 | F123: =F162 -> 250087 | G123: =TRUNC($C123*F123) -> 32511
A124: 보링공 | C124: =TRUNC(0.13*M52,2) -> 0.13 | D124: 인 | E124: =G124+I124+K124 -> 30233 | F124: =단가표!E12 -> 232562 | G124: =TRUNC($C124*F124) -> 30233
A125: 특별인부 | C125: =TRUNC(0.13*M52,2) -> 0.13 | D125: 인 | E125: =G125+I125+K125 -> 29395 | F125: =F163 -> 226122 | G125: =TRUNC($C125*F125) -> 29395
A126: 보통인부 | C126: =TRUNC(0.2*M52,2) -> 0.2 | D126: 인 | E126: =G126+I126+K126 -> 34413 | F126: =F164 -> 172068 | G126: =TRUNC($C126*F126) -> 34413
A127: 기계경비 | C127: 0.55 | D127: 시간 | J127: 69866 | K127: =TRUNC($C127*J127) -> 38426
A128: 소계 | E128: =G128+I128+K128 -> 173832 | G128: =SUM(G122:G127) -> 135406 | I128: =SUM(I122:I127) -> 0 | K128: =SUM(K122:K127) -> 38426
...

Sheet 직영일위대가
A2: 일위대가표
A4: 공 종 별 | B4: 재료또는치수 | C4: 원수 | D4: 단위 | E4: 총 액 | F4: 노 무 비 | H4: 재 료 비 | J4: 경 비 | L4: 비 고
F5: 단 가 | G5: 금 액 | H5: 단 가 | I5: 금 액 | J5: 단 가 | K5: 금 액
A6: 기존자료수집 및 분석 공사비명세서 | D6: 지역 | E6: =G6+I6+K6 -> 12012140 | G6: =SUM(G39:G40) -> 10455000 | I6: =SUM(G41,I60,K60) -> 1557140 | L6: =A34 -> <제 1호표>
A7: 지하수시설물 점검 | C7: 1 | D7: 공 | E7: =(G7+I7+K7)*0 -> 0 | G7: =G88*0 -> 0 | I7: =I88*0 -> 0 | K7: =K88 -> 0 | L7: =A62 -> <제1호표>
A8: 지하수이용실태조사(소형) | D8: 공 | E8: =G8+I8+K8 -> 40651 | G8: =SUM(G94) -> 14756 | I8: =SUM(G95:G97,G104,I115,K115) -> 25895 | L8: =A89 -> <제 2-2호표>
A9: 지하수이용시설 안내문 부착 | C9: 1 | D9: 공 | E9: =G9+I9+K9 -> #REF! | G9: =G143 -> 22640 | I9: =I143 -> 0 | K9: =K143 -> #REF! | L9: =A117 -> <제2-3호표>
A10: 방치공 임시처리 | D10: 공 | E10: =G10+I10+K10 -> 0 | G10: =SUM(G96) -> 0 | I10: =SUM(G97:G99,G106,I117,K117) -> 0 | L10: =A144 -> <제 3호표>
A11: =A173 -> 지하수시설물 자료검증 및 시스템등재 | C11: 1 | D11: 공 | E11: =G11+I11+K11 -> 5659 | G11: =G199 -> 5659 | I11: =I199 -> 0 | K11: =K199 -> 0 | L11: =A172 -> <제4호표>
A12: 지하수이용실태조사 보고서 및 관정대장 작성 | D12: 공 | E12: =G12+I12+K12 -> 1270528 | G12: =SUM(G206:G209) -> 1180552 | I12: =SUM(I227,K227) -> 89976 | L12: =A200 -> <제 5호표>
A13: 조사기기 및 프로그램 구입 명세서 | D13: 식 | E13: =G13+I13+K13 -> 5646045 | G13: =SUM(G254) -> 0 | I13: =SUM(I254,K254) -> 5646045 | L13: =A228 -> <제 6호표>
A14: 현장사무실 운영 | D14: 식 | E14: =G14+I14+K14 -> 8979650 | G14: =SUM(G282) -> 0 | I14: =SUM(I282,K282) -> 8979650 | L14: =A255 -> <제 7호표>
A15: =A284 -> 수질검사 공사비명세서(농업용수) | C15: 1 | D15: 회 | E15: =G15+I15+K15 -> 109400 | G15: =G310 -> 0 | I15: =I310 -> 0 | K15: =K310 -> 109400 | L15: =A283 -> <제1호표>
A32: 합 계 | E32: =+G32+I32+K32 -> 109400 | G32: =G7+G15 -> 0 | I32: =I7+I15 -> 0 | K32: =K7+K15 -> 109400
A34: <제 1호표>
A35: 기존자료수집 및 분석 공사비명세서(지역당)
A36: 일금 : | B36: =E60 -> 12012140 | C36: 원 | G36: 기종 : 노트북, 프린터, 플로터 | K36: =TRUNC(1/C39,4) -> 0.025 | L36: 지구/일
A37: 공 종 별 | B37: 재료또는치수 | C37: 원수 | D37: 단위 | E37: 총 액 | F37: 노 무 비 | H37: 재 료 비 | J37: 경 비 | L37: 비 고
F38: 단 가 | G38: 금 액 | H38: 단 가 | I38: 금 액 | J38: 단 가 | K38: 금 액
A39: 중급기술자 | B39: 자료수집 | C39: =C56 -> 40 | D39: 인 | E39: =G39+I39+K39 -> 6970000 | F39: 174250 | G39: =TRUNC($C39*F39) -> 6970000 | K39: =TRUNC($C39*J39) -> 0 | L39: 외업
A40: 중급기술자 | B40: 자료분석 | C40: =INT(C39/2) -> 20 | D40: 인 | E40: =G40+I40+K40 -> 3485000 | F40: =F39 -> 174250 | G40: =TRUNC($C40*F40) -> 3485000 | L40: 내업
A41: 보 인 | B41: 전산처리 | C41: =INT(C39/2) -> 20 | D41: 인 | E41: =G41+I41+K41 -> 1448300 | F41: 72415 | G41: =TRUNC($C41*F41) -> 1448300
A42: 출력 용지 | B42: A4 | C42: 1 | D42: 권 | E42: =G42+I42+K42 -> 17000 | H42: =H273 -> 17000 | I42: =TRUNC(H42*C42) -> 17000
B43: A0 | C43: 1 | D43: 권 | E43: =G43+I43+K43 -> 28000 | H43: 28000 | I43: =TRUNC(H43*C43) -> 28000
A44: 프린터토너 | B44: 4Color | C44: 0.04 | D44: 개 | E44: =G44+I44+K44 -> 41440 | H44: 1036000 | I44: =TRUNC(H44*C44) -> 41440
A45: 플로터토너 | C45: 0.04 | D45: 개 | E45: =G45+I45+K45 -> 22400 | H45: 560000 | I45: =TRUNC(H45*C45) -> 22400
A48: 소 계 | E48: =G48+I48+K48 -> 12012140 | G48: =SUM(G39:G47) -> 11903300 | I48: =SUM(I39:I47) -> 108840 | K48: =SUM(K39:K47) -> 0
A53: # 자료수집 소요일수 산출
A54: 수문자료수집 | B54: 중급기술자 | C54: 2 | D54: 인 | E54: (기상자료수집 : 1.5일 , 유량자료수집 0.3일, 수위측정자료수집 0.3일)
A55: 지하수자료수집 | B55: 중급기술자 | C55: 38 | D55: 인 | E55: (지하수관리조사,수맥조사,수위/수질측정망,민방위비상용수, 공동급수시설, 지자체수질자료, 온천, 먹는물 등)
A56: - 소 계 : | C56: =SUM(C54:C55) -> 40 | D56: 인
A60: 합 계 | E60: =G60+I60+K60 -> 12012140 | G60: =SUM(G48,G50) -> 11903300 | I60: =SUM(I48,I50) -> 108840 | K60: =SUM(K48,K50) -> 0
A62: <제1호표>
A63: 지하수시설물 점검(공당)
A64: 일금 : | B64: =E88 -> 31417 | C64: 원 | K64: 5 | L64: 공/일
A65: 공 종 별 | B65: 재료또는치수 | C65: 원수 | D65: 단위 | E65: 총 액 | F65: 노 무 비 | H65: 재 료 비 | J65: 경 비 | L65: 비 고
F66: 단 가 | G66: 금 액 | H66: 단 가 | I66: 금 액 | J66: 단 가 | K66: 금 액
A67: 중급기술자 | C67: =1/K64*0 -> 0 | D67: 인 | E67: =G67+I67+K67 -> 0 | F67: =단가표!E6 -> 295138 | G67: =TRUNC($C67*F67) -> 0
A68: 보 인 | C68: =1/K64/1.3235 -> 0.15111447 | D68: 인 | E68: =G68+I68+K68 -> 26001 | F68: =단가표!E15 -> 172068 | G68: =TRUNC($C68*F68) -> 26001
A69: 수위측정기 | B69: 전류계 5A | C69: =0.01 -> 0.01 | D69: 일 | E69: =G69+I69+K69 -> 180 | G69: =TRUNC($C69*F69) -> 0 | H69: 18000 | I69: =TRUNC(C69*H69) -> 180
A70: 차량임차료 | C70: =1/K64*0 -> 0 | D70: 일 | E70: =G70+I70+K70 -> 0 | G70: =TRUNC($C70*F70) -> 0 | J70: 0 | K70: =TRUNC(C70*J70) -> 0
A71: 차량유류대 | B71: 경유 | C71: =1/K64*0 -> 0 | D71: 일 | E71: =G71+I71+K71 -> 0 | G71: =TRUNC($C71*F71) -> 0 | J71: 0 | K71: =TRUNC(C71*J71) -> 0
A75: 소 계 | E75: =+G75+I75+K75 -> 26181 | G75: =SUM(G67:G72) -> 26001 | I75: =SUM(I67:I72) -> 180 | K75: =SUM(K67:K72) -> 0
A77: 제 잡 비 | C77: 20 | D77: % | E77: =+G77+I77+K77 -> 5236 | F77: =+G75 -> 26001 | G77: =TRUNC($C77%*F77) -> 5200 | H77: =I75 -> 180 | I77: =TRUNC($C77%*H77) -> 36 | J77: =K75 -> 0 | K77: =TRUNC($C77%*J77) -> 0
A80: ㅇ 조사내용
A81: - 시설물가동 확인 및 안전점검
A82: - 위치검증 및 수위확인
A83: - 시설물 사진촬영 : 근, 원경 각 1장
A88: 합 계 | E88: =+G88+I88+K88 -> 31417 | G88: =G75+G77 -> 31201 | I88: =I75+I77 -> 216 | K88: =K75+K77 -> 0
A89: <제 2-2호표>
A90: 지하수이용실태조사(공당_소형)
A91: 일금 : | B91: =E115 -> 40651 | C91: 원 | K91: 10 | L91: 공/일
A92: 공 종 별 | B92: 재료또는치수 | C92: 원수 | D92: 단위 | E92: 총 액 | F92: 노 무 비 | H92: 재 료 비 | J92: 경 비 | L92: 비 고
F93: 단 가 | G93: 금 액 | H93: 단 가 | I93: 금 액 | J93: 단 가 | K93: 금 액
A94: 중급기술자 | C94: =0.5/K91 -> 0.05 | D94: 인 | E94: =G94+I94+K94 -> 14756 | F94: =F67 -> 295138 | G94: =TRUNC($C94*F94) -> 14756
A95: 보 인 | C95: =2/K91 -> 0.2 | D95: 인 | E95: =G95+I95+K95 -> 14483 | F95: 72415 | G95: =TRUNC($C95*F95) -> 14483
A96: 수위측정기 | B96: 전류계 5A | C96: 0.005 | D96: 일 | E96: =G96+I96+K96 -> 78 | G96: =TRUNC($C96*F96) -> 0 | H96: 15600 | I96: =TRUNC(C96*H96) -> 78
A97: 차량운행비 | B97: 소형 | C97: =1/K91 -> 0.1 | D97: 일 | E97: =G97+I97+K97 -> 4560 | G97: =TRUNC($C97*F97) -> 0 | J97: 45600 | K97: =TRUNC(C97*J97) -> 4560
A102: 소 계 | E102: =+G102+I102+K102 -> 33877 | G102: =SUM(G94:G99) -> 29239 | I102: =SUM(I94:I99) -> 78 | K102: =SUM(K94:K99) -> 4560
A104: 제 잡 비 | C104: 20 | D104: % | E104: =+G104+I104+K104 -> 6774 | F104: =+G102 -> 29239 | G104: =TRUNC($C104%*F104) -> 5847 | H104: =I102 -> 78 | I104: =TRUNC($C104%*H104) -> 15 | J104: =K102 -> 4560 | K104: =TRUNC($C104%*J104) -> 912
A107: ㅇ 조사내용
A109: - 시설사용여부확인
A110: - 좌표획득 : 기존도면(1/5000지형도 또는 지번도)와 GPS수신기 대조
A111: - 시설물사진촬영 : 근, 원경 각 1장
A115: 합 계 | E115: =+G115+I115+K115 -> 40651 | G115: =G102+G104 -> 35086 | I115: =I102+I104 -> 93 | K115: =K102+K104 -> 5472
A117: <제2-3호표>
A118: 지하수이용실태 안내문 부착
A119: 일금 : | B119: =E143 -> #REF! | C119: 원 | K119: 10 | L119: 공/일
A120: 공 종 별 | B120: 재료또는치수 | C120: 원수 | D120: 단위 | E120: 총 액 | F120: 노 무 비 | H120: 재 료 비 | J120: 경 비 | L120: 비 고
F121: 단 가 | G121: 금 액 | H121: 단 가 | I121: 금 액 | J121: 단 가 | K121: 금 액
A122: 중급기술자 | C122: =(0.5*0)/K119 -> 0 | D122: 인 | E122: =G122+I122+K122 -> 0 | F122: 186890 | G122: =TRUNC($C122*F122) -> 0
A123: 보 인 | C123: =2/K119 -> 0.2 | D123: 인 | E123: =G123+I123+K123 -> 18867 | F123: 94338 | G123: =TRUNC($C123*F123) -> 18867 | J123: =J68 -> 0 | K123: =TRUNC(C123*J123) -> 0
A124: 안내문 | B124: stainless | C124: 1 | D124: 개 | E124: =G124+I124+K124 -> 0 | G124: =TRUNC($C124*F124) -> 0 | H124: =M124 -> 0 | I124: =TRUNC(C124*H124) -> 0
A125: 차량임차료 | B125: 소형 | C125: =1/K119 -> 0.1 | D125: 일 | E125: =G125+I125+K125 -> #REF! | G125: =TRUNC($C125*F125) -> 0 | J125: #REF! | K125: =TRUNC(C125*J125) -> #REF!
A126: 차량유류대 | B126: 경유 | C126: =1/K119 -> 0.1 | D126: 일 | E126: =G126+I126+K126 -> #REF! | G126: =TRUNC($C126*F126) -> 0 | J126: #REF! | K126: =TRUNC(C126*J126) -> #REF!
A130: 소 계 | E130: =+G130+I130+K130 -> #REF! | G130: =SUM(G122:G127) -> 18867 | I130: =SUM(I122:I127) -> 0 | K130: =SUM(K122:K127) -> #REF!
A132: 제 잡 비 | C132: 20 | D132: % | E132: =+G132+I132+K132 -> #REF! | F132: =+G130 -> 18867 | G132: =TRUNC($C132%*F132) -> 3773 | H132: =I130 -> 0 | I132: =TRUNC($C132%*H132) -> 0 | J132: =K130 -> #REF! | K132: =TRUNC($C132%*J132) -> #REF!
A135: ㅇ 조사내용
A137: - 시설사용여부확인
A138: - 지하수이용시설 안내문 내용 확인 및 부착
A139: - 시설물사진촬영 : 근, 원경 각 1장
A143: 합 계 | E143: =+G143+I143+K143 -> #REF! | G143: =G130+G132 -> 22640 | I143: =I130+I132 -> 0 | K143: =K130+K132 -> #REF!
A144: <제 3호표>
A145: 방치공 임시처리(공당)
A146: 일금 : | B146: =E171 -> 58030 | C146: 원 | K146: 20 | L146: 공/일
A147: 공 종 별 | B147: 재료또는치수 | C147: 원수 | D147: 단위 | E147: 총 액 | F147: 노 무 비 | H147: 재 료 비 | J147: 경 비 | L147: 비 고
F148: 단 가 | G148: 금 액 | H148: 단 가 | I148: 금 액 | J148: 단 가 | K148: 금 액
A149: 중급기술자 | C149: =1/K146 -> 0.05 | D149: 인 | E149: =G149+I149+K149 -> 14756 | F149: =F94 -> 295138 | G149: =TRUNC($C149*F149) -> 14756
A150: 보 인 | B150: 2인1조 | C150: =1/K146 -> 0.05 | D150: 인 | E150: =G150+I150+K150 -> 8603 | F150: =F68 -> 172068 | G150: =TRUNC($C150*F150) -> 8603
A151: 임시공덮개 | B151: PVC캡 | C151: 1 | D151: 개 | E151: =G151+I151+K151 -> 5000 | H151: 5000 | I151: =INT(C151*H151) -> 5000 | L151: 물가정보P723
A152: 표지판 | B152: 알루미늄푯말 | C152: 1 | D152: 개 | E152: =G152+I152+K152 -> 20000 | H152: 20000 | I152: =INT(C152*H152) -> 20000
A153: 차량운행비 | B153: 소형 | C153: =1/K146 -> 0.05 | D153: 일 | E153: =G153+I153+K153 -> 0 | G153: =TRUNC($C153*F153) -> 0 | J153: =J70 -> 0 | K153: =TRUNC(C153*J153) -> 0
A158: 소 계 | E158: =+G158+I158+K158 -> 48359 | G158: =SUM(G149:G154) -> 23359 | I158: =SUM(I149:I154) -> 25000 | K158: =SUM(K149:K154) -> 0
A160: 제 잡 비 | C160: 20 | D160: % | E160: =+G160+I160+K160 -> 9671 | F160: =+G158 -> 23359 | G160: =TRUNC($C160%*F160) -> 4671 | H160: =I158 -> 25000 | I160: =TRUNC($C160%*H160) -> 5000 | J160: =K158 -> 0 | K160: =TRUNC($C160%*J160) -> 0
G162: <임시덮개> | I162: <안내푯말>
A163: ㅇ 작업내용
A164: - 제원조사 : 구경, 심도, 수중모타, 전기시설, 양수장 조사
A165: - 오염물임시제거 : 시설물에 근접한 오염물 임시제거 또는 관계기관 신고
A166: - 임시덮개설치 : 오염물 유입/투기 방지를위한 덮개설치
A167: - 푯말제작 : 높이 1m지지대 + 표지판(21cm×15cm)
...

Sheet 단가(영향조사)
A1: 2026년
A3: 구 분 | B3: 단 가 | D3: 비 고
A4: 특급기술자 | B4: 373353 | D4: 2026년 엔지니어링노임단가-건설
A5: 고급기술자 | B5: 310884 | D5: 2026년 엔지니어링노임단가-건설
A6: 중급기술자 | B6: 295138 | D6: 2026년 엔지니어링노임단가-건설
A7: 초급기술자 | B7: 235459 | D7: 2026년 엔지니어링노임단가-건설
A8: 고급숙련기술자 | B8: 281075 | D8: 2026년 엔지니어링노임단가-건설
A9: 중급숙련기술자 | B9: 250087 | D9: 2026년 엔지니어링노임단가-건설
A10: 초급숙련기술자 | B10: 218142 | D10: 2026년 엔지니어링노임단가-건설
A11: 보 링 공 | B11: 232562 | D11: 건설업 시중노임 1014번('26. 1. 1.)
A12: 특별인부 | B12: 226122 | D12: 건설업 시중노임 1003번('26. 1. 1.)
A13: 보통인부 | B13: 172068 | D13: 건설업 시중노임 1002번('26. 1. 1.)
A14: 경유 | B14: =1597/1.1 -> 1451.8182 | D14: 한국석유공사(2026. 1. 15. 전국평균) 부가세제외
A15: 휘발유 | B15: =1703/1.1 -> 1548.1818 | D15: 한국석유공사(2026. 1. 15. 전국평균) 부가세제외
A16: 수질검사비(농업용) | B16: =INT(109400) -> 109400 | D16: 2026년 1월 현재, (보건환경연구원), 부가세 포함
A17: 무균채수병4L | B17: 1420 | D17: 무균채수병 기준가 기준
A18: 외업경비 | B18: 146560 | D18: 2025년 직원 인건비 및 경비내역 4급
A19: 차량운행(일당) | B19: =35000+10118 -> 45118 | D19: 총무계약-4002(2025.10.21)호. 나라장터 레드캡 투어 2026년 차량 계약금액 (쏘렌토(5인승 하이브리드)) 700,000원/20일=35,000원/일 일평균거리 100km(50km*왕복), 쏘렌토 하이브리드 복합연비인 15.3km/L 적용 2026. 1. 15. 유가 기준 1548원/L(VAT제외) 100/15.3*1548=10,118원 단가계약 35,000원+주유비 10,118원/일=35,000+10,118=45,118원/일
A20: 토너(B,R,C,Y4색) | B20: 1026000 | D20: 후지제록스 DocuCentre-V C2265 (4color), 물가자료 하 26년 1월 69P
A21: 제경비 | B21: 110 ∼ 120 | C21: %
A22: 기술료 | B22: 20 ∼ 40 | C22: %
A23: 제본비 | B23: 10000
A24: A4용지 | B24: =33000/5 -> 6600 | D24: A4(Double A, A4, 80g)(1박스 5권, 33,000원), 물가자료 하 26년 1월 52p

Sheet 단가(사후관리)
A1: 단 가 표
A2: 구 분 | B2: 규 격 | C2: 원수 | D2: 단위 | E2: 단가 | F2: 보험료제외 | G2: 비 고
A3: 산재보험 | B3: 요율 | D3: % | F3: 13.2 | G3: 보험요율 13.20% = 산재3.5% + 국민4.75% + 건강3.595% + 고용0.9% + 노인장기(건강보험의 12.81%) 0.4591%
A4: 특급기술자 | C4: 1 | D4: 인 | E4: ='단가(영향조사)'!B4 -> 373353 | F4: =INT(E4/(1+F$3/100)) -> 329817 | G4: 2026년 엔지니어링노임단가-건설
A5: 고급기술자 | C5: 1 | D5: 인 | E5: ='단가(영향조사)'!B5 -> 310884 | F5: =INT(E5/(1+F$3/100)) -> 274632 | G5: 2026년 엔지니어링노임단가-건설
A6: 중급기술자 | C6: 1 | D6: 인 | E6: ='단가(영향조사)'!B6 -> 295138 | F6: =INT(E6/(1+F$3/100)) -> 260722 | G6: 2026년 엔지니어링노임단가-건설
A7: 초급기술자 | C7: 1 | D7: 인 | E7: ='단가(영향조사)'!B7 -> 235459 | F7: =INT(E7/(1+F$3/100)) -> 208002 | G7: 2026년 엔지니어링노임단가-건설
A8: 중급숙련기술자 | C8: 1 | D8: 인 | E8: ='단가(영향조사)'!B9 -> 250087 | F8: =INT(E8/(1+F$3/100)) -> 220924 | G8: 2026년 엔지니어링노임단가-건설
A9: 초급숙련기술자 | E9: ='단가(영향조사)'!B10 -> 218142 | F9: =INT(E9/(1+F$3/100)) -> 192704 | G9: 2026년 엔지니어링노임단가-건설
A10: 기계설비공 | C10: 1 | D10: 인 | E10: 241698 | G10: 건설업 시중노임 1051번(2026.01.01.)
A11: 보링공 | C11: 1 | D11: 인 | E11: 232562 | G11: 건설업 시중노임 1014번(2026.01.01.)
A12: 특별인부 | C12: 1 | D12: 인 | E12: 226122 | G12: 건설업 시중노임 1003번(2026.01.01.)
A13: 보통인부 | C13: 1 | D13: 인 | E13: 172068 | G13: 건설업 시중노임 1002번(2026.01.01.)
A14: 계장공 | C14: 1 | D14: 인 | E14: 319449 | G14: 건설업 시중노임 1084번(2026.01.01.)
A15: 배관공 | C15: 1 | D15: 인 | E15: 247897 | G15: 건설업 시중노임 1039번(2026.01.01.)
A16: 비계공 | C16: 1 | D16: 인 | E16: 281939 | G16: 건설업 시중노임 1006번(2026.01.01.)
A17: 경유 | C17: 1 | D17: ℓ | E17: 1451.8182 | G17: 한국석유공사(2026. 1. 15. 전국평균) 부가세제외
A18: 휘발유 | C18: 1 | D18: ℓ | E18: 1548.1818 | G18: 한국석유공사(2026. 1. 15. 전국평균) 부가세제외
A19: 공압기손료 | B19: 상각비 | C19: 1 | D19: 일 | E19: =I51 -> 37496 | G19: 모래(㎥당) | H19: 33000 | I19: 2026년 종합물가정보 I p55 | J19: 구역화물운임 | K19: 운인(원) | L19: 24년 1월 구역화물 운임(한국농어촌공사, 5톤이하)
B20: 정비비 | C20: 1 | D20: 일 | E20: =J51 -> 20848 | G20: 시멘트(㎥당, 밀도1.5) | H20: 307500 | I20: 2026년 종합물가정보 I p58 | J20: 30km | K20: 117598
B21: 관리비 | C21: 1 | D21: 일 | E21: =K51 -> 27600 | J21: 40km | K21: 138915
A22: TV검층기손료 | B22: 상각비 | C22: 1 | D22: 시간 | E22: =I52 -> 8102 | J22: 50km | K22: 152576
B23: 정비비 | C23: 1 | D23: 시간 | E23: =J52 -> 10803 | J23: 60km | K23: 161371
B24: 관리비 | C24: 1 | D24: 시간 | E24: =K52 -> 6103 | J24: 70km | K24: 171289
A25: pe 파이프 | B25: 25mm | C25: 1 | D25: m | E25: 1000 | G25: 2026년 물가자료 상 1월 p786(수도용 폴리에틸렌파이프) | J25: 80km | K25: 180724
A26: 수질검사 | B26: 농업용 | C26: 1 | D26: 회 | E26: ='단가(영향조사)'!B16 -> 109400 | G26: 2026년 1월 현재, (보건환경연구원), 부가세 제외 | J26: 90km | K26: 189784
B27: 먹는물 | C27: 1 | D27: 회 | E27: =INT(267720) -> 267720 | G27: 2026년 1월 현재, (보건환경연구원), 부가세 제외 | J27: 100km | K27: 198127
A28: 스텐볼트너트 | E28: =1246+438.7 -> 1684.7 | G28: 2026년 물가자료 상 1월 p48(스테인리스 육각볼트) | J28: 30분당대기료 | K28: 5810
A29: 수중모터펌프(3HP_SJ40-3008) | B29: 3Hp | C29: 1 | D29: 개 | E29: 2032000 | G29: 2026년 물가자료 상 1월 p1356(심정용 수중모터펌프)
A30: 수중모터펌프(3HP_SJ40-5014) | B30: 5Hp | C30: 1 | D30: 개 | E30: 2912000 | G30: 2026년 물가자료 상 1월 p1356(심정용 수중모터펌프)
A31: 수중모터펌프(7.5HP_SJ40-7521) | B31: 7.5Hp | C31: 1 | D31: 개 | E31: 3424000 | G31: 2026년 물가자료 상 1월 p1356(심정용 수중모터펌프)
A32: 수도미터(MW-32R) | B32: 32m/m | C32: 1 | D32: 개 | E32: 140000 | G32: 2026년 물가자료 상 1월 p858(교체용)
A33: 수도미터(MW-40R) | B33: 40m/m | C33: 1 | D33: 개 | E33: 147000 | G33: 2026년 물가자료 상 1월 p858(교체용)
A34: 수도미터(MW-50R) | B34: 50m/m | C34: 1 | D34: 개 | E34: 250000 | G34: 2026년 물가자료 상 1월 p858(교체용)
A35: 수도미터(플랜지형) | B35: 50m/m | C35: 1 | D35: 개 | E35: 530000 | G35: 2026년 종합물가정보 I p785 (대형수도미터, 축류익차형)
A36: 지하수안내판 | B36: 스테인리스 | C36: 1 | D36: 식 | E36: 110000 | G36: 견적단가
I43: (VAT제외가격)
A44: 기종별 | B44: 단가적용율 | C44: 적용가격(원) | D44: 상각비계수 | E44: 정비비계수 | F44: 관리비계수 | G44: 참고 | H44: 가격($) | I44: 취득가격(원) | J44: 평균취득가격(원) | K44: 비 고
A45: 착정기 | B45: 1 | C45: =J45 -> 217809501 | D45: 1429 | E45: 1032 | F45: 759 | G45: 표준품셈P.252 | H45: =268435 -> 268435 | I45: =INT(H45*C47/1.1) -> 359995738 | J45: =INT((H45*(C47*1.1*10+0.9)/(2*10))) -> 217809501 | K45: R50기준
A46: 공압기 | B46: 1 | C46: =J46 -> 62500904 | D46: 750 | E46: 417 | F46: 552 | G46: 표준품셈P.244 | H46: =77028 -> 77028 | I46: =INT(H46*C47/1.1) -> 103301550 | J46: =INT((H46*(C47*1.1*10+0.9)/(2*10))) -> 62500904 | K46: XRVS466기준
A47: 환율(2026. 1. 14.) | C47: 1475.2 | H47: 수중TV검층기 | I47: =INT(16335000/1.1) -> 14850000 | J47: =INT((I47*(1.1*8+0.9)/(2*8))) -> 9002812
A49: 구 분 | B49: =C44 -> 적용가격(원) | C49: 내용시간 | D49: 연간표준가동시간 | E49: 내용년수 | F49: 상각비계수 | G49: 정비비계수 | H49: 관리비계수 | I49: 상각비(시간당) | J49: 정비비(시간당) | K49: 관리비(시간당)
A50: 공압기 | B50: =C46 -> 62500904 | C50: 12000 | D50: 1200 | E50: 10 | F50: 750 | G50: 417 | H50: 552 | I50: =INT(B50*F50/10000000) -> 4687 | J50: =INT(B50*G50/10000000) -> 2606 | K50: =INT(B50*H50/10000000) -> 3450
A51: 공압기1일 | I51: =INT(I50*8) -> 37496 | J51: =INT(J50*8) -> 20848 | K51: =INT(K50*8) -> 27600
A52: 수중TV카메라 | B52: =J47 -> 9002812 | C52: 8000 | D52: 1000 | E52: 8 | F52: 900 | G52: 1200 | H52: 678 | I52: =TRUNC(B52*F52/1000000) -> 8102 | J52: =TRUNC(B52*G52/1000000) -> 10803 | K52: =TRUNC(B52*H52/1000000) -> 6103
A53: 카메라1일 | I53: =INT(I52*8) -> 64816 | J53: =INT(J52*8) -> 86424 | K53: =INT(K52*8) -> 48824
V234: ='단가(사후관리)'!J52 -> 10803

Sheet 8. 사후관리 사업비  (2)
A1: 8. 사후관리 용역비 총괄표(단가)
A3: 구 분 | C3: 총 액 | D3: 직접인건비 | E3: 직접경비 | F3: 적 요
A4: =#REF! -> #REF! | C4: =SUM(D4:E4) -> #REF! | D4: =#REF! -> #REF! | E4: =#REF! -> #REF! | H4: 용역비 산출방식
A5: =#REF! -> #REF! | C5: =SUM(D5:E5) -> #REF! | D5: =#REF! -> #REF! | E5: =#REF! -> #REF! | H5: 엔지니어링사업대가의 기준 중
A6: =#REF! -> #REF! | C6: =SUM(D6:E6) -> #REF! | D6: =#REF! -> #REF! | E6: =#REF! -> #REF! | H6: 실비정액가산방식 적용
A7: =#REF! -> #REF! | C7: =SUM(D7:E7) -> #REF! | D7: =#REF! -> #REF! | E7: =#REF! -> #REF!
A8: =#REF! -> #REF! | C8: =SUM(D8:E8) -> #REF! | D8: =#REF! -> #REF! | E8: =#REF! -> #REF!
A9: =#REF! -> #REF! | C9: =SUM(D9:E9) -> #REF! | D9: =#REF! -> #REF! | E9: =#REF! -> #REF!
A10: =#REF! -> #REF! | C10: =SUM(D10:E10) -> #REF! | D10: =#REF! -> #REF! | E10: =#REF! -> #REF!
A12: 소 계 | C12: =SUM(D12:E12) -> #REF! | D12: =SUM(D4:D11) -> #REF! | E12: =SUM(E4:E11) -> #REF!
A13: 8. 제경비(직접인건비의 110~120%) | C13: =TRUNC(D12*G13,0) -> #REF! | F13: 직접인건비 * | G13: 1.1
A14: 9. 기술료((직접인건비+제경비)의 20~40%) | C14: =TRUNC((C13+D12)*G14,0)-14515 -> #REF! | F14: (직접인건비+제경비) * | G14: 0.2
A15: 10. 계 | C15: =C12+C13+C14 -> #REF!
A16: 11. 부 가 가 치 세 | C16: =INT(C15*0.1) -> #REF! | F16: 계 * | G16: 0.1
A17: 12. 합 계 | C17: =C15+C16 -> #REF! | G17: 19개소
B19: 공당 평균 금액 | C19: =C17/19 -> #REF!

Sheet 7. 영향조사 용역비 총괄표
A1: 7. 영향조사 용역비 총괄표
A3: 구 분 | C3: 총 액 | D3: 직접인건비 | E3: 직접경비 | F3: 적 요
A4: 1. 기존자료 수집 | C4: =SUM(D4:E4) -> 215394 | D4: ='7-1 영향조사 조사비명세서'!G6 -> 215394 | H4: 용역비 산출방식
A5: 2. 현지답사 | C5: =SUM(D5:E5) -> 299641 | D5: ='7-1 영향조사 조사비명세서'!G7 -> 299641 | H5: 엔지니어링사업대가의 기준 중
A6: 3. 대수성시험 | C6: =SUM(D6:E6) -> 2383173 | D6: ='7-1 영향조사 조사비명세서'!G8 -> 991054 | E6: ='7-1 영향조사 조사비명세서'!K8 -> 1392119 | H6: 실비정액가산방식 적용
A7: 4. 적정취수량 및 영향범위 산정 | C7: =SUM(D7:E7) -> 119114 | D7: ='7-1 영향조사 조사비명세서'!G9 -> 119114
A8: 5. 수질검사비 | C8: =SUM(D8:E8) -> 110685 | E8: ='7-1 영향조사 조사비명세서'!I10+'7-1 영향조사 조사비명세서'!K10 -> 110685
A9: 6. 보고서작성 | C9: =SUM(D9:E9) -> 354109 | D9: ='7-1 영향조사 조사비명세서'!G11 -> 284803 | E9: ='7-1 영향조사 조사비명세서'!I11+'7-1 영향조사 조사비명세서'!K11 -> 69306
A12: 소 계 | C12: =SUM(D12:E12) -> 3482116 | D12: =SUM(D4:D11) -> 1910006 | E12: =SUM(E4:E11) -> 1572110
A13: 8. 제경비(직접인건비의 110~120%) | C13: =TRUNC(D12*G13,0) -> 2101006 | F13: 직접인건비 * | G13: 1.1
A14: 9. 기술료((직접인건비+제경비)의 20~40%) | C14: =TRUNC((C13+D12)*G14,0)-544 -> 801658 | F14: (직접인건비+제경비) * | G14: 0.2
A15: 10. 계 | C15: =C12+C13+C14 -> 6384780
A16: 11. 부 가 가 치 세 | C16: =INT(C15*0.1) -> 638478 | F16: 계 * | G16: 0.1
A17: 12. 합 계 | C17: =C15+C16 -> 7023258 | G17: 19개소
B19: 공당 평균 금액 | C19: =C17/19 -> 369645.16

Sheet 7-1 영향조사 조사비명세서
A1: 7-1. 연장허가 지하수영향조사비 명세서(총괄) | M1: =#REF! -> #REF! | O1: 5. 지하수영향조사비 명세서
O2: 일금 : | P2: =+S25 -> 2816457 | Q2: 원
A3: 공종별 | B3: 재료또는치수 | C3: 원수 | D3: 단위 | E3: 총액 | F3: 직접인건비 | H3: 직접경비 | L3: 산출근거
F4: 인건비 | H4: 재료비 | J4: 경비 | O4: 공 종 별 | P4: 재료또는치수 | Q4: 원수 | R4: 단위 | S4: 총 액 | T4: 직 접 인 건 비 | V4: 직 접 경 비 | X4: 비 고
F5: 단가 | G5: 금액 | H5: 단가 | I5: 금액 | J5: 단가 | K5: 금액 | T5: 단 가 | U5: 금 액 | V5: 단 가 | W5: 금 액
A6: =A31 -> 기존자료 수집 | C6: 1 | D6: =D31 -> 지구 | E6: =SUM(G6,I6,K6) -> 215394 | F6: =G31 -> 215394 | G6: =TRUNC(C6*F6,0) -> 215394 | H6: =I31 -> 0 | I6: =TRUNC(C6*H6,0) -> 0 | J6: =K31 -> 0 | K6: =TRUNC(C6*J6,0) -> 0 | O6: 자료수집 및 현장답사 | Q6: 1 | R6: 지구 | S6: =+U6+W6 -> 538786 | T6: =U31 -> 259588 | U6: =TRUNC($Q6*T6) -> 259588 | V6: =W31 -> 279198 | W6: =TRUNC($Q6*V6) -> 279198
A7: =A32 -> 현지답사 | C7: =C6 -> 1 | D7: =D32 -> 지구 | E7: =SUM(G7,I7,K7) -> 299641 | F7: =G32 -> 299641 | G7: =TRUNC(C7*F7,0) -> 299641 | H7: =I32 -> 0 | I7: =TRUNC(C7*H7,0) -> 0 | J7: =K32 -> 0 | K7: =TRUNC(C7*J7,0) -> 0 | O7: 정천현황 및 오염원조사 | Q7: =Q6 -> 1 | R7: 지구 | S7: =+U7+W7 -> 298150 | T7: =U32 -> 143700 | U7: =TRUNC($Q7*T7) -> 143700 | V7: =W32 -> 154450 | W7: =TRUNC($Q7*V7) -> 154450
A8: =A33 -> 대수성시험 | C8: =C7 -> 1 | D8: =D33 -> 공 | E8: =SUM(G8,I8,K8) -> 2383173 | F8: =G33 -> 991054 | G8: =TRUNC(C8*F8,0) -> 991054 | H8: =I33 -> 0 | I8: =TRUNC(C8*H8,0) -> 0 | J8: =K33 -> 1392119 | K8: =TRUNC(C8*J8,0) -> 1392119 | O8: 연속 대수성시험 | Q8: =Q7 -> 1 | R8: 공 | S8: =+U8+W8 -> 769760 | T8: =U33 -> 139065 | U8: =TRUNC($Q8*T8) -> 139065 | V8: =W33 -> 630695 | W8: =TRUNC($Q8*V8) -> 630695
A9: =A34 -> 적정취수량 및 영향범위 산정 | C9: =C8 -> 1 | D9: =D34 -> 공 | E9: =SUM(G9,I9,K9) -> 119114 | F9: =G34 -> 119114 | G9: =TRUNC(C9*F9,0) -> 119114 | H9: =I34 -> 0 | I9: =TRUNC(C9*H9,0) -> 0 | J9: =K34 -> 0 | K9: =TRUNC(C9*J9,0) -> 0 | O9: 수위회복시험 | Q9: =Q8 -> 1 | R9: 공 | S9: =+U9+W9 -> 146581 | T9: =U34 -> 65346 | U9: =TRUNC($Q9*T9) -> 65346 | V9: =W34 -> 81235 | W9: =TRUNC($Q9*V9) -> 81235
A10: =A35 -> 수질검사비 | C10: =C9 -> 1 | D10: =D35 -> 회 | E10: =SUM(G10,I10,K10) -> 110685 | F10: =G35 -> 0 | G10: =TRUNC(C10*F10,0) -> 0 | H10: =I35 -> 1285 | I10: =TRUNC(C10*H10,0) -> 1285 | J10: =K35 -> 109400 | K10: =TRUNC(C10*J10,0) -> 109400 | O10: 수질검사비 | Q10: =Q9 -> 1 | R10: 회 | S10: =+U10+W10 -> 100455 | T10: =U35 -> 0 | U10: =TRUNC($Q10*T10) -> 0 | V10: =W35 -> 100455 | W10: =TRUNC($Q10*V10) -> 100455
A11: =A36 -> 보고서작성 | C11: =C10 -> 1 | D11: =D36 -> 지구 | E11: =SUM(G11,I11,K11) -> 354109 | F11: =G36 -> 284803 | G11: =TRUNC(C11*F11,0) -> 284803 | H11: =I36 -> 29306 | I11: =TRUNC(C11*H11,0) -> 29306 | J11: =K36 -> 40000 | K11: =TRUNC(C11*J11,0) -> 40000 | O11: 자료분석 및 보고서작성 | Q11: =Q10 -> 1 | R11: 지구 | S11: =+U11+W11 -> 962725 | T11: =U36 -> 417195 | U11: =TRUNC($Q11*T11) -> 417195 | V11: =W36 -> 545530 | W11: =TRUNC($Q11*V11) -> 545530
A12: =A37 -> 0 | E12: =SUM(G12,I12,K12) -> 0 | G12: =TRUNC(C12*F12,0) -> 0 | I12: =TRUNC(C12*H12,0) -> 0 | K12: =TRUNC(C12*J12,0) -> 0
G13: =TRUNC(C13*F13,0) -> 0 | I13: =TRUNC(C13*H13,0) -> 0 | K13: =TRUNC(C13*J13,0) -> 0
G14: =TRUNC(C14*F14,0) -> 0 | I14: =TRUNC(C14*H14,0) -> 0 | K14: =TRUNC(C14*J14,0) -> 0
G15: =TRUNC(C15*F15,0) -> 0 | I15: =TRUNC(C15*H15,0) -> 0 | K15: =TRUNC(C15*J15,0) -> 0
G16: =TRUNC(C16*F16,0) -> 0 | I16: =TRUNC(C16*H16,0) -> 0 | K16: =TRUNC(C16*J16,0) -> 0
G17: =TRUNC(C17*F17,0) -> 0 | I17: =TRUNC(C17*H17,0) -> 0 | K17: =TRUNC(C17*J17,0) -> 0
G18: =TRUNC(C18*F18,0) -> 0 | I18: =TRUNC(C18*H18,0) -> 0 | K18: =TRUNC(C18*J18,0) -> 0
E19: =SUM(G19,I19,K19) -> 0 | G19: =TRUNC(C19*F19,0) -> 0 | I19: =TRUNC(C19*H19,0) -> 0 | K19: =TRUNC(C19*J19,0) -> 0
E20: =SUM(G20,I20,K20) -> 0 | G20: =TRUNC(C20*F20,0) -> 0 | I20: =TRUNC(C20*H20,0) -> 0 | K20: =TRUNC(C20*J20,0) -> 0
E21: =SUM(G21,I21,K21) -> 0 | G21: =TRUNC(C21*F21,0) -> 0 | I21: =TRUNC(C21*H21,0) -> 0 | K21: =TRUNC(C21*J21,0) -> 0
E22: =SUM(G22,I22,K22) -> 0 | G22: =TRUNC(C22*F22,0) -> 0 | I22: =TRUNC(C22*H22,0) -> 0 | K22: =TRUNC(C22*J22,0) -> 0
E24: =SUM(G24,I24,K24) -> 0 | G24: =TRUNC(C24*F24,0) -> 0 | I24: =TRUNC(C24*H24,0) -> 0 | K24: =TRUNC(C24*J24,0) -> 0
E25: =SUBTOTAL(9,E6:E24) -> 3482116 | G25: =SUBTOTAL(9,G6:G24) -> 1910006 | I25: =SUBTOTAL(9,I6:I24) -> 30591 | K25: =SUBTOTAL(9,K6:K24) -> 1541519 | O25: 합 계 | S25: =SUM(S6:S24) -> 2816457 | U25: =SUM(U6:U24) -> 1024894 | W25: =SUM(W6:W24) -> 1791563
A26: 연장허가 지하수영향조사비 명세서(공당) | O26: 지하수영향조사비 명세서(공당)
O27: 일금 : | P27: =+S50 -> 2816457 | Q27: 원
A28: 공종별 | B28: 재료또는치수 | C28: 원수 | D28: 단위 | E28: 총액 | F28: 직접인건비 | H28: 직접경비 | L28: 산출근거 | O28: 공 종 별 | P28: 재료또는치수 | Q28: 원수 | R28: 단위 | S28: 총 액 | T28: 직 접 인 건 비 | V28: 직 접 경 비 | X28: 비 고
F29: 인건비 | H29: 재료비 | J29: 경비
F30: 단가 | G30: 금액 | H30: 단가 | I30: 금액 | J30: 단가 | K30: 금액 | T30: 단 가 | U30: 금 액 | V30: 단 가 | W30: 금 액
A31: =A51 -> 기존자료 수집 | C31: 1 | D31: 지구 | E31: =SUM(G31,I31,K31) -> 215394 | F31: =G75 -> 215394 | G31: =TRUNC(C31*F31,0) -> 215394 | H31: =I75 -> 0 | I31: =TRUNC(C31*H31,0) -> 0 | J31: =K75 -> 0 | K31: =TRUNC(C31*J31,0) -> 0 | L31: <제1호표> | O31: 자료수집 및 현장답사 | Q31: 1 | R31: 지구 | S31: =+U31+W31 -> 538786 | T31: =U58 -> 259588 | U31: =TRUNC($Q31*T31) -> 259588 | V31: =W58 -> 279198 | W31: =TRUNC($Q31*V31) -> 279198 | X31: <제 1호표>
A32: =A76 -> 현지답사 | C32: 1 | D32: 지구 | E32: =SUM(G32,I32,K32) -> 299641 | F32: =G100 -> 299641 | G32: =TRUNC(C32*F32,0) -> 299641 | H32: =I100 -> 0 | I32: =TRUNC(C32*H32,0) -> 0 | J32: =K100 -> 0 | K32: =TRUNC(C32*J32,0) -> 0 | L32: <제2호표> | O32: 정천현황 및 오염원조사 | Q32: 1 | R32: 지구 | S32: =+U32+W32 -> 298150 | T32: =U83 -> 143700 | U32: =TRUNC($Q32*T32) -> 143700 | V32: =W83 -> 154450 | W32: =TRUNC($Q32*V32) -> 154450 | X32: <제 2호표>
A33: =A101 -> 대수성시험 | C33: 1 | D33: 공 | E33: =SUM(G33,I33,K33) -> 2383173 | F33: =G125 -> 991054 | G33: =TRUNC(C33*F33,0) -> 991054 | H33: =I125 -> 0 | I33: =TRUNC(C33*H33,0) -> 0 | J33: =K125 -> 1392119 | K33: =TRUNC(C33*J33,0) -> 1392119 | L33: <제3호표> | O33: 연속 대수성시험 | Q33: 1 | R33: 공 | S33: =+U33+W33 -> 769760 | T33: =U160 -> 139065 | U33: =TRUNC($Q33*T33) -> 139065 | V33: =W160 -> 630695 | W33: =TRUNC($Q33*V33) -> 630695 | X33: <제 3호표>
A34: =A226 -> 적정취수량 및 영향범위 산정 | C34: 1 | D34: 공 | E34: =SUM(G34,I34,K34) -> 119114 | F34: =G250 -> 119114 | G34: =TRUNC(C34*F34,0) -> 119114 | H34: =I250 -> 0 | I34: =TRUNC(C34*H34,0) -> 0 | J34: =K250 -> 0 | K34: =TRUNC(C34*J34,0) -> 0 | L34: <제4호표> | O34: 수위회복시험 | Q34: 1 | R34: 공 | S34: =+U34+W34 -> 146581 | T34: =U185 -> 65346 | U34: =TRUNC($Q34*T34) -> 65346 | V34: =W185 -> 81235 | W34: =TRUNC($Q34*V34) -> 81235 | X34: <제 4호표>
A35: =A251 -> 수질검사비 | C35: 1 | D35: 회 | E35: =SUM(G35,I35,K35) -> 110685 | F35: =G275 -> 0 | G35: =TRUNC(C35*F35,0) -> 0 | H35: =I275 -> 1285 | I35: =TRUNC(C35*H35,0) -> 1285 | J35: =K275 -> 109400 | K35: =TRUNC(C35*J35,0) -> 109400 | L35: <제5호표> | O35: 수질검사비 | Q35: 1 | R35: 회 | S35: =+U35+W35 -> 100455 | T35: =U259 -> 0 | U35: =TRUNC($Q35*T35) -> 0 | V35: =W259 -> 100455 | W35: =TRUNC($Q35*V35) -> 100455 | X35: <제 5호표>
A36: =A276 -> 보고서작성 | C36: 1 | D36: 지구 | E36: =SUM(G36,I36,K36) -> 354109 | F36: =G300 -> 284803 | G36: =TRUNC(C36*F36,0) -> 284803 | H36: =I300 -> 29306 | I36: =TRUNC(C36*H36,0) -> 29306 | J36: =K300 -> 40000 | K36: =TRUNC(C36*J36,0) -> 40000 | L36: <제6호표> | O36: 자료분석 및 보고서작성 | Q36: 1 | R36: 지구 | S36: =+U36+W36 -> 962725 | T36: =U285 -> 417195 | U36: =TRUNC($Q36*T36) -> 417195 | V36: =W285 -> 545530 | W36: =TRUNC($Q36*V36) -> 545530 | X36: <제 6호표>
E37: =SUM(G37,I37,K37) -> 0 | G37: =TRUNC(C37*F37,0) -> 0 | I37: =TRUNC(C37*H37,0) -> 0 | K37: =TRUNC(C37*J37,0) -> 0
E38: =SUM(G38,I38,K38) -> 0 | G38: =TRUNC(C38*F38,0) -> 0 | I38: =TRUNC(C38*H38,0) -> 0 | K38: =TRUNC(C38*J38,0) -> 0
G39: =TRUNC(C39*F39,0) -> 0 | I39: =TRUNC(C39*H39,0) -> 0 | K39: =TRUNC(C39*J39,0) -> 0
G40: =TRUNC(C40*F40,0) -> 0 | I40: =TRUNC(C40*H40,0) -> 0 | K40: =TRUNC(C40*J40,0) -> 0
G41: =TRUNC(C41*F41,0) -> 0 | I41: =TRUNC(C41*H41,0) -> 0 | K41: =TRUNC(C41*J41,0) -> 0
G42: =TRUNC(C42*F42,0) -> 0 | I42: =TRUNC(C42*H42,0) -> 0 | K42: =TRUNC(C42*J42,0) -> 0
G43: =TRUNC(C43*F43,0) -> 0 | I43: =TRUNC(C43*H43,0) -> 0 | K43: =TRUNC(C43*J43,0) -> 0
G44: =TRUNC(C44*F44,0) -> 0 | I44: =TRUNC(C44*H44,0) -> 0 | K44: =TRUNC(C44*J44,0) -> 0
E45: =SUM(G45,I45,K45) -> 0 | G45: =TRUNC(C45*F45,0) -> 0 | I45: =TRUNC(C45*H45,0) -> 0 | K45: =TRUNC(C45*J45,0) -> 0
E46: =SUM(G46,I46,K46) -> 0 | G46: =TRUNC(C46*F46,0) -> 0 | I46: =TRUNC(C46*H46,0) -> 0 | K46: =TRUNC(C46*J46,0) -> 0
E47: =SUM(G47,I47,K47) -> 0 | G47: =TRUNC(C47*F47,0) -> 0 | I47: =TRUNC(C47*H47,0) -> 0 | K47: =TRUNC(C47*J47,0) -> 0
E49: =SUM(G49,I49,K49) -> 0 | G49: =TRUNC(C49*F49,0) -> 0 | I49: =TRUNC(C49*H49,0) -> 0 | K49: =TRUNC(C49*J49,0) -> 0
E50: =SUBTOTAL(9,E31:E49) -> 3482116 | G50: =SUBTOTAL(9,G31:G49) -> 1910006 | I50: =SUBTOTAL(9,I31:I49) -> 30591 | K50: =SUBTOTAL(9,K31:K49) -> 1541519 | O50: 합 계 | S50: =SUM(S31:S49) -> 2816457 | U50: =SUM(U31:U49) -> 1024894 | W50: =SUM(W31:W49) -> 1791563
A51: 기존자료 수집 | O51: 단 가 표
A52: <제1호표> | L52: =C59 -> 0.24431993 | O52: 공 종 별 | P52: 재료또는치수 | Q52: 원수 | R52: 단위 | S52: 총 액 | T52: 직 접 인 건 비 | V52: 직 접 경 비 | X52: 비 고
A53: 공종별 | B53: 재료또는치수 | C53: 원수 | D53: 단위 | E53: 총액 | F53: 직접인건비 | H53: 직접경비 | L53: 산출근거 | T53: 단 가 | U53: 금 액 | V53: 단 가 | W53: 금 액
F54: 인건비 | H54: 재료비 | J54: 경비
F55: 단가 | G55: 금액 | H55: 단가 | I55: 금액 | J55: 단가 | K55: 금액 | O55: <제 1호표> | P55: 자료수집 및 현장답사 (1지구) | W55: =INT(2.4*0.785*100)/100 -> 1.88 | X55: 일/지구
A56: <노무비> | E56: =SUM(G56,I56,K56) -> 0 | G56: =TRUNC(C56*F56,0) -> 0 | I56: =TRUNC(C56*H56,0) -> 0 | K56: =TRUNC(C56*J56,0) -> 0 | L56: 지하수 조사.계획 품셈(2020), P.12 | O56: 중급 기술자 | Q56: =TRUNC(W55*Z56,2) -> 1.12 | R56: 인 | S56: =+U56+W56 -> 259588 | T56: 231775 | U56: =TRUNC($Q56*T56) -> 259588 | X56: 1지구78.5ha | Z56: 0.6
A57: 특급기술자 | C57: =0.1*M57 -> 0.048863986 | D57: 인 | E57: =SUM(G57,I57,K57) -> 18243 | F57: =단가표!E4 -> 373353 | G57: =TRUNC(C57*F57,0) -> 18243 | I57: =TRUNC(C57*H57,0) -> 0 | K57: =TRUNC(C57*J57,0) -> 0 | M57: 0.48863986 | O57: 보 통 인 부 | Q57: =W55 -> 1.88 | R57: 인 | S57: =U57+W57 -> 279198 | V57: 148510 | W57: =TRUNC($Q57*V57) -> 279198 | X57: 2.4인/㎢
A58: 고급기술자 | C58: 0 | D58: 인 | E58: =SUM(G58,I58,K58) -> 0 | F58: =단가표!E5 -> 310884 | G58: =TRUNC(C58*F58,0) -> 0 | I58: =TRUNC(C58*H58,0) -> 0 | K58: =TRUNC(C58*J58,0) -> 0 | O58: 합 계 | S58: =SUM(S56:S57) -> 538786 | U58: =SUM(U56:U57) -> 259588 | W58: =SUM(W56:W57) -> 279198 | X58: <건설교통부>
A59: 중급기술자 | C59: =0.5*M57 -> 0.24431993 | D59: 인 | E59: =SUM(G59,I59,K59) -> 72108 | F59: =단가표!E6 -> 295138 | G59: =TRUNC(C59*F59,0) -> 72108 | I59: =TRUNC(C59*H59,0) -> 0 | K59: =TRUNC(C59*J59,0) -> 0
A60: 초급기술자 | C60: 0 | D60: 인 | E60: =SUM(G60,I60,K60) -> 0 | F60: =단가표!E7 -> 235459 | G60: =TRUNC(C60*F60,0) -> 0 | I60: =TRUNC(C60*H60,0) -> 0 | K60: =TRUNC(C60*J60,0) -> 0
A61: 중급숙련기술자 | C61: 0.5 | D61: 인 | E61: =SUM(G61,I61,K61) -> 125043 | F61: =단가표!E8 -> 250087 | G61: =TRUNC(C61*F61,0) -> 125043 | I61: =TRUNC(C61*H61,0) -> 0 | K61: =TRUNC(C61*J61,0) -> 0
A62: 초급숙련기술자 | C62: 0 | D62: 인 | E62: =SUM(G62,I62,K62) -> 0 | F62: =단가표!E9 -> 218142 | G62: =TRUNC(C62*F62,0) -> 0 | I62: =TRUNC(C62*H62,0) -> 0 | K62: =TRUNC(C62*J62,0) -> 0
A63: 보링공 | D63: 인 | E63: =SUM(G63,I63,K63) -> 0 | G63: =TRUNC(C63*F63,0) -> 0 | I63: =TRUNC(C63*H63,0) -> 0 | J63: =단가표!E12 -> 232562 | K63: =TRUNC(C63*J63,0) -> 0
A64: 특별인부 | D64: 인 | E64: =SUM(G64,I64,K64) -> 0 | G64: =TRUNC(C64*F64,0) -> 0 | I64: =TRUNC(C64*H64,0) -> 0 | J64: =단가표!E14 -> 226122 | K64: =TRUNC(C64*J64,0) -> 0
A65: 보통인부 | D65: 인 | E65: =SUM(G65,I65,K65) -> 0 | G65: =TRUNC(C65*F65,0) -> 0 | I65: =TRUNC(C65*H65,0) -> 0 | J65: =단가표!E15 -> 172068 | K65: =TRUNC(C65*J65,0) -> 0
A66: <재료비> | B66: <<기존자료 수집 및 현지답사 포함사항>> | G66: =TRUNC(C66*F66,0) -> 0 | I66: =TRUNC(C66*H66,0) -> 0 | K66: =TRUNC(C66*J66,0) -> 0 | L66: 지하수 조사.계획 품셈(2020), P.11
B67: 정천현황조사(현장실사) | G67: =TRUNC(C67*F67,0) -> 0 | I67: =TRUNC(C67*H67,0) -> 0 | K67: =TRUNC(C67*J67,0) -> 0
B68: 지하수 이용량 산정 | G68: =TRUNC(C68*F68,0) -> 0 | I68: =TRUNC(C68*H68,0) -> 0 | K68: =TRUNC(C68*J68,0) -> 0
B69: 하천현황조사 | G69: =TRUNC(C69*F69,0) -> 0 | I69: =TRUNC(C69*H69,0) -> 0 | K69: =TRUNC(C69*J69,0) -> 0
B70: 잠재오염원 조사 | G70: =TRUNC(C70*F70,0) -> 0 | I70: =TRUNC(C70*H70,0) -> 0 | K70: =TRUNC(C70*J70,0) -> 0
A71: <경비> | E71: =SUM(G71,I71,K71) -> 0 | G71: =TRUNC(C71*F71,0) -> 0 | I71: =TRUNC(C71*H71,0) -> 0 | K71: =TRUNC(C71*J71,0) -> 0
E72: =SUM(G72,I72,K72) -> 0 | G72: =TRUNC(C72*F72,0) -> 0 | I72: =TRUNC(C72*H72,0) -> 0 | K72: =TRUNC(C72*J72,0) -> 0
E73: =SUM(G73,I73,K73) -> 0 | G73: =TRUNC(C73*F73,0) -> 0 | I73: =TRUNC(C73*H73,0) -> 0 | K73: =TRUNC(C73*J73,0) -> 0
E74: =SUM(G74,I74,K74) -> 0 | G74: =TRUNC(C74*F74,0) -> 0 | I74: =TRUNC(C74*H74,0) -> 0 | K74: =TRUNC(C74*J74,0) -> 0
A75: 합 계 | E75: =SUBTOTAL(9,E56:E74) -> 215394 | G75: =SUBTOTAL(9,G56:G74) -> 215394 | I75: =SUBTOTAL(9,I56:I74) -> 0 | K75: =SUBTOTAL(9,K56:K74) -> 0
A76: 현지답사
A77: 2 | L77: =C84 -> 0.48863986
A78: 공종별 | B78: 재료또는치수 | C78: 원수 | D78: 단위 | E78: 총액 | F78: 직접인건비 | H78: 직접경비 | L78: 산출근거
F79: 인건비 | H79: 재료비 | J79: 경비
F80: 단가 | G80: 금액 | H80: 단가 | I80: 금액 | J80: 단가 | K80: 금액 | O80: <제 2호표> | P80: 정천현황 및 오염원조사 (1지구) | W80: =INT((78.5*2)/150*100)/100 -> 1.04 | X80: 일/지구
A81: <노무비> | E81: =SUM(G81,I81,K81) -> 0 | G81: =TRUNC(C81*F81,0) -> 0 | I81: =TRUNC(C81*H81,0) -> 0 | K81: =TRUNC(C81*J81,0) -> 0 | L81: 지하수 조사.계획 품셈(2020), P.12 | O81: 중급 기술자 | Q81: =TRUNC(W80*Z56,2) -> 0.62 | R81: 인 | S81: =+U81+W81 -> 143700 | T81: 231775 | U81: =TRUNC($Q81*T81) -> 143700 | X81: 1지구78.5ha
A82: 특급기술자 | C82: 0 | D82: 인 | E82: =SUM(G82,I82,K82) -> 0 | F82: =단가표!E4 -> 373353 | G82: =TRUNC(C82*F82,0) -> 0 | I82: =TRUNC(C82*H82,0) -> 0 | K82: =TRUNC(C82*J82,0) -> 0 | O82: 보 통 인 부 | Q82: =W80 -> 1.04 | R82: 인 | S82: =+U82+W82 -> 154450 | V82: 148510 | W82: =TRUNC($Q82*V82) -> 154450 | X82: 150ha/일
A83: 고급기술자 | C83: =0.2*$M$57 -> 0.097727972 | D83: 인 | E83: =SUM(G83,I83,K83) -> 30382 | F83: =단가표!E5 -> 310884 | G83: =TRUNC(C83*F83,0) -> 30382 | I83: =TRUNC(C83*H83,0) -> 0 | K83: =TRUNC(C83*J83,0) -> 0 | O83: 합 계 | S83: =SUM(S81:S82) -> 298150 | U83: =SUM(U81:U82) -> 143700 | W83: =SUM(W81:W82) -> 154450 | X83: <한국농촌공사>
A84: 중급기술자 | C84: =1*$M$57 -> 0.48863986 | D84: 인 | E84: =SUM(G84,I84,K84) -> 144216 | F84: =단가표!E6 -> 295138 | G84: =TRUNC(C84*F84,0) -> 144216 | I84: =TRUNC(C84*H84,0) -> 0 | K84: =TRUNC(C84*J84,0) -> 0
A85: 초급기술자 | C85: 0 | D85: 인 | E85: =SUM(G85,I85,K85) -> 0 | F85: =단가표!E7 -> 235459 | G85: =TRUNC(C85*F85,0) -> 0 | I85: =TRUNC(C85*H85,0) -> 0 | K85: =TRUNC(C85*J85,0) -> 0
A86: 중급숙련기술자 | C86: 0.5 | D86: 인 | E86: =SUM(G86,I86,K86) -> 125043 | F86: =단가표!E8 -> 250087 | G86: =TRUNC(C86*F86,0) -> 125043 | I86: =TRUNC(C86*H86,0) -> 0 | K86: =TRUNC(C86*J86,0) -> 0
A87: 초급숙련기술자 | C87: 0 | D87: 인 | E87: =SUM(G87,I87,K87) -> 0 | F87: =단가표!E9 -> 218142 | G87: =TRUNC(C87*F87,0) -> 0 | I87: =TRUNC(C87*H87,0) -> 0 | K87: =TRUNC(C87*J87,0) -> 0
A88: 보링공 | D88: 인 | E88: =SUM(G88,I88,K88) -> 0 | G88: =TRUNC(C88*F88,0) -> 0 | I88: =TRUNC(C88*H88,0) -> 0 | J88: =단가표!E12 -> 232562 | K88: =TRUNC(C88*J88,0) -> 0
A89: 특별인부 | D89: 인 | E89: =SUM(G89,I89,K89) -> 0 | G89: =TRUNC(C89*F89,0) -> 0 | I89: =TRUNC(C89*H89,0) -> 0 | J89: =단가표!E14 -> 226122 | K89: =TRUNC(C89*J89,0) -> 0
A90: 보통인부 | D90: 인 | E90: =SUM(G90,I90,K90) -> 0 | G90: =TRUNC(C90*F90,0) -> 0 | I90: =TRUNC(C90*H90,0) -> 0 | J90: =단가표!E15 -> 172068 | K90: =TRUNC(C90*J90,0) -> 0
A91: <재료비> | B91: <<기존자료 수집 및 현지답사 포함사항>> | G91: =TRUNC(C91*F91,0) -> 0 | I91: =TRUNC(C91*H91,0) -> 0 | K91: =TRUNC(C91*J91,0) -> 0 | L91: 지하수 조사.계획 품셈(2020), P.11
B92: 정천현황조사(현장실사) | G92: =TRUNC(C92*F92,0) -> 0 | I92: =TRUNC(C92*H92,0) -> 0 | K92: =TRUNC(C92*J92,0) -> 0
B93: 지하수 이용량 산정 | G93: =TRUNC(C93*F93,0) -> 0 | I93: =TRUNC(C93*H93,0) -> 0 | K93: =TRUNC(C93*J93,0) -> 0
B94: 하천현황조사 | G94: =TRUNC(C94*F94,0) -> 0 | I94: =TRUNC(C94*H94,0) -> 0 | K94: =TRUNC(C94*J94,0) -> 0
B95: 잠재오염원 조사 | G95: =TRUNC(C95*F95,0) -> 0 | I95: =TRUNC(C95*H95,0) -> 0 | K95: =TRUNC(C95*J95,0) -> 0
A96: <경비> | E96: =SUM(G96,I96,K96) -> 0 | G96: =TRUNC(C96*F96,0) -> 0 | I96: =TRUNC(C96*H96,0) -> 0 | K96: =TRUNC(C96*J96,0) -> 0
E97: =SUM(G97,I97,K97) -> 0 | G97: =TRUNC(C97*F97,0) -> 0 | I97: =TRUNC(C97*H97,0) -> 0 | K97: =TRUNC(C97*J97,0) -> 0
E98: =SUM(G98,I98,K98) -> 0 | G98: =TRUNC(C98*F98,0) -> 0 | I98: =TRUNC(C98*H98,0) -> 0 | K98: =TRUNC(C98*J98,0) -> 0
E99: =SUM(G99,I99,K99) -> 0 | G99: =TRUNC(C99*F99,0) -> 0 | I99: =TRUNC(C99*H99,0) -> 0 | K99: =TRUNC(C99*J99,0) -> 0
A100: 합 계 | E100: =SUBTOTAL(9,E81:E99) -> 299641 | G100: =SUBTOTAL(9,G81:G99) -> 299641 | I100: =SUBTOTAL(9,I81:I99) -> 0 | K100: =SUBTOTAL(9,K81:K99) -> 0
A101: 대수성시험
A102: 3 | L102: =SUM(L127,L152,L177,L202) -> 1.4829598
...

Sheet 8.사후관리 공종별단가표
M1: 8. 사후관리 공종별단가표
E2: 사후관리 | Q2: 공 종 별 단 가 표
M3: 일 금 : | N3: =Q25 -> 3412265 | P3: 원 | X3: 기 종 : 콤프레샤 21kg/cm2 이상
A4: 공종별 | B4: 규격 | C4: 원수 | D4: 단위 | E4: 총 액 | F4: 직접인건비 | H4: 직 접 경 비 | L4: 산출근거 | M4: 공종별 | N4: 규격 | O4: 원수 | P4: 단위 | Q4: 총 액 | R4: 직접인건비 | T4: 직접경비 | Z4: 산출근거
F5: 인건비 | H5: 재료비 | J5: 경비 | T5: 노무비 | V5: 재료비 | X5: 경비
F6: 단 가 | G6: 금 액 | H6: 단 가 | I6: 금 액 | R6: 단 가 | S6: 금 액 | T6: 단 가 | U6: 금 액 | V6: 단 가 | W6: 금 액 | X6: 단 가 | Y6: 금 액
A7: =E26 -> 시설현황조사 | C7: =#REF! -> #REF! | D7: 회 | E7: =SUM(G7,I7,K7) -> 0 | G7: =G50 -> 0 | I7: =I50 -> 0 | K7: =K50 -> 0 | M7: 기계기구 설치 | O7: 1 | P7: 회 | Q7: =S7+U7+W7+Y7 -> 482137 | R7: =S50 -> 0 | S7: =TRUNC($O7*R7) -> 0 | T7: =U50 -> 482137 | U7: =TRUNC($O7*T7) -> 482137 | V7: =W50 -> 0 | W7: =TRUNC($O7*V7) -> 0 | X7: =Y50 -> 0 | Y7: =TRUNC($O7*X7) -> 0 | Z7: 제1호표
A8: =E101 -> 공내청소 | C8: =C108 -> 993 | D8: m | E8: =SUM(G8,I8,K8) -> 16578576 | G8: =G125 -> 3717504 | I8: =I125 -> 4308192 | K8: =K125 -> 8552880 | M8: 양수설비 인양 및 상태점검 | O8: 1 | P8: 회 | Q8: =S8+W8+Y8+U8 -> 795568 | R8: =S75 -> 0 | S8: =TRUNC($O8*R8) -> 0 | T8: =U75 -> 748265 | U8: =TRUNC($O8*T8) -> 748265 | V8: =W75 -> 33464 | W8: =TRUNC($O8*V8) -> 33464 | X8: =Y75 -> 13839 | Y8: =TRUNC($O8*X8) -> 13839 | Z8: 제2호표 | AM8: 원수조정 | AN8: 0.676 | AO8: 59732200
A9: =E201 -> 시설정비 및 설치 | C9: 15 | D9: 회 | E9: =SUM(G9,I9,K9) -> 54126 | G9: =G225 -> 0 | I9: =I225 -> 54126 | K9: =K225 -> 0 | M9: 에어써징(고압압축 불기공법) | O9: 1 | P9: m | Q9: =S9+W9+Y9+U9 -> 18110 | R9: =S100 -> 3194 | S9: =TRUNC($O9*R9) -> 3194 | T9: =U100 -> 8331 | U9: =TRUNC($O9*T9) -> 8331 | V9: =W100 -> 5740 | W9: =TRUNC($O9*V9) -> 5740 | X9: =Y100 -> 845 | Y9: =TRUNC($O9*X9) -> 845 | Z9: 제3호표 | AN9: =#REF! -> #REF!
E10: =SUM(G10,I10,K10) -> 0 | G10: =TRUNC(C10*F10,0) -> 0 | I10: =TRUNC(C10*H10,0) -> 0 | K10: =TRUNC(C10*J10,0) -> 0 | M10: 양수설비 정비 및 재설치 | O10: 1 | P10: 회 | Q10: =S10+W10+Y10+U10 -> 1591139 | R10: =S125 -> 0 | S10: =TRUNC($O10*R10) -> 0 | T10: =U125 -> 1496531 | U10: =TRUNC($O10*T10) -> 1496531 | V10: =W125 -> 66930 | W10: =TRUNC($O10*V10) -> 66930 | X10: =Y125 -> 27678 | Y10: =TRUNC($O10*X10) -> 27678 | Z10: 제4호표 | AN10: 5360000
E11: =SUM(G11,I11,K11) -> 0 | G11: =TRUNC(C11*F11,0) -> 0 | I11: =TRUNC(C11*H11,0) -> 0 | K11: =TRUNC(C11*J11,0) -> 0 | M11: 수위측정관설치 | O11: 1 | P11: m | Q11: =S11+W11+Y11+U11 -> 1000 | R11: =S150 -> 0 | S11: =TRUNC($O11*R11) -> 0 | V11: =W150 -> 1000 | W11: =TRUNC($O11*V11) -> 1000 | X11: =Y150 -> 0 | Y11: =TRUNC($O11*X11) -> 0 | Z11: 제5호표 | AN11: =AN9-AN10 -> #REF!
E12: =SUM(G12,I12,K12) -> 0 | G12: =TRUNC(C12*F12,0) -> 0 | I12: =TRUNC(C12*H12,0) -> 0 | K12: =TRUNC(C12*J12,0) -> 0 | M12: 운반비 | O12: 1 | P12: 회 | Q12: =S12+W12+Y12+U12 -> 517610 | R12: =S175 -> 0 | S12: =TRUNC($O12*R12) -> 0 | V12: =W175 -> 0 | W12: =TRUNC($O12*V12) -> 0 | X12: =Y175 -> 517610 | Y12: =TRUNC($O12*X12) -> 517610 | Z12: 제6호표
E13: =SUM(G13,I13,K13) -> 0 | G13: =TRUNC(C13*F13,0) -> 0 | I13: =TRUNC(C13*H13,0) -> 0 | K13: =TRUNC(C13*J13,0) -> 0 | M13: 수중TV검층 | O13: 1 | P13: m | Q13: =S13+W13+Y13+U13 -> 6701 | R13: =S200 -> 3733 | S13: =TRUNC($O13*R13) -> 3733 | T13: =U225 -> 1528 | V13: =W225 -> 156 | W13: =TRUNC($O13*V13) -> 156 | X13: =Y200 -> 2812 | Y13: =TRUNC($O13*X13) -> 2812 | Z13: 제7호표
E14: =SUM(G14,I14,K14) -> 0 | G14: =TRUNC(C14*F14,0) -> 0 | I14: =TRUNC(C14*H14,0) -> 0 | K14: =TRUNC(C14*J14,0) -> 0
G15: =TRUNC(C15*F15,0) -> 0 | I15: =TRUNC(C15*H15,0) -> 0 | K15: =TRUNC(C15*J15,0) -> 0
E16: =SUM(G16,I16,K16) -> 0 | G16: =TRUNC(C16*F16,0) -> 0 | I16: =TRUNC(C16*H16,0) -> 0 | K16: =TRUNC(C16*J16,0) -> 0
E17: =SUM(G17,I17,K17) -> 0 | G17: =TRUNC(C17*F17,0) -> 0 | I17: =TRUNC(C17*H17,0) -> 0 | K17: =TRUNC(C17*J17,0) -> 0
E18: =SUM(G18,I18,K18) -> 0 | G18: =TRUNC(C18*F18,0) -> 0 | I18: =TRUNC(C18*H18,0) -> 0 | K18: =TRUNC(C18*J18,0) -> 0
E19: =SUM(G19,I19,K19) -> 0 | G19: =TRUNC(C19*F19,0) -> 0 | I19: =TRUNC(C19*H19,0) -> 0 | K19: =TRUNC(C19*J19,0) -> 0
E20: =SUM(G20,I20,K20) -> 0 | G20: =TRUNC(C20*F20,0) -> 0 | I20: =TRUNC(C20*H20,0) -> 0 | K20: =TRUNC(C20*J20,0) -> 0
E21: =SUM(G21,I21,K21) -> 0 | G21: =TRUNC(C21*F21,0) -> 0 | I21: =TRUNC(C21*H21,0) -> 0 | K21: =TRUNC(C21*J21,0) -> 0
E22: =SUM(G22,I22,K22) -> 0 | G22: =TRUNC(C22*F22,0) -> 0 | I22: =TRUNC(C22*H22,0) -> 0 | K22: =TRUNC(C22*J22,0) -> 0
E23: =SUM(G23,I23,K23) -> 0 | G23: =TRUNC(C23*F23,0) -> 0 | I23: =TRUNC(C23*H23,0) -> 0 | K23: =TRUNC(C23*J23,0) -> 0
E24: =SUM(G24,I24,K24) -> 0 | G24: =TRUNC(C24*F24,0) -> 0 | I24: =TRUNC(C24*H24,0) -> 0 | K24: =TRUNC(C24*J24,0) -> 0
A25: 합 계 | E25: =G25+I25+K25 -> 16632702 | G25: =SUM(G8:G24) -> 3717504 | I25: =SUM(I8:I24) -> 4362318 | K25: =SUM(K8:K24) -> 8552880 | M25: 합 계 | Q25: =S25+U25+W25+Y25 -> 3412265 | S25: =SUM(S7:S24) -> 6927 | U25: =SUM(U7:U24) -> 2735264 | W25: =SUM(W7:W24) -> 107290 | Y25: =SUM(Y7:Y24) -> 562784
E26: 시설현황조사 | M26: <제1호표> | Q26: 기계기구설치
A27: 1 | M27: 일 금 : | N27: =Q50 -> 0 | O27: 원 | Q27: ( 회 당 ) | W27: 1 | X27: 회/일
A28: 공종별 | B28: 규격 | C28: 원수 | D28: 단위 | E28: 총 액 | F28: 직접인건비 | H28: 직 접 경 비 | L28: 산출근거 | M28: 공종별 | N28: 규격 | O28: 원수 | P28: 단위 | Q28: 총 액 | R28: 직접인건비 | T28: 직접경비 | Z28: 산출근거
F29: 인건비 | H29: 재료비 | J29: 경비 | R29: 인건비 | T29: 노무비 | V29: 재료비 | X29: 경비
F30: 단 가 | G30: 금 액 | H30: 단 가 | I30: 금 액 | R30: 단 가 | S30: 금 액 | T30: 단 가 | U30: 금 액 | V30: 단 가 | W30: 금 액 | X30: 단 가 | Y30: 금 액
A31: =B77 -> 공내 촬영 | C31: 0 | D31: m | E31: =SUM(G31,I31,K31) -> 0 | F31: =G100 -> 3339 | G31: =TRUNC(C31*F31,0) -> 0 | H31: =I100 -> 110 | I31: =TRUNC(C31*H31,0) -> 0 | J31: =K100 -> 1812 | K31: =TRUNC(C31*J31,0) -> 0 | M31: 보링공 | O31: =INT(1/W$27)*AN8 -> 0.676 | P31: 인 | Q31: =S31+W31+Y31 -> 0 | T31: =단가표!E12 -> 232562 | U31: =TRUNC(O31*T31) -> 157211 | Y31: =TRUNC(O31*X31) -> 0
E32: =SUM(G32,I32,K32) -> 0 | G32: =TRUNC(C32*F32,0) -> 0 | I32: =TRUNC(C32*H32,0) -> 0 | K32: =TRUNC(C32*J32,0) -> 0 | M32: 특별인부 | O32: =INT(1/W$27)*AN8 -> 0.676 | P32: 인 | Q32: =S32+W32+Y32 -> 0 | T32: =단가표!E14 -> 226122 | U32: =TRUNC(O32*T32) -> 152858 | Y32: =TRUNC(O32*X32) -> 0
E33: =SUM(G33,I33,K33) -> 0 | G33: =TRUNC(C33*F33,0) -> 0 | I33: =TRUNC(C33*H33,0) -> 0 | K33: =TRUNC(C33*J33,0) -> 0 | M33: 보통인부 | O33: =INT(1/W$27) -> 1 | P33: 인 | Q33: =S33+W33+Y33 -> 0 | T33: =단가표!E15 -> 172068 | U33: =TRUNC(O33*T33) -> 172068 | Y33: =TRUNC(O33*X33) -> 0
E34: =SUM(G34,I34,K34) -> 0 | G34: =TRUNC(C34*F34,0) -> 0 | I34: =TRUNC(C34*H34,0) -> 0 | K34: =TRUNC(C34*J34,0) -> 0
E35: =SUM(G35,I35,K35) -> 0 | G35: =TRUNC(C35*F35,0) -> 0 | I35: =TRUNC(C35*H35,0) -> 0 | K35: =TRUNC(C35*J35,0) -> 0
E36: =SUM(G36,I36,K36) -> 0 | G36: =TRUNC(C36*F36,0) -> 0 | I36: =TRUNC(C36*H36,0) -> 0 | K36: =TRUNC(C36*J36,0) -> 0
E37: =SUM(G37,I37,K37) -> 0 | G37: =TRUNC(C37*F37,0) -> 0 | I37: =TRUNC(C37*H37,0) -> 0 | K37: =TRUNC(C37*J37,0) -> 0
G38: =TRUNC(C38*F38,0) -> 0 | I38: =TRUNC(C38*H38,0) -> 0 | K38: =TRUNC(C38*J38,0) -> 0
E39: =SUM(G39,I39,K39) -> 0 | G39: =TRUNC(C39*F39,0) -> 0 | I39: =TRUNC(C39*H39,0) -> 0 | K39: =TRUNC(C39*J39,0) -> 0
E40: =SUM(G40,I40,K40) -> 0 | G40: =TRUNC(C40*F40,0) -> 0 | I40: =TRUNC(C40*H40,0) -> 0 | K40: =TRUNC(C40*J40,0) -> 0
E41: =SUM(G41,I41,K41) -> 0 | G41: =TRUNC(C41*F41,0) -> 0 | I41: =TRUNC(C41*H41,0) -> 0 | K41: =TRUNC(C41*J41,0) -> 0
E42: =SUM(G42,I42,K42) -> 0 | G42: =TRUNC(C42*F42,0) -> 0 | I42: =TRUNC(C42%*H42,0) -> 0 | K42: =TRUNC(C42*J42,0) -> 0
E43: =SUM(G43,I43,K43) -> 0 | G43: =TRUNC(C43*F43,0) -> 0 | I43: =TRUNC(C43*H43,0) -> 0 | K43: =TRUNC(C43*J43,0) -> 0
E45: =SUM(G45,I45,K45) -> 0 | G45: =TRUNC(C45*F45,0) -> 0 | I45: =TRUNC(C45*H45,0) -> 0 | K45: =TRUNC(C45*J45,0) -> 0
E46: =SUM(G46,I46,K46) -> 0 | G46: =TRUNC(C46*F46,0) -> 0 | I46: =TRUNC(C46*H46,0) -> 0 | K46: =TRUNC(C46*J46,0) -> 0
E47: =SUM(G47,I47,K47) -> 0 | G47: =TRUNC(C47*F47,0) -> 0 | I47: =TRUNC(C47*H47,0) -> 0 | K47: =TRUNC(C47*J47,0) -> 0
E48: =SUM(G48,I48,K48) -> 0 | G48: =TRUNC(C48*F48,0) -> 0 | I48: =TRUNC(C48*H48,0) -> 0 | K48: =TRUNC(C48*J48,0) -> 0
E49: =SUM(G49,I49,K49) -> 0 | G49: =TRUNC(C49*F49,0) -> 0 | I49: =TRUNC(C49*H49,0) -> 0 | K49: =TRUNC(C49*J49,0) -> 0
A50: 합 계 | E50: =G50+I50+K50 -> 0 | G50: =SUM(G31:G49) -> 0 | I50: =SUM(I31:I49) -> 0 | K50: =SUM(K31:K49) -> 0 | M50: 합 계 | Q50: =S50+W50+Y50 -> 0 | S50: =SUM(S31:S49) -> 0 | U50: =SUM(U31:U49) -> 482137 | W50: =SUM(W31:W49) -> 0 | Y50: =SUM(Y31:Y49) -> 0
E51: 시설현황조사 | M51: <제2호표> | Q51: 양수설비 인양 및 상태점검
A52: 1-1 | B52: 양수설비 인양 및 상태점검 | F52: (재원조사 포함) | H52: (회당) | M52: 일 금 : | N52: =Q75 -> 47303 | O52: 원 | Q52: ( 회 당 ) | W52: 1 | X52: 회/일
A53: 공종별 | B53: 규격 | C53: 원수 | D53: 단위 | E53: 총 액 | F53: 직접인건비 | H53: 직 접 경 비 | L53: 산출근거 | M53: 공종별 | N53: 규격 | O53: 원수 | P53: 단위 | Q53: 총 액 | R53: 직접인건비 | T53: 직접경비 | Z53: 산출근거
F54: 인건비 | H54: 재료비 | J54: 경비 | R54: 인건비 | T54: 노무비 | V54: 재료비 | X54: 경비
F55: 단 가 | G55: 금 액 | H55: 단 가 | I55: 금 액 | R55: 단 가 | S55: 금 액 | T55: 단 가 | U55: 금 액 | V55: 단 가 | W55: 금 액 | X55: 단 가 | Y55: 금 액 | AG55: 지하수개발이용시설 공사 설계실무요령(2008) | AK55: P.136
A56: <노무비> | L56: 이용시설설계요령, P136 | M56: 수중펌프설치(5.5kw이하) | AA56: 적산정보(p796) | AH56: 회당
A57: 특급기술자 | D57: 인 | E57: =SUM(G57,I57,K57) -> 0 | F57: 308530 | G57: =TRUNC(C57*F57,0) -> 0 | I57: =TRUNC(C57*H57,0) -> 0 | K57: =TRUNC(C57*J57,0) -> 0 | M57: 기계설치공 | O57: =3*AN8 -> 2.028 | P57: 인 | Q57: =S57+W57+Y57 -> 0 | T57: =단가표!E10 -> 241698 | U57: =INT(O57*T57) -> 490163 | Y57: =INT(O57*X57) -> 0 | AA57: 5.기계설비 철거 및 이설공사의 Pump 및 Fan 류 | AG57: 기계설치공 | AH57: 3 | AI57: 인
A58: 고급기술자 | D58: 인 | E58: =SUM(G58,I58,K58) -> 0 | F58: 253985 | G58: =TRUNC(C58*F58,0) -> 0 | I58: =TRUNC(C58*H58,0) -> 0 | K58: =TRUNC(C58*J58,0) -> 0 | M58: 보통인부 | O58: =1.5 -> 1.5 | P58: 인 | Q58: =S58+W58+Y58 -> 0 | T58: =단가표!E15 -> 172068 | U58: =INT(O58*T58) -> 258102 | Y58: =INT(O58*X58) -> 0 | AA58: 6.펌프설치 [1]펌프설치의 4)우물속의 수중펌프 | AG58: 보통인부 | AH58: 1.5 | AI58: 인
A59: 중급기술자 | D59: 인 | E59: =SUM(G59,I59,K59) -> 0 | F59: 231775 | G59: =TRUNC(C59*F59,0) -> 0 | I59: =TRUNC(C59*H59,0) -> 0 | K59: =TRUNC(C59*J59,0) -> 0 | M59: 트럭탑제형크레인(5ton) | N59: 상각비 | O59: 3 | P59: 시간 | Q59: =S59+W59+Y59 -> 13839 | S59: =INT(O59*R59) -> 0 | W59: =INT(O59*V59) -> 0 | X59: =단가표!I42 -> 4613 | Y59: =INT(O59*X59) -> 13839 | AA59: 표준단가표(p.388) 건설기계사용료 | AG59: 크레인 | AH59: 3 | AI59: 시간
A60: 초급기술자 | D60: 인 | E60: =SUM(G60,I60,K60) -> 0 | F60: 182591 | G60: =TRUNC(C60*F60,0) -> 0 | I60: =TRUNC(C60*H60,0) -> 0 | K60: =TRUNC(C60*J60,0) -> 0 | M60: 유류대 | N60: 경유 | O60: 15.3 | P60: L | Q60: =S60+W60+Y60 -> 27887 | V60: =단가표!E17 -> 1822.7273 | W60: =INT(O60*V60) -> 27887
A61: 중급숙련기술자 | D61: 인 | E61: =SUM(G61,I61,K61) -> 0 | F61: 194638 | G61: =TRUNC(C61*F61,0) -> 0 | I61: =TRUNC(C61*H61,0) -> 0 | K61: =TRUNC(C61*J61,0) -> 0 | M61: 잡유 | O61: 0.2 | Q61: =S61+W61+Y61 -> 5577 | V61: =W60 -> 27887 | W61: =INT(O61*V61) -> 5577
A62: 기계설비공 | B62: 5.5kw 이하 | C62: 3 | D62: 인 | E62: =SUM(G62,I62,K62) -> 1091688 | F62: 169084 | G62: =TRUNC(C62*F62,0) -> 507252 | I62: =TRUNC(C62*H62,0) -> 0 | J62: 194812 | K62: =TRUNC(C62*J62,0) -> 584436 | AH62: 회당
A63: 보링공 | C63: 0 | D63: 인 | E63: =SUM(G63,I63,K63) -> 0 | G63: =TRUNC(C63*F63,0) -> 0 | I63: =TRUNC(C63*H63,0) -> 0 | J63: 193659 | K63: =TRUNC(C63*J63,0) -> 0 | AG63: =AG57 -> 기계설치공 | AH63: 6 | AI63: =AI57 -> 인 | AK63: P.137
A64: 특별인부 | D64: 인 | G64: =TRUNC(C64*F64,0) -> 0 | I64: =TRUNC(C64*H64,0) -> 0 | J64: 181293 | K64: =TRUNC(C64*J64,0) -> 0 | AG64: =AG58 -> 보통인부 | AH64: 3 | AI64: =AI58 -> 인
A65: 보통인부 | C65: 1.5 | D65: 인 | E65: =SUM(G65,I65,K65) -> 216721 | G65: =TRUNC(C65*F65,0) -> 0 | I65: =TRUNC(C65*H65,0) -> 0 | J65: 144481 | K65: =TRUNC(C65*J65,0) -> 216721 | AG65: =AG59 -> 크레인 | AH65: 6 | AI65: =AI59 -> 시간
A66: <재료비> | E66: =SUM(G66,I66,K66) -> 0 | G66: =TRUNC(C66*F66,0) -> 0 | I66: =TRUNC(C66*H66,0) -> 0 | K66: =TRUNC(C66*J66,0) -> 0
A67: 유류대 | B67: 경유 | C67: 15.3 | D67: L | E67: =SUM(G67,I67,K67) -> 20022 | G67: =TRUNC(C67*F67,0) -> 0 | H67: 1308.6727 | I67: =TRUNC(C67*H67,0) -> 20022 | K67: =TRUNC(C67*J67,0) -> 0
A68: 잡유 | C68: 20 | D68: % | E68: =SUM(G68,I68,K68) -> 4004 | G68: =TRUNC(C68*F68,0) -> 0 | H68: =I67 -> 20022 | I68: =TRUNC(C68%*H68,0) -> 4004 | K68: =TRUNC(C68*J68,0) -> 0
E69: =SUM(G69,I69,K69) -> 0 | G69: =TRUNC(C69*F69,0) -> 0 | I69: =TRUNC(C69*H69,0) -> 0 | K69: =TRUNC(C69*J69,0) -> 0
E70: =SUM(G70,I70,K70) -> 0 | G70: =TRUNC(C70*F70,0) -> 0 | I70: =TRUNC(C70*H70,0) -> 0 | K70: =TRUNC(C70*J70,0) -> 0
A71: <경비> | E71: =SUM(G71,I71,K71) -> 0 | G71: =TRUNC(C71*F71,0) -> 0 | I71: =TRUNC(C71*H71,0) -> 0 | K71: =TRUNC(C71*J71,0) -> 0
A72: 크레인 손료 | C72: 3 | D72: 시간 | E72: =SUM(G72,I72,K72) -> 0 | G72: =TRUNC(C72*F72,0) -> 0 | I72: =TRUNC(C72*H72,0) -> 0 | K72: =TRUNC(C72*J72,0) -> 0
E73: =SUM(G73,I73,K73) -> 0 | G73: =TRUNC(C73*F73,0) -> 0 | I73: =TRUNC(C73*H73,0) -> 0 | K73: =TRUNC(C73*J73,0) -> 0 | W73: =INT(V73*O73) -> 0
E74: =SUM(G74,I74,K74) -> 0 | G74: =TRUNC(C74*F74,0) -> 0 | I74: =TRUNC(C74*H74,0) -> 0 | K74: =TRUNC(C74*J74,0) -> 0
A75: 합 계 | E75: =G75+I75+K75 -> 1332435 | G75: =SUM(G57:G74) -> 507252 | I75: =SUM(I57:I74) -> 24026 | K75: =SUM(K57:K74) -> 801157 | M75: 합 계 | Q75: =S75+W75+Y75 -> 47303 | S75: =SUM(S56:S74) -> 0 | U75: =SUM(U56:U74) -> 748265 | W75: =SUM(W56:W74) -> 33464 | Y75: =SUM(Y56:Y74) -> 13839
E76: 시설현황조사 | M76: <제3호표> | Q76: 에 어 써 징
A77: 1-2 | B77: 공내 촬영 | H77: (m당) | M77: 일 금 : | N77: =Q100 -> 9779 | O77: 원 | Q77: ( M 당 ) | W77: 111.23 | X77: m/일 | Y77: 기종 :콤프레샤 21kg/cm2 이상
A78: 공종별 | B78: 규격 | C78: 원수 | D78: 단위 | E78: 총 액 | F78: 직접인건비 | H78: 직 접 경 비 | L78: 산출근거 | M78: 공종별 | N78: 규격 | O78: 원수 | P78: 단위 | Q78: 총 액 | R78: 직접인건비 | T78: 직접경비 | Z78: 산출근거 | AG78: 지하수개발이용시설 공사 설계실무요령(2008) | AK78: P.136
F79: 인건비 | H79: 재료비 | J79: 경비 | R79: 인건비 | T79: 노무비 | V79: 재료비 | X79: 경비
F80: 단 가 | G80: 금 액 | H80: 단 가 | I80: 금 액 | R80: 단 가 | S80: 금 액 | T80: 단 가 | U80: 금 액 | V80: 단 가 | W80: 금 액 | X80: 단 가 | Y80: 금 액 | AH80: m당
A81: <노무비> | L81: 이용시설설계요령, P136 | M81: 중급기술자 | O81: =0.005*AN8 -> 0.00338 | P81: 인 | Q81: =S81+W81+Y81 -> 997 | R81: =단가표!E6 -> 295138 | S81: =TRUNC(O81*R81) -> 997 | AA81: 표준품셈(p560) | AG81: 중급기술자 | AH81: =0.005 -> 0.005 | AI81: 인
A82: 특급기술자 | D82: 인 | E82: =SUM(G82,I82,K82) -> 0 | F82: 308530 | G82: =TRUNC(C82*F82,0) -> 0 | I82: =TRUNC(C82*H82,0) -> 0 | K82: =TRUNC(C82*J82,0) -> 0 | M82: 중급기능사 | O82: =0.013*AN8 -> 0.008788 | P82: 인 | Q82: =S82+W82+Y82 -> 2197 | R82: =단가표!E8 -> 250087 | S82: =TRUNC(O82*R82) -> 2197 | AA82: 조사비적산기준(p149) 에어써징(콤퓨레샤) | AG82: 중급기능사 | AH82: 0.013 | AI82: 인
A83: 고급기술자 | C83: 0.005 | D83: 인 | E83: =SUM(G83,I83,K83) -> 1269 | F83: 253985 | G83: =TRUNC(C83*F83,0) -> 1269 | I83: =TRUNC(C83*H83,0) -> 0 | K83: =TRUNC(C83*J83,0) -> 0 | M83: 보링공 | O83: =0.013*AN8 -> 0.008788 | P83: 인 | Q83: =S83+W83+Y83 -> 0 | T83: =단가표!E12 -> 232562 | U83: =TRUNC(O83*T83) -> 2043 | Y83: =TRUNC(O83*X83) -> 0 | AA83: 에어써징 : 고성능착정기 450hp이하 | AG83: 보링공 | AH83: 0.013 | AI83: 인
A84: 중급기술자 | C84: 0.005 | D84: 인 | E84: =SUM(G84,I84,K84) -> 1158 | F84: 231775 | G84: =TRUNC(C84*F84,0) -> 1158 | I84: =TRUNC(C84*H84,0) -> 0 | K84: =TRUNC(C84*J84,0) -> 0 | M84: 특별인부 | O84: =0.013*AN8 -> 0.008788 | P84: 인 | Q84: =S84+W84+Y84 -> 0 | T84: =단가표!E14 -> 226122 | U84: =TRUNC(O84*T84) -> 1987 | Y84: =TRUNC(O84*X84) -> 0 | AG84: 특인 | AH84: 0.013 | AI84: 인
A85: 초급기술자 | C85: 0.005 | D85: 인 | E85: =SUM(G85,I85,K85) -> 912 | F85: 182591 | G85: =TRUNC(C85*F85,0) -> 912 | I85: =TRUNC(C85*H85,0) -> 0 | K85: =TRUNC(C85*J85,0) -> 0 | M85: 보통인부 | O85: =0.025 -> 0.025 | P85: 인 | Q85: =S85+W85+Y85 -> 0 | T85: =단가표!E15 -> 172068 | U85: =TRUNC(O85*T85) -> 4301 | Y85: =TRUNC(O85*X85) -> 0 | AA85: 경유소모량 | AG85: 보인 | AH85: 0.025 | AI85: 인
A86: 중급숙련기술자 | D86: 인 | E86: =SUM(G86,I86,K86) -> 0 | F86: 194638 | G86: =TRUNC(C86*F86,0) -> 0 | I86: =TRUNC(C86*H86,0) -> 0 | K86: =TRUNC(C86*J86,0) -> 0 | M86: 경 유 | O86: 2.5 | P86: L | Q86: =S86+W86+Y86 -> 4556 | V86: =단가표!E17 -> 1822.7273 | W86: =TRUNC(O86*V86) -> 4556 | AA86: 콤프 XRVS-466시리즈, 383마력 적용
A87: 기계설비공 | D87: 인 | E87: =SUM(G87,I87,K87) -> 0 | F87: 169084 | G87: =TRUNC(C87*F87,0) -> 0 | I87: =TRUNC(C87*H87,0) -> 0 | J87: 194812 | K87: =TRUNC(C87*J87,0) -> 0 | M87: 잡 유 | O87: 0.2 | Q87: =S87+W87+Y87 -> 911 | V87: =W86 -> 4556 | W87: =TRUNC(V87*O87) -> 911 | AA87: 소모량산정=마력x0.24*5/6*0.75
A88: 보링공 | D88: 인 | E88: =SUM(G88,I88,K88) -> 0 | G88: =TRUNC(C88*F88,0) -> 0 | I88: =TRUNC(C88*H88,0) -> 0 | J88: 193659 | K88: =TRUNC(C88*J88,0) -> 0 | AA88: 시간당 57로 1일456적용
A89: 특별인부 | C89: 0.01 | D89: 인 | G89: =TRUNC(C89*F89,0) -> 0 | I89: =TRUNC(C89*H89,0) -> 0 | J89: 181293 | K89: =TRUNC(C89*J89,0) -> 1812 | M89: 공압기손료 | N89: 상각비 | O89: 0.08 | P89: 시간 | Q89: =S89+W89+Y89 -> 369 | X89: =단가표!I42 -> 4613 | Y89: =INT(O89*X89) -> 369 | AA89: =INT(383*0.24*5/6*0.75)*8 -> 456
A90: 보통인부 | D90: 인 | E90: =SUM(G90,I90,K90) -> 0 | G90: =TRUNC(C90*F90,0) -> 0 | I90: =TRUNC(C90*H90,0) -> 0 | J90: 144481 | K90: =TRUNC(C90*J90,0) -> 0 | N90: 정비비 | O90: 0.08 | P90: 시간 | Q90: =S90+W90+Y90 -> 205 | X90: =단가표!J42 -> 2565 | Y90: =INT(O90*X90) -> 205
A91: <재료비> | E91: =SUM(G91,I91,K91) -> 0 | G91: =TRUNC(C91*F91,0) -> 0 | I91: =TRUNC(C91*H91,0) -> 0 | K91: =TRUNC(C91*J91,0) -> 0 | N91: 관리비 | O91: 0.08 | P91: 시간 | Q91: =S91+W91+Y91 -> 271 | X91: =단가표!K42 -> 3395 | Y91: =INT(O91*X91) -> 271 | AA91: 공압기(이동식)
A92: 유류대 | B92: 휘발유 | C92: 0.075 | D92: L | E92: =SUM(G92,I92,K92) -> 110 | G92: =TRUNC(C92*F92,0) -> 0 | H92: 1474.0455 | I92: =TRUNC(C92*H92,0) -> 110 | K92: =TRUNC(C92*J92,0) -> 0 | M92: 소 계 | Q92: =S92+W92+Y92 -> 9506 | S92: =SUM(S81:S91) -> 3194 | W92: =SUM(W81:W91) -> 5467 | Y92: =SUM(Y81:Y91) -> 845 | AA92: 표준품셈(p363)
A93: DVD-R (VTR테이프) | C93: 0.005 | D93: 개 | E93: =SUM(G93,I93,K93) -> 0 | G93: =TRUNC(C93*F93,0) -> 0 | H93: =I92 -> 110 | I93: =TRUNC(C93*H93,0) -> 0 | K93: =TRUNC(C93*J93,0) -> 0
E94: =SUM(G94,I94,K94) -> 0 | G94: =TRUNC(C94*F94,0) -> 0 | I94: =TRUNC(C94*H94,0) -> 0 | K94: =TRUNC(C94*J94,0) -> 0
E95: =SUM(G95,I95,K95) -> 0 | G95: =TRUNC(C95*F95,0) -> 0 | I95: =TRUNC(C95*H95,0) -> 0 | K95: =TRUNC(C95*J95,0) -> 0
A96: <경비> | E96: =SUM(G96,I96,K96) -> 0 | G96: =TRUNC(C96*F96,0) -> 0 | I96: =TRUNC(C96*H96,0) -> 0 | K96: =TRUNC(C96*J96,0) -> 0
A97: 검층기 손료 | C97: 0.005 | D97: 일 | E97: =SUM(G97,I97,K97) -> 0 | G97: =TRUNC(C97*F97,0) -> 0 | I97: =TRUNC(C97*H97,0) -> 0 | K97: =TRUNC(C97*J97,0) -> 0
E98: =SUM(G98,I98,K98) -> 0 | G98: =TRUNC(C98*F98,0) -> 0 | I98: =TRUNC(C98*H98,0) -> 0 | K98: =TRUNC(C98*J98,0) -> 0 | M98: 잡재료 | O98: 0.05 | Q98: =S98+W98+Y98 -> 273 | V98: =W92 -> 5467 | W98: =INT(V98*O98) -> 273
E99: =SUM(G99,I99,K99) -> 0 | G99: =TRUNC(C99*F99,0) -> 0 | I99: =TRUNC(C99*H99,0) -> 0 | K99: =TRUNC(C99*J99,0) -> 0
A100: 합 계 | E100: =G100+I100+K100 -> 5261 | G100: =SUM(G82:G99) -> 3339 | I100: =SUM(I82:I99) -> 110 | K100: =SUM(K82:K99) -> 1812 | M100: 합 계 | Q100: =S100+W100+Y100 -> 9779 | S100: =SUM(S92:S99) -> 3194 | U100: =SUM(U81:U99) -> 8331 | W100: =SUM(W92:W99) -> 5740 | Y100: =SUM(Y92:Y99) -> 845
E101: 공내청소 | M101: <제4호표> | Q101: 양수설비 정비 및 재설치
...

Sheet 단가표
A1: 단 가 표
A2: 구 분 | B2: 규 격 | C2: 원수 | D2: 단위 | E2: 단가 | F2: 산재,고용,건강,연금제외 | G2: 비 고
A3: 산재보험 | B3: 요율 | C3: =단가입력!B4 -> 13.0741 | D3: % | F3: =C3 -> 13.0741
A4: 특급기술자 | C4: 1 | D4: 인 | E4: =단가입력!B5 -> 373353 | F4: =INT(E4/(1+F$3/100)) -> 330184 | G4: 엔지니어링노임단가-건설('26.1.1 적용)
A5: 고급기술자 | C5: 1 | D5: 인 | E5: =단가입력!B6 -> 310884 | F5: =INT(E5/(1+F$3/100)) -> 274938 | G5: =G4 -> 엔지니어링노임단가-건설('26.1.1 적용)
A6: 중급기술자 | C6: 1 | D6: 인 | E6: =단가입력!B7 -> 295138 | F6: =INT(E6/(1+F$3/100)) -> 261012 | G6: =G5 -> 엔지니어링노임단가-건설('26.1.1 적용)
A7: 초급기술자 | C7: 1 | D7: 인 | E7: =단가입력!B8 -> 235459 | F7: =INT(E7/(1+F$3/100)) -> 208234 | G7: =G6 -> 엔지니어링노임단가-건설('26.1.1 적용)
A8: 중급숙련기술자 | C8: 1 | D8: 인 | E8: =단가입력!B10 -> 250087 | F8: =INT(E8/(1+F$3/100)) -> 221170 | G8: =G7 -> 엔지니어링노임단가-건설('26.1.1 적용)
A9: 초급숙련기술자 | C9: 1 | D9: 인 | E9: =단가입력!B11 -> 218142 | F9: =INT(E9/(1+F$3/100)) -> 192919 | G9: =G8 -> 엔지니어링노임단가-건설('26.1.1 적용)
A10: 기계설비공 | C10: 1 | D10: 인 | E10: 241698 | G10: 건설업 시중노임 ('26.01.01)
A11: 용접공 | C11: 1 | D11: 인 | E11: 282536 | G11: 건설업 시중노임 ('26.01.01)
A12: 보링공 | C12: 1 | D12: 인 | E12: 232562 | G12: 건설업 시중노임 ('26.01.01)
A13: 배관공 | C13: 1 | D13: 인 | E13: 247897 | G13: 건설업 시중노임 ('26.01.01)
A14: 특별인부 | C14: 1 | D14: 인 | E14: 226122 | G14: 건설업 시중노임 ('26.01.01)
A15: 보통인부 | C15: 1 | D15: 인 | E15: 172068 | G15: 건설업 시중노임 ('26.01.01)
A16: 계장공 | C16: 1 | D16: 인 | E16: 319449 | G16: 건설업 시중노임 ('26.01.01)
A17: 경유 | C17: 1 | D17: ℓ | E17: =2005/1.1 -> 1822.7273 | G17: 한국석유공사 홈페이지('26.05.06)
A18: 휘발유 | C18: 1 | D18: ℓ | E18: =2011/1.1 -> 1828.1818 | G18: 한국석유공사 홈페이지('26.05.06)
A19: 공압기손료 | B19: 상각비 | C19: 1 | D19: 일 | E19: =I43 -> 36904 | J19: 구역화물운임 | K19: 운인(원)
B20: 정비비 | C20: 1 | D20: 일 | E20: =J43 -> 20520 | J20: 30km | K20: 111508 | L20: 5톤이하(2023 설계단가적용)
B21: 관리비 | C21: 1 | D21: 일 | E21: =K43 -> 27160 | J21: 40km | K21: 131842
A22: TV검층기손료 | B22: 상각비 | C22: 1 | D22: 시간 | E22: =I44 -> 8102 | J22: 50km | K22: 144404
B23: 정비비 | C23: 1 | D23: 시간 | E23: =J44 -> 10803 | J23: 60km | K23: 152000
B24: 관리비 | C24: 1 | D24: 시간 | E24: =K44 -> 6103 | J24: 70km | K24: 160829
A25: USB | B25: 16GB(USB 3.0/스틱형) | C25: 1 | D25: 개 | E25: 4700 | F25: 물가자료 2025.02. 1권, p.1320 | J25: 80km | K25: 169081
A26: 오링 | C26: 1 | D26: 개 | E26: 1600 | J26: 90km | K26: 177093
A27: 전구(100W) | C27: 1 | D27: 개 | E27: 1500 | J27: 100km | K27: 184351
A28: pe 파이프 | B28: 25mm | C28: 1 | D28: m | E28: 1000 | F28: 2026년 물가자료 상 1월 p786(수도용 폴리에틸렌파이프) | J28: 30분당대기료 | K28: 5810
A29: 수질검사 | B29: 농업용 | C29: 1 | D29: 회 | E29: 109400 | F29: 2026년 1월 현재, (보건환경연구원), 부가세 제외 | G29: 2026년 1월 현재, (보건환경연구원), 부가세 제외
B30: 먹는물 | C30: 1 | D30: 회 | E30: 267700 | F30: 2026년 1월 현재, (보건환경연구원), 부가세 제외 | G30: 2026년 1월 현재, (보건환경연구원), 부가세 제외
A31: 무균채수병 | C31: 1 | D31: 개 | E31: 1600
A32: 지하수용 50mm 기계식유량계 | C32: 1 | D32: 개 | E32: 250000 | F32: 2026년 물가자료 상 1월 p858(교체용)
A33: 안내 표지판 | C33: 1 | D33: 개 | E33: 110000 | F33: 견적단가
A34: 스텐볼트너트 | C34: 1 | D34: 개 | E34: =(1246+439) -> 1685 | F34: 2026년 물가자료 상 1월 p48(스테인리스 육각볼트)
I35: (VAT제외가격)
A36: 기종별 | B36: 단가적용율 | C36: 적용가격(원) | D36: 상각비계수 | E36: 정비비계수 | F36: 관리비계수 | G36: 참고 | H36: 가격($) | I36: 취득가격(원) | J36: 평균취득가격(원) | K36: 비 고
A37: 착정기 | B37: 1 | C37: =J37 -> 214384270 | D37: 1429 | E37: 1032 | F37: 759 | G37: 표준품셈(2026) p.260 | H37: =268435 -> 268435 | I37: =INT(H37*C39/1.1) -> 354334200 | J37: =INT((H37*(C39*1.1*10+0.9)/(2*10))) -> 214384270 | K37: R50기준
A38: 공압기 | B38: 1 | C38: =J38 -> 61518027 | D38: 750 | E38: 417 | F38: 552 | G38: 표준품셈(2026) p.252 | H38: =77028 -> 77028 | I38: =INT(H38*C39/1.1) -> 101676960 | J38: =INT((H38*(C39*1.1*10+0.9)/(2*10))) -> 61518027 | K38: XRVS466기준
A39: 환율(2026.5.6) | C39: 1452 | H39: 수중TV검층기 | I39: =INT(16335000/1.1) -> 14850000 | J39: =INT((I39*(1.1*8+0.9)/(2*8))) -> 9002812
A41: 구 분 | B41: =C36 -> 적용가격(원) | C41: 내용시간 | D41: 연간표준가동시간 | E41: 내용년수 | F41: 상각비계수 | G41: 정비비계수 | H41: 관리비계수 | I41: 상각비(시간당) | J41: 정비비(시간당) | K41: 관리비(시간당)
A42: 공압기 | B42: =C38 -> 61518027 | C42: 12000 | D42: 1200 | E42: 10 | F42: 750 | G42: 417 | H42: 552 | I42: =INT(B42*F42/10000000) -> 4613 | J42: =INT(B42*G42/10000000) -> 2565 | K42: =INT(B42*H42/10000000) -> 3395
A43: 공압기1일 | I43: =INT(I42*8) -> 36904 | J43: =INT(J42*8) -> 20520 | K43: =INT(K42*8) -> 27160
A44: 수중TV카메라 | B44: =J39 -> 9002812 | C44: 8000 | D44: 1000 | E44: 8 | F44: 900 | G44: 1200 | H44: 678 | I44: =TRUNC(B44*F44/1000000) -> 8102 | J44: =TRUNC(B44*G44/1000000) -> 10803 | K44: =TRUNC(B44*H44/1000000) -> 6103
A45: 카메라1일 | I45: =INT(I44*8) -> 64816 | J45: =INT(J44*8) -> 86424 | K45: =INT(K44*8) -> 48824

Sheet 단가입력
A1: 2024년 02월 현재
A2: *. 비용산출시 수중모터(수위관측관) 설치유무 확인 적용
A3: 구 분 | B3: 단 가 | C3: =단가표!F2 -> 산재,고용,건강,연금제외 | D3: 비 고
A4: 산재보험요율 | B4: =3.56+1.01+3.545+0.4591+4.5 -> 13.0741
A5: 특급기술자 | B5: 373353 | C5: =INT(B5/(1+B$4/100)) -> 330184 | D5: 엔지니어링노임단가-건설('26.1.1 적용)
A6: 고급기술자 | B6: 310884 | C6: =INT(B6/(1+B$4/100)) -> 274938 | D6: =D5 -> 엔지니어링노임단가-건설('26.1.1 적용)
A7: 중급기술자 | B7: 295138 | C7: =INT(B7/(1+B$4/100)) -> 261012 | D7: =D6 -> 엔지니어링노임단가-건설('26.1.1 적용)
A8: 초급기술자 | B8: 235459 | C8: =INT(B8/(1+B$4/100)) -> 208234 | D8: =D7 -> 엔지니어링노임단가-건설('26.1.1 적용)
A9: 고급숙련기술자 | B9: 281075 | C9: =INT(B9/(1+B$4/100)) -> 248575 | D9: =D8 -> 엔지니어링노임단가-건설('26.1.1 적용)
A10: 중급숙련기술자 | B10: 250087 | C10: =INT(B10/(1+B$4/100)) -> 221170 | D10: =D9 -> 엔지니어링노임단가-건설('26.1.1 적용)
A11: 초급숙련기술자 | B11: 218142 | C11: =INT(B11/(1+B$4/100)) -> 192919 | D11: =D10 -> 엔지니어링노임단가-건설('26.1.1 적용)
A12: 보 링 공 | B12: 232562 | D12: 건설업 시중노임 ('26.01.01)
A13: 특별인부 | B13: 226122 | D13: =D12 -> 건설업 시중노임 ('26.01.01)
A14: 보통인부 | B14: 172068 | D14: =D13 -> 건설업 시중노임 ('26.01.01)
A15: 휘발유 | B15: =2011/1.1 -> 1828.1818 | D15: 한국석유공사(2025.05.06.)
A16: 수질검사비(농업용) | B16: 109400 | D16: 2026년 기준(보건환경연구원)
A17: 외업경비 | B17: 148020 | D17: 2026년 직원 인건비 및 경비 내역 (4급 직원 기준)
A18: 렌트차량비(일당) | B18: 45118 | D18: 총무계약-4002(2025.10.21)호. 나라장터 레드캡 투어 2026년 차량 계약금액 (쏘렌토(5인승 하이브리드)) 700,000원/20일=35,000원/일 일평균거리 100km(50km*왕복), 쏘렌토 하이브리드 복합연비인 15.3km/L 적용 2026. 1. 15. 유가 기준 1548원/L(VAT제외) 100/15.3*1548=10,118원 단가계약 35,000원+주유비 10,118원/일=35,000+10,118=45,118원/일
A19: 유류대(1일) | D19: 유류대 산정방식 : (평균주행시간*시속/평균연비)*휘발유단가*사용일수
A20: 제경비 | B20: 110 ∼ 120 | C20: %
A21: 기술료 | B21: 20 ∼ 40 | C21: %

Sheet 주간주유소
A1: OIL RESEARCH & INFORMATION CENTER
A2: 2012년 2월 2주 한국석유공사 석유정보센터 www.opinet.co.kr | D2: 주간 국내유가 동향
A6: 1. 국내석유제품 평균가격(2012년 2월 2주, 기준일 '12.02.05 ~ '12.02.11)
A8: ■ 주간 주유소 평균가격
A10: 1) 폴사인별 가격
A11: (단위 : 원/ℓ, 전주대비)
A12: 구 분 | B12: 보통휘발유 | D12: 실내등유 | F12: 자동차용 경유
B13: 가 격 | C13: 등 락 | D13: 가 격 | E13: 등 락 | F13: 가 격 | G13: 등 락
A14: SK | B14: 1989.88 | C14: 1.98 | D14: 1396.57 | E14: -0.45 | F14: 1835.8 | G14: 0.45
A15: GS | B15: 1984.61 | C15: 0.35 | D15: 1402.08 | E15: -0.98 | F15: 1830.79 | G15: -1.07
A16: 현대 | B16: 1969.91 | C16: 1.68 | D16: 1377.9 | E16: 0.63 | F16: 1811.37 | G16: 0.29
A17: S-OIL | B17: 1970.35 | C17: 1.36 | D17: 1379.62 | E17: 1.06 | F17: 1813.76 | G17: 0.5
A18: 농협 | B18: 1953.09 | C18: 5.52 | D18: 1341.66 | E18: 3.19 | F18: 1804.21 | G18: 4.6
A19: 자가상표 | B19: 1952.55 | C19: 2.17 | D19: 1368.95 | E19: 2.53 | F19: 1784.11 | G19: 1.19
A20: 주 : 보일러등유 2011년 7월부터 폐지
A22: 2) 지역별 가격
A23: (단위 : 원/ℓ, 전주대비)
A24: 구 분 | B24: 보통휘발유 | D24: 실내등유 | F24: 자동차용 경유
B25: 가 격 | C25: 등 락 | D25: 가 격 | E25: 등 락 | F25: 가 격 | G25: 등 락
A26: 서 울 | B26: 2046.2 | C26: 0.13 | D26: 1509.09 | E26: -1.56 | F26: 1894.38 | G26: -3.43
A27: 부 산 | B27: 1976.69 | C27: 0.29 | D27: 1400.29 | E27: -0.26 | F27: 1821.78 | G27: -0.6
A28: 대 구 | B28: 1968.11 | C28: 1.84 | D28: 1386.95 | E28: -0.74 | F28: 1810.32 | G28: 0.87
A29: 인 천 | B29: 1988.52 | C29: 1.2 | D29: 1434.91 | E29: -0.86 | F29: 1820.05 | G29: -2.3
A30: 광 주 | B30: 1959.48 | C30: 2.9 | D30: 1388.72 | E30: 1.38 | F30: 1816.18 | G30: -1.09
A31: 대 전 | B31: 1988.74 | C31: 1.4 | D31: 1397.06 | E31: 0.55 | F31: 1825.5 | G31: 1.03
A32: 울 산 | B32: 1969.36 | C32: 1.19 | D32: 1404.12 | E32: -0.86 | F32: 1820.5 | G32: 0.57
A33: 경 기 | B33: 1987.38 | C33: 0.85 | D33: 1413.64 | E33: -0.11 | F33: 1825.1 | G33: -0.86
A34: 강 원 | B34: 1980.25 | C34: 1.7 | D34: 1358.93 | E34: -0.53 | F34: 1830.04 | G34: 0.59
A35: 충 북 | B35: 1976.6 | C35: 1.91 | D35: 1362.62 | E35: -0.74 | F35: 1816.29 | G35: 0.82
A36: 충 남 | B36: 1985.01 | C36: 1.77 | D36: 1362.23 | E36: 0.06 | F36: 1818.64 | G36: 1.23
A37: 전 북 | B37: 1968.13 | C37: 1.17 | D37: 1365.86 | E37: 1.29 | F37: 1817.88 | G37: 0.3
... A42: 전 국 | B42: 1979.28 | C42: 1.5 | D42: 1388.08 | E42: 0.15 | F42: 1823.48 | G42: 0.15
A43: 주 : 부가세 포함 가격임.

Sheet 엔지니어링손해보험
A1: 산출근거 : 엔지니어링 보험공제
A3: 1. 엔지니어링 손해배상보험ㆍ공제(지식경제부고시 제2011-59호, 2011.04.11, 의무가입)
A4: ㅇ보험ㆍ공제료 산정 : 1단계 공제료 + 2단계 공제료
A5: ㆍ1단계 공제료 : 순계약금액 x [기본요율 + {가산요율 x (표준담보기간초과일수/365}]
A6: ㆍ2단계 공제료 : 순계약금액 x 0.16%
A7: - 엔지니어링 손해배상보험공제 적용공종 : 분석(타당성 조사, 평가, 시험) - 농림부문-농림
A9: ㅇ공제가입금액(보상한도액) | V9: (단위 : % )
A10: 산업별 | C10: ① 5억원이하 | G10: ② 5억초과 ~ 10억이하 | K10: ③ 10억초과 ~ 20억이하 | O10: ④ 20억초과 ~ 30억이하 | S10: ⑤ 30억초과 ~ 50억이하
C11: 기본요율 | E11: 가산요율 | G11: 기본요율 | I11: 가산요율 | K11: 기본요율 | M11: 가산요율 | O11: 기본요율 | Q11: 가산요율 | S11: 기본요율 | U11: 가산요율
A12: 농림부문 | B12: 농림 | C12: 0.409 | E12: 0.066 | G12: 0.396 | I12: 0.064 | K12: 0.384 | M12: 0.061 | O12: 0.372 | Q12: 0.06 | S12: 0.36 | U12: 0.058
A14: ㅇ보험ㆍ공제료
A15: ㆍ1단계 공제료 : | D15: =#REF! -> #REF! | G15: X [ | H15: 0.409 | J15: % + | K15: 0.066 | M15: % X ( | N15: 0/365)}] | P15: = | Q15: =TRUNC(D15*(H15/100),-4) -> #REF! | T15: 원
C16: ② | D16: 0 | G16: X [ | H16: 0.396 | J16: % + | K16: 0.064 | M16: % X ( | N16: 0/365)}] | P16: = | Q16: 0 | T16: 원
C17: ③ | D17: 0 | G17: X [ | H17: 0.384 | J17: % + | K17: 0.061 | M17: % X ( | N17: 0/365)}] | P17: = | Q17: 0 | T17: 원
C18: ④ | D18: 0 | G18: X [ | H18: 0.372 | J18: % + | K18: 0.06 | M18: % X ( | N18: 0/365)}] | P18: = | Q18: 0 | T18: 원
C19: ⑤ | D19: 0 | G19: X [ | H19: 0.36 | J19: % + | K19: 0.058 | M19: % X ( | N19: 0/365)}] | P19: = | Q19: 0 | T19: 원
A20: ㆍ2단계 공제료 : | E20: =D15 -> #REF! | I20: X | K20: 0.16 | M20: % | Q20: =TRUNC(E20*(K20/100),-3) -> #REF! | T20: 원
A21: 총계 : | C21: =Q15+Q20 -> #REF! | G21: 원

Sheet 인용자료참고
A1: <제1호표>
A2: - 2015 국토교통부 지하수 업무수행 지침 214페이지
A3: 3.6.1. 신규로 연장허가를 신청하는 경우 1.기존자료 수집 및 현지답사에서
A4: 지침서 215페이지 산출근거1.기존자료 수집 및 현장답사에서 현장답사 부분만 적용
A5: <제2호표>
A6: - 우리공사 지하수영향조사 실무지침 33페이지
A7: 기초조사 지표지질조사 부분 300ha기준 적용
A8: 정천현황조사 및 잠재오염원조사 면적을 300ha를 기준으로 할때 각각 2일씩 이므로
A9: 조사반경이 500m 일때 조사면적은 78.5ha이므로 300:2=78.5:X, X=0.5233x2(정천1+오염원1)=1.0466..이므로 1.04적용
A10: <제3호표>
A11: - 공사 지하수개발 부분 일률에서 중급기술자, 중급기능사, 보통인부만 적용
A12: - 양수시간은 지하수법정 시간인 16시간 적용
... A20: - 산출근거2.적정취수량 분석 및 오염영향 평가에서 중급기술자의 60%만 적용
