Workbook
Name _: #N/A
Name _1: #N/A
Name _1._PANEL_BD.__LP___1: #REF!
Name _1.전기공사: #REF!
Name _1_0: '[1]PAD TR보호대기초'!#REF!
Name _10: #N/A
Name _10_3_0Criteria: #REF!
Name _108단: #REF!
Name _11: #N/A
Name _11_6: #REF!
Name _12: #N/A
Name _12_7: #REF!
Name _13: #N/A
Name _13_8: #REF!
Name _14: #N/A
Name _14_9: #REF!
Name _15: #N/A
Name _15A: #REF!
Name _16: #N/A
Name _17: #N/A
Name _17C_: #REF!
Name _18: #N/A
Name _19: #N/A
Name _1C_: #REF!
Name _2: #N/A
Name _20: #N/A
Name _21: #N/A
Name _22: #N/A
Name _23: #N/A
Name _24: #N/A
Name _24_3_0Crite: #REF!
Name _25: #N/A
Name _25_3_0Crite: #REF!
Name _25G_0Extr: #REF!
Name _26: #N/A
Name _26G_0Extr: #REF!
Name _27: #N/A
Name _27_3_0Criteria: #REF!
Name _27G_0Extract: #REF!
Name _28: #N/A
Name _28_3_0Criteria: #REF!
Name _28G_0Extract: #REF!
Name _29: #N/A
Name _3: #N/A
Name _3_1._총투자사업비: #REF!
Name _3_5: #REF!
Name _30: #N/A
Name _31: #N/A
Name _32: #N/A
Name _33: #N/A
Name _34: #N/A
Name _35: #N/A
Name _36: #N/A
Name _37: #N/A
Name _38: #N/A
Name _39: #N/A
Name _4: #N/A
Name _4_1._에너지사용현황: #REF!
Name _4_3._에너지절약을_위한_개선안: #REF!
Name _40: #N/A

Sheet 원가
A1: 원 가 계 산 서
A3: 공사명: | C3: 등촌초 외 9교 태양광 모니터링 선로 포설 공사 | E3: 공사기간: 1개월미만
A4: 비 목 | C4: 구 분 | D4: 금 액 | E4: 구 성 비
B5: 재 료 비 | C5: 직 접 재 료 비
C6: 간 접 재 료 비
C7: ( 소 계 )
A8: 순 | B8: 노 무 비 | C8: 직 접 노 무 비
C9: 간 접 노 무 비 | E9: (직접 노무비) * 17.5 %
C10: ( 소 계 )
C11: 산 재 보 험 료 | E11: (노무비) * 3.56 %
C12: 고 용 보 험 료 | E12: (노무비) * 1.01 %
A13: 공 | C13: 기 타 경 비 | E13: (재료+노무) * 5 %
B14: 경 | C14: 석 면 분 담 금 | E14: (노무비) * 0.006%
C15: 임금채권부담금 | E15: (노무비) * 0.09%
A18: 사
B22: 비
A23: 비
C25: ( 소 계 )
B26: ( 순 공 사 비 계 )
A27: 일 반 관 리 비 | E27: (재료+노무+경비) * 8 %
A28: 이 윤 | E28: (노무+경비+일반관리비) * 15 %
A29: ( 총 원 가 )
A30: 부 가 가 치 세
A35: ( 총 계 )

Sheet 총괄표
A1: 총줄수-> | B1: 81 | C1: 2.0 | D1: [ 등촌초 외 9교 태양광 모니터링 선로 포설 공사 ] | AA1: 연속견적가로형식
A2: 번호 | B2: 공종코드 | C2: … | D2: 공 종 명 | E2: 규격 | F2: 단위 | G2: 수량 | H2: 재료비 | J2: 노무비 | M2: 경비 | P2: 계 | Q2: 비고
H3: 단가 | I3: 금액 | J3: 수량 | K3: 단가 | L3: 금액 | M3: 단가 | N3: 금액 | O3: 단가
B4: 001 | D4: 1. 통합모니터링 통신선로 포설 공사 | F4: 식 | G4: 1 | H4: =내역서!I28 -> 0 | I4: =G4*H4 -> 0 | K4: =내역서!L28 -> 0 | L4: =SUM(K4*G4) -> 0 | M4: =내역서!N28 -> 0 | N4: =G4*M4 -> 0 | P4: =SUM(I4,L4,N4) -> 0
B6: 002 | H6: =내역서!I14 -> 0 | I6: =G6*H6 -> 0 | K6: =내역서!L14 -> 0 | L6: =G6*K6 -> 0 | N6: =G6*M6 -> 0 | P6: =SUM(I6,L6,N6) -> 0
H7: =내역서!I20 -> 0 | I7: =G7*H7 -> 0 | L7: =G7*K7 -> 0 | N7: =G7*M7 -> 0 | P7: =SUM(I7,L7,N7) -> 0
I9: =G9*H9 -> 0 | L9: =G9*K9 -> 0 | N9: =G9*M9 -> 0 | P9: =SUM(I9,L9,N9) -> 0
I10: =G10*H10 -> 0 | L10: =G10*K10 -> 0 | N10: =G10*M10 -> 0 | P10: =SUM(I10,L10,N10) -> 0
I11: =G11*H11 -> 0 | L11: =G11*K11 -> 0 | N11: =G11*M11 -> 0 | P11: =SUM(I11,L11,N11) -> 0
I12: =G12*H12 -> 0 | L12: =G12*K12 -> 0 | N12: =G12*M12 -> 0 | P12: =SUM(I12,L12,N12) -> 0
I13: =G13*H13 -> 0 | L13: =G13*K13 -> 0 | N13: =G13*M13 -> 0 | P13: =SUM(I13,L13,N13) -> 0
I14: =G14*H14 -> 0 | L14: =G14*K14 -> 0 | N14: =G14*M14 -> 0 | P14: =SUM(I14,L14,N14) -> 0
I15: =G15*H15 -> 0 | L15: =G15*K15 -> 0 | N15: =G15*M15 -> 0 | P15: =SUM(I15,L15,N15) -> 0
I16: =G16*H16 -> 0 | L16: =G16*K16 -> 0 | N16: =G16*M16 -> 0 | P16: =SUM(I16,L16,N16) -> 0
I17: =G17*H17 -> 0 | L17: =G17*K17 -> 0 | N17: =G17*M17 -> 0 | P17: =SUM(I17,L17,N17) -> 0
I18: =G18*H18 -> 0 | L18: =G18*K18 -> 0 | N18: =G18*M18 -> 0 | P18: =SUM(I18,L18,N18) -> 0
I19: =G19*H19 -> 0 | L19: =G19*K19 -> 0 | N19: =G19*M19 -> 0 | P19: =SUM(I19,L19,N19) -> 0
I20: =G20*H20 -> 0 | L20: =G20*K20 -> 0 | N20: =G20*M20 -> 0 | P20: =SUM(I20,L20,N20) -> 0
... I22: =G22*H22 -> 0 | L22: =G22*K22 -> 0 | N22: =G22*M22 -> 0 | P22: =SUM(I22,L22,N22) -> 0
C23: Total | D23: ( 합 계 ) | I23: =TRUNC(SUM(I4:I22)) -> 0 | L23: =TRUNC(SUM(L4:L22)) -> 0 | N23: =TRUNC(SUM(N4:N22)) -> 0 | P23: =TRUNC(SUM(P4:P22)) -> 0

Sheet 내역서
A1: 총줄수-> | B1: 237 | C1: 2.0 | D1: [ 등촌초 외 9교 태양광 모니터링 선로 포설 공사 ] | V1: 노임 계산 정보 | Z1: 부속재 및 손료
A2: 번호 | B2: 공종코드 | C2: 코드 | D2: 명 칭 | E2: 규 격 | F2: 단위 | G2: 수량 | H2: 재료비 | J2: 노무비 | M2: 경비 | P2: 계 | Q2: 비고 | V2: 노임계 | W2: 전체(%) | X2: 공종별(%) | Y2: 노임 소수 | Z2: CD배관재 | AA2: 일반배관재 | AB2: 소모재 | AC2: 자재계 | AD2: 노임계
H3: 단가 | I3: 금액 | J3: 수량 | K3: 단가 | L3: 금액 | M3: 단가 | N3: 금액 | O3: 단가 | AC3: =IF(옵션!$C$11 =0, "1", 옵션!$C$11) -> 1 | AD3: =IF(옵션!$C$12 =0, "1", 옵션!$C$12) -> 1
B4: 공종줄 | D4: 1. 통합모니터링 통신선로 포설 공사
D5: UTP 케이블 | E5: UTP Cable Cat.6 4Pr | F5: m | G5: 1000
D6: 1종금속제가요전선관 | E6: 22mm 일반-비방수 | F6: m | G6: 651
D7: 소 계
D28: ( 합 계 )
A30: 59753097003 | B30: 00101 | C30: 3913170610035665 | D30: 합성수지제 가요전선관 | E30: CD-난연성 22㎜ | F30: m | G30: 52 | H30: =#REF! -> #REF! | J30: 6 | K30: =#REF! -> #REF! | L30: =TRUNC(G30*K30) -> #REF! | M30: =#REF! -> #REF! | N30: =TRUNC(G30*M30) -> #REF! | P30: =SUM(I30,L30,N30) -> #REF! | Q30: 철거자재 | Z30: =#REF! -> #REF! | AB30: =G30*H30 -> #REF!
A31: 59753767011 | B31: 00101 | C31: 3912130810035750 | D31: 아우트렛박스 | E31: 8각 54㎜ | F31: 개 | G31: 3 | I31: =TRUNC(G31*H31) -> 0 | J31: 1 | K31: =#REF! -> #REF! | L31: =TRUNC(G31*K31) -> #REF! | M31: =#REF! -> #REF! | N31: =TRUNC(G31*M31) -> #REF! | P31: =SUM(I31,L31,N31) -> #REF! | Q31: 철거자재
A32: 59753777102 | B32: 00101 | C32: 3912130610035778 | D32: 스위치박스 | E32: 1 개용 54 mm | F32: 개 | G32: 5 | I32: =TRUNC(G32*H32) -> 0 | J32: 46 | K32: =#REF! -> #REF! | L32: =TRUNC(G32*K32) -> #REF! | M32: =#REF! -> #REF! | N32: =TRUNC(G32*M32) -> #REF! | P32: =SUM(I32,L32,N32) -> #REF! | Q32: 철거자재
A33: MM300040393 | B33: 00101 | C33: 3913171220171728 | D33: PVC MOLD | E33: 사각 대 | F33: m | G33: 12 | I33: =TRUNC(G33*H33) -> 0 | J33: 30 | K33: =#REF! -> #REF! | L33: =TRUNC(G33*K33) -> #REF! | M33: =#REF! -> #REF! | N33: =TRUNC(G33*M33) -> #REF! | P33: =SUM(I33,L33,N33) -> #REF! | Q33: 철거자재
A34: MM481669624 | B34: 00101 | C34: 2612162922076727 | D34: 450/750V 내열비닐절연전선 | E34: HFIX 1.78mm(2.5㎟) | F34: m | G34: 66 | H34: =#REF! -> #REF! | J34: 66 | K34: =#REF! -> #REF! | L34: =TRUNC(G34*K34) -> #REF! | M34: =#REF! -> #REF! | N34: =TRUNC(G34*M34) -> #REF! | P34: =SUM(I34,L34,N34) -> #REF! | Q34: 철거자재 | AB34: =G34*H34 -> #REF!
A35: E1450667003 | B35: 00101 | C35: 2612162922076728 | D35: 450/750V 내열비닐절연전선 | E35: HFIX 2.25mm(4㎟) | F35: m | G35: 246 | H35: =#REF! -> #REF! | J35: 246 | K35: =#REF! -> #REF! | L35: =TRUNC(G35*K35) -> #REF! | M35: =#REF! -> #REF! | N35: =TRUNC(G35*M35) -> #REF! | P35: =SUM(I35,L35,N35) -> #REF! | Q35: 철거자재 | AB35: =G35*H35 -> #REF!
A36: E1450927203 | B36: 00101 | C36: 2612152420683697 | D36: 접지용비닐절연전선(F-GV) | E36: 6㎟ | F36: m | G36: 65 | H36: =#REF! -> #REF! | J36: 1 | K36: =#REF! -> #REF! | L36: =TRUNC(G36*K36) -> #REF! | M36: =#REF! -> #REF! | N36: =TRUNC(G36*M36) -> #REF! | P36: =SUM(I36,L36,N36) -> #REF! | Q36: 철거자재 | AB36: =G36*H36 -> #REF!
A37: E1450287523 | B37: 00101 | C37: 2612162920683904 | D37: 폴리에틸렌 난연케이블 | E37: 0.6/1kv F-CV 2C×6㎟ | F37: m | G37: 20 | H37: =#REF! -> #REF! | J37: 1 | K37: =#REF! -> #REF! | L37: =TRUNC(G37*K37) -> #REF! | M37: =#REF! -> #REF! | N37: =TRUNC(G37*M37) -> #REF! | P37: =SUM(I37,L37,N37) -> #REF! | Q37: 철거자재 | AB37: =G37*H37 -> #REF!
A38: E1450287563 | B38: 00101 | C38: 2612162920683945 | D38: 폴리에틸렌 난연케이블 | E38: 0.6/1kv F-CV 4C×6㎟ | F38: m | G38: 65 | H38: =#REF! -> #REF! | J38: 1 | K38: =#REF! -> #REF! | L38: =TRUNC(G38*K38) -> #REF! | M38: =#REF! -> #REF! | N38: =TRUNC(G38*M38) -> #REF! | P38: =SUM(I38,L38,N38) -> #REF! | Q38: 철거자재 | AB38: =G38*H38 -> #REF!
A39: 59301517004 | B39: 00101 | C39: 3912998720170520 | D39: 매입스위치 | E39: 250V 1로2구 | F39: 개 | G39: 4 | I39: =TRUNC(G39*H39) -> 0 | J39: 1 | K39: =#REF! -> #REF! | L39: =TRUNC(G39*K39) -> #REF! | M39: =#REF! -> #REF! | N39: =TRUNC(G39*M39) -> #REF! | P39: =SUM(I39,L39,N39) -> #REF! | Q39: 철거자재
A40: 59350317206 | B40: 00101 | C40: 3912140620170850 | D40: 콘센트 | E40: 매입-접지형, 250V 2구 | F40: 개 | G40: 12 | I40: =TRUNC(G40*H40) -> 0 | J40: 85 | K40: =#REF! -> #REF! | L40: =TRUNC(G40*K40) -> #REF! | M40: =#REF! -> #REF! | N40: =TRUNC(G40*M40) -> #REF! | P40: =SUM(I40,L40,N40) -> #REF! | Q40: 철거자재
A41: MM300010803 | B41: 00101 | C41: 3912110220186197 | D41: 세대분전반 PVC | E41: 1p 2w 5cct | F41: 면 | G41: 1 | I41: =TRUNC(G41*H41) -> 0 | J41: 1 | K41: =#REF! -> #REF! | L41: =TRUNC(G41*K41) -> #REF! | M41: =#REF! -> #REF! | N41: =TRUNC(G41*M41) -> #REF! | P41: =SUM(I41,L41,N41) -> #REF! | Q41: 철거자재
A42: MM972667686 | B42: 00101 | C42: 391115ZZ701Z0006 | D42: 조명기구 | E42: LED 50W | F42: 개 | G42: 12 | I42: =TRUNC(G42*H42) -> 0 | J42: 4 | K42: =#REF! -> #REF! | L42: =TRUNC(G42*K42) -> #REF! | M42: =#REF! -> #REF! | N42: =TRUNC(G42*M42) -> #REF! | P42: =SUM(I42,L42,N42) -> #REF! | Q42: 철거자재
A43: MM975699940 | B43: 00101 | C43: 391115ZZ701Z0008 | D43: 조명기구 | E43: 펜던트,LED30W | F43: 개 | G43: 4 | I43: =TRUNC(G43*H43) -> 0 | J43: 5 | K43: =#REF! -> #REF! | L43: =TRUNC(G43*K43) -> #REF! | M43: =#REF! -> #REF! | N43: =TRUNC(G43*M43) -> #REF! | P43: =SUM(I43,L43,N43) -> #REF! | Q43: 철거자재
A44: A0100000000 | B44: 00101 | C44: RENT000000000003 | D44: [ 소모 잡자재 ] | E44: 전선, 전선관의 2 % | F44: 식 | G44: 1 | H44: =IF(TRUNC((AC44+AB44)/$AC$3)*$AC$3-AC44 <0, AB44, TRUNC((AC44+AB44)/$AC$3)*$AC$3-AC44) -> #REF! | I44: =H44 -> #REF! | J44: 1 | L44: =TRUNC(G44*K44) -> 0 | N44: =TRUNC(G44*M44) -> 0 | P44: =SUM(I44,L44,N44) -> #REF! | Y44: 노임계 | AB44: =TRUNC(TRUNC(SUM(AB4:AB43))*옵션!$B$33/100) -> #REF! | AC44: =TRUNC(SUM(I4:I43))+TRUNC(SUM(N4:N43)) -> #REF!
A45: 56900017016 | B45: 00101 | C45: L001010101000075 | D45: 노 무 비 | E45: 내선전공 | F45: 인 | G45: =#REF! -> #REF! | H45: =#REF! -> #REF! | I45: =TRUNC(G45*H45) -> #REF! | J45: =#REF! -> #REF! | K45: =#REF! -> #REF! | L45: =TRUNC(G45*K45) -> #REF! | M45: =#REF! -> #REF! | N45: =TRUNC(G45*M45) -> #REF! | P45: =SUM(I45,L45,N45) -> #REF! | AD45: =L45 -> #REF!
A46: 56900017076 | B46: 00101 | C46: L001010101000078 | D46: 노 무 비 | E46: 저압케이블전공 | F46: 인 | G46: =#REF! -> #REF! | H46: =#REF! -> #REF! | I46: =TRUNC(G46*H46) -> #REF! | J46: =#REF! -> #REF! | K46: =#REF! -> #REF! | L46: =TRUNC(G46*K46) -> #REF! | M46: =#REF! -> #REF! | N46: =TRUNC(G46*M46) -> #REF! | P46: =SUM(I46,L46,N46) -> #REF! | AD46: =L46 -> #REF!
A47: A0300000000 | B47: 00101 | C47: RENT000000000006 | D47: [ 공 구 손 료 ] | E47: 노무비의 3 % | F47: 식 | G47: 1 | H47: =IF(TRUNC((AC48+AB48)/$AD$3)*$AD$3-AC48 <0, AB48, TRUNC((AC48+AB48)/$AD$3)*$AD$3-AC48) -> #REF! | I47: =H47 -> #REF! | J47: 1 | L47: =TRUNC(G47*K47) -> 0 | N47: =TRUNC(G47*M47) -> 0 | P47: =SUM(I47,L47,N47) -> #REF!
I48: =TRUNC(G48*H48) -> 0 | L48: =TRUNC(G48*K48) -> 0 | N48: =TRUNC(G48*M48) -> 0 | P48: =SUM(I48,L48,N48) -> 0 | AB48: =TRUNC(AD48*옵션!$B$36/100) -> #REF! | AC48: =TRUNC(SUM(L4:L46)) -> #REF! | AD48: =TRUNC(SUM(AD4:AD47)) -> #REF!
I49: =TRUNC(G49*H49) -> 0 | L49: =TRUNC(G49*K49) -> 0 | N49: =TRUNC(G49*M49) -> 0 | P49: =SUM(I49,L49,N49) -> 0
I50: =TRUNC(G50*H50) -> 0 | L50: =TRUNC(G50*K50) -> 0 | N50: =TRUNC(G50*M50) -> 0 | P50: =SUM(I50,L50,N50) -> 0
I51: =TRUNC(G51*H51) -> 0 | L51: =TRUNC(G51*K51) -> 0 | N51: =TRUNC(G51*M51) -> 0 | P51: =SUM(I51,L51,N51) -> 0
I52: =TRUNC(G52*H52) -> 0 | L52: =TRUNC(G52*K52) -> 0 | N52: =TRUNC(G52*M52) -> 0 | P52: =SUM(I52,L52,N52) -> 0
B53: 합계줄 | D53: ( 합 계 ) | I53: =TRUNC(SUM(I4:I52)) -> #REF! | L53: =TRUNC(SUM(L4:L52)) -> #REF! | N53: =TRUNC(SUM(N4:N52)) -> #REF! | P53: =TRUNC(SUM(P4:P52)) -> #REF!
B54: 공종줄 | D54: 1.철거공사::1-2.기타전기공사
A55: MM432071853 | B55: 00102 | C55: 3913170610035664 | D55: 합성수지제 가요전선관 | E55: CD-난연성 16㎜ | F55: m | G55: 36 | H55: =#REF! -> #REF! | J55: 4 | K55: =#REF! -> #REF! | L55: =TRUNC(G55*K55) -> #REF! | M55: =#REF! -> #REF! | N55: =TRUNC(G55*M55) -> #REF! | P55: =SUM(I55,L55,N55) -> #REF! | Q55: 철거자재 | Z55: =#REF! -> #REF! | AB55: =G55*H55 -> #REF!
A56: 59753017025 | B56: 00102 | C56: 3913170620174424 | D56: 1종금속제가요전선관 | E56: 28 mm 일반-방수 | F56: m | G56: 22 | H56: =#REF! -> #REF! | J56: 1 | K56: =#REF! -> #REF! | L56: =TRUNC(G56*K56) -> #REF! | M56: =#REF! -> #REF! | N56: =TRUNC(G56*M56) -> #REF! | P56: =SUM(I56,L56,N56) -> #REF! | Q56: 철거자재 | AB56: =G56*H56 -> #REF!
A57: 59753767011 | B57: 00102 | C57: 3912130810035750 | D57: 아우트렛박스 | E57: 8각 54㎜ | F57: 개 | G57: 3 | I57: =TRUNC(G57*H57) -> 0 | J57: 1 | K57: =#REF! -> #REF! | L57: =TRUNC(G57*K57) -> #REF! | M57: =#REF! -> #REF! | N57: =TRUNC(G57*M57) -> #REF! | P57: =SUM(I57,L57,N57) -> #REF! | Q57: 철거자재
A58: 59753777102 | B58: 00102 | C58: 3912130610035778 | D58: 스위치박스 | E58: 1 개용 54 mm | F58: 개 | G58: 4 | I58: =TRUNC(G58*H58) -> 0 | J58: 19 | K58: =#REF! -> #REF! | L58: =TRUNC(G58*K58) -> #REF! | M58: =#REF! -> #REF! | N58: =TRUNC(G58*M58) -> #REF! | P58: =SUM(I58,L58,N58) -> #REF! | Q58: 철거자재
A59: MM300040393 | B59: 00102 | C59: 3913171220171728 | D59: PVC MOLD | E59: 사각 대 | F59: m | G59: 16 | I59: =TRUNC(G59*H59) -> 0 | J59: 137 | K59: =#REF! -> #REF! | L59: =TRUNC(G59*K59) -> #REF! | M59: =#REF! -> #REF! | N59: =TRUNC(G59*M59) -> #REF! | P59: =SUM(I59,L59,N59) -> #REF! | Q59: 철거자재
A60: 61454127541 | B60: 00102 | C60: 2612160621650577 | D60: 고발포동축케이블 | E60: 삼중차폐, 5C-HFBT | F60: m | G60: 22 | H60: =#REF! -> #REF! | J60: 251 | K60: =#REF! -> #REF! | L60: =TRUNC(G60*K60) -> #REF! | M60: =#REF! -> #REF! | N60: =TRUNC(G60*M60) -> #REF! | P60: =SUM(I60,L60,N60) -> #REF! | Q60: 철거자재 | AB60: =G60*H60 -> #REF!
A61: MM362692755 | B61: 00102 | C61: 2612160921650751 | D61: UTP 케이블 | E61: Cat.5E 0.5mm 4P | F61: m | G61: 98 | H61: =#REF! -> #REF! | J61: 98 | K61: =#REF! -> #REF! | L61: =TRUNC(G61*K61) -> #REF! | M61: =#REF! -> #REF! | N61: =TRUNC(G61*M61) -> #REF! | P61: =SUM(I61,L61,N61) -> #REF! | Q61: 철거자재 | AB61: =G61*H61 -> #REF!
...

Sheet 옵션
B1: 재료비 | C1: 노무비 | D1: 경비 | F1: 계
A2: 총 급 액 | B2: =총괄표!I23 -> 0 | C2: =총괄표!L23 -> 0 | D2: =총괄표!N23 -> 0 | F2: =SUM(B2,C2,D2) -> 0
A3: 관급 자재비 | F3: =SUM(B3,C3,D3) -> 0 | H3: 금액조정이 안되나요?
H6: 이지테크에서 변환할 때 2번 옵션을 지정하여 다시 해보세요
H9: 시트를 삭제할 때 에러가 뜨면 1번 옵션으로 하면 됩니다.
B10: 적용율(%) | C10: 끝자리 | D10: 적용율(%)/100 | E10: 일위대가소수
A11: 전체자재 적용율(%)(공종/일위대가) | B11: 100 | C11: 1 | D11: =$B$11/100 -> 1
A12: 전체노임 적용율(%)(공종) | B12: 100 | C12: 1 | D12: =$B$12/100 -> 1 | E12: 2 | H12: 2번 옵션으로 변환했을 때에는 결과값이 다를 수 있습니다.
A13: 전체노임 적용율(%)(일위대가) | B13: 100 | C13: 1 | D13: =$B$13/100 -> 1 | E13: 5
A20: *(그룹별 자재 단가 추가 할증)* | B20: 적용율(%) | D20: 적용율(%)/100
A21: Cable(CAB) 할증(%) | B21: =B11 -> 100 | D21: =$B$21/100 -> 1
A22: Wire (WIR) 할증(%) | B22: =B11 -> 100 | D22: =$B$22/100 -> 1
A23: Pipe (PIP) 할증(%) | B23: =B11 -> 100 | D23: =$B$23/100 -> 1
A24: 제 4그룹 할증(%) | B24: =B11 -> 100 | D24: =$B$24/100 -> 1
A25: 제 5그룹 할증(%) | B25: =B11 -> 100 | D25: =$B$25/100 -> 1
A30: *(그룹별 노임 추가 할증)* | B30: 적용율(%) | C30: 자동부속재(전기) | D30: 자동부속재(통신)
A31: 배관부속재(%) | B31: 15 | C31: 15 | D31: 20
A32: CD관부속재(%) | B32: 40 | C32: 40 | D32: 40
A33: 소모잡자재(%) | B33: 2 | H33: 본 파일은 이지테크에서 2번 옵션으로 만들었습니다.
A34: 방폭할증(%)
A35: 고소할증(%) | B35: 2
A36: 공구손료(%) | B36: 3
A40: *(공종별 노임 적용율(%))* | B40: 적용율(%) | C40: 소수자릿수
A41: 1-1.전기공사 | B41: 100 | C41: 5
A42: 1-2.기타전기공사 | B42: 100 | C42: 5
A43: 2-1.전기공사 | B43: 100 | C43: 5
A44: 2-2.기타전기공사 | B44: 100 | C44: 5
