Workbook
Name _: #N/A
Name _1: #N/A
Name _1._PANEL_BD.__LP___1: #REF!
Name _1.전기공사: #REF!
Name _1_0: '[1]PAD TR보호대기초'!#REF!
Name _10: #N/A
Name _10_3_0Criteria: #REF!
Name _108단: #REF!
Name _11: #N/A
Name _11_6: #REF!
Name _12: #N/A
Name _12_7: #REF!
Name _13: #N/A
Name _13_8: #REF!
Name _14: #N/A
Name _14_9: #REF!
Name _15: #N/A
Name _15A: #REF!
Name _16: #N/A
Name _17: #N/A
Name _17C_: #REF!
Name _18: #N/A
Name _19: #N/A
Name _1C_: #REF!
Name _2: #N/A
Name _20: #N/A
Name _21: #N/A
Name _22: #N/A
Name _23: #N/A
Name _24: #N/A
Name _24_3_0Crite: #REF!
Name _25: #N/A
Name _25_3_0Crite: #REF!
Name _25G_0Extr: #REF!
Name _26: #N/A
Name _26G_0Extr: #REF!
Name _27: #N/A
Name _27_3_0Criteria: #REF!
Name _27G_0Extract: #REF!
Name _28: #N/A
Name _28_3_0Criteria: #REF!
Name _28G_0Extract: #REF!
Name _29: #N/A
Name _3: #N/A
Name _3_1._총투자사업비: #REF!
Name _3_5: #REF!
Name _30: #N/A
Name _31: #N/A
Name _32: #N/A
Name _33: #N/A
Name _34: #N/A
Name _35: #N/A
Name _36: #N/A
Name _37: #N/A
Name _38: #N/A
Name _39: #N/A
Name _4: #N/A
Name _4_1._에너지사용현황: #REF!
Name _4_3._에너지절약을_위한_개선안: #REF!
Name _40: #N/A

Sheet 원가
A1: 원 가 계 산 서
A3: 공사명: | C3: 등촌초 외 9교 태양광 모니터링 선로 포설 공사 | E3: 공사기간: 1개월미만
A4: 비 목 | C4: 구 분 | D4: 금 액 | E4: 구 성 비
B5: 재 료 비 | C5: 직 접 재 료 비
C6: 간 접 재 료 비
C7: ( 소 계 )
A8: 순 | B8: 노 무 비 | C8: 직 접 노 무 비
C9: 간 접 노 무 비 | E9: (직접 노무비) * 17.5 %
C10: ( 소 계 )
C11: 산 재 보 험 료 | E11: (노무비) * 3.56 %
C12: 고 용 보 험 료 | E12: (노무비) * 1.01 %
A13: 공 | C13: 기 타 경 비 | E13: (재료+노무) * 5 %
B14: 경 | C14: 석 면 분 담 금 | E14: (노무비) * 0.006%
C15: 임금채권부담금 | E15: (노무비) * 0.09%
A18: 사
B22: 비
A23: 비
C25: ( 소 계 )
B26: ( 순 공 사 비 계 )
A27: 일 반 관 리 비 | E27: (재료+노무+경비) * 8 %
A28: 이 윤 | E28: (노무+경비+일반관리비) * 15 %
A29: ( 총 원 가 )
A30: 부 가 가 치 세
A35: ( 총 계 )

Sheet 총괄표
A1: 총줄수-> | B1: 81 | C1: 2.0 | D1: [ 등촌초 외 9교 태양광 모니터링 선로 포설 공사 ] | AA1: 연속견적가로형식
A2: 번호 | B2: 공종코드 | C2: … | D2: 공 종 명 | E2: 규격 | F2: 단위 | G2: 수량 | H2: 재료비 | J2: 노무비 | M2: 경비 | P2: 계 | Q2: 비고
H3: 단가 | I3: 금액 | J3: 수량 | K3: 단가 | L3: 금액 | M3: 단가 | N3: 금액 | O3: 단가
B4: 001 | D4: 1. 통합모니터링 통신선로 포설 공사 | F4: 식 | G4: 1 | H4: =내역서!I28 -> 0 | I4: =G4*H4 -> 0 | K4: =내역서!L28 -> 0 | L4: =SUM(K4*G4) -> 0 | M4: =내역서!N28 -> 0 | N4: =G4*M4 -> 0 | P4: =SUM(I4,L4,N4) -> 0
B6: 002 | H6: =내역서!I14 -> 0 | I6: =G6*H6 -> 0 | K6: =내역서!L14 -> 0 | L6: =G6*K6 -> 0 | N6: =G6*M6 -> 0 | P6: =SUM(I6,L6,N6) -> 0
H7: =내역서!I20 -> 0 | I7: =G7*H7 -> 0 | L7: =G7*K7 -> 0 | N7: =G7*M7 -> 0 | P7: =SUM(I7,L7,N7) -> 0
I9: =G9*H9 -> 0 | L9: =G9*K9 -> 0 | N9: =G9*M9 -> 0 | P9: =SUM(I9,L9,N9) -> 0
I10: =G10*H10 -> 0 | L10: =G10*K10 -> 0 | N10: =G10*M10 -> 0 | P10: =SUM(I10,L10,N10) -> 0
I11: =G11*H11 -> 0 | L11: =G11*K11 -> 0 | N11: =G11*M11 -> 0 | P11: =SUM(I11,L11,N11) -> 0
I12: =G12*H12 -> 0 | L12: =G12*K12 -> 0 | N12: =G12*M12 -> 0 | P12: =SUM(I12,L12,N12) -> 0
I13: =G13*H13 -> 0 | L13: =G13*K13 -> 0 | N13: =G13*M13 -> 0 | P13: =SUM(I13,L13,N13) -> 0
I14: =G14*H14 -> 0 | L14: =G14*K14 -> 0 | N14: =G14*M14 -> 0 | P14: =SUM(I14,L14,N14) -> 0
I15: =G15*H15 -> 0 | L15: =G15*K15 -> 0 | N15: =G15*M15 -> 0 | P15: =SUM(I15,L15,N15) -> 0
I16: =G16*H16 -> 0 | L16: =G16*K16 -> 0 | N16: =G16*M16 -> 0 | P16: =SUM(I16,L16,N16) -> 0
I17: =G17*H17 -> 0 | L17: =G17*K17 -> 0 | N17: =G17*M17 -> 0 | P17: =SUM(I17,L17,N17) -> 0
I18: =G18*H18 -> 0 | L18: =G18*K18 -> 0 | N18: =G18*M18 -> 0 | P18: =SUM(I18,L18,N18) -> 0
I19: =G19*H19 -> 0 | L19: =G19*K19 -> 0 | N19: =G19*M19 -> 0 | P19: =SUM(I19,L19,N19) -> 0
I20: =G20*H20 -> 0 | L20: =G20*K20 -> 0 | N20: =G20*M20 -> 0 | P20: =SUM(I20,L20,N20) -> 0
... I22: =G22*H22 -> 0 | L22: =G22*K22 -> 0 | N22: =G22*M22 -> 0 | P22: =SUM(I22,L22,N22) -> 0
C23: Total | D23: ( 합 계 ) | I23: =TRUNC(SUM(I4:I22)) -> 0 | L23: =TRUNC(SUM(L4:L22)) -> 0 | N23: =TRUNC(SUM(N4:N22)) -> 0 | P23: =TRUNC(SUM(P4:P22)) -> 0

Sheet 내역서
A1: 총줄수-> | B1: 237 | C1: 2.0 | D1: [ 등촌초 외 9교 태양광 모니터링 선로 포설 공사 ] | V1: 노임 계산 정보 | Z1: 부속재 및 손료
A2: 번호 | B2: 공종코드 | C2: 코드 | D2: 명 칭 | E2: 규 격 | F2: 단위 | G2: 수량 | H2: 재료비 | J2: 노무비 | M2: 경비 | P2: 계 | Q2: 비고 | V2: 노임계 | W2: 전체(%) | X2: 공종별(%) | Y2: 노임 소수 | Z2: CD배관재 | AA2: 일반배관재 | AB2: 소모재 | AC2: 자재계 | AD2: 노임계
H3: 단가 | I3: 금액 | J3: 수량 | K3: 단가 | L3: 금액 | M3: 단가 | N3: 금액 | O3: 단가 | AC3: =IF(옵션!$C$11 =0, "1", 옵션!$C$11) -> 1 | AD3: =IF(옵션!$C$12 =0, "1", 옵션!$C$12) -> 1
B4: 공종줄 | D4: 1. 통합모니터링 통신선로 포설 공사
D5: UTP 케이블 | E5: UTP Cable Cat.6 4Pr | F5: m | G5: 1000
D6: 1종금속제가요전선관 | E6: 22mm 일반-비방수 | F6: m | G6: 651
D7: 소 계
D28: ( 합 계 )
A30: 59753097003 | B30: 00101 | C30: 3913170610035665 | D30: 합성수지제 가요전선관 | E30: CD-난연성 22㎜ | F30: m | G30: 52 | H30: =#REF! -> #REF! | J30: 6 | K30: =#REF! -> #REF! | L30: =TRUNC(G30*K30) -> #REF! | M30: =#REF! -> #REF! | N30: =TRUNC(G30*M30) -> #REF! | P30: =SUM(I30,L30,N30) -> #REF! | Q30: 철거자재 | Z30: =#REF! -> #REF! | AB30: =G30*H30 -> #REF!
A31: 59753767011 | B31: 00101 | C31: 3912130810035750 | D31: 아우트렛박스 | E31: 8각 54㎜ | F31: 개 | G31: 3 | I31: =TRUNC(G31*H31) -> 0 | J31: 1 | K31: =#REF! -> #REF! | L31: =TRUNC(G31*K31) -> #REF! | M31: =#REF! -> #REF! | N31: =TRUNC(G31*M31) -> #REF! | P31: =SUM(I31,L31,N31) -> #REF! | Q31: 철거자재
A32: 59753777102 | B32: 00101 | C32: 3912130610035778 | D32: 스위치박스 | E32: 1 개용 54 mm | F32: 개 | G32: 5 | I32: =TRUNC(G32*H32) -> 0 | J32: 46 | K32: =#REF! -> #REF! | L32: =TRUNC(G32*K32) -> #REF! | M32: =#REF! -> #REF! | N32: =TRUNC(G32*M32) -> #REF! | P32: =SUM(I32,L32,N32) -> #REF! | Q32: 철거자재
A33: MM300040393 | B33: 00101 | C33: 3913171220171728 | D33: PVC MOLD | E33: 사각 대 | F33: m | G33: 12 | I33: =TRUNC(G33*H33) -> 0 | J33: 30 | K33: =#REF! -> #REF! | L33: =TRUNC(G33*K33) -> #REF! | M33: =#REF! -> #REF! | N33: =TRUNC(G33*M33) -> #REF! | P33: =SUM(I33,L33,N33) -> #REF! | Q33: 철거자재
A34: MM481669624 | B34: 00101 | C34: 2612162922076727 | D34: 450/750V 내열비닐절연전선 | E34: HFIX 1.78mm(2.5㎟) | F34: m | G34: 66 | H34: =#REF! -> #REF! | J34: 66 | K34: =#REF! -> #REF! | L34: =TRUNC(G34*K34) -> #REF! | M34: =#REF! -> #REF! | N34: =TRUNC(G34*M34) -> #REF! | P34: =SUM(I34,L34,N34) -> #REF! | Q34: 철거자재 | AB34: =G34*H34 -> #REF!
A35: E1450667003 | B35: 00101 | C35: 2612162922076728 | D35: 450/750V 내열비닐절연전선 | E35: HFIX 2.25mm(4㎟) | F35: m | G35: 246 | H35: =#REF! -> #REF! | J35: 246 | K35: =#REF! -> #REF! | L35: =TRUNC(G35*K35) -> #REF! | M35: =#REF! -> #REF! | N35: =TRUNC(G35*M35) -> #REF! | P35: =SUM(I35,L35,N35) -> #REF! | Q35: 철거자재 | AB35: =G35*H35 -> #REF!
A36: E1450927203 | B36: 00101 | C36: 2612152420683697 | D36: 접지용비닐절연전선(F-GV) | E36: 6㎟ | F36: m | G36: 65 | H36: =#REF! -> #REF! | J36: 1 | K36: =#REF! -> #REF! | L36: =TRUNC(G36*K36) -> #REF! | M36: =#REF! -> #REF! | N36: =TRUNC(G36*M36) -> #REF! | P36: =SUM(I36,L36,N36) -> #REF! | Q36: 철거자재 | AB36: =G36*H36 -> #REF!
A37: E1450287523 | B37: 00101 | C37: 2612162920683904 | D37: 폴리에틸렌 난연케이블 | E37: 0.6/1kv F-CV 2C×6㎟ | F37: m | G37: 20 | H37: =#REF! -> #REF! | J37: 1 | K37: =#REF! -> #REF! | L37: =TRUNC(G37*K37) -> #REF! | M37: =#REF! -> #REF! | N37: =TRUNC(G37*M37) -> #REF! | P37: =SUM(I37,L37,N37) -> #REF! | Q37: 철거자재 | AB37: =G37*H37 -> #REF!
A38: E1450287563 | B38: 00101 | C38: 2612162920683945 | D38: 폴리에틸렌 난연케이블 | E38: 0.6/1kv F-CV 4C×6㎟ | F38: m | G38: 65 | H38: =#REF! -> #REF! | J38: 1 | K38: =#REF! -> #REF! | L38: =TRUNC(G38*K38) -> #REF! | M38: =#REF! -> #REF! | N38: =TRUNC(G38*M38) -> #REF! | P38: =SUM(I38,L38,N38) -> #REF! | Q38: 철거자재 | AB38: =G38*H38 -> #REF!
A39: 59301517004 | B39: 00101 | C39: 3912998720170520 | D39: 매입스위치 | E39: 250V 1로2구 | F39: 개 | G39: 4 | I39: =TRUNC(G39*H39) -> 0 | J39: 1 | K39: =#REF! -> #REF! | L39: =TRUNC(G39*K39) -> #REF! | M39: =#REF! -> #REF! | N39: =TRUNC(G39*M39) -> #REF! | P39: =SUM(I39,L39,N39) -> #REF! | Q39: 철거자재
A40: 59350317206 | B40: 00101 | C40: 3912140620170850 | D40: 콘센트 | E40: 매입-접지형, 250V 2구 | F40: 개 | G40: 12 | I40: =TRUNC(G40*H40) -> 0 | J40: 85 | K40: =#REF! -> #REF! | L40: =TRUNC(G40*K40) -> #REF! | M40: =#REF! -> #REF! | N40: =TRUNC(G40*M40) -> #REF! | P40: =SUM(I40,L40,N40) -> #REF! | Q40: 철거자재
A41: MM300010803 | B41: 00101 | C41: 3912110220186197 | D41: 세대분전반 PVC | E41: 1p 2w 5cct | F41: 면 | G41: 1 | I41: =TRUNC(G41*H41) -> 0 | J41: 1 | K41: =#REF! -> #REF! | L41: =TRUNC(G41*K41) -> #REF! | M41: =#REF! -> #REF! | N41: =TRUNC(G41*M41) -> #REF! | P41: =SUM(I41,L41,N41) -> #REF! | Q41: 철거자재
A42: MM972667686 | B42: 00101 | C42: 391115ZZ701Z0006 | D42: 조명기구 | E42: LED 50W | F42: 개 | G42: 12 | I42: =TRUNC(G42*H42) -> 0 | J42: 4 | K42: =#REF! -> #REF! | L42: =TRUNC(G42*K42) -> #REF! | M42: =#REF! -> #REF! | N42: =TRUNC(G42*M42) -> #REF! | P42: =SUM(I42,L42,N42) -> #REF! | Q42: 철거자재
A43: MM975699940 | B43: 00101 | C43: 391115ZZ701Z0008 | D43: 조명기구 | E43: 펜던트,LED30W | F43: 개 | G43: 4 | I43: =TRUNC(G43*H43) -> 0 | J43: 5 | K43: =#REF! -> #REF! | L43: =TRUNC(G43*K43) -> #REF! | M43: =#REF! -> #REF! | N43: =TRUNC(G43*M43) -> #REF! | P43: =SUM(I43,L43,N43) -> #REF! | Q43: 철거자재
A44: A0100000000 | B44: 00101 | C44: RENT000000000003 | D44: [ 소모 잡자재 ] | E44: 전선, 전선관의 2 % | F44: 식 | G44: 1 | H44: =IF(TRUNC((AC44+AB44)/$AC$3)*$AC$3-AC44 <0, AB44, TRUNC((AC44+AB44)/$AC$3)*$AC$3-AC44) -> #REF! | I44: =H44 -> #REF! | J44: 1 | L44: =TRUNC(G44*K44) -> 0 | N44: =TRUNC(G44*M44) -> 0 | P44: =SUM(I44,L44,N44) -> #REF! | Y44: 노임계 | AB44: =TRUNC(TRUNC(SUM(AB4:AB43))*옵션!$B$33/100) -> #REF! | AC44: =TRUNC(SUM(I4:I43))+TRUNC(SUM(N4:N43)) -> #REF!
A45: 56900017016 | B45: 00101 | C45: L001010101000075 | D45: 노 무 비 | E45: 내선전공 | F45: 인 | G45: =#REF! -> #REF! | H45: =#REF! -> #REF! | I45: =TRUNC(G45*H45) -> #REF! | J45: =#REF! -> #REF! | K45: =#REF! -> #REF! | L45: =TRUNC(G45*K45) -> #REF! | M45: =#REF! -> #REF! | N45: =TRUNC(G45*M45) -> #REF! | P45: =SUM(I45,L45,N45) -> #REF! | AD45: =L45 -> #REF!
A46: 56900017076 | B46: 00101 | C46: L001010101000078 | D46: 노 무 비 | E46: 저압케이블전공 | F46: 인 | G46: =#REF! -> #REF! | H46: =#REF! -> #REF! | I46: =TRUNC(G46*H46) -> #REF! | J46: =#REF! -> #REF! | K46: =#REF! -> #REF! | L46: =TRUNC(G46*K46) -> #REF! | M46: =#REF! -> #REF! | N46: =TRUNC(G46*M46) -> #REF! | P46: =SUM(I46,L46,N46) -> #REF! | AD46: =L46 -> #REF!
A47: A0300000000 | B47: 00101 | C47: RENT000000000006 | D47: [ 공 구 손 료 ] | E47: 노무비의 3 % | F47: 식 | G47: 1 | H47: =IF(TRUNC((AC48+AB48)/$AD$3)*$AD$3-AC48 <0, AB48, TRUNC((AC48+AB48)/$AD$3)*$AD$3-AC48) -> #REF! | I47: =H47 -> #REF! | J47: 1 | L47: =TRUNC(G47*K47) -> 0 | N47: =TRUNC(G47*M47) -> 0 | P47: =SUM(I47,L47,N47) -> #REF!
I48: =TRUNC(G48*H48) -> 0 | L48: =TRUNC(G48*K48) -> 0 | N48: =TRUNC(G48*M48) -> 0 | P48: =SUM(I48,L48,N48) -> 0 | AB48: =TRUNC(AD48*옵션!$B$36/100) -> #REF! | AC48: =TRUNC(SUM(L4:L46)) -> #REF! | AD48: =TRUNC(SUM(AD4:AD47)) -> #REF!
I49: =TRUNC(G49*H49) -> 0 | L49: =TRUNC(G49*K49) -> 0 | N49: =TRUNC(G49*M49) -> 0 | P49: =SUM(I49,L49,N49) -> 0
I50: =TRUNC(G50*H50) -> 0 | L50: =TRUNC(G50*K50) -> 0 | N50: =TRUNC(G50*M50) -> 0 | P50: =SUM(I50,L50,N50) -> 0
I51: =TRUNC(G51*H51) -> 0 | L51: =TRUNC(G51*K51) -> 0 | N51: =TRUNC(G51*M51) -> 0 | P51: =SUM(I51,L51,N51) -> 0
I52: =TRUNC(G52*H52) -> 0 | L52: =TRUNC(G52*K52) -> 0 | N52: =TRUNC(G52*M52) -> 0 | P52: =SUM(I52,L52,N52) -> 0
B53: 합계줄 | D53: ( 합 계 ) | I53: =TRUNC(SUM(I4:I52)) -> #REF! | L53: =TRUNC(SUM(L4:L52)) -> #REF! | N53: =TRUNC(SUM(N4:N52)) -> #REF! | P53: =TRUNC(SUM(P4:P52)) -> #REF!
B54: 공종줄 | D54: 1.철거공사::1-2.기타전기공사
A55: MM432071853 | B55: 00102 | C55: 3913170610035664 | D55: 합성수지제 가요전선관 | E55: CD-난연성 16㎜ | F55: m | G55: 36 | H55: =#REF! -> #REF! | J55: 4 | K55: =#REF! -> #REF! | L55: =TRUNC(G55*K55) -> #REF! | M55: =#REF! -> #REF! | N55: =TRUNC(G55*M55) -> #REF! | P55: =SUM(I55,L55,N55) -> #REF! | Q55: 철거자재 | Z55: =#REF! -> #REF! | AB55: =G55*H55 -> #REF!
A56: 59753017025 | B56: 00102 | C56: 3913170620174424 | D56: 1종금속제가요전선관 | E56: 28 mm 일반-방수 | F56: m | G56: 22 | H56: =#REF! -> #REF! | J56: 1 | K56: =#REF! -> #REF! | L56: =TRUNC(G56*K56) -> #REF! | M56: =#REF! -> #REF! | N56: =TRUNC(G56*M56) -> #REF! | P56: =SUM(I56,L56,N56) -> #REF! | Q56: 철거자재 | AB56: =G56*H56 -> #REF!
A57: 59753767011 | B57: 00102 | C57: 3912130810035750 | D57: 아우트렛박스 | E57: 8각 54㎜ | F57: 개 | G57: 3 | I57: =TRUNC(G57*H57) -> 0 | J57: 1 | K57: =#REF! -> #REF! | L57: =TRUNC(G57*K57) -> #REF! | M57: =#REF! -> #REF! | N57: =TRUNC(G57*M57) -> #REF! | P57: =SUM(I57,L57,N57) -> #REF! | Q57: 철거자재
A58: 59753777102 | B58: 00102 | C58: 3912130610035778 | D58: 스위치박스 | E58: 1 개용 54 mm | F58: 개 | G58: 4 | I58: =TRUNC(G58*H58) -> 0 | J58: 19 | K58: =#REF! -> #REF! | L58: =TRUNC(G58*K58) -> #REF! | M58: =#REF! -> #REF! | N58: =TRUNC(G58*M58) -> #REF! | P58: =SUM(I58,L58,N58) -> #REF! | Q58: 철거자재
A59: MM300040393 | B59: 00102 | C59: 3913171220171728 | D59: PVC MOLD | E59: 사각 대 | F59: m | G59: 16 | I59: =TRUNC(G59*H59) -> 0 | J59: 137 | K59: =#REF! -> #REF! | L59: =TRUNC(G59*K59) -> #REF! | M59: =#REF! -> #REF! | N59: =TRUNC(G59*M59) -> #REF! | P59: =SUM(I59,L59,N59) -> #REF! | Q59: 철거자재
A60: 61454127541 | B60: 00102 | C60: 2612160621650577 | D60: 고발포동축케이블 | E60: 삼중차폐, 5C-HFBT | F60: m | G60: 22 | H60: =#REF! -> #REF! | J60: 251 | K60: =#REF! -> #REF! | L60: =TRUNC(G60*K60) -> #REF! | M60: =#REF! -> #REF! | N60: =TRUNC(G60*M60) -> #REF! | P60: =SUM(I60,L60,N60) -> #REF! | Q60: 철거자재 | AB60: =G60*H60 -> #REF!
A61: MM362692755 | B61: 00102 | C61: 2612160921650751 | D61: UTP 케이블 | E61: Cat.5E 0.5mm 4P | F61: m | G61: 98 | H61: =#REF! -> #REF! | J61: 98 | K61: =#REF! -> #REF! | L61: =TRUNC(G61*K61) -> #REF! | M61: =#REF! -> #REF! | N61: =TRUNC(G61*M61) -> #REF! | P61: =SUM(I61,L61,N61) -> #REF! | Q61: 철거자재 | AB61: =G61*H61 -> #REF!
A62: MM362698001 | B62: 00102 | C62: 3912140620937650 | D62: 모듈라짹 | E62: 매입용, Cat.5E 2구 | F62: 개 | G62: 2 | I62: =TRUNC(G62*H62) -> 0 | J62: 15 | K62: =#REF! -> #REF! | L62: =TRUNC(G62*K62) -> #REF! | M62: =#REF! -> #REF! | N62: =TRUNC(G62*M62) -> #REF! | P62: =SUM(I62,L62,N62) -> #REF! | Q62: 철거자재
A63: MM300040724 | B63: 00102 | C63: 5216151220173738 | D63: 스 피 커 | E63: 벽부형(3W) | F63: 개 | G63: 1 | I63: =TRUNC(G63*H63) -> 0 | J63: 23 | K63: =#REF! -> #REF! | L63: =TRUNC(G63*K63) -> #REF! | M63: =#REF! -> #REF! | N63: =TRUNC(G63*M63) -> #REF! | P63: =SUM(I63,L63,N63) -> #REF! | Q63: 철거자재
A64: 58200297102 | B64: 00102 | C64: 3912140620937621 | D64: TV UNIT | E64: 쌍방향, 단말 | F64: 개 | G64: 2 | I64: =TRUNC(G64*H64) -> 0 | J64: 22 | K64: =#REF! -> #REF! | L64: =TRUNC(G64*K64) -> #REF! | M64: =#REF! -> #REF! | N64: =TRUNC(G64*M64) -> #REF! | P64: =SUM(I64,L64,N64) -> #REF! | Q64: 철거자재
A65: MM975699879 | B65: 00102 | C65: HKTEC0000003 | D65: 교실 PC-TV 라인 | E65: 철거 | F65: 식 | G65: 1 | H65: =#REF! -> #REF! | I65: =TRUNC(G65*H65) -> #REF! | J65: 57 | K65: =#REF! -> #REF! | L65: =TRUNC(G65*K65) -> #REF! | M65: =#REF! -> #REF! | N65: =TRUNC(G65*M65) -> #REF! | P65: =SUM(I65,L65,N65) -> #REF! | Q65: 철거자재
A66: MM972667613 | B66: 00102 | C66: 391115ZZ701Z0003 | D66: 무선 AP | E66: 철거후재사용 | F66: 개 | G66: 1 | I66: =TRUNC(G66*H66) -> 0 | J66: 1 | K66: =#REF! -> #REF! | L66: =TRUNC(G66*K66) -> #REF! | M66: =#REF! -> #REF! | N66: =TRUNC(G66*M66) -> #REF! | P66: =SUM(I66,L66,N66) -> #REF! | Q66: 철거자재
A67: MM975699909 | B67: 00102 | C67: 391115ZZ701Z0007 | D67: 전동스크린 | E67: 재사용철거 | F67: 식 | G67: 1 | I67: =TRUNC(G67*H67) -> 0 | J67: 1 | K67: =#REF! -> #REF! | L67: =TRUNC(G67*K67) -> #REF! | M67: =#REF! -> #REF! | N67: =TRUNC(G67*M67) -> #REF! | P67: =SUM(I67,L67,N67) -> #REF! | Q67: 철거자재
A68: MM975699896 | B68: 00102 | C68: 391115ZZ701Z0009 | D68: 벽부TV | E68: 재사용철거 | F68: 식 | G68: 1 | I68: =TRUNC(G68*H68) -> 0 | J68: 15 | K68: =#REF! -> #REF! | L68: =TRUNC(G68*K68) -> #REF! | M68: =#REF! -> #REF! | N68: =TRUNC(G68*M68) -> #REF! | P68: =SUM(I68,L68,N68) -> #REF! | Q68: 철거자재
A69: A0100000000 | B69: 00102 | C69: RENT000000000003 | D69: [ 소모 잡자재 ] | E69: 전선, 전선관의 2 % | F69: 식 | G69: 1 | H69: =IF(TRUNC((AC69+AB69)/$AC$3)*$AC$3-AC69 <0, AB69, TRUNC((AC69+AB69)/$AC$3)*$AC$3-AC69) -> #REF! | I69: =H69 -> #REF! | J69: 1 | L69: =TRUNC(G69*K69) -> 0 | N69: =TRUNC(G69*M69) -> 0 | P69: =SUM(I69,L69,N69) -> #REF! | AB69: =TRUNC(TRUNC(SUM(AB54:AB68))*옵션!$B$33/100) -> #REF! | AC69: =TRUNC(SUM(I54:I68))+TRUNC(SUM(N54:N68)) -> #REF!
A70: 56900017016 | B70: 00102 | C70: L001010101000075 | D70: 노 무 비 | E70: 내선전공 | F70: 인 | G70: =#REF! -> #REF! | H70: =#REF! -> #REF! | I70: =TRUNC(G70*H70) -> #REF! | J70: =#REF! -> #REF! | K70: =#REF! -> #REF! | L70: =TRUNC(G70*K70) -> #REF! | M70: =#REF! -> #REF! | N70: =TRUNC(G70*M70) -> #REF! | P70: =SUM(I70,L70,N70) -> #REF! | AD70: =L70 -> #REF!
A71: 56900017076 | B71: 00102 | C71: L001010101000078 | D71: 노 무 비 | E71: 저압케이블전공 | F71: 인 | G71: =#REF! -> #REF! | H71: =#REF! -> #REF! | I71: =TRUNC(G71*H71) -> #REF! | J71: =#REF! -> #REF! | K71: =#REF! -> #REF! | L71: =TRUNC(G71*K71) -> #REF! | M71: =#REF! -> #REF! | N71: =TRUNC(G71*M71) -> #REF! | P71: =SUM(I71,L71,N71) -> #REF! | AD71: =L71 -> #REF!
A72: 56900017041 | B72: 00102 | C72: L001010101000002 | D72: 노 무 비 | E72: 보통인부 | F72: 인 | G72: =#REF! -> #REF! | H72: =#REF! -> #REF! | I72: =TRUNC(G72*H72) -> #REF! | J72: =#REF! -> #REF! | K72: =#REF! -> #REF! | L72: =TRUNC(G72*K72) -> #REF! | M72: =#REF! -> #REF! | N72: =TRUNC(G72*M72) -> #REF! | P72: =SUM(I72,L72,N72) -> #REF! | AD72: =L72 -> #REF!
A73: 56900017118 | B73: 00102 | C73: L001010101000003 | D73: 노 무 비 | E73: 특별인부 | F73: 인 | G73: =#REF! -> #REF! | H73: =#REF! -> #REF! | I73: =TRUNC(G73*H73) -> #REF! | J73: =#REF! -> #REF! | K73: =#REF! -> #REF! | L73: =TRUNC(G73*K73) -> #REF! | M73: =#REF! -> #REF! | N73: =TRUNC(G73*M73) -> #REF! | P73: =SUM(I73,L73,N73) -> #REF! | AD73: =L73 -> #REF!
A74: 56900017124 | B74: 00102 | C74: L001010101000060 | D74: 노 무 비 | E74: 플랜트기계설치공 | F74: 인 | G74: =#REF! -> #REF! | H74: =#REF! -> #REF! | I74: =TRUNC(G74*H74) -> #REF! | J74: =#REF! -> #REF! | K74: =#REF! -> #REF! | L74: =TRUNC(G74*K74) -> #REF! | M74: =#REF! -> #REF! | N74: =TRUNC(G74*M74) -> #REF! | P74: =SUM(I74,L74,N74) -> #REF! | AD74: =L74 -> #REF!
A75: 56900017017 | B75: 00102 | C75: L001010101000030 | D75: 노 무 비 | E75: 내장공 | F75: 인 | G75: =#REF! -> #REF! | H75: =#REF! -> #REF! | I75: =TRUNC(G75*H75) -> #REF! | J75: =#REF! -> #REF! | K75: =#REF! -> #REF! | L75: =TRUNC(G75*K75) -> #REF! | M75: =#REF! -> #REF! | N75: =TRUNC(G75*M75) -> #REF! | P75: =SUM(I75,L75,N75) -> #REF! | Y75: 노임계 | AD75: =L75 -> #REF!
A76: A0300000000 | B76: 00102 | C76: RENT000000000006 | D76: [ 공 구 손 료 ] | E76: 노무비의 3 % | F76: 식 | G76: 1 | H76: =IF(TRUNC((AC78+AB78)/$AD$3)*$AD$3-AC78 <0, AB78, TRUNC((AC78+AB78)/$AD$3)*$AD$3-AC78) -> #REF! | I76: =H76 -> #REF! | J76: 1 | L76: =TRUNC(G76*K76) -> 0 | N76: =TRUNC(G76*M76) -> 0 | P76: =SUM(I76,L76,N76) -> #REF!
I78: =TRUNC(G78*H78) -> 0 | L78: =TRUNC(G78*K78) -> 0 | N78: =TRUNC(G78*M78) -> 0 | P78: =SUM(I78,L78,N78) -> 0 | AB78: =TRUNC(AD78*옵션!$B$36/100) -> #REF! | AC78: =TRUNC(SUM(L54:L75)) -> #REF! | AD78: =TRUNC(SUM(AD54:AD76)) -> #REF!
B79: 합계줄 | D79: ( 합 계 ) | I79: =TRUNC(SUM(I54:I78)) -> #REF! | L79: =TRUNC(SUM(L54:L78)) -> #REF! | N79: =TRUNC(SUM(N54:N78)) -> #REF! | P79: =TRUNC(SUM(P54:P78)) -> #REF!
B80: 공종줄 | D80: 2.신설공사::2-1.전기공사
A81: 59753017004 | B81: 00201 | C81: 3913170620174411 | D81: 1종금속제가요전선관 | E81: 16 mm 일반-비방수 | F81: m | G81: =#REF! -> #REF! | H81: =#REF! -> #REF! | I81: =TRUNC(G81*H81) -> #REF! | J81: 27 | K81: =#REF! -> #REF! | L81: =TRUNC(G81*K81) -> #REF! | M81: =#REF! -> #REF! | N81: =TRUNC(G81*M81) -> #REF! | P81: =SUM(I81,L81,N81) -> #REF! | AB81: =G81*H81 -> #REF!
A82: 59753017026 | B82: 00201 | C82: 3913170620174425 | D82: 1종금속제가요전선관 | E82: 36 mm 일반-방수 | F82: m | G82: =#REF! -> #REF! | H82: =#REF! -> #REF! | I82: =TRUNC(G82*H82) -> #REF! | J82: 1 | K82: =#REF! -> #REF! | L82: =TRUNC(G82*K82) -> #REF! | M82: =#REF! -> #REF! | N82: =TRUNC(G82*M82) -> #REF! | P82: =SUM(I82,L82,N82) -> #REF! | AB82: =G82*H82 -> #REF!
A83: 59753017066 | B83: 00201 | C83: 3913170620174449 | D83: 1종금속제가요전선관 | E83: 커넥터, 36 mm 일반-방수 | F83: 개 | G83: 2 | H83: =#REF! -> #REF! | I83: =TRUNC(G83*H83) -> #REF! | J83: 4 | K83: =#REF! -> #REF! | L83: =TRUNC(G83*K83) -> #REF! | M83: =#REF! -> #REF! | N83: =TRUNC(G83*M83) -> #REF! | P83: =SUM(I83,L83,N83) -> #REF!
A84: 59753777102 | B84: 00201 | C84: 3912130610035778 | D84: 스위치박스 | E84: 1 개용 54 mm | F84: 개 | G84: =#REF! -> #REF! | H84: =#REF! -> #REF! | I84: =TRUNC(G84*H84) -> #REF! | J84: 85 | K84: =#REF! -> #REF! | L84: =TRUNC(G84*K84) -> #REF! | M84: =#REF! -> #REF! | N84: =TRUNC(G84*M84) -> #REF! | P84: =SUM(I84,L84,N84) -> #REF!
A85: 59350187013 | B85: 00201 | C85: 3913171210033640 | D85: 몰드 | E85: 알루미늄(대) | F85: m | G85: 29 | H85: =#REF! -> #REF! | I85: =TRUNC(G85*H85) -> #REF! | J85: 75 | K85: =#REF! -> #REF! | L85: =TRUNC(G85*K85) -> #REF! | M85: =#REF! -> #REF! | N85: =TRUNC(G85*M85) -> #REF! | P85: =SUM(I85,L85,N85) -> #REF!
A86: MM300040393 | B86: 00201 | C86: 3913171220171728 | D86: PVC MOLD | E86: 사각 대 | F86: m | G86: =#REF! -> #REF! | H86: =#REF! -> #REF! | I86: =TRUNC(G86*H86) -> #REF! | J86: 26 | K86: =#REF! -> #REF! | L86: =TRUNC(G86*K86) -> #REF! | M86: =#REF! -> #REF! | N86: =TRUNC(G86*M86) -> #REF! | P86: =SUM(I86,L86,N86) -> #REF!
A87: MM481669624 | B87: 00201 | C87: 2612162922076727 | D87: 450/750V 내열비닐절연전선 | E87: HFIX 1.78mm(2.5㎟) | F87: m | G87: =#REF! -> #REF! | H87: =#REF! -> #REF! | I87: =TRUNC(G87*H87) -> #REF! | J87: 66 | K87: =#REF! -> #REF! | L87: =TRUNC(G87*K87) -> #REF! | M87: =#REF! -> #REF! | N87: =TRUNC(G87*M87) -> #REF! | P87: =SUM(I87,L87,N87) -> #REF! | AB87: =G87*H87 -> #REF!
A88: E1450667003 | B88: 00201 | C88: 2612162922076728 | D88: 450/750V 내열비닐절연전선 | E88: HFIX 2.25mm(4㎟) | F88: m | G88: =#REF! -> #REF! | H88: =#REF! -> #REF! | I88: =TRUNC(G88*H88) -> #REF! | J88: 251 | K88: =#REF! -> #REF! | L88: =TRUNC(G88*K88) -> #REF! | M88: =#REF! -> #REF! | N88: =TRUNC(G88*M88) -> #REF! | P88: =SUM(I88,L88,N88) -> #REF! | AB88: =G88*H88 -> #REF!
A89: E1450927203 | B89: 00201 | C89: 2612152420683697 | D89: 접지용비닐절연전선(F-GV) | E89: 6㎟ | F89: m | G89: =#REF! -> #REF! | H89: =#REF! -> #REF! | I89: =TRUNC(G89*H89) -> #REF! | J89: 1 | K89: =#REF! -> #REF! | L89: =TRUNC(G89*K89) -> #REF! | M89: =#REF! -> #REF! | N89: =TRUNC(G89*M89) -> #REF! | P89: =SUM(I89,L89,N89) -> #REF! | AB89: =G89*H89 -> #REF!
A90: E1450287523 | B90: 00201 | C90: 2612162920683904 | D90: 폴리에틸렌 난연케이블 | E90: 0.6/1kv F-CV 2C×6㎟ | F90: m | G90: =#REF! -> #REF! | H90: =#REF! -> #REF! | I90: =TRUNC(G90*H90) -> #REF! | J90: 1 | K90: =#REF! -> #REF! | L90: =TRUNC(G90*K90) -> #REF! | M90: =#REF! -> #REF! | N90: =TRUNC(G90*M90) -> #REF! | P90: =SUM(I90,L90,N90) -> #REF! | AB90: =G90*H90 -> #REF!
A91: E1450287563 | B91: 00201 | C91: 2612162920683945 | D91: 폴리에틸렌 난연케이블 | E91: 0.6/1kv F-CV 4C×6㎟ | F91: m | G91: =#REF! -> #REF! | H91: =#REF! -> #REF! | I91: =TRUNC(G91*H91) -> #REF! | J91: 1 | K91: =#REF! -> #REF! | L91: =TRUNC(G91*K91) -> #REF! | M91: =#REF! -> #REF! | N91: =TRUNC(G91*M91) -> #REF! | P91: =SUM(I91,L91,N91) -> #REF! | AB91: =G91*H91 -> #REF!
A92: 59301517004 | B92: 00201 | C92: 3912998720170520 | D92: 전등스위치 | E92: 250V 1로2구 | F92: 개 | G92: =#REF! -> #REF! | H92: =#REF! -> #REF! | I92: =TRUNC(G92*H92) -> #REF! | J92: 1 | K92: =#REF! -> #REF! | L92: =TRUNC(G92*K92) -> #REF! | M92: =#REF! -> #REF! | N92: =TRUNC(G92*M92) -> #REF! | P92: =SUM(I92,L92,N92) -> #REF! | Y92: 노임계
A93: 59350317206 | B93: 00201 | C93: 3912140620170850 | D93: 노출콘센트 | E93: 접지형, 250V 2구 | F93: 개 | G93: 12 | H93: =#REF! -> #REF! | I93: =TRUNC(G93*H93) -> #REF! | J93: 85 | K93: =#REF! -> #REF! | L93: =TRUNC(G93*K93) -> #REF! | M93: =#REF! -> #REF! | N93: =TRUNC(G93*M93) -> #REF! | P93: =SUM(I93,L93,N93) -> #REF!
A94: MM975699959 | B94: 00201 | C94: 391115ZZ701Z0004 | D94: 분전반 | E94: 개별학습실 | F94: 면 | G94: 1 | H94: =#REF! -> #REF! | I94: =TRUNC(G94*H94) -> #REF! | J94: 1 | K94: =#REF! -> #REF! | L94: =TRUNC(G94*K94) -> #REF! | M94: =#REF! -> #REF! | N94: =TRUNC(G94*M94) -> #REF! | P94: =SUM(I94,L94,N94) -> #REF!
D95: 조명기구 | E95: LED 40W | F95: 개 | G95: 12 | H95: =#REF! -> #REF! | I95: =TRUNC(G95*H95) -> #REF!
A96: MM975699940 | B96: 00201 | C96: 391115ZZ701Z0008 | D96: 조명기구 | E96: 펜단트,LED 30W | F96: 개 | G96: 4 | H96: =#REF! -> #REF! | I96: =TRUNC(G96*H96) -> #REF! | J96: 5 | K96: =#REF! -> #REF! | L96: =TRUNC(G96*K96) -> #REF! | M96: =#REF! -> #REF! | N96: =TRUNC(G96*M96) -> #REF! | P96: =SUM(I96,L96,N96) -> #REF!
A97: A0100000000 | B97: 00201 | C97: RENT000000000003 | D97: [ 소모 잡자재 ] | E97: 전선, 전선관의 2 % | F97: 식 | G97: 1 | H97: =IF(TRUNC((AC97+AB97)/$AC$3)*$AC$3-AC97 <0, AB97, TRUNC((AC97+AB97)/$AC$3)*$AC$3-AC97) -> #REF! | I97: =H97 -> #REF! | J97: 1 | L97: =TRUNC(G97*K97) -> 0 | N97: =TRUNC(G97*M97) -> 0 | P97: =SUM(I97,L97,N97) -> #REF! | AB97: =TRUNC(TRUNC(SUM(AB80:AB96))*옵션!$B$33/100) -> #REF! | AC97: =TRUNC(SUM(I80:I96))+TRUNC(SUM(N80:N96)) -> #REF!
A98: 56900017016 | B98: 00201 | C98: L001010101000075 | D98: 노 무 비 | E98: 내선전공 | F98: 인 | G98: =#REF! -> #REF! | H98: =#REF! -> #REF! | I98: =TRUNC(G98*H98) -> #REF! | J98: =#REF! -> #REF! | K98: =#REF! -> #REF! | L98: =TRUNC(G98*K98) -> #REF! | M98: =#REF! -> #REF! | N98: =TRUNC(G98*M98) -> #REF! | P98: =SUM(I98,L98,N98) -> #REF! | AD98: =L98 -> #REF!
A99: 56900017076 | B99: 00201 | C99: L001010101000078 | D99: 노 무 비 | E99: 저압케이블전공 | F99: 인 | G99: =#REF! -> #REF! | H99: =#REF! -> #REF! | I99: =TRUNC(G99*H99) -> #REF! | J99: =#REF! -> #REF! | K99: =#REF! -> #REF! | L99: =TRUNC(G99*K99) -> #REF! | M99: =#REF! -> #REF! | N99: =TRUNC(G99*M99) -> #REF! | P99: =SUM(I99,L99,N99) -> #REF! | AD99: =L99 -> #REF!
A100: A0300000000 | B100: 00201 | C100: RENT000000000006 | D100: [ 공 구 손 료 ] | E100: 노무비의 3 % | F100: 식 | G100: 1 | H100: =IF(TRUNC((AC101+AB101)/$AD$3)*$AD$3-AC101 <0, AB101, TRUNC((AC101+AB101)/$AD$3)*$AD$3-AC101) -> #REF! | I100: =H100 -> #REF! | J100: 1 | L100: =TRUNC(G100*K100) -> 0 | N100: =TRUNC(G100*M100) -> 0 | P100: =SUM(I100,L100,N100) -> #REF!
I101: =TRUNC(G101*H101) -> 0 | L101: =TRUNC(G101*K101) -> 0 | N101: =TRUNC(G101*M101) -> 0 | P101: =SUM(I101,L101,N101) -> 0 | AB101: =TRUNC(AD101*옵션!$B$36/100) -> #REF! | AC101: =TRUNC(SUM(L80:L99)) -> #REF! | AD101: =TRUNC(SUM(AD80:AD100)) -> #REF!
I102: =TRUNC(G102*H102) -> 0 | L102: =TRUNC(G102*K102) -> 0 | N102: =TRUNC(G102*M102) -> 0 | P102: =SUM(I102,L102,N102) -> 0
I103: =TRUNC(G103*H103) -> 0 | L103: =TRUNC(G103*K103) -> 0 | N103: =TRUNC(G103*M103) -> 0 | P103: =SUM(I103,L103,N103) -> 0
B104: 합계줄 | D104: ( 합 계 ) | I104: =TRUNC(SUM(I80:I103)) -> #REF! | L104: =TRUNC(SUM(L80:L103)) -> #REF! | N104: =TRUNC(SUM(N80:N103)) -> #REF! | P104: =TRUNC(SUM(P80:P103)) -> #REF!
B105: 공종줄 | D105: 2.신설공사::2-2.기타전기공사
A106: 59753017023 | B106: 00202 | C106: 3913170620174422 | D106: 1종금속제가요전선관 | E106: 16 mm 일반-비방수 | F106: m | G106: =#REF! -> #REF! | H106: =#REF! -> #REF! | I106: =TRUNC(G106*H106) -> #REF! | J106: 55 | K106: =#REF! -> #REF! | L106: =TRUNC(G106*K106) -> #REF! | M106: =#REF! -> #REF! | N106: =TRUNC(G106*M106) -> #REF! | P106: =SUM(I106,L106,N106) -> #REF! | AB106: =G106*H106 -> #REF!
A107: 59753777102 | B107: 00202 | C107: 3912130610035778 | D107: 스위치박스 | E107: 1 개용 54 mm | F107: 개 | G107: 4 | H107: =#REF! -> #REF! | I107: =TRUNC(G107*H107) -> #REF! | J107: 37 | K107: =#REF! -> #REF! | L107: =TRUNC(G107*K107) -> #REF! | M107: =#REF! -> #REF! | N107: =TRUNC(G107*M107) -> #REF! | P107: =SUM(I107,L107,N107) -> #REF!
A108: 59753857001 | B108: 00202 | C108: 3912130310035794 | D108: 풀박스 | E108: 100×100×50 | F108: 개 | G108: 1 | H108: =#REF! -> #REF! | I108: =TRUNC(G108*H108) -> #REF! | J108: 2 | K108: =#REF! -> #REF! | L108: =TRUNC(G108*K108) -> #REF! | M108: =#REF! -> #REF! | N108: =TRUNC(G108*M108) -> #REF! | P108: =SUM(I108,L108,N108) -> #REF!
A109: MM300040393 | B109: 00202 | C109: 3913171220171728 | D109: PVC MOLD | E109: 사각 대 | F109: m | G109: =#REF! -> #REF! | H109: =#REF! -> #REF! | I109: =TRUNC(G109*H109) -> #REF! | J109: 136 | K109: =#REF! -> #REF! | L109: =TRUNC(G109*K109) -> #REF! | M109: =#REF! -> #REF! | N109: =TRUNC(G109*M109) -> #REF! | P109: =SUM(I109,L109,N109) -> #REF!
A110: 61454127541 | B110: 00202 | C110: 2612160621650577 | D110: 고발포동축케이블 | E110: 삼중차폐, 5C-HFBT | F110: m | G110: =#REF! -> #REF! | H110: =#REF! -> #REF! | I110: =TRUNC(G110*H110) -> #REF! | J110: 259 | K110: =#REF! -> #REF! | L110: =TRUNC(G110*K110) -> #REF! | M110: =#REF! -> #REF! | N110: =TRUNC(G110*M110) -> #REF! | P110: =SUM(I110,L110,N110) -> #REF! | AB110: =G110*H110 -> #REF!
A111: MM362692755 | B111: 00202 | C111: 2612160921650751 | D111: UTP 케이블 | E111: Cat.5E 0.5mm 4P | F111: m | G111: =#REF! -> #REF! | H111: =#REF! -> #REF! | I111: =TRUNC(G111*H111) -> #REF! | J111: 117 | K111: =#REF! -> #REF! | L111: =TRUNC(G111*K111) -> #REF! | M111: =#REF! -> #REF! | N111: =TRUNC(G111*M111) -> #REF! | P111: =SUM(I111,L111,N111) -> #REF! | AB111: =G111*H111 -> #REF!
A112: MM362698001 | B112: 00202 | C112: 3912140620937650 | D112: 모듈라짹 | E112: 매입용, Cat.5E 2구 | F112: 개 | G112: =#REF! -> #REF! | H112: =#REF! -> #REF! | I112: =TRUNC(G112*H112) -> #REF! | J112: 15 | K112: =#REF! -> #REF! | L112: =TRUNC(G112*K112) -> #REF! | M112: =#REF! -> #REF! | N112: =TRUNC(G112*M112) -> #REF! | P112: =SUM(I112,L112,N112) -> #REF!
A113: MM300040724 | B113: 00202 | C113: 5216151220173738 | D113: 스 피 커 | E113: 벽부형(3W) | F113: 개 | G113: 2 | H113: =#REF! -> #REF! | I113: =TRUNC(G113*H113) -> #REF! | J113: 23 | K113: =#REF! -> #REF! | L113: =TRUNC(G113*K113) -> #REF! | M113: =#REF! -> #REF! | N113: =TRUNC(G113*M113) -> #REF! | P113: =SUM(I113,L113,N113) -> #REF!
A114: 58200297102 | B114: 00202 | C114: 3912140620937621 | D114: TV UNIT | E114: 쌍방향, 단말 | F114: 개 | G114: =#REF! -> #REF! | H114: =#REF! -> #REF! | I114: =TRUNC(G114*H114) -> #REF! | J114: 22 | K114: =#REF! -> #REF! | L114: =TRUNC(G114*K114) -> #REF! | M114: =#REF! -> #REF! | N114: =TRUNC(G114*M114) -> #REF! | P114: =SUM(I114,L114,N114) -> #REF!
D115: 감지기 | E115: 차동식 | F115: 개 | G115: 2 | H115: 4013 | I115: =TRUNC(G115*H115) -> 8026 | J115: 23 | K115: =#REF! -> #REF! | L115: =TRUNC(G115*K115) -> #REF! | M115: =#REF! -> #REF! | N115: =TRUNC(G115*M115) -> #REF! | P115: =SUM(I115,L115,N115) -> #REF!
A116: MM300040968 | B116: 00202 | C116: 3210152320167283 | D116: 공청용 증폭기 | E116: VHF/UHF 겸용 | F116: 개 | G116: 1 | I116: =TRUNC(G116*H116) -> 0 | J116: 1 | K116: =#REF! -> #REF! | L116: =TRUNC(G116*K116) -> #REF! | M116: =#REF! -> #REF! | N116: =TRUNC(G116*M116) -> #REF! | P116: =SUM(I116,L116,N116) -> #REF! | Q116: 철거재설치
A117: MM975699955 | B117: 00202 | C117: HKTEC0000004 | D117: 교실 PC-TV 라인 | E117: 신설 | F117: 식 | G117: 1 | H117: =#REF! -> #REF! | I117: =TRUNC(G117*H117) -> #REF! | J117: 57 | K117: =#REF! -> #REF! | L117: =TRUNC(G117*K117) -> #REF! | M117: =#REF! -> #REF! | N117: =TRUNC(G117*M117) -> #REF! | P117: =SUM(I117,L117,N117) -> #REF!
A118: MM975699989 | B118: 00202 | C118: HKTECT000004 | D118: 중간단자함 | E118: 1C | F118: 식 | G118: 1 | H118: =#REF! -> #REF! | I118: =TRUNC(G118*H118) -> #REF! | J118: 2 | K118: =#REF! -> #REF! | L118: =TRUNC(G118*K118) -> #REF! | M118: =#REF! -> #REF! | N118: =TRUNC(G118*M118) -> #REF! | P118: =SUM(I118,L118,N118) -> #REF!
A119: MM972667613 | B119: 00202 | C119: 391115ZZ701Z0003 | D119: 무선 AP | E119: 철거후재사용 | F119: 개 | G119: 1 | I119: =TRUNC(G119*H119) -> 0 | J119: 1 | K119: =#REF! -> #REF! | L119: =TRUNC(G119*K119) -> #REF! | M119: =#REF! -> #REF! | N119: =TRUNC(G119*M119) -> #REF! | P119: =SUM(I119,L119,N119) -> #REF! | Q119: 철거재설치
A120: MM975699909 | B120: 00202 | C120: 391115ZZ701Z0007 | D120: 전동스크린 | E120: 철거후재사용 | F120: 식 | G120: 1 | I120: =TRUNC(G120*H120) -> 0 | J120: 1 | K120: =#REF! -> #REF! | L120: =TRUNC(G120*K120) -> #REF! | M120: =#REF! -> #REF! | N120: =TRUNC(G120*M120) -> #REF! | P120: =SUM(I120,L120,N120) -> #REF! | Q120: 철거재설치
A121: MM975699896 | B121: 00202 | C121: 391115ZZ701Z0009 | D121: 벽부TV | E121: 철거후재사용 | F121: 식 | G121: 1 | I121: =TRUNC(G121*H121) -> 0 | J121: 15 | K121: =#REF! -> #REF! | L121: =TRUNC(G121*K121) -> #REF! | M121: =#REF! -> #REF! | N121: =TRUNC(G121*M121) -> #REF! | P121: =SUM(I121,L121,N121) -> #REF! | Q121: 철거재설치
A122: 전동스크린 | B122: 철거후재사용 | C122: 식 | D122: 빔프로젝터 | E122: 철거후재사용 | F122: 식 | G122: 1 | I122: =TRUNC(G122*H122) -> 0 | J122: 1 | K122: =#REF! -> #REF! | L122: =TRUNC(G122*K122) -> #REF! | M122: =#REF! -> #REF! | N122: =TRUNC(G122*M122) -> #REF! | P122: =SUM(I122,L122,N122) -> #REF! | Q122: 철거재설치
...

Sheet 옵션
B1: 재료비 | C1: 노무비 | D1: 경비 | F1: 계
A2: 총 급 액 | B2: =총괄표!I23 -> 0 | C2: =총괄표!L23 -> 0 | D2: =총괄표!N23 -> 0 | F2: =SUM(B2,C2,D2) -> 0
A3: 관급 자재비 | F3: =SUM(B3,C3,D3) -> 0 | H3: 금액조정이 안되나요?
H6: 이지테크에서 변환할 때 2번 옵션을 지정하여 다시 해보세요
H9: 시트를 삭제할 때 에러가 뜨면 1번 옵션으로 하면 됩니다.
B10: 적용율(%) | C10: 끝자리 | D10: 적용율(%)/100 | E10: 일위대가소수
A11: 전체자재 적용율(%)(공종/일위대가) | B11: 100 | C11: 1 | D11: =$B$11/100 -> 1
A12: 전체노임 적용율(%)(공종) | B12: 100 | C12: 1 | D12: =$B$12/100 -> 1 | E12: 2 | H12: 2번 옵션으로 변환했을 때에는 결과값이 다를 수 있습니다.
A13: 전체노임 적용율(%)(일위대가) | B13: 100 | C13: 1 | D13: =$B$13/100 -> 1 | E13: 5
A20: *(그룹별 자재 단가 추가 할증)* | B20: 적용율(%) | D20: 적용율(%)/100
A21: Cable(CAB) 할증(%) | B21: =B11 -> 100 | D21: =$B$21/100 -> 1
A22: Wire (WIR) 할증(%) | B22: =B11 -> 100 | D22: =$B$22/100 -> 1
A23: Pipe (PIP) 할증(%) | B23: =B11 -> 100 | D23: =$B$23/100 -> 1
A24: 제 4그룹 할증(%) | B24: =B11 -> 100 | D24: =$B$24/100 -> 1
A25: 제 5그룹 할증(%) | B25: =B11 -> 100 | D25: =$B$25/100 -> 1
A30: *(그룹별 노임 추가 할증)* | B30: 적용율(%) | C30: 자동부속재(전기) | D30: 자동부속재(통신)
A31: 배관부속재(%) | B31: 15 | C31: 15 | D31: 20
A32: CD관부속재(%) | B32: 40 | C32: 40 | D32: 40
A33: 소모잡자재(%) | B33: 2 | H33: 본 파일은 이지테크에서 2번 옵션으로 만들었습니다.
A34: 방폭할증(%)
A35: 고소할증(%) | B35: 2
A36: 공구손료(%) | B36: 3
A40: *(공종별 노임 적용율(%))* | B40: 적용율(%) | C40: 소수자릿수
A41: 1-1.전기공사 | B41: 100 | C41: 5
A42: 1-2.기타전기공사 | B42: 100 | C42: 5
A43: 2-1.전기공사 | B43: 100 | C43: 5
A44: 2-2.기타전기공사 | B44: 100 | C44: 5
