Workbook

Sheet 예정공정표
A1: 예정공정 및 동원인원 계획표
A2: ▣ 공 사 명 : | C2: 청라201호(옥계리 산113-2) 도로사면 복구공사 | I2: ="착공일로부터 "&공사기간산정표!O13&"일" -> 착공일로부터 90일
A3: 월 별 구 분 | D3: 공 사 기 간 | J3: 보 할 | L3: 공사금액 | M3: 요율
D4: 15 | E4: 30 | F4: 45 | G4: 60 | H4: 75 | I4: 90
A5: 예 정 공 정 | B5: 토공 | D5: 2 | E5: 2 | H5: 1 | I5: 2 | J5: =SUM(D5:I5) -> 7 | L5: 9455160 | M5: =L5/$L$17 -> 0.072609063
B7: 배수공 | G7: 0.5 | H7: 0.5 | J7: =SUM(D7:I7) -> 1 | L7: 366486 | M7: =L7/$L$17 -> 0.002814358
B9: 포장공 | F9: 4 | G9: 3 | H9: 4 | J9: =SUM(D9:I9) -> 11 | L9: 14098459 | M9: =L9/$L$17 -> 0.10826638
B11: 구조물공 | E11: 6 | F11: 6 | G11: 5 | H11: 6 | J11: =SUM(D11:I11) -> 23 | L11: 30856827 | M11: =L11/$L$17 -> 0.23695901
B13: 교통안전시설공 | G13: 18 | H13: 17 | I13: 17 | J13: =SUM(D13:I13) -> 52 | L13: 68201261 | M13: =L13/$L$17 -> 0.52373833
B15: 부대공 | D15: 2 | E15: 1 | F15: 1 | H15: 1 | I15: 1 | J15: =SUM(D15:I15) -> 6 | L15: 7241914 | M15: =L15/$L$17 -> 0.055612871
B17: 계 | D17: =SUM(D5:D16) -> 4 | E17: =SUM(E5:E16) -> 9 | F17: =SUM(F5:F16) -> 11 | G17: =SUM(G5:G16) -> 26.5 | H17: =SUM(H5:H16) -> 29.5 | I17: =SUM(I5:I16) -> 20 | J17: =SUM(J5:J16) -> 100 | L17: =SUM(L5:L16) -> 130220107 | M17: =SUM(M5:M16) -> 1
B19: 누 계 | D19: =D17 -> 4 | E19: =SUM(D19+E17) -> 13 | F19: =SUM(E19+F17) -> 24 | G19: =SUM(F19+G17) -> 50.5 | H19: =SUM(G19+H17) -> 80 | I19: =SUM(H19+I17) -> 100 | L19: 노 무 비
A21: 동 원 인 원 | B21: 보통인부 | D21: =INT($M$27*D17%)+1 -> 21 | E21: =INT($M$27*E17%)+1 -> 46 | F21: =INT($M$27*F17%)+1 -> 56 | G21: =INT($M$27*G17%)+1 -> 134 | H21: =INT($M$27*H17%)+1 -> 149 | I21: =INT($M$27*I17%)+1 -> 101 | J21: =INT(D21+E21+F21+G21+H21+I21) -> 507 | L21: 64916588 | M21: =(L21*65%)/83975 -> 502.48029 | N21: 보통인부 노임단가 나누기
B22: 기술인부 | D22: =INT($M$28*D17%)+1 -> 10 | E22: =INT($M$28*E17%)+1 -> 21 | F22: =INT($M$28*F17%)+1 -> 25 | G22: =INT($M$28*G17%)+1 -> 60 | H22: =INT($M$28*H17%)+1 -> 67 | I22: =INT($M$28*I17%)+1 -> 46 | J22: =INT(D22+E22+F22+G22+H22+I22) -> 229 | M22: =(L21*35%)/100936 -> 225.10111 | N22: 특별인부 노임단가 나누기
B23: 계 | D23: =SUM(D21:D22) -> 31 | E23: =SUM(E21:E22) -> 67 | F23: =SUM(F21:F22) -> 81 | G23: =SUM(G21:G22) -> 194 | H23: =SUM(H21:H22) -> 216 | I23: =SUM(I21:I22) -> 147 | J23: =SUM(J21:J22) -> 736
B24: 누 계 | D24: =D23 -> 31 | E24: =D24+E23 -> 98 | F24: =E24+F23 -> 179 | G24: =F24+G23 -> 373 | H24: =G24+H23 -> 589 | I24: =H24+I23 -> 736
M27: =M21 -> 502.48029
M28: =M22 -> 225.10111

Sheet 공사기간산정표
A1: 공 사 기 간 산 출 집 계
A2: 구 분 | C2: 1 | D2: 2 | E2: 3 | F2: 4 | G2: 5 | H2: 6 | I2: 7 | J2: 8 | K2: 9 | L2: 10 | M2: 11 | N2: 12 | O2: 비 고
A3: 달력일수 | C3: 31 | D3: 28 | E3: 31 | F3: 30 | G3: 31 | H3: 30 | I3: 31 | J3: 31 | K3: 30 | L3: 31 | M3: 30 | N3: 31
A4: 비작업일수 A + B - C | B4: 기후여건(A) | C4: ='별표2-기상상태(서산)적용'!F98+'별표2-기상상태(서산)적용'!X98+'별표2-기상상태(서산)적용'!AP98+'별표2-기상상태(서산)적용'!BH98+'별표2-기상상태(서산)적용'!BZ98 -> 10.4 | D4: ='별표2-기상상태(서산)적용'!G98+'별표2-기상상태(서산)적용'!Y98+'별표2-기상상태(서산)적용'!AQ98+'별표2-기상상태(서산)적용'!BI98+'별표2-기상상태(서산)적용'!CA98 -> 5.9 | E4: ='별표2-기상상태(서산)적용'!H98+'별표2-기상상태(서산)적용'!Z98+'별표2-기상상태(서산)적용'!AR98+'별표2-기상상태(서산)적용'!BJ98+'별표2-기상상태(서산)적용'!CB98 -> 3.9 | F4: ='별표2-기상상태(서산)적용'!I98+'별표2-기상상태(서산)적용'!AA98+'별표2-기상상태(서산)적용'!AS98+'별표2-기상상태(서산)적용'!BK98+'별표2-기상상태(서산)적용'!CC98 -> 5.2 | G4: ='별표2-기상상태(서산)적용'!J98+'별표2-기상상태(서산)적용'!AB98+'별표2-기상상태(서산)적용'!AT98+'별표2-기상상태(서산)적용'!BL98+'별표2-기상상태(서산)적용'!CD98 -> 4.1 | H4: ='별표2-기상상태(서산)적용'!K98+'별표2-기상상태(서산)적용'!AC98+'별표2-기상상태(서산)적용'!AU98+'별표2-기상상태(서산)적용'!BM98+'별표2-기상상태(서산)적용'!CE98 -> 3.8 | I4: ='별표2-기상상태(서산)적용'!L98+'별표2-기상상태(서산)적용'!AD98+'별표2-기상상태(서산)적용'!AV98+'별표2-기상상태(서산)적용'!BN98+'별표2-기상상태(서산)적용'!CF98 -> 12.9 | J4: ='별표2-기상상태(서산)적용'!M98+'별표2-기상상태(서산)적용'!AE98+'별표2-기상상태(서산)적용'!AW98+'별표2-기상상태(서산)적용'!BO98+'별표2-기상상태(서산)적용'!CG98 -> 16.5 | ... N4: ='별표2-기상상태(서산)적용'!Q98+'별표2-기상상태(서산)적용'!AI98+'별표2-기상상태(서산)적용'!BA98+'별표2-기상상태(서산)적용'!BS98+'별표2-기상상태(서산)적용'!CK98 -> 10 | O4: - 혹서기(33˚C이상) - 동절기(일최고기온0˚C이하) - 강수량(일강수량5mm이상) - 신적설(5cm이상) - 바람(15m/sec이상)
B5: 법정공휴일(B) | C5: ='별표1-법정공휴일수'!D11 -> 5 | D5: ='별표1-법정공휴일수'!E11 -> 7 | E5: ='별표1-법정공휴일수'!F11 -> 5 | F5: ='별표1-법정공휴일수'!G11 -> 4 | G5: ='별표1-법정공휴일수'!H11 -> 7 | H5: ='별표1-법정공휴일수'!I11 -> 5 | I5: ='별표1-법정공휴일수'!J11 -> 4 | J5: ='별표1-법정공휴일수'!K11 -> 6 | ... N5: ='별표1-법정공휴일수'!O11 -> 5 | O5: 2026년 기준
B6: 중복일수(C) | C6: =C4*C5/C3 -> 1.6774194 | D6: =D4*D5/D3 -> 1.475 | E6: =E4*E5/E3 -> 0.62903226 | F6: =F4*F5/F3 -> 0.69333333 | G6: =G4*G5/G3 -> 0.92580645 | H6: =H4*H5/H3 -> 0.63333333 | I6: =I4*I5/I3 -> 1.6645161 | J6: =J4*J5/J3 -> 3.1935484 | ... N6: =N4*N5/N3 -> 1.6129032 | O6: 기후여건 * 법정공휴일 / 달력일수
B7: 소계 | C7: =ROUNDDOWN(C4+C5-C6,0) -> 13 | D7: =ROUNDDOWN(D4+D5-D6,0) -> 11 | E7: =ROUNDDOWN(E4+E5-E6,0) -> 8 | F7: =ROUNDDOWN(F4+F5-F6,0) -> 8 | G7: =ROUNDDOWN(G4+G5-G6,0) -> 10 | H7: =ROUNDDOWN(H4+H5-H6,0) -> 8 | I7: =ROUNDDOWN(I4+I5-I6,0) -> 15 | J7: =ROUNDDOWN(J4+J5-J6,0) -> 19 | ... N7: =ROUNDDOWN(N4+N5-N6,0) -> 13
A8: 월별작업가능일수 | C8: =C3-C7 -> 18 | D8: =D3-D7 -> 17 | E8: =E3-E7 -> 23 | F8: =F3-F7 -> 22 | G8: =G3-G7 -> 21 | H8: =H3-H7 -> 22 | I8: =I3-I7 -> 16 | J8: =J3-J7 -> 12 | ... N8: =N3-N7 -> 18 | O8: 달력일수 - 비작업일수
A9: 공사기간
A10: 1]준비기간 | K10: ='공사기간산출(작업량기준)'!E5 -> 8 | O10: =SUM(C10:N10) -> 8 | P10: * 현장답사, 이해관계인 면담 및 시공측량 등 현장확인, 관급자재수급기간 소요(6일 추가 적용)
A11: 2]작업일수 | K11: 11 | L11: 23 | M11: 15 | O11: =SUM(C11:N11) -> 49 | P11: * 소규모 공사의 현장여건 및 민원발생 등의 상황에 대비한 적용율 적용(150%적용)
A12: 3]정리기간 | M12: ='공사기간산출(작업량기준)'!E37 -> 5 | O12: =SUM(C12:N12) -> 5 | P12: * 공사 완료 후 민원발생 대응 및 현장 확인 등 기간 소요(6일 추가 적용)
A13: 작업일수 (준비,정리기간포함) | C13: =SUM(C9:C12) -> 0 | D13: =SUM(D9:D12) -> 0 | K13: =SUM(K9:K12) -> 19 | L13: =SUM(L9:L12) -> 23 | M13: =SUM(M9:M12) -> 20 | O13: =SUM(C13:N14) -> 90
A14: 비작업일수 | K14: =K7 -> 11 | L14: =L7 -> 8 | M14: =M7 -> 9
A15: ※ 공사기간 = 준비기간 + 작업일수 + 비작업일수 + 정리기간 | O15: ※ 10월 착공 기준시 ≒ 2개월 소요
O18: =O10+O11+O12 -> 62

Sheet 공사기간산출(작업량기준)
A1: 공 사 기 간 산 출(내역서 작업량기준)
A2: 구 분 | C2: 일작업량 | D2: 시공량 | E2: 작업일수 | F2: 비 고
A3: 1. 준비기간 | B3: 1] 각종서류및착수준비 | E3: 4
B4: 2] 각공종별준비기간 | E4: 4
B5: 소계 | E5: =SUM(E3:E4) -> 8
A6: 2. 공종별작업일수 | B6: (단가산출 작업량Q) | F6: 8
A7: 1)토공 | B7: 구조물터파기 | C7: =F6*F7 -> 377.92 | D7: 617 | E7: =ROUNDUP(D7/C7,1) -> 1.7 | F7: 47.24
B8: 되메우기 | C8: =F8*F6 -> 525.6 | D8: 511 | E8: =ROUNDUP(D8/C8,1) -> 1 | F8: 65.7
B9: 초류종자살포 | C9: =F6*F9 -> 3100 | D9: 151 | E9: =ROUNDUP(D9/C9,1) -> 0.1 | F9: 387.5
B10: 사토운반 | C10: =F6*F10 -> 615.84 | D10: 144 | E10: =ROUNDUP(D10/C10,1) -> 0.3 | F10: 76.98
B11: 무근콘크리트깨기 (T=30cm미만) | C11: =F6*F11 -> 36.8 | D11: 51 | E11: =ROUNDUP(D11/C11,1) -> 1.4 | F11: 4.6
B12: 아스팔트포장깨기 | C12: =F6*F12 -> 128 | D12: 81 | E12: =ROUNDUP(D12/C12,1) -> 0.7 | F12: 16
B13: 폐기물상차 | C13: =F6*F13 -> 143.28 | D13: 132 | E13: =ROUNDUP(D13/C13,1) -> 1 | F13: 17.91
B14: 기타 | E14: 3 | F14: 기타공종및 현장여건감안
A15: 2)포장공 | B15: 아스팔트 표층 | C15: =F15*F6 -> 300 | D15: 298 | E15: =ROUNDUP(D15/C15,1) -> 1 | F15: 37.5
B16: 아스팔트기층 | C16: =F16*F6 -> 320 | D16: 298 | E16: =ROUNDUP(D16/C16,1) -> 1 | F16: 40
B17: 보조기층포설및다짐 | C17: =F17*F6 -> 150 | D17: 76 | E17: =ROUNDUP(D17/C17,1) -> 0.6 | F17: 18.75
B18: 레미콘타설(장비) | C18: =F6*F18 -> 63.2 | D18: 55 | E18: =ROUNDUP(D18/C18,1) -> 0.9 | F18: 7.9
B19: 유로폼 | D19: 183 | E19: 2
B20: 도막포장 | C20: =F20*F6 -> 300 | D20: 1053 | E20: =ROUNDUP(D20/C20,1) -> 3.6 | F20: 37.5
B22: 기타 | E22: 2 | F22: 기타공종및 현장여건감안
A23: 3)구조물공 | B23: 레미콘타설(펌프차) | C23: =F6*F23 -> 100 | D23: 119.5 | E23: =ROUNDUP(D23/C23,1) -> 1.2 | F23: 12.5
B24: 레미콘타설(펌프차) | C24: =F6*F24 -> 104 | D24: 17.9 | E24: =ROUNDUP(D24/C24,1) -> 0.2 | F24: 13
B25: 유로폼 | D25: 401.1 | E25: 3
B26: 철근가공및조립(현장) | D26: 5.277 | E26: 3
B27: 강관비계 | D27: 149.4 | E27: 1.5
B29: 기타 | E29: 10 | F29: 기타공종및 현장여건감안
A30: 4)교통안전시설공 | B30: 차선도색 | C30: =F6*F30 -> 450 | D30: 1875 | E30: =ROUNDUP(D30/C30,1) -> 4.2 | F30: 56.25
B31: 가드레일설치 | C31: =F6*F31 -> 520 | D31: 56 | E31: =ROUNDUP(D31/C31,1) -> 0.2 | F31: 65
B32: 기타 | E32: 3 | F32: 기타공종및 현장여건감안
A33: 5) 부대공
B35: 기타 | E35: 2 | F35: 운반 및 하차
A36: 6) 소계 | E36: =ROUND(SUM(E7:E35),0) -> 49
A37: 3. 정리기간 | E37: 5 | F37: 1개월범위내계상(일반사항)
A39: 총작업일수 | E39: =ROUND(E5+E36+E37,0) -> 62

Sheet 별표1-법정공휴일수
B2: 별표 1. 법정 공휴일수(2021-2030년)
B4: 번호 | C4: 구분 | D4: 월간 법정공휴일 | P4: 소계
D5: 1월 | E5: 2월 | F5: 3월 | G5: 4월 | H5: 5월 | I5: 6월 | J5: 7월 | K5: 8월 | L5: 9월 | M5: 10월 | N5: 11월 | O5: 12월
B6: 1 | C6: 2021년 | D6: 6 | E6: 8 | F6: 5 | G6: 4 | H6: 8 | I6: 4 | J6: 4 | K6: 5 | L6: 7 | M6: 6 | N6: 4 | O6: 5 | P6: 66
B7: 2 | C7: 2022년 | D7: 7 | E7: 6 | F7: 5 | G7: 4 | H7: 6 | I7: 5 | J7: 5 | K7: 5 | L7: 7 | M7: 6 | N7: 4 | O7: 4 | P7: 64
B8: 3 | C8: 2023년 | D8: 8 | E8: 4 | F8: 5 | G8: 5 | H8: 7 | I8: 5 | J8: 5 | K8: 5 | L8: 7 | M8: 8 | N8: 4 | O8: 6 | P8: 69
B9: 4 | C9: 2024년 | D9: 5 | E9: 7 | F9: 6 | G9: 4 | H9: 7 | I9: 6 | J9: 4 | K9: 5 | L9: 8 | M9: 6 | N9: 4 | O9: 6 | P9: 68
B10: 5 | C10: 2025년 | D10: 8 | E10: 4 | F10: 6 | G10: 4 | H10: 7 | I10: 6 | J10: 4 | K10: 6 | L10: 4 | M10: 9 | N10: 5 | O10: 5 | P10: 68
B11: 6 | C11: 2026년 | D11: 5 | E11: 7 | F11: 5 | G11: 4 | H11: 7 | I11: 5 | J11: 4 | K11: 6 | L11: 8 | M11: 6 | N11: 5 | O11: 5 | P11: 67
B12: 7 | C12: 2027년 | D12: 6 | E12: 7 | F12: 5 | G12: 4 | H12: 8 | I12: 4 | J12: 4 | K12: 5 | L12: 7 | M12: 6 | N12: 4 | O12: 5 | P12: 65
B13: 8 | C13: 2028년 | D13: 9 | E13: 4 | F13: 5 | G13: 5 | H13: 7 | I13: 5 | J13: 5 | K13: 5 | L13: 4 | M13: 9 | N13: 4 | O13: 6 | P13: 68
B14: 9 | C14: 2029년 | D14: 5 | E14: 7 | F14: 5 | G14: 5 | H14: 7 | I14: 5 | J14: 5 | K14: 5 | L14: 7 | M14: 6 | N14: 4 | O14: 6 | P14: 67
B15: 10 | C15: 2030년 | D15: 5 | E15: 7 | F15: 6 | G15: 4 | H15: 7 | I15: 6 | J15: 4 | K15: 5 | L15: 8 | M15: 6 | N15: 4 | O15: 6 | P15: 68
B16: ※ 공휴일은 「관공서의 공휴일에 관한 규정」에 따른 관공서의 공휴일과 「근로기준법」에 따른 근로자의 날을 적용. 단, 공직선거법 제34조에 따른 임기만료에 따른 선거의 선거일과 기타 정부에서 수시 지정하는 날은 매년 불규칙하므로 비작업일수 산정에서 제외
B18: ※ 관공서의 공휴일
B19: · 일요일(52일)
B20: · 명절(6일) : 설 연휴, 추석 연휴(대체공휴일 시행)
B21: · 국경일(4일) : 3·1절, 광복절, 개천절, 한글날
B22: · 기타(5일) : 1월 1일, 5월 5일(대체공휴일 시행), 6월 6일, 부처님 오신 날(음력 4월 8일), 12월 25일
B23: · 공직선거법 제34조에 따른 임기만료에 따른 선거의 선거일
B24: · 기타 정부에서 수시 지정하는 날

Sheet 별표2-기상상태(서산)적용
B2: 별표 2. 기상상태에 따른 지역별 비작업일수(2010년-2019년) | T2: 별표 2. 기상상태에 따른 지역별 비작업일수(2010년-2019년) | AL2: 별표 2. 기상상태에 따른 지역별 비작업일수(2010년-2019년) | BD2: 별표 2. 기상상태에 따른 지역별 비작업일수(2010년-2019년) | BV2: 별표 2. 기상상태에 따른 지역별 비작업일수(2010년-2019년)
B3: (1) 혹서기 : 33°C 이상 | T3: (2) 동절기 : 일최고기온 0°C 이하 | AL3: (3) 일강수량 : 5㎜ 이상 | BD3: (4) 일최대순간풍속 : 15m/s 이상 | BV3: (5) 신적설 5㎝ 이상
B5: 번호 | C5: 행정 | D5: 지점 | E5: 지점명 | F5: 월평균 기상데이터 | R5: 소계 | T5: 번호 | U5: 행정 | V5: 지점 | W5: 지점명 | X5: 월평균 기상데이터 | AJ5: 소계 | AL5: 번호 | AM5: 행정 | AN5: 지점 | AO5: 지점명 | AP5: 월평균 기상데이터 | BB5: 소계 | BD5: 번호 | BE5: 행정 | BF5: 지점 | BG5: 지점명 | BH5: 월평균 기상데이터 | BT5: 소계 | BV5: 번호 | BW5: 행정 | BX5: 지점 | BY5: 지점명 | BZ5: 월평균 기상데이터 | CL5: 소계
C6: 구역 | D6: 코드 | U6: 구역 | V6: 코드 | AM6: 구역 | AN6: 코드 | BE6: 구역 | BF6: 코드 | BW6: 구역 | BX6: 코드
C7: (특별시· | U7: (특별시· | AM7: (특별시· | BE7: (특별시· | BW7: (특별시·
C8: 광역시·도) | F8: 1월 | G8: 2월 | H8: 3월 | I8: 4월 | J8: 5월 | K8: 6월 | L8: 7월 | M8: 8월 | N8: 9월 | O8: 10월 | P8: 11월 | Q8: 12월 | U8: 광역시·도) | X8: 1월 | Y8: 2월 | Z8: 3월 | AA8: 4월 | AB8: 5월 | AC8: 6월 | AD8: 7월 | AE8: 8월 | AF8: 9월 | AG8: 10월 | AH8: 11월 | AI8: 12월 | AM8: 광역시·도) | AP8: 1월 | AQ8: 2월 | AR8: 3월 | AS8: 4월 | AT8: 5월 | AU8: 6월 | AV8: 7월 | AW8: 8월 | AX8: 9월 | AY8: 10월 | AZ8: 11월 | BA8: 12월 | BE8: 광역시·도) | BH8: 1월 | BI8: 2월 | BJ8: 3월 | BK8: 4월 | BL8: 5월 | BM8: 6월 | BN8: 7월 | BO8: 8월 | BP8: 9월 | BQ8: 10월 | BR8: 11월 | BS8: 12월 | BW8: 광역시·도) | BZ8: 1월 | CA8: 2월 | CB8: 3월 | CC8: 4월 | CD8: 5월 | CE8: 6월 | CF8: 7월 | CG8: 8월 | CH8: 9월 | CI8: 10월 | CJ8: 11월 | CK8: 12월
B9: 1 | C9: 강원도 | D9: 105 | E9: 강릉 | F9: 0 | G9: 0 | H9: 0 | I9: 0 | J9: 0.9 | K9: 0.8 | L9: 7 | M9: 6 | N9: 0.1 | O9: 0 | P9: 0 | Q9: 0 | R9: 14.8 | T9: 1 | U9: 강원도 | V9: 105 | W9: 강릉 | X9: 3.2 | Y9: 1.5 | Z9: 0 | AA9: 0 | AB9: 0 | AC9: 0 | AD9: 0 | AE9: 0 | AF9: 0 | AG9: 0 | AH9: 0 | AI9: 1.5 | AJ9: 6.2 | AL9: 1 | AM9: 강원도 | AN9: 105 | AO9: 강릉 | AP9: 2.2 | AQ9: 2.7 | AR9: 4.5 | AS9: 4.5 | AT9: 2.4 | AU9: 3.1 | AV9: 8.1 | AW9: 7.8 | AX9: 6.3 | AY9: 3.8 | AZ9: 3.5 | BA9: 2 | BB9: 50.9 | BD9: 1 | BE9: 강원도 | BF9: 105 | BG9: 강릉 | BH9: 1.9 | BI9: 0.9 | BJ9: 2.5 | BK9: 3.2 | BL9: 2.5 | BM9: 0.3 | BN9: 0.3 | BO9: 0.4 | BP9: 0.3 | BQ9: 0.9 | BR9: 1.7 | BS9: 1.4 | BT9: 16.3 | BV9: 1 | BW9: 강원도 | BX9: 105 | BY9: 강릉 | BZ9: 0 | CA9: 0 | CB9: 0 | CC9: 0 | CD9: 0 | CE9: 0 | CF9: 0 | CG9: 0 | CH9: 0 | CI9: 0 | CJ9: 0 | CK9: 0 | CL9: 0
B10: 2 | C10: 강원도 | D10: 100 | E10: 대관령 | F10: 0 | G10: 0 | H10: 0 | I10: 0 | J10: 0 | K10: 0 | L10: 0 | M10: 0 | N10: 0 | O10: 0 | P10: 0 | Q10: 0 | R10: 0 | T10: 2 | U10: 강원도 | V10: 100 | W10: 대관령 | X10: 21.3 | Y10: 12.3 | Z10: 3.9 | AA10: 0 | AB10: 0 | AC10: 0 | AD10: 0 | AE10: 0 | AF10: 0 | AG10: 0 | AH10: 1.7 | AI10: 15.1 | AJ10: 54.3 | AL10: 2 | AM10: 강원도 | AN10: 100 | AO10: 대관령 | AP10: 1.5 | AQ10: 2.4 | AR10: 3.4 | AS10: 5.4 | AT10: 3.2 | AU10: 4.7 | AV10: 9.2 | AW10: 8.9 | AX10: 6.2 | AY10: 3 | AZ10: 3.3 | BA10: 1.7 | BB10: 52.9 | BD10: 2 | BE10: 강원도 | BF10: 100 | BG10: 대관령 | BH10: 7.5 | BI10: 5.6 | BJ10: 8 | BK10: 8.1 | BL10: 7.5 | BM10: 1.1 | BN10: 2.1 | BO10: 2.6 | BP10: 1.2 | BQ10: 3.6 | BR10: 6.9 | BS10: 9.4 | BT10: 63.6 | BV10: 2 | BW10: 강원도 | BX10: 100 | BY10: 대관령 | BZ10: 1.5 | CA10: 1.7 | CB10: 2 | CC10: 0.5 | CD10: 0 | CE10: 0 | CF10: 0 | CG10: 0 | CH10: 0 | CI10: 0 | CJ10: 0.3 | CK10: 1.6 | CL10: 7.6
B11: 3 | C11: 강원도 | D11: 106 | E11: 동해 | F11: 0 | G11: 0 | H11: 0 | I11: 0 | J11: 0.1 | K11: 0.2 | L11: 3 | M11: 2.8 | N11: 0 | O11: 0 | P11: 0 | Q11: 0 | R11: 6.1 | T11: 3 | U11: 강원도 | V11: 106 | W11: 동해 | X11: 3 | Y11: 1 | Z11: 0 | AA11: 0 | AB11: 0 | AC11: 0 | AD11: 0 | AE11: 0 | AF11: 0 | AG11: 0 | AH11: 0 | AI11: 1 | AJ11: 5 | AL11: 3 | AM11: 강원도 | AN11: 106 | AO11: 동해 | AP11: 1.9 | AQ11: 2.8 | AR11: 4.3 | AS11: 4 | AT11: 2 | AU11: 2.8 | AV11: 6.2 | AW11: 7.3 | AX11: 6.2 | AY11: 4.2 | AZ11: 3.4 | BA11: 1.5 | BB11: 46.6 | BD11: 3 | BE11: 강원도 | BF11: 106 | BG11: 동해 | BH11: 3 | BI11: 1.5 | BJ11: 2.3 | BK11: 3.7 | BL11: 3.1 | BM11: 0.1 | BN11: 0.5 | BO11: 1 | BP11: 0.4 | BQ11: 1.1 | BR11: 2.6 | BS11: 3.1 | BT11: 22.4 | BV11: 3 | BW11: 강원도 | BX11: 106 | BY11: 동해 | BZ11: 0.3 | CA11: 0.8 | CB11: 0.4 | CC11: 0 | CD11: 0 | CE11: 0 | CF11: 0 | CG11: 0 | CH11: 0 | CI11: 0 | CJ11: 0 | CK11: 0 | CL11: 1.5
B12: 4 | C12: 강원도 | D12: 104 | E12: 북강릉 | F12: 0 | G12: 0 | H12: 0 | I12: 0 | J12: 0.3 | K12: 0.3 | L12: 4.8 | M12: 4.1 | N12: 0 | O12: 0 | P12: 0 | Q12: 0 | R12: 9.5 | T12: 4 | U12: 강원도 | V12: 104 | W12: 북강릉 | X12: 4.1 | Y12: 2.3 | Z12: 0 | AA12: 0 | AB12: 0 | AC12: 0 | AD12: 0 | AE12: 0 | AF12: 0 | AG12: 0 | AH12: 0 | AI12: 2.1 | AJ12: 8.5 | AL12: 4 | AM12: 강원도 | AN12: 104 | AO12: 북강릉 | AP12: 2.3 | AQ12: 3 | AR12: 4.3 | AS12: 4.2 | AT12: 2.8 | AU12: 2.6 | AV12: 7.6 | AW12: 7.9 | AX12: 6.2 | AY12: 3.7 | AZ12: 3.4 | BA12: 1.8 | BB12: 49.8 | BD12: 4 | BE12: 강원도 | BF12: 104 | BG12: 북강릉 | BH12: 0.9 | BI12: 0.6 | BJ12: 1.3 | BK12: 2.6 | BL12: 2.4 | BM12: 0.1 | BN12: 0.2 | BO12: 0.1 | BP12: 0.2 | BQ12: 0.3 | BR12: 1 | BS12: 1.6 | BT12: 11.3 | BV12: 4 | BW12: 강원도 | BX12: 104 | BY12: 북강릉 | BZ12: 1.6 | CA12: 2.3 | CB12: 1.4 | CC12: 0.1 | CD12: 0 | CE12: 0 | CF12: 0 | CG12: 0 | CH12: 0 | CI12: 0 | CJ12: 0 | CK12: 0.6 | CL12: 6
B13: 5 | C13: 강원도 | D13: 93 | E13: 북춘천 | F13: 0 | G13: 0 | H13: 0 | I13: 0 | J13: 0.1 | K13: 0.8 | L13: 3 | M13: 3.3 | N13: 0 | O13: 0 | P13: 0 | Q13: 0 | R13: 7.2 | T13: 5 | U13: 강원도 | V13: 93 | W13: 북춘천 | X13: 2.4 | Y13: 0.9 | Z13: 0 | AA13: 0 | AB13: 0 | AC13: 0 | AD13: 0 | AE13: 0 | AF13: 0 | AG13: 0 | AH13: 0 | AI13: 2.3 | AJ13: 5.6 | AL13: 5 | AM13: 강원도 | AN13: 93 | AO13: 북춘천 | AP13: 0.2 | AQ13: 0.3 | AR13: 0.6 | AS13: 1.6 | AT13: 1.2 | AU13: 0.9 | AV13: 2.2 | AW13: 2.1 | AX13: 1 | AY13: 1.4 | AZ13: 0.7 | BA13: 0.6 | BB13: 12.8 | BD13: 5 | BE13: 강원도 | BF13: 93 | BG13: 북춘천 | BH13: 0 | BI13: 0 | BJ13: 0 | BK13: 0.1 | BL13: 0.2 | BM13: 0.1 | BN13: 0 | BO13: 0 | BP13: 0.2 | BQ13: 0 | BR13: 0 | BS13: 0 | BT13: 0.6 | BV13: 5 | BW13: 강원도 | BX13: 93 | BY13: 북춘천 | BZ13: 0.3 | CA13: 0.1 | CB13: 0 | CC13: 0 | CD13: 0 | CE13: 0 | CF13: 0 | CG13: 0 | CH13: 0 | CI13: 0 | CJ13: 0.1 | CK13: 0.1 | CL13: 0.6
B14: 6 | C14: 강원도 | D14: 90 | E14: 속초 | F14: 0 | G14: 0 | H14: 0 | I14: 0 | J14: 0.2 | K14: 0.4 | L14: 4.5 | M14: 2.9 | N14: 0 | O14: 0 | P14: 0 | Q14: 0 | R14: 8 | T14: 6 | U14: 강원도 | V14: 90 | W14: 속초 | X14: 4.1 | Y14: 2.1 | Z14: 0 | AA14: 0 | AB14: 0 | AC14: 0 | AD14: 0 | AE14: 0 | AF14: 0 | AG14: 0 | AH14: 0 | AI14: 2.8 | AJ14: 9 | AL14: 6 | AM14: 강원도 | AN14: 90 | AO14: 속초 | AP14: 1.8 | AQ14: 2.9 | AR14: 3.7 | AS14: 4.5 | AT14: 2.7 | AU14: 3.1 | AV14: 8.3 | AW14: 8.1 | AX14: 4.9 | AY14: 3.8 | AZ14: 4.6 | BA14: 1.6 | BB14: 50 | BD14: 6 | BE14: 강원도 | BF14: 90 | BG14: 속초 | BH14: 2.6 | BI14: 1.4 | BJ14: 3.2 | BK14: 3.8 | BL14: 3 | BM14: 0.3 | BN14: 0.6 | BO14: 1 | BP14: 0.4 | BQ14: 1.1 | BR14: 2.8 | BS14: 4 | BT14: 24.2 | BV14: 6 | BW14: 강원도 | BX14: 90 | BY14: 속초 | BZ14: 0.7 | CA14: 1.9 | CB14: 1.2 | CC14: 0.1 | CD14: 0 | CE14: 0 | CF14: 0 | CG14: 0 | CH14: 0 | CI14: 0 | CJ14: 0 | CK14: 0.3 | CL14: 4.2
B15: 7 | C15: 강원도 | D15: 121 | E15: 영월 | F15: 0 | G15: 0 | H15: 0 | I15: 0 | J15: 0.8 | K15: 2.2 | L15: 4.6 | M15: 8.6 | N15: 0.3 | O15: 0 | P15: 0 | Q15: 0 | R15: 16.5 | T15: 7 | U15: 강원도 | V15: 121 | W15: 영월 | X15: 8.9 | Y15: 2.4 | Z15: 0 | AA15: 0 | AB15: 0 | AC15: 0 | AD15: 0 | AE15: 0 | AF15: 0 | AG15: 0 | AH15: 0.1 | AI15: 5.9 | AJ15: 17.3 | AL15: 7 | AM15: 강원도 | AN15: 121 | AO15: 영월 | AP15: 0.6 | AQ15: 1.9 | AR15: 3.1 | AS15: 4.9 | AT15: 3.7 | AU15: 4.4 | AV15: 8.5 | AW15: 8 | AX15: 4.1 | AY15: 2.8 | AZ15: 2.7 | BA15: 1.5 | BB15: 46.2 | BD15: 7 | BE15: 강원도 | BF15: 121 | BG15: 영월 | BH15: 0 | BI15: 0.2 | BJ15: 0.5 | BK15: 0.6 | BL15: 0.8 | BM15: 0.1 | BN15: 0.2 | BO15: 0.2 | BP15: 0.1 | BQ15: 0.2 | BR15: 0.4 | BS15: 0.5 | BT15: 3.8 | BV15: 7 | BW15: 강원도 | BX15: 121 | BY15: 영월 | BZ15: 0.1 | CA15: 0.2 | CB15: 0.2 | CC15: 0 | CD15: 0 | CE15: 0 | CF15: 0 | CG15: 0 | CH15: 0 | CI15: 0 | CJ15: 0 | CK15: 0.1 | CL15: 0.6
B16: 8 | C16: 강원도 | D16: 114 | E16: 원주 | F16: 0 | G16: 0 | H16: 0 | I16: 0 | J16: 0.2 | K16: 0.7 | L16: 4.8 | M16: 9 | N16: 0.4 | O16: 0 | P16: 0 | Q16: 0 | R16: 15.1 | T16: 8 | U16: 강원도 | V16: 114 | W16: 원주 | X16: 10.4 | Y16: 3 | Z16: 0 | AA16: 0 | AB16: 0 | AC16: 0 | AD16: 0 | AE16: 0 | AF16: 0 | AG16: 0 | AH16: 0.1 | AI16: 7 | AJ16: 20.5 | AL16: 8 | AM16: 강원도 | AN16: 114 | AO16: 원주 | AP16: 0.9 | AQ16: 1.9 | AR16: 2.7 | AS16: 5 | AT16: 3.9 | AU16: 4.3 | AV16: 9.1 | AW16: 8.9 | AX16: 4.7 | AY16: 3 | AZ16: 3 | BA16: 1.5 | BB16: 48.9 | BD16: 8 | BE16: 강원도 | BF16: 114 | BG16: 원주 | BH16: 0.1 | BI16: 0.1 | BJ16: 0.1 | BK16: 0.2 | BL16: 0 | BM16: 0 | BN16: 0.1 | BO16: 0.3 | BP16: 0.3 | BQ16: 0 | BR16: 0.2 | BS16: 0 | BT16: 1.4 | BV16: 8 | BW16: 강원도 | BX16: 114 | BY16: 원주 | BZ16: 0.3 | CA16: 0.3 | CB16: 0.3 | CC16: 0 | CD16: 0 | CE16: 0 | CF16: 0 | CG16: 0 | CH16: 0 | CI16: 0 | CJ16: 0 | CK16: 0.5 | CL16: 1.4
B17: 9 | C17: 강원도 | D17: 211 | E17: 인제 | F17: 0 | G17: 0 | H17: 0 | I17: 0 | J17: 0.1 | K17: 0.3 | L17: 2.3 | M17: 5.3 | N17: 0 | O17: 0 | P17: 0 | Q17: 0 | R17: 8 | T17: 9 | U17: 강원도 | V17: 211 | W17: 인제 | X17: 11.6 | Y17: 3.2 | Z17: 0 | AA17: 0 | AB17: 0 | AC17: 0 | AD17: 0 | AE17: 0 | AF17: 0 | AG17: 0 | AH17: 0.2 | AI17: 8.4 | AJ17: 23.4 | AL17: 9 | AM17: 강원도 | AN17: 211 | AO17: 인제 | AP17: 0.7 | AQ17: 1.4 | AR17: 2 | AS17: 4.8 | AT17: 3.7 | AU17: 4.5 | AV17: 10.5 | AW17: 7.6 | AX17: 4.3 | AY17: 2.6 | AZ17: 3.4 | BA17: 1.6 | BB17: 47.1 | BD17: 9 | BE17: 강원도 | BF17: 211 | BG17: 인제 | BH17: 0 | BI17: 0.2 | BJ17: 0.3 | BK17: 0.5 | BL17: 0.7 | BM17: 0 | BN17: 0 | BO17: 0.1 | BP17: 0.2 | BQ17: 0 | BR17: 0.2 | BS17: 0 | BT17: 2.2 | BV17: 9 | BW17: 강원도 | BX17: 211 | BY17: 인제 | BZ17: 0 | CA17: 0 | CB17: 0 | CC17: 0 | CD17: 0 | CE17: 0 | CF17: 0 | CG17: 0 | CH17: 0 | CI17: 0 | CJ17: 0 | CK17: 0 | CL17: 0
B18: 10 | C18: 강원도 | D18: 217 | E18: 정선군 | F18: 0 | G18: 0 | H18: 0 | I18: 0 | J18: 0.3 | K18: 0.8 | L18: 4.4 | M18: 5.9 | N18: 0 | O18: 0 | P18: 0 | Q18: 0 | R18: 11.4 | T18: 10 | U18: 강원도 | V18: 217 | W18: 정선군 | X18: 9.4 | Y18: 3 | Z18: 0.2 | AA18: 0 | AB18: 0 | AC18: 0 | AD18: 0 | AE18: 0 | AF18: 0 | AG18: 0 | AH18: 0.1 | AI18: 7.3 | AJ18: 20 | AL18: 10 | AM18: 강원도 | AN18: 217 | AO18: 정선군 | AP18: 0.4 | AQ18: 1.7 | AR18: 2.1 | AS18: 4.4 | AT18: 3.2 | AU18: 3.7 | AV18: 7.9 | AW18: 7.2 | AX18: 4.5 | AY18: 2.6 | AZ18: 2.6 | BA18: 1.1 | BB18: 41.4 | BD18: 10 | BE18: 강원도 | BF18: 217 | BG18: 정선군 | BH18: 4.2 | BI18: 4.2 | BJ18: 5.6 | BK18: 7.3 | BL18: 5.2 | BM18: 0.7 | BN18: 0.8 | BO18: 0.6 | BP18: 0.7 | BQ18: 2.4 | BR18: 4.6 | BS18: 5.9 | BT18: 42.2 | BV18: 10 | BW18: 강원도 | BX18: 217 | BY18: 정선군 | BZ18: 0 | CA18: 0 | CB18: 0 | CC18: 0 | CD18: 0 | CE18: 0 | CF18: 0 | CG18: 0 | CH18: 0 | CI18: 0 | CJ18: 0 | CK18: 0 | CL18: 0
B19: 11 | C19: 강원도 | D19: 95 | E19: 철원 | F19: 0 | G19: 0 | H19: 0 | I19: 0 | J19: 0 | K19: 0.3 | L19: 1.7 | M19: 5.2 | N19: 0 | O19: 0 | P19: 0 | Q19: 0 | R19: 7.2 | T19: 11 | U19: 강원도 | V19: 95 | W19: 철원 | X19: 13.8 | Y19: 5.3 | Z19: 0.1 | AA19: 0 | AB19: 0 | AC19: 0 | AD19: 0 | AE19: 0 | AF19: 0 | AG19: 0 | AH19: 0.3 | AI19: 10.3 | AJ19: 29.8 | AL19: 11 | AM19: 강원도 | AN19: 95 | AO19: 철원 | AP19: 0.9 | AQ19: 1.3 | AR19: 1.7 | AS19: 4.4 | AT19: 4.3 | AU19: 4.1 | AV19: 10 | AW19: 8.1 | AX19: 4.1 | AY19: 2.8 | AZ19: 3.9 | BA19: 1.6 | BB19: 47.2 | BD19: 11 | BE19: 강원도 | BF19: 95 | BG19: 철원 | BH19: 0 | BI19: 0 | BJ19: 0.2 | BK19: 0.4 | BL19: 0.4 | BM19: 0.1 | BN19: 0.3 | BO19: 0.5 | BP19: 0.5 | BQ19: 0.2 | BR19: 0.3 | BS19: 0 | BT19: 2.9 | BV19: 11 | BW19: 강원도 | BX19: 95 | BY19: 철원 | BZ19: 0.7 | CA19: 0.4 | CB19: 0.1 | CC19: 0 | CD19: 0 | CE19: 0 | CF19: 0 | CG19: 0 | CH19: 0 | CI19: 0 | CJ19: 0.1 | CK19: 0.7 | CL19: 2
B20: 12 | C20: 강원도 | D20: 101 | E20: 춘천 | F20: 0 | G20: 0 | H20: 0 | I20: 0 | J20: 0.2 | K20: 1.5 | L20: 4.6 | M20: 7.9 | N20: 0 | O20: 0 | P20: 0 | Q20: 0 | R20: 14.2 | T20: 12 | U20: 강원도 | V20: 101 | W20: 춘천 | X20: 11.4 | Y20: 3 | Z20: 0 | AA20: 0 | AB20: 0 | AC20: 0 | AD20: 0 | AE20: 0 | AF20: 0 | AG20: 0 | AH20: 0.1 | AI20: 9.3 | AJ20: 23.8 | AL20: 12 | AM20: 강원도 | AN20: 101 | AO20: 춘천 | AP20: 1 | AQ20: 1.7 | AR20: 2 | AS20: 5.4 | AT20: 4 | AU20: 4.2 | AV20: 10.2 | AW20: 7.4 | AX20: 4.1 | AY20: 2.5 | AZ20: 3.5 | BA20: 1.7 | BB20: 47.7 | BD20: 12 | BE20: 강원도 | BF20: 101 | BG20: 춘천 | BH20: 0 | BI20: 0 | BJ20: 0.1 | BK20: 0.3 | BL20: 0.3 | BM20: 0 | BN20: 0 | BO20: 0.1 | BP20: 0.2 | BQ20: 0 | BR20: 0.1 | BS20: 0 | BT20: 1.1 | BV20: 12 | BW20: 강원도 | BX20: 101 | BY20: 춘천 | BZ20: 0.7 | CA20: 0.3 | CB20: 0 | CC20: 0 | CD20: 0 | CE20: 0 | CF20: 0 | CG20: 0 | CH20: 0 | CI20: 0 | CJ20: 0 | CK20: 1.1 | CL20: 2.1
... B76: 68 | C76: 전라남도 | D76: 175 | E76: 진도(첨찰산) | F76: 0 | G76: 0 | H76: 0 | I76: 0 | J76: 0 | K76: 0 | L76: 0.5 | M76: 2 | N76: 0 | O76: 0 | P76: 0 | Q76: 0 | R76: 2.5 | T76: 68 | U76: 전라남도 | V76: 175 | W76: 진도(첨찰산) | X76: 7.8 | Y76: 4.4 | Z76: 0.2 | AA76: 0 | AB76: 0 | AC76: 0 | AD76: 0 | AE76: 0 | AF76: 0 | AG76: 0 | AH76: 0 | AI76: 3.3 | AJ76: 15.7 | AL76: 68 | AM76: 전라남도 | AN76: 175 | AO76: 진도(첨찰산) | AP76: 1.6 | AQ76: 3 | AR76: 4.4 | AS76: 5.7 | AT76: 4.6 | AU76: 4.5 | AV76: 6 | AW76: 6.3 | AX76: 4.1 | AY76: 2.7 | AZ76: 3.7 | BA76: 3.3 | BB76: 49.9 | BD76: 68 | BE76: 전라남도 | BF76: 175 | BG76: 진도(첨찰산) | BH76: 9.9 | BI76: 9 | BJ76: 10.6 | BK76: 10.5 | BL76: 7.5 | BM76: 2.9 | BN76: 5.8 | BO76: 3.9 | BP76: 2.1 | BQ76: 3.8 | BR76: 6 | BS76: 10 | BT76: 82 | BV76: 68 | BW76: 전라남도 | BX76: 175 | BY76: 진도(첨찰산) | BZ76: 0.4 | CA76: 0.1 | CB76: 0 | CC76: 0 | CD76: 0 | CE76: 0 | CF76: 0 | CG76: 0 | CH76: 0 | CI76: 0 | CJ76: 0 | CK76: 1.2 | CL76: 1.7
E77: (첨찰산) | F77: 0 | G77: 0 | H77: 0 | I77: 0 | J77: 0 | K77: 0 | L77: 0.8 | M77: 2.9 | N77: 0 | O77: 0 | P77: 0 | Q77: 0 | R77: 3.7 | W77: (첨찰산) | AO77: (첨찰산) | BG77: (첨찰산) | BY77: (첨찰산)
B78: 69 | C78: 전라남도 | D78: 268 | E78: 진도군 | F78: 0 | G78: 0 | H78: 0 | I78: 0 | J78: 0 | K78: 0.2 | L78: 3.9 | M78: 8.9 | N78: 0.2 | O78: 0 | P78: 0 | Q78: 0 | R78: 13.2 | T78: 69 | U78: 전라남도 | V78: 268 | W78: 진도군 | X78: 0.9 | Y78: 0.3 | Z78: 0 | AA78: 0 | AB78: 0 | AC78: 0 | AD78: 0 | AE78: 0 | AF78: 0 | AG78: 0 | AH78: 0 | AI78: 0 | AJ78: 1.2 | AL78: 69 | AM78: 전라남도 | AN78: 268 | AO78: 진도군 | AP78: 1.3 | AQ78: 0.9 | AR78: 1.7 | AS78: 3.1 | AT78: 2.7 | AU78: 2.5 | AV78: 3.4 | AW78: 3.3 | AX78: 3.1 | AY78: 2 | AZ78: 2 | BA78: 1.9 | BB78: 27.9 | BD78: 69 | BE78: 전라남도 | BF78: 268 | BG78: 진도군 | BH78: 0.3 | BI78: 0.4 | BJ78: 0 | BK78: 0.3 | BL78: 0.2 | BM78: 0 | BN78: 0 | BO78: 0.2 | BP78: 0.2 | BQ78: 0.5 | BR78: 0.4 | BS78: 0.9 | BT78: 3.4 | BV78: 69 | BW78: 전라남도 | BX78: 268 | BY78: 진도군 | BZ78: 0 | CA78: 0 | CB78: 0 | CC78: 0 | CD78: 0 | CE78: 0 | CF78: 0 | CG78: 0 | CH78: 0 | CI78: 0 | CJ78: 0 | CK78: 0 | CL78: 0
B79: 70 | C79: 전라남도 | D79: 261 | E79: 해남 | F79: 0 | G79: 0 | H79: 0 | I79: 0 | J79: 0 | K79: 0 | L79: 0 | M79: 1.2 | N79: 0 | O79: 0 | P79: 0 | Q79: 0 | R79: 1.2 | T79: 70 | U79: 전라남도 | V79: 261 | W79: 해남 | X79: 2 | Y79: 1.1 | Z79: 0 | AA79: 0 | AB79: 0 | AC79: 0 | AD79: 0 | AE79: 0 | AF79: 0 | AG79: 0 | AH79: 0 | AI79: 0.5 | AJ79: 3.6 | AL79: 70 | AM79: 전라남도 | AN79: 261 | AO79: 해남 | AP79: 1.6 | AQ79: 2.7 | AR79: 4 | AS79: 5.3 | AT79: 4.1 | AU79: 4.2 | AV79: 5.2 | AW79: 5.9 | AX79: 4.8 | AY79: 2.7 | AZ79: 3.5 | BA79: 2.7 | BB79: 46.7 | BD79: 70 | BE79: 전라남도 | BF79: 261 | BG79: 해남 | BH79: 0.8 | BI79: 1.7 | BJ79: 1 | BK79: 1.5 | BL79: 0.7 | BM79: 0.2 | BN79: 1 | BO79: 0.8 | BP79: 0.7 | BQ79: 0.8 | BR79: 0.6 | BS79: 0.9 | BT79: 10.7 | BV79: 70 | BW79: 전라남도 | BX79: 261 | BY79: 해남 | BZ79: 0 | CA79: 0 | CB79: 0 | CC79: 0 | CD79: 0 | CE79: 0 | CF79: 0 | CG79: 0 | CH79: 0 | CI79: 0 | CJ79: 0 | CK79: 0 | CL79: 0
B80: 71 | C80: 전라남도 | D80: 169 | E80: 흑산도 | F80: 0 | G80: 0 | H80: 0 | I80: 0 | J80: 0 | K80: 0.1 | L80: 4 | M80: 8.8 | N80: 0 | O80: 0 | P80: 0 | Q80: 0 | R80: 12.9 | T80: 71 | U80: 전라남도 | V80: 169 | W80: 흑산도 | X80: 1.4 | Y80: 0.5 | Z80: 0 | AA80: 0 | AB80: 0 | AC80: 0 | AD80: 0 | AE80: 0 | AF80: 0 | AG80: 0 | AH80: 0 | AI80: 0.1 | AJ80: 2 | AL80: 71 | AM80: 전라남도 | AN80: 169 | AO80: 흑산도 | AP80: 1.4 | AQ80: 2.1 | AR80: 3.2 | AS80: 5.1 | AT80: 3.7 | AU80: 3.8 | AV80: 6.1 | AW80: 5.9 | AX80: 5.3 | AY80: 2.8 | AZ80: 3.1 | BA80: 2.3 | BB80: 44.8 | BD80: 71 | BE80: 전라남도 | BF80: 169 | BG80: 흑산도 | BH80: 14.2 | BI80: 11.7 | BJ80: 12.1 | BK80: 9.3 | BL80: 6 | BM80: 3.3 | BN80: 6 | BO80: 4 | BP80: 3.6 | BQ80: 7.8 | BR80: 10.7 | BS80: 16.2 | BT80: 104.9 | BV80: 71 | BW80: 전라남도 | BX80: 169 | BY80: 흑산도 | BZ80: 0.3 | CA80: 0.3 | CB80: 0 | CC80: 0 | CD80: 0 | CE80: 0 | CF80: 0 | CG80: 0 | CH80: 0 | CI80: 0 | CJ80: 0 | CK80: 0.4 | CL80: 1
B81: 72 | C81: 전라북도 | D81: 172 | E81: 고창 | F81: 0 | G81: 0 | H81: 0 | I81: 0 | J81: 0.2 | K81: 0.2 | L81: 6.2 | M81: 12.3 | N81: 0.4 | O81: 0 | P81: 0 | Q81: 0 | R81: 19.3 | T81: 72 | U81: 전라북도 | V81: 172 | W81: 고창 | X81: 4.5 | Y81: 1.8 | Z81: 0 | AA81: 0 | AB81: 0 | AC81: 0 | AD81: 0 | AE81: 0 | AF81: 0 | AG81: 0 | AH81: 0 | AI81: 2.3 | AJ81: 8.6 | AL81: 72 | AM81: 전라북도 | AN81: 172 | AO81: 고창 | AP81: 1.9 | AQ81: 1.6 | AR81: 2.4 | AS81: 4.3 | AT81: 2.9 | AU81: 3.1 | AV81: 7.5 | AW81: 6.5 | AX81: 3.7 | AY81: 2.8 | AZ81: 2.9 | BA81: 3.5 | BB81: 43.1 | BD81: 72 | BE81: 전라북도 | BF81: 172 | BG81: 고창 | BH81: 1.6 | BI81: 2.1 | BJ81: 2.9 | BK81: 3.3 | BL81: 1.4 | BM81: 1.1 | BN81: 1.8 | BO81: 1.4 | BP81: 0.5 | BQ81: 1.7 | BR81: 2.7 | BS81: 3.6 | BT81: 24.1 | BV81: 72 | BW81: 전라북도 | BX81: 172 | BY81: 고창 | BZ81: 0.7 | CA81: 0.3 | CB81: 0 | CC81: 0 | CD81: 0 | CE81: 0 | CF81: 0 | CG81: 0 | CH81: 0 | CI81: 0 | CJ81: 0.1 | CK81: 1.5 | CL81: 2.6
B82: 73 | C82: 전라북도 | D82: 251 | E82: 고창군 | F82: 0 | G82: 0 | H82: 0 | I82: 0 | J82: 0 | K82: 0 | L82: 2.4 | M82: 7 | N82: 0.2 | O82: 0 | P82: 0 | Q82: 0 | R82: 9.6 | T82: 73 | U82: 전라북도 | V82: 251 | W82: 고창군 | X82: 5.4 | Y82: 1.4 | Z82: 0 | AA82: 0 | AB82: 0 | AC82: 0 | AD82: 0 | AE82: 0 | AF82: 0 | AG82: 0 | AH82: 0 | AI82: 2.1 | AJ82: 8.9 | AL82: 73 | AM82: 전라북도 | AN82: 251 | AO82: 고창군 | AP82: 2.4 | AQ82: 1.9 | AR82: 3 | AS82: 5.2 | AT82: 3.9 | AU82: 3.4 | AV82: 8.2 | AW82: 8.5 | AX82: 4 | AY82: 3.2 | AZ82: 3.3 | BA82: 3.3 | BB82: 50.3 | BD82: 73 | BE82: 전라북도 | BF82: 251 | BG82: 고창군 | BH82: 0 | BI82: 0.3 | BJ82: 0.1 | BK82: 1.2 | BL82: 0.7 | BM82: 1 | BN82: 0.8 | BO82: 1 | BP82: 1 | BQ82: 0.2 | BR82: 0.5 | BS82: 0.4 | BT82: 7.2 | BV82: 73 | BW82: 전라북도 | BX82: 251 | BY82: 고창군 | BZ82: 0.5 | CA82: 0 | CB82: 0 | CC82: 0 | CD82: 0 | CE82: 0 | CF82: 0 | CG82: 0 | CH82: 0 | CI82: 0 | CJ82: 0 | CK82: 0 | CL82: 0.5
B83: 74 | C83: 전라북도 | D83: 140 | E83: 군산 | F83: 0 | G83: 0 | H83: 0 | I83: 0 | J83: 0.3 | K83: 0.5 | L83: 6.1 | M83: 10.5 | N83: 0.5 | O83: 0 | P83: 0 | Q83: 0 | R83: 17.9 | T83: 74 | U83: 전라북도 | V83: 140 | W83: 군산 | X83: 6 | Y83: 2 | Z83: 0 | AA83: 0 | AB83: 0 | AC83: 0 | AD83: 0 | AE83: 0 | AF83: 0 | AG83: 0 | AH83: 0 | AI83: 2.5 | AJ83: 10.5 | AL83: 74 | AM83: 전라북도 | AN83: 140 | AO83: 군산 | AP83: 1.7 | AQ83: 2.1 | AR83: 2.7 | AS83: 4.9 | AT83: 3.6 | AU83: 3.2 | AV83: 7.9 | AW83: 7.1 | AX83: 4.3 | AY83: 2.5 | AZ83: 3.5 | BA83: 2.6 | BB83: 46.1 | BD83: 74 | BE83: 전라북도 | BF83: 140 | BG83: 군산 | BH83: 1 | BI83: 0.5 | BJ83: 2.1 | BK83: 2 | BL83: 0.6 | BM83: 0.3 | BN83: 0.7 | BO83: 1 | BP83: 0.4 | BQ83: 1 | BR83: 1.6 | BS83: 2.7 | BT83: 13.9 | BV83: 74 | BW83: 전라북도 | BX83: 140 | BY83: 군산 | BZ83: 0.6 | CA83: 0.1 | CB83: 0.1 | CC83: 0 | CD83: 0 | CE83: 0 | CF83: 0 | CG83: 0 | CH83: 0 | CI83: 0 | CJ83: 0.2 | CK83: 1.1 | CL83: 2.1
B84: 75 | C84: 전라북도 | D84: 247 | E84: 남원 | F84: 0 | G84: 0 | H84: 0 | I84: 0 | J84: 0 | K84: 0.1 | L84: 5.2 | M84: 10.7 | N84: 0.3 | O84: 0 | P84: 0 | Q84: 0 | R84: 16.3 | T84: 75 | U84: 전라북도 | V84: 247 | W84: 남원 | X84: 5.8 | Y84: 1.8 | Z84: 0 | AA84: 0 | AB84: 0 | AC84: 0 | AD84: 0 | AE84: 0 | AF84: 0 | AG84: 0 | AH84: 0 | AI84: 1.9 | AJ84: 9.5 | AL84: 75 | AM84: 전라북도 | AN84: 247 | AO84: 남원 | AP84: 1.5 | AQ84: 1.9 | AR84: 3.4 | AS84: 5.4 | AT84: 3.4 | AU84: 4.2 | AV84: 8.9 | AW84: 7.3 | AX84: 5.3 | AY84: 3.8 | AZ84: 3 | BA84: 2 | BB84: 50.1 | BD84: 75 | BE84: 전라북도 | BF84: 247 | BG84: 남원 | BH84: 0.2 | BI84: 0.2 | BJ84: 0.7 | BK84: 0.8 | BL84: 0.3 | BM84: 0.2 | BN84: 0.1 | BO84: 0.5 | BP84: 0.3 | BQ84: 0 | BR84: 0.5 | BS84: 0.2 | BT84: 4 | BV84: 75 | BW84: 전라북도 | BX84: 247 | BY84: 남원 | BZ84: 0.1 | CA84: 0 | CB84: 0.1 | CC84: 0 | CD84: 0 | CE84: 0 | CF84: 0 | CG84: 0 | CH84: 0 | CI84: 0 | CJ84: 0 | CK84: 0.2 | CL84: 0.4
B85: 76 | C85: 전라북도 | D85: 243 | E85: 부안 | F85: 0 | G85: 0 | H85: 0 | I85: 0 | J85: 0.3 | K85: 0.5 | L85: 6.1 | M85: 10.9 | N85: 0.3 | O85: 0 | P85: 0 | Q85: 0 | R85: 18.1 | T85: 76 | U85: 전라북도 | V85: 243 | W85: 부안 | X85: 5.8 | Y85: 1.8 | Z85: 0 | AA85: 0 | AB85: 0 | AC85: 0 | AD85: 0 | AE85: 0 | AF85: 0 | AG85: 0 | AH85: 0 | AI85: 2.3 | AJ85: 9.9 | AL85: 76 | AM85: 전라북도 | AN85: 243 | AO85: 부안 | AP85: 1.8 | AQ85: 1.9 | AR85: 3 | AS85: 5 | AT85: 4.1 | AU85: 2.9 | AV85: 8.1 | AW85: 7.6 | AX85: 4.2 | AY85: 3 | AZ85: 3.8 | BA85: 3.4 | BB85: 48.8 | BD85: 76 | BE85: 전라북도 | BF85: 243 | BG85: 부안 | BH85: 0 | BI85: 0 | BJ85: 0 | BK85: 0.9 | BL85: 0.2 | BM85: 0.3 | BN85: 0.4 | BO85: 0.3 | BP85: 0.2 | BQ85: 0 | BR85: 0.3 | BS85: 0.1 | BT85: 2.7 | BV85: 76 | BW85: 전라북도 | BX85: 243 | BY85: 부안 | BZ85: 0 | CA85: 0 | CB85: 0 | CC85: 0 | CD85: 0 | CE85: 0 | CF85: 0 | CG85: 0 | CH85: 0 | CI85: 0 | CJ85: 0 | CK85: 0 | CL85: 0
B86: 77 | C86: 전라북도 | D86: 254 | E86: 순창군 | F86: 0 | G86: 0 | H86: 0 | I86: 0 | J86: 0.1 | K86: 0.5 | L86: 4.8 | M86: 9.1 | N86: 0.1 | O86: 0 | P86: 0 | Q86: 0 | R86: 14.6 | T86: 77 | U86: 전라북도 | V86: 254 | W86: 순창군 | X86: 5.9 | Y86: 2.1 | Z86: 0 | AA86: 0 | AB86: 0 | AC86: 0 | AD86: 0 | AE86: 0 | AF86: 0 | AG86: 0 | AH86: 0 | AI86: 2.1 | AJ86: 10.1 | AL86: 77 | AM86: 전라북도 | AN86: 254 | AO86: 순창군 | AP86: 1.4 | AQ86: 2.4 | AR86: 3.6 | AS86: 5.4 | AT86: 4.1 | AU86: 4.5 | AV86: 8.9 | AW86: 8.3 | AX86: 5.6 | AY86: 3.7 | AZ86: 3.7 | BA86: 2.6 | BB86: 54.2 | BD86: 77 | BE86: 전라북도 | BF86: 254 | BG86: 순창군 | BH86: 0.6 | BI86: 0.9 | BJ86: 2.8 | BK86: 2.4 | BL86: 1.3 | BM86: 0.3 | BN86: 0.3 | BO86: 0.8 | BP86: 0.2 | BQ86: 0.6 | BR86: 1.6 | BS86: 1.4 | BT86: 13.2 | BV86: 77 | BW86: 전라북도 | BX86: 254 | BY86: 순창군 | BZ86: 0.3 | CA86: 0 | CB86: 0 | CC86: 0 | CD86: 0 | CE86: 0 | CF86: 0 | CG86: 0 | CH86: 0 | CI86: 0 | CJ86: 0 | CK86: 0 | CL86: 0.3
B87: 78 | C87: 전라북도 | D87: 244 | E87: 임실 | F87: 0 | G87: 0 | H87: 0 | I87: 0 | J87: 0 | K87: 0 | L87: 1.5 | M87: 4 | N87: 0 | O87: 0 | P87: 0 | Q87: 0 | R87: 5.5 | T87: 78 | U87: 전라북도 | V87: 244 | W87: 임실 | X87: 6.7 | Y87: 2.9 | Z87: 0 | AA87: 0 | AB87: 0 | AC87: 0 | AD87: 0 | AE87: 0 | AF87: 0 | AG87: 0 | AH87: 0 | AI87: 4.3 | AJ87: 13.9 | AL87: 78 | AM87: 전라북도 | AN87: 244 | AO87: 임실 | AP87: 1.3 | AQ87: 1.6 | AR87: 3.7 | AS87: 5.2 | AT87: 3.9 | AU87: 4.2 | AV87: 10.2 | AW87: 9.2 | AX87: 4.7 | AY87: 4 | AZ87: 3.2 | BA87: 3.1 | BB87: 54.3 | BD87: 78 | BE87: 전라북도 | BF87: 244 | BG87: 임실 | BH87: 0 | BI87: 0 | BJ87: 0.3 | BK87: 0.8 | BL87: 0 | BM87: 0.1 | BN87: 0.2 | BO87: 0.4 | BP87: 0.2 | BQ87: 0 | BR87: 0.3 | BS87: 0.1 | BT87: 2.4 | BV87: 78 | BW87: 전라북도 | BX87: 244 | BY87: 임실 | BZ87: 0 | CA87: 0 | CB87: 0 | CC87: 0 | CD87: 0 | CE87: 0 | CF87: 0 | CG87: 0 | CH87: 0 | CI87: 0 | CJ87: 0 | CK87: 0 | CL87: 0
B88: 79 | C88: 전라북도 | D88: 248 | E88: 장수 | F88: 0 | G88: 0 | H88: 0 | I88: 0 | J88: 0.4 | K88: 1 | L88: 8.1 | M88: 13.1 | N88: 0.7 | O88: 0 | P88: 0 | Q88: 0 | R88: 23.3 | T88: 79 | U88: 전라북도 | V88: 248 | W88: 장수 | X88: 8.2 | Y88: 3.2 | Z88: 0.2 | AA88: 0 | AB88: 0 | AC88: 0 | AD88: 0 | AE88: 0 | AF88: 0 | AG88: 0 | AH88: 0.1 | AI88: 5.4 | AJ88: 17.1 | AL88: 79 | AM88: 전라북도 | AN88: 248 | AO88: 장수 | AP88: 1.5 | AQ88: 2 | AR88: 3.9 | AS88: 5.6 | AT88: 4 | AU88: 4.4 | AV88: 9.8 | AW88: 8.7 | AX88: 5.6 | AY88: 4.2 | AZ88: 3.5 | BA88: 2.9 | BB88: 56.1 | BD88: 79 | BE88: 전라북도 | BF88: 248 | BG88: 장수 | BH88: 0.4 | BI88: 0.3 | BJ88: 1.7 | BK88: 2 | BL88: 0.5 | BM88: 0.3 | BN88: 0.4 | BO88: 0.7 | BP88: 0.3 | BQ88: 0.3 | BR88: 1.1 | BS88: 0.7 | BT88: 8.7 | BV88: 79 | BW88: 전라북도 | BX88: 248 | BY88: 장수 | BZ88: 0 | CA88: 0 | CB88: 0 | CC88: 0 | CD88: 0 | CE88: 0 | CF88: 0 | CG88: 0 | CH88: 0 | CI88: 0 | CJ88: 0 | CK88: 0 | CL88: 0
B89: 80 | C89: 전라북도 | D89: 146 | E89: 전주 | F89: 0 | G89: 0 | H89: 0 | I89: 0 | J89: 0.2 | K89: 0.7 | L89: 9.1 | M89: 12.6 | N89: 0.3 | O89: 0 | P89: 0 | Q89: 0 | R89: 22.9 | T89: 80 | U89: 전라북도 | V89: 146 | W89: 전주 | X89: 5.4 | Y89: 1.4 | Z89: 0 | AA89: 0 | AB89: 0 | AC89: 0 | AD89: 0 | AE89: 0 | AF89: 0 | AG89: 0 | AH89: 0 | AI89: 1.8 | AJ89: 8.6 | AL89: 80 | AM89: 전라북도 | AN89: 146 | AO89: 전주 | AP89: 1.6 | AQ89: 1.7 | AR89: 3.5 | AS89: 5 | AT89: 4.1 | AU89: 3.8 | AV89: 8.4 | AW89: 8.9 | AX89: 4.7 | AY89: 3.3 | AZ89: 3.2 | BA89: 2.9 | BB89: 51.1 | BD89: 80 | BE89: 전라북도 | BF89: 146 | BG89: 전주 | BH89: 0.3 | BI89: 0.2 | BJ89: 0.5 | BK89: 1.1 | BL89: 0.7 | BM89: 0.1 | BN89: 0.5 | BO89: 0.6 | BP89: 0.4 | BQ89: 0.1 | BR89: 0.2 | BS89: 0.2 | BT89: 4.9 | BV89: 80 | BW89: 전라북도 | BX89: 146 | BY89: 전주 | BZ89: 0.7 | CA89: 0 | CB89: 0.1 | CC89: 0 | CD89: 0 | CE89: 0 | CF89: 0 | CG89: 0 | CH89: 0 | CI89: 0 | CJ89: 0.2 | CK89: 1.1 | CL89: 2.1
... B105: 96 | C105: 충청북도 | D105: 127 | E105: 충주 | F105: 0 | G105: 0 | H105: 0 | I105: 0 | J105: 0 | K105: 0 | L105: 1.2 | M105: 3.3 | N105: 0 | O105: 0 | P105: 0 | Q105: 0 | R105: 4.5 | T105: 96 | U105: 충청북도 | V105: 127 | W105: 충주 | X105: 10.3 | Y105: 2.8 | Z105: 0 | AA105: 0 | AB105: 0 | AC105: 0 | AD105: 0 | AE105: 0 | AF105: 0 | AG105: 0 | AH105: 0.1 | AI105: 6.4 | AJ105: 19.6 | AL105: 96 | AM105: 충청북도 | AN105: 127 | AO105: 충주 | AP105: 0.9 | AQ105: 1.8 | AR105: 3 | AS105: 5.3 | AT105: 3.9 | AU105: 2.7 | AV105: 8.3 | AW105: 8.7 | AX105: 4.2 | AY105: 3.2 | AZ105: 2.9 | BA105: 1.9 | BB105: 46.8 | BD105: 96 | BE105: 충청북도 | BF105: 127 | BG105: 충주 | BH105: 0 | BI105: 0 | BJ105: 0 | BK105: 0.4 | BL105: 0.1 | BM105: 0 | BN105: 0.3 | BO105: 0.2 | BP105: 0.3 | BQ105: 0.3 | BR105: 0 | BS105: 0 | BT105: 1.6 | BV105: 96 | BW105: 충청북도 | BX105: 127 | BY105: 충주 | BZ105: 0.1 | CA105: 0.1 | CB105: 0 | CC105: 0 | CD105: 0 | CE105: 0 | CF105: 0 | CG105: 0 | CH105: 0 | CI105: 0 | CJ105: 0 | CK105: 0 | CL105: 0.2
