Workbook

Sheet 원가(전체)
A1: 공 사 원 가 계 산 서 ( 건설폐기물 )
A2: =집계표!A2 -> 용역명 : 봉양 농공단지 청년문화센터 건립사업 건설폐기물처리용역(건설폐기물)
A3: 비 목 | D3: 금액 | E3: 구 성 비 | M3: 비 고
A4: 순 공 사 원 가 | B4: 재 료 비 | C4: 직접재료비 | D4: =집계표!E25 -> 0
C5: 간접재료비
C6: 작업설,부산물등(△)
C7: [소계] | D7: =SUM(D4:D6) -> 0
B8: 노 무 비 | C8: 직접노무비 | D8: =집계표!G25 -> 0
C9: 간접노무비 | D9: =TRUNC((D8)*$G9,0) -> 0 | E9: 직접노무비 | F9: x | G9: 0.15
C10: [소계] | D10: =SUM(D8:D9) -> 0
B11: 경 비 | C11: 산출경비 | D11: =집계표!I25 -> 0
C12: 산재보험료 | D12: =TRUNC((D10)*$G12,0) -> 0 | E12: 노무비 | F12: x | G12: 0.0356
C13: 고용보험료 | D13: =TRUNC((D10)*$G13,0) -> 0 | E13: 노무비 | F13: x | G13: 0.0101
C14: 국민건강보험료 | D14: =TRUNC((D8)*$G14,0) -> 0 | E14: 직접노무비 | F14: x | G14: 0.03595
C15: 국민연금보험료 | D15: =TRUNC((D8)*G15,0) -> 0 | E15: 직접노무비 | F15: x | G15: 0.0475
C16: 노인장기요양보험료 | D16: =TRUNC((D14)*$G16,0) -> 0 | E16: 건강보험료 | F16: x | G16: 0.1314
C17: 퇴직공제부금비 | D17: =TRUNC((D8)*G17,0) -> 0 | E17: 직접노무비 | F17: x | G17: 0.023 | M17: 1억원이상 건설공사
C18: 산업안전보건관리비 | D18: =D19 -> 0 | E18: 도급자 관급자재 미포함 : (가)적용, 도급자관급자재 포함 : (나), (다) 중 작은값 적용
C19: (가) | D19: =TRUNC((D4+D8)*G19+I19,0) -> 0 | E19: (재+직노) | F19: X | G19: 0.0311 | H19: + | M19: 도급자관급자재 미포함시
C20: (나) | E20: (재+직노+도급자관급/1.1) | F20: x | H20: +
C21: (다) | E21: ((재료비+직노) | F21: x | H21: + | J21: x | K21: 1.2
C22: 기타경비 | D22: =TRUNC((D7+D10)*$G22,0) -> 0 | E22: (재료비+노무비) | F22: x | G22: 0.046
C23: 환경보전비 | E23: (재료비+직노+기계경비) | F23: x | G23: 0.005
C24: 품질관리비
C25: 안전관리비
C26: 관급자재관리비
C27: 공사이행보증수수료 | E27: (직접공사비) | F27: x | G27: 0.000141
C28: 건설하도급대금지급보증서발급수수료 | E28: (재료비+직노+기계경비) | F28: x | G28: 0.00081
C29: 건설기계대여대금지급보증서발급수수료 | E29: (재료비+직노+기계경비) | F29: x | G29: 0.0068
C30: 석면분담금 | D30: =TRUNC((D10)*$G30,0) -> 0 | E30: 노무비 | F30: x | G30: 6e-05
C31: 임금채권부담금 | D31: =TRUNC((D10)*$G31,0) -> 0 | E31: 노무비 | F31: x | G31: 0.0009
C32: [소계] | D32: =SUM(D11:D18,D22:D31) -> 0
B33: 계 | D33: =D7+D10+D32 -> 0
A34: 일 반 관 리 비 | E34: 계 | F34: x | G34: 0.08
A35: 이 윤 | E35: (노무비+경비+일반관리비) | F35: x | G35: 0.15
A36: 작업부산물(철거.해체)
A37: 폐기물처리비
A39: ★ 부가가치세 붙기전★
A40: 금액 | D40: =SUM(D33:D37)-M35 -> 0 | M40: 부가세포함
A41: 소방시설공사업 배상책임공제료
A43: 부가가치세 | D43: =D40*G43 -> 0 | E43: 공급가액 | F43: x | G43: 0.1
A44: 도급합계 | D44: =SUM(D40+D43) -> 0
A45: 재해예방기술지도비 | E45: 추정금액 1억원이상공사 적용-월2회(1회 15일 주기) 기술지도
A46: 관급자자대 | B46: 도급자설치 관급 | E46: 부가가치세 포함 | M46: 0
B47: 관급자설치 관급 | E47: 부가가치세 포함 | M47: 0
B48: 소계 | D48: =SUM(D46:D47) -> 0 | E48: 부가가치세 포함
A49: 폐기물처리비
A50: 시설분담금 | E50: <부가가치세포함>
A51: 대관수수료 | E51: <부가가치세포함>
A53: [총 공 사 비] | D53: =D44+D45+D48 -> 0

Sheet 집계표
A1: 공 사 집 계 표
A2: 용역명 : 봉양 농공단지 청년문화센터 건립사업 건설폐기물처리용역(건설폐기물)
A3: 품 명 | B3: 단위 | C3: 수량 | D3: 재 료 비 | F3: 노 무 비 | H3: 경 비 | J3: 합 계 | L3: 비고
D4: 단 가 | E4: 금 액 | F4: 단 가 | G4: 금 액 | H4: 단 가 | I4: 금 액 | J4: 단 가 | K4: 금 액 | M4: 손료요율 | N4: 손료구분 | O4: 적용구분 | P4: 합계구분 | Q4: 기계경비 | R4: 운반비 | S4: 작업부산물 | T4: 관급 | U4: 외주비 | V4: 장비비 | W4: 폐기물처리비 | X4: 가설비 | Y4: 잡비제외분 | Z4: 사급자재대 | AA4: 관급자재대 | AB4: 관급자관급자재대 | AC4: 비구조요소내진설계검토 | AD4: 안전관리비 | AE4: 품질관리비 | AF4: 작업부산물(철거해체) | AG4: 재해예방기술지도비 | AH4: 공통가설공사 | AI4: 사용자항목8 | AJ4: 사용자항목9 | AK4: 사용자항목10 | AL4: 사용자항목11 | AM4: 사용자항목12 | AN4: 사용자항목13 | AO4: 사용자항목14 | AP4: 사용자항목15 | AQ4: 사용자항목16 | AR4: 사용자항목17 | AS4: 사용자항목18 | AT4: 사용자항목19 | AU4: 간접재료비 | AV4: 품목구분 | AW4: 조달코드 | AX4: 구분
A5: 01. 폐기물처리비(건축:신축) | B5: 식 | C5: 1 | D5: =내역서!F25 -> 0 | E5: =C5*D5 -> 0 | F5: =내역서!H25 -> 0 | G5: =C5*F5 -> 0 | H5: =내역서!J25 -> 0 | I5: =C5*H5 -> 0 | J5: =D5+F5+H5 -> 0 | K5: =E5+G5+I5 -> 0 | P5: 1 | Q5: =C5*내역서!R25 -> 0 | R5: =C5*내역서!S25 -> 0 | S5: =C5*내역서!T25 -> 0 | T5: =C5*내역서!U25 -> 0 | U5: =C5*내역서!V25 -> 0 | V5: =C5*내역서!W25 -> 0 | W5: =C5*내역서!X25 -> 0 | X5: =C5*내역서!Y25 -> 0 | Y5: =C5*내역서!Z25 -> 0 | Z5: =C5*내역서!AA25 -> 0 | AA5: =C5*내역서!AB25 -> 0 | AB5: =C5*내역서!AC25 -> 0 | AC5: =C5*내역서!AD25 -> 0 | AD5: =C5*내역서!AE25 -> 0 | AE5: =C5*내역서!AF25 -> 0 | AF5: =C5*내역서!AG25 -> 0 | AG5: =C5*내역서!AH25 -> 0 | AH5: =C5*내역서!AI25 -> 0 | AI5: =C5*내역서!AJ25 -> 0 | AJ5: =C5*내역서!AK25 -> 0 | AK5: =C5*내역서!AL25 -> 0 | AL5: =C5*내역서!AM25 -> 0 | AM5: =C5*내역서!AN25 -> 0 | AN5: =C5*내역서!AO25 -> 0 | AO5: =C5*내역서!AP25 -> 0 | AP5: =C5*내역서!AQ25 -> 0 | AQ5: =C5*내역서!AR25 -> 0 | AR5: =C5*내역서!AS25 -> 0 | AS5: =C5*내역서!AT25 -> 0 | AT5: =C5*내역서!AU25 -> 0 | AU5: =C5*내역서!AV25 -> 0
A6: 02. 폐기물처리비(토목) | B6: 식 | C6: 1 | D6: =내역서!F46 -> 0 | E6: =C6*D6 -> 0 | F6: =내역서!H46 -> 0 | G6: =C6*F6 -> 0 | H6: =내역서!J46 -> 0 | I6: =C6*H6 -> 0 | J6: =D6+F6+H6 -> 0 | K6: =E6+G6+I6 -> 0 | P6: 1 | Q6: =C6*내역서!R46 -> 0 | R6: =C6*내역서!S46 -> 0 | S6: =C6*내역서!T46 -> 0 | T6: =C6*내역서!U46 -> 0 | U6: =C6*내역서!V46 -> 0 | V6: =C6*내역서!W46 -> 0 | W6: =C6*내역서!X46 -> 0 | X6: =C6*내역서!Y46 -> 0 | Y6: =C6*내역서!Z46 -> 0 | Z6: =C6*내역서!AA46 -> 0 | AA6: =C6*내역서!AB46 -> 0 | AB6: =C6*내역서!AC46 -> 0 | AC6: =C6*내역서!AD46 -> 0 | AD6: =C6*내역서!AE46 -> 0 | AE6: =C6*내역서!AF46 -> 0 | AF6: =C6*내역서!AG46 -> 0 | AG6: =C6*내역서!AH46 -> 0 | AH6: =C6*내역서!AI46 -> 0 | AI6: =C6*내역서!AJ46 -> 0 | AJ6: =C6*내역서!AK46 -> 0 | AK6: =C6*내역서!AL46 -> 0 | AL6: =C6*내역서!AM46 -> 0 | AM6: =C6*내역서!AN46 -> 0 | AN6: =C6*내역서!AO46 -> 0 | AO6: =C6*내역서!AP46 -> 0 | AP6: =C6*내역서!AQ46 -> 0 | AQ6: =C6*내역서!AR46 -> 0 | AR6: =C6*내역서!AS46 -> 0 | AS6: =C6*내역서!AT46 -> 0 | AT6: =C6*내역서!AU46 -> 0 | AU6: =C6*내역서!AV46 -> 0
A7: 03. 폐기물처리비(철거) | B7: 식 | C7: 1 | D7: =내역서!F67 -> 0 | E7: =C7*D7 -> 0 | F7: =내역서!H67 -> 0 | G7: =C7*F7 -> 0 | H7: =내역서!J67 -> 0 | I7: =C7*H7 -> 0 | J7: =D7+F7+H7 -> 0 | K7: =E7+G7+I7 -> 0 | P7: 1 | Q7: =C7*내역서!R67 -> 0 | R7: =C7*내역서!S67 -> 0 | S7: =C7*내역서!T67 -> 0 | T7: =C7*내역서!U67 -> 0 | U7: =C7*내역서!V67 -> 0 | V7: =C7*내역서!W67 -> 0 | W7: =C7*내역서!X67 -> 0 | X7: =C7*내역서!Y67 -> 0 | Y7: =C7*내역서!Z67 -> 0 | Z7: =C7*내역서!AA67 -> 0 | AA7: =C7*내역서!AB67 -> 0 | AB7: =C7*내역서!AC67 -> 0 | AC7: =C7*내역서!AD67 -> 0 | AD7: =C7*내역서!AE67 -> 0 | AE7: =C7*내역서!AF67 -> 0 | AF7: =C7*내역서!AG67 -> 0 | AG7: =C7*내역서!AH67 -> 0 | AH7: =C7*내역서!AI67 -> 0 | AI7: =C7*내역서!AJ67 -> 0 | AJ7: =C7*내역서!AK67 -> 0 | AK7: =C7*내역서!AL67 -> 0 | AL7: =C7*내역서!AM67 -> 0 | AM7: =C7*내역서!AN67 -> 0 | AN7: =C7*내역서!AO67 -> 0 | AO7: =C7*내역서!AP67 -> 0 | AP7: =C7*내역서!AQ67 -> 0 | AQ7: =C7*내역서!AR67 -> 0 | AR7: =C7*내역서!AS67 -> 0 | AS7: =C7*내역서!AT67 -> 0 | AT7: =C7*내역서!AU67 -> 0 | AU7: =C7*내역서!AV67 -> 0
A25: 합 계 | E25: =SUMIF(P5:P7, "1", E5:E7) -> 0 | G25: =SUMIF(P5:P7, "1", G5:G7) -> 0 | I25: =SUMIF(P5:P7, "1", I5:I7) -> 0 | K25: =E25+G25+I25 -> 0 | Q25: =SUM(Q5:Q7) -> 0 | R25: =SUM(R5:R7) -> 0 | S25: =SUM(S5:S7) -> 0 | T25: =SUM(T5:T7) -> 0 | U25: =SUM(U5:U7) -> 0 | V25: =SUM(V5:V7) -> 0 | W25: =SUM(W5:W7) -> 0 | X25: =SUM(X5:X7) -> 0 | ... AX25: =SUM(AX5:AX7) -> 0

Sheet 내역서
A1: 공 사 내 역 서
A2: 용역명 : 봉양 농공단지 청년문화센터 건립사업 건설폐기물처리용역(건설폐기물)
A3: 품 명 | B3: 규 격 | C3: 단위 | D3: 수 량 | E3: 재 료 비 | G3: 노 무 비 | I3: 경 비 | K3: 합 계 | M3: 비고
E4: 단 가 | F4: 금 액 | G4: 단 가 | H4: 금 액 | I4: 단 가 | J4: 금 액 | K4: 단 가 | L4: 금 액 | N4: 손료요율 | O4: 손료구분 | P4: 적용구분 | Q4: 합계구분 | R4: 기계경비 | S4: 운반비 | T4: 작업부산물 | U4: 관급 | V4: 외주비 | W4: 장비비 | X4: 폐기물처리비 | Y4: 가설비 | Z4: 잡비제외분 | AA4: 사급자재대 | AB4: 관급자재대 | AC4: 관급자관급자재대 | AD4: 비구조요소내진설계검토 | AE4: 안전관리비 | AF4: 품질관리비 | AG4: 작업부산물(철거해체) | AH4: 재해예방기술지도비 | AI4: 공통가설공사 | AJ4: 사용자항목8 | AK4: 사용자항목9 | AL4: 사용자항목10 | AM4: 사용자항목11 | AN4: 사용자항목12 | AO4: 사용자항목13 | AP4: 사용자항목14 | AQ4: 사용자항목15 | AR4: 사용자항목16 | AS4: 사용자항목17 | AT4: 사용자항목18 | AU4: 사용자항목19 | AV4: 간접재료비 | AW4: 품목구분 | AX4: 조달코드 | AY4: 구분
A5: 01. 폐기물처리비(건축:신축)
A6: 폐기물처리비 | B6: 건설폐재류 | C6: TON | D6: 58.051
A7: 폐기물처리비 | B7: 혼합건설폐기물 | C7: TON | D7: 7.886
A8: 폐기물운반비(건설폐재류) | B8: 24톤 덤프트럭, 30km | C8: TON | D8: 58.051
A9: 폐기물운반비(혼합건설폐기물) | B9: 24톤 암롤트럭, 30km | C9: TON | D9: 7.886
A25: 합 계 | F25: =ROUNDDOWN(SUMIF(Q6:Q24, "1", F6:F24), 0) -> 0 | H25: =ROUNDDOWN(SUMIF(Q6:Q24, "1", H6:H24), 0) -> 0 | J25: =ROUNDDOWN(SUMIF(Q6:Q24, "1", J6:J24), 0) -> 0 | L25: =F25+H25+J25 -> 0 | R25: =ROUNDDOWN(SUM(R6:R9), 0) -> 0 | S25: =ROUNDDOWN(SUM(S6:S9), 0) -> 0 | T25: =ROUNDDOWN(SUM(T6:T9), 0) -> 0 | U25: =ROUNDDOWN(SUM(U6:U9), 0) -> 0 | V25: =ROUNDDOWN(SUM(V6:V9), 0) -> 0 | W25: =ROUNDDOWN(SUM(W6:W9), 0) -> 0 | X25: =ROUNDDOWN(SUM(X6:X9), 0) -> 0 | Y25: =ROUNDDOWN(SUM(Y6:Y9), 0) -> 0 | ... AY25: =ROUNDDOWN(SUM(AY6:AY9), 0) -> 0
A26: 02. 폐기물처리비(토목)
A27: 폐기물처리비 | B27: 폐콘크리트 | C27: TON | D27: 93
A28: 폐기물처리비 | B28: 폐아스콘 | C28: TON | D28: 361
A29: 폐기물운반비(건설폐재류) | B29: 24톤 덤프트럭, 30km | C29: TON | D29: 454
A46: 합 계 | F46: =ROUNDDOWN(SUMIF(Q27:Q45, "1", F27:F45), 0) -> 0 | H46: =ROUNDDOWN(SUMIF(Q27:Q45, "1", H27:H45), 0) -> 0 | J46: =ROUNDDOWN(SUMIF(Q27:Q45, "1", J27:J45), 0) -> 0 | L46: =F46+H46+J46 -> 0 | R46: =ROUNDDOWN(SUM(R27:R29), 0) -> 0 | S46: =ROUNDDOWN(SUM(S27:S29), 0) -> 0 | T46: =ROUNDDOWN(SUM(T27:T29), 0) -> 0 | U46: =ROUNDDOWN(SUM(U27:U29), 0) -> 0 | V46: =ROUNDDOWN(SUM(V27:V29), 0) -> 0 | W46: =ROUNDDOWN(SUM(W27:W29), 0) -> 0 | X46: =ROUNDDOWN(SUM(X27:X29), 0) -> 0 | Y46: =ROUNDDOWN(SUM(Y27:Y29), 0) -> 0 | ... AY46: =ROUNDDOWN(SUM(AY27:AY29), 0) -> 0
A47: 03. 폐기물처리비(철거)
A48: 폐기물처리비 | B48: 건설폐재류 | C48: TON | D48: 1358.041
A49: 폐기물처리비 | B49: 혼합건설폐기물 | C49: TON | D49: 20.577
A50: 폐기물운반비(건설폐재류) | B50: 24톤 덤프트럭, 30km | C50: TON | D50: 1358.041
A51: 폐기물운반비(혼합건설폐기물) | B51: 24톤 암롤트럭, 30km | C51: TON | D51: 20.577
A67: 합 계 | F67: =ROUNDDOWN(SUMIF(Q48:Q66, "1", F48:F66), 0) -> 0 | H67: =ROUNDDOWN(SUMIF(Q48:Q66, "1", H48:H66), 0) -> 0 | J67: =ROUNDDOWN(SUMIF(Q48:Q66, "1", J48:J66), 0) -> 0 | L67: =F67+H67+J67 -> 0 | R67: =ROUNDDOWN(SUM(R48:R51), 0) -> 0 | S67: =ROUNDDOWN(SUM(S48:S51), 0) -> 0 | T67: =ROUNDDOWN(SUM(T48:T51), 0) -> 0 | U67: =ROUNDDOWN(SUM(U48:U51), 0) -> 0 | V67: =ROUNDDOWN(SUM(V48:V51), 0) -> 0 | W67: =ROUNDDOWN(SUM(W48:W51), 0) -> 0 | X67: =ROUNDDOWN(SUM(X48:X51), 0) -> 0 | Y67: =ROUNDDOWN(SUM(Y48:Y51), 0) -> 0 | ... AY67: =ROUNDDOWN(SUM(AY48:AY51), 0) -> 0

Sheet Sheet1
