Workbook

Sheet 원가계산서
B1: 공 사 원 가 계 산 서
B2: 공사명 : 회화면 농촌중심지 활성화사업 건축공사 폐기물 처리비
B3: 비 목 | E3: 금 액 | F3: 구 성 비 | G3: 비 고
A4: A1 | B4: 순 공 사 원 가 | C4: 재 료 비 | D4: 직 접 재 료 비 | E4: =TRUNC(공종별집계표!F5, 0) -> 0
A5: A2 | D5: 간 접 재 료 비 | E5: 0
A6: A3 | D6: 작업설, 부산물(△) | E6: 0
A7: AS | D7: [ 소 계 ] | E7: =TRUNC(E4+E5-E6, 0) -> 0
A8: B1 | C8: 노 무 비 | D8: 직 접 노 무 비 | E8: =TRUNC(공종별집계표!H5, 0) -> 0
A9: B2 | D9: 간 접 노 무 비 | E9: =TRUNC(E8*0, 0) -> 0
A10: BS | D10: [ 소 계 ] | E10: =TRUNC(E8+E9, 0) -> 0
A11: C2 | C11: 경 비 | D11: 경 비 | E11: =TRUNC(공종별집계표!L25, 0) -> 45666380
A12: CS | D12: [ 소 계 ] | E12: =TRUNC(E11, 0) -> 45666380
A13: S1 | B13: 계 | E13: =TRUNC(E7+E10+E12, 0) -> 45666380
A14: D9 | B14: 공 급 가 액 | E14: =TRUNC(E13, 0) -> 45666380
A15: DB | B15: 부 가 가 치 세 | E15: =TRUNC(E14*0.1, 0) -> 4566638 | F15: 공급가액 * 10%
A16: DH | B16: 도 급 액 | E16: =TRUNC(E14+E15-18, 0) -> 50233000
A17: S2 | B17: 총 공 사 비 | E17: =TRUNC(E16+0, 0) -> 50233000

Sheet 공종별집계표
A1: 공 종 별 집 계 표
A2: [ 회화면 농촌중심지 활성화사업 건축설계 가연성폐기물처리비 ]
A3: 품 명 | B3: 규 격 | C3: 단위 | D3: 수량 | E3: 재 료 비 | G3: 노 무 비 | I3: 경 비 | K3: 합 계 | M3: 비 고 | N3: 공종코드 | O3: 변수 | P3: 상위공종 | Q3: 공종구분 | R3: 공종레벨 | S3: 공종소계 | T3: 원가계산서 연결금액
E4: 단 가 | F4: 금 액 | G4: 단 가 | H4: 금 액 | I4: 단 가 | J4: 금 액 | K4: 단 가 | L4: 금 액
A5: 01 회화면 농촌중심지 활성화사업 건축설계 가연성폐기물처리비 | D5: 1 | E5: =F6 -> 0 | F5: =E5*D5 -> 0 | G5: =H6 -> 0 | H5: =G5*D5 -> 0 | I5: =J6 -> 1312342 | J5: =I5*D5 -> 1312342 | K5: =E5+G5+I5 -> 1312342 | L5: =F5+H5+J5 -> 1312342 | N5: 01 | R5: 1
A6: 0101 ▶가연성폐기물처리비 | D6: 1 | E6: =공종별내역서!F40 -> 0 | F6: =E6*D6 -> 0 | G6: =공종별내역서!H40 -> 0 | H6: =G6*D6 -> 0 | I6: =SUM(공종별내역서!J18:J21) -> 1312342 | J6: =I6*D6 -> 1312342 | K6: =E6+G6+I6 -> 1312342 | L6: =F6+H6+J6 -> 1312342 | N6: 0101 | P6: 01 | R6: 2
A7: 0101 ▶건설폐기물처리비 | D7: 1 | I7: =SUM(공종별내역서!J5:J15) -> 43041696 | J7: =+I7*D7 -> 43041696 | K7: =E7+G7+I7 -> 43041696 | L7: =F7+H7+J7 -> 43041696
A25: [ 합 계 ] | F25: =F5 -> 0 | H25: =H5 -> 0 | J25: =SUM(J5:J7) -> 45666380 | L25: =SUM(L5:L7) -> 45666380

Sheet 공종별내역서
A1: [ 회화면 농촌중심지 활성화사업 건축설계 가연성폐기물처리비 ]
A2: 품 명 | B2: 규 격 | C2: 단위 | D2: 수량 | E2: 재 료 비 | G2: 노 무 비 | I2: 경 비 | K2: 합 계 | M2: 비 고 | N2: 품목코드 | O2: 변수 | P2: 설정 | Q2: 공종코드 | R2: 일위 | S2: 단산 | T2: 자재 | U2: 손료적용 | V2: 손료저장 | W2: 적용율 | X2: JUK1 | Y2: JUK2 | Z2: JUK3 | AA2: JUK4 | AB2: JUK5 | AC2: JUK6 | AD2: JUK7 | AE2: JUK8 | AF2: JUK9 | AG2: JUK10 | AH2: JUK11 | AI2: JUK12 | AJ2: JUK13 | AK2: JUK14 | AL2: JUK15 | AM2: JUK16 | AN2: JUK17 | AO2: JUK18 | AP2: JUK19 | AQ2: JUK20 | AR2: 자재구분 | AS2: 공종구분 | AT2: 공종레벨 | AU2: 공종+자재 | AV2: 고유번호
E3: 단 가 | F3: 금 액 | G3: 단 가 | H3: 금 액 | I3: 단 가 | J3: 금 액 | K3: 단 가 | L3: 금 액
A4: 010101 1.건축폐기물 | Q4: 010101
A5: 폐콘크리트 | B5: 이물질이 없는 순수한 폐콘크리트 | C5: TON | D5: 81.258 | E5: =TRUNC([1]단가대비표!O5,0) -> 0 | F5: =TRUNC(E5*D5, 0) -> 0 | G5: =TRUNC([1]단가대비표!P5,0) -> 0 | H5: =TRUNC(G5*D5, 0) -> 0 | I5: =TRUNC([1]단가대비표!V5,0) -> 31142 | J5: =TRUNC(I5*D5, 0) -> 2530536 | K5: =TRUNC(E5+G5+I5, 0) -> 31142 | L5: =TRUNC(F5+H5+J5, 0) -> 2530536 | N5: 5DA5C4DCE09189E15AA218AB51778629D10CFC | Q5: 010101 | R5: F | S5: F | T5: T | AU5: 0101015DA5C4DCE09189E15AA218AB51778629D10CFC | AV5: 9
A6: 혼합건설폐기물 | B6: 불연성 건설폐기물에 가연성 5% 이하 혼합 | C6: TON | D6: 2.326 | E6: =TRUNC([1]단가대비표!O7,0) -> 0 | F6: =TRUNC(E6*D6, 0) -> 0 | G6: =TRUNC([1]단가대비표!P7,0) -> 0 | H6: =TRUNC(G6*D6, 0) -> 0 | I6: =TRUNC([1]단가대비표!V7,0) -> 188715 | J6: =TRUNC(I6*D6, 0) -> 438951 | K6: =TRUNC(E6+G6+I6, 0) -> 188715 | L6: =TRUNC(F6+H6+J6, 0) -> 438951 | N6: 5DA5C4DCE09189E15AA218AB51778629D68F9E | Q6: 010101 | R6: F | S6: F | T6: T | AU6: 0101015DA5C4DCE09189E15AA218AB51778629D68F9E | AV6: 10
A7: 혼합건설폐기물 | B7: 그 밖의 건설폐기물에 가연성 5% 이하 혼합 | C7: TON | D7: 13.31 | E7: =TRUNC([1]단가대비표!O8,0) -> 0 | F7: =TRUNC(E7*D7, 0) -> 0 | G7: =TRUNC([1]단가대비표!P8,0) -> 0 | H7: =TRUNC(G7*D7, 0) -> 0 | I7: =TRUNC([1]단가대비표!V8,0) -> 192887 | J7: =TRUNC(I7*D7, 0) -> 2567325 | K7: =TRUNC(E7+G7+I7, 0) -> 192887 | L7: =TRUNC(F7+H7+J7, 0) -> 2567325 | N7: 5DA5C4DCE09189E15AA218AB51778629D7968F | Q7: 010101 | R7: F | S7: F | T7: T | AU7: 0101015DA5C4DCE09189E15AA218AB51778629D7968F | AV7: 11
A8: 건설폐재류 운반비 | B8: 24톤 덤프트럭, 30km | C8: TON | D8: 81.258 | E8: =TRUNC([1]단가대비표!O9,0) -> 0 | F8: =TRUNC(E8*D8, 0) -> 0 | G8: =TRUNC([1]단가대비표!P9,0) -> 0 | H8: =TRUNC(G8*D8, 0) -> 0 | I8: =TRUNC([1]단가대비표!V9,0) -> 16450 | J8: =TRUNC(I8*D8, 0) -> 1336694 | K8: =TRUNC(E8+G8+I8, 0) -> 16450 | L8: =TRUNC(F8+H8+J8, 0) -> 1336694 | N8: 5DA5C4DCE09189E15AA218AB5176E16C50AA47 | Q8: 010101 | R8: F | S8: F | T8: T | AU8: 0101015DA5C4DCE09189E15AA218AB5176E16C50AA47 | AV8: 12
A9: 혼합건설폐기물 운반비 | B9: 24톤 암롤트럭, 30km | C9: TON | D9: 15.636 | E9: =TRUNC([1]단가대비표!O10,0) -> 0 | F9: =TRUNC(E9*D9, 0) -> 0 | G9: =TRUNC([1]단가대비표!P10,0) -> 0 | H9: =TRUNC(G9*D9, 0) -> 0 | I9: =TRUNC([1]단가대비표!V10,0) -> 61880 | J9: =TRUNC(I9*D9, 0) -> 967555 | K9: =TRUNC(E9+G9+I9, 0) -> 61880 | L9: =TRUNC(F9+H9+J9, 0) -> 967555 | N9: 5DA5C4DCE09189E15AA218AB5176E16C50AFC9 | Q9: 010101 | R9: F | S9: F | T9: T | AU9: 0101015DA5C4DCE09189E15AA218AB5176E16C50AFC9 | AV9: 13
A11: 010102 2.토목폐기물 | Q11: 010102
A12: 폐콘크리트 | B12: 이물질이 없는 순수한 폐콘크리트 | C12: TON | D12: 75 | E12: 0 | F12: 0 | G12: 0 | H12: 0 | I12: 31142 | J12: 2335650 | K12: 31142 | L12: 2335650 | N12: 5DA5C4DCE09189E15AA218AB51778629D10CFC | Q12: 010102 | R12: F | S12: F | T12: T | AU12: 0101025DA5C4DCE09189E15AA218AB51778629D10CFC | AV12: 5
A13: 혼합건설폐기물 | B13: 건설폐재류에 가연성 5% 이하 혼합 | C13: TON | D13: 235 | E13: 0 | F13: 0 | G13: 0 | H13: 0 | I13: 72721 | J13: 17089435 | K13: 72721 | L13: 17089435 | N13: 5DA5C4DCE09189E15AA218AB51778629D10BD7 | Q13: 010102 | R13: F | S13: F | T13: T | AU13: 0101025DA5C4DCE09189E15AA218AB51778629D10BD7 | AV13: 6
A14: 건설폐재류 운반비 | B14: 24톤 덤프트럭, 30km | C14: TON | D14: 75 | E14: 0 | F14: 0 | G14: 0 | H14: 0 | I14: 16450 | J14: 1233750 | K14: 16450 | L14: 1233750 | N14: 5DA5C4DCE09189E15AA218AB5176E16C50AA47 | Q14: 010102 | R14: F | S14: F | T14: T | AU14: 0101025DA5C4DCE09189E15AA218AB5176E16C50AA47 | AV14: 7
A15: 혼합건설폐기물 운반비 | B15: 24톤 암롤트럭, 30km | C15: TON | D15: 235 | E15: 0 | F15: 0 | G15: 0 | H15: 0 | I15: 61880 | J15: 14541800 | K15: 61880 | L15: 14541800 | N15: 5DA5C4DCE09189E15AA218AB5176E16C50AFC9 | Q15: 010102 | R15: F | S15: F | T15: T | AU15: 0101025DA5C4DCE09189E15AA218AB5176E16C50AFC9 | AV15: 8
A17: 0101 ▶가연성폐기물처리비 | Q17: 0101
A18: 가연성폐기물 | B18: 폐합성수지 | C18: TON | D18: 3.32 | E18: =TRUNC(단가대비표!O11,0) -> 0 | F18: =TRUNC(E18*D18, 0) -> 0 | G18: =TRUNC(단가대비표!P11,0) -> 0 | H18: =TRUNC(G18*D18, 0) -> 0 | I18: =TRUNC(단가대비표!V11,0) -> 230000 | J18: =TRUNC(I18*D18, 0) -> 763600 | K18: =TRUNC(E18+G18+I18, 0) -> 230000 | L18: =TRUNC(F18+H18+J18, 0) -> 763600 | N18: 59EE05D28A6910A4222C050C9C34458D3425C3 | Q18: 0101 | R18: F | S18: F | T18: T | AU18: 010159EE05D28A6910A4222C050C9C34458D3425C3 | AV18: 3
A19: 가연성폐기물 | B19: 폐목재 | C19: TON | D19: 2.544 | E19: =TRUNC(단가대비표!O12,0) -> 0 | F19: =TRUNC(E19*D19, 0) -> 0 | G19: =TRUNC(단가대비표!P12,0) -> 0 | H19: =TRUNC(G19*D19, 0) -> 0 | I19: =TRUNC(단가대비표!V12,0) -> 40910 | J19: =TRUNC(I19*D19, 0) -> 104075 | K19: =TRUNC(E19+G19+I19, 0) -> 40910 | L19: =TRUNC(F19+H19+J19, 0) -> 104075 | N19: 59EE05D28A6910A4222C050C9C34458D3425C0 | Q19: 0101 | R19: F | S19: F | T19: T | AU19: 010159EE05D28A6910A4222C050C9C34458D3425C0 | AV19: 4
A20: 가연성폐기물 운반비-폐합성수지 | B20: 16톤 암롤트럭, 30km | C20: TON | D20: 3.32 | E20: =TRUNC(단가대비표!O13,0) -> 0 | F20: =TRUNC(E20*D20, 0) -> 0 | G20: =TRUNC(단가대비표!P13,0) -> 0 | H20: =TRUNC(G20*D20, 0) -> 0 | I20: =TRUNC(단가대비표!V13,0) -> 74930 | J20: =TRUNC(I20*D20, 0) -> 248767 | K20: =TRUNC(E20+G20+I20, 0) -> 74930 | L20: =TRUNC(F20+H20+J20, 0) -> 248767 | N20: 59EE05D28A6910A4222C050C9C356AE939D41C | Q20: 0101 | R20: F | S20: F | T20: T | AU20: 010159EE05D28A6910A4222C050C9C356AE939D41C | AV20: 5
A21: 가연성폐기물 운반비-폐목재 | B21: 5톤 카고트럭, 30km | C21: 회 | D21: 1 | E21: =TRUNC(단가대비표!O14,0) -> 0 | F21: =TRUNC(E21*D21, 0) -> 0 | G21: =TRUNC(단가대비표!P14,0) -> 0 | H21: =TRUNC(G21*D21, 0) -> 0 | I21: =TRUNC(단가대비표!V14,0) -> 195900 | J21: =TRUNC(I21*D21, 0) -> 195900 | K21: =TRUNC(E21+G21+I21, 0) -> 195900 | L21: =TRUNC(F21+H21+J21, 0) -> 195900 | N21: 59EE05D28A6910A4222C050C9C356AE939D41F | Q21: 0101 | R21: F | S21: F | T21: T | AU21: 010159EE05D28A6910A4222C050C9C356AE939D41F | AV21: 6
Q22: 0101
Q23: 0101
Q24: 0101
Q25: 0101
Q26: 0101
Q27: 0101
Q28: 0101
Q29: 0101
Q30: 0101
Q31: 0101
Q32: 0101
Q33: 0101
... Q39: 0101
A40: [ 합 계 ] | F40: =SUMIF(Q18:Q39,"0101",F18:F39) -> 0 | H40: =SUMIF(Q18:Q39,"0101",H18:H39) -> 0 | J40: =SUM(J4:J39) -> 44354038 | L40: =SUM(L4:L39) -> 44354038 | N40: TOTAL

Sheet 단가대비표
A1: 단 가 대 비 표
A2: [ 회화면 농촌중심지 활성화사업 건축설계 가연성폐기물처리비 ]
A3: 코 드 | B3: 품 명 | C3: 규격 | D3: 단위 | E3: 재 료 비 | P3: 노 무 비 | Q3: 경 비 | W3: 번 호 | X3: 비 고 | Y3: 품목구분 | Z3: 노임구분 | AA3: 소수점처리 | AB3: 자재구분
E4: 조달청가격 | F4: PAGE | G4: 거래가격 | H4: PAGE | I4: 유통물가 | J4: PAGE | K4: 조사가격1 | L4: PAGE | M4: 조사가격2 | N4: PAGE | O4: 적용단가 | Q4: 조달청가격 | R4: 거래가격 | S4: 유통물가 | T4: 조사가격1 | U4: 조사가격2 | V4: 적용단가
A5: 5DA5C4DCE09189E15AA218AB51778629D10CFC | B5: 폐콘크리트 | C5: 이물질이 없는 순수한 폐콘크리트 | D5: TON | E5: 0 | G5: 0 | I5: 0 | K5: 0 | M5: 0 | O5: 0 | P5: 0 | Q5: 0 | R5: 0 | S5: 0 | T5: 0 | U5: 31142 | V5: =SMALL(Q5:U5,COUNTIF(Q5:U5,0)+1) -> 31142 | W5: 자재 1 | Y5: C
A6: 5DA5C4DCE09189E15AA218AB51778629D10BD7 | B6: 혼합건설폐기물 | C6: 건설폐재류에 가연성 5% 이하 혼합 | D6: TON | E6: 0 | G6: 0 | I6: 0 | K6: 0 | M6: 0 | O6: 0 | P6: 0 | Q6: 0 | R6: 0 | S6: 0 | T6: 0 | U6: 72721 | V6: =SMALL(Q6:U6,COUNTIF(Q6:U6,0)+1) -> 72721 | W6: 자재 2 | Y6: C
A7: 5DA5C4DCE09189E15AA218AB51778629D68F9E | B7: 혼합건설폐기물 | C7: 불연성 건설폐기물에 가연성 5% 이하 혼합 | D7: TON | E7: 0 | G7: 0 | I7: 0 | K7: 0 | M7: 0 | O7: 0 | P7: 0 | Q7: 0 | R7: 0 | S7: 0 | T7: 0 | U7: 188715 | V7: =SMALL(Q7:U7,COUNTIF(Q7:U7,0)+1) -> 188715 | W7: 자재 3 | Y7: C
A8: 5DA5C4DCE09189E15AA218AB51778629D7968F | B8: 혼합건설폐기물 | C8: 그 밖의 건설폐기물에 가연성 5% 이하 혼합 | D8: TON | E8: 0 | G8: 0 | I8: 0 | K8: 0 | M8: 0 | O8: 0 | P8: 0 | Q8: 0 | R8: 0 | S8: 0 | T8: 0 | U8: 192887 | V8: =SMALL(Q8:U8,COUNTIF(Q8:U8,0)+1) -> 192887 | W8: 자재 4 | Y8: C
A9: 5DA5C4DCE09189E15AA218AB5176E16C50AA47 | B9: 건설폐재류 운반비 | C9: 24톤 덤프트럭, 30km | D9: TON | E9: 0 | G9: 0 | I9: 0 | K9: 0 | M9: 0 | N9: 1586 | O9: 0 | P9: 0 | Q9: 0 | R9: 0 | S9: 0 | T9: 0 | U9: 16450 | V9: =SMALL(Q9:U9,COUNTIF(Q9:U9,0)+1) -> 16450 | W9: 자재 5 | Y9: C
A10: 5DA5C4DCE09189E15AA218AB5176E16C50AFC9 | B10: 혼합건설폐기물 운반비 | C10: 24톤 암롤트럭, 30km | D10: TON | E10: 0 | G10: 0 | I10: 0 | K10: 0 | M10: 0 | N10: 1586 | O10: 0 | P10: 0 | Q10: 0 | R10: 0 | S10: 0 | T10: 0 | U10: 61880 | V10: =SMALL(Q10:U10,COUNTIF(Q10:U10,0)+1) -> 61880 | W10: 자재 6 | Y10: C
A11: 59EE05D28A6910A4222C050C9C34458D3425C3 | B11: 가연성폐기물 | C11: 폐합성수지 | D11: TON | E11: 0 | G11: 0 | I11: 0 | K11: 0 | M11: 0 | O11: 0 | P11: 0 | Q11: 0 | R11: 0 | S11: 0 | T11: 0 | U11: 230000 | V11: =SMALL(Q11:U11,COUNTIF(Q11:U11,0)+1) -> 230000 | W11: 자재 1 | Y11: C
A12: 59EE05D28A6910A4222C050C9C34458D3425C0 | B12: 가연성폐기물 | C12: 폐목재 | D12: TON | E12: 0 | G12: 0 | I12: 0 | K12: 0 | M12: 0 | O12: 0 | P12: 0 | Q12: 0 | R12: 0 | S12: 0 | T12: 0 | U12: 40910 | V12: =SMALL(Q12:U12,COUNTIF(Q12:U12,0)+1) -> 40910 | W12: 자재 2 | Y12: C
A13: 59EE05D28A6910A4222C050C9C356AE939D41C | B13: 가연성폐기물 운반비-폐합성수지 | C13: 16톤 암롤트럭, 30km | D13: TON | E13: 0 | G13: 0 | I13: 0 | K13: 0 | M13: 0 | N13: 1586 | O13: 0 | P13: 0 | Q13: 0 | R13: 0 | S13: 0 | T13: 0 | U13: 74930 | V13: =SMALL(Q13:U13,COUNTIF(Q13:U13,0)+1) -> 74930 | W13: 자재 3 | Y13: C
A14: 59EE05D28A6910A4222C050C9C356AE939D41F | B14: 가연성폐기물 운반비-폐목재 | C14: 5톤 카고트럭, 30km | D14: 회 | E14: 0 | G14: 0 | I14: 0 | K14: 0 | M14: 0 | N14: 1586 | O14: 0 | P14: 0 | Q14: 0 | R14: 0 | S14: 0 | T14: 0 | U14: 195900 | V14: =SMALL(Q14:U14,COUNTIF(Q14:U14,0)+1) -> 195900 | W14: 자재 4 | Y14: C

Sheet  공사설정 
A1: 이 Sheet는 수정하지 마십시요
A2: 공사구분 | B2: A | C2: 타이틀
A3: 확정내역 | B3: 원내역
A4: 자재단가적용 | B4: 5
A5: 경비단가적용 | B5: 5
A6: 품목코드형식 | B6: XXXX-XXXX-XXXXXXXXX
A7: 내역금액소수점처리 | B7: C | C7: T
A8: 일위대가내역소수점처리 | B8: C | C8: 2
A9: 단가명 | B9: 조달청가격 | C9: 거래가격 | D9: 유통물가 | E9: 조사가격1 | F9: 조사가격2 | G9: TTTTT
A10: 환율 | B10: 1472 | C10: 0 | D10: 0
A11: 시간당작업량 | B11: R | C11: 4
A12: 1회 사이클시간 | B12: R | C12: 4
A13: 시간당 작업사이클 | B13: R | C13: 3
A14: 일반변수 | B14: R | C14: 5
A15: 시간당 노임산출 계수 | B15: A | C15: 1/8*16/12*25/20 | D15: 1/8*16/12*25/20 | E15: 1/8*16/12*25/20 | F15: 1
A16: 재료비 할증 계수 | B16: 1.11 | C16: 1.12
A17: 노무비 할증 계수 | B17: 1 | C17: 1.5 | D17: 1.16 | E17: 1.6 | F17: 1.6 | G17: 1.6 | H17: 1.94 | I17: 1.94 | J17: 1.94 | K17: 1 | L17: 1 | M17: 1
A18: 경비 할증 계수 | B18: 1.25 | C18: 1.071
A19: 내역,일위대가 품명,규격,단위 따로적용
A20: 내역단가 소수점처리 | B20: C | C20: 1
A21: 코드 | B21: 공종구분명 | C21: 원가비목코드
A22: 1 | B22: 작 업 부 산 물 | C22: A3
A23: 2 | B23: 운 반 비 | C23: C1
A24: 3 | B24: 관 급 자 재 비 | C24: DJ
A25: 4 | B25: 사 급 자 재 비 | C25: D3
A26: 5 | B26: 외 자 재
A27: 6 | B27: 폐기물 처리비 | C27: CF
A28: 7 | B28: 품 질 관 리 비 | C28: C9
A29: 8 | B29: 안 전 관 리 비 | C29: CC
A30: 9 | B30: 도급자관급자재비 | C30: DK
A31: A | B31: 관급자관급자재비 | C31: DL
A32: B | B32: .....
A33: C | B33: ....
A34: D | B34: ....
A35: E | B35: ....
A36: F | B36: ....
A37: G | B37: ....
A38: H | B38: ....
A39: I | B39: ....
A40: J | B40: ....
A43: 단가 순서 | B43: 1234

Sheet Sheet1
