Workbook
Name __JJ132: #REF!
Name __JK132: #REF!
Name __JN132: #REF!
Name __p1: #REF!
Name _95년_포상금_지급내역: #REF!
Name _JJ132: #REF!
Name _JK132: #REF!
Name _JN132: #REF!
Name _p1: #REF!
Name a: #REF!
Name alf: #REF!
Name b: #REF!
Name BOX형수로집계: #REF!
Name CV_1C: #REF!
Name d: #REF!
Name N: #REF!
Name P: #REF!
Name Print_Area_MI: #REF!
Name Q: #REF!
Name SIZE: #REF!
Name 강감찬: #REF!
Name 경계점말뚝: #REF!
Name 계약단가: #REF!
Name 고급: #REF!
Name 공공시설: #REF!
Name 공사비: #REF!
Name 공업용뇌관2: #REF!
Name 교육: #REF!
Name 교통: #REF!
Name 기간: #REF!
Name 김유신: #REF!
Name 노임: #REF!
Name 다이너마이트2: #REF!
Name 단가: #REF!
Name 단순공종: #REF!
Name 대기질: #REF!
Name 대기질측정: #REF!
Name 대안설정: #REF!
Name 동식물상: #REF!
Name ㅁ1: #REF!
Name 명수: #REF!
Name 문화재: #REF!
Name 백색페인트: #REF!
Name 보정계수1: #REF!
Name 보정계수2: #REF!
Name 보정계수3: #REF!
Name 보조: #REF!
Name 보통공종: #REF!
Name 보통인부: #REF!
Name 복잡공종: #REF!
Name 비닐전화선: #REF!
Name 뿌로마이드: #REF!
Name 사정: #REF!
Name 사후환경조사: #REF!
Name 산업: #REF!
Name 선택: #REF!
Name 설계규모: #REF!
Name 섹션오일페이퍼: #REF!
Name 소음진동: #REF!
Name 수리수문: #REF!

Sheet 총괄표
A1: 총줄수-> | B1: 107 | D1: [ 학산2리 마을만들기사업 ] | AA1: 연속견적가로형식
A2: 번호 | B2: 공종코드 | C2: … | D2: 공 종 명 | E2: 규격 | F2: 단위 | G2: 수량 | H2: 재료비 | J2: 노무비 | M2: 경비 | P2: 계 | Q2: 비고
H3: 단가 | I3: 금액 | J3: 수량 | K3: 단가 | L3: 금액 | M3: 단가 | N3: 금액 | O3: 단가
B4: 공종줄 | D4: 학산2리 마을만들기사업
B5: 01 | D5: 1.전기공사 | F5: 식 | G5: 1 | H5: =총괄표!I81 -> 0 | I5: =G5*H5 -> 0 | K5: =총괄표!L81 -> 0 | L5: =G5*K5 -> 0 | M5: =총괄표!N81 -> 0 | N5: =G5*M5 -> 0 | O5: =IF((H5+K5+M5)=0, "", (H5+K5+M5)) | P5: =SUM(I5,L5,N5) -> 0
C29: Total | D29: ( 합 계 ) | I29: =TRUNC(SUM(I4:I28)) -> 0 | L29: =TRUNC(SUM(L4:L28)) -> 0 | N29: =TRUNC(SUM(N4:N28)) -> 0 | O29: =IF((H29+K29+M29)=0, "", (H29+K29+M29)) | P29: =TRUNC(SUM(P4:P28)) -> 0
B30: 공종줄 | D30: 학산2리 마을만들기사업
B31: 02 | D31: 2.도급자관급 | F31: 식 | G31: 1 | H31: =총괄표!I107 -> 0 | I31: =G31*H31 -> 0 | K31: =총괄표!L107 -> 0 | L31: =G31*K31 -> 0 | M31: =총괄표!N107 -> 0 | N31: =G31*M31 -> 0 | O31: =IF((H31+K31+M31)=0, "", (H31+K31+M31)) | P31: =SUM(I31,L31,N31) -> 0
C55: Total | D55: ( 합 계 ) | I55: =TRUNC(SUM(I30:I54)) -> 0 | L55: =TRUNC(SUM(L30:L54)) -> 0 | N55: =TRUNC(SUM(N30:N54)) -> 0 | O55: =IF((H55+K55+M55)=0, "", (H55+K55+M55)) | P55: =TRUNC(SUM(P30:P54)) -> 0
B56: 공종줄 | D56: 1.전기공사
B57: 0101 | D57: 1-1.전력간선설비공사 | F57: 식 | G57: 1 | H57: =내역서!I29 -> 0 | I57: =G57*H57 -> 0 | K57: =내역서!L29 -> 0 | L57: =G57*K57 -> 0 | M57: =내역서!N29 -> 0 | N57: =G57*M57 -> 0 | O57: =IF((H57+K57+M57)=0, "", (H57+K57+M57)) | P57: =SUM(I57,L57,N57) -> 0
B58: 0102 | D58: 1-2.전등설비공사 | F58: 식 | G58: 1 | H58: =내역서!I55 -> 0 | I58: =G58*H58 -> 0 | K58: =내역서!L55 -> 0 | L58: =G58*K58 -> 0 | M58: =내역서!N55 -> 0 | N58: =G58*M58 -> 0 | O58: =IF((H58+K58+M58)=0, "", (H58+K58+M58)) | P58: =SUM(I58,L58,N58) -> 0
B59: 0103 | D59: 1-3.전열설비공사 | F59: 식 | G59: 1 | H59: =내역서!I81 -> 0 | I59: =G59*H59 -> 0 | K59: =내역서!L81 -> 0 | L59: =G59*K59 -> 0 | M59: =내역서!N81 -> 0 | N59: =G59*M59 -> 0 | O59: =IF((H59+K59+M59)=0, "", (H59+K59+M59)) | P59: =SUM(I59,L59,N59) -> 0
B60: 0104 | D60: 1-4.철거공사 | F60: 식 | G60: 1 | H60: =내역서!I107 -> 0 | I60: =G60*H60 -> 0 | K60: =내역서!L107 -> 0 | L60: =G60*K60 -> 0 | M60: =내역서!N107 -> 0 | N60: =G60*M60 -> 0 | O60: =IF((H60+K60+M60)=0, "", (H60+K60+M60)) | P60: =SUM(I60,L60,N60) -> 0
B81: 01 | C81: Total | D81: ( 합 계 ) | I81: =TRUNC(SUM(I56:I80)) -> 0 | L81: =TRUNC(SUM(L56:L80)) -> 0 | N81: =TRUNC(SUM(N56:N80)) -> 0 | O81: =IF((H81+K81+M81)=0, "", (H81+K81+M81)) | P81: =TRUNC(SUM(P56:P80)) -> 0
B82: 공종줄 | D82: 2.도급자관급
B83: 0201 | D83: 2-1.조명기구 | F83: 식 | G83: 1 | H83: =내역서!I133 -> 0 | I83: =G83*H83 -> 0 | K83: =내역서!L133 -> 0 | L83: =G83*K83 -> 0 | M83: =내역서!N133 -> 0 | N83: =G83*M83 -> 0 | O83: =IF((H83+K83+M83)=0, "", (H83+K83+M83)) | P83: =SUM(I83,L83,N83) -> 0
B107: 02 | C107: Total | D107: ( 합 계 ) | I107: =TRUNC(SUM(I82:I106)) -> 0 | L107: =TRUNC(SUM(L82:L106)) -> 0 | N107: =TRUNC(SUM(N82:N106)) -> 0 | O107: =IF((H107+K107+M107)=0, "", (H107+K107+M107)) | P107: =TRUNC(SUM(P82:P106)) -> 0

Sheet 내역서
A1: 총줄수-> | B1: 133 | D1: [ 학산2리 마을만들기사업 ] | W1: 노임 계산 정보 | AA1: 부속재 및 손료
A2: 번호 | B2: 공종코드 | C2: 코드 | D2: 명 칭 | E2: 규 격 | F2: 단위 | G2: 수량 | H2: 재료비 | J2: 노무비 | M2: 경비 | P2: 계 | Q2: 비고 | W2: 노임계 | X2: 전체(%) | Y2: 공종별(%) | Z2: 노임 소수 | AA2: CD배관재 | AB2: 일반배관재 | AC2: 소모재 | AD2: 자재계 | AE2: 노임계
H3: 단가 | I3: 금액 | J3: 수량 | K3: 단가 | L3: 금액 | M3: 단가 | N3: 금액 | O3: 단가 | AD3: =IF(옵션!$C$11 =0, "1", 옵션!$C$11) -> 1 | AE3: =IF(옵션!$C$12 =0, "1", 옵션!$C$12) -> 1
B4: 공종줄 | D4: 1.전기공사::1-1.전력간선설비공사
A5: 5975A337004 | B5: 0101 | C5: 5975A337004 | D5: 강제전선관 | E5: 아연도 36 mm | F5: M | G5: 9 | I5: =TRUNC(G5*H5) -> 0 | J5: 9 | L5: =TRUNC(G5*K5) -> 0 | N5: =TRUNC(G5*M5) -> 0 | O5: =IF((H5+K5+M5)=0, "", (H5+K5+M5)) | P5: =SUM(I5,L5,N5) -> 0 | AB5: =I5 -> 0 | AC5: =G5*H5 -> 0
A6: 5975B467032 | B6: 0101 | C6: 5975B467032 | D6: 경질비닐전선관(지중) | E6: HI 16 mm | F6: M | G6: 13 | I6: =TRUNC(G6*H6) -> 0 | J6: 13 | L6: =TRUNC(G6*K6) -> 0 | N6: =TRUNC(G6*M6) -> 0 | O6: =IF((H6+K6+M6)=0, "", (H6+K6+M6)) | P6: =SUM(I6,L6,N6) -> 0 | AB6: =I6 -> 0 | AC6: =G6*H6 -> 0
A7: 5975E877200 | B7: 0101 | C7: 5975E877200 | D7: 관로구방수장치 | E7: D30 | F7: 조 | G7: 1 | I7: =TRUNC(G7*H7) -> 0 | J7: 1 | L7: =TRUNC(G7*K7) -> 0 | N7: =TRUNC(G7*M7) -> 0 | O7: =IF((H7+K7+M7)=0, "", (H7+K7+M7)) | P7: =SUM(I7,L7,N7) -> 0
A8: 59759017062 | B8: 0101 | C8: 59759017062 | D8: 강제전선관용 부품 | E8: 노말밴드, 아연도 36 mm | F8: 개 | G8: 4 | I8: =TRUNC(G8*H8) -> 0 | J8: 4 | L8: =TRUNC(G8*K8) -> 0 | N8: =TRUNC(G8*M8) -> 0 | O8: =IF((H8+K8+M8)=0, "", (H8+K8+M8)) | P8: =SUM(I8,L8,N8) -> 0
A9: 5975J017044 | B9: 0101 | C9: 5975J017044 | D9: 강제전선관용 부품 | E9: 위샤캡, 36 C | F9: 개 | G9: 1 | I9: =TRUNC(G9*H9) -> 0 | J9: 1 | L9: =TRUNC(G9*K9) -> 0 | N9: =TRUNC(G9*M9) -> 0 | O9: =IF((H9+K9+M9)=0, "", (H9+K9+M9)) | P9: =SUM(I9,L9,N9) -> 0
A10: 56951000003 | B10: 0101 | C10: 56951000003 | D10: 새들(벽체) | E10: 36C | F10: 개소 | G10: 4 | I10: =TRUNC(G10*H10) -> 0 | J10: 4 | L10: =TRUNC(G10*K10) -> 0 | N10: =TRUNC(G10*M10) -> 0 | O10: =IF((H10+K10+M10)=0, "", (H10+K10+M10)) | P10: =SUM(I10,L10,N10) -> 0
A11: 56951000103 | B11: 0101 | C11: 56951000103 | D11: 새들(천정) | E11: 36C | F11: 개소 | G11: 4 | I11: =TRUNC(G11*H11) -> 0 | J11: 4 | L11: =TRUNC(G11*K11) -> 0 | N11: =TRUNC(G11*M11) -> 0 | O11: =IF((H11+K11+M11)=0, "", (H11+K11+M11)) | P11: =SUM(I11,L11,N11) -> 0
A12: 56951001319 | B12: 0101 | C12: 56951001319 | D12: 배관용 벽체 구멍뚫기(코어드릴) | E12: Φ25-15cm이하 | F12: 개소 | G12: 3 | I12: =TRUNC(G12*H12) -> 0 | J12: 3 | L12: =TRUNC(G12*K12) -> 0 | N12: =TRUNC(G12*M12) -> 0 | O12: =IF((H12+K12+M12)=0, "", (H12+K12+M12)) | P12: =SUM(I12,L12,N12) -> 0
A13: 56959000009 | B13: 0101 | C13: 56959000009 | D13: 이차 랙크 1P | F13: 개 | G13: 1 | I13: =TRUNC(G13*H13) -> 0 | J13: 1 | L13: =TRUNC(G13*K13) -> 0 | N13: =TRUNC(G13*M13) -> 0 | O13: =IF((H13+K13+M13)=0, "", (H13+K13+M13)) | P13: =SUM(I13,L13,N13) -> 0
A14: E145A927204 | B14: 0101 | C14: E145A927204 | D14: 접지용비닐절연전선(F-GV) | E14: 10㎟ | F14: M | G14: 25 | I14: =TRUNC(G14*H14) -> 0 | J14: 25 | L14: =TRUNC(G14*K14) -> 0 | N14: =TRUNC(G14*M14) -> 0 | O14: =IF((H14+K14+M14)=0, "", (H14+K14+M14)) | P14: =SUM(I14,L14,N14) -> 0 | AC14: =G14*H14 -> 0
A15: E145A287524 | B15: 0101 | C15: E145A287524 | D15: 폴리에틸렌 난연케이블 | E15: 0.6/1kv F-CV 2C×10㎟ | F15: M | G15: 31 | I15: =TRUNC(G15*H15) -> 0 | J15: 31 | L15: =TRUNC(G15*K15) -> 0 | N15: =TRUNC(G15*M15) -> 0 | O15: =IF((H15+K15+M15)=0, "", (H15+K15+M15)) | P15: =SUM(I15,L15,N15) -> 0 | AC15: =G15*H15 -> 0
A16: 56951002807 | B16: 0101 | C16: 56951002807 | D16: 터파기(기계90%,인력10%) | E16: 보통토사 | F16: ㎥ | G16: 2.4 | I16: =TRUNC(G16*H16) -> 0 | J16: 2.4 | L16: =TRUNC(G16*K16) -> 0 | N16: =TRUNC(G16*M16) -> 0 | O16: =IF((H16+K16+M16)=0, "", (H16+K16+M16)) | P16: =SUM(I16,L16,N16) -> 0
A17: 56951002810 | B17: 0101 | C17: 56951002810 | D17: 되메우기(기계90%,인력10%) | E17: 보통토사 | F17: ㎥ | G17: 2.4 | I17: =TRUNC(G17*H17) -> 0 | J17: 2.4 | L17: =TRUNC(G17*K17) -> 0 | N17: =TRUNC(G17*M17) -> 0 | O17: =IF((H17+K17+M17)=0, "", (H17+K17+M17)) | P17: =SUM(I17,L17,N17) -> 0
A18: 5975F057152 | B18: 0101 | C18: 5975F057152 | D18: 지중선용 가선철물(저압) | E18: 케이블표지시트, 0.15x150 | F18: M | G18: 10 | I18: =TRUNC(G18*H18) -> 0 | J18: 10 | L18: =TRUNC(G18*K18) -> 0 | N18: =TRUNC(G18*M18) -> 0 | O18: =IF((H18+K18+M18)=0, "", (H18+K18+M18)) | P18: =SUM(I18,L18,N18) -> 0
A19: 56951001502 | B19: 0101 | C19: 56951001502 | D19: 접지공사(전기) | E19: 3종 | F19: 개소 | G19: 1 | I19: =TRUNC(G19*H19) -> 0 | J19: 1 | L19: =TRUNC(G19*K19) -> 0 | N19: =TRUNC(G19*M19) -> 0 | O19: =IF((H19+K19+M19)=0, "", (H19+K19+M19)) | P19: =SUM(I19,L19,N19) -> 0
A20: 56959000015 | B20: 0101 | C20: 56959000015 | D20: 계량기함 박스 | E20: PVC | F20: 면 | G20: 1 | I20: =TRUNC(G20*H20) -> 0 | J20: 1 | L20: =TRUNC(G20*K20) -> 0 | N20: =TRUNC(G20*M20) -> 0 | O20: =IF((H20+K20+M20)=0, "", (H20+K20+M20)) | P20: =SUM(I20,L20,N20) -> 0
A21: 56959000008 | B21: 0101 | C21: 56959000008 | D21: 주택용분전반 | E21: 6회로 | F21: EA | G21: 1 | I21: =TRUNC(G21*H21) -> 0 | J21: 1 | L21: =TRUNC(G21*K21) -> 0 | N21: =TRUNC(G21*M21) -> 0 | O21: =IF((H21+K21+M21)=0, "", (H21+K21+M21)) | P21: =SUM(I21,L21,N21) -> 0
AE22: =TRUNC(SUM(AE4:AE21)) -> 0
B29: 합계줄 | D29: ( 합 계 ) | I29: =TRUNC(SUM(I4:I28)) -> 0 | L29: =TRUNC(SUM(L4:L28)) -> 0 | N29: =TRUNC(SUM(N4:N28)) -> 0 | O29: =IF((H29+K29+M29)=0, "", (H29+K29+M29)) | P29: =TRUNC(SUM(P4:P28)) -> 0
B30: 공종줄 | D30: 1.전기공사::1-2.전등설비공사
A31: 56959000001 | B31: 0102 | C31: 56959000001 | D31: 1종금속제가요전선관 | E31: 16 mm 고장력-방수 | F31: M | G31: 86 | I31: =TRUNC(G31*H31) -> 0 | J31: 86 | L31: =TRUNC(G31*K31) -> 0 | N31: =TRUNC(G31*M31) -> 0 | O31: =IF((H31+K31+M31)=0, "", (H31+K31+M31)) | P31: =SUM(I31,L31,N31) -> 0 | AC31: =G31*H31 -> 0
A32: 56959000002 | B32: 0102 | C32: 56959000002 | D32: 1종금속제가요전선관 | E32: 22 mm 고장력-방수 | F32: M | G32: 5 | I32: =TRUNC(G32*H32) -> 0 | J32: 5 | L32: =TRUNC(G32*K32) -> 0 | N32: =TRUNC(G32*M32) -> 0 | O32: =IF((H32+K32+M32)=0, "", (H32+K32+M32)) | P32: =SUM(I32,L32,N32) -> 0 | AC32: =G32*H32 -> 0
A33: 59753017063 | B33: 0102 | C33: 59753017063 | D33: 1종금속제가요전선관 | E33: 커넥터, 16 mm 일반-방수 | F33: 개 | G33: 74 | I33: =TRUNC(G33*H33) -> 0 | J33: 74 | L33: =TRUNC(G33*K33) -> 0 | N33: =TRUNC(G33*M33) -> 0 | O33: =IF((H33+K33+M33)=0, "", (H33+K33+M33)) | P33: =SUM(I33,L33,N33) -> 0
A34: 59753017064 | B34: 0102 | C34: 59753017064 | D34: 1종금속제가요전선관 | E34: 커넥터, 22 mm 일반-방수 | F34: 개 | G34: 2 | I34: =TRUNC(G34*H34) -> 0 | J34: 2 | L34: =TRUNC(G34*K34) -> 0 | N34: =TRUNC(G34*M34) -> 0 | O34: =IF((H34+K34+M34)=0, "", (H34+K34+M34)) | P34: =SUM(I34,L34,N34) -> 0
A35: 56951000000 | B35: 0102 | C35: 56951000000 | D35: 새들(벽체) | E35: 16C | F35: 개소 | G35: 19 | I35: =TRUNC(G35*H35) -> 0 | J35: 19 | L35: =TRUNC(G35*K35) -> 0 | N35: =TRUNC(G35*M35) -> 0 | O35: =IF((H35+K35+M35)=0, "", (H35+K35+M35)) | P35: =SUM(I35,L35,N35) -> 0
A36: 56951000100 | B36: 0102 | C36: 56951000100 | D36: 새들(천정) | E36: 16C | F36: 개소 | G36: 56 | I36: =TRUNC(G36*H36) -> 0 | J36: 56 | L36: =TRUNC(G36*K36) -> 0 | N36: =TRUNC(G36*M36) -> 0 | O36: =IF((H36+K36+M36)=0, "", (H36+K36+M36)) | P36: =SUM(I36,L36,N36) -> 0
A37: 56951000101 | B37: 0102 | C37: 56951000101 | D37: 새들(천정) | E37: 22C | F37: 개소 | G37: 4 | I37: =TRUNC(G37*H37) -> 0 | J37: 4 | L37: =TRUNC(G37*K37) -> 0 | N37: =TRUNC(G37*M37) -> 0 | O37: =IF((H37+K37+M37)=0, "", (H37+K37+M37)) | P37: =SUM(I37,L37,N37) -> 0
A38: 56951001319 | B38: 0102 | C38: 56951001319 | D38: 배관용 벽체 구멍뚫기(코어드릴) | E38: Φ25-15cm이하 | F38: 개소 | G38: 12 | I38: =TRUNC(G38*H38) -> 0 | J38: 12 | L38: =TRUNC(G38*K38) -> 0 | N38: =TRUNC(G38*M38) -> 0 | O38: =IF((H38+K38+M38)=0, "", (H38+K38+M38)) | P38: =SUM(I38,L38,N38) -> 0
A39: 5975D767011 | B39: 0102 | C39: 5975D767011 | D39: 아우트렛박스 | E39: 8각 54㎜ | F39: 개 | G39: 12 | I39: =TRUNC(G39*H39) -> 0 | J39: 12 | L39: =TRUNC(G39*K39) -> 0 | N39: =TRUNC(G39*M39) -> 0 | O39: =IF((H39+K39+M39)=0, "", (H39+K39+M39)) | P39: =SUM(I39,L39,N39) -> 0
A40: 5975D767041 | B40: 0102 | C40: 5975D767041 | D40: 아우트렛박스 | E40: 중형4각 54㎜ | F40: 개 | G40: 5 | I40: =TRUNC(G40*H40) -> 0 | J40: 5 | L40: =TRUNC(G40*K40) -> 0 | N40: =TRUNC(G40*M40) -> 0 | O40: =IF((H40+K40+M40)=0, "", (H40+K40+M40)) | P40: =SUM(I40,L40,N40) -> 0
A41: 59753767221 | B41: 0102 | C41: 59753767221 | D41: 아우트렛박스 커버 | E41: 커버, 8각, 둥근구멍(평) | F41: 개 | G41: 12 | I41: =TRUNC(G41*H41) -> 0 | J41: 12 | L41: =TRUNC(G41*K41) -> 0 | N41: =TRUNC(G41*M41) -> 0 | O41: =IF((H41+K41+M41)=0, "", (H41+K41+M41)) | P41: =SUM(I41,L41,N41) -> 0
A42: 59753767251 | B42: 0102 | C42: 59753767251 | D42: 아우트렛박스 커버 | E42: 커버, 4각, 둥근구멍(평) | F42: 개 | G42: 5 | I42: =TRUNC(G42*H42) -> 0 | J42: 5 | L42: =TRUNC(G42*K42) -> 0 | N42: =TRUNC(G42*M42) -> 0 | O42: =IF((H42+K42+M42)=0, "", (H42+K42+M42)) | P42: =SUM(I42,L42,N42) -> 0
A43: 56959000003 | B43: 0102 | C43: 56959000003 | D43: 노출 BOX | E43: SW 1구 박스 | F43: 개 | G43: 10 | I43: =TRUNC(G43*H43) -> 0 | J43: 10 | L43: =TRUNC(G43*K43) -> 0 | N43: =TRUNC(G43*M43) -> 0 | O43: =IF((H43+K43+M43)=0, "", (H43+K43+M43)) | P43: =SUM(I43,L43,N43) -> 0
A44: 56951001324 | B44: 0102 | C44: 56951001324 | D44: 박스용 구멍따기 | E44: 각종두께 | F44: 개소 | G44: 4 | I44: =TRUNC(G44*H44) -> 0 | J44: 4 | L44: =TRUNC(G44*K44) -> 0 | N44: =TRUNC(G44*M44) -> 0 | O44: =IF((H44+K44+M44)=0, "", (H44+K44+M44)) | P44: =SUM(I44,L44,N44) -> 0
A45: 56959000004 | B45: 0102 | C45: 56959000004 | D45: 450/750V 내열비닐절연전선 | E45: HFIX 1.78mm(2.5㎟) | F45: M | G45: 300 | I45: =TRUNC(G45*H45) -> 0 | J45: 300 | L45: =TRUNC(G45*K45) -> 0 | N45: =TRUNC(G45*M45) -> 0 | O45: =IF((H45+K45+M45)=0, "", (H45+K45+M45)) | P45: =SUM(I45,L45,N45) -> 0 | AC45: =G45*H45 -> 0
A46: 5930B517001 | B46: 0102 | C46: 5930B517001 | D46: 매입스위치 | E46: 15A, 250V 1로1구 | F46: 개 | G46: 4 | I46: =TRUNC(G46*H46) -> 0 | J46: 4 | L46: =TRUNC(G46*K46) -> 0 | N46: =TRUNC(G46*M46) -> 0 | O46: =IF((H46+K46+M46)=0, "", (H46+K46+M46)) | P46: =SUM(I46,L46,N46) -> 0
A47: 5930B517002 | B47: 0102 | C47: 5930B517002 | D47: 매입스위치 | E47: 15A, 250V 1로2구 | F47: 개 | G47: 5 | I47: =TRUNC(G47*H47) -> 0 | J47: 5 | L47: =TRUNC(G47*K47) -> 0 | N47: =TRUNC(G47*M47) -> 0 | O47: =IF((H47+K47+M47)=0, "", (H47+K47+M47)) | P47: =SUM(I47,L47,N47) -> 0
A48: 56959000006 | B48: 0102 | C48: 56959000006 | D48: 일괄소등스위치 | E48: 1회로 | F48: 개 | G48: 1 | I48: =TRUNC(G48*H48) -> 0 | J48: 1 | L48: =TRUNC(G48*K48) -> 0 | N48: =TRUNC(G48*M48) -> 0 | O48: =IF((H48+K48+M48)=0, "", (H48+K48+M48)) | P48: =SUM(I48,L48,N48) -> 0
A49: 5935A317121 | B49: 0102 | C49: 5935A317121 | D49: 콘센트 | E49: 노출-접지형, 15A 250V 원형 | F49: 개 | G49: 1 | I49: =TRUNC(G49*H49) -> 0 | J49: 1 | L49: =TRUNC(G49*K49) -> 0 | N49: =TRUNC(G49*M49) -> 0 | O49: =IF((H49+K49+M49)=0, "", (H49+K49+M49)) | P49: =SUM(I49,L49,N49) -> 0
A50: 56959000010 | B50: 0102 | C50: 56959000010 | D50: 조명기구(A) | E50: 천정직부 LED 40W | F50: EA | G50: 4 | I50: =TRUNC(G50*H50) -> 0 | J50: 4 | L50: =TRUNC(G50*K50) -> 0 | N50: =TRUNC(G50*M50) -> 0 | O50: =IF((H50+K50+M50)=0, "", (H50+K50+M50)) | P50: =SUM(I50,L50,N50) -> 0
A51: 56959000011 | B51: 0102 | C51: 56959000011 | D51: 조명기구(B) | E51: 천정직부 LED 40W | F51: EA | G51: 2 | I51: =TRUNC(G51*H51) -> 0 | J51: 2 | L51: =TRUNC(G51*K51) -> 0 | N51: =TRUNC(G51*M51) -> 0 | O51: =IF((H51+K51+M51)=0, "", (H51+K51+M51)) | P51: =SUM(I51,L51,N51) -> 0
A52: 56959000012 | B52: 0102 | C52: 56959000012 | D52: 조명기구(C) | E52: 다운라이트 LED 10W | F52: EA | G52: 4 | I52: =TRUNC(G52*H52) -> 0 | J52: 4 | L52: =TRUNC(G52*K52) -> 0 | N52: =TRUNC(G52*M52) -> 0 | O52: =IF((H52+K52+M52)=0, "", (H52+K52+M52)) | P52: =SUM(I52,L52,N52) -> 0
A53: 56959000013 | B53: 0102 | C53: 56959000013 | D53: 조명기구(D) | E53: 직부등 LED 11W | F53: EA | G53: 5 | I53: =TRUNC(G53*H53) -> 0 | J53: 5 | L53: =TRUNC(G53*K53) -> 0 | N53: =TRUNC(G53*M53) -> 0 | O53: =IF((H53+K53+M53)=0, "", (H53+K53+M53)) | P53: =SUM(I53,L53,N53) -> 0
A54: 56959000014 | B54: 0102 | C54: 56959000014 | D54: 조명기구(E) | E54: 직부 센서등 LED 11W | F54: EA | G54: 2 | I54: =TRUNC(G54*H54) -> 0 | J54: 2 | L54: =TRUNC(G54*K54) -> 0 | N54: =TRUNC(G54*M54) -> 0 | O54: =IF((H54+K54+M54)=0, "", (H54+K54+M54)) | P54: =SUM(I54,L54,N54) -> 0
B55: 합계줄 | D55: ( 합 계 ) | I55: =TRUNC(SUM(I30:I54)) -> 0 | L55: =TRUNC(SUM(L30:L54)) -> 0 | N55: =TRUNC(SUM(N30:N54)) -> 0 | O55: =IF((H55+K55+M55)=0, "", (H55+K55+M55)) | P55: =TRUNC(SUM(P30:P54)) -> 0 | AE55: =TRUNC(SUM(AE30:AE54)) -> 0
B56: 공종줄 | D56: 1.전기공사::1-3.전열설비공사
A57: 56959000001 | B57: 0103 | C57: 56959000001 | D57: 1종금속제가요전선관 | E57: 16 mm 고장력-방수 | F57: M | G57: 136 | I57: =TRUNC(G57*H57) -> 0 | J57: 136 | L57: =TRUNC(G57*K57) -> 0 | N57: =TRUNC(G57*M57) -> 0 | O57: =IF((H57+K57+M57)=0, "", (H57+K57+M57)) | P57: =SUM(I57,L57,N57) -> 0 | AC57: =G57*H57 -> 0
A58: 59753017063 | B58: 0103 | C58: 59753017063 | D58: 1종금속제가요전선관 | E58: 커넥터, 16 mm 일반-방수 | F58: 개 | G58: 64 | I58: =TRUNC(G58*H58) -> 0 | J58: 64 | L58: =TRUNC(G58*K58) -> 0 | N58: =TRUNC(G58*M58) -> 0 | O58: =IF((H58+K58+M58)=0, "", (H58+K58+M58)) | P58: =SUM(I58,L58,N58) -> 0
A59: 56951000000 | B59: 0103 | C59: 56951000000 | D59: 새들(벽체) | E59: 16C | F59: 개소 | G59: 53 | I59: =TRUNC(G59*H59) -> 0 | J59: 53 | L59: =TRUNC(G59*K59) -> 0 | N59: =TRUNC(G59*M59) -> 0 | O59: =IF((H59+K59+M59)=0, "", (H59+K59+M59)) | P59: =SUM(I59,L59,N59) -> 0
A60: 56951000100 | B60: 0103 | C60: 56951000100 | D60: 새들(천정) | E60: 16C | F60: 개소 | G60: 82 | I60: =TRUNC(G60*H60) -> 0 | J60: 82 | L60: =TRUNC(G60*K60) -> 0 | N60: =TRUNC(G60*M60) -> 0 | O60: =IF((H60+K60+M60)=0, "", (H60+K60+M60)) | P60: =SUM(I60,L60,N60) -> 0
A61: 56951001319 | B61: 0103 | C61: 56951001319 | D61: 배관용 벽체 구멍뚫기(코어드릴) | E61: Φ25-15cm이하 | F61: 개소 | G61: 8 | I61: =TRUNC(G61*H61) -> 0 | J61: 8 | L61: =TRUNC(G61*K61) -> 0 | N61: =TRUNC(G61*M61) -> 0 | O61: =IF((H61+K61+M61)=0, "", (H61+K61+M61)) | P61: =SUM(I61,L61,N61) -> 0
A62: 56959000003 | B62: 0103 | C62: 56959000003 | D62: 노출 BOX | E62: SW 1구 박스 | F62: 개 | G62: 20 | I62: =TRUNC(G62*H62) -> 0 | J62: 20 | L62: =TRUNC(G62*K62) -> 0 | N62: =TRUNC(G62*M62) -> 0 | O62: =IF((H62+K62+M62)=0, "", (H62+K62+M62)) | P62: =SUM(I62,L62,N62) -> 0
A63: 6145F137894 | B63: 0103 | C63: 6145F137894 | D63: 정션 박스 | E63: 100*100*50 | F63: 개 | G63: 12 | I63: =TRUNC(G63*H63) -> 0 | J63: 12 | L63: =TRUNC(G63*K63) -> 0 | N63: =TRUNC(G63*M63) -> 0 | O63: =IF((H63+K63+M63)=0, "", (H63+K63+M63)) | P63: =SUM(I63,L63,N63) -> 0
A64: E145A667003 | B64: 0103 | C64: E145A667003 | D64: 450/750V 내열비닐절연전선 | E64: HFIX 2.25mm(4㎟) | F64: M | G64: 410 | I64: =TRUNC(G64*H64) -> 0 | J64: 410 | L64: =TRUNC(G64*K64) -> 0 | N64: =TRUNC(G64*M64) -> 0 | O64: =IF((H64+K64+M64)=0, "", (H64+K64+M64)) | P64: =SUM(I64,L64,N64) -> 0 | AC64: =G64*H64 -> 0
A65: 56959000005 | B65: 0103 | C65: 56959000005 | D65: UTP 케이블 | E65: Cat.5E 0.5mm 4P | F65: M | G65: 10 | I65: =TRUNC(G65*H65) -> 0 | J65: 10 | L65: =TRUNC(G65*K65) -> 0 | N65: =TRUNC(G65*M65) -> 0 | O65: =IF((H65+K65+M65)=0, "", (H65+K65+M65)) | P65: =SUM(I65,L65,N65) -> 0 | AC65: =G65*H65 -> 0
A66: 5935A317205 | B66: 0103 | C66: 5935A317205 | D66: 콘센트 | E66: 매입-접지형, 15A 250V 1구 | F66: 개 | G66: 2 | I66: =TRUNC(G66*H66) -> 0 | J66: 2 | L66: =TRUNC(G66*K66) -> 0 | N66: =TRUNC(G66*M66) -> 0 | O66: =IF((H66+K66+M66)=0, "", (H66+K66+M66)) | P66: =SUM(I66,L66,N66) -> 0
A67: 5935A317206 | B67: 0103 | C67: 5935A317206 | D67: 콘센트 | E67: 매입-접지형, 15A 250V 2구 | F67: 개 | G67: 13 | I67: =TRUNC(G67*H67) -> 0 | J67: 13 | L67: =TRUNC(G67*K67) -> 0 | N67: =TRUNC(G67*M67) -> 0 | O67: =IF((H67+K67+M67)=0, "", (H67+K67+M67)) | P67: =SUM(I67,L67,N67) -> 0
A68: 5935A317208 | B68: 0103 | C68: 5935A317208 | D68: 방우콘센트 | E68: 매입-접지형, 15A 250V 2구 | F68: 개 | G68: 2 | I68: =TRUNC(G68*H68) -> 0 | J68: 2 | L68: =TRUNC(G68*K68) -> 0 | N68: =TRUNC(G68*M68) -> 0 | O68: =IF((H68+K68+M68)=0, "", (H68+K68+M68)) | P68: =SUM(I68,L68,N68) -> 0
A69: 56959000007 | B69: 0103 | C69: 56959000007 | D69: ELB내장형콘센트 | E69: 15A 250V 1구 | F69: 개 | G69: 1 | I69: =TRUNC(G69*H69) -> 0 | J69: 1 | L69: =TRUNC(G69*K69) -> 0 | N69: =TRUNC(G69*M69) -> 0 | O69: =IF((H69+K69+M69)=0, "", (H69+K69+M69)) | P69: =SUM(I69,L69,N69) -> 0
AE70: =TRUNC(SUM(AE56:AE69)) -> 0
B81: 합계줄 | D81: ( 합 계 ) | I81: =TRUNC(SUM(I56:I80)) -> 0 | L81: =TRUNC(SUM(L56:L80)) -> 0 | N81: =TRUNC(SUM(N56:N80)) -> 0 | O81: =IF((H81+K81+M81)=0, "", (H81+K81+M81)) | P81: =TRUNC(SUM(P56:P80)) -> 0
B82: 공종줄 | D82: 1.전기공사::1-4.철거공사
A83: 56951004100 | B83: 0104 | C83: 56951004100 | D83: 스위치(철거) | E83: 1로1구 | F83: 개소 | G83: 2 | I83: =TRUNC(G83*H83) -> 0 | J83: 2 | L83: =TRUNC(G83*K83) -> 0 | N83: =TRUNC(G83*M83) -> 0 | O83: =IF((H83+K83+M83)=0, "", (H83+K83+M83)) | P83: =SUM(I83,L83,N83) -> 0
A84: 56951004101 | B84: 0104 | C84: 56951004101 | D84: 스위치(철거) | E84: 1로2구 | F84: 개소 | G84: 7 | I84: =TRUNC(G84*H84) -> 0 | J84: 7 | L84: =TRUNC(G84*K84) -> 0 | N84: =TRUNC(G84*M84) -> 0 | O84: =IF((H84+K84+M84)=0, "", (H84+K84+M84)) | P84: =SUM(I84,L84,N84) -> 0
A85: 56951004109 | B85: 0104 | C85: 56951004109 | D85: 스위치(철거) | E85: 매입2구(2P-15A/접지) | F85: 개소 | G85: 10 | I85: =TRUNC(G85*H85) -> 0 | J85: 10 | L85: =TRUNC(G85*K85) -> 0 | N85: =TRUNC(G85*M85) -> 0 | O85: =IF((H85+K85+M85)=0, "", (H85+K85+M85)) | P85: =SUM(I85,L85,N85) -> 0
A86: 56959000019 | B86: 0104 | C86: 56959000019 | D86: 전화수구(철거) | E86: 4PIN | F86: 개소 | G86: 2 | I86: =TRUNC(G86*H86) -> 0 | J86: 2 | L86: =TRUNC(G86*K86) -> 0 | N86: =TRUNC(G86*M86) -> 0 | O86: =IF((H86+K86+M86)=0, "", (H86+K86+M86)) | P86: =SUM(I86,L86,N86) -> 0
A87: 56951004121 | B87: 0104 | C87: 56951004121 | D87: TV유니트(철거) | E87: 직,병렬 | F87: 개소 | G87: 2 | I87: =TRUNC(G87*H87) -> 0 | J87: 2 | L87: =TRUNC(G87*K87) -> 0 | N87: =TRUNC(G87*M87) -> 0 | O87: =IF((H87+K87+M87)=0, "", (H87+K87+M87)) | P87: =SUM(I87,L87,N87) -> 0
A88: 56959000016 | B88: 0104 | C88: 56959000016 | D88: 조명기구(철거) | E88: 천정직부 LED 50W | F88: 개소 | G88: 4 | I88: =TRUNC(G88*H88) -> 0 | J88: 4 | L88: =TRUNC(G88*K88) -> 0 | N88: =TRUNC(G88*M88) -> 0 | O88: =IF((H88+K88+M88)=0, "", (H88+K88+M88)) | P88: =SUM(I88,L88,N88) -> 0
A89: 56959000017 | B89: 0104 | C89: 56959000017 | D89: 조명기구(철거) | E89: 천정직부 LED 10W | F89: 개소 | G89: 10 | I89: =TRUNC(G89*H89) -> 0 | J89: 10 | L89: =TRUNC(G89*K89) -> 0 | N89: =TRUNC(G89*M89) -> 0 | O89: =IF((H89+K89+M89)=0, "", (H89+K89+M89)) | P89: =SUM(I89,L89,N89) -> 0
A90: 56959000018 | B90: 0104 | C90: 56959000018 | D90: 분전반(철거) | F90: 개소 | G90: 1 | I90: =TRUNC(G90*H90) -> 0 | J90: 1 | L90: =TRUNC(G90*K90) -> 0 | N90: =TRUNC(G90*M90) -> 0 | O90: =IF((H90+K90+M90)=0, "", (H90+K90+M90)) | P90: =SUM(I90,L90,N90) -> 0
AE91: =TRUNC(SUM(AE82:AE90)) -> 0
B107: 합계줄 | D107: ( 합 계 ) | I107: =TRUNC(SUM(I82:I106)) -> 0 | L107: =TRUNC(SUM(L82:L106)) -> 0 | N107: =TRUNC(SUM(N82:N106)) -> 0 | O107: =IF((H107+K107+M107)=0, "", (H107+K107+M107)) | P107: =TRUNC(SUM(P82:P106)) -> 0
B108: 공종줄 | D108: 2.도급자관급::2-1.조명기구
A109: MMH51010000 | B109: 0201 | C109: MMH51010000 | D109: 조명기구(A) | E109: 천정직부 LED 40W | F109: EA | G109: 4 | I109: =TRUNC(G109*H109) -> 0 | J109: 4 | L109: =TRUNC(G109*K109) -> 0 | N109: =TRUNC(G109*M109) -> 0 | O109: =IF((H109+K109+M109)=0, "", (H109+K109+M109)) | P109: =SUM(I109,L109,N109) -> 0
A110: MMH51010010 | B110: 0201 | C110: MMH51010010 | D110: 조명기구(B) | E110: 천정직부 LED 40W | F110: EA | G110: 2 | I110: =TRUNC(G110*H110) -> 0 | J110: 2 | L110: =TRUNC(G110*K110) -> 0 | N110: =TRUNC(G110*M110) -> 0 | O110: =IF((H110+K110+M110)=0, "", (H110+K110+M110)) | P110: =SUM(I110,L110,N110) -> 0
A111: MMH51010020 | B111: 0201 | C111: MMH51010020 | D111: 조명기구(C) | E111: 다운라이트 LED 10W | F111: EA | G111: 4 | I111: =TRUNC(G111*H111) -> 0 | J111: 4 | L111: =TRUNC(G111*K111) -> 0 | N111: =TRUNC(G111*M111) -> 0 | O111: =IF((H111+K111+M111)=0, "", (H111+K111+M111)) | P111: =SUM(I111,L111,N111) -> 0
A112: MMH51010030 | B112: 0201 | C112: MMH51010030 | D112: 조명기구(D) | E112: 직부등 LED 11W | F112: EA | G112: 5 | I112: =TRUNC(G112*H112) -> 0 | J112: 5 | L112: =TRUNC(G112*K112) -> 0 | N112: =TRUNC(G112*M112) -> 0 | O112: =IF((H112+K112+M112)=0, "", (H112+K112+M112)) | P112: =SUM(I112,L112,N112) -> 0
A113: MMH51010040 | B113: 0201 | C113: MMH51010040 | D113: 조명기구(E) | E113: 직부 센서등 LED 11W | F113: EA | G113: 2 | I113: =TRUNC(G113*H113) -> 0 | J113: 2 | L113: =TRUNC(G113*K113) -> 0 | N113: =TRUNC(G113*M113) -> 0 | O113: =IF((H113+K113+M113)=0, "", (H113+K113+M113)) | P113: =SUM(I113,L113,N113) -> 0
A114: MM041119521 | B114: 0201 | C114: MM041119521 | D114: 조달 수수료(1) | E114: 0.54% | F114: 식 | G114: 1 | I114: =TRUNC(G114*H114) -> 0 | J114: 1 | L114: =TRUNC(G114*K114) -> 0 | N114: =TRUNC(G114*M114) -> 0 | O114: =IF((H114+K114+M114)=0, "", (H114+K114+M114)) | P114: =SUM(I114,L114,N114) -> 0
AE115: =TRUNC(SUM(AE108:AE114)) -> 0
B133: 합계줄 | D133: ( 합 계 ) | I133: =TRUNC(SUM(I108:I132)) -> 0 | L133: =TRUNC(SUM(L108:L132)) -> 0 | N133: =TRUNC(SUM(N108:N132)) -> 0 | O133: =IF((H133+K133+M133)=0, "", (H133+K133+M133)) | P133: =TRUNC(SUM(P108:P132)) -> 0

Sheet 합산자재
B1: 81 | C1: [ 학산2리 마을만들기사업 ] - 합산자재목록
A2: 번호 | B2: … | C2: 코드 | D2: 명 칭 | E2: 규 격 | F2: 단위 | G2: 수량 | H2: 재료비 | I2: 노무비 | J2: 경비 | K2: 지급비 | L2: 계 | M2: 비고
B4: 3913170610034835 | C4: 59750337004 | D4: 강제전선관 | E4: 아연도 36 mm | F4: M | G4: 9.9 | H4: =ROUNDDOWN(#REF!*옵션!$D$11, 0) -> #REF! | L4: =SUM(H4,I4,J4) -> #REF!
B5: 3913170610034965 | C5: 59751467032 | D5: 경질비닐전선관 | E5: HI 16 mm | F5: M | G5: 13.65 | H5: =ROUNDDOWN(#REF!*옵션!$D$11, 0) -> #REF! | L5: =SUM(H5,I5,J5) -> #REF!
B6: 3913170620174446 | C6: 59753017063 | D6: 1종금속제가요전선관 | E6: 커넥터, 16 mm 일반-방수 | F6: 개 | G6: 138 | H6: =ROUNDDOWN(#REF!*옵션!$D$11, 0) -> #REF! | L6: =SUM(H6,I6,J6) -> #REF!
B7: 3913170620174447 | C7: 59753017064 | D7: 1종금속제가요전선관 | E7: 커넥터, 22 mm 일반-방수 | F7: 개 | G7: 2 | H7: =ROUNDDOWN(#REF!*옵션!$D$11, 0) -> #REF! | L7: =SUM(H7,I7,J7) -> #REF!
B8: 3913170620174470 | C8: MM496797029 | D8: 1종금속제가요전선관 | E8: 16 mm 고장력-방수 | F8: M | G8: 244.2 | H8: =ROUNDDOWN(#REF!*옵션!$D$11, 0) -> #REF! | L8: =SUM(H8,I8,J8) -> #REF!
B9: 3913170620174471 | C9: MM496797030 | D9: 1종금속제가요전선관 | E9: 22 mm 고장력-방수 | F9: M | G9: 5.5 | H9: =ROUNDDOWN(#REF!*옵션!$D$11, 0) -> #REF! | L9: =SUM(H9,I9,J9) -> #REF!
B10: 3912171220935649 | C10: 59754877200 | D10: 관로구방수장치 | E10: D30 | F10: 조 | G10: 1 | H10: =ROUNDDOWN(#REF!*옵션!$D$11, 0) -> #REF! | L10: =SUM(H10,I10,J10) -> #REF!
B11: 3913170820176476 | C11: 59759017062 | D11: 강제전선관용 부품 | E11: 노말밴드, 아연도 36 mm | F11: 개 | G11: 4 | H11: =ROUNDDOWN(#REF!*옵션!$D$11, 0) -> #REF! | L11: =SUM(H11,I11,J11) -> #REF!
B12: 3913170820176469 | C12: 59759017044 | D12: 강제전선관용 부품 | E12: 위샤캡, 36 C | F12: 개 | G12: 1 | H12: =ROUNDDOWN(#REF!*옵션!$D$11, 0) -> #REF! | L12: =SUM(H12,I12,J12) -> #REF!
B13: 3912130810035750 | C13: 59753767011 | D13: 아우트렛박스 | E13: 8각 54㎜ | F13: 개 | G13: 12 | H13: =ROUNDDOWN(#REF!*옵션!$D$11, 0) -> #REF! | L13: =SUM(H13,I13,J13) -> #REF!
B14: 3912130810035753 | C14: 59753767041 | D14: 아우트렛박스 | E14: 중형4각 54㎜ | F14: 개 | G14: 5 | H14: =ROUNDDOWN(#REF!*옵션!$D$11, 0) -> #REF! | L14: =SUM(H14,I14,J14) -> #REF!
B15: 3912130820174712 | C15: 59753767221 | D15: 아우트렛박스 커버 | E15: 커버, 8각, 둥근구멍(평) | F15: 개 | G15: 12 | H15: =ROUNDDOWN(#REF!*옵션!$D$11, 0) -> #REF! | L15: =SUM(H15,I15,J15) -> #REF!
... B36: 3912110220186204 | C36: MM300011413 | D36: 주택용분전반 | E36: 6회로 | F36: EA | G36: 1 | H36: =ROUNDDOWN(#REF!*옵션!$D$11, 0) -> #REF! | L36: =SUM(H36,I36,J36) -> #REF!
B37: 3912218220173361 | C37: MM300041216 | D37: 이차 랙크 1P | F37: 개 | G37: 1 | H37: =ROUNDDOWN(#REF!*옵션!$D$11, 0) -> #REF! | L37: =SUM(H37,I37,J37) -> #REF!
B38: 3912219520175619 | C38: 59755057152 | D38: 지중선용 가선철물(저압) | E38: 케이블표지시트, 0.15x150 | F38: M | G38: 10 | H38: =ROUNDDOWN(#REF!*옵션!$D$11, 0) -> #REF! | L38: =SUM(H38,I38,J38) -> #REF!
B39: 9998887770000065 | C39: MM450736297 | D39: 접지봉연결 | E39: 3본 18x2400mm | F39: 개소 | G39: 1 | H39: =ROUNDDOWN(#REF!*옵션!$D$11, 0) -> #REF! | L39: =SUM(H39,I39,J39) -> #REF!
B40: 3912161320937672 | C40: MM450736308 | D40: 볼트형콘넥터 | E40: U 볼트형, Φ19 | F40: 개 | G40: 3 | H40: =ROUNDDOWN(#REF!*옵션!$D$11, 0) -> #REF! | L40: =SUM(H40,I40,J40) -> #REF!
B41: 9992538974555100 | C41: MMU96666510 | D41: 다이아몬드 비트 | E41: 55mm(2.2인치) | F41: 개 | G41: 23 | H41: =ROUNDDOWN(#REF!*옵션!$D$11, 0) -> #REF! | L41: =SUM(H41,I41,J41) -> #REF!
B42: InMastDBNonCode | C42: MMH51010000 | D42: 조명기구(A) | E42: 천정직부 LED 40W | F42: EA | G42: 4 | H42: =ROUNDDOWN(#REF!*옵션!$D$11, 0) -> #REF! | L42: =SUM(H42,I42,J42) -> #REF! | M42: 23335952
B43: InMastDBNonCode | C43: MMH51010010 | D43: 조명기구(B) | E43: 천정직부 LED 40W | F43: EA | G43: 2 | H43: =ROUNDDOWN(#REF!*옵션!$D$11, 0) -> #REF! | L43: =SUM(H43,I43,J43) -> #REF! | M43: 23335951
B44: InMastDBNonCode | C44: MMH51010020 | D44: 조명기구(C) | E44: 다운라이트 LED 10W | F44: EA | G44: 4 | H44: =ROUNDDOWN(#REF!*옵션!$D$11, 0) -> #REF! | L44: =SUM(H44,I44,J44) -> #REF! | M44: 24048970
B45: InMastDBNonCode | C45: MMH51010030 | D45: 조명기구(D) | E45: 직부등 LED 11W | F45: EA | G45: 5 | H45: =ROUNDDOWN(#REF!*옵션!$D$11, 0) -> #REF! | L45: =SUM(H45,I45,J45) -> #REF! | M45: 23958665
B46: InMastDBNonCode | C46: MMH51010040 | D46: 조명기구(E) | E46: 직부 센서등 LED 11W | F46: EA | G46: 2 | H46: =ROUNDDOWN(#REF!*옵션!$D$11, 0) -> #REF! | L46: =SUM(H46,I46,J46) -> #REF! | M46: 24339624
B47: InMastDBNonCode | C47: MMH51010400 | D47: 계량기함 박스 | E47: PVC | F47: 면 | G47: 1 | H47: =ROUNDDOWN(#REF!*옵션!$D$11, 0) -> #REF! | L47: =SUM(H47,I47,J47) -> #REF!
B48: InMastDBNonCode | C48: MMH51011000 | D48: 조명기구(철거) | E48: 천정직부 LED 50W | F48: EA | G48: 4 | H48: =ROUNDDOWN(#REF!*옵션!$D$11, 0) -> #REF! | L48: =SUM(H48,I48,J48) -> #REF!
B49: InMastDBNonCode | C49: MMH51011020 | D49: 조명기구(철거) | E49: 천정직부 LED 10W | F49: EA | G49: 10 | H49: =ROUNDDOWN(#REF!*옵션!$D$11, 0) -> #REF! | L49: =SUM(H49,I49,J49) -> #REF!
B50: InMastDBNonCode | C50: MMH51011100 | D50: 분전반(철거) | F50: 면 | G50: 1 | H50: =ROUNDDOWN(#REF!*옵션!$D$11, 0) -> #REF! | L50: =SUM(H50,I50,J50) -> #REF!
B51: InMastDBNonCode | C51: MMH51020000 | D51: 전화수구(철거) | E51: 4PIN | F51: EA | G51: 2 | H51: =ROUNDDOWN(#REF!*옵션!$D$11, 0) -> #REF! | L51: =SUM(H51,I51,J51) -> #REF!
B52: 391115ZZ701Z0001 | C52: MM041119521 | D52: 조달 수수료(1) | E52: 0.54% | F52: 식 | G52: 1 | H52: =ROUNDDOWN(#REF!*옵션!$D$11, 0) -> #REF! | L52: =SUM(H52,I52,J52) -> #REF!
B53: ECA565826042 | C53: CA565826042 | D53: 기계터파기 | E53: 보통토사(0.6㎥/43.6) | F53: ㎥ | G53: 4.86 | H53: =#REF! -> #REF! | I53: =#REF! -> #REF! | J53: =#REF! -> #REF! | L53: =SUM(H53,I53,J53) -> #REF! | M53: 166-하
B54: ECA565826051 | C54: CA565826051 | D54: 기계되메우기 | E54: 보통토사(0.6㎥/43.6) | F54: ㎥ | G54: 4.86 | H54: =#REF! -> #REF! | I54: =#REF! -> #REF! | J54: =#REF! -> #REF! | L54: =SUM(H54,I54,J54) -> #REF! | M54: 166-하
B55: ECA565826062 | C55: CA565826062 | D55: 코어드릴 | E55: 15.24cm | F55: 분 | G55: 496.8 | H55: =#REF! -> #REF! | I55: =#REF! -> #REF! | J55: =#REF! -> #REF! | L55: =SUM(H55,I55,J55) -> #REF!
B56: L001010101000075 | C56: 56900017016 | D56: 노 무 비 | E56: 내선전공 | F56: 인 | G56: 46.3279 | I56: =ROUNDDOWN(#REF!, 0) -> #REF! | L56: =SUM(H56,I56,J56) -> #REF!
B57: L001010101000078 | C57: 56900017076 | D57: 노 무 비 | E57: 저압케이블전공 | F57: 인 | G57: 0.804 | I57: =ROUNDDOWN(#REF!, 0) -> #REF! | L57: =SUM(H57,I57,J57) -> #REF!
B58: L001010101000081 | C58: 56900017031 | D58: 노 무 비 | E58: 배전전공 | F58: 인 | G58: 0.048 | I58: =ROUNDDOWN(#REF!, 0) -> #REF! | L58: =SUM(H58,I58,J58) -> #REF!
B59: L001010101000086 | C59: 56900017113 | D59: 노 무 비 | E59: 통신내선공 | F59: 인 | G59: 0.0498 | I59: =ROUNDDOWN(#REF!, 0) -> #REF! | L59: =SUM(H59,I59,J59) -> #REF!
B60: L001010101000089 | C60: 56900017116 | D60: 노 무 비 | E60: 통신케이블공 | F60: 인 | G60: 0.15 | I60: =ROUNDDOWN(#REF!, 0) -> #REF! | L60: =SUM(H60,I60,J60) -> #REF!
B61: L001010101000002 | C61: 56900017041 | D61: 노 무 비 | E61: 보통인부 | F61: 인 | G61: 3.3504 | I61: =ROUNDDOWN(#REF!, 0) -> #REF! | L61: =SUM(H61,I61,J61) -> #REF!
B62: L001010101000015 | C62: 56900017098 | D62: 노 무 비 | E62: 착암공 | F62: 인 | G62: 2.829 | I62: =ROUNDDOWN(#REF!, 0) -> #REF! | L62: =SUM(H62,I62,J62) -> #REF!

Sheet 옵션
B1: 재료비 | C1: 노무비 | D1: 경비 | F1: 계
A2: 총 급 액 | B2: =총괄표!I29 -> 0 | C2: =총괄표!L29 -> 0 | D2: =총괄표!N29 -> 0 | F2: =SUM(B2,C2,D2) -> 0
A3: 도급자관급 | B3: =총괄표!I107 -> 0 | C3: =총괄표!L107 -> 0 | D3: =총괄표!N107 -> 0 | F3: =SUM(B3,C3,D3) -> 0 | H3: 금액조정이 안되나요?
F4: =SUM(B4,C4,D4) -> 0
F5: =SUM(B5,C5,D5) -> 0
F6: =SUM(B6,C6,D6) -> 0 | H6: 이지테크에서 변환할 때 2번 옵션을 지정하여 다시 해보세요
F7: =SUM(B7,C7,D7) -> 0
F8: =SUM(B8,C8,D8) -> 0
H9: 시트를 삭제할 때 에러가 뜨면 1번 옵션으로 하면 됩니다.
B10: 적용율(%) | C10: 끝자리 | D10: 적용율(%)/100 | E10: 일위대가소수
A11: 전체자재 적용율(%)(공종/일위대가) | B11: 100 | C11: 1 | D11: =$B$11/100 -> 1
A12: 전체노임 적용율(%)(공종) | B12: 100 | C12: 1 | D12: =$B$12/100 -> 1 | E12: 2 | H12: 2번 옵션으로 변환했을 때에는 결과값이 다를 수 있습니다.
A13: 전체노임 적용율(%)(일위대가) | B13: 100 | C13: 1 | D13: =$B$13/100 -> 1 | E13: 5
A20: *(그룹별 자재 단가 추가 할증)* | B20: 적용율(%) | D20: 적용율(%)/100
A21: Cable(CAB) 할증(%) | B21: =B11 -> 100 | D21: =$B$21/100 -> 1
A22: Wire (WIR) 할증(%) | B22: =B11 -> 100 | D22: =$B$22/100 -> 1
A23: Pipe (PIP) 할증(%) | B23: =B11 -> 100 | D23: =$B$23/100 -> 1
A24: 제 4그룹 할증(%) | B24: =B11 -> 100 | D24: =$B$24/100 -> 1
A25: 제 5그룹 할증(%) | B25: =B11 -> 100 | D25: =$B$25/100 -> 1
A30: *(그룹별 노임 추가 할증)* | B30: 적용율(%) | C30: 자동부속재(전기) | D30: 자동부속재(통신)
A31: 배관부속재(%) | B31: 15 | C31: 15 | D31: 20
A32: CD관부속재(%) | B32: 40 | C32: 40 | D32: 40
A33: 소모잡자재(%) | B33: 2 | H33: 본 파일은 이지테크에서 2번 옵션으로 만들었습니다.
A34: 방폭할증(%)
A35: 고소할증(%)
A36: 공구손료(%) | B36: 3
A40: *(공종별 노임 적용율(%))* | B40: 적용율(%) | C40: 소수자릿수
A41: 1-1.전력간선설비공사 | B41: 100 | C41: 0
A42: 1-2.전등설비공사 | B42: 100 | C42: 0
A43: 1-3.전열설비공사 | B43: 100 | C43: 0
A44: 1-4.철거공사 | B44: 100 | C44: 0
A45: 2-1.조명기구 | C45: 0
