Workbook

Sheet 내역서총괄표
B1: 내역서총괄표
B3: 공종 | C3: 품 명 | D3: 규 격 | E3: 수 량 | F3: 단위 | G3: 합 계 | H3: 노무비 | I3: 재료비 | J3: 경 비 | K3: 비 고
B4: □ | C4: 폐기물처리비 | G4: =H4+I4+J4 -> 322300000 | H4: =내역서!J5 -> 0 | I4: =내역서!L5 -> 0 | J4: =내역서!N5 -> 322,300,000

Sheet 내역서
B1: 내역서
B3: 공종 | C3: 품 명 | D3: 규 격 | E3: 수 량 | F3: 단위 | G3: 합 계 | I3: 노무비 | K3: 재료비 | M3: 경 비 | O3: 비 고
G4: 단 가 | H4: 금 액 | I4: 단 가 | J4: 금 액 | K4: 단 가 | L4: 금 액 | M4: 단 가 | N4: 금 액
B5: □ | C5: 폐기물처리비 | G5: =I5+K5+M5 -> 0 | H5: =J5+L5+N5 -> 322300000 | J5: =TEXT(SUM(J6:J39),"#,##0") -> 0 | L5: =TEXT(SUM(L6:L39),"#,##0") -> 0 | N5: =TEXT(SUM(N6:N39),"#,##0") -> 322,300,000
C6: 폐자재처리비 | D6: (폐아스콘) | E6: 4014 | F6: TON | G6: =I6+K6+M6 -> 30800 | H6: =J6+L6+N6 -> 123631200 | J6: =TRUNC(E6*I6,0) -> 0 | L6: =TRUNC(E6*K6,0) -> 0 | M6: =자재단가!R6 -> 30800 | N6: =TRUNC(E6*M6,0) -> 123631200
C7: 폐자재처리비 | D7: (폐콘크리트) | E7: 2230 | F7: TON | G7: =I7+K7+M7 -> 29900 | H7: =J7+L7+N7 -> 66677000 | J7: =TRUNC(E7*I7,0) -> 0 | L7: =TRUNC(E7*K7,0) -> 0 | M7: =자재단가!R7 -> 29900 | N7: =TRUNC(E7*M7,0) -> 66677000
C8: 폐자재운반비 | D8: (24ton,L=30km까지) | E8: 6244 | F8: TON | G8: =I8+K8+M8 -> 16450 | H8: =J8+L8+N8 -> 102713800 | J8: =TRUNC(E8*I8,0) -> 0 | L8: =TRUNC(E8*K8,0) -> 0 | M8: =자재단가!R5 -> 16450 | N8: =TRUNC(E8*M8,0) -> 102713800
C9: 부가가치세 | D9: 합계의 | E9: 10 | F9: % | G9: =I9+K9+M9 -> 293022000 | H9: =J9+L9+N9 -> 29302200 | J9: =TRUNC(E9*1/100*I9,0) -> 0 | L9: =TRUNC(E9*1/100*K9,0) -> 0 | M9: =H8+H7+H6 -> 293022000 | N9: =TRUNC(E9*1/100*M9,0) -> 29302200
C10: 단수정리 | E10: 1 | F10: 식 | G10: =I10+K10+M10 -> -24200 | H10: =J10+L10+N10 -> -24200 | J10: =TRUNC(E10*I10,0) -> 0 | L10: =TRUNC(E10*K10,0) -> 0 | M10: -24200 | N10: =TRUNC(E10*M10,0) -> -24200
G11: =I11+K11+M11 -> 0 | H11: =J11+L11+N11 -> 0
G12: =I12+K12+M12 -> 0 | H12: =J12+L12+N12 -> 0
G13: =I13+K13+M13 -> 0 | H13: =J13+L13+N13 -> 0
G14: =I14+K14+M14 -> 0 | H14: =J14+L14+N14 -> 0
G15: =I15+K15+M15 -> 0 | H15: =J15+L15+N15 -> 0
G16: =I16+K16+M16 -> 0 | H16: =J16+L16+N16 -> 0
G17: =I17+K17+M17 -> 0 | H17: =J17+L17+N17 -> 0
G18: =I18+K18+M18 -> 0 | H18: =J18+L18+N18 -> 0
G19: =I19+K19+M19 -> 0 | H19: =J19+L19+N19 -> 0
G20: =I20+K20+M20 -> 0 | H20: =J20+L20+N20 -> 0
G21: =I21+K21+M21 -> 0 | H21: =J21+L21+N21 -> 0
G22: =I22+K22+M22 -> 0 | H22: =J22+L22+N22 -> 0
... G39: =I39+K39+M39 -> 0 | H39: =J39+L39+N39 -> 0

Sheet 기계경비적용기준
B1: 기계경비적용기준
C4: 환 율 (/￦) | G4: 기본재료비
C6: 화 폐 | D6: 환 율 | E6: 비 고 | G6: No | H6: 품 명 | I6: 규 격 | J6: 단위 | K6: 단 가
C7: 달러($) | D7: 1436.7 | E7: 2026.2.2. 매매기준율
C8: 엔(100￥) | D8: 924.01 | E8: 2026.2.2. 매매기준율
C9: 유로(E) | D9: 1701.2 | E9: 2026.2.2. 매매기준율
C10: 마르크(M)
C11: 파운드(L) | D11: 1963.18 | E11: 2026.2.2. 매매기준율
C18: 노임계수 | G18: 계산결과값 자리수
C20: No | D20: 노임계수 | E20: 계산값
C21: 1 | D21: 1/8*16/12*25/20 | E21: =1/8*16/12*25/20 -> 0.20833333
C22: 2 | D22: 1/8*16/12*25/20*24/15 | E22: =1/8*16/12*25/20*24/15 -> 0.33333333 | G22: 경 비 소수 1 미만 절하
C23: 3 | D23: 1/8*16/12*25/20*12/10 | E23: =1/8*16/12*25/20*12/10 -> 0.25
C24: 4 | D24: 1/8*16/12*25/20*14/12 | E24: =1/8*16/12*25/20*14/12 -> 0.24305556 | G24: 재료비 소수 1 미만 절하
C25: 5 | D25: 1/8*16/12*25/20*24/5 | E25: =1/8*16/12*25/20*24/5 -> 1
G26: 노무비 소수 1 미만 절하

Sheet 자재단가
B1: 자재단가
B3: No | C3: 품 명 | D3: 규 격 | E3: 단위 | F3: 가격정보 | H3: 물가자료 | J3: 유통물가 | L3: 물가정보 | N3: 거래가격 | P3: 견적가1 | R3: 적용단가 | S3: 비 고 | Z3: 당초합계 | AA3: 당초노무비 | AB3: 당초재료비 | AC3: 당초경비
F4: 단 가 | G4: page | H4: 단 가 | I4: page | J4: 단 가 | K4: page | L4: 단 가 | M4: page | N4: 단 가 | O4: page | P4: 단 가 | Q4: page
B5: 1 | C5: 폐자재운반비 | D5: (24ton,L=30km까지) | E5: TON | H5: 16450 | I5: 150(26.01) | R5: =MIN(F5,H5,J5,L5,N5,P5) -> 16450 | S5: (경비) | Z5: 16450
B6: 2 | C6: 폐자재처리비 | D6: (폐아스콘) | E6: TON | H6: 32166 | I6: 151(26.01) | P6: 30800 | Q6: 경상북도 | R6: =MIN(F6,H6,J6,L6,N6,P6) -> 30800 | S6: (경비) | Z6: 30800
B7: 3 | C7: 폐자재처리비 | D7: (폐콘크리트) | E7: TON | H7: 31142 | I7: 151(26.01) | P7: 29900 | Q7: 경상북도 | R7: =MIN(F7,H7,J7,L7,N7,P7) -> 29900 | S7: (경비) | Z7: 29900
B8: 4 | R8: =MIN(F8,H8,J8,L8,N8,P8) -> 0
B9: 5 | R9: =MIN(F9,H9,J9,L9,N9,P9) -> 0
B10: 6 | R10: =MIN(F10,H10,J10,L10,N10,P10) -> 0
B11: 7 | R11: =MIN(F11,H11,J11,L11,N11,P11) -> 0
B12: 8 | R12: =MIN(F12,H12,J12,L12,N12,P12) -> 0
B13: 9 | R13: =MIN(F13,H13,J13,L13,N13,P13) -> 0
B14: 10 | R14: =MIN(F14,H14,J14,L14,N14,P14) -> 0
B15: 11 | R15: =MIN(F15,H15,J15,L15,N15,P15) -> 0
B16: 12 | R16: =MIN(F16,H16,J16,L16,N16,P16) -> 0
B17: 13 | R17: =MIN(F17,H17,J17,L17,N17,P17) -> 0
B18: 14 | R18: =MIN(F18,H18,J18,L18,N18,P18) -> 0
B19: 15 | R19: =MIN(F19,H19,J19,L19,N19,P19) -> 0
... B34: 30 | R34: =MIN(F34,H34,J34,L34,N34,P34) -> 0
