Workbook

Sheet VXXX

Sheet 표지
A1: 충청남도 청양군 | J1: 2026. 9.
A7: 2026년 금정용수지선 외 6개소 보수보강 공사
A15: 한국농어촌공사 청양지사

Sheet 사업개요
A1: 사 업 계 획 개 요
A3: 지 구 명 | C3: 2026년 금정용수지선 외 6개소 보수보강 공사
A4: 목 적 | C4: 1. 용수량확보 2. 작물재배여건 구축 3. 농업생산량 증대
A5: 구 역 | C5: 충청남도 청양군 일원
A6: 면 적 | C6: 수혜면적 : | D6: 0 | E6: ha
A7: 공 사 개 요
C8: 구 분 | D8: =C3 -> 2026년 금정용수지선 외 6개소 보수보강 공사 | J8: 비 고
C10: =재료집계표!D2 -> 금정리 344 | D10: =재료집계표!D3 -> ○ 수로관 교체 | E10: =재료집계표!D5 -> 10 | F10: m
C11: =재료집계표!E2 -> 신흥리 817 | D11: =재료집계표!E3 -> ○ 송수관로 누출 | E11: =재료집계표!E5 -> 30 | F11: m
C12: =재료집계표!F2 -> 청소리 613 | D12: =재료집계표!F3 -> ○ 유공관 보수 | E12: =재료집계표!F5 -> 20 | F12: =재료계산서!C18 -> m
C13: =재료집계표!G2 -> 왕진리 936-9 | D13: =재료집계표!G3 -> ○ 송수관로 누출 | E13: =재료집계표!G5 -> 30 | F13: m
C14: =재료집계표!H2 -> 사점리 167 | D14: =재료집계표!H3 -> ○ 송수관로 누출 | E14: =재료집계표!H5 -> 30 | F14: m | N14: =21956000 -> 21956000
C15: =재료집계표!I2 -> 중산리 732-1 | D15: =재료집계표!I3 -> ○ 송수관로 누출 | E15: =재료집계표!I5 -> 30 | F15: =재료계산서!C60 -> m
C16: =재료집계표!J2 -> 화양리 1041-4 | D16: =재료집계표!J3 -> ○ 농로 파손 | E16: =재료집계표!J5 -> 5 | F16: =재료계산서!C66 -> m
M17: =N14/1.1 -> 19960000
M19: =N14-M17 -> 1996000
C21: 계 | E21: =SUM(E9:E15) -> 150 | F21: m
A23: 사 업 비 | C23: =수지예산서!C22 -> 19793 | D23: 천원
A24: 사 업 효 과 | C24: - 시설물 제기능 유지
C25: - 침수피해방지를 통한 영농환경 개선
A26: 사업시행자 | C26: 한국농어촌공사 청양지사장
A27: 공 사 기 간 | C27: 2025년 9월 일 부터
C28: 2025년 10월 일 까지

Sheet 상세위치도
A1: =사업개요!C3 -> 2026년 금정용수지선 외 6개소 보수보강 공사
A3: ○ 위치 : 남양면 금정리 344
A31: ○ 위치 : 목면 신흥리 817 | F31: ○ 위치 : 청남면 청소리 613
A52: ○ 위치 : 청남면 왕진리 936-9 | F52: ○ 위치 : 비봉면 사점리 167
A73: ○ 위치 : 청남면 중산리 732-1 | F73: ○ 위치 : 목면 화양리 1041-4

Sheet 수지예산서
A1: =사업개요!C3 -> 2026년 금정용수지선 외 6개소 보수보강 공사
A3: ○ 수 입 | G3: (단위:천원)
A4: 과 목 | B4: 신 청 액 | C4: 인 가 액 | D4: 증 감 | E4: 비 고
A5: =사업개요!C3 -> 2026년 금정용수지선 외 6개소 보수보강 공사 | B5: =B22 -> 19793 | C5: =C22 -> 19793 | D5: =C5-B5 -> 0
A8: 계 | B8: =B5 -> 19793 | C8: =C22 -> 19793 | D8: =SUM(D5:D7) -> 0
A10: ○ 지 출
A11: 과 목 | B11: =B4 -> 신 청 액 | C11: =C4 -> 인 가 액 | D11: 증 감 | E11: 비 고
A12: 순 공 사 비 | B12: =토목총괄표!D29/1000 -> 19793 | C12: =토목총괄표!G29/1000 -> 19793 | D12: =C12-B12 -> 0 | H12: =50216-B22 -> 30423
A13: 자 재 대 | B13: 0 | C13: 0 | D13: =C13-B13 -> 0
A14: 폐기물처리비 | B14: 0 | C14: 0
A15: 소 계 | B15: =B12+B13+B14 -> 19793 | C15: =C12+C13+C14 -> 19793 | D15: =C15-B15 -> 0
A16: 측 량 설 계 비 | B16: 0 | C16: 0 | D16: =C16-B16 -> 0
A17: 공 사 감 독 비 | B17: 0 | C17: 0 | D17: =C17-B17 -> 0
A18: 사 업 관 리 비 | B18: 0 | C18: 0 | D18: =C18-B18 -> 0
A19: 잡 지 출 | B19: 0 | C19: 0 | D19: =C19-B19 -> 0
A20: 소 계 | B20: =SUM(B16:B19) -> 0 | C20: =SUM(C16:C19) -> 0 | D20: =SUM(D16:D19) -> 0
A22: 합 계 | B22: =SUM(B20,B15) -> 19793 | C22: =C20+C15 -> 19793 | D22: =C22-B22 -> 0

Sheet 폐기물처리비
A1: =사업개요!C3 -> 2026년 금정용수지선 외 6개소 보수보강 공사
A3: 종 별 | B3: 재료또는 | D3: 원 수 | E3: 단위 | F3: 총 액 | H3: 노 무 비 | J3: 재 료 비 | L3: 경 비 | N3: 비 고
B4: 치수 | F4: 단 가 | G4: 금 액 | H4: 단 가 | I4: 금 액 | J4: 단 가 | K4: 금 액 | L4: 단 가 | M4: 금 액
A5: 폐콘크리트 | B5: 철근 | D5: 0 | E5: ton | F5: =SUM(H5,J5,L5) -> 29587 | G5: =SUM(I5,K5,M5) -> 0 | H5: =[6]단가일람!F99 -> 4857 | I5: =TRUNC(H5*$D5,0) -> 0 | J5: =[6]단가일람!G99 -> -4250 | K5: =TRUNC(J5*$D5,0) -> 0 | L5: =[6]단가일람!H99 -> 28980 | M5: =TRUNC(L5*$D5,0) -> 0 | N5: 신청
D6: =D5 -> 0 | E6: ton | F6: =SUM(H6,J6,L6) -> 29587 | G6: =SUM(I6,K6,M6) -> 0 | H6: =H5 -> 4857 | I6: =TRUNC(H6*$D6,0) -> 0 | J6: =J5 -> -4250 | K6: =TRUNC(J6*$D6,0) -> 0 | L6: =L5 -> 28980 | M6: =TRUNC(L6*$D6,0) -> 0 | N6: 인가
B7: 무근 | D7: =ROUND(재료집계표!K27*2.3,2) -> 21.16 | E7: ton | F7: =SUM(H7,J7,L7) -> 37508 | G7: =SUM(I7,K7,M7) -> 793667 | H7: =[6]단가일람!F101 -> 4887 | I7: =TRUNC(H7*$D7,0) -> 103408 | J7: =[6]단가일람!G101 -> 3623 | K7: =TRUNC(J7*$D7,0) -> 76662 | L7: =[6]단가일람!H101 -> 28998 | M7: =TRUNC(L7*$D7,0) -> 613597 | N7: 신청
D8: =D7 -> 21.16 | E8: ton | F8: =SUM(H8,J8,L8) -> 37508 | G8: =SUM(I8,K8,M8) -> 793667 | H8: =H7 -> 4887 | I8: =TRUNC(H8*$D8,0) -> 103408 | J8: =J7 -> 3623 | K8: =TRUNC(J8*$D8,0) -> 76662 | L8: =L7 -> 28998 | M8: =TRUNC(L8*$D8,0) -> 613597 | N8: 인가
A19: 계 | B19: 신 청 | G19: =SUM(I19,K19,M19) -> 793667 | I19: =I7+I5 -> 103408 | K19: =K7+K5 -> 76662 | M19: =M7+M5 -> 613597
D20: ≒ | G20: =SUM(I20,K20,M20) -> 792000 | I20: =TRUNC(I19,-3) -> 103000 | K20: =TRUNC(K19,-3) -> 76000 | M20: =TRUNC(M19,-3) -> 613000
B21: 인 가 | G21: =SUM(I21,K21,M21) -> 793667 | I21: =I8+I6 -> 103408 | K21: =K8+K6 -> 76662 | M21: =M8+M6 -> 613597
D22: ≒ | G22: =SUM(I22,K22,M22) -> 792000 | I22: =TRUNC(I21,-3) -> 103000 | K22: =TRUNC(K21,-3) -> 76000 | M22: =TRUNC(M21,-3) -> 613000
A23: 합계 (부가세포함) | B23: 신 청 | G23: =TRUNC((G20*1.1),-3) -> 871000
D24: ≒ | G24: =TRUNC((G20*1.1),-3) -> 871000
B25: 인 가 | G25: =TRUNC((G22*1.1),-3) -> 871000
D26: ≒ | G26: =TRUNC((G22*1.1),-3) -> 871000

Sheet 자재대
A1: =사업개요!C3 -> 2026년 금정용수지선 외 6개소 보수보강 공사 | G1: 사급자재대 | I1: (부가세 포함) | K1: (단위:원)
A2: 자 재 별 | C2: 단위 | D2: 단 가 | E2: 신 청 | G2: 인 가 | I2: 증 감 | K2: 비 고
A3: 품 명 | B3: 규 격 | E3: 물 량 | F3: 금 액 | G3: 물 량 | H3: 금 액 | I3: 물 량 | J3: 금 액
A6: 흄관 | B6: D1000 | C6: 본 | D6: 339670 | E6: 0 | F6: =ROUNDUP(D6*E6,-3) -> 0 | G6: 0 | H6: =ROUNDUP(D6*G6,-3) -> 0
F7: =ROUNDUP(D6*E6,-3) -> 0 | H7: =ROUNDUP(D6*G6,-3) -> 0
A8: 벤치플륨관 | B8: 800C | C8: 본 | D8: 163570 | E8: =재료집계표!K15/2 -> 5 | F8: =ROUNDUP(D8*E8,-3) -> 818000 | G8: =E8 -> 5 | H8: =ROUNDUP(D8*G8,-3) -> 818000
F9: =ROUNDUP(D8*E8,-3) -> 818000 | H9: =ROUNDUP(D8*G8,-3) -> 818000
A10: 레미콘 | B10: =자재!C207 -> 25-210-12 | C10: =자재!E207 -> ㎥ | D10: =자재!F207 -> 102680 | E10: =재료집계표!K25 -> 6.8 | F10: =ROUNDUP(D10*E10,-3) -> 699000 | G10: =재료집계표!K26 -> 6.8 | H10: =ROUNDUP(D10*G10,-3) -> 699000 | K10: 사급
F11: =SUM(F10:F10) -> 699000 | H11: =SUM(H10:H10) -> 699000
A14: 합 계 | F14: =SUM(F4,F8,F10,F6,F12) -> 1517000 | H14: =SUM(H4,H8,H10,H6,H12) -> 1517000
A15: ≒ | F15: =SUM(F5,F9,F11,F7,F13) -> 1517000 | H15: =SUM(H5,H9,H11,H7,H13) -> 1517000

Sheet 토목총괄표
A1: =사업개요!C3 -> 2026년 금정용수지선 외 6개소 보수보강 공사
L2: (단위:원)
A3: 구 분 | D3: 신 청 | G3: 인 가 | J3: 증 감
D4: 평야부 | E4: 관급자재대 | F4: 계 | G4: 평야부 | H4: 관급자재대 | I4: 계 | J4: 평야부 | K4: 관급자재대 | L4: 계
A5: 노무비 | B5: 직접노무비 | D5: =총공사비!H20 -> 5207000 | F5: =E5+D5 -> 5207000 | G5: =총공사비!H22 -> 5207000 | I5: =H5+G5 -> 5207000 | J5: =G5-D5 -> 0 | K5: =H5-E5 -> 0 | L5: =K5+J5 -> 0
B6: 간접노무비 | C6: 0.165 | D6: =TRUNC($C6*D5,0) -> 859155 | F6: =E6+D6 -> 859155 | G6: =TRUNC($C6*G5,0) -> 859155 | I6: =H6+G6 -> 859155 | J6: =G6-D6 -> 0 | K6: =H6-E6 -> 0 | L6: =K6+J6 -> 0
B7: 소 계 | D7: =SUM(D5,D6) -> 6066155 | F7: =E7+D7 -> 6066155 | G7: =SUM(G5,G6) -> 6066155 | I7: =H7+G7 -> 6066155 | J7: =G7-D7 -> 0 | K7: =H7-E7 -> 0 | L7: =K7+J7 -> 0
A8: 재 료 비 | D8: =총공사비!J20 -> 4541000 | F8: =E8+D8 -> 4541000 | G8: =총공사비!J22 -> 4541000 | I8: =H8+G8 -> 4541000 | J8: =G8-D8 -> 0 | K8: =H8-E8 -> 0 | L8: =K8+J8 -> 0
A9: 경 비 | B9: 경 비 | D9: =총공사비!L20 -> 770000 | F9: =E9+D9 -> 770000 | G9: =총공사비!L22 -> 770000 | I9: =H9+G9 -> 770000 | J9: =G9-D9 -> 0 | K9: =H9-E9 -> 0 | L9: =K9+J9 -> 0
B10: 산재보험료 | C10: 0.0356 | D10: =TRUNC($C10*D7,0) -> 215955 | F10: =E10+D10 -> 215955 | G10: =TRUNC($C10*G7,0) -> 215955 | I10: =H10+G10 -> 215955 | J10: =G10-D10 -> 0 | K10: =H10-E10 -> 0 | L10: =K10+J10 -> 0
B11: 고용보험료 | C11: 0.0101 | D11: =TRUNC($C11*D7,0) -> 61268 | F11: =E11+D11 -> 61268 | G11: =TRUNC($C11*G7,0) -> 61268 | I11: =H11+G11 -> 61268 | J11: =G11-D11 -> 0 | K11: =H11-E11 -> 0 | L11: =K11+J11 -> 0
B12: 건강보험료 | C12: 0.03595 | D12: =D5*C12 -> 187191.65 | F12: =E12+D12 -> 187191.65 | G12: =G5*C12 -> 187191.65 | I12: =H12+G12 -> 187191.65 | J12: =G12-D12 -> 0 | K12: =H12-E12 -> 0 | L12: =K12+J12 -> 0
B13: 연금보험료 | C13: 0.0475 | D13: =D5*C13 -> 247332.5 | F13: =E13+D13 -> 247332.5 | G13: =G5*C13 -> 247332.5 | I13: =H13+G13 -> 247332.5 | J13: =G13-D13 -> 0 | K13: =H13-E13 -> 0 | L13: =K13+J13 -> 0
B14: 산업안전보건관리비 | C14: 0.0311 | D14: =TRUNC($C14*(D5+D8),0) -> 303162 | F14: =E14+D14 -> 303162 | G14: =TRUNC($C14*(G5+G8),0) -> 303162 | I14: =H14+G14 -> 303162 | J14: =G14-D14 -> 0 | K14: =H14-E14 -> 0 | L14: =K14+J14 -> 0
B15: 환경보전비 | C15: 0.008 | D15: =(D5+D9+D8)*C15 -> 84144 | F15: =E15+D15 -> 84144 | G15: =(G5+G8+G9)*C15 -> 84144 | I15: =H15+G15 -> 84144 | J15: =G15-D15 -> 0 | K15: =H15-E15 -> 0 | L15: =K15+J15 -> 0
B16: 기타경비 | C16: 0.052 | D16: =TRUNC($C16*(D7+D8),0) -> 551572 | F16: =E16+D16 -> 551572 | G16: =TRUNC($C16*(G7+G8),0) -> 551572 | I16: =H16+G16 -> 551572 | J16: =G16-D16 -> 0 | K16: =H16-E16 -> 0 | L16: =K16+J16 -> 0
B17: 퇴직공제부금비 | C17: 0.023 | D17: =D5*C17 -> 119761 | F17: =E17+D17 -> 119761 | G17: =G5*C17 -> 119761 | I17: =H17+G17 -> 119761
B18: 노인장기요양보험료 | C18: 0.1314 | D18: =TRUNC(D12*$C18) -> 24596 | F18: =E18+D18 -> 24596 | G18: =TRUNC(G12*$C18) -> 24596 | I18: =H18+G18 -> 24596 | J18: =G18-D18 -> 0 | K18: =H18-E18 -> 0 | L18: =K18+J18 -> 0
B19: 소 계 | D19: =SUM(D9:D18) -> 2564982.1 | F19: =E19+D19 -> 2564982.1 | G19: =SUM(G9:G18) -> 2564982.1 | I19: =H19+G19 -> 2564982.1 | J19: =G19-D19 -> 0 | K19: =H19-E19 -> 0 | L19: =K19+J19 -> 0
A20: 합 계 | D20: =SUM(D7,D8,D19) -> 13172137 | F20: =E20+D20 -> 13172137 | G20: =SUM(G7,G8,G19) -> 13172137 | I20: =H20+G20 -> 13172137 | J20: =G20-D20 -> 0 | K20: =H20-E20 -> 0 | L20: =K20+J20 -> 0
A21: 일 반 관 리 비 | C21: 0.08 | D21: =TRUNC($C21*D20,0) -> 1053770 | F21: =E21+D21 -> 1053770 | G21: =TRUNC($C21*G20,0) -> 1053770 | I21: =H21+G21 -> 1053770 | J21: =G21-D21 -> 0 | K21: =H21-E21 -> 0 | L21: =K21+J21 -> 0
A22: 합 계 | D22: =SUM(D20,D21) -> 14225907 | F22: =E22+D22 -> 14225907 | G22: =SUM(G20,G21) -> 14225907 | I22: =H22+G22 -> 14225907 | J22: =G22-D22 -> 0 | K22: =H22-E22 -> 0 | L22: =K22+J22 -> 0
A23: 이 윤 | C23: 0.15 | D23: =TRUNC($C23*(D20-D8),-3)-5000 -> 1289000 | F23: =E23+D23 -> 1289000 | G23: =TRUNC($C23*(G20-G8),-3)-5000 -> 1289000 | I23: =H23+G23 -> 1289000 | J23: =G23-D23 -> 0 | K23: =H23-E23 -> 0 | L23: =K23+J23 -> 0
A24: 폐 기 물 처 리 | D24: =폐기물처리비!G24 -> 871000 | F24: =E24+D24 -> 871000 | G24: =폐기물처리비!G26 -> 871000 | I24: =H24+G24 -> 871000
A25: 사 급 자 재 대 | D25: =자재대!F15 -> 1517000 | F25: =E25+D25 -> 1517000 | G25: =자재대!H15 -> 1517000 | I25: =H25+G25 -> 1517000
A26: 합 계 | D26: =ROUND(D22+D23+D24+D25,-3) -> 17903000 | F26: =E26+D26 -> 17903000 | G26: =ROUND(G22+G23+G24+G25,-3) -> 17903000 | I26: =H26+G26 -> 17903000 | J26: =G26-D26 -> 0 | K26: =H26-E26 -> 0 | L26: =K26+J26 -> 0
A27: 부 가 가 치 세 | C27: 0.1 | D27: =ROUND(D26*$C27,-3) -> 1790000 | F27: =E27+D27 -> 1790000 | G27: =ROUND(G26*$C27,-3) -> 1790000 | I27: =H27+G27 -> 1790000 | J27: =G27-D27 -> 0 | K27: =H27-E27 -> 0 | L27: =K27+J27 -> 0
A28: 안 전 관 리 비 | D28: 100000 | F28: =E28+D28 -> 100000 | G28: 100000 | I28: =H28+G28 -> 100000 | J28: =G28-D28 -> 0 | K28: =H28-E28 -> 0 | L28: =K28+J28 -> 0
A29: 총 계 | D29: =SUM(D26:D28) -> 19793000 | F29: =E29+D29 -> 19793000 | G29: =SUM(G26:G28) -> 19793000 | I29: =H29+G29 -> 19793000 | J29: =G29-D29 -> 0 | K29: =H29-E29 -> 0 | L29: =K29+J29 -> 0

Sheet 총공사비
A1: =사업개요!C3 -> 2026년 금정용수지선 외 6개소 보수보강 공사
L2: (단위:원)
A3: 종 별 | B3: 재료또는 | C3: 원 수 | D3: 단위 | E3: 총 액 | G3: 노 무 비 | I3: 재 료 비 | K3: 경 비 | M3: 비고
B4: 치수 | E4: 단 가 | F4: 금 액 | G4: 단 가 | H4: 금 액 | I4: 단 가 | J4: 금 액 | K4: 단 가 | L4: 금 액
A5: =사업개요!C3 -> 2026년 금정용수지선 외 6개소 보수보강 공사 | B5: 토목 | C5: 1 | D5: 식 | F5: =SUM(H5,J5,L5) -> 10519526 | H5: =토목공사비!H29 -> 5207677 | J5: =토목공사비!J29 -> 4541678 | L5: =토목공사비!L29 -> 770171 | M5: 신청
C6: 1 | D6: 식 | F6: =SUM(H6,J6,L6) -> 10519526 | H6: =토목공사비!H31 -> 5207677 | J6: =토목공사비!J31 -> 4541678 | L6: =토목공사비!L31 -> 770171 | M6: 인가
A19: 합 계 | B19: 신 청 | F19: =H19+J19+L19 -> 10519526 | H19: =H5+H7 -> 5207677 | J19: =J5+J7 -> 4541678 | L19: =L5+L7 -> 770171
C20: ≒ | F20: =H20+J20+L20 -> 10518000 | H20: =INT(H19/1000)*1000 -> 5207000 | J20: =INT(J19/1000)*1000 -> 4541000 | L20: =INT(L19/1000)*1000 -> 770000
B21: 인 가 | F21: =H21+J21+L21 -> 10519526 | H21: =H6+H8 -> 5207677 | J21: =J6+J8 -> 4541678 | L21: =L6+L8 -> 770171
C22: ≒ | F22: =H22+J22+L22 -> 10518000 | H22: =INT(H21/1000)*1000 -> 5207000 | J22: =INT(J21/1000)*1000 -> 4541000 | L22: =INT(L21/1000)*1000 -> 770000

Sheet 토목공사비
A1: =사업개요!C3 -> 2026년 금정용수지선 외 6개소 보수보강 공사
L2: (단위:원)
A3: 종 별 | B3: 재료 또는 | C3: 원 수 | D3: 단위 | E3: 총 액 | G3: 노 무 비 | I3: 재 료 비 | K3: 경 비 | M3: 비고
B4: 치 수 | E4: 단 가 | F4: 금 액 | G4: 단 가 | H4: 금 액 | I4: 단 가 | J4: 금 액 | K4: 단 가 | L4: 금 액
A5: =재료집계표!A9 -> 터파기 | B5: =재료집계표!B9 -> 기계 | C5: =재료집계표!K9 -> 488.75 | D5: =재료집계표!C9 -> ㎥ | E5: =SUM(G5,I5,K5) -> 1954 | F5: =SUM(H5,J5,L5) -> 955016 | G5: =단가일람!F5 -> 1415 | H5: =TRUNC(G5*$C5,0) -> 691581 | I5: =단가일람!G5 -> 229 | J5: =TRUNC(I5*$C5,0) -> 111923 | K5: =단가일람!H5 -> 310 | L5: =TRUNC(K5*$C5,0) -> 151512
C6: =재료집계표!K10 -> 488.75 | D6: =D5 -> ㎥ | E6: =SUM(G6,I6,K6) -> 1954 | F6: =SUM(H6,J6,L6) -> 955016 | G6: =G5 -> 1415 | H6: =TRUNC(G6*$C6,0) -> 691581 | I6: =I5 -> 229 | J6: =TRUNC(I6*$C6,0) -> 111923 | K6: =K5 -> 310 | L6: =TRUNC(K6*$C6,0) -> 151512
A7: =재료집계표!A11 -> 되메움 | B7: =재료집계표!B11 -> 기계 | C7: =재료집계표!K11 -> 317.75 | D7: =재료집계표!C11 -> ㎥ | E7: =SUM(G7,I7,K7) -> 1262 | F7: =SUM(H7,J7,L7) -> 400999 | G7: =단가일람!F8 -> 720 | H7: =TRUNC(G7*$C7,0) -> 228780 | I7: =단가일람!G8 -> 273 | J7: =TRUNC(I7*$C7,0) -> 86745 | K7: =단가일람!H8 -> 269 | L7: =TRUNC(K7*$C7,0) -> 85474
C8: =재료집계표!K12 -> 317.75 | D8: =D7 -> ㎥ | E8: =SUM(G8,I8,K8) -> 1262 | F8: =SUM(H8,J8,L8) -> 400999 | G8: =G7 -> 720 | H8: =TRUNC(G8*$C8,0) -> 228780 | I8: =I7 -> 273 | J8: =TRUNC(I8*$C8,0) -> 86745 | K8: =K7 -> 269 | L8: =TRUNC(K8*$C8,0) -> 85474
A9: =재료집계표!A13 -> 잔토처리 | C9: =재료집계표!K13 -> 171 | D9: =재료집계표!C13 -> ㎥ | E9: =SUM(G9,I9,K9) -> 1262 | F9: =SUM(H9,J9,L9) -> 215802 | G9: =단가일람!F9 -> 720 | H9: =TRUNC(G9*$C9,0) -> 123120 | I9: =단가일람!G8 -> 273 | J9: =TRUNC(I9*$C9,0) -> 46683 | K9: =단가일람!H8 -> 269 | L9: =TRUNC(K9*$C9,0) -> 45999
C10: =재료집계표!K14 -> 171 | D10: =D9 -> ㎥ | E10: =SUM(G10,I10,K10) -> 1262 | F10: =SUM(H10,J10,L10) -> 215802 | G10: =G9 -> 720 | H10: =TRUNC(G10*$C10,0) -> 123120 | I10: =I9 -> 273 | J10: =TRUNC(I10*$C10,0) -> 46683 | K10: =K9 -> 269 | L10: =TRUNC(K10*$C10,0) -> 45999
A11: =재료집계표!A15 -> 수로관 설치 및 해체 | B11: =재료집계표!B15 -> 800C | C11: =재료집계표!K15 -> 10 | D11: =재료집계표!C15 -> m | E11: =SUM(G11,I11,K11) -> 90905 | F11: =SUM(H11,J11,L11) -> 909050 | G11: =단가일람!F38+단가일람!F39 -> 78417 | H11: =TRUNC(G11*$C11,0) -> 784170 | I11: =단가일람!G38+단가일람!G39 -> 5158 | J11: =TRUNC(I11*$C11,0) -> 51580 | K11: =단가일람!H38+단가일람!H39 -> 7330 | L11: =TRUNC(K11*$C11,0) -> 73300
C12: =재료집계표!K16 -> 10 | D12: =D11 -> m | E12: =SUM(G12,I12,K12) -> 90905 | F12: =SUM(H12,J12,L12) -> 909050 | G12: =G11 -> 78417 | H12: =TRUNC(G12*$C12,0) -> 784170 | I12: =I11 -> 5158 | J12: =TRUNC(I12*$C12,0) -> 51580 | K12: =K11 -> 7330 | L12: =TRUNC(K12*$C12,0) -> 73300
A13: =재료집계표!A17 -> PE관 부설접합(버트융착식) | B13: =재료집계표!B17 -> D=100 | C13: =재료집계표!K17 -> 36 | D13: =재료집계표!C21 -> m | E13: =SUM(G13,I13,K13) -> 24948 | F13: =SUM(H13,J13,L13) -> 898128 | G13: =단가일람!F138 -> 12911 | H13: =TRUNC(G13*$C13,0) -> 464796 | I13: =단가일람!G138 -> 10230 | J13: =TRUNC(I13*$C13,0) -> 368280 | K13: =단가일람!H138 -> 1807 | L13: =TRUNC(K13*$C13,0) -> 65052
C14: =C13 -> 36 | D14: =D13 -> m | E14: =SUM(G14,I14,K14) -> 24948 | F14: =SUM(H14,J14,L14) -> 898128 | G14: =G13 -> 12911 | H14: =TRUNC(G14*$C14,0) -> 464796 | I14: =I13 -> 10230 | J14: =TRUNC(I14*$C14,0) -> 368280 | K14: =K13 -> 1807 | L14: =TRUNC(K14*$C14,0) -> 65052
A15: =재료집계표!A19 -> 유공관 | B15: =재료집계표!B19 -> D=150 | C15: =재료집계표!K19 -> 24 | D15: =재료집계표!K19 -> 24 | E15: =SUM(G15,I15,K15) -> 48522 | F15: =SUM(H15,J15,L15) -> 1164528 | G15: =단가일람!F142 -> 29579 | H15: =TRUNC(G15*$C15,0) -> 709896 | I15: =단가일람!G142 -> 18557 | J15: =TRUNC(I15*$C15,0) -> 445368 | K15: =단가일람!H142 -> 386 | L15: =TRUNC(K15*$C15,0) -> 9264
C16: =C15 -> 24 | D16: =D15 -> 24 | E16: =SUM(G16,I16,K16) -> 48522 | F16: =SUM(H16,J16,L16) -> 1164528 | G16: =G15 -> 29579 | H16: =TRUNC(G16*$C16,0) -> 709896 | I16: =I15 -> 18557 | J16: =TRUNC(I16*$C16,0) -> 445368 | K16: =K15 -> 386 | L16: =TRUNC(K16*$C16,0) -> 9264
A17: =재료집계표!A21 -> PE관 부설접합(버트융착식) | B17: =재료집계표!B21 -> D=50 | C17: =재료집계표!K21 -> 36 | D17: =재료집계표!C21 -> m | E17: =SUM(G17,I17,K17) -> 9206 | F17: =SUM(H17,J17,L17) -> 331416 | G17: =단가일람!F137 -> 5809 | H17: =TRUNC(G17*$C17,0) -> 209124 | I17: =단가일람!G137 -> 2700 | J17: =TRUNC(I17*$C17,0) -> 97200 | K17: =단가일람!H137 -> 697 | L17: =TRUNC(K17*$C17,0) -> 25092
C18: =재료집계표!K22 -> 36 | D18: =D17 -> m | E18: =SUM(G18,I18,K18) -> 9206 | F18: =SUM(H18,J18,L18) -> 331416 | G18: =G17 -> 5809 | H18: =TRUNC(G18*$C18,0) -> 209124 | I18: =I17 -> 2700 | J18: =TRUNC(I18*$C18,0) -> 97200 | K18: =K17 -> 697 | L18: =TRUNC(K18*$C18,0) -> 25092
A19: =재료집계표!A23 -> PE관 부설접합(버트융착식) | B19: =재료집계표!B23 -> D=150 | C19: =재료집계표!K23 -> 72 | D19: =재료집계표!C23 -> m | E19: =SUM(G19,I19,K19) -> 39942 | F19: =SUM(H19,J19,L19) -> 2875824 | G19: =단가일람!F139 -> 16616 | H19: =TRUNC(G19*$C19,0) -> 1196352 | I19: =단가일람!G139 -> 21000 | J19: =TRUNC(I19*$C19,0) -> 1512000 | K19: =단가일람!H139 -> 2326 | L19: =TRUNC(K19*$C19,0) -> 167472
C20: =C19 -> 72 | D20: =D19 -> m | E20: =SUM(G20,I20,K20) -> 39942 | F20: =SUM(H20,J20,L20) -> 2875824 | G20: =G19 -> 16616 | H20: =TRUNC(G20*$C20,0) -> 1196352 | I20: =I19 -> 21000 | J20: =TRUNC(I20*$C20,0) -> 1512000 | K20: =K19 -> 2326 | L20: =TRUNC(K20*$C20,0) -> 167472
A21: =단가일람!B142 -> 유공관(D150) | C21: =재료집계표!K19 -> 24 | D21: =재료집계표!C19 -> m | E21: =SUM(G21,I21,K21) -> 94316 | F21: =SUM(H21,J21,L21) -> 2263584 | G21: =단가일람!F141 -> 23240 | H21: =TRUNC(G21*$C21,0) -> 557760 | I21: =단가일람!G141 -> 67590 | J21: =TRUNC(I21*$C21,0) -> 1622160 | K21: =단가일람!H141 -> 3486 | L21: =TRUNC(K21*$C21,0) -> 83664
C22: =C21 -> 24 | D22: =D21 -> m | E22: =SUM(G22,I22,K22) -> 94316 | F22: =SUM(H22,J22,L22) -> 2263584 | G22: =G21 -> 23240 | H22: =TRUNC(G22*$C22,0) -> 557760 | I22: =I21 -> 67590 | J22: =TRUNC(I22*$C22,0) -> 1622160 | K22: =K21 -> 3486 | L22: =TRUNC(K22*$C22,0) -> 83664
A23: =재료집계표!A25 -> 콘크리트 포장 | B23: =재료집계표!B25 -> 0.2㎥ 미만 | C23: =재료집계표!K25 -> 6.8 | D23: =재료집계표!C25 -> ㎥ | E23: =SUM(G23,I23,K23) -> 37172 | F23: =SUM(H23,J23,L23) -> 252769 | G23: =단가일람!F14 -> 14160 | H23: =TRUNC(G23*$C23,0) -> 96288 | I23: =단가일람!G14 -> 23012 | J23: =TRUNC(I23*$C23,0) -> 156481 | K23: =단가일람!H14 -> 0 | L23: =TRUNC(K23*$C23,0) -> 0
C24: =C23 -> 6.8 | D24: =D23 -> ㎥ | E24: =SUM(G24,I24,K24) -> 37172 | F24: =SUM(H24,J24,L24) -> 252769 | G24: =G23 -> 14160 | H24: =TRUNC(G24*$C24,0) -> 96288 | I24: =I23 -> 23012 | J24: =TRUNC(I24*$C24,0) -> 156481 | K24: =K23 -> 0 | L24: =TRUNC(K24*$C24,0) -> 0
A25: =재료집계표!A27 -> 콘크리트 헐기 | B25: =재료집계표!B27 -> 0.2㎡ | C25: =재료집계표!K27 -> 9.2 | D25: =재료집계표!C27 -> ㎥ | E25: =SUM(G25,I25,K25) -> 27436 | F25: =SUM(H25,J25,L25) -> 252410 | G25: =단가일람!F11 -> 15849 | H25: =TRUNC(G25*$C25,0) -> 145810 | I25: =단가일람!G11 -> 4702 | J25: =TRUNC(I25*$C25,0) -> 43258 | K25: =단가일람!H11 -> 6885 | L25: =TRUNC(K25*$C25,0) -> 63342
C26: =C25 -> 9.2 | D26: =D25 -> ㎥ | E26: =SUM(G26,I26,K26) -> 27436 | F26: =SUM(H26,J26,L26) -> 252410 | G26: =G25 -> 15849 | H26: =TRUNC(G26*$C26,0) -> 145810 | I26: =I25 -> 4702 | J26: =TRUNC(I26*$C26,0) -> 43258 | K26: =K25 -> 6885 | L26: =TRUNC(K26*$C26,0) -> 63342
A29: 합 계 | B29: 신 청 | F29: =H29+J29+L29 -> 10519526 | H29: =H5+H7+H9+H11+H15+H23+H25+H13+H17+H19+H21+H27 -> 5207677 | J29: =J5+J7+J9+J11+J15+J23+J25+J13+J17+J19+J21+J27 -> 4541678 | L29: =L5+L7+L9+L11+L15+L23+L25+L13+L17+L19+L21+L27 -> 770171
C30: ≒ | F30: =H30+J30+L30 -> 10518000 | H30: =INT(H29/1000)*1000 -> 5207000 | J30: =INT(J29/1000)*1000 -> 4541000 | L30: =INT(L29/1000)*1000 -> 770000
B31: 인 가 | F31: =H31+J31+L31 -> 10519526 | H31: =H6+H8+H10+H14+H16+H18+H20+H22+H12+H24+H26+H28 -> 5207677 | J31: =J6+J8+J10+J14+J16+J18+J20+J22+J12+J24+J26+J28 -> 4541678 | L31: =L6+L8+L10+L16+L14+L18+L20+L22+L12+L24+L26+L28 -> 770171
C32: ≒ | F32: =H32+J32+L32 -> 10518000 | H32: =INT(H31/1000)*1000 -> 5207000 | J32: =INT(J31/1000)*1000 -> 4541000 | L32: =INT(L31/1000)*1000 -> 770000

Sheet 재료집계표
A1: =사업개요!C3 -> 2026년 금정용수지선 외 6개소 보수보강 공사
A2: 로 선 명 | D2: =재료계산서!A4 -> 금정리 344 | E2: =재료계산서!A11 -> 신흥리 817 | F2: =재료계산서!A17 -> 청소리 613 | G2: =재료계산서!A47 -> 왕진리 936-9 | H2: =재료계산서!A53 -> 사점리 167 | I2: =재료계산서!A59 -> 중산리 732-1 | J2: =재료계산서!A65 -> 화양리 1041-4 | K2: 소계 | L2: 비고
A3: 구 조 물 명 | D3: =재료계산서!D4 -> ○ 수로관 교체 | E3: =재료계산서!D11 -> ○ 송수관로 누출 | F3: =재료계산서!D17 -> ○ 유공관 보수 | G3: =재료계산서!D47 -> ○ 송수관로 누출 | H3: =재료계산서!D53 -> ○ 송수관로 누출 | I3: =재료계산서!D59 -> ○ 송수관로 누출 | J3: =재료계산서!D65 -> ○ 농로 파손
A4: 로 선 및 위 치
A5: 치 수 | B5: 길 이 | D5: =재료계산서!B5 -> 10 | E5: =재료계산서!B12 -> 30 | F5: =재료계산서!B18 -> 20 | G5: =재료계산서!B48 -> 30 | H5: =재료계산서!B54 -> 30 | I5: =재료계산서!B60 -> 30 | J5: =재료계산서!B66 -> 5 | K5: =SUM(D5:J5) -> 155
B6: 넓 이
B7: 지름 및 높이
A8: 종 별 | B8: 재료또는치수 | C8: 단위
A9: 터파기 | B9: 기계 | C9: ㎥ | D9: =재료계산서!P5 -> 10 | E9: =재료계산서!P12 -> 42.9 | F9: =재료계산서!P18 -> 300 | G9: =재료계산서!P48 -> 42.9 | H9: =재료계산서!P54 -> 42.9 | I9: =재료계산서!P60 -> 42.9 | J9: =재료계산서!P66 -> 7.15 | K9: =SUM(D9:J9) -> 488.75 | L9: 신청
D10: =D9 -> 10 | E10: =E9 -> 42.9 | F10: =F9 -> 300 | G10: =G9 -> 42.9 | H10: =H9 -> 42.9 | I10: =I9 -> 42.9 | J10: =J9 -> 7.15 | K10: =SUM(D10:J10) -> 488.75 | L10: 인가
A11: 되메움 | B11: 기계 | C11: ㎥ | D11: =재료계산서!P6 -> 6 | E11: =재료계산서!P13 -> 32.4 | F11: =재료계산서!P19 -> 180 | G11: =재료계산서!P49 -> 32.4 | H11: =재료계산서!P55 -> 32.4 | I11: =재료계산서!P61 -> 32.4 | J11: =재료계산서!P67 -> 2.15 | K11: =SUM(D11:J11) -> 317.75
D12: =D11 -> 6 | E12: =E11 -> 32.4 | F12: =F11 -> 180 | G12: =G11 -> 32.4 | H12: =H11 -> 32.4 | I12: =I11 -> 32.4 | J12: =J11 -> 2.15 | K12: =SUM(D12:J12) -> 317.75
A13: 잔토처리 | C13: ㎥ | D13: =재료계산서!P7 -> 4 | E13: =재료계산서!P14 -> 10.5 | F13: =재료계산서!P20 -> 120 | G13: =재료계산서!P50 -> 10.5 | H13: =재료계산서!P56 -> 10.5 | I13: =재료계산서!P62 -> 10.5 | J13: =재료계산서!P68 -> 5 | K13: =SUM(D13:J13) -> 171
D14: =D13 -> 4 | E14: =E13 -> 10.5 | F14: =F13 -> 120 | G14: =G13 -> 10.5 | H14: =H13 -> 10.5 | I14: =I13 -> 10.5 | J14: =J13 -> 5 | K14: =SUM(D14:J14) -> 171
A15: =재료계산서!D8 -> 수로관 설치 및 해체 | B15: =재료계산서!E8 -> 800C | C15: m | D15: =재료계산서!P8 -> 10 | E15: 0 | F15: 0 | G15: 0 | H15: =재료계산서!V8 -> 0 | I15: 0 | J15: 0 | K15: =SUM(D15:J15) -> 10
D16: =D15 -> 10 | E16: =E15 -> 0 | F16: =F15 -> 0 | G16: 0 | H16: =H15 -> 0 | I16: =I15 -> 0 | J16: 0 | K16: =SUM(D16:J16) -> 10
A17: =재료계산서!D15 -> PE관 부설접합(버트융착식) | B17: =재료계산서!E15 -> D=100 | C17: m | D17: 0 | E17: =재료계산서!P15 -> 36 | F17: 0 | G17: =재료계산서!P47 -> 0 | H17: 0 | I17: 0 | J17: =재료계산서!V47 -> 0 | K17: =SUM(D17:J17) -> 36
D18: 0 | E18: =E17 -> 36 | F18: 0 | G18: =G17 -> 0 | H18: 0 | I18: =I17 -> 0 | J18: =J17 -> 0 | K18: =SUM(D18:J18) -> 36
A19: =재료계산서!D21 -> 유공관 | B19: =재료계산서!E21 -> D=150 | C19: m | D19: 0 | E19: 0 | F19: =재료계산서!P21 -> 24 | G19: 0 | H19: 0 | I19: 0 | J19: 0 | K19: =SUM(D19:J19) -> 24
D20: =D19 -> 0 | E20: =E19 -> 0 | F20: =F19 -> 24 | G20: 0 | H20: =H19 -> 0 | I20: =I19 -> 0 | J20: 0 | K20: =SUM(D20:J20) -> 24
A21: =재료계산서!D51 -> PE관 부설접합(버트융착식) | B21: =재료계산서!E51 -> D=50 | C21: m | D21: 0 | E21: 0 | F21: 0 | G21: =재료계산서!P51 -> 36 | H21: 0 | I21: 0 | J21: =재료계산서!V51 -> 0 | K21: =SUM(D21:J21) -> 36
D22: 0 | E22: =E21 -> 0 | F22: 0 | G22: =G21 -> 36 | H22: 0 | I22: =I21 -> 0 | J22: =J21 -> 0 | K22: =SUM(D22:J22) -> 36
A23: =재료계산서!D57 -> PE관 부설접합(버트융착식) | B23: =재료계산서!E63 -> D=150 | C23: m | D23: 0 | E23: 0 | F23: 0 | G23: 0 | H23: =재료계산서!P57 -> 36 | I23: =재료계산서!P63 -> 36 | J23: 0 | K23: =SUM(D23:J23) -> 72
D24: 0 | E24: =E23 -> 0 | F24: 0 | G24: =G23 -> 0 | H24: =H23 -> 36 | I24: =I23 -> 36 | J24: =J23 -> 0 | K24: =SUM(D24:J24) -> 72
A25: 콘크리트 포장 | B25: 0.2㎥ 미만 | C25: ㎥ | D25: 0 | E25: 0 | F25: =재료계산서!P22 -> 4.8 | G25: 0 | H25: =재료계산서!V9 -> 0 | I25: 0 | J25: =재료계산서!P69 -> 2 | K25: =SUM(D25:J25) -> 6.8
D26: =D25 -> 0 | E26: =E25 -> 0 | F26: =F25 -> 4.8 | G26: =G25 -> 0 | H26: =H25 -> 0 | I26: =I25 -> 0 | J26: =J25 -> 2 | K26: =SUM(D26:J26) -> 6.8
A27: 콘크리트 헐기 | B27: 0.2㎡ | C27: ㎥ | D27: =재료계산서!P9 -> 2.4 | E27: 0 | F27: =재료계산서!P23 -> 4.8 | G27: 0 | H27: =재료계산서!V9 -> 0 | I27: =0 -> 0 | J27: =재료계산서!P70 -> 2 | K27: =SUM(D27:J27) -> 9.2
D28: =D27 -> 2.4 | E28: =E27 -> 0 | F28: =F27 -> 4.8 | G28: =G27 -> 0 | H28: =H27 -> 0 | I28: =I27 -> 0 | J28: =J27 -> 2 | K28: =SUM(D28:J28) -> 9.2
K29: =SUM(D29:G29) -> 0
K30: =SUM(D30:G30) -> 0
K33: =SUM(D33:G33) -> 0
K34: =SUM(D34:G34) -> 0
K35: =SUM(D35:G35) -> 0
K36: =SUM(D36:G36) -> 0

Sheet 덮개단면도
A1: 수 로 관 덮 개 구 조 도
G3: 단 면 도
E6: 0.2 | G6: 1.5 | I6: 0.2
N11: 0.15
N13: 0.05
B16: ① D13
K17: ② D13
G18: 평 면 도
E20: 0.2 | G20: 1.5 | I20: 0.2 | Q20: 철 근 표
T23: (1m 당)
O25: 번호 | P25: 규격 | Q25: 간격 | R25: 본장 | S25: 본수 | T25: 연장 | U25: 비고
O26: ① | P26: D13 | Q26: 0.2 | R26: 1 | S26: 8.7 | T26: 8.7
B27: ① D13 | N27: 1 | O27: ② | P27: D13 | Q27: 0.2 | R27: 1.74 | S27: 5 | T27: 8.7
O28: D13 : 17.4 * 0.995 = 17.31㎏
R30: Total : | S30: 17 | T30: ㎏
H33: ② D13

Sheet 재료계산서
A1: 재 료 계 산 서
A3: 구 분 | D3: 공 종 | F3: 산 출 내 역 | P3: 계
A4: 금정리 344 | D4: ○ 수로관 교체
A5: L = | B5: 10 | C5: m | D5: 터파기 | G5: 1.0+1.0 / 2 * 1.0 * L = | P5: =1*B5 -> 10 | Q5: ㎥
D6: 되메움 | G6: 터파기 - (0.8 * 0.5 * L) = | P6: =ROUND((P5-(0.8*0.5*B5)),2) -> 6 | Q6: ㎥
D7: 잔토처리 | P7: =P5-P6 -> 4 | Q7: ㎡
D8: 수로관 설치 및 해체 | E8: 800C | G8: n * 2 = | P8: =B5 -> 10 | Q8: m
D9: 콘크리트 헐기 | G9: (0.8 + 0.8 + 0.8) * n = | P9: =2.4*0.1*B5 -> 2.4 | Q9: ㎥
A11: 신흥리 817 | D11: ○ 송수관로 누출
A12: L = | B12: 30 | C12: m | D12: 터파기 | G12: 1.1 * (0.75 * 2 + 0.55 * 2) * 0.5 * L = | P12: =1.1*(0.75*2+0.55*2)*0.5*B12 -> 42.9 | Q12: ㎥
D13: 되메움 | G13: 터파기 - (0.75 * 0.5 * L) = | P13: =ROUND((P12-(0.7*0.5*B12)),2) -> 32.4 | Q13: ㎥
D14: 잔토처리 | P14: =P12-P13 -> 10.5 | Q14: ㎡
D15: PE관 부설접합(버트융착식) | E15: D=100 | G15: n * 6 = | P15: =6*6 -> 36 | Q15: m
A17: 청소리 613 | D17: ○ 유공관 보수
A18: L = | B18: 20 | C18: m | D18: 터파기 | G18: 15.0 * (4.0 * 2) * 0.5 * L = | P18: =3*(3*2+2*2)*0.5*B18 -> 300 | Q18: ㎥
D19: 되메움 | G19: 터파기 - (3 * 2 * L) = | P19: =ROUND((P18-(3*2*B18)),2) -> 180 | Q19: ㎥
D20: 잔토처리 | P20: =P18-P19 -> 120 | Q20: ㎡
D21: 유공관 | E21: D=150 | G21: n * 6 = | P21: =6*4 -> 24 | Q21: m
D22: 바닥 포장 | G22: (2.0 * 4.0 * 0.2) * n = | P22: =2*4*0.2*3 -> 4.8 | Q22: ㎥
E23: 바닥 헐기 | G23: (2.0 * 4.0 * 0.2) * n = | P23: =P22 -> 4.8 | Q23: ㎥
A24: 광암리 | D24: ○ 송수관로 교체
A25: L = | B25: 10 | C25: m | D25: 터파기 | G25: 1.1 * (0.75 * 2 + 0.55 * 2) * 0.5 * L = | P25: 0 | Q25: ㎥
D26: 되메움 | G26: 터파기 - (0.75 * 0.5 * L) = | P26: 0 | Q26: ㎥
D27: 잔토처리 | P27: 0 | Q27: ㎡
D28: PE관 부설접합 | E28: D=500 | G28: n * 6 = | P28: 0 | Q28: m
D29: 진입로 포장 | G29: (4.0 * 2.0 * 0.4) * n = | P29: 0 | Q29: ㎥
E30: 진입로 헐기 | G30: (4.0 * 2.0 * 0.4) * n = | P30: 0 | Q30: ㎥
D31: 맨홀설치 | E31: 1.0*1.0*1.2 | P31: 0 | Q31: 조
A32: 분향리 830-10 | D32: ○ 진입로 포장 | P32: 0
A33: L = | B33: 9 | C33: m | D33: 진입로 포장 | G33: (4.0 * 9.0 * 0.2) * n = | P33: 0 | Q33: ㎥
E34: 진입로 헐기 | G34: (4.0 * 9.0 * 0.2) * n = | P34: 0 | Q34: ㎥
A35: 광시면 가덕리 | D35: ○ 송수관로 교체
A36: L = | B36: 12 | C36: m | D36: 터파기 | G36: 1.1 * (0.75 * 2 + 0.55 * 2) * 0.5 * L = | P36: 0 | Q36: ㎥
D37: 되메움 | G37: 터파기 - (0.75 * 0.5 * L) = | P37: 0 | Q37: ㎥
D38: 잔토처리 | P38: 0 | Q38: ㎡
D39: PE관 부설접합 | E39: D=200 | G39: n * 6 = | P39: 0 | Q39: m
A40: 수정리 | D40: ○ 송수관로 교체 | P40: 0
A41: L = | B41: 4 | C41: m | D41: 터파기 | G41: 1.1 * (0.75 * 2 + 0.55 * 2) * 0.5 * L = | P41: 0 | Q41: ㎥
D42: 되메움 | G42: 터파기 - (0.75 * 0.5 * L) = | P42: 0 | Q42: ㎥
D43: 잔토처리 | P43: 0 | Q43: ㎡
D44: PE관 부설접합 | E44: D=150 | G44: n * 6 = | P44: 0 | Q44: m
D45: 진입로 포장 | G45: (4.0 * 1.0 * 0.2) * n = | P45: 0 | Q45: ㎥
E46: 진입로 헐기 | G46: (4.0 * 1.0 * 0.2) * n = | P46: 0 | Q46: ㎥
A47: 왕진리 936-9 | D47: ○ 송수관로 누출
A48: L = | B48: 30 | C48: m | D48: 터파기 | G48: 1.1 * (0.75 * 2 + 0.55 * 2) * 0.5 * L = | P48: =1.1*(0.75*2+0.55*2)*0.5*B48 -> 42.9 | Q48: ㎥
D49: 되메움 | G49: 터파기 - (0.75 * 0.5 * L) = | P49: =ROUND((P48-(0.7*0.5*B48)),2) -> 32.4 | Q49: ㎥
D50: 잔토처리 | P50: =P48-P49 -> 10.5 | Q50: ㎡
D51: PE관 부설접합(버트융착식) | E51: D=50 | G51: n * 6 = | P51: =6*6 -> 36 | Q51: m
A53: 사점리 167 | D53: ○ 송수관로 누출
A54: L = | B54: 30 | C54: m | D54: 터파기 | G54: 1.1 * (0.75 * 2 + 0.55 * 2) * 0.5 * L = | P54: =1.1*(0.75*2+0.55*2)*0.5*B54 -> 42.9 | Q54: ㎥
D55: 되메움 | G55: 터파기 - (0.75 * 0.5 * L) = | P55: =ROUND((P54-(0.7*0.5*B54)),2) -> 32.4 | Q55: ㎥
D56: 잔토처리 | P56: =P54-P55 -> 10.5 | Q56: ㎡
D57: PE관 부설접합(버트융착식) | E57: D=150 | G57: n * 6 = | P57: =6*6 -> 36 | Q57: m
A59: 중산리 732-1 | D59: ○ 송수관로 누출
A60: L = | B60: 30 | C60: m | D60: 터파기 | G60: 1.1 * (0.75 * 2 + 0.55 * 2) * 0.5 * L = | P60: =1.1*(0.75*2+0.55*2)*0.5*B60 -> 42.9 | Q60: ㎥
D61: 되메움 | G61: 터파기 - (0.75 * 0.5 * L) = | P61: =ROUND((P60-(0.7*0.5*B60)),2) -> 32.4 | Q61: ㎥
D62: 잔토처리 | P62: =P60-P61 -> 10.5 | Q62: ㎡
D63: PE관 부설접합(버트융착식) | E63: D=150 | G63: n * 6 = | P63: =6*6 -> 36 | Q63: m
A65: 화양리 1041-4 | D65: ○ 농로 파손
A66: L = | B66: 5 | C66: m | D66: 터파기 | G66: 2 * 2 * 0.5 * L = | P66: =1.1*(0.75*2+0.55*2)*0.5*B66 -> 7.15 | Q66: ㎥
D67: 되메움 | G67: 터파기 - (2 * 0.5 * L) = | P67: =ROUND((P66-(2*0.5*B66)),2) -> 2.15 | Q67: ㎥
D68: 잔토처리 | P68: =P66-P67 -> 5 | Q68: ㎡
D69: 바닥 포장 | G69: (2.0 * 0.2) * L = | P69: =2*0.2*B66 -> 2 | Q69: ㎥
E70: 바닥 헐기 | G70: (2.0 * 0.2) * L = | P70: =P69 -> 2 | Q70: ㎥

Sheet 단가일람
A1: □ 단 가 일 람
A3: 호 표 | B3: 공 종 | C3: 원 수 | D3: 단 위 | E3: 총 액 | F3: 노 무 비 | G3: 재 료 비 | H3: 경 비
A4: 1 | B4: 터파기(인력) 토사 0~1m | E4: =SUM(F4:H4) -> 34413 | F4: =단가내역!H6 -> 34413 | G4: =단가내역!J6 -> 0 | H4: =단가내역!L6 -> 0
A5: 2 | B5: =단가내역!F7 -> 터파기(백호:모래,사질토) | C5: 1 | D5: ㎥ | E5: =SUM(F5:H5) -> 1954 | F5: =단가내역!H9 -> 1415 | G5: =단가내역!J9 -> 229 | H5: =단가내역!L9 -> 310
A6: 3 | B6: =단가내역!F10 -> 되메움(토사:인력+콤팩터) | C6: 1 | D6: ㎥ | E6: =SUM(F6:H6) -> 21446 | F6: =단가내역!H13 -> 21162 | G6: =단가내역!J13 -> 226 | H6: =단가내역!L13 -> 58
A7: 4 | B7: =단가내역!F14 -> 되메움(토사:백호+양족견인) | C7: 1 | D7: ㎥ | E7: =SUM(F7:H7) -> 1656 | F7: =단가내역!H17 -> 924 | G7: =단가내역!J17 -> 365 | H7: =단가내역!L17 -> 367
A8: 5 | B8: =단가내역!F18 -> 뒷채움(토사:백호) | C8: 1 | D8: ㎥ | E8: =SUM(F8:H8) -> 1262 | F8: =단가내역!H20 -> 720 | G8: =단가내역!J20 -> 273 | H8: =단가내역!L20 -> 269
A9: 6 | B9: =단가내역!F21 -> 잔토처리(토사) | C9: 1 | D9: ㎥ | E9: =SUM(F9:H9) -> 1262 | F9: =단가내역!H23 -> 720 | G9: =단가내역!J23 -> 273 | H9: =단가내역!L23 -> 269
A10: 7 | B10: =단가내역!F24 -> 기초모래 | C10: 1 | D10: ㎥ | E10: =SUM(F10:H10) -> 56813 | F10: =단가내역!H28 -> 34858 | G10: =단가내역!J28 -> 20091 | H10: =단가내역!L28 -> 1864
A11: 8 | B11: =단가내역!F29 -> 구조물헐기(브레이카 무근 t=30㎝ 미만) | C11: 1 | D11: ㎥ | E11: =SUM(F11:H11) -> 27436 | F11: =단가내역!H32 -> 15849 | G11: =단가내역!J32 -> 4702 | H11: =단가내역!L32 -> 6885
A12: 9 | B12: =단가내역!F33 -> 구조물헐기(브레이카 철근 t=30㎝ 미만) | C12: 1 | D12: ㎥ | E12: =SUM(F12:H12) -> 76447 | F12: =단가내역!H37 -> 53933 | G12: =단가내역!J37 -> 9533 | H12: =단가내역!L37 -> 12981
A13: 10 | B13: =단가내역!F38 -> 포장절단 (콘크리트) | C13: 1 | D13: m | E13: =SUM(F13:H13) -> 4048 | F13: =단가내역!H45 -> 2842 | G13: =단가내역!J45 -> 1119 | H13: =단가내역!L45 -> 87
A14: 11 | B14: =단가내역!F46 -> 콘크리트포장(레미콘:인력, t=0.20) | C14: 1 | D14: ㎡ | E14: =SUM(F14:H14) -> 37172 | F14: =단가내역!H53 -> 14160 | G14: =단가내역!J53 -> 23012 | H14: =단가내역!L53 -> 0
A15: 12 | B15: =단가내역!F54 -> 강관동바리(암거구조물 6개월) H= 0.0 -4.2m | C15: 1 | D15: 공/㎥ | E15: =SUM(F15:H15) -> 28692 | F15: =단가내역!H60 -> 27723 | G15: =단가내역!J60 -> 964 | H15: =단가내역!L60 -> 5
A16: 13 | B16: =단가내역!F61 -> 강관비계(6개월) | C16: 1 | D16: ㎡ | E16: =SUM(F16:H16) -> 31255 | F16: =단가내역!H70 -> 27966 | G16: =단가내역!J70 -> 1884 | H16: =단가내역!L70 -> 1405
A17: 14 | B17: =단가내역!F71 -> 철근(복잡구조) | C17: 1 | D17: kg | E17: =SUM(F17:H17) -> 1145 | F17: =단가내역!H76 -> 1136 | G17: =단가내역!J76 -> 0 | H17: =단가내역!L76 -> 9
A18: 15 | B18: =단가내역!F77 -> 철근(보통구조) | C18: 1 | D18: kg | E18: =SUM(F18:H18) -> 1027 | F18: =단가내역!H82 -> 1028 | G18: =단가내역!J82 -> -1 | H18: =단가내역!L82 -> 0
A19: 16 | B19: =단가내역!F83 -> 합판거푸집(4회) 10㎥미만 | C19: 1 | D19: ㎡ | E19: =SUM(F19:H19) -> 68469 | F19: =단가내역!H87 -> 57951 | G19: =단가내역!J87 -> 10408 | H19: =단가내역!L87 -> 110
A20: 17 | B20: =단가내역!F88 -> 합판거푸집(4회) H=0-7M 10㎥이상 | C20: 1 | D20: ㎡ | E20: =SUM(F20:H20) -> 45923 | F20: =단가내역!H92 -> 35405 | G20: =단가내역!J92 -> 10408 | H20: =단가내역!L92 -> 110
A21: 18 | B21: =단가내역!F93 -> 합판거푸집(6회) 10㎥ 이상 | C21: 1 | D21: ㎡ | E21: =SUM(F21:H21) -> 44420 | F21: =단가내역!H97 -> 35370 | G21: =단가내역!J97 -> 8957 | H21: =단가내역!L97 -> 93
A22: 19 | B22: =단가내역!F98 -> 합판거푸집(6회) 10㎥ 미만 | C22: 1 | D22: ㎡ | E22: =SUM(F22:H22) -> 66966 | F22: =단가내역!H102 -> 57916 | G22: =단가내역!J102 -> 8957 | H22: =단가내역!L97 -> 93
A23: 20 | B23: =단가내역!F103 -> PE관 D=200 | C23: 1 | D23: 본 | E23: =SUM(F23:H23) -> 17276 | F23: =단가내역!H107 -> 11766 | G23: =단가내역!J107 -> 5470 | H23: =단가내역!L107 -> 40
A24: 21 | B24: =단가내역!F108 -> PE관 D=300 | C24: 1 | D24: 본 | E24: =SUM(F24:H24) -> 23621 | F24: =단가내역!H112 -> 15135 | G24: =단가내역!J112 -> 8409 | H24: =단가내역!L112 -> 77
A25: 22 | B25: =단가내역!F113 -> PE관 D=500 | C25: 1 | D25: 본 | E25: =SUM(F25:H25) -> 47362 | F25: =단가내역!H117 -> 23318 | G25: =단가내역!J117 -> 23928 | H25: =단가내역!L117 -> 116
A26: 23 | B26: =단가내역!F118 -> PVC 관(D=100㎜) | C26: 1 | D26: m | E26: =SUM(F26:H26) -> 21139 | F26: =단가내역!H122 -> 8864 | G26: =단가내역!J122 -> 12275 | H26: =단가내역!L122 -> 0
A27: 24 | B27: 자갈부설 | C27: 1 | D27: ㎥ | E27: =SUM(F27:H27) -> 49411.4 | F27: =단가내역!H126 -> 32078.7 | G27: =단가내역!J126 -> 15765.4 | H27: =단가내역!L126 -> 1567.3
A28: 25 | B28: 순성토(토사95%) | C28: 1 | D28: ㎥ | E28: =SUM(F28:H28) -> 6183 | F28: =단가내역!H130 -> 3303 | G28: =단가내역!J130 -> 1765 | H28: =단가내역!L130 -> 1115
A29: 26 | B29: 스텐레스사다리 | C29: 1 | D29: m | E29: =SUM(F29:H29) -> 65249 | F29: =단가내역!H138 -> 42757 | G29: =단가내역!J138 -> 21146 | H29: =단가내역!L138 -> 1346
A30: 27 | B30: 방수모르터 바름(1:3, t=21mm) | C30: 1 | D30: ㎡ | E30: =SUM(F30:H30) -> 40487 | F30: =단가내역!H143 -> 5433 | G30: =단가내역!J143 -> 34897 | H30: =단가내역!L143 -> 157
A31: 28 | B31: 유로폼(벽0~7m) | C31: 1 | D31: ㎡ | E31: =SUM(F31:H31) -> 36221 | F31: =단가내역!H148 -> 32455 | G31: =단가내역!J148 -> 2712 | H31: =단가내역!L148 -> 1054
A32: 29 | B32: =단가내역!F149 -> 레미콘 : 무근(인력) | C32: 1 | D32: ㎥ | E32: =SUM(F32:H32) -> 58020 | F32: =단가내역!H152 -> 57773 | G32: =단가내역!J152 -> 233 | H32: =단가내역!L152 -> 14
A33: 30 | B33: =단가내역!F153 -> 레미콘 : 소형(인력) | C33: 1 | D33: ㎥ | E33: =SUM(F33:H33) -> 116041 | F33: =단가내역!H156 -> 115546 | G33: =단가내역!J156 -> 466 | H33: =단가내역!L156 -> 29
A34: 31 | B34: =단가내역!F157 -> 레미콘 : 철근(240-25) 10㎥이상 | C34: 1 | D34: ㎥ | E34: =SUM(F34:H34) -> 32335 | F34: =단가내역!H160 -> 27793 | G34: =단가내역!J160 -> 2395 | H34: =단가내역!L160 -> 2147
A35: 32 | B35: =단가내역!F161 -> 레미콘 : 철근(240-25) 10㎥이하 | C35: 1 | D35: ㎥ | E35: =SUM(F35:H35) -> 164509 | F35: =단가내역!H165 -> 45106 | G35: =단가내역!J165 -> 112777 | H35: =단가내역!L165 -> 6626
A36: 33 | B36: =단가내역!F166 -> 레미콘 : 철근(210-25) 10㎥이상 | C36: 1 | D36: ㎥ | E36: =SUM(F36:H36) -> 32335 | F36: =단가내역!H169 -> 27793 | G36: =단가내역!J169 -> 2395 | H36: =단가내역!L169 -> 2147
A37: 34 | B37: =단가내역!F171 -> 레미콘 : 철근,펌프카(240-25) 10㎥이상 | C37: 1 | D37: ㎥ | E37: =SUM(F37:H37) -> 27469 | F37: =단가내역!H174 -> 21703 | G37: =단가내역!J174 -> 1850 | H37: =단가내역!L174 -> 3916
A38: 35 | B38: 철근콘크리트수로관 부설(800*700,800*800) | C38: 1 | D38: 본 | E38: =SUM(F38:H38) -> 60604 | F38: =단가내역!H179 -> 52278 | G38: =단가내역!J179 -> 3439 | H38: =단가내역!L179 -> 4887
A39: 36 | B39: 철근콘크리트수로관 해체(800*700,800*800) | C39: 1 | D39: 본 | E39: =SUM(F39:H39) -> 30301 | F39: =단가내역!H182 -> 26139 | G39: =단가내역!J182 -> 1719 | H39: =단가내역!L182 -> 2443
A40: 37 | B40: 철근콘크리트수로관 부설(300*300) | C40: 1 | D40: 본 | E40: =SUM(F40:H40) -> 21626 | F40: =단가내역!H186 -> 17593 | G40: =단가내역!J186 -> 1499 | H40: =단가내역!L186 -> 2534
A41: 38 | B41: 철근콘크리트수로관 해체(300*300) | C41: 1 | D41: 본 | E41: =SUM(F41:H41) -> 10812 | F41: =단가내역!H189 -> 8796 | G41: =단가내역!J189 -> 749 | H41: =단가내역!L189 -> 1267
A42: 39 | B42: 철근콘크리트수로관 부설(400*400) | C42: 1 | D42: 본 | E42: =SUM(F42:H42) -> 33846 | F42: =단가내역!H194 -> 28559 | G42: =단가내역!J194 -> 2167 | H42: =단가내역!L194 -> 3120
A43: 40 | B43: 철근콘크리트수로관 해체(400*400) | C43: 1 | D43: 본 | E43: =SUM(F43:H43) -> 16922 | F43: =단가내역!H197 -> 14279 | G43: =단가내역!J197 -> 1083 | H43: =단가내역!L197 -> 1560
A44: 41 | B44: 철근콘크리트수로관 부설(500*500) | C44: 1 | D44: 본 | E44: =SUM(F44:H44) -> 42903 | F44: =단가내역!H202 -> 36475 | G44: =단가내역!J202 -> 2616 | H44: =단가내역!L202 -> 3812
A45: 42 | B45: 철근콘크리트수로관 해체(500*500) | C45: 1 | D45: 본 | E45: =SUM(F45:H45) -> 21451 | F45: =단가내역!H205 -> 18237 | G45: =단가내역!J205 -> 1308 | H45: =단가내역!L205 -> 1906
A46: 43 | B46: 철근콘크리트수로관 부설(600*600) | C46: 1 | D46: 본 | E46: =SUM(F46:H46) -> 51605 | F46: =단가내역!H210 -> 44234 | G46: =단가내역!J210 -> 3017 | H46: =단가내역!L210 -> 4354
A47: 44 | B47: 철근콘크리트수로관 해체(600*600) | C47: 1 | D47: 본 | E47: =SUM(F47:H47) -> 25802 | F47: =단가내역!H213 -> 22117 | G47: =단가내역!J213 -> 1508 | H47: =단가내역!L213 -> 2177
A48: 45 | B48: 철근콘크리트수로관 부설(1000*1000) | C48: 1 | D48: 본 | E48: =SUM(F48:H48) -> 81296 | F48: =단가내역!H218 -> 70611 | G48: =단가내역!J218 -> 4496 | H48: =단가내역!L218 -> 6189
A49: 45 | B49: 철근콘크리트수로관 해체(1000*1000) | C49: 1 | D49: 본 | E49: =SUM(F49:H49) -> 40647 | F49: =단가내역!H221 -> 35305 | G49: =단가내역!J221 -> 2248 | H49: =단가내역!L221 -> 3094
A50: 46 | B50: 철근콘크리트수로관 부설(1200*1000) | C50: 1 | D50: 본 | E50: =SUM(F50:H50) -> 105837 | F50: =단가내역!H226 -> 92287 | G50: =단가내역!J226 -> 5589 | H50: =단가내역!L226 -> 7961
A51: 47 | B51: 철근콘크리트수로관 부설(1500*1000) | C51: 1 | D51: 본 | E51: =SUM(F51:H51) -> 127163 | F51: =단가내역!H231 -> 111257 | G51: =단가내역!J231 -> 6684 | H51: =단가내역!L231 -> 9222
A52: 48 | B52: 철근콘크리트수로관 부설(1500*1200) | C52: 1 | D52: 본 | E52: =SUM(F52:H52) -> 127163 | F52: =단가내역!H236 -> 111257 | G52: =단가내역!J236 -> 6684 | H52: =단가내역!L236 -> 9222
A53: 49 | B53: 철근콘크리트수로관 해체(1500*1200) | C53: 1 | D53: 본 | E53: =SUM(F53:H53) -> 63581 | F53: =단가내역!H239 -> 55628 | G53: =단가내역!J239 -> 3342 | H53: =단가내역!L239 -> 4611
A54: 50 | B54: 콘크리트조립식배수관(H=1.2) | C54: 1 | D54: 본 | E54: =SUM(F54:H54) -> 119278 | F54: =단가내역!H244 -> 100502 | G54: =단가내역!J244 -> 8084 | H54: =단가내역!L244 -> 10692
A55: 51 | B55: 콘크리트조립식배수관(H=1.5) | C55: 1 | D55: 본 | E55: =SUM(F55:H55) -> 150476 | F55: =단가내역!H249 -> 126763 | G55: =단가내역!J249 -> 10211 | H55: =단가내역!L249 -> 13502
A56: 52 | B56: 콘크리트조립식배수관(H=1.8) | C56: 1 | D56: 본 | E56: =SUM(F56:H56) -> 223760 | F56: =단가내역!H254 -> 188445 | G56: =단가내역!J254 -> 15210 | H56: =단가내역!L254 -> 20105
A57: 53 | B57: 콘크리트조립식배수관(2.0×1.2) | C57: 1 | D57: 본 | E57: =SUM(F57:H57) -> 195921 | F57: =단가내역!H259 -> 176806 | G57: =단가내역!J259 -> 10241 | H57: =단가내역!L259 -> 8874
A58: 54 | B58: =단가내역!F260 -> 소켓식흄관고무링접합 D300 | C58: 1 | D58: 본 | E58: =SUM(F58:H58) -> 134087 | F58: =단가내역!H266 -> 72254 | G58: =단가내역!J266 -> 56057 | H58: =단가내역!L266 -> 5776
A59: 55 | B59: =단가내역!F267 -> 소켓식흄관고무링접합 D400 | C59: 1 | D59: 본 | E59: =SUM(F59:H59) -> 162325 | F59: =단가내역!H273 -> 91067 | G59: =단가내역!J273 -> 63960 | H59: =단가내역!L273 -> 7298
A60: 56 | B60: =단가내역!F274 -> 소켓식흄관고무링접합 D500 | C60: 1 | D60: 본 | E60: =SUM(F60:H60) -> 130930 | F60: =단가내역!H280 -> 113981 | G60: =단가내역!J280 -> 8129 | H60: =단가내역!L280 -> 8820
A61: 57 | B61: =단가내역!F281 -> 소켓식흄관고무링접합 D600 | C61: 1 | D61: 본 | E61: =SUM(F61:H61) -> 268390 | F61: =단가내역!H287 -> 147146 | G61: =단가내역!J287 -> 110850 | H61: =단가내역!L287 -> 10394
A62: 58 | B62: =단가내역!F288 -> 소켓식흄관고무링접합 D700 | C62: 1 | D62: 본 | E62: =SUM(F62:H62) -> 337149 | F62: =단가내역!H294 -> 176398 | G62: =단가내역!J294 -> 149053 | H62: =단가내역!L294 -> 11698
A63: 59 | B63: =단가내역!F295 -> 소켓식흄관고무링접합 D800 | C63: 1 | D63: 본 | E63: =SUM(F63:H63) -> 272858 | F63: =단가내역!H301 -> 246734 | G63: =단가내역!J301 -> 12770 | H63: =단가내역!L301 -> 13354
A64: 60 | B64: 소켓식흄관고무링접합 D1000(자재대 제외) | C64: 1 | D64: 본 | E64: =SUM(F64:H64) -> 223649 | F64: =단가내역!H308/2 -> 205189 | G64: =단가내역!J308/2 -> 8579 | H64: =단가내역!L308/2 -> 9881
A65: 61 | B65: 소켓식흄관고무링접합 D1200 | C65: 1 | D65: 본 | E65: =SUM(F65:H65) -> 833294 | F65: =단가내역!H315 -> 410526 | G65: =단가내역!J315 -> 418716 | H65: =단가내역!L315 -> 4052
A66: 62 | B66: 소켓식흄관고무링접합 D1500 | C66: 1 | D66: 본 | E66: =SUM(F66:H66) -> 603539 | F66: =단가내역!H322 -> 533332 | G66: =단가내역!J322 -> 31684 | H66: =단가내역!L322 -> 38523
A67: 63 | B67: =단가내역!F323 -> 급배수관 부설 D100 | C67: 1 | D67: m | E67: =SUM(F67:H67) -> 16506 | F67: =단가내역!H327 -> 6006 | G67: =단가내역!J327 -> 10500 | H67: =단가내역!L327 -> 0
A68: 64 | B68: =단가내역!F328 -> 급배수관 부설 D150 | C68: 1 | D68: m | E68: =SUM(F68:H68) -> 23769 | F68: =단가내역!H332 -> 8189 | G68: =단가내역!J332 -> 15580 | H68: =단가내역!L332 -> 0
A69: 65 | B69: =단가내역!F333 -> 급배수관 부설 D200 | C69: 1 | D69: m | E69: =SUM(F69:H69) -> 26985 | F69: =단가내역!H337 -> 10135 | G69: =단가내역!J337 -> 16850 | H69: =단가내역!L337 -> 0
A70: 66 | B70: =단가내역!F338 -> 급배수관 부설 D300 | E70: =SUM(F70:H70) -> 35373 | F70: =단가내역!H342 -> 13853 | G70: =단가내역!J342 -> 21520 | H70: =단가내역!L342 -> 0
A71: 66 | B71: =단가내역!F343 -> 급배수관 부설 D500 | E71: =SUM(F71:H71) -> 80383 | F71: =단가내역!H347 -> 13853 | G71: =단가내역!J347 -> 66530 | H71: =단가내역!L347 -> 0
A72: 67 | B72: =단가내역!F348 -> 수로관 천공 및 접합(D100) | C72: 1 | D72: 개소 | E72: =SUM(F72:H72) -> 19471 | F72: =단가내역!H353 -> 18280 | G72: =단가내역!J353 -> 286 | H72: =단가내역!L353 -> 905
A73: 68 | B73: =단가내역!F354 -> 수로관 천공 및 접합(D150) | C73: 1 | D73: 개소 | E73: =SUM(F73:H73) -> 20080 | F73: =단가내역!H359 -> 18728 | G73: =단가내역!J359 -> 429 | H73: =단가내역!L359 -> 923
A74: 69 | B74: =단가내역!F360 -> 수로관 천공 및 접합(D200) | C74: 1 | D74: 개소 | E74: =SUM(F74:H74) -> 25253 | F74: =단가내역!H365 -> 23523 | G74: =단가내역!J365 -> 572 | H74: =단가내역!L365 -> 1158
A75: 70 | B75: =단가내역!F366 -> 천공(구멍뚫기) | C75: 1 | D75: 개소 | E75: =SUM(F75:H75) -> 9242 | F75: =단가내역!H368 -> 9242 | G75: =단가내역!J368 -> 0 | H75: =단가내역!L368 -> 0
A76: 71 | B76: =단가내역!F369 -> 문비설치(1-1호형0.4m*0.4m) | C76: 1 | D76: 조 | E76: =SUM(F76:H76) -> 172200 | F76: =단가내역!H372 -> 8200 | G76: =단가내역!J372 -> 164000 | H76: =단가내역!L372 -> 0
A77: 72 | B77: =단가내역!F373 -> 문비설치(1-2호형0.55m*0.55m) | C77: 1 | D77: 조 | E77: =SUM(F77:H77) -> 236250 | F77: =단가내역!H376 -> 11250 | G77: =단가내역!J376 -> 225000 | H77: =단가내역!L376 -> 0
A78: 73 | B78: =단가내역!F377 -> 권양기설치(신형 1-1호형) | C78: 1 | D78: 조 | E78: =SUM(F78:H78) -> 314475 | F78: =단가내역!H380 -> 14975 | G78: =단가내역!J380 -> 299500 | H78: =단가내역!L380 -> 0
A79: 74 | B79: =단가내역!F381 -> 권양기설치(신형 1-2호형) | C79: 1 | D79: 조 | E79: =SUM(F79:H79) -> 345345 | F79: =단가내역!H384 -> 16445 | G79: =단가내역!J384 -> 328900 | H79: =단가내역!L384 -> 0
A80: 75 | B80: =단가내역!F385 -> 스핀들설치(25D) | C80: 1 | D80: m | E80: =SUM(F80:H80) -> 50085 | F80: =단가내역!H388 -> 2385 | G80: =단가내역!J388 -> 47700 | H80: =단가내역!L388 -> 0
A81: 76 | B81: =단가내역!F389 -> 스핀들설치(32D) | C81: 1 | D81: m | E81: =SUM(F81:H81) -> 73290 | F81: =단가내역!H392 -> 3490 | G81: =단가내역!J392 -> 69800 | H81: =단가내역!L392 -> 0
A82: 77 | B82: =단가내역!F393 -> 스핀들설치(38D) | C82: 1 | D82: m | E82: =SUM(F82:H82) -> 69510 | F82: =단가내역!H396 -> 3310 | G82: =단가내역!J396 -> 66200 | H82: =단가내역!L396 -> 0
A83: 78 | B83: =단가내역!F397 -> PE관 보수 D200 | C83: 1 | D83: 개소 | E83: =SUM(F83:H83) -> 221739 | F83: =단가내역!H402 -> 10639 | G83: =단가내역!J402 -> 211100 | H83: =단가내역!L402 -> 0
A84: 79 | B84: =단가내역!F403 -> 물푸기(5HP, 1개소 1대) | C84: 1 | D84: 일 | E84: =SUM(F84:H84) -> 52981 | F84: =단가내역!H407 -> 27347 | G84: =단가내역!J407 -> 24084 | H84: =단가내역!L407 -> 1550
A85: 80 | B85: =단가내역!F408 -> 물푸기(펌프설치 및 해체) | C85: 1 | D85: 대 | E85: =SUM(F85:H85) -> 524971 | F85: =단가내역!H411 -> 524971 | G85: =단가내역!J411 -> 0 | H85: =단가내역!L411 -> 0
A86: 81 | B86: =단가내역!F412 -> PE수도관 접합 및 부설 D150 | E86: =SUM(F86:H86) -> 10405 | F86: =단가내역!H417 -> 9725 | G86: =단가내역!J417 -> 0 | H86: =단가내역!L417 -> 680
A87: 82 | B87: =단가내역!F418 -> PE수도관 접합 및 부설 D200 | E87: =SUM(F87:H87) -> 11864 | F87: =단가내역!H423 -> 11088 | G87: =단가내역!J423 -> 0 | H87: =단가내역!L423 -> 776
A88: 83 | B88: =단가내역!F424 -> PE수도관 접합 및 부설 D250 | E88: =SUM(F88:H88) -> 13873 | F88: =단가내역!H429 -> 12966 | G88: =단가내역!J429 -> 0 | H88: =단가내역!L429 -> 907
A89: 84 | B89: =단가내역!F430 -> PE수도관 접합 및 부설 D350 | E89: =SUM(F89:H89) -> 16777 | F89: =단가내역!H435 -> 16777 | G89: =단가내역!I435 -> 0 | H89: =단가내역!J435 -> 0
A90: 85 | B90: =단가내역!F436 -> PE수도관 접합 및 부설 D400 | C90: 1 | D90: 개소 | E90: =SUM(F90:H90) -> 18970 | F90: =단가내역!H441 -> 17729 | G90: =단가내역!J441 -> 0 | H90: =단가내역!L441 -> 1241
A91: 86 | B91: =단가내역!F442 -> PE수도관 접합 및 부설 D450 | C91: 1 | D91: 개소 | E91: =SUM(F91:H91) -> 20428 | F91: =단가내역!H447 -> 19092 | G91: =단가내역!J447 -> 0 | H91: =단가내역!L447 -> 1336
A92: 87 | B92: =단가내역!F448 -> 취수문 설치(STS304) 0.55*0.55 | C92: 1 | D92: 개소 | E92: =SUM(F92:H92) -> 477561 | F92: =단가내역!H459 -> 278868 | G92: =단가내역!J459 -> 189927 | H92: =단가내역!L459 -> 8766
A93: 88 | B93: =단가내역!F460 -> 배사문 설치(STS304) 0.55*0.75 | C93: 1 | D93: 개소 | E93: =SUM(F93:H93) -> 483332 | F93: =단가내역!H471 -> 292809 | G93: =단가내역!J471 -> 181319 | H93: =단가내역!L471 -> 9204
A94: 89 | B94: 기성맨홀설치 1.0*1.0*1.2 | E94: =SUM(F94:H94) -> 162750 | F94: =단가내역!H475 -> 7750 | G94: =단가내역!J475 -> 155000 | H94: =단가내역!L475 -> 0
A95: 90 | B95: =단가내역!F476 -> 뒤채움 혼합석(50mm) | E95: =SUM(F95:H95) -> 65090 | F95: =단가내역!H481 -> 48288 | G95: =단가내역!J481 -> 13570 | H95: =단가내역!L481 -> 3232
A96: 91 | B96: 유공관(부직포) | E96: =SUM(F96:H96) -> 13252 | F96: =단가내역!H488 -> 7052 | G96: =단가내역!J488 -> 6200 | H96: =단가내역!L488 -> 0
A97: 92 | B97: =단가내역!F489 -> 게이트밸브 설치 (D100, STS, 플랜지식) | E97: =SUM(F97:H97) -> 349650 | F97: =단가내역!H492 -> 16650 | G97: =단가내역!J492 -> 333000 | H97: =단가내역!L492 -> 0
A98: 93 | B98: =단가내역!F493 -> 게이트밸브 설치 (D150, STS, 플랜지식) | E98: =SUM(F98:H98) -> 1085700 | F98: =단가내역!H496 -> 51700 | G98: =단가내역!J496 -> 1034000 | H98: =단가내역!L496 -> 0
A99: 94 | B99: =단가내역!F497 -> 맨홀설치(0.4*0.4*0.6) | E99: =SUM(F99:H99) -> 94500 | F99: =단가내역!H500 -> 4500 | G99: =단가내역!J500 -> 90000 | H99: =단가내역!L500 -> 0
A100: 95 | B100: 폐기물처리비(철근) | E100: =SUM(F100:H100) -> 30923 | F100: =단가내역!H506 -> 5794 | G100: =단가내역!J506 -> -3851 | H100: =단가내역!L506 -> 28980
A101: 96 | B101: 폐기물 적재(철근) | E101: =SUM(F101:H101) -> 1580 | F101: =단가내역!H509 -> 756 | G101: =단가내역!J509 -> 482 | H101: =단가내역!L509 -> 342
...

Sheet 단가내역
A1: □ 단가내역
A2: 종 별 | B2: 재료또는 | C2: 원 수 | D2: 단 | E2: 총 액 | G2: 노 무 비 | I2: 재 료 비 | K2: 경 비
B3: 치 수 | D3: 위 | E3: 단 가 | F3: 금 액 | G3: 단 가 | H3: 금 액 | I3: 단 가 | J3: 금 액 | K3: 단 가 | L3: 금 액
E4: =1 -> 1 | F4: 터파기(인력) 토사 0~1m | J4: 1㎥
A5: 터파기 | B5: 보통인부 | C5: 0.2 | D5: ㎥ | E5: =G5+I5+K5 -> 172068 | F5: =H5+J5+L5 -> 34413 | G5: =노임!D14 -> 172068 | H5: =INT(C5*G5) -> 34413 | J5: =INT(C5*I5) -> 0 | L5: =INT(C5*K5) -> 0
A6: 계 | F6: =H6+J6+L6 -> 34413 | H6: =SUM(H5:H5) -> 34413 | J6: =SUM(J5:J5) -> 0 | L6: =SUM(L5:L5) -> 0
E7: =E4+1 -> 2 | F7: 터파기(백호:모래,사질토) | J7: 1㎥
A8: 터파기 | B8: 백호0.4㎥ | C8: 1 | D8: ㎥ | E8: =G8+I8+K8 -> 1954 | F8: =H8+J8+L8 -> 1954 | G8: =중기단위당!H12 -> 1415 | H8: =INT(C8*G8) -> 1415 | I8: =중기단위당!I12 -> 229 | J8: =INT(C8*I8) -> 229 | K8: =중기단위당!J12 -> 310 | L8: =INT(C8*K8) -> 310
A9: 계 | F9: =H9+J9+L9 -> 1954 | H9: =SUM(H8:H8) -> 1415 | J9: =SUM(J8:J8) -> 229 | L9: =SUM(L8:L8) -> 310
E10: =E7+1 -> 3 | F10: 되메움(토사:인력+콤팩터) | J10: 1㎥
A11: 되메우기 | B11: 보통인부 | C11: 0.1 | D11: 인 | E11: =G11+I11+K11 -> 172068 | F11: =H11+J11+L11 -> 17206 | G11: =노임!D14 -> 172068 | H11: =INT(C11*G11) -> 17206 | I11: 0 | J11: =INT(C11*I11) -> 0 | K11: 0 | L11: =INT(C11*K11) -> 0
A12: 콤팩트 다짐 | C12: 1 | D12: ㎥ | E12: =G12+I12+K12 -> 4240 | F12: =H12+J12+L12 -> 4240 | G12: =중기단위당!H39 -> 3956 | H12: =INT(C12*G12) -> 3956 | I12: =중기단위당!I39 -> 226 | J12: =INT(C12*I12) -> 226 | K12: =중기단위당!J39 -> 58 | L12: =INT(C12*K12) -> 58
A13: 계 | F13: =H13+J13+L13 -> 21446 | H13: =SUM(H11:H12) -> 21162 | J13: =SUM(J11:J12) -> 226 | L13: =SUM(L11:L12) -> 58
E14: =E10+1 -> 4 | F14: 되메움(토사:백호+양족견인) | J14: 1㎥
A15: 되메우기 | B15: 백호0.7㎥ | C15: 1 | D15: 인 | E15: =G15+I15+K15 -> 1262 | F15: =H15+J15+L15 -> 1262 | G15: =기초일람!F8 -> 720 | H15: =INT(C15*G15) -> 720 | I15: =기초일람!G8 -> 273 | J15: =INT(C15*I15) -> 273 | K15: =기초일람!H8 -> 269 | L15: =INT(C15*K15) -> 269
A16: 기계성토다짐 | B16: 백호+양족견인 | C16: 1 | D16: ㎥ | E16: =G16+I16+K16 -> 394 | F16: =H16+J16+L16 -> 394 | G16: =기초일람!F10 -> 204 | H16: =INT(C16*G16) -> 204 | I16: =기초일람!G10 -> 92 | J16: =INT(C16*I16) -> 92 | K16: =기초일람!H10 -> 98 | L16: =INT(C16*K16) -> 98
A17: 계 | F17: =H17+J17+L17 -> 1656 | H17: =SUM(H15:H16) -> 924 | J17: =SUM(J15:J16) -> 365 | L17: =SUM(L15:L16) -> 367
E18: =E14+1 -> 5 | F18: 뒷채움(토사:백호) | J18: 1㎥
A19: 뒷채움 | B19: 백호0.7㎥ | C19: 1 | D19: ㎥ | E19: =G19+I19+K19 -> 1262 | F19: =H19+J19+L19 -> 1262 | G19: =기초일람!F9 -> 720 | H19: =INT(C19*G19) -> 720 | I19: =기초일람!G9 -> 273 | J19: =INT(C19*I19) -> 273 | K19: =기초일람!H9 -> 269 | L19: =INT(C19*K19) -> 269
A20: 계 | F20: =H20+J20+L20 -> 1262 | H20: =SUM(H19:H19) -> 720 | J20: =SUM(J19:J19) -> 273 | L20: =SUM(L19:L19) -> 269
E21: =E18+1 -> 6 | F21: 잔토처리(토사) | J21: 1㎥
A22: 잔토처리 | B22: 백호0.7㎥ | C22: 1 | D22: ㎥ | E22: =G22+I22+K22 -> 1262 | F22: =H22+J22+L22 -> 1262 | G22: =중기단위당!H19 -> 720 | H22: =INT(C22*G22) -> 720 | I22: =중기단위당!I19 -> 273 | J22: =INT(C22*I22) -> 273 | K22: =중기단위당!J19 -> 269 | L22: =INT(C22*K22) -> 269
A23: 계 | F23: =H23+J23+L23 -> 1262 | H23: =SUM(H22:H22) -> 720 | J23: =SUM(J22:J22) -> 273 | L23: =SUM(L22:L22) -> 269
E24: =E21+1 -> 7 | F24: 기초모래 | J24: 1㎥
A25: 기초모래 | B25: 1*1.4 | C25: 1.4 | D25: ton | E25: =G25+I25+K25 -> 34437 | F25: =H25+J25+L25 -> 48210 | G25: =자재일람!F8 -> 18754 | H25: =INT(C25*G25) -> 26255 | I25: =자재일람!G8 -> 14351 | J25: =INT(C25*I25) -> 20091 | K25: =자재일람!H8 -> 1332 | L25: =INT(C25*K25) -> 1864
A26: 고르고 다짐 | B26: 보통인부 | C26: 0.05 | D26: 인 | E26: =G26+I26+K26 -> 172068 | F26: =H26+J26+L26 -> 8603 | G26: =노임!D14 -> 172068 | H26: =INT(C26*G26) -> 8603 | I26: 0 | J26: =INT(C26*I26) -> 0 | K26: 0 | L26: =INT(C26*K26) -> 0
A27: 작업반장 | D27: 인 | E27: =G27+I27+K27 -> 0 | F27: =H27+J27+L27 -> 0 | G27: 0 | H27: =INT(C27*G27) -> 0 | I27: 0 | J27: =INT(C27*I27) -> 0 | K27: 0 | L27: =INT(C27*K27) -> 0
A28: 계 | F28: =H28+J28+L28 -> 56813 | H28: =SUM(H25:H27) -> 34858 | J28: =SUM(J25:J27) -> 20091 | L28: =SUM(L25:L27) -> 1864
E29: =E24+1 -> 8 | F29: 구조물헐기(브레이카 무근 t=30㎝ 미만) | J29: 1㎥
A30: 브레이카 철근 대형브레이카 0.7 | C30: 1 | D30: ㎥ | E30: =G30+I30+K30 -> 23995 | F30: =H30+J30+L30 -> 23995 | G30: =중기단위당!H43 -> 12408 | H30: =INT(C30*G30) -> 12408 | I30: =중기단위당!I43 -> 4702 | J30: =INT(C30*I30) -> 4702 | K30: =중기단위당!J43 -> 6885 | L30: =INT(C30*K30) -> 6885
A31: 작업보조인부 | B31: 1/8*1/Q | C31: 0.02 | D31: 인 | E31: =G31+I31+K31 -> 172068 | F31: =H31+J31+L31 -> 3441 | G31: =노임!D14 -> 172068 | H31: =INT(C31*G31) -> 3441 | I31: 0 | J31: =INT(C31*I31) -> 0 | K31: 0 | L31: =INT(C31*K31) -> 0
A32: 계 | F32: =H32+J32+L32 -> 27436 | H32: =SUM(H30:H31) -> 15849 | I32: 0 | J32: =SUM(J30:J31) -> 4702 | L32: =SUM(L30:L31) -> 6885
E33: =E29+1 -> 9 | F33: 구조물헐기(브레이카 철근 t=30㎝ 미만) | J33: 1㎥
A34: 브레이카 철근 대형브레이카 0.7 | C34: 1 | D34: ㎥ | E34: =G34+I34+K34 -> 45050 | F34: =H34+J34+L34 -> 45050 | G34: =중기단위당!H45 -> 23296 | H34: =INT(C34*G34) -> 23296 | I34: =중기단위당!I45 -> 8828 | J34: =INT(C34*I34) -> 8828 | K34: =중기단위당!J45 -> 12926 | L34: =INT(C34*K34) -> 12926
A35: 작업보조인부 | B35: 1/8*1/Q | C35: 0.05 | D35: 인 | E35: =G35+I35+K35 -> 172068 | F35: =H35+J35+L35 -> 8603 | G35: =G31 -> 172068 | H35: =INT(C35*G35) -> 8603 | I35: 0 | J35: =INT(C35*I35) -> 0 | K35: 0 | L35: =INT(C35*K35) -> 0
A36: 철근구조물헐기 | B36: 철근절단 | C36: 1 | D36: ㎥ | E36: =G36+I36+K36 -> 22794 | F36: =H36+J36+L36 -> 22794 | G36: =기초일람!F61 -> 22034 | H36: =INT(C36*G36) -> 22034 | I36: =기초일람!G61 -> 705 | J36: =INT(C36*I36) -> 705 | K36: =기초일람!H61 -> 55 | L36: =INT(C36*K36) -> 55
A37: 계 | F37: =H37+J37+L37 -> 76447 | H37: =SUM(H34:H36) -> 53933 | I37: 0 | J37: =SUM(J34:J36) -> 9533 | L37: =SUM(L34:L36) -> 12981
E38: =E33+1 -> 10 | F38: 포장절단 (콘크리트) | J38: 1 m
A39: 블레이드 | B39: D = 320-400mm | C39: 0.0031 | D39: 개 | E39: =G39+I39+K39 -> 190000 | F39: =H39+J39+L39 -> 589 | G39: 0 | H39: =INT(G39*C39) -> 0 | I39: =자재!F180 -> 190000 | J39: =INT(I39*C39) -> 589 | K39: 0 | L39: =INT(K39*C39) -> 0
A40: 물 | B40: 3000/1000 | C40: 0.03 | D40: ton | E40: =G40+I40+K40 -> 10967 | F40: =H40+J40+L40 -> 328 | G40: =기초단위당!H16 -> 7068 | H40: =INT(G40*C40) -> 212 | I40: =기초단위당!I16 -> 2639 | J40: =INT(I40*C40) -> 79 | K40: =기초단위당!J16 -> 1260 | L40: =INT(K40*C40) -> 37
A41: 인 부 | C41: 0.0084 | D41: 인 | E41: =G41+I41+K41 -> 172068 | F41: =H41+J41+L41 -> 1445 | G41: =노임!D14 -> 172068 | H41: =INT(G41*C41) -> 1445 | I41: 0 | J41: =INT(I41*C41) -> 0 | K41: 0 | L41: =INT(K41*C41) -> 0
A42: 콘크리트캇타 | B42: 100/(60*0.5) | C42: 0.0333 | D42: hr | E42: =G42+I42+K42 -> 48459 | F42: =H42+J42+L42 -> 1612 | G42: =중기일람!D29 -> 35608 | H42: =INT(G42*C42) -> 1185 | I42: =중기일람!E29 -> 11391 | J42: =INT(I42*C42) -> 379 | K42: =중기일람!F29 -> 1460 | L42: =INT(K42*C42) -> 48
A43: 양수기손료 | B43: 100/30 | C43: 0.0333 | D43: hr | E43: =G43+I43+K43 -> 74 | F43: =H43+J43+L43 -> 2 | G43: 0 | H43: =INT(G43*C43) -> 0 | I43: 0 | J43: =INT(I43*C43) -> 0 | K43: 74 | L43: =INT(K43*C43) -> 2
A44: 잡재료 | B44: 노력비의 5% | C44: 0.05 | E44: =G44+I44+K44 -> 1445 | F44: =H44+J44+L44 -> 72 | G44: 0 | H44: =INT(G44*C44) -> 0 | I44: =H41 -> 1445 | J44: =INT(I44*C44) -> 72 | K44: 0 | L44: =INT(K44*C44) -> 0
A45: 계 | F45: =H45+J45+L45 -> 4048 | H45: =SUM(H39:H44) -> 2842 | J45: =SUM(J39:J44) -> 1119 | L45: =SUM(L39:L44) -> 87
E46: =E38+1 -> 11 | F46: 콘크리트포장(레미콘:인력, t=0.20) | K46: 1 ㎡
A47: 레미콘 | B47: 25-21-80 | C47: 0.2 | D47: ㎥ | E47: =G47+I47+K47 -> 100500 | F47: =H47+J47+L47 -> 20100 | H47: =INT(C47*G47) -> 0 | I47: =자재!F206 -> 100500 | J47: =INT(C47*I47) -> 20100 | L47: =INT(C47*K47) -> 0
A48: 포장공 | B48: 4/100 | C48: 0.04 | D48: 인 | E48: =G48+I48+K48 -> 267989 | F48: =H48+J48+L48 -> 10719 | G48: =노임!D9 -> 267989 | H48: =INT(C48*G48) -> 10719 | J48: =INT(C48*I48) -> 0 | L48: =INT(C48*K48) -> 0
A49: 인부 | B49: 2/100 | C49: 0.02 | D49: 인 | E49: =G49+I49+K49 -> 172068 | F49: =H49+J49+L49 -> 3441 | G49: =노임!D14 -> 172068 | H49: =INT(C49*G49) -> 3441 | J49: =INT(C49*I49) -> 0 | L49: =INT(C49*K49) -> 0
A50: 와이어매쉬 | B50: #6 150×150 | C50: 1.1 | D50: ㎡ | E50: =G50+I50+K50 -> 2336 | F50: =H50+J50+L50 -> 2569 | H50: =INT(C50*G50) -> 0 | I50: =자재!F140 -> 2336 | J50: =INT(C50*I50) -> 2569 | L50: =INT(C50*K50) -> 0
A51: 결속선 | B51: #20 | C51: 0.05 | D51: kg | E51: =G51+I51+K51 -> 1215 | F51: =H51+J51+L51 -> 60 | H51: =INT(C51*G51) -> 0 | I51: =자재!F119 -> 1215 | J51: =INT(C51*I51) -> 60 | L51: =INT(C51*K51) -> 0
A52: 잡재료 | B52: 인력품의 2% | C52: 0.02 | E52: =G52+I52+K52 -> 14160 | F52: =H52+J52+L52 -> 283 | G52: 0 | H52: =INT(G52*C52) -> 0 | I52: =H49+H48 -> 14160 | J52: =INT(I52*C52) -> 283 | K52: 0 | L52: =INT(K52*C52) -> 0
A53: 계 | F53: =H53+J53+L53 -> 37172 | H53: =SUM(H47:H52) -> 14160 | J53: =SUM(J47:J52) -> 23012 | L53: =SUM(L47:L51) -> 0
E54: =E46+1 -> 12 | F54: 강관동바리(암거구조물 6개월) H= 0.0 -4.2m | J54: 1공 ㎡
A55: 강관동바리 | B55: 손율 10% | C55: 0.038 | D55: 본 | E55: =G55+I55+K55 -> 24200 | F55: =H55+J55+L55 -> 919 | G55: 0 | H55: =INT(C55*G55) -> 0 | I55: =자재!F137 -> 24200 | J55: =INT(C55*I55) -> 919 | K55: 0 | L55: =INT(C55*K55) -> 0
A56: 형틀목공 | C56: 0.07 | D56: 인 | E56: =G56+I56+K56 -> 272931 | F56: =H56+J56+L56 -> 19105 | G56: =노임!B4 -> 272931 | H56: =INT(C56*G56) -> 19105 | I56: 0 | J56: =INT(C56*I56) -> 0 | K56: 0 | L56: =INT(C56*K56) -> 0
A57: 보통인부 | C57: 0.05 | D57: 인 | E57: =G57+I57+K57 -> 172068 | F57: =H57+J57+L57 -> 8603 | G57: =노임!D14 -> 172068 | H57: =INT(C57*G57) -> 8603 | I57: 0 | J57: =INT(C57*I57) -> 0 | K57: 0 | L57: =INT(C57*K57) -> 0
A58: 잡재료 | B58: 재료비의 5% | C58: 0.05 | E58: =G58+I58+K58 -> 919 | F58: =H58+J58+L58 -> 45 | G58: 0 | H58: =INT(C58*G58) -> 0 | I58: =J55 -> 919 | J58: =INT(C58*I58) -> 45 | K58: 0 | L58: =INT(C58*K58) -> 0
A59: 운반비 | B59: 0.038*17/1000 | C59: 0.00064 | D59: ton | E59: =G59+I59+K59 -> 32287 | F59: =H59+J59+L59 -> 20 | G59: =자재일람!F6 -> 23708 | H59: =INT(C59*G59) -> 15 | I59: =자재일람!G6 -> 65 | J59: =INT(C59*I59) -> 0 | K59: =자재일람!H6 -> 8514 | L59: =INT(C59*K59) -> 5
A60: 계 | F60: =H60+J60+L60 -> 28692 | H60: =SUM(H55:H59) -> 27723 | J60: =SUM(J55:J59) -> 964 | L60: =SUM(L55:L59) -> 5
E61: =E54+1 -> 13 | F61: 강관비계(6개월) | J61: 1㎡
A62: 강관 | B62: 48.6㎜*2.4㎜ | C62: 0.399 | D62: m | E62: =G62+I62+K62 -> 3050 | F62: =H62+J62+L62 -> 1216 | G62: 0 | H62: =INT(C62*G62) -> 0 | I62: =자재!F159 -> 3050 | J62: =INT(C62*I62) -> 1216 | K62: 0 | L62: =INT(C62*K62) -> 0
A63: 이음철물 | C63: 0.1 | D63: 개 | E63: =G63+I63+K63 -> 830 | F63: =H63+J63+L63 -> 83 | G63: 0 | H63: =INT(C63*G63) -> 0 | I63: =자재!F160 -> 830 | J63: =INT(C63*I63) -> 83 | K63: 0 | L63: =INT(C63*K63) -> 0
A64: 조임철물 | B64: 직교,자재 | C64: 0.416 | D64: 개 | E64: =G64+I64+K64 -> 1270 | F64: =H64+J64+L64 -> 528 | G64: 0 | H64: =INT(C64*G64) -> 0 | I64: =자재!F161 -> 1270 | J64: =INT(C64*I64) -> 528 | K64: 0 | L64: =INT(C64*K64) -> 0
A65: 받침철물 | C65: 0.006 | D65: 개 | E65: =G65+I65+K65 -> 2800 | F65: =H65+J65+L65 -> 16 | G65: 0 | H65: =INT(C65*G65) -> 0 | I65: =자재!F162 -> 2800 | J65: =INT(C65*I65) -> 16 | K65: 0 | L65: =INT(C65*K65) -> 0
A66: 철물 | B66: 앙카공 | C66: 0.04 | D66: 개 | E66: =G66+I66+K66 -> 1026 | F66: =H66+J66+L66 -> 41 | G66: 0 | H66: =INT(C66*G66) -> 0 | I66: =자재!F163 -> 1026 | J66: =INT(C66*I66) -> 41 | K66: 0 | L66: =INT(C66*K66) -> 0
A67: 비계공 | C67: 0.1 | D67: 인 | E67: =G67+I67+K67 -> 279433 | F67: =H67+J67+L67 -> 27943 | G67: =노임!B12 -> 279433 | H67: =INT(C67*G67) -> 27943 | I67: 0 | J67: =INT(C67*I67) -> 0 | K67: 0 | L67: =INT(C67*K67) -> 0
A68: 기구손료 | B68: 인건비의 5% | C68: 0.05 | E68: =G68+I68+K68 -> 27943 | F68: =H68+J68+L68 -> 1397 | G68: 0 | H68: =INT(C68*G68) -> 0 | I68: 0 | J68: =INT(C68*I68) -> 0 | K68: =SUM(H62:H67) -> 27943 | L68: =INT(C68*K68) -> 1397
A69: 운반비 | B69: 0.399*2.63/1000 | C69: 0.001 | D69: ton | E69: =G69+I69+K69 -> 32287 | F69: =H69+J69+L69 -> 31 | G69: =자재일람!F6 -> 23708 | H69: =INT(C69*G69) -> 23 | I69: =자재일람!G6 -> 65 | J69: =INT(C69*I69) -> 0 | K69: =자재일람!H6 -> 8514 | L69: =INT(C69*K69) -> 8
A70: 계 | F70: =H70+J70+L70 -> 31255 | H70: =SUM(H62:H69) -> 27966 | J70: =SUM(J62:J69) -> 1884 | L70: =SUM(L62:L69) -> 1405
E71: =E61+1 -> 14 | F71: 철근(복잡구조) | J71: 1ton
A72: 가공비 | B72: 1/1.03 | C72: 0.971 | D72: ton | E72: =G72+I72+K72 -> 1163108 | F72: =H72+J72+L72 -> 1129377 | G72: =기초일람!F29 -> 1143569 | H72: =INT(C72*G72) -> 1110405 | I72: =기초일람!G29 -> 9720 | J72: =INT(C72*I72) -> 9438 | K72: =기초일람!H29 -> 9819 | L72: =INT(C72*K72) -> 9534
A73: 운반비 | C73: 1 | D73: ton | E73: =G73+I73+K73 -> 25639 | F73: =H73+J73+L73 -> 25639 | G73: =자재일람!F4 -> 25429 | H73: =INT(C73*G73) -> 25429 | I73: =자재일람!G4 -> 65 | J73: =INT(C73*I73) -> 65 | K73: =자재일람!H4 -> 145 | L73: =INT(C73*K73) -> 145
A74: 고철공제 | C74: 21 | D74: ㎏ | E74: =G74+I74+K74 -> -430 | F74: =H74+J74+L74 -> -9030 | G74: 0 | H74: =INT(C74*G74) -> 0 | I74: =자재!F143 -> -430 | J74: =INT(C74*I74) -> -9030 | K74: 0 | L74: =INT(C74*K74) -> 0
A75: 소 계 | D75: ton | F75: =SUM(F72:F74) -> 1145986 | H75: =SUM(H72:H74) -> 1135834 | J75: =SUM(J72:J74) -> 473 | L75: =SUM(L72:L74) -> 9679
A76: 계 | D76: kg | F76: =H76+J76+L76 -> 1145 | H76: =ROUNDDOWN((H75/1000),0)+1 -> 1136 | I76: 0 | J76: =ROUNDDOWN((J75/1000),0) -> 0 | L76: =ROUNDDOWN((L75/1000),0) -> 9
E77: =E71+1 -> 15 | F77: 철근(보통구조) | J77: 1ton
A78: 가공비 | B78: 1/1.03 | C78: 0.971 | D78: ton | E78: =G78+I78+K78 -> 1040393 | F78: =H78+J78+L78 -> 1010220 | G78: =기초일람!F28 -> 1032496 | H78: =INT(C78*G78) -> 1002553 | I78: =기초일람!G28 -> 7897 | J78: =INT(C78*I78) -> 7667 | K78: 0 | L78: =INT(C78*K78) -> 0
A79: 운반비 | C79: 1 | D79: ton | E79: =G79+I79+K79 -> 25639 | F79: =H79+J79+L79 -> 25639 | G79: =자재일람!F4 -> 25429 | H79: =INT(C79*G79) -> 25429 | I79: =자재일람!G4 -> 65 | J79: =INT(C79*I79) -> 65 | K79: =자재일람!H4 -> 145 | L79: =INT(C79*K79) -> 145
A80: 고철공제 | C80: 21 | D80: ㎏ | E80: =G80+I80+K80 -> -430 | F80: =H80+J80+L80 -> -9030 | G80: 0 | H80: =INT(C80*G80) -> 0 | I80: =자재!F143 -> -430 | J80: =INT(C80*I80) -> -9030 | K80: 0 | L80: =INT(C80*K80) -> 0
A81: 소 계 | D81: ton | F81: =SUM(F78:F80) -> 1026829 | H81: =SUM(H78:H80) -> 1027982 | J81: =SUM(J78:J80) -> -1298 | L81: =SUM(L78:L80) -> 145
A82: 계 | D82: kg | F82: =H82+J82+L82 -> 1027 | H82: =ROUNDDOWN((H81/1000),0)+1 -> 1028 | I82: 0 | J82: =ROUNDDOWN((J81/1000),0) -> -1 | L82: =ROUNDDOWN((L81/1000),0) -> 0
E83: =E77+1 -> 16 | F83: 합판거푸집(4회) 10㎥미만 | J83: 1㎡
A84: 재료비 | C84: 0.38 | D84: % | E84: =G84+I84+K84 -> 27392 | F84: =H84+J84+L84 -> 10408 | G84: 0 | H84: =INT(C84*G84) -> 0 | I84: =기초일람!G18 -> 27392 | J84: =INT(C84*I84) -> 10408 | K84: 0 | L84: =INT(C84*K84) -> 0
A85: 노무비 | C85: 1 | D85: ㎡ | E85: =G85+I85+K85 -> 57730 | F85: =H85+J85+L85 -> 57730 | G85: =기초일람!F20 -> 57730 | H85: =INT(C85*G85) -> 57730 | I85: 0 | J85: =INT(C85*I85) -> 0 | K85: 0 | L85: =INT(C85*K85) -> 0
A86: 운반비 | C86: 0.019 | D86: ㎥ | E86: =G86+I86+K86 -> 17543 | F86: =H86+J86+L86 -> 331 | G86: =자재일람!F5 -> 11668 | H86: =INT(C86*G86) -> 221 | I86: =자재일람!G5 -> 38 | J86: =INT(C86*I86) -> 0 | K86: =자재일람!H5 -> 5837 | L86: =INT(C86*K86) -> 110
A87: 계 | F87: =H87+J87+L87 -> 68469 | H87: =SUM(H84:H86) -> 57951 | J87: =SUM(J84:J86) -> 10408 | L87: =SUM(L84:L86) -> 110
E88: =E83+1 -> 17 | F88: 합판거푸집(4회) H=0-7M 10㎥이상 | J88: 1㎡
A89: 재료비 | C89: 0.38 | D89: % | E89: =G89+I89+K89 -> 27392 | F89: =H89+J89+L89 -> 10408 | G89: 0 | H89: =INT(C89*G89) -> 0 | I89: =기초일람!G18 -> 27392 | J89: =INT(C89*I89) -> 10408 | K89: 0 | L89: =INT(C89*K89) -> 0
A90: 노무비 | C90: 1 | D90: ㎡ | E90: =G90+I90+K90 -> 35184 | F90: =H90+J90+L90 -> 35184 | G90: =기초일람!F19 -> 35184 | H90: =INT(C90*G90) -> 35184 | I90: 0 | J90: =INT(C90*I90) -> 0 | K90: 0 | L90: =INT(C90*K90) -> 0
A91: 운반비 | C91: 0.019 | D91: ㎥ | E91: =G91+I91+K91 -> 17543 | F91: =H91+J91+L91 -> 331 | G91: =자재일람!F5 -> 11668 | H91: =INT(C91*G91) -> 221 | I91: =자재일람!G5 -> 38 | J91: =INT(C91*I91) -> 0 | K91: =자재일람!H5 -> 5837 | L91: =INT(C91*K91) -> 110
A92: 계 | F92: =H92+J92+L92 -> 45923 | H92: =SUM(H89:H91) -> 35405 | J92: =SUM(J89:J91) -> 10408 | L92: =SUM(L89:L91) -> 110
E93: =E88+1 -> 18 | F93: 합판거푸집(6회) 10㎥ 이상 | J93: 1㎡
A94: 재료비 | C94: 0.327 | D94: % | E94: =G94+I94+K94 -> 27392 | F94: =H94+J94+L94 -> 8957 | G94: 0 | H94: =INT(C94*G94) -> 0 | I94: =기초일람!G18 -> 27392 | J94: =INT(C94*I94) -> 8957 | K94: 0 | L94: =INT(C94*K94) -> 0
A95: 노무비 | C95: 1 | D95: ㎡ | E95: =G95+I95+K95 -> 35184 | F95: =H95+J95+L95 -> 35184 | G95: =기초일람!F19 -> 35184 | H95: =INT(C95*G95) -> 35184 | I95: 0 | J95: =INT(C95*I95) -> 0 | K95: 0 | L95: =INT(C95*K95) -> 0
A96: 운반비 | C96: 0.016 | D96: ㎥ | E96: =G96+I96+K96 -> 17543 | F96: =H96+J96+L96 -> 279 | G96: =자재일람!F5 -> 11668 | H96: =INT(C96*G96) -> 186 | I96: =자재일람!G5 -> 38 | J96: =INT(C96*I96) -> 0 | K96: =자재일람!H5 -> 5837 | L96: =INT(C96*K96) -> 93
A97: 계 | F97: =H97+J97+L97 -> 44420 | H97: =SUM(H94:H96) -> 35370 | J97: =SUM(J94:J96) -> 8957 | L97: =SUM(L94:L96) -> 93
E98: =E93+1 -> 19 | F98: 합판거푸집(6회) 10㎥ 미만 | J98: 1㎡
A99: 재료비 | C99: 0.327 | D99: % | E99: =G99+I99+K99 -> 27392 | F99: =H99+J99+L99 -> 8957 | G99: 0 | H99: =INT(C99*G99) -> 0 | I99: =I94 -> 27392 | J99: =INT(C99*I99) -> 8957 | K99: 0 | L99: =INT(C99*K99) -> 0
A100: 노무비 | C100: 1 | D100: ㎡ | E100: =G100+I100+K100 -> 57730 | F100: =H100+J100+L100 -> 57730 | G100: =G85 -> 57730 | H100: =INT(C100*G100) -> 57730 | I100: 0 | J100: =INT(C100*I100) -> 0 | K100: 0 | L100: =INT(C100*K100) -> 0
...

Sheet 단가산출
B1: 단가산출
B3: 산 출 근 거 | C3: 합 계 | D3: 노무비 | E3: 재료비 | F3: 경 비 | CX3: 합 계 | CY3: 노무비 | CZ3: 재료비 | DA3: 경 비
B4: 19.아스팔트 포장 절삭후 아스팔트 덧씌우기 (C-Type (1회절삭,1회포장)) [㎡] | CX4: =CX106 -> 5597 | CY4: =CY106 -> 3,032 | CZ4: =CZ106 -> 1,108 | DA4: =DA106 -> 1,457
E6: < 2024년 품셈개정. 유지보수 2-1-3 >
E8: ※ | H8: 밀링깊이 | Q8: 70 | S8: mm | V8: 이하 | AA8: 1 | AB8: 회절삭후 | AJ8: , | AL8: 1 | AM8: 회 | AP8: 재포장하는 | BA8: 기준
H9: C | I9: - | J9: Type | O9: : | Q9: 평면교차로 | AB9: 등으로 | AI9: 인해 | AN9: 시공구간이 | AY9: 단절되어 | BH9: 작업위치 | BQ9: 이동을 | BX9: 위한
Q10: 장비의 | X10: 운반이 | AE10: 발생되는 | AN10: 경우
E12: ※ | H12: 1 | I12: 일 | L12: 시공량 | S12: : | U12: Qd | X12: = | Z12: =TEXT(1800,"#,##0.#######") -> 1,800. | AE12: ㎡ | AG12: / | AH12: 일
H13: 시간당 | O13: 시공량 | V13: : | X13: Q | Z13: = | AB13: Qd | AE13: ÷ | AH13: =TEXT(8,"#,##0.#######") -> 8. | AI13: hr | AL13: = | AN13: =TEXT(Z12,"#,##0.#######") -> 1,800. | AT13: ÷ | AW13: =TEXT(AH13,"#,##0.#######") -> 8. | AY13: = | BB13: =TEXT(ROUND(Z12/AH13,2),"#,##0.#######") -> 225. | BH13: ㎡ | BJ13: / | BK13: hr
D15: 1. | G15: 배치인원
G17: 포 장 공 | R17: : | T17: =TEXT([9]노임단가!F12,"#,##0") -> 267,989 | AD17: × | AG17: =TEXT(4,"#,##0.#######") -> 4. | AJ17: 인 | AM17: ÷ | AP17: Qd | AS17: = | AU17: =TEXT(T17,"#,##0.#######") -> 267,989. | BC17: × | BF17: =TEXT(AG17,"#,##0.#######") -> 4. | BH17: ÷ | BK17: =TEXT(Z12,"#,##0.#######") -> 1,800. | BQ17: = | BS17: =TEXT(TRUNC(T17*AG17/Z12,1),"#,##0.#######") -> 595.5
G19: 보통인부 | R19: : | T19: =TEXT([9]노임단가!F4,"#,##0") -> 169,804 | AD19: × | AG19: =TEXT(2,"#,##0.#######") -> 2. | AJ19: 인 | AM19: ÷ | AP19: Qd | AS19: = | AU19: =TEXT(T19,"#,##0.#######") -> 169,804. | BC19: × | BF19: =TEXT(AG19,"#,##0.#######") -> 2. | BH19: ÷ | BK19: =TEXT(Z12,"#,##0.#######") -> 1,800. | BQ19: = | BS19: =TEXT(TRUNC(T19*AG19/Z12,1),"#,##0.#######") -> 188.6
G21: 인부소계 | P21: : | R21: =TEXT(TRUNC(BS17+BS19,1),"#,##0.#######") -> 784.1 | CY21: =R21 -> 784.1
D23: 2. | G23: 재료비 | N23: ( | O23: 팁 | Q23: ( | R23: 날 | T23: ) | V23: 소모량 | AB23: )
G25: 1 | H25: ㎥당 | M25: 0.69 | Q25: 개소모 | W25: , | Y25: 밀링깊이 | AH25: 70 | AJ25: mm기준시 | AS25: 1 | AT25: ㎥는 | AY25: 14.28 | BD25: ㎡임
G27: 팁(날) | O27: (노면파쇄기용) | AF27: =TEXT([9]자재단가!R14,"#,##0.#######") -> 6,000. | AN27: × | AQ27: =TEXT(0.69,"#,##0.#######") -> 0.69 | AU27: 개 | AX27: ÷ | BA27: =TEXT(14.28,"#,##0.#######") -> 14.28 | BF27: ㎡ | BI27: = | BK27: =TEXT(TRUNC(AF27*AQ27/BA27,1),"#,##0.#") -> 289.9 | CX27: =CY27+CZ27+DA27 -> 289.9 | CZ27: =BK27 -> 289.9
D29: 3. | G29: 기계경비
E31: 가 | G31: . | I31: 노면파쇄기 | V31: (2.0m)
G33: 노무비 | N33: : | Q33: =TEXT([9]기계경비총괄표!G15,"#,##0") -> 57,077 | Z33: ÷ | AC33: =TEXT(BB13,"#,##0.#######") -> 225. | AI33: = | AL33: =TEXT(TRUNC(Q33/BB13,1),"#,##0.#") -> 253.6
G34: 재료비 | N34: : | Q34: =TEXT([9]기계경비총괄표!H15,"#,##0") -> 77,087 | Z34: ÷ | AC34: =TEXT(BB13,"#,##0.#######") -> 225. | AI34: = | AL34: =TEXT(TRUNC(Q34/BB13,1),"#,##0.#") -> 342.6
G35: 경 | K35: 비 | N35: : | P35: =TEXT([9]기계경비총괄표!I15,"#,##0") -> 170,620 | Z35: ÷ | AC35: =TEXT(BB13,"#,##0.#######") -> 225. | AI35: = | AL35: =TEXT(TRUNC(P35/BB13,1),"#,##0.#") -> 758.3
G36: 소 | K36: 계 | N36: : | AF36: =TEXT(AL33+AL34+AL35,"#,##0.#######") -> 1,354.5 | CX36: =CY36+CZ36+DA36 -> 1354.5 | CY36: =TEXT(AL33,"#,###.0") -> 253.6 | CZ36: =TEXT(AL34,"#,###.0") -> 342.6 | DA36: =TEXT(AL35,"#,###.0") -> 758.3
E38: 나 | G38: . | I38: 로우더(타이어)+소형노면파쇄기 | AN38: (0.95㎥)
G40: 노무비 | N40: : | P40: =TEXT([9]기계경비총괄표!G16,"#,##0") -> 57,077 | Y40: ÷ | AB40: =TEXT(BB13,"#,##0.#######") -> 225. | AH40: = | AJ40: =TEXT(TRUNC(P40/BB13,1),"#,##0.#") -> 253.6
G41: 재료비 | N41: : | P41: =TEXT([9]기계경비총괄표!H16,"#,##0") -> 11,258 | Y41: ÷ | AB41: =TEXT(BB13,"#,##0.#######") -> 225. | AH41: = | AK41: =TEXT(TRUNC(P41/BB13,1),"#,##0.#") -> 50.
G42: 경 | K42: 비 | N42: : | P42: =TEXT([9]기계경비총괄표!I16,"#,##0") -> 20,711 | Y42: ÷ | AB42: =TEXT(BB13,"#,##0.#######") -> 225. | AH42: = | AK42: =TEXT(TRUNC(P42/BB13,1),"#,##0.#") -> 92.
G43: 소 | K43: 계 | N43: : | AF43: =TEXT(AJ40+AK41+AK42,"#,##0.#######") -> 395.6 | CX43: =CY43+CZ43+DA43 -> 395.6 | CY43: =TEXT(AJ40,"#,###.0") -> 253.6 | CZ43: =TEXT(AK41,"#,###.0") -> 50.0 | DA43: =TEXT(AK42,"#,###.0") -> 92.0
E45: 다 | G45: . | I45: 로우더(타이어) | Z45: (0.57㎥)
G47: 노무비 | N47: : | P47: =TEXT([9]기계경비총괄표!G17,"#,##0") -> 57,077 | Y47: ÷ | AB47: =TEXT(BB13,"#,##0.#######") -> 225. | AH47: = | AJ47: =TEXT(TRUNC(P47/BB13,1),"#,##0.#") -> 253.6
G48: 재료비 | N48: : | Q48: =TEXT([9]기계경비총괄표!H17,"#,##0") -> 6,355 | Y48: ÷ | AB48: =TEXT(BB13,"#,##0.#######") -> 225. | AH48: = | AK48: =TEXT(TRUNC(Q48/BB13,1),"#,##0.#") -> 28.2
G49: 경 | K49: 비 | N49: : | Q49: =TEXT([9]기계경비총괄표!I17,"#,##0") -> 7,237 | Y49: ÷ | AB49: =TEXT(BB13,"#,##0.#######") -> 225. | AH49: = | AK49: =TEXT(TRUNC(Q49/BB13,1),"#,##0.#") -> 32.1
G50: 소 | K50: 계 | N50: : | AF50: =TEXT(AJ47+AK48+AK49,"#,##0.#######") -> 313.9 | CX50: =CY50+CZ50+DA50 -> 313.9 | CY50: =TEXT(AJ47,"#,###.0") -> 253.6 | CZ50: =TEXT(AK48,"#,###.0") -> 28.2 | DA50: =TEXT(AK49,"#,###.0") -> 32.1
E52: 라 | G52: . | I52: 아스팔트페이버(피니셔) | AH52: (3.0m)
G54: 노무비 | N54: : | P54: =TEXT([9]기계경비총괄표!G18,"#,##0") -> 57,077 | Y54: ÷ | AB54: =TEXT(BB13,"#,##0.#######") -> 225. | AH54: = | AJ54: =TEXT(TRUNC(P54/BB13,1),"#,##0.#") -> 253.6
G55: 재료비 | N55: : | P55: =TEXT([9]기계경비총괄표!H18,"#,##0") -> 17,540 | Y55: ÷ | AB55: =TEXT(BB13,"#,##0.#######") -> 225. | AH55: = | AK55: =TEXT(TRUNC(P55/BB13,1),"#,##0.#") -> 77.9
G56: 경 | K56: 비 | N56: : | P56: =TEXT([9]기계경비총괄표!I18,"#,##0") -> 55,623 | Y56: ÷ | AB56: =TEXT(BB13,"#,##0.#######") -> 225. | AH56: = | AJ56: =TEXT(TRUNC(P56/BB13,1),"#,##0.#") -> 247.2
G57: 소 | K57: 계 | N57: : | AF57: =TEXT(AJ54+AK55+AJ56,"#,##0.#######") -> 578.7 | CX57: =CY57+CZ57+DA57 -> 578.7 | CY57: =TEXT(AJ54,"#,###.0") -> 253.6 | CZ57: =TEXT(AK55,"#,###.0") -> 77.9 | DA57: =TEXT(AJ56,"#,###.0") -> 247.2
E59: 마 | G59: . | I59: 머캐덤로울러(자주식) | AF59: (10~12Ton)
G61: 노무비 | N61: : | P61: =TEXT([9]기계경비총괄표!G19,"#,##0") -> 57,077 | Y61: ÷ | AB61: =TEXT(BB13,"#,##0.#######") -> 225. | AH61: = | AJ61: =TEXT(TRUNC(P61/BB13,1),"#,##0.#") -> 253.6
G62: 재료비 | N62: : | P62: =TEXT([9]기계경비총괄표!H19,"#,##0") -> 13,838 | Y62: ÷ | AB62: =TEXT(BB13,"#,##0.#######") -> 225. | AH62: = | AK62: =TEXT(TRUNC(P62/BB13,1),"#,##0.#") -> 61.5
G63: 경 | K63: 비 | N63: : | P63: =TEXT([9]기계경비총괄표!I19,"#,##0") -> 12,390 | Y63: ÷ | AB63: =TEXT(BB13,"#,##0.#######") -> 225. | AH63: = | AK63: =TEXT(TRUNC(P63/BB13,1),"#,##0.#") -> 55.
G64: 소 | K64: 계 | N64: : | AF64: =TEXT(AJ61+AK62+AK63,"#,##0.#######") -> 370.1 | CX64: =CY64+CZ64+DA64 -> 370.1 | CY64: =TEXT(AJ61,"#,###.0") -> 253.6 | CZ64: =TEXT(AK62,"#,###.0") -> 61.5 | DA64: =TEXT(AK63,"#,###.0") -> 55.0
E66: 바 | G66: . | I66: 타이어로울러(자주식) | AF66: (8~15Ton)
G68: 노무비 | N68: : | P68: =TEXT([9]기계경비총괄표!G20,"#,##0") -> 57,077 | Y68: ÷ | AB68: =TEXT(BB13,"#,##0.#######") -> 225. | AH68: = | AJ68: =TEXT(TRUNC(P68/BB13,1),"#,##0.#") -> 253.6
G69: 재료비 | N69: : | P69: =TEXT([9]기계경비총괄표!H20,"#,##0") -> 12,408 | Y69: ÷ | AB69: =TEXT(BB13,"#,##0.#######") -> 225. | AH69: = | AK69: =TEXT(TRUNC(P69/BB13,1),"#,##0.#") -> 55.1
G70: 경 | K70: 비 | N70: : | P70: =TEXT([9]기계경비총괄표!I20,"#,##0") -> 18,511 | Y70: ÷ | AB70: =TEXT(BB13,"#,##0.#######") -> 225. | AH70: = | AK70: =TEXT(TRUNC(P70/BB13,1),"#,##0.#") -> 82.2
G71: 소 | K71: 계 | N71: : | AF71: =TEXT(AJ68+AK69+AK70,"#,##0.#######") -> 390.9 | CX71: =CY71+CZ71+DA71 -> 390.9 | CY71: =TEXT(AJ68,"#,###.0") -> 253.6 | CZ71: =TEXT(AK69,"#,###.0") -> 55.1 | DA71: =TEXT(AK70,"#,###.0") -> 82.2
E73: 사 | G73: . | I73: 탠덤로울러(자주식) | AD73: (5~8Ton)
G75: 노무비 | N75: : | P75: =TEXT([9]기계경비총괄표!G21,"#,##0") -> 57,077 | Y75: ÷ | AB75: =TEXT(BB13,"#,##0.#######") -> 225. | AH75: = | AJ75: =TEXT(TRUNC(P75/BB13,1),"#,##0.#") -> 253.6
G76: 재료비 | N76: : | Q76: =TEXT([9]기계경비총괄표!H21,"#,##0") -> 7,439 | Y76: ÷ | AB76: =TEXT(BB13,"#,##0.#######") -> 225. | AH76: = | AJ76: =TEXT(TRUNC(Q76/BB13,1),"#,##0.#") -> 33.
G77: 경 | K77: 비 | N77: : | Q77: =TEXT([9]기계경비총괄표!I21,"#,##0") -> 8,709 | Y77: ÷ | AB77: =TEXT(BB13,"#,##0.#######") -> 225. | AH77: = | AJ77: =TEXT(TRUNC(Q77/BB13,1),"#,##0.#") -> 38.7
G78: 소 | K78: 계 | N78: : | AF78: =TEXT(AJ75+AJ76+AJ77,"#,##0.#######") -> 325.3 | CX78: =CY78+CZ78+DA78 -> 325.3 | CY78: =TEXT(AJ75,"#,###.0") -> 253.6 | CZ78: =TEXT(AJ76,"#,###.0") -> 33.0 | DA78: =TEXT(AJ77,"#,###.0") -> 38.7
E80: 아 | G80: . | I80: 아스팔트디스트리뷰터 | AF80: (3800ℓ)
G82: 노무비 | N82: : | P82: =TEXT([9]기계경비총괄표!G22,"#,##0") -> 57,077 | Y82: ÷ | AB82: =TEXT(BB13,"#,##0.#######") -> 225. | AH82: = | AJ82: =TEXT(TRUNC(P82/BB13,1),"#,##0.#") -> 253.6
G83: 재료비 | N83: : | P83: =TEXT([9]기계경비총괄표!H22,"#,##0") -> 17,181 | Y83: ÷ | AB83: =TEXT(BB13,"#,##0.#######") -> 225. | AH83: = | AJ83: =TEXT(TRUNC(P83/BB13,1),"#,##0.#") -> 76.3
G84: 경 | K84: 비 | N84: : | P84: =TEXT([9]기계경비총괄표!I22,"#,##0") -> 15,518 | Y84: ÷ | AB84: =TEXT(BB13,"#,##0.#######") -> 225. | AH84: = | AJ84: =TEXT(TRUNC(P84/BB13,1),"#,##0.#") -> 68.9
G85: 소 | K85: 계 | N85: : | AE85: =TEXT(AJ82+AJ83+AJ84,"#,##0.#######") -> 398.8 | CX85: =CY85+CZ85+DA85 -> 398.8 | CY85: =TEXT(AJ82,"#,###.0") -> 253.6 | CZ85: =TEXT(AJ83,"#,###.0") -> 76.3 | DA85: =TEXT(AJ84,"#,###.0") -> 68.9
E87: 자 | G87: . | I87: 물탱크 | R87: (16000ℓ)
G89: 노무비 | N89: : | P89: =TEXT([9]기계경비총괄표!G23,"#,##0") -> 49,479 | Y89: ÷ | AB89: =TEXT(BB13,"#,##0.#######") -> 225. | AH89: = | AJ89: =TEXT(TRUNC(P89/BB13,1),"#,##0.#") -> 219.9
G90: 재료비 | N90: : | P90: =TEXT([9]기계경비총괄표!H23,"#,##0") -> 21,146 | Y90: ÷ | AB90: =TEXT(BB13,"#,##0.#######") -> 225. | AH90: = | AJ90: =TEXT(TRUNC(P90/BB13,1),"#,##0.#") -> 93.9
G91: 경 | K91: 비 | N91: : | P91: =TEXT([9]기계경비총괄표!I23,"#,##0") -> 18,728 | Y91: ÷ | AB91: =TEXT(BB13,"#,##0.#######") -> 225. | AH91: = | AJ91: =TEXT(TRUNC(P91/BB13,1),"#,##0.#") -> 83.2
G92: 소 | K92: 계 | N92: : | AE92: =TEXT(AJ89+AJ90+AJ91,"#,##0.#######") -> 397. | CX92: =CY92+CZ92+DA92 -> 397 | CY92: =TEXT(AJ89,"#,###.0") -> 219.9 | CZ92: =TEXT(AJ90,"#,###.0") -> 93.9 | DA92: =TEXT(AJ91,"#,###.0") -> 83.2
E94: 차 | G94: . | I94: 소 | M94: 계
H96: 노무비 | O96: : | Q96: =TEXT(CY36,"#,###.##") -> 253.6 | W96: + | Y96: =TEXT(CY43,"#,###.##") -> 253.6 | AE96: + | AG96: =TEXT(CY50,"#,###.##") -> 253.6 | AM96: + | AO96: =TEXT(CY57,"#,###.##") -> 253.6 | AU96: + | AW96: =TEXT(CY64,"#,###.##") -> 253.6 | BC96: + | BE96: =TEXT(CY71,"#,###.##") -> 253.6 | BK96: + | BM96: =TEXT(CY78,"#,###.##") -> 253.6 | BS96: + | BU96: =TEXT(CY85,"#,###.##") -> 253.6 | CA96: + | CC96: =TEXT(CY92,"#,###.##") -> 219.9 | CI96: = | CL96: =TEXT(TRUNC(CY36+CY43+CY50+CY57+CY64+CY71+CY78+CY85+CY92,1),"#,##0.#") -> 2,248.7
H97: 재료비 | O97: : | Q97: =TEXT(CZ36,"#,###.##") -> 342.6 | W97: + | Y97: =TEXT(CZ43,"#,###.##") -> 50. | AB97: + | AD97: =TEXT(CZ50,"#,###.##") -> 28.2 | AI97: + | AK97: =TEXT(CZ57,"#,###.##") -> 77.9 | AP97: + | AR97: =TEXT(CZ64,"#,###.##") -> 61.5 | AW97: + | AY97: =TEXT(CZ71,"#,###.##") -> 55.1 | BD97: + | BF97: =TEXT(CZ78,"#,###.##") -> 33. | BI97: + | BK97: =TEXT(CZ85,"#,###.##") -> 76.3 | BP97: + | BR97: =TEXT(CZ92,"#,###.##") -> 93.9 | BW97: = | BZ97: =TEXT(TRUNC(CZ36+CZ43+CZ50+CZ57+CZ64+CZ71+CZ78+CZ85+CZ92,1),"#,##0.#") -> 818.5
H98: 경 | L98: 비 | O98: : | Q98: =TEXT(DA36,"#,###.##") -> 758.3 | W98: + | Y98: =TEXT(DA43,"#,###.##") -> 92. | AB98: + | AD98: =TEXT(DA50,"#,###.##") -> 32.1 | AI98: + | AK98: =TEXT(DA57,"#,###.##") -> 247.2 | AQ98: + | AS98: =TEXT(DA64,"#,###.##") -> 55. | AV98: + | AX98: =TEXT(DA71,"#,###.##") -> 82.2 | BC98: + | BE98: =TEXT(DA78,"#,###.##") -> 38.7 | BJ98: + | BL98: =TEXT(DA85,"#,###.##") -> 68.9 | BQ98: + | BS98: =TEXT(DA92,"#,###.##") -> 83.2 | BX98: = | CA98: =TEXT(TRUNC(DA36+DA43+DA50+DA57+DA64+DA71+DA78+DA85+DA92,1),"#,##0.#") -> 1,457.6
J99: 계 | O99: : | R99: =TEXT(CL96+BZ97+CA98,"#,##0.#######") -> 4,524.8 | CX99: =CY99+CZ99+DA99 -> 4524.8 | CY99: =TEXT(CL96,"#,###.0") -> 2,248.7 | CZ99: =TEXT(BZ97,"#,###.0") -> 818.5 | DA99: =TEXT(CA98,"#,###.0") -> 1,457.6
D101: 4. | G101: 합 | K101: 계
H103: 노무비 | O103: : | Q103: =TEXT(CY21,"#,###.##") -> 784.1 | W103: + | Y103: =TEXT(CY99,"#,###.##") -> 2,248.7 | AG103: = | AJ103: =TEXT(TRUNC(CY21+CY99,0),"#,##0") -> 3,032
H104: 재료비 | O104: : | Q104: =TEXT(CZ27,"#,###.##") -> 289.9 | W104: + | Y104: =TEXT(CZ99,"#,###.##") -> 818.5 | AE104: = | AH104: =TEXT(TRUNC(CZ27+CZ99,0),"#,##0") -> 1,108
H105: 경 | L105: 비 | O105: : | Q105: =TEXT(TRUNC(DA99,0),"#,##0") -> 1,457
J106: 계 | O106: : | R106: =TEXT(AJ103+AH104+Q105,"#,##0") -> 5,597 | CX106: =CY106+CZ106+DA106 -> 5597 | CY106: =TEXT(AJ103,"#,##0") -> 3,032 | CZ106: =TEXT(AH104,"#,##0") -> 1,108 | DA106: =TEXT(Q105,"#,##0") -> 1,457

Sheet 기초일람
A1: 기초단가일람
A2: 호표 | B2: 공 종 명 | C2: 원 수 | D2: 단 위 | E2: 총 액 | F2: 노 무 비 | G2: 재 료 비 | H2: 경 비
A3: 1 | B3: =기초내역!F4 -> 인력흙깎기 | C3: 1 | D3: ㎥ | E3: =SUM(F3:H3) -> 27530 | F3: =기초내역!H7 -> 27530 | G3: =기초내역!J7 -> 0 | H3: =기초내역!L7 -> 0
A4: 2 | B4: =기초내역!F8 -> 인력터파기(보통토사) | C4: 1 | D4: ㎥ | E4: =SUM(F4:H4) -> 34413 | F4: =기초내역!H11 -> 34413 | G4: =기초내역!J11 -> 0 | H4: =기초내역!L11 -> 0
A5: 3 | B5: =기초내역!F12 -> 기계터파기(소형브레이카:보통암) | C5: 1 | D5: ㎥ | E5: =SUM(F5:H5) -> 227063 | F5: =기초내역!H19 -> 211791 | G5: =기초내역!J19 -> 12412 | H5: =기초내역!L19 -> 2860
A6: 4 | B6: =기초내역!F20 -> 선별 및 집석 | C6: 1 | D6: ㎥ | E6: =SUM(F6:H6) -> 4864 | F6: =기초내역!H22 -> 2776 | G6: =기초내역!J22 -> 1051 | H6: =기초내역!L22 -> 1037
A7: 5 | B7: =기초내역!F23 -> 인력되메우기(토사) | C7: 1 | D7: ㎥ | E7: =SUM(F7:H7) -> 17206 | F7: =기초내역!H26 -> 17206 | G7: =기초내역!J26 -> 0 | H7: =기초내역!L26 -> 0
A8: 6 | B8: =기초내역!F27 -> 되메우기(토사,백호) | C8: 1 | D8: ㎥ | E8: =SUM(F8:H8) -> 1262 | F8: =기초내역!H29 -> 720 | G8: =기초내역!J29 -> 273 | H8: =기초내역!L29 -> 269
A9: 7 | B9: =기초내역!F30 -> 뒷채움(토사,백호) | C9: 1 | D9: ㎥ | E9: =SUM(F9:H9) -> 1262 | F9: =기초내역!H32 -> 720 | G9: =기초내역!J32 -> 273 | H9: =기초내역!L32 -> 269
A10: 8 | B10: =기초내역!F33 -> 성토다짐(토사:도져+양족식견인) | C10: 1 | D10: ㎥ | E10: =SUM(F10:H10) -> 394 | F10: =기초내역!H35 -> 204 | G10: =기초내역!J35 -> 92 | H10: =기초내역!L35 -> 98
A11: 9 | B11: =기초내역!F36 -> 성토다짐:95%(토사:양족식자주식) | C11: 1 | D11: ㎥ | E11: =SUM(F11:H11) -> 865 | F11: =기초내역!H38 -> 352 | G11: =기초내역!J38 -> 302 | H11: =기초내역!L38 -> 211
A12: 10 | B12: =기초내역!F39 -> 성토다짐(점토:양족식자주식) | C12: 1 | D12: ㎥ | E12: =SUM(F12:H12) -> 1622 | F12: =기초내역!H41 -> 660 | G12: =기초내역!J41 -> 567 | H12: =기초내역!L41 -> 395
A13: 11 | B13: =기초내역!F42 -> 콤펙터다짐 | C13: 1 | D13: ㎥ | E13: =SUM(F13:H13) -> 4240 | F13: =기초내역!H44 -> 3956 | G13: =기초내역!J44 -> 226 | H13: =기초내역!L44 -> 58
A14: 12 | B14: =기초내역!F45 -> 줄떼(구입) | C14: 1 | D14: ㎡ | E14: =SUM(F14:H14) -> 13363 | F14: =기초내역!H49 -> 11872 | G14: =기초내역!J49 -> 1491 | H14: =기초내역!L49 -> 0
A15: 13 | B15: =기초내역!F50 -> 평떼(구입) | C15: 1 | D15: ㎡ | E15: =SUM(F15:H15) -> 16547 | F15: =기초내역!H54 -> 11872 | G15: =기초내역!J54 -> 4675 | H15: =기초내역!L54 -> 0
A16: 14 | B16: =기초내역!F56 -> 원형거푸집(재료비) | C16: 1 | D16: ㎡ | E16: =SUM(F16:H16) -> 39825 | F16: =기초내역!H63 -> 0 | G16: =기초내역!J63 -> 39825 | H16: =기초내역!L63 -> 0
A17: 15 | B17: =기초내역!F64 -> 원형거푸집(노무비) | C17: 1 | D17: ㎡ | E17: =SUM(F17:H17) -> 241485 | F17: =기초내역!H67 -> 241485 | G17: =기초내역!J67 -> 0 | H17: =기초내역!L67 -> 0
A18: 16 | B18: =기초내역!F68 -> 합판거푸집(재료비) | C18: 1 | D18: ㎡ | E18: =SUM(F18:H18) -> 27392 | F18: =기초내역!H72 -> 0 | G18: =기초내역!J72 -> 27392 | H18: =기초내역!L72 -> 0
A19: 17 | B19: =기초내역!F73 -> 합판거푸집(노무비) | C19: 1 | D19: ㎡ | E19: =SUM(F19:H19) -> 35184 | F19: =기초내역!H76 -> 35184 | G19: =기초내역!J76 -> 0 | H19: =기초내역!L76 -> 0
A20: 17 | B20: 합판거푸집(노무비) 소규모 | C20: 1 | D20: ㎡ | E20: =SUM(F20:H20) -> 57730 | F20: =기초내역!H80 -> 57730 | G20: =기초내역!J80 -> 0 | H20: =기초내역!L80 -> 0
A21: 18 | B21: =기초내역!F81 -> 비탈규준틀 | C21: 1 | D21: 개 | E21: =SUM(F21:H21) -> 91733 | F21: =기초내역!H87 -> 88999 | G21: =기초내역!J87 -> 2734 | H21: =기초내역!L87 -> 0
A22: 19 | B22: =기초내역!F89 -> 수평규준틀(평) | C22: 1 | D22: 개 | E22: =SUM(F22:H22) -> 97416 | F22: =기초내역!H94 -> 92559 | G22: =기초내역!J94 -> 4857 | H22: =기초내역!L94 -> 0
A23: 20 | B23: =기초내역!F95 -> 수평 규준틀(귀) | C23: 1 | D23: 개 | E23: =SUM(F23:H23) -> 166828 | F23: =기초내역!H100 -> 159309 | G23: =기초내역!J100 -> 7519 | H23: =기초내역!L100 -> 0
A24: 21 | B24: =기초내역!F101 -> 조립식 가설사무실 (재료비) | C24: 1 | D24: ㎡ | E24: =SUM(F24:H24) -> 57989 | F24: =기초내역!H117 -> 0 | G24: =기초내역!J117 -> 57989 | H24: =기초내역!L117 -> 0
A25: 22 | B25: =기초내역!F119 -> 조립식 가설창고( 재료비) | C25: 1 | D25: ㎡ | E25: =SUM(F25:H25) -> 39399 | F25: =기초내역!H131 -> 0 | G25: =기초내역!J131 -> 39399 | H25: =기초내역!L131 -> 0
A26: 23 | B26: =기초내역!F132 -> 조립식 가설사무실(인건비) | C26: 1 | D26: ㎡ | E26: =SUM(F26:H26) -> 145469 | F26: =기초내역!H135 -> 145469 | G26: =기초내역!J135 -> 0 | H26: =기초내역!L135 -> 0
A27: 24 | B27: =기초내역!F136 -> 조립식 가설창고(인건비) | C27: 1 | D27: ㎡ | E27: =SUM(F27:H27) -> 109102 | F27: =기초내역!H139 -> 109102 | G27: =기초내역!J139 -> 0 | H27: =기초내역!L139 -> 0
A28: 25 | B28: =기초내역!F140 -> 철근 가공비(보통구조) | C28: 1 | D28: ton | E28: =SUM(F28:H28) -> 1048592 | F28: =기초내역!H145 -> 1032496 | G28: =기초내역!J145 -> 7897 | H28: =기초내역!L145 -> 8199
A29: 26 | B29: =기초내역!F146 -> 철근 가공비(복잡구조) | C29: 1 | D29: ton | E29: =SUM(F29:H29) -> 1163108 | F29: =기초내역!H151 -> 1143569 | G29: =기초내역!J151 -> 9720 | H29: =기초내역!L151 -> 9819
A30: 27 | B30: =기초내역!F152 -> 철근 가공비(간단구조) | C30: 1 | D30: ton | E30: =SUM(F30:H30) -> 932164 | F30: =기초내역!H157 -> 919146 | G30: =기초내역!J157 -> 6075 | H30: =기초내역!L157 -> 6943
A31: 28 | B31: =기초내역!F158 -> 철근 가공비(소형, 보통) | C31: 1 | D31: ton | E31: =SUM(F31:H31) -> 1359851 | F31: =기초내역!H163 -> 1343755 | G31: =기초내역!J163 -> 7897 | H31: =기초내역!L163 -> 8199
A32: 29 | B32: =기초내역!F164 -> 철근 가공비(소형, 복잡) | C32: 1 | D32: ton | E32: =SUM(F32:H32) -> 1489394 | F32: =기초내역!H169 -> 1469855 | G32: =기초내역!J169 -> 9720 | H32: =기초내역!L169 -> 9819
A33: 30 | B33: =기초내역!F170 -> 지수판 설치비 | C33: 1 | D33: m | E33: =SUM(F33:H33) -> 55924 | F33: =기초내역!H175 -> 54103 | G33: =기초내역!J175 -> 198 | H33: =기초내역!L175 -> 1623
A34: 31 | B34: =기초내역!F176 -> 모르터(1 : 2) | C34: 1 | D34: ㎥ | E34: =SUM(F34:H34) -> 304607 | F34: =기초내역!H181 -> 223906 | G34: =기초내역!J181 -> 71603 | H34: =기초내역!L181 -> 9098
A35: 32 | B35: =기초내역!F183 -> 모르터(1 : 3) | C35: 1 | D35: ㎥ | E35: =SUM(F35:H35) -> 290688 | F35: =기초내역!H188 -> 222149 | G35: =기초내역!J188 -> 61035 | H35: =기초내역!L188 -> 7504
A36: 33 | B36: =기초내역!F189 -> 방수모르터(1 : 3) | C36: 1 | D36: ㎥ | E36: =SUM(F36:H36) -> 330660 | F36: =기초내역!H195 -> 258721 | G36: =기초내역!J195 -> 64435 | H36: =기초내역!L195 -> 7504
A37: 34 | B37: =기초내역!F196 -> 레미콘타설(철근구조물) 기계사용 | C37: 1 | D37: ㎥ | E37: =SUM(F37:H37) -> 32335 | F37: =기초내역!H201 -> 27793 | G37: =기초내역!J201 -> 2395 | H37: =기초내역!L201 -> 2147
A38: 35 | B38: =기초내역!F202 -> 레미콘타설(무근구조물) 기계사용 | C38: 1 | D38: ㎥ | E38: =SUM(F38:H38) -> 28670 | F38: =기초내역!H207 -> 24558 | G38: =기초내역!J207 -> 2179 | H38: =기초내역!L207 -> 1933
A39: 36 | B39: =기초내역!F208 -> 레미콘타설(소형구조물) 기계사용 | C39: 1 | D39: ㎥ | E39: =SUM(F39:H39) -> 58669 | F39: =기초내역!H213 -> 45106 | G39: =기초내역!J213 -> 6937 | H39: =기초내역!L213 -> 6626
A40: 37 | B40: =기초내역!F214 -> 레미콘타설(LEAN) 10㎥이상 | C40: 1 | D40: ㎥ | E40: =SUM(F40:H40) -> 86412 | F40: =기초내역!H217 -> 86412 | G40: =기초내역!J217 -> 0 | H40: =기초내역!L217 -> 0
A41: 38 | B41: =기초내역!F218 -> 레미콘타설(LEAN) 10㎥미만 | C41: 1 | D41: ㎥ | E41: =SUM(F41:H41) -> 136194 | F41: =기초내역!H221 -> 136194 | G41: =기초내역!J221 -> 0 | H41: =기초내역!L221 -> 0
A42: 39 | B42: =기초내역!F222 -> 콘크리트다짐 10㎥미만 | C42: 1 | D42: ㎥ | E42: =SUM(F42:H42) -> 515 | F42: =기초내역!H225 -> 0 | G42: =기초내역!J225 -> 466 | H42: =기초내역!L225 -> 49
A43: 40 | B43: =기초내역!F226 -> 콘크리트다짐 10㎥이상 | C43: 1 | D43: ㎥ | E43: =SUM(F43:H43) -> 257 | F43: =기초내역!J229 -> 233 | G43: =기초내역!L229 -> 24
A44: 41 | B44: =기초내역!F230 -> PE관 부설접합(버트융착식) D=100 | C44: 1 | D44: 개소 | E44: =SUM(F44:H44) -> 55691 | F44: =기초내역!H235 -> 48427 | G44: =기초내역!J235 -> 0 | H44: =기초내역!L235 -> 7264
A45: 42 | B45: =기초내역!F236 -> PE관 부설접합(전기융착식) D=150 | C45: 1 | D45: m | E45: =SUM(F45:H45) -> 9725 | F45: =기초내역!H239 -> 9725 | G45: =기초내역!J239 -> 0 | H45: =기초내역!L239 -> 0
A46: 43 | B46: =기초내역!F240 -> PE관 부설접합(전기융착식) D=200 | C46: 1 | D46: m | E46: =SUM(F46:H46) -> 11088 | F46: =기초내역!H243 -> 11088 | G46: =기초내역!J243 -> 0 | H46: =기초내역!L243 -> 0
A47: 44 | B47: =기초내역!F244 -> PE관 부설접합(전기융착식) D=250 | C47: 1 | D47: m | E47: =SUM(F47:H47) -> 12966 | F47: =기초내역!H247 -> 12966 | G47: =기초내역!J247 -> 0 | H47: =기초내역!L247 -> 0
A48: 45 | B48: =기초내역!F248 -> PE관 부설접합(전기융착식) D=300 | C48: 1 | D48: m | E48: =SUM(F48:H48) -> 13853 | F48: =기초내역!H251 -> 13853 | G48: =기초내역!J251 -> 0 | H48: =기초내역!L251 -> 0
A49: 46 | B49: =기초내역!F252 -> PE관 부설접합(전기융착식) D=500 | C49: 1 | D49: m | E49: =SUM(F49:H49) -> 21395 | F49: =기초내역!H255 -> 21395 | G49: =기초내역!J255 -> 0 | H49: =기초내역!L255 -> 0
A50: 47 | B50: =기초내역!F256 -> 강판절단( t=3.2mm) | C50: 1 | D50: m | E50: =SUM(F50:H50) -> 1986 | F50: =기초내역!H262 -> 1800 | G50: =기초내역!J262 -> 150 | H50: =기초내역!L262 -> 36
A51: 48 | B51: =기초내역!F263 -> 강판절단( t=5.0mm) | C51: 1 | D51: m | E51: =SUM(F51:H51) -> 2418 | F51: =기초내역!H269 -> 1986 | G51: =기초내역!J269 -> 393 | H51: =기초내역!L269 -> 39
A52: 49 | B52: =기초내역!F270 -> 전기용접(fillet t=3.0mm) | C52: 1 | D52: m | E52: =SUM(F52:H52) -> 7175 | F52: =기초내역!H276 -> 6470 | G52: =기초내역!J276 -> 295 | H52: =기초내역!L276 -> 410
A53: 50 | B53: =기초내역!F277 -> 전기용접(fillet t=5.0mm) | C53: 1 | D53: m | E53: =SUM(F53:H53) -> 11878 | F53: =기초내역!H283 -> 10699 | G53: =기초내역!J283 -> 499 | H53: =기초내역!L283 -> 680
A54: 51 | B54: =기초내역!F284 -> 조합페인트칠(모르터면) 3회 | C54: 1 | D54: ㎡ | E54: =SUM(F54:H54) -> 21621 | F54: =기초내역!H292 -> 20019 | G54: =기초내역!J292 -> 1202 | H54: =기초내역!L292 -> 400
A55: 52 | B55: =기초내역!F293 -> 조합페인트칠(철재면) 2회 | C55: 1 | D55: ㎡ | E55: =SUM(F55:H55) -> 18279 | F55: =기초내역!H302 -> 16471 | G55: =기초내역!J302 -> 1479 | H55: =기초내역!L302 -> 329
A56: 53 | B56: =기초내역!F303 -> 난간 설치 (스텐레스) | C56: 1 | D56: ton | E56: =SUM(F56:H56) -> 7370612 | F56: =기초내역!H309 -> 7143907 | G56: =기초내역!J309 -> 12388 | H56: =기초내역!L309 -> 214317
A57: 54 | B57: =기초내역!F310 -> 잡철물 제작 | C57: 1 | D57: ton | E57: =SUM(F57:H57) -> 6334613 | F57: =기초내역!H321 -> 6081728 | G57: =기초내역!J321 -> 60772 | H57: =기초내역!L321 -> 192113
A58: 55 | B58: =기초내역!F322 -> 잡철물 제작 설치 | C58: 1 | D58: ton | E58: =SUM(F58:H58) -> 7946925 | F58: =기초내역!H333 -> 7635232 | G58: =기초내역!J333 -> 71269 | H58: =기초내역!L333 -> 240424
A59: 56 | B59: 유로폼 조립해체 | C59: 1 | D59: ㎡ | E59: =SUM(F59:H59) -> #REF! | F59: =기초내역!#REF! -> #REF! | G59: =기초내역!#REF! -> #REF! | H59: =기초내역!#REF! -> #REF!
A60: 57 | B60: 유로폼 재료비 | C60: 1 | D60: ㎡ | E60: =SUM(F60:H60) -> 2712 | F60: =기초내역!H349 -> 0 | G60: =기초내역!J349 -> 2712 | H60: =기초내역!L349 -> 0
A61: 58 | B61: =기초내역!F350 -> 철근구조물헐기(철근절단) | C61: 1 | D61: ㎥ | E61: =SUM(F61:H61) -> 22794 | F61: =기초내역!H357 -> 22034 | G61: =기초내역!J357 -> 705 | H61: =기초내역!L357 -> 55
A62: 59 | B62: =기초내역!F358 -> 레미콘 : 무근(인력) | C62: 1 | D62: ㎥ | E62: =SUM(F62:H62) -> 58020 | F62: =기초내역!H362 -> 57773 | G62: =기초내역!J362 -> 233 | H62: =기초내역!L362 -> 14
A63: 60 | B63: =기초내역!F363 -> 레미콘 : 소형(인력) | C63: 1 | D63: ㎥ | E63: =SUM(F63:H63) -> 116041 | F63: =기초내역!H367 -> 115546 | G63: =기초내역!J367 -> 466 | H63: =기초내역!L367 -> 29
A64: 61 | B64: =기초내역!F368 -> 레미콘 : 철근(인력) | C64: 1 | D64: ㎥ | E64: =SUM(F64:H64) -> 65067 | F64: =기초내역!H372 -> 64820 | G64: =기초내역!J372 -> 233 | H64: =기초내역!L372 -> 14
A65: 62 | B65: =기초내역!F373 -> 콘크리트타설(레미콘) 소형구조물 | C65: 1 | D65: ㎥ | E65: =SUM(F65:H65) -> 116041 | F65: =기초내역!H377 -> 115546 | G65: =기초내역!J377 -> 466 | H65: =기초내역!L377 -> 29
A66: 63 | B66: =기초내역!F378 -> 콘크리트타설(펌프차) 철근구조물 | C66: 1 | D66: ㎥ | E66: =SUM(F66:H66) -> 27469 | F66: =기초내역!H384 -> 21703 | G66: =기초내역!J384 -> 1850 | H66: =기초내역!L384 -> 3916
A67: 64 | B67: 조립식구조물설치 800B (900~1100kg) | C67: 1 | D67: 1본 | E67: =SUM(F67:H67) -> 43966 | F67: =기초내역!H390 -> 37156 | G67: =기초내역!J390 -> 2191 | H67: =기초내역!L390 -> 4619
A68: 65 | B68: 조립식구조물설치 300C (150~300kg) | C68: 1 | D68: 1본 | E68: =SUM(F68:H68) -> 21626 | F68: =기초내역!H396 -> 17593 | G68: =기초내역!J396 -> 1499 | H68: =기초내역!L396 -> 2534
A69: 66 | B69: 조립식구조물설치 400C (300~500kg) | C69: 1 | D69: 1본 | E69: =SUM(F69:H69) -> 26843 | F69: =기초내역!H402 -> 22198 | G69: =기초내역!J402 -> 1638 | H69: =기초내역!L402 -> 3007
A70: 67 | B70: 조립식구조물설치 500C (500~700kg) | C70: 1 | D70: 1본 | E70: =SUM(F70:H70) -> 33348 | F70: =기초내역!H408 -> 27773 | G70: =기초내역!J408 -> 1914 | H70: =기초내역!L408 -> 3661
A71: 68 | B71: 조립식구조물설치 600C (700~900kg) | C71: 1 | D71: 1본 | E71: =SUM(F71:H71) -> 38750 | F71: =기초내역!H414 -> 32551 | G71: =기초내역!J414 -> 2052 | H71: =기초내역!L414 -> 4147
A72: 69 | B72: 조립식구조물설치 1000C (1150~1500kg) | C72: 1 | D72: 1본 | E72: =SUM(F72:H72) -> 56128 | F72: =기초내역!H420 -> 47727 | G72: =기초내역!J420 -> 2616 | H72: =기초내역!L420 -> 5785
A73: 70 | B73: 조립식구조물설치 1200B (1500~2000kg) | C73: 1 | D73: 1본 | E73: =SUM(F73:H73) -> 73717 | F73: =기초내역!H426 -> 63081 | G73: =기초내역!J426 -> 3191 | H73: =기초내역!L426 -> 7445
A74: 71 | B74: 조립식구조물설치 1500B (2300~2500kg) | C74: 1 | D74: 1본 | E74: =SUM(F74:H74) -> 85442 | F74: =기초내역!H432 -> 73315 | G74: =기초내역!J432 -> 3574 | H74: =기초내역!L432 -> 8553
A75: 72 | B75: 조립식구조물설치 H=1.2 (1150~1500kg) | C75: 1 | D75: 1본 | E75: =SUM(F75:H75) -> 119278 | F75: =기초내역!H438 -> 100502 | G75: =기초내역!J438 -> 8084 | H75: =기초내역!L438 -> 10692
A76: 73 | B76: 조립식구조물설치 H=1.5 (1500~2000kg) | C76: 1 | D76: 1본 | E76: =SUM(F76:H76) -> 150476 | F76: =기초내역!H444 -> 126763 | G76: =기초내역!J444 -> 10211 | H76: =기초내역!L444 -> 13502
A77: 74 | B77: 조립식구조물설치 H=1.8 (2500~3000kg) | C77: 1 | D77: 1본 | E77: =SUM(F77:H77) -> 223760 | F77: =기초내역!H450 -> 188445 | G77: =기초내역!J450 -> 15210 | H77: =기초내역!L450 -> 20105
A78: 75 | B78: 조립식구조물설치 2000B (3900~4100kg) | C78: 1 | D78: 1본 | E78: =SUM(F78:H78) -> 127126 | F78: =기초내역!H456 -> 114253 | G78: =기초내역!J456 -> 5105 | H78: =기초내역!L456 -> 7768
A79: 76 | B79: 조립식구조물설치 (4000~4500kg) | C79: 1 | D79: 1본 | E79: =SUM(F79:H79) -> 299350 | F79: =기초내역!H462 -> 252387 | G79: =기초내역!J462 -> 20210 | H79: =기초내역!L462 -> 26753
A80: 77 | B80: 조립식구조물설치 (2500~3000kg) | C80: 1 | D80: 1본 | E80: =SUM(F80:H80) -> 223760 | F80: =기초내역!H468 -> 188445 | G80: =기초내역!J468 -> 15210 | H80: =기초내역!L468 -> 20105

Sheet 기초내역
A1: 기초단가내역
A2: 종 별 | B2: 재 료 | C2: 원 수 | D2: 단위 | E2: 총 액 | G2: 노 무 비 | I2: 재 료 비 | K2: 경 비
B3: 치 수 | E3: 단 가 | F3: 금 액 | G3: 단 가 | H3: 금 액 | I3: 단 가 | J3: 금 액 | K3: 단 가 | L3: 금 액
E4: 1 | F4: 인력흙깎기 | J4: 1 ㎥
A5: 흙깎기 | B5: 보통인부 | C5: 0.16 | D5: 인 | E5: =G5+I5+K5 -> 172068 | F5: =H5+J5+L5 -> 27530 | G5: =노임!D14 -> 172068 | H5: =INT(G5*C5) -> 27530 | J5: =INT(I5*C5) -> 0 | L5: =INT(K5*C5) -> 0
A6: 작업반장 | C6: 0 | D6: 인 | E6: =G6+I6+K6 -> 215907 | F6: =H6+J6+L6 -> 0 | G6: =노임!D11 -> 215907 | H6: =INT(G6*C6) -> 0 | J6: =INT(I6*C6) -> 0 | L6: =INT(K6*C6) -> 0
A7: 계 | F7: =H7+J7+L7 -> 27530 | H7: =SUM(H5:H6) -> 27530 | J7: =SUM(J5:J6) -> 0 | L7: =SUM(L5:L6) -> 0
E8: =E4+1 -> 2 | F8: 인력터파기(보통토사) | J8: 1 ㎥
A9: 보통인부 | C9: 0.2 | D9: 인 | E9: =G9+I9+K9 -> 172068 | F9: =H9+J9+L9 -> 34413 | G9: =노임!D14 -> 172068 | H9: =INT(G9*C9) -> 34413 | I9: 0 | J9: =INT(I9*C9) -> 0 | L9: =INT(K9*C9) -> 0
A10: 작업반장 | C10: 0 | D10: 인 | E10: =G10+I10+K10 -> 215907 | F10: =H10+J10+L10 -> 0 | G10: =노임!D11 -> 215907 | H10: =INT(G10*C10) -> 0 | I10: 0 | J10: =INT(I10*C10) -> 0 | L10: =INT(K10*C10) -> 0
A11: 계 | F11: =H11+J11+L11 -> 34413 | H11: =SUM(H9:H10) -> 34413 | J11: =SUM(J9:J10) -> 0 | L11: =SUM(L9:L10) -> 0
E12: =E8+1 -> 3 | F12: 기계터파기(소형브레이카:보통암) | J12: 1 ㎥
A13: 착암공 | C13: 0.58 | D13: 인 | E13: =G13+I13+K13 -> 220081 | F13: =H13+J13+L13 -> 127646 | G13: =노임!D8 -> 220081 | H13: =INT(G13*C13) -> 127646 | J13: =INT(I13*C13) -> 0 | L13: =INT(K13*C13) -> 0
A14: 보통인부 | C14: 0.29 | D14: 인 | E14: =G14+I14+K14 -> 172068 | F14: =H14+J14+L14 -> 49899 | G14: =노임!D14 -> 172068 | H14: =INT(G14*C14) -> 49899 | J14: =INT(I14*C14) -> 0 | L14: =INT(K14*C14) -> 0
A15: 공기압축기 | B15: 7.1㎥/min | C15: 0.6 | D15: hr | E15: =G15+I15+K15 -> 77886 | F15: =H15+J15+L15 -> 46731 | G15: =중기일람!D23 -> 57077 | H15: =INT(G15*C15) -> 34246 | I15: =중기일람!E23 -> 17729 | J15: =INT(I15*C15) -> 10637 | K15: =중기일람!F23 -> 3080 | L15: =INT(K15*C15) -> 1848
A16: 소형브레이카 | B16: 25kg급 | C16: 2.4 | D16: hr | E16: =G16+I16+K16 -> 374 | F16: =H16+J16+L16 -> 897 | G16: =중기일람!D26 -> 0 | H16: =INT(G16*C16) -> 0 | I16: =중기일람!E26 -> 0 | J16: =INT(I16*C16) -> 0 | K16: =중기일람!F26 -> 374 | L16: =INT(K16*C16) -> 897
A17: 호스 | B17: 19mm | C17: 2.4 | D17: hr | E17: =G17+I17+K17 -> 48 | F17: =H17+J17+L17 -> 115 | G17: =중기일람!D25 -> 0 | H17: =INT(G17*C17) -> 0 | I17: =중기일람!E25 -> 0 | J17: =INT(I17*C17) -> 0 | K17: =중기일람!F25 -> 48 | L17: =INT(K17*C17) -> 115
A18: 소비재 | B18: 노력비의 1% | C18: 0.01 | E18: =G18+I18+K18 -> 177545 | F18: =H18+J18+L18 -> 1775 | H18: =INT(G18*C18) -> 0 | I18: =SUM(H13:H14) -> 177545 | J18: =INT(I18*C18) -> 1775 | L18: =INT(K18*C18) -> 0
A19: 계 | F19: =H19+J19+L19 -> 227063 | H19: =SUM(H13:H18) -> 211791 | J19: =SUM(J13:J18) -> 12412 | L19: =SUM(L13:L18) -> 2860
E20: =E12+1 -> 4 | F20: 선별 및 집석 | J20: 1 ㎥
A21: 선별 및 집석 | B21: 백호 0.7 | C21: 1 | D21: ㎥ | E21: =G21+I21+K21 -> 4864 | F21: =H21+J21+L21 -> 4864 | G21: =기초단위당!H4 -> 2776 | H21: =INT(G21*C21) -> 2776 | I21: =기초단위당!I4 -> 1051 | J21: =INT(I21*C21) -> 1051 | K21: =기초단위당!J4 -> 1037 | L21: =INT(K21*C21) -> 1037
A22: 계 | F22: =H22+J22+L22 -> 4864 | H22: =SUM(H21) -> 2776 | J22: =SUM(J21) -> 1051 | L22: =SUM(L21) -> 1037
E23: =E20+1 -> 5 | F23: 인력되메우기(토사) | J23: 1 ㎥
A24: 보통인부 | C24: 0.1 | D24: 인 | E24: =G24+I24+K24 -> 172068 | F24: =H24+J24+L24 -> 17206 | G24: =노임!D14 -> 172068 | H24: =INT(G24*C24) -> 17206 | I24: 0 | J24: =INT(I24*C24) -> 0 | K24: 0 | L24: =INT(K24*C24) -> 0
A25: 작업반장 | C25: 0 | D25: 인 | E25: =G25+I25+K25 -> 215907 | F25: =H25+J25+L25 -> 0 | G25: =노임!D11 -> 215907 | H25: =INT(G25*C25) -> 0 | I25: 0 | J25: =INT(I25*C25) -> 0 | K25: 0 | L25: =INT(K25*C25) -> 0
A26: 계 | F26: =H26+J26+L26 -> 17206 | H26: =SUM(H24:H25) -> 17206 | J26: =SUM(J24:J25) -> 0 | L26: =SUM(L24:L25) -> 0
E27: =E23+1 -> 6 | F27: 되메우기(토사,백호) | J27: 1 ㎥
A28: 되메우기 | B28: 백호 0.7 | C28: 1 | D28: ㎥ | E28: =G28+I28+K28 -> 1262 | F28: =H28+J28+L28 -> 1262 | G28: =기초단위당!H5 -> 720 | H28: =INT(G28*C28) -> 720 | I28: =기초단위당!I5 -> 273 | J28: =INT(I28*C28) -> 273 | K28: =기초단위당!J5 -> 269 | L28: =INT(K28*C28) -> 269
A29: 계 | F29: =H29+J29+L29 -> 1262 | H29: =SUM(H28:H28) -> 720 | J29: =SUM(J28:J28) -> 273 | L29: =SUM(L28:L28) -> 269
E30: =E27+1 -> 7 | F30: 뒷채움(토사,백호) | J30: 1 ㎥
A31: 뒷채움 | B31: 백호 0.7 | C31: 1 | D31: ㎥ | E31: =G31+I31+K31 -> 1262 | F31: =H31+J31+L31 -> 1262 | G31: =기초단위당!H6 -> 720 | H31: =INT(G31*C31) -> 720 | I31: =기초단위당!I6 -> 273 | J31: =INT(I31*C31) -> 273 | K31: =기초단위당!J6 -> 269 | L31: =INT(K31*C31) -> 269
A32: 계 | F32: =H32+J32+L32 -> 1262 | H32: =SUM(H31) -> 720 | J32: =SUM(J31) -> 273 | L32: =SUM(L31) -> 269
E33: =E30+1 -> 8 | F33: 성토다짐(토사:도져+양족식견인) | J33: 1 ㎥
A34: 고르고다짐(양족식자주식로러) | C34: 1 | D34: ㎥ | E34: =G34+I34+K34 -> 394 | F34: =H34+J34+L34 -> 394 | G34: =기초단위당!H7 -> 204 | H34: =INT(G34*C34) -> 204 | I34: =기초단위당!I7 -> 92 | J34: =INT(I34*C34) -> 92 | K34: =기초단위당!J7 -> 98 | L34: =INT(K34*C34) -> 98
A35: 계 | F35: =H35+J35+L35 -> 394 | H35: =SUM(H34) -> 204 | J35: =SUM(J34) -> 92 | L35: =SUM(L34) -> 98
E36: =E33+1 -> 9 | F36: 성토다짐:95%(토사:양족식자주식) | J36: 1 ㎥
A37: 고르고다짐(95%) | C37: 1 | D37: ㎥ | E37: =G37+I37+K37 -> 865 | F37: =H37+J37+L37 -> 865 | G37: =기초단위당!H8 -> 352 | H37: =INT(G37*C37) -> 352 | I37: =기초단위당!I8 -> 302 | J37: =INT(I37*C37) -> 302 | K37: =기초단위당!J8 -> 211 | L37: =INT(K37*C37) -> 211
A38: 계 | F38: =H38+J38+L38 -> 865 | H38: =SUM(H37) -> 352 | J38: =SUM(J37) -> 302 | L38: =SUM(L37) -> 211
E39: =E36+1 -> 10 | F39: 성토다짐(점토:양족식자주식) | J39: 1 ㎥
A40: 고르고다짐(양족식자주식로러) | C40: 1 | D40: ㎥ | E40: =G40+I40+K40 -> 1622 | F40: =H40+J40+L40 -> 1622 | G40: =기초단위당!H9 -> 660 | H40: =INT(G40*C40) -> 660 | I40: =기초단위당!I9 -> 567 | J40: =INT(I40*C40) -> 567 | K40: =기초단위당!J9 -> 395 | L40: =INT(K40*C40) -> 395
A41: 계 | F41: =H41+J41+L41 -> 1622 | H41: =SUM(H40) -> 660 | J41: =SUM(J40) -> 567 | L41: =SUM(L40) -> 395
E42: =E39+1 -> 11 | F42: 콤펙터다짐 | J42: 1 ㎥
A43: 콤펙터 다짐 | C43: 1 | D43: ㎥ | E43: =G43+I43+K43 -> 4240 | F43: =H43+J43+L43 -> 4240 | G43: =기초단위당!H10 -> 3956 | H43: =INT(G43*C43) -> 3956 | I43: =기초단위당!I10 -> 226 | J43: =INT(I43*C43) -> 226 | K43: =기초단위당!J10 -> 58 | L43: =INT(K43*C43) -> 58
A44: 계 | F44: =H44+J44+L44 -> 4240 | H44: =SUM(H43) -> 3956 | J44: =SUM(J43) -> 226 | L44: =SUM(L43) -> 58
E45: =E42+1 -> 12 | F45: 줄떼(구입) | J45: 1 ㎡
A46: 줄떼 | B46: 11/3 * 1.1 | C46: 4.03 | D46: 매 | E46: =G46+I46+K46 -> 370 | F46: =H46+J46+L46 -> 1491 | G46: 0 | H46: =INT(G46*C46) -> 0 | I46: =자재!F247 -> 370 | J46: =INT(I46*C46) -> 1491 | K46: 0 | L46: =INT(K46*C46) -> 0
A47: 떼붙임 | B47: 인부 | C47: 0.069 | D47: 인 | E47: =G47+I47+K47 -> 172068 | F47: =H47+J47+L47 -> 11872 | G47: =노임!D14 -> 172068 | H47: =INT(G47*C47) -> 11872 | I47: 0 | J47: =INT(I47*C47) -> 0 | K47: 0 | L47: =INT(K47*C47) -> 0
A48: 작업반장 | C48: 0 | D48: 인 | E48: =G48+I48+K48 -> 215907 | F48: =H48+J48+L48 -> 0 | G48: =노임!D11 -> 215907 | H48: =INT(G48*C48) -> 0 | I48: 0 | J48: =INT(I48*C48) -> 0 | K48: 0 | L48: =INT(K48*C48) -> 0
A49: 계 | F49: =H49+J49+L49 -> 13363 | H49: =SUM(H46:H48) -> 11872 | J49: =SUM(J46:J48) -> 1491 | L49: =SUM(L46:L48) -> 0
E50: =E45+1 -> 13 | F50: 평떼(구입) | J50: 1 ㎡
A51: 평떼 | B51: 11 * 1.1 | C51: 12.1 | D51: 매 | E51: =G51+I51+K51 -> 370 | F51: =H51+J51+L51 -> 4477 | G51: 0 | H51: =INT(G51*C51) -> 0 | I51: =자재!F247 -> 370 | J51: =INT(I51*C51) -> 4477 | K51: 0 | L51: =INT(K51*C51) -> 0
A52: 떼붙임 | B52: 인부 | C52: 0.069 | D52: 인 | E52: =G52+I52+K52 -> 172068 | F52: =H52+J52+L52 -> 11872 | G52: =노임!D14 -> 172068 | H52: =INT(G52*C52) -> 11872 | I52: 0 | J52: =INT(I52*C52) -> 0 | K52: 0 | L52: =INT(K52*C52) -> 0
A53: 꼬치 | C53: 22 | D53: 본 | E53: =G53+I53+K53 -> 9 | F53: =H53+J53+L53 -> 198 | G53: 0 | H53: =INT(G53*C53) -> 0 | I53: =자재!F14 -> 9 | J53: =INT(I53*C53) -> 198 | K53: 0 | L53: =INT(K53*C53) -> 0
A54: 계 | F54: =H54+J54+L54 -> 16547 | H54: =SUM(H51:H53) -> 11872 | J54: =SUM(J51:J53) -> 4675 | L54: =SUM(L51:L53) -> 0
E56: =E50+1 -> 14 | F56: 원형거푸집(재료비) | J56: 1 ㎡
A57: 판재 | B57: 0.05 * 77% | C57: 0.0385 | D57: ㎥ | E57: =G57+I57+K57 -> 483803 | F57: =H57+J57+L57 -> 18626 | G57: 0 | H57: =INT(G57*C57) -> 0 | I57: =자재!F10 -> 483803 | J57: =INT(I57*C57) -> 18626 | K57: 0 | L57: =INT(K57*C57) -> 0
A58: 각재 | B58: 0.053 * 77% | C58: 0.0408 | D58: ㎥ | E58: =G58+I58+K58 -> 439299 | F58: =H58+J58+L58 -> 17923 | G58: 0 | H58: =INT(G58*C58) -> 0 | I58: =자재!F7 -> 439299 | J58: =INT(I58*C58) -> 17923 | K58: 0 | L58: =INT(K58*C58) -> 0
A59: 합판 | B59: 3.2 mm | C59: 1.03 | D59: ㎡ | E59: =G59+I59+K59 -> 2532 | F59: =H59+J59+L59 -> 2607 | G59: 0 | H59: =INT(G59*C59) -> 0 | I59: =자재!F15 -> 2532 | J59: =INT(I59*C59) -> 2607 | K59: 0 | L59: =INT(K59*C59) -> 0
A60: 철선 | B60: # 8 | C60: 0.29 | D60: kg | E60: =G60+I60+K60 -> 946 | F60: =H60+J60+L60 -> 274 | G60: 0 | H60: =INT(G60*C60) -> 0 | I60: =자재!F120 -> 946 | J60: =INT(I60*C60) -> 274 | K60: 0 | L60: =INT(K60*C60) -> 0
A61: 못 | B61: N 50 | C61: 0.25 | D61: kg | E61: =G61+I61+K61 -> 861 | F61: =H61+J61+L61 -> 215 | G61: 0 | H61: =INT(G61*C61) -> 0 | I61: =자재!F182 -> 861 | J61: =INT(I61*C61) -> 215 | K61: 0 | L61: =INT(K61*C61) -> 0
A62: 박리제 | B62: 중유 | C62: 0.19 | D62: ℓ | E62: =G62+I62+K62 -> 950 | F62: =H62+J62+L62 -> 180 | G62: 0 | H62: =INT(G62*C62) -> 0 | I62: =자재!F20 -> 950 | J62: =INT(I62*C62) -> 180 | K62: 0 | L62: =INT(K62*C62) -> 0
A63: 계 | F63: =H63+J63+L63 -> 39825 | H63: =SUM(H57:H62) -> 0 | J63: =SUM(J57:J62) -> 39825 | L63: =SUM(L57:L62) -> 0
E64: =E56+1 -> 15 | F64: 원형거푸집(노무비) | J64: 1 ㎡
A65: 형틀목공 | C65: 0.62 | D65: 인 | E65: =G65+I65+K65 -> 272931 | F65: =H65+J65+L65 -> 169217 | G65: =노임!B4 -> 272931 | H65: =INT(G65*C65) -> 169217 | I65: 0 | J65: =INT(I65*C65) -> 0 | K65: 0 | L65: =INT(K65*C65) -> 0
A66: 보통인부 | C66: 0.42 | D66: 인 | E66: =G66+I66+K66 -> 172068 | F66: =H66+J66+L66 -> 72268 | G66: =노임!D14 -> 172068 | H66: =INT(G66*C66) -> 72268 | I66: 0 | J66: =INT(I66*C66) -> 0 | K66: 0 | L66: =INT(K66*C66) -> 0
A67: 계 | F67: =H67+J67+L67 -> 241485 | H67: =SUM(H65:H66) -> 241485 | J67: =SUM(J65:J66) -> 0 | L67: =SUM(L65:L66) -> 0
E68: =E64+1 -> 16 | F68: 합판거푸집(재료비) | J68: 1 ㎡
A69: 합판 | C69: 1.03 | D69: ㎥ | E69: =G69+I69+K69 -> 8193 | F69: =H69+J69+L69 -> 8438 | G69: 0 | H69: =INT(G69*C69) -> 0 | I69: =자재!F16 -> 8193 | J69: =INT(I69*C69) -> 8438 | K69: 0 | L69: =INT(K69*C69) -> 0
A70: 각재 | C70: 0.038 | D70: ㎥ | E70: =G70+I70+K70 -> 439299 | F70: =H70+J70+L70 -> 16693 | G70: 0 | H70: =INT(G70*C70) -> 0 | I70: =자재!F7 -> 439299 | J70: =INT(I70*C70) -> 16693 | K70: 0 | L70: =INT(K70*C70) -> 0
A71: 소모자재 | B71: 주재비의 9% | C71: 0.09 | E71: =G71+I71+K71 -> 25131 | F71: =H71+J71+L71 -> 2261 | G71: 0 | H71: =INT(G71*C71) -> 0 | I71: =J69+J70 -> 25131 | J71: =INT(I71*C71) -> 2261 | K71: 0 | L71: =INT(K71*C71) -> 0
A72: 계 | F72: =H72+J72+L72 -> 27392 | H72: =SUM(H69:H71) -> 0 | J72: =SUM(J69:J71) -> 27392 | L72: =SUM(L69:L71) -> 0
E73: =E68+1 -> 17 | F73: 합판거푸집(노무비) | J73: 1 ㎡
A74: 형틀목공 | C74: 0.11 | D74: 인 | E74: =G74+I74+K74 -> 272931 | F74: =H74+J74+L74 -> 30022 | G74: =노임!B4 -> 272931 | H74: =INT(G74*C74) -> 30022 | I74: 0 | J74: =INT(I74*C74) -> 0 | K74: 0 | L74: =INT(K74*C74) -> 0
A75: 보통인부 | C75: 0.03 | D75: 인 | E75: =G75+I75+K75 -> 172068 | F75: =H75+J75+L75 -> 5162 | G75: =노임!D14 -> 172068 | H75: =INT(G75*C75) -> 5162 | I75: 0 | J75: =INT(I75*C75) -> 0 | K75: 0 | L75: =INT(K75*C75) -> 0
A76: 계 | F76: =H76+J76+L76 -> 35184 | H76: =SUM(H74:H75) -> 35184 | J76: =SUM(J74:J75) -> 0 | L76: =SUM(L74:L75) -> 0
E77: =E72+1 -> 1 | F77: 합판거푸집(노무비) 소규모 | J77: 1 ㎡
A78: 형틀목공 | C78: 0.18 | D78: 인 | E78: =G78+I78+K78 -> 272931 | F78: =H78+J78+L78 -> 49127 | G78: =G74 -> 272931 | H78: =INT(G78*C78) -> 49127 | I78: 0 | J78: =INT(I78*C78) -> 0 | K78: 0 | L78: =INT(K78*C78) -> 0
A79: 보통인부 | C79: 0.05 | D79: 인 | E79: =G79+I79+K79 -> 172068 | F79: =H79+J79+L79 -> 8603 | G79: =G75 -> 172068 | H79: =INT(G79*C79) -> 8603 | I79: 0 | J79: =INT(I79*C79) -> 0 | K79: 0 | L79: =INT(K79*C79) -> 0
A80: 계 | F80: =H80+J80+L80 -> 57730 | H80: =SUM(H78:H79) -> 57730 | J80: =SUM(J78:J79) -> 0 | L80: =SUM(L78:L79) -> 0
E81: =E73+1 -> 18 | F81: 비탈규준틀 | J81: 1 개
A82: 판재 | B82: 0.012 * 0.12 * 3.2 | C82: 0.0023 | D82: ㎡ | E82: =G82+I82+K82 -> 483803 | F82: =H82+J82+L82 -> 1112 | G82: 0 | H82: =INT(G82*C82) -> 0 | I82: =자재!F10 -> 483803 | J82: =INT(I82*C82) -> 1112 | K82: 0 | L82: =INT(K82*C82) -> 0
A83: 말뚝 | B83: D=6cm, L=1.8m | C83: 0.0092 | D83: ㎡ | E83: =G83+I83+K83 -> 173652 | F83: =H83+J83+L83 -> 1597 | G83: 0 | H83: =INT(G83*C83) -> 0 | I83: =자재!F4 -> 173652 | J83: =INT(I83*C83) -> 1597 | K83: 0 | L83: =INT(K83*C83) -> 0
A84: 못 | B84: N 50 | C84: 0.03 | D84: kg | E84: =G84+I84+K84 -> 861 | F84: =H84+J84+L84 -> 25 | G84: 0 | H84: =INT(G84*C84) -> 0 | I84: =자재!F182 -> 861 | J84: =INT(I84*C84) -> 25 | K84: 0 | L84: =INT(K84*C84) -> 0
A85: 목공 | C85: 0.2 | D85: 인 | E85: =G85+I85+K85 -> 272931 | F85: =H85+J85+L85 -> 54586 | G85: =노임!B4 -> 272931 | H85: =INT(G85*C85) -> 54586 | I85: 0 | J85: =INT(I85*C85) -> 0 | K85: 0 | L85: =INT(K85*C85) -> 0
A86: 보통인부 | C86: 0.2 | D86: 인 | E86: =G86+I86+K86 -> 172068 | F86: =H86+J86+L86 -> 34413 | G86: =노임!D14 -> 172068 | H86: =INT(G86*C86) -> 34413 | I86: 0 | J86: =INT(I86*C86) -> 0 | K86: 0 | L86: =INT(K86*C86) -> 0
A87: 계 | F87: =H87+J87+L87 -> 91733 | H87: =SUM(H82:H86) -> 88999 | J87: =SUM(J82:J86) -> 2734 | L87: =SUM(L82:L86) -> 0
E89: =E81+1 -> 19 | F89: 수평규준틀(평) | J89: 1 개
A90: 목재 | B90: 0.014 * 80% | C90: 0.011 | D90: ㎡ | E90: =G90+I90+K90 -> 439299 | F90: =H90+J90+L90 -> 4832 | G90: 0 | H90: =INT(G90*C90) -> 0 | I90: =자재!F7 -> 439299 | J90: =INT(I90*C90) -> 4832 | K90: 0 | L90: =INT(K90*C90) -> 0
A91: 못 | B91: N 50 | C91: 0.03 | D91: kg | E91: =G91+I91+K91 -> 861 | F91: =H91+J91+L91 -> 25 | G91: 0 | H91: =INT(G91*C91) -> 0 | I91: =자재!F182 -> 861 | J91: =INT(I91*C91) -> 25 | K91: 0 | L91: =INT(K91*C91) -> 0
A92: 목공 | C92: 0.15 | D92: 인 | E92: =G92+I92+K92 -> 272931 | F92: =H92+J92+L92 -> 40939 | G92: =노임!B4 -> 272931 | H92: =INT(G92*C92) -> 40939 | I92: 0 | J92: =INT(I92*C92) -> 0 | K92: 0 | L92: =INT(K92*C92) -> 0
A93: 보통인부 | C93: 0.3 | D93: 인 | E93: =G93+I93+K93 -> 172068 | F93: =H93+J93+L93 -> 51620 | G93: =노임!D14 -> 172068 | H93: =INT(G93*C93) -> 51620 | I93: 0 | J93: =INT(I93*C93) -> 0 | K93: 0 | L93: =INT(K93*C93) -> 0
A94: 계 | F94: =H94+J94+L94 -> 97416 | H94: =SUM(H90:H93) -> 92559 | J94: =SUM(J90:J93) -> 4857 | L94: =SUM(L90:L93) -> 0
E95: =E89+1 -> 20 | F95: 수평 규준틀(귀) | J95: 1 개
A96: 목재 | B96: 0.022 * 80% | C96: 0.017 | D96: ㎡ | E96: =G96+I96+K96 -> 439299 | F96: =H96+J96+L96 -> 7468 | G96: 0 | H96: =INT(G96*C96) -> 0 | I96: =자재!F7 -> 439299 | J96: =INT(I96*C96) -> 7468 | K96: 0 | L96: =INT(K96*C96) -> 0
A97: 못 | B97: N 50 | C97: 0.06 | D97: kg | E97: =G97+I97+K97 -> 861 | F97: =H97+J97+L97 -> 51 | G97: 0 | H97: =INT(G97*C97) -> 0 | I97: =자재!F182 -> 861 | J97: =INT(I97*C97) -> 51 | K97: 0 | L97: =INT(K97*C97) -> 0
A98: 목공 | C98: 0.3 | D98: 인 | E98: =G98+I98+K98 -> 272931 | F98: =H98+J98+L98 -> 81879 | G98: =노임!B4 -> 272931 | H98: =INT(G98*C98) -> 81879 | I98: 0 | J98: =INT(I98*C98) -> 0 | K98: 0 | L98: =INT(K98*C98) -> 0
A99: 보통인부 | C99: 0.45 | D99: 인 | E99: =G99+I99+K99 -> 172068 | F99: =H99+J99+L99 -> 77430 | G99: =노임!D14 -> 172068 | H99: =INT(G99*C99) -> 77430 | I99: 0 | J99: =INT(I99*C99) -> 0 | K99: 0 | L99: =INT(K99*C99) -> 0
A100: 계 | F100: =H100+J100+L100 -> 166828 | H100: =SUM(H96:H99) -> 159309 | J100: =SUM(J96:J99) -> 7519 | L100: =SUM(L96:L99) -> 0
E101: =E95+1 -> 21 | F101: 조립식 가설사무실 (재료비) | J101: 1 ㎡
A102: BASS CHANNEL | B102: T = 2.0mm 이상 | C102: 0.44 | D102: m | E102: =G102+I102+K102 -> 3060 | F102: =H102+J102+L102 -> 1346 | G102: 0 | H102: =INT(G102*C102) -> 0 | I102: =자재!F164 -> 3060 | J102: =INT(I102*C102) -> 1346 | K102: 0 | L102: =INT(K102*C102) -> 0
...

Sheet 기초단위당
A1: 단위당중기사용료
A2: 공 종 | B2: 사용장비 | C2: 시 간 당 경 비 | F2: 시간당 작업량 | H2: 단 위 당 경 비
C3: 운전원 | D3: 재료비 | E3: 손 료 | F3: 수 량 | G3: 단위 | H3: 운전원 | I3: 재료비 | J3: 손 료 | K3: 계
A4: 선별 및 집석 | B4: 백호 0.7㎥ | C4: =중기일람!D8 -> 57077 | D4: =중기일람!E8 -> 21629 | E4: =중기일람!F8 -> 21332 | F4: =기초작업량!F5 -> 20.56 | G4: ㎥ | H4: =INT(C4/F4) -> 2776 | I4: =INT(D4/F4) -> 1051 | J4: =INT(E4/F4) -> 1037 | K4: =SUM(H4:J4) -> 4864
A5: 되메우기(토사) | B5: 백호 0.7㎥ | C5: =중기일람!D7 -> 57077 | D5: =중기일람!E7 -> 21629 | E5: =중기일람!F7 -> 21332 | F5: =기초작업량!F10 -> 79.2 | G5: ㎥ | H5: =INT(C5/F5) -> 720 | I5: =INT(D5/F5) -> 273 | J5: =INT(E5/F5) -> 269 | K5: =SUM(H5:J5) -> 1262
A6: 뒷채움(토사) | B6: 백호 0.7㎥ | C6: =중기일람!D7 -> 57077 | D6: =중기일람!E7 -> 21629 | E6: =중기일람!F7 -> 21332 | F6: =기초작업량!F15 -> 79.2 | G6: ㎥ | H6: =INT(C6/F6) -> 720 | I6: =INT(D6/F6) -> 273 | J6: =INT(E6/F6) -> 269 | K6: =SUM(H6:J6) -> 1262
A7: 성토다짐 | B7: 도져12ton+견인양족로울러 7ton | C7: =중기일람!D4 -> 57077 | D7: =중기일람!E4 -> 25884 | E7: =중기일람!F4+중기일람!F20 -> 27562 | F7: =기초작업량!F21 -> 279 | G7: ㎥ | H7: =INT(C7/F7) -> 204 | I7: =INT(D7/F7) -> 92 | J7: =INT(E7/F7) -> 98 | K7: =SUM(H7:J7) -> 394
A8: 성토다짐(95%) | B8: 자주식 양족식로울러 19ton | C8: =중기일람!D21 -> 57077 | D8: =중기일람!E21 -> 49054 | E8: =중기일람!F21 -> 34201 | F8: =기초작업량!F27 -> 162 | G8: ㎥ | H8: =INT(C8/F8) -> 352 | I8: =INT(D8/F8) -> 302 | J8: =INT(E8/F8) -> 211 | K8: =SUM(H8:J8) -> 865
A9: 점토 고르고다짐 | B9: 자주식 양족식로울러 19ton | C9: =중기일람!D21 -> 57077 | D9: =중기일람!E21 -> 49054 | E9: =중기일람!F21 -> 34201 | F9: =기초작업량!F34 -> 86.4 | G9: ㎥ | H9: =INT(C9/F9) -> 660 | I9: =INT(D9/F9) -> 567 | J9: =INT(E9/F9) -> 395 | K9: =SUM(H9:J9) -> 1622
A10: 성토 다짐(콤팩터) | B10: 플레이트콤팩터 1.5ton | C10: =중기일람!D22 -> 35608 | D10: =중기일람!E22 -> 2034 | E10: =중기일람!F22 -> 529 | F10: =기초작업량!F40 -> 9 | G10: ㎥ | H10: =INT(C10/F10) -> 3956 | I10: =INT(D10/F10) -> 226 | J10: =INT(E10/F10) -> 58 | K10: =SUM(H10:J10) -> 4240
A11: 사석투하고르기 | B11: 백호 0.7㎥ | C11: =중기일람!D8 -> 57077 | D11: =중기일람!E8 -> 21629 | E11: =중기일람!F8 -> 21332 | F11: =기초작업량!F45 -> 22.72 | G11: ㎥ | H11: =INT(C11/F11) -> 2512 | I11: =INT(D11/F11) -> 951 | J11: =INT(E11/F11) -> 938 | K11: =SUM(H11:J11) -> 4401
A12: 콘크리트다짐(10㎥미만) | B12: 진동기 | C12: 0 | D12: =중기내역!F663 -> 1864 | E12: =중기내역!F665 -> 118 | F12: =기초작업량!F65 -> 4 | G12: ㎥ | H12: =INT(C12/F12) -> 0 | I12: =INT(D12/F12) -> 466 | J12: =INT(E12/F12) -> 29 | K12: =SUM(H12:J12) -> 495
A13: 콘크리트다짐(10㎥미만) | B13: 바이브레타 | C13: 0 | D13: =중기내역!F668 -> 0 | E13: =중기내역!F667 -> 82 | F13: =기초작업량!F65 -> 4 | G13: ㎥ | H13: =INT(C13/F13) -> 0 | I13: =INT(D13/F13) -> 0 | J13: =INT(E13/F13) -> 20 | K13: =SUM(H13:J13) -> 20
A14: 콘크리트다짐(10㎥이상) | B14: 진동기 | C14: 0 | D14: =중기내역!F663 -> 1864 | E14: =중기내역!F665 -> 118 | F14: =기초작업량!F70 -> 8 | G14: ㎥ | H14: =INT(C14/F14) -> 0 | I14: =INT(D14/F14) -> 233 | J14: =INT(E14/F14) -> 14 | K14: =SUM(H14:J14) -> 247
A15: 콘크리트다짐(10㎥이상) | B15: 바이브레타 | C15: 0 | D15: 0 | E15: =중기내역!F667 -> 82 | F15: =기초작업량!F70 -> 8 | G15: ㎥ | H15: =INT(C15/F15) -> 0 | I15: =INT(D15/F15) -> 0 | J15: =INT(E15/F15) -> 10 | K15: =SUM(H15:J15) -> 10
A16: 물운반 | B16: 물탱크 5500L | C16: =중기일람!D31 -> 49479 | D16: =중기일람!E31 -> 18478 | E16: =중기일람!F31 -> 8821 | F16: =기초작업량!F75 -> 7 | G16: ton | H16: =INT(C16/F16) -> 7068 | I16: =INT(D16/F16) -> 2639 | J16: =INT(E16/F16) -> 1260 | K16: =SUM(H16:J16) -> 10967
A17: 수로 퇴적물제거 | B17: 굴삭기(무한궤도, 0.2㎥) | C17: =중기일람!D9 -> 57077 | D17: =중기일람!E9 -> 9246 | E17: =중기일람!F9 -> 12510 | F17: =[10]기초작업량!F82 -> 15.68 | G17: ton | H17: =INT(C17/F17) -> 3640 | I17: =INT(D17/F17) -> 589 | J17: =INT(E17/F17) -> 797 | K17: =SUM(H17:J17) -> 5026

Sheet 기초작업량
A1: 산출내역
B2: ◈ 선별 및 집석(백호) | E2: 백호 0.7 ㎥
C3: q = | D3: 0.7 | E3: k = | F3: 0.55 | G3: f = 1.0 / 1.12 = | I3: =ROUND((1/1.12),2) -> 0.89 | J3: E = | K3: 0.35
C4: cms = | D4: 21 | E4: 초
C5: Q = 3600 * q * k * f * E / cm = | F5: =ROUND((3600*D3*F3*I3*K3/D4)/10*10,2) -> 20.56 | G5: ㎥/hr
B7: ◈ 되메우기 (백호) | E7: 백호 0.7 ㎥
C8: q = | D8: 0.7 | E8: k = | F8: 1.1 | G8: f = 1.0 / 1.25 = | I8: =ROUND((1/1.25),2) -> 0.8 | J8: E = | K8: 0.75
C9: cms = | D9: 21 | E9: 초
C10: Q = 3600 * q * k * f * E / cm = | F10: =ROUND((3600*D8*F8*I8*K8/D9)/10*10,2) -> 79.2 | G10: ㎥/hr
B12: ◈ 뒷채움 (백호) | E12: 백호 0.7 ㎥
C13: q = | D13: 0.7 | E13: k = | F13: 1.1 | G13: f = 1.0 / 1.25 = | I13: =ROUND((1/1.25),2) -> 0.8 | J13: E = | K13: 0.75
C14: cms = | D14: 21 | E14: 초
C15: Q = 3600 * q * k * f * E / cm = | F15: =ROUND((3600*D13*F13*I13*K13/D14)/10*10,2) -> 79.2 | G15: ㎥/hr
B17: ◈ 고르고 다짐 (토사 : 도져 + 양족식 견인)
C18: 양족식 로울러 | E18: 7 ton
C19: V(다짐속도) = | E19: 4 | F19: W(로울러 유효폭) = | H19: 3.1 | I19: D(재료의 두께) = | K19: 0.3
C20: E(작업효율) = | E20: 0.6 | F20: f (토량환산 계수) = | H20: 1 | I20: N(다짐 횟수) = | K20: 8
C21: Q=1000 * V * W * D * E * f / N = | F21: =ROUND((1000*E19*H19*K19*E20*H20/K20)/10*10,2) -> 279 | G21: ㎥/hr
B23: ◈ 고르고 다짐 (95 %)
C24: 양족식 로울러 | E24: 19 ton
C25: V(다짐속도) = | E25: 4 | F25: W(로울러 유효폭) = | H25: 1.8 | I25: D(재료의 두께) = | K25: 0.3
C26: E(작업효율) = | E26: 0.6 | F26: f (토량환산 계수) = | H26: 1 | I26: N(다짐 횟수) = | K26: 8
C27: Q=1000 * V * W * D * E * f / N = | F27: =ROUND((1000*E25*H25*K25*E26*H26/K26)/10*10,2) -> 162 | G27: ㎥/hr
B29: ◈ 고르고 다짐 (양족식 자주식)
C30: 양족식 로울러 | E30: 19 ton
C31: V(다짐속도) = | E31: 4 | F31: W(로울러 유효폭) = | H31: 1.8 | I31: D(재료의 두께) = | K31: 0.2
C33: E(작업효율) = | E33: 0.6 | F33: f (토량환산 계수) = | H33: 1 | I33: N(다짐 횟수) = | K33: 10
C34: Q=1000 * V * W * D * E * f / N = | F34: =ROUND((1000*E31*H31*K31*E33*H33/K33)/10*10,2) -> 86.4 | G34: ㎥/hr
B36: ◈ 콤펙트 다짐
C37: 콤 펙 트 | E37: 1.5ton
C38: V(다짐속도) = | E38: 1 | F38: W(로울러 유효폭) = | H38: 0.45 | I38: D(재료의 두께) = | K38: 0..1
C39: E(작업효율) = | E39: 0.6 | F39: f (토량환산 계수) = | H39: 1 | I39: N(다짐 횟수) = | K39: 3
C40: Q=1000 * V * W * D * E * f / N = | F40: 9 | G40: ㎥/hr
B42: ◈ 사석 투하 고르기 | E42: 백호우 0.7 ㎥
C43: q = | D43: 0.7 | E43: k = | F43: 0.55 | G43: f = 1.000 / 1.12 = | I43: =ROUND((1/1.12),2) -> 0.89 | J43: E = | K43: 0.35
C44: cm= | D44: 19 | E44: 초
C45: Q = 3600 * q * k * f * E / cm = | F45: =ROUND((3600*D43*F43*I43*K43/D44)/10*10,2) -> 22.72 | G45: ㎥/hr
B47: ◈ 철근 구조물 콘크리트 타설
C48: 콘크리트 펌프차
C49: 작업량(q)= | D49: 20
C50: Q = q * 할증율 = | E50: =D49&"×"&"1"&"=" -> 20×1= | F50: 20 | G50: ㎥/hr
B52: ◈ 무근 구조물 콘크리트 타설
C53: 콘크리트 펌프차
C54: 작업량(q)= | D54: 22.7
C55: Q = q * 할증율 = | E55: =D54&"×"&"1"&"=" -> 22.7×1= | F55: 22.7 | G55: ㎥/hr
B57: ◈Lean콘크리트 타설
C58: 콘크리트 펌프차
C59: 작업량(q)= | D59: 22.7
C60: Q = q * 할증율 = | E60: =D59&"×"&"1"&"=" -> 22.7×1= | F60: 22.7 | G60: ㎥/hr
B62: ◈콘크리트 다짐(10㎥미만)
C63: 바이브레이타 및 진동기
C64: 작업량(q)= | D64: 4
C65: Q = q * 할증율 = | E65: =D64&"×"&"1"&"=" -> 4×1= | F65: =D64*1 -> 4 | G65: ㎥/hr
B67: ◈콘크리트 다짐(10㎥이상)
C68: 바이브레이타 및 진동기
C69: 작업량(q)= | D69: 8
C70: Q = q * 할증율 = | E70: =D69&"×"&"1"&"=" -> 8×1= | F70: =D69*1 -> 8 | G70: ㎥/hr
B72: ◈물운반
C73: 물탱크 5500L
C74: 작업량(q)= | D74: 7
C75: Q = q * 할증율 = | E75: =D74&"×"&"1"&"=" -> 7×1= | F75: =D74*1 -> 7 | G75: ton

Sheet 자재일람
A1: 자재단가일람
A2: 호 표 | B2: 공 종 명 | C2: 원 수 | D2: 단 위 | E2: 총 액 | F2: 노 무 비 | G2: 재 료 비 | H2: 경 비
A3: 1 | B3: =자재내역!F4 -> 양회 | C3: 1 | D3: ton | E3: =SUM(F3:H3) -> 115909 | F3: =자재내역!H10 -> 28870 | G3: =자재내역!J10 -> 76345 | H3: =자재내역!L10 -> 10694
A4: 2 | B4: =자재내역!F11 -> 철근 | C4: 1 | D4: ton | E4: =SUM(F4:H4) -> 25639 | F4: =자재내역!H16 -> 25429 | G4: =자재내역!J16 -> 65 | H4: =자재내역!L16 -> 145
A5: 3 | B5: =자재내역!F17 -> 목재 | C5: 1 | D5: ㎥ | E5: =SUM(F5:H5) -> 17543 | F5: =자재내역!H22 -> 11668 | G5: =자재내역!J22 -> 38 | H5: =자재내역!L22 -> 5837
A6: 4 | B6: =자재내역!F23 -> 일반철재 | C6: 1 | D6: ton | E6: =SUM(F6:H6) -> 32287 | F6: =자재내역!H28 -> 23708 | G6: =자재내역!J28 -> 65 | H6: =자재내역!L28 -> 8514
A7: 5 | B7: =자재내역!F29 -> 특수철재 | C7: 1 | D7: ton | E7: =SUM(F7:H7) -> 44348 | F7: =자재내역!H34 -> 23708 | G7: =자재내역!J34 -> 65 | H7: =자재내역!L34 -> 20575
A8: 6 | B8: =자재내역!F35 -> 모래 | C8: 1 | D8: ton | E8: =SUM(F8:H8) -> 34437 | F8: =자재내역!H40 -> 18754 | G8: =자재내역!J40 -> 14351 | H8: =자재내역!L40 -> 1332
A9: 7 | B9: =자재내역!F41 -> 자갈 | C9: 1 | D9: ton | E9: =SUM(F9:H9) -> 31042 | F9: =자재내역!H46 -> 20237 | G9: =자재내역!J46 -> 9958 | H9: =자재내역!L46 -> 847
A10: 8 | B10: =자재내역!F47 -> 혼합석(50mm) | C10: 1 | D10: ㎥ | E10: =SUM(F10:H10) -> 51445 | F10: =자재내역!H52 -> 36588 | G10: =자재내역!J52 -> 12635 | H10: =자재내역!L52 -> 2222
A11: 9 | B11: =자재내역!F53 -> 흄관운반 (D500) | C11: 1 | D11: 본 | E11: =SUM(F11:H11) -> 7558 | F11: =자재내역!H57 -> 6862 | G11: =자재내역!J57 -> 573 | H11: =자재내역!L57 -> 123
A12: 10 | B12: =자재내역!F58 -> 흄관운반 (D600) | C12: 1 | D12: 본 | E12: =SUM(F12:H12) -> 10959 | F12: =자재내역!H62 -> 9968 | G12: =자재내역!J62 -> 816 | H12: =자재내역!L62 -> 175
A13: 11 | B13: =자재내역!F63 -> 흄관운반 (D800) | C13: 1 | D13: 본 | E13: =SUM(F13:H13) -> 19261 | F13: =자재내역!H67 -> 17516 | G13: =자재내역!J67 -> 1436 | H13: =자재내역!L67 -> 309
A14: 12 | B14: =자재내역!F68 -> 흄관운반 (D1000) | C14: 1 | D14: 본 | E14: =SUM(F14:H14) -> 29941 | F14: =자재내역!H72 -> 27231 | G14: =자재내역!J72 -> 2230 | H14: =자재내역!L72 -> 480
A15: 13 | B15: =자재내역!F73 -> 수로관운반 (400*400) | C15: 1 | D15: 본 | E15: =SUM(F15:H15) -> 7003 | F15: =자재내역!H77 -> 6361 | G15: =자재내역!J77 -> 529 | H15: =자재내역!L77 -> 113
A16: 14 | B16: =자재내역!F78 -> 수로관운반 (500*500) | C16: 1 | D16: 본 | E16: =SUM(F16:H16) -> 9555 | F16: =자재내역!H82 -> 8702 | G16: =자재내역!J82 -> 702 | H16: =자재내역!L82 -> 151
A17: 15 | B17: =자재내역!F83 -> 수로관운반 (600*500) | C17: 1 | D17: 본 | E17: =SUM(F17:H17) -> 10939 | F17: =자재내역!H87 -> 9953 | G17: =자재내역!J87 -> 812 | H17: =자재내역!L87 -> 174
A18: 16 | B18: =자재내역!F88 -> 수로관운반 (600*600) | C18: 1 | D18: 본 | E18: =SUM(F18:H18) -> 12855 | F18: =자재내역!H92 -> 11683 | G18: =자재내역!J92 -> 965 | H18: =자재내역!L92 -> 207
A19: 17 | B19: =자재내역!F93 -> 수로관운반 (800*700) | C19: 1 | D19: 본 | E19: =SUM(F19:H19) -> 16638 | F19: =자재내역!H97 -> 15122 | G19: =자재내역!J97 -> 1248 | H19: =자재내역!L97 -> 268
A20: 18 | B20: =자재내역!F98 -> 수로관운반 (1000*1000) | C20: 1 | D20: 본 | E20: =SUM(F20:H20) -> 25168 | F20: =자재내역!H102 -> 22884 | G20: =자재내역!J102 -> 1880 | H20: =자재내역!L102 -> 404
A21: 19 | B21: =자재내역!F103 -> 수로관운반 (1200*1000) | C21: 1 | D21: 본 | E21: =SUM(F21:H21) -> 32120 | F21: =자재내역!H107 -> 29206 | G21: =자재내역!J107 -> 2398 | H21: =자재내역!L107 -> 516
A22: 20 | B22: =자재내역!F108 -> 수로관운반 (1500*1200) | C22: 1 | D22: 본 | E22: =SUM(F22:H22) -> 41721 | F22: =자재내역!H112 -> 37942 | G22: =자재내역!J112 -> 3110 | H22: =자재내역!L112 -> 669
A23: 21 | B23: 조립식배수관운반(H=1.5) | C23: 1 | D23: 본 | E23: =SUM(F23:H23) -> 28761 | F23: =자재내역!H116 -> 21456 | G23: =자재내역!J116 -> 6011 | H23: =자재내역!L116 -> 1294
A24: 22 | B24: 수로관운반(2000*1200) | C24: 1 | D24: 본 | E24: =SUM(F24:H24) -> 68795 | F24: =자재내역!H121 -> 62553 | G24: =자재내역!J121 -> 5136 | H24: =자재내역!L121 -> 1106
A25: 23 | B25: =자재내역!F122 -> PE관운반 (D100mm) | C25: 1 | D25: 본 | E25: =SUM(F25:H25) -> 491 | F25: =자재내역!H124 -> 384 | G25: =자재내역!J124 -> 107 | H25: .
A26: 24 | B26: =자재내역!F125 -> PE관운반 (D150mm) | C26: 1 | D26: 본 | E26: =SUM(F26:H26) -> 701 | F26: =자재내역!H127 -> 524 | G26: =자재내역!J127 -> 146 | H26: =자재내역!L127 -> 31
A27: 25 | B27: =자재내역!F128 -> PE관운반 (D200mm) | C27: 1 | D27: 본 | E27: =SUM(F27:H27) -> 908 | F27: =자재내역!H130 -> 678 | G27: =자재내역!J130 -> 190 | H27: =자재내역!L130 -> 40
A28: 26 | B28: =자재내역!F131 -> PE관운반 (D250mm) | C28: 1 | D28: 본 | E28: =SUM(F28:H28) -> 1103 | F28: =자재내역!H133 -> 824 | G28: =자재내역!J133 -> 230 | H28: =자재내역!L133 -> 49
A29: 27 | B29: =자재내역!F134 -> PE관운반 (D300mm) | C29: 1 | D29: 본 | E29: =SUM(F29:H29) -> 1718 | F29: =자재내역!H136 -> 1282 | G29: =자재내역!J136 -> 359 | H29: =자재내역!L136 -> 77
A30: 28 | B30: =자재내역!F137 -> PE관운반 (D500mm) | C30: 1 | D30: 본 | E30: =SUM(F30:H30) -> 2577 | F30: =자재내역!H139 -> 1923 | G30: =자재내역!J139 -> 538 | H30: =자재내역!L139 -> 116

Sheet 자재내역
A1: 자재단가내역
A2: 종별 | B2: 재 료 | C2: 원수 | D2: 단위 | E2: 총 액 | G2: 노 무 비 | I2: 재 료 비 | K2: 경 비
B3: 치 수 | E3: 단 가 | F3: 금 액 | G3: 단 가 | H3: 금 액 | I3: 단 가 | J3: 금 액 | K3: 단 가 | L3: 금 액
E4: 1 | F4: 양회 | J4: 1 ton
A5: 보통시멘트 | B5: 40kg/대 | C5: 1 | D5: ton | E5: =G5+I5+K5 -> 75795 | F5: =H5+J5+L5 -> 75795 | H5: =INT(G5*C5) -> 0 | I5: =INT(83375/1.1) -> 75795 | J5: =INT(I5*C5) -> 75795 | L5: =INT(K5*C5) -> 0
A6: 하차입고 | B6: 보통인부 | C6: =자재작업량!F7 -> 0.08 | D6: 인 | E6: =G6+I6+K6 -> 172068 | F6: =H6+J6+L6 -> 13765 | G6: =노임!D14 -> 172068 | H6: =INT(G6*C6) -> 13765 | I6: 0 | J6: =INT(I6*C6) -> 0 | K6: 0 | L6: =INT(K6*C6) -> 0
A7: 소운반 | B7: 경운기 | C7: 1 | D7: ton | E7: =G7+I7+K7 -> 8918 | F7: =H7+J7+L7 -> 8918 | G7: =자재단위당!H4 -> 8223 | H7: =INT(G7*C7) -> 8223 | I7: =자재단위당!I4 -> 550 | J7: =INT(I7*C7) -> 550 | K7: =자재단위당!J4 -> 145 | L7: =INT(K7*C7) -> 145
A8: 싣고부리기 | B8: 보통인부 | C8: =자재작업량!F18 -> 0.04 | D8: 인 | E8: =G8+I8+K8 -> 172068 | F8: =H8+J8+L8 -> 6882 | G8: =노임!D14 -> 172068 | H8: =INT(G8*C8) -> 6882 | I8: 0 | J8: =INT(I8*C8) -> 0 | K8: 0 | L8: =INT(K8*C8) -> 0
A9: 시멘트운반비 | C9: 1 | D9: ton | E9: =G9+I9+K9 -> 10549 | F9: =H9+J9+L9 -> 10549 | H9: =INT(G9*C9) -> 0 | J9: =INT(I9*C9) -> 0 | K9: =구역화물!G4 -> 10549 | L9: =INT(K9*C9) -> 10549
A10: 계 | F10: =H10+J10+L10 -> 115909 | H10: =SUM(H5:H9) -> 28870 | J10: =SUM(J5:J9) -> 76345 | L10: =SUM(L5:L9) -> 10694
E11: =E4+1 -> 2 | F11: 철근 | J11: 1 ton
A12: 구역화물 | C12: 1 | D12: ton | E12: 지급자재 | F12: =H12+J12+L12 -> 0 | H12: =INT(G12*C12) -> 0 | J12: =INT(I12*C12) -> 0 | L12: =INT(K12*C12) -> 0
A13: 하차입고 | B13: 보통인부 | C13: =자재작업량!F25 -> 0.06 | D13: 인 | E13: =G13+I13+K13 -> 172068 | F13: =H13+J13+L13 -> 10324 | G13: =노임!D14 -> 172068 | H13: =INT(G13*C13) -> 10324 | J13: =INT(I13*C13) -> 0 | L13: =INT(K13*C13) -> 0
A14: 소운반 | B14: 경운기 | C14: 1 | D14: ton | E14: =G14+I14+K14 -> 8433 | F14: =H14+J14+L14 -> 8433 | G14: =자재단위당!H5 -> 8223 | H14: =INT(G14*C14) -> 8223 | I14: =자재단위당!I5 -> 65 | J14: =INT(I14*C14) -> 65 | K14: =자재단위당!J5 -> 145 | L14: =INT(K14*C14) -> 145
A15: 싣고부리기 | B15: 보통인부 | C15: =자재작업량!F34 -> 0.04 | D15: 인 | E15: =G15+I15+K15 -> 172068 | F15: =H15+J15+L15 -> 6882 | G15: =노임!D14 -> 172068 | H15: =INT(G15*C15) -> 6882 | J15: =INT(I15*C15) -> 0 | L15: =INT(K15*C15) -> 0
A16: 계 | F16: =H16+J16+L16 -> 25639 | H16: =SUM(H13:H15) -> 25429 | J16: =SUM(J13:J15) -> 65 | L16: =SUM(L13:L15) -> 145
E17: =E11+1 -> 3 | F17: 목재 | J17: 1 ㎥
A18: 구역화물 | C18: 1 | D18: ㎥ | E18: =G18+I18+K18 -> 5753 | F18: =H18+J18+L18 -> 5753 | K18: =구역화물!G6 -> 5753 | L18: =INT(K18*C18) -> 5753
A19: 하차입고 | B19: 보통인부 | C19: =자재작업량!F42 -> 0.02 | D19: 인 | E19: =G19+I19+K19 -> 172068 | F19: =H19+J19+L19 -> 3441 | G19: =노임!D14 -> 172068 | H19: =INT(G19*C19) -> 3441 | J19: =INT(I19*C19) -> 0 | L19: =INT(K19*C19) -> 0
A20: 소운반 | B20: 경운기 | C20: 1 | D20: ㎥ | E20: =G20+I20+K20 -> 4908 | F20: =H20+J20+L20 -> 4908 | G20: =자재단위당!H6 -> 4786 | H20: =INT(G20*C20) -> 4786 | I20: =자재단위당!I6 -> 38 | J20: =INT(I20*C20) -> 38 | K20: =자재단위당!J6 -> 84 | L20: =INT(K20*C20) -> 84
A21: 싣고부리기 | B21: 보통인부 | C21: =자재작업량!F52 -> 0.02 | D21: 인 | E21: =G21+I21+K21 -> 172068 | F21: =H21+J21+L21 -> 3441 | G21: =노임!D14 -> 172068 | H21: =INT(G21*C21) -> 3441 | I21: 0 | J21: =INT(I21*C21) -> 0 | K21: 0 | L21: =INT(K21*C21) -> 0
A22: 계 | F22: =H22+J22+L22 -> 17543 | H22: =SUM(H18:H21) -> 11668 | J22: =SUM(J18:J21) -> 38 | L22: =SUM(L18:L21) -> 5837
E23: =E17+1 -> 4 | F23: 일반철재 | J23: 1 ton
A24: 구역화물 | C24: 1 | D24: ton | E24: =G24+I24+K24 -> 8369 | F24: =H24+J24+L24 -> 8369 | H24: =INT(G24*C24) -> 0 | J24: =INT(I24*C24) -> 0 | K24: =구역화물!G7 -> 8369 | L24: =INT(K24*C24) -> 8369
A25: 하차입고 | B25: 보통인부 | C25: =자재작업량!F59 -> 0.05 | D25: 인 | E25: =G25+I25+K25 -> 172068 | F25: =H25+J25+L25 -> 8603 | G25: =노임!D14 -> 172068 | H25: =INT(G25*C25) -> 8603 | J25: =INT(I25*C25) -> 0 | L25: =INT(K25*C25) -> 0
A26: 소운반 | B26: 경운기 | C26: 1 | D26: ton | E26: =G26+I26+K26 -> 8433 | F26: =H26+J26+L26 -> 8433 | G26: =자재단위당!H7 -> 8223 | H26: =INT(G26*C26) -> 8223 | I26: =자재단위당!I7 -> 65 | J26: =INT(I26*C26) -> 65 | K26: =자재단위당!J7 -> 145 | L26: =INT(K26*C26) -> 145
A27: 싣고부리기 | B27: 보통인부 | C27: =자재작업량!E70 -> 0.04 | D27: 인 | E27: =G27+I27+K27 -> 172068 | F27: =H27+J27+L27 -> 6882 | G27: =노임!D14 -> 172068 | H27: =INT(G27*C27) -> 6882 | I27: 0 | J27: =INT(I27*C27) -> 0 | K27: 0 | L27: =INT(K27*C27) -> 0
A28: 계 | F28: =H28+J28+L28 -> 32287 | H28: =SUM(H24:H27) -> 23708 | J28: =SUM(J24:J27) -> 65 | L28: =SUM(L24:L27) -> 8514
E29: =E23+1 -> 5 | F29: 특수철재 | J29: 1 ton
A30: 구역화물 | C30: 1 | D30: ton | E30: =G30+I30+K30 -> 20430 | F30: =H30+J30+L30 -> 20430 | H30: =INT(G30*C30) -> 0 | J30: =INT(I30*C30) -> 0 | K30: =구역화물!G8 -> 20430 | L30: =INT(K30*C30) -> 20430
A31: 하차입고 | B31: 보통인부 | C31: =자재작업량!F59 -> 0.05 | D31: 인 | E31: =G31+I31+K31 -> 172068 | F31: =H31+J31+L31 -> 8603 | G31: =노임!D14 -> 172068 | H31: =INT(G31*C31) -> 8603 | J31: =INT(I31*C31) -> 0 | L31: =INT(K31*C31) -> 0
A32: 소운반 | B32: 경운기 | C32: 1 | D32: ton | E32: =G32+I32+K32 -> 8433 | F32: =H32+J32+L32 -> 8433 | G32: =자재단위당!H7 -> 8223 | H32: =INT(G32*C32) -> 8223 | I32: =자재단위당!I7 -> 65 | J32: =INT(I32*C32) -> 65 | K32: =자재단위당!J7 -> 145 | L32: =INT(K32*C32) -> 145
A33: 싣고부리기 | B33: 보통인부 | C33: =자재작업량!E70 -> 0.04 | D33: 인 | E33: =G33+I33+K33 -> 172068 | F33: =H33+J33+L33 -> 6882 | G33: =노임!D14 -> 172068 | H33: =INT(G33*C33) -> 6882 | J33: =INT(I33*C33) -> 0 | L33: =INT(K33*C33) -> 0
A34: 계 | F34: =H34+J34+L34 -> 44348 | H34: =SUM(H30:H33) -> 23708 | J34: =SUM(J30:J33) -> 65 | L34: =SUM(L30:L33) -> 20575
E35: =E29+1 -> 6 | F35: 모래 | J35: 1 ton
A36: 운반 | B36: 덤프 15ton | C36: 1 | D36: ton | E36: =G36+I36+K36 -> 6980 | F36: =H36+J36+L36 -> 6980 | G36: =자재단위당!H8 -> 3649 | H36: =INT(G36*C36) -> 3649 | I36: =자재단위당!I8 -> 2144 | J36: =INT(I36*C36) -> 2144 | K36: =자재단위당!J8 -> 1187 | L36: =INT(K36*C36) -> 1187
A37: 소운반 | B37: 경운기 | C37: 1 | D37: ton | E37: =G37+I37+K37 -> 8433 | F37: =H37+J37+L37 -> 8433 | G37: =자재단위당!H9 -> 8223 | H37: =INT(G37*C37) -> 8223 | I37: =자재단위당!I9 -> 65 | J37: =INT(I37*C37) -> 65 | K37: =자재단위당!J9 -> 145 | L37: =INT(K37*C37) -> 145
A38: 싣고부리기 | B38: 보통인부 | C38: =자재작업량!F96 -> 0.04 | D38: 인 | E38: =G38+I38+K38 -> 172068 | F38: =H38+J38+L38 -> 6882 | G38: =노임!D14 -> 172068 | H38: =INT(G38*C38) -> 6882 | I38: 0 | J38: =INT(I38*C38) -> 0 | K38: 0 | L38: =INT(K38*C38) -> 0
A39: 원석대 | B39: =자재!F240&"/"&"1.400" -> 17000/1.400 | C39: 1 | D39: ton | E39: =G39+I39+K39 -> 12142 | F39: =H39+J39+L39 -> 12142 | H39: =INT(G39*C39) -> 0 | I39: =INT(자재!F240/1.4) -> 12142 | J39: =INT(I39*C39) -> 12142 | K39: 0 | L39: =INT(K39*C39) -> 0
A40: 계 | F40: =H40+J40+L40 -> 34437 | H40: =SUM(H36:H39) -> 18754 | J40: =SUM(J36:J39) -> 14351 | L40: =SUM(L36:L39) -> 1332
E41: =E35+1 -> 7 | F41: 자갈 | J41: 1 ton
A42: 운반 | B42: 덤프 15ton | C42: 1 | D42: ton | E42: =G42+I42+K42 -> 3994 | F42: =H42+J42+L42 -> 3994 | G42: =자재단위당!H10 -> 2088 | H42: =INT(G42*C42) -> 2088 | I42: =자재단위당!I10 -> 1227 | J42: =자재단위당!I10 -> 1227 | K42: =자재단위당!J10 -> 679 | L42: =INT(K42*C42) -> 679
A43: 소운반 | B43: 경운기 | C43: 1 | D43: ton | E43: =G43+I43+K43 -> 9779 | F43: =H43+J43+L43 -> 9779 | G43: =자재단위당!H11 -> 9546 | H43: =INT(G43*C43) -> 9546 | I43: =자재단위당!I11 -> 65 | J43: =INT(I43*C43) -> 65 | K43: =자재단위당!J11 -> 168 | L43: =INT(K43*C43) -> 168
A44: 싣고부리기 | B44: 보통인부 | C44: =자재작업량!I122 -> 0.05 | D44: 인 | E44: =G44+I44+K44 -> 172068 | F44: =H44+J44+L44 -> 8603 | G44: =노임!D14 -> 172068 | H44: =INT(G44*C44) -> 8603 | J44: =INT(I44*C44) -> 0 | L44: =INT(K44*C44) -> 0
A45: 원석대 | B45: =자재!F242&"/"&"1.500" -> 13000/1.500 | C45: 1 | D45: ton | E45: =G45+I45+K45 -> 8666.6667 | F45: =H45+J45+L45 -> 8666 | H45: =INT(G45*C45) -> 0 | I45: =자재!F242/1.5 -> 8666.6667 | J45: =INT(I45*C45) -> 8666 | K45: 0 | L45: =INT(K45*C45) -> 0
A46: 계 | F46: =H46+J46+L46 -> 31042 | H46: =SUM(H42:H45) -> 20237 | J46: =SUM(J42:J45) -> 9958 | L46: =SUM(L42:L45) -> 847
E47: =E41+1 -> 8 | F47: 혼합석(50mm) | J47: 1 ㎥
A48: 운반 | B48: 덤프 15ton | C48: 1 | D48: ㎥ | E48: =G48+I48+K48 -> 11503 | F48: =H48+J48+L48 -> 11503 | G48: =자재단위당!H12 -> 6014 | H48: =INT(G48*C48) -> 6014 | I48: =자재단위당!I12 -> 3533 | J48: =INT(I48*C48) -> 3533 | K48: =자재단위당!J12 -> 1956 | L48: =INT(K48*C48) -> 1956
A49: 소운반 | B49: 트랙터(타이어) | C49: 1 | D49: ㎥ | E49: =G49+I49+K49 -> 15456 | F49: =H49+J49+L49 -> 15456 | G49: =자재단위당!H13 -> 15088 | H49: =INT(G49*C49) -> 15088 | I49: =자재단위당!I13 -> 102 | J49: =INT(I49*C49) -> 102 | K49: =자재단위당!J13 -> 266 | L49: =INT(K49*C49) -> 266
A50: 싣고부리기 | B50: 보통인부 | C50: =자재작업량!I145 -> 0.09 | D50: 인 | E50: =G50+I50+K50 -> 172068 | F50: =H50+J50+L50 -> 15486 | G50: =노임!D14 -> 172068 | H50: =INT(G50*C50) -> 15486 | I50: 0 | J50: =INT(I50*C50) -> 0 | K50: 0 | L50: =INT(K50*C50) -> 0
A51: 원석대 | B51: 깬잡석(50mm) | C51: 1 | D51: ㎥ | E51: =G51+I51+K51 -> 9000 | F51: =H51+J51+L51 -> 9000 | H51: =INT(G51*C51) -> 0 | I51: =자재!F243 -> 9000 | J51: =INT(I51*C51) -> 9000 | K51: 0 | L51: =INT(K51*C51) -> 0
A52: 계 | F52: =H52+J52+L52 -> 51445 | H52: =SUM(H48:H51) -> 36588 | J52: =SUM(J48:J51) -> 12635 | L52: =SUM(L48:L51) -> 2222
E53: =E47+1 -> 9 | F53: 흄관운반 (D500) | J53: 1 본
A54: 하차 | B54: 보통인부 | C54: =자재작업량!I181 -> 0.018 | D54: 인 | E54: =G54+I54+K54 -> 172068 | F54: =H54+J54+L54 -> 3097 | G54: =노임!D14 -> 172068 | H54: =INT(G54*C54) -> 3097 | I54: 0 | J54: =INT(I54*C54) -> 0 | K54: 0 | L54: =INT(K54*C54) -> 0
A55: 소운반 | B55: 트랙터(타이어) | C55: 1 | D55: 본 | E55: =G55+I55+K55 -> 2741 | F55: =H55+J55+L55 -> 2741 | G55: =자재단위당!H15 -> 2045 | H55: =INT(G55*C55) -> 2045 | I55: =자재단위당!I15 -> 573 | J55: =INT(I55*C55) -> 573 | K55: =자재단위당!J15 -> 123 | L55: =INT(K55*C55) -> 123
A56: 싣고부리기 | B56: 보통인부 | C56: =자재작업량!J181 -> 0.01 | D56: 인 | E56: =G56+I56+K56 -> 172068 | F56: =H56+J56+L56 -> 1720 | G56: =노임!D14 -> 172068 | H56: =INT(G56*C56) -> 1720 | I56: 0 | J56: =INT(I56*C56) -> 0 | K56: 0 | L56: =INT(K56*C56) -> 0
A57: 계 | F57: =H57+J57+L57 -> 7558 | H57: =SUM(H54:H56) -> 6862 | J57: =SUM(J54:J56) -> 573 | L57: =SUM(L54:L56) -> 123
E58: =E53+1 -> 10 | F58: 흄관운반 (D600) | J58: 1 본
A59: 하차 | B59: 보통인부 | C59: =자재작업량!I182 -> 0.026 | D59: 인 | E59: =G59+I59+K59 -> 172068 | F59: =H59+J59+L59 -> 4473 | G59: =노임!D14 -> 172068 | H59: =INT(G59*C59) -> 4473 | I59: 0 | J59: =INT(I59*C59) -> 0 | K59: 0 | L59: =INT(K59*C59) -> 0
A60: 소운반 | B60: 트랙터(타이어) | C60: 1 | D60: 본 | E60: =G60+I60+K60 -> 3905 | F60: =H60+J60+L60 -> 3905 | G60: =자재단위당!H16 -> 2914 | H60: =INT(G60*C60) -> 2914 | I60: =자재단위당!I16 -> 816 | J60: =INT(I60*C60) -> 816 | K60: =자재단위당!J16 -> 175 | L60: =INT(K60*C60) -> 175
A61: 싣고부리기 | B61: 보통인부 | C61: =자재작업량!J182 -> 0.015 | D61: 인 | E61: =G61+I61+K61 -> 172068 | F61: =H61+J61+L61 -> 2581 | G61: =노임!D14 -> 172068 | H61: =INT(G61*C61) -> 2581 | I61: 0 | J61: =INT(I61*C61) -> 0 | K61: 0 | L61: =INT(K61*C61) -> 0
A62: 계 | F62: =H62+J62+L62 -> 10959 | H62: =SUM(H59:H61) -> 9968 | J62: =SUM(J59:J61) -> 816 | L62: =SUM(L59:L61) -> 175
E63: =E58+1 -> 11 | F63: 흄관운반 (D800) | J63: 1 본
A64: 하차 | B64: 보통인부 | C64: =자재작업량!I183 -> 0.046 | D64: 인 | E64: =G64+I64+K64 -> 172068 | F64: =H64+J64+L64 -> 7915 | G64: =노임!D14 -> 172068 | H64: =INT(G64*C64) -> 7915 | I64: 0 | J64: =INT(I64*C64) -> 0 | K64: 0 | L64: =INT(K64*C64) -> 0
A65: 소운반 | B65: 트랙터(타이어) | C65: 1 | D65: 본 | E65: =G65+I65+K65 -> 6873 | F65: =H65+J65+L65 -> 6873 | G65: =자재단위당!H17 -> 5128 | H65: =INT(G65*C65) -> 5128 | I65: =자재단위당!I17 -> 1436 | J65: =INT(I65*C65) -> 1436 | K65: =자재단위당!J17 -> 309 | L65: =INT(K65*C65) -> 309
A66: 싣고부리기 | B66: 보통인부 | C66: =자재작업량!J183 -> 0.026 | D66: 인 | E66: =G66+I66+K66 -> 172068 | F66: =H66+J66+L66 -> 4473 | G66: =G64 -> 172068 | H66: =INT(G66*C66) -> 4473 | I66: 0 | J66: =INT(I66*C66) -> 0 | K66: 0 | L66: =INT(K66*C66) -> 0
A67: 계 | F67: =H67+J67+L67 -> 19261 | H67: =SUM(H64:H66) -> 17516 | J67: =SUM(J64:J66) -> 1436 | L67: =SUM(L64:L66) -> 309
E68: =E63+1 -> 12 | F68: 흄관운반 (D1000) | J68: 1 본
A69: 하차 | B69: 보통인부 | C69: =자재작업량!I184 -> 0.072 | D69: 인 | E69: =G69+I69+K69 -> 172068 | F69: =H69+J69+L69 -> 12388 | G69: =G64 -> 172068 | H69: =INT(G69*C69) -> 12388 | I69: 0 | J69: =INT(I69*C69) -> 0 | K69: 0 | L69: =INT(K69*C69) -> 0
A70: 소운반 | B70: 트랙터(타이어) | C70: 1 | D70: 본 | E70: =G70+I70+K70 -> 10671 | F70: =H70+J70+L70 -> 10671 | G70: =자재단위당!H18 -> 7961 | H70: =INT(G70*C70) -> 7961 | I70: =자재단위당!I18 -> 2230 | J70: =INT(I70*C70) -> 2230 | K70: =자재단위당!J18 -> 480 | L70: =INT(K70*C70) -> 480
A71: 싣고부리기 | B71: 보통인부 | C71: =자재작업량!J184 -> 0.04 | D71: 인 | E71: =G71+I71+K71 -> 172068 | F71: =H71+J71+L71 -> 6882 | G71: =G61 -> 172068 | H71: =INT(G71*C71) -> 6882 | I71: 0 | J71: =INT(I71*C71) -> 0 | K71: 0 | L71: =INT(K71*C71) -> 0
A72: 계 | F72: =H72+J72+L72 -> 29941 | H72: =SUM(H69:H71) -> 27231 | J72: =SUM(J69:J71) -> 2230 | L72: =SUM(L69:L71) -> 480
E73: =E68+1 -> 13 | F73: 수로관운반 (400*400) | J73: 1 본
A74: 하차 | B74: 보통인부 | C74: =자재작업량!I185 -> 0.017 | D74: 인 | E74: =G74+I74+K74 -> 172068 | F74: =H74+J74+L74 -> 2925 | G74: =G69 -> 172068 | H74: =INT(G74*C74) -> 2925 | I74: 0 | J74: =INT(I74*C74) -> 0 | K74: 0 | L74: =INT(K74*C74) -> 0
A75: 소운반 | B75: 트랙터(타이어) | C75: 1 | D75: 본 | E75: =G75+I75+K75 -> 2530 | F75: =H75+J75+L75 -> 2530 | G75: =자재단위당!H19 -> 1888 | H75: =INT(G75*C75) -> 1888 | I75: =자재단위당!I19 -> 529 | J75: =INT(I75*C75) -> 529 | K75: =자재단위당!J19 -> 113 | L75: =INT(K75*C75) -> 113
A76: 싣고부리기 | B76: 보통인부 | C76: =자재작업량!J185 -> 0.009 | D76: 인 | E76: =G76+I76+K76 -> 172068 | F76: =H76+J76+L76 -> 1548 | G76: =노임!D14 -> 172068 | H76: =INT(G76*C76) -> 1548 | I76: 0 | J76: =INT(I76*C76) -> 0 | K76: 0 | L76: =INT(K76*C76) -> 0
A77: 계 | F77: =H77+J77+L77 -> 7003 | H77: =SUM(H74:H76) -> 6361 | J77: =SUM(J74:J76) -> 529 | L77: =SUM(L74:L76) -> 113
E78: =E73+1 -> 14 | F78: 수로관운반 (500*500) | J78: 1 본
A79: 하차 | B79: 보통인부 | C79: =자재작업량!I186 -> 0.023 | D79: 인 | E79: =G79+I79+K79 -> 172068 | F79: =H79+J79+L79 -> 3957 | G79: =G74 -> 172068 | H79: =INT(G79*C79) -> 3957 | I79: 0 | J79: =INT(I79*C79) -> 0 | K79: 0 | L79: =INT(K79*C79) -> 0
A80: 소운반 | B80: 트랙터(타이어) | C80: 1 | D80: 본 | E80: =G80+I80+K80 -> 3362 | F80: =H80+J80+L80 -> 3362 | G80: =자재단위당!H20 -> 2509 | H80: =INT(G80*C80) -> 2509 | I80: =자재단위당!I20 -> 702 | J80: =INT(I80*C80) -> 702 | K80: =자재단위당!J20 -> 151 | L80: =INT(K80*C80) -> 151
A81: 싣고부리기 | B81: 보통인부 | C81: =자재작업량!J186 -> 0.013 | D81: 인 | E81: =G81+I81+K81 -> 172068 | F81: =H81+J81+L81 -> 2236 | G81: =노임!D14 -> 172068 | H81: =INT(G81*C81) -> 2236 | I81: 0 | J81: =INT(I81*C81) -> 0 | K81: 0 | L81: =INT(K81*C81) -> 0
A82: 계 | F82: =H82+J82+L82 -> 9555 | H82: =SUM(H79:H81) -> 8702 | J82: =SUM(J79:J81) -> 702 | L82: =SUM(L79:L81) -> 151
E83: =E78+1 -> 15 | F83: 수로관운반 (600*500) | J83: 1 본
A84: 하차 | B84: 보통인부 | C84: =자재작업량!I187 -> 0.026 | D84: 인 | E84: =G84+I84+K84 -> 172068 | F84: =H84+J84+L84 -> 4473 | G84: =G79 -> 172068 | H84: =INT(G84*C84) -> 4473 | I84: 0 | J84: =INT(I84*C84) -> 0 | K84: 0 | L84: =INT(K84*C84) -> 0
A85: 소운반 | B85: 트랙터(타이어) | C85: 1 | D85: 본 | E85: =G85+I85+K85 -> 3885 | F85: =H85+J85+L85 -> 3885 | G85: =자재단위당!H21 -> 2899 | H85: =INT(G85*C85) -> 2899 | I85: =자재단위당!I21 -> 812 | J85: =INT(I85*C85) -> 812 | K85: =자재단위당!J21 -> 174 | L85: =INT(K85*C85) -> 174
A86: 싣고부리기 | B86: 보통인부 | C86: =자재작업량!J187 -> 0.015 | D86: 인 | E86: =G86+I86+K86 -> 172068 | F86: =H86+J86+L86 -> 2581 | G86: =노임!D14 -> 172068 | H86: =INT(G86*C86) -> 2581 | I86: 0 | J86: =INT(I86*C86) -> 0 | K86: 0 | L86: =INT(K86*C86) -> 0
A87: 계 | F87: =H87+J87+L87 -> 10939 | H87: =SUM(H84:H86) -> 9953 | J87: =SUM(J84:J86) -> 812 | L87: =SUM(L84:L86) -> 174
E88: =E83+1 -> 16 | F88: 수로관운반 (600*600) | J88: 1 본
A89: 하차 | B89: 보통인부 | C89: =자재작업량!I188 -> 0.031 | D89: 인 | E89: =G89+I89+K89 -> 172068 | F89: =H89+J89+L89 -> 5334 | G89: =G84 -> 172068 | H89: =INT(G89*C89) -> 5334 | I89: 0 | J89: =INT(I89*C89) -> 0 | K89: 0 | L89: =INT(K89*C89) -> 0
A90: 소운반 | B90: 트랙터(타이어) | C90: 1 | D90: 본 | E90: =G90+I90+K90 -> 4616 | F90: =H90+J90+L90 -> 4616 | G90: =자재단위당!H22 -> 3444 | H90: =INT(G90*C90) -> 3444 | I90: =자재단위당!I22 -> 965 | J90: =INT(I90*C90) -> 965 | K90: =자재단위당!J22 -> 207 | L90: =INT(K90*C90) -> 207
A91: 싣고부리기 | B91: 보통인부 | C91: =자재작업량!J188 -> 0.017 | D91: 인 | E91: =G91+I91+K91 -> 170920 | F91: =H91+J91+L91 -> 2905 | G91: =노임!F6 -> 170920 | H91: =INT(G91*C91) -> 2905 | I91: 0 | J91: =INT(I91*C91) -> 0 | K91: 0 | L91: =INT(K91*C91) -> 0
A92: 계 | F92: =H92+J92+L92 -> 12855 | H92: =SUM(H89:H91) -> 11683 | J92: =SUM(J89:J91) -> 965 | L92: =SUM(L89:L91) -> 207
E93: =E88+1 -> 17 | F93: 수로관운반 (800*700) | J93: 1 본
A94: 하차 | B94: 보통인부 | C94: =자재작업량!I189 -> 0.04 | D94: 인 | E94: =G94+I94+K94 -> 172068 | F94: =H94+J94+L94 -> 6882 | G94: =G89 -> 172068 | H94: =INT(G94*C94) -> 6882 | I94: 0 | J94: =INT(I94*C94) -> 0 | K94: 0 | L94: =INT(K94*C94) -> 0
A95: 소운반 | B95: 트랙터(타이어) | C95: 1 | D95: 본 | E95: =G95+I95+K95 -> 5971 | F95: =H95+J95+L95 -> 5971 | G95: =자재단위당!H23 -> 4455 | H95: =INT(G95*C95) -> 4455 | I95: =자재단위당!I23 -> 1248 | J95: =INT(I95*C95) -> 1248 | K95: =자재단위당!J23 -> 268 | L95: =INT(K95*C95) -> 268
A96: 싣고부리기 | B96: 보통인부 | C96: =자재작업량!J189 -> 0.022 | D96: 인 | E96: =G96+I96+K96 -> 172068 | F96: =H96+J96+L96 -> 3785 | G96: =노임!D14 -> 172068 | H96: =INT(G96*C96) -> 3785 | I96: 0 | J96: =INT(I96*C96) -> 0 | K96: 0 | L96: =INT(K96*C96) -> 0
A97: 계 | F97: =H97+J97+L97 -> 16638 | H97: =SUM(H94:H96) -> 15122 | J97: =SUM(J94:J96) -> 1248 | L97: =SUM(L94:L96) -> 268
E98: =E93+1 -> 18 | F98: 수로관운반 (1000*1000) | J98: 1 본
A99: 하차 | B99: 보통인부 | C99: =자재작업량!I190 -> 0.06 | D99: 인 | E99: =G99+I99+K99 -> 172068 | F99: =H99+J99+L99 -> 10324 | G99: =G94 -> 172068 | H99: =INT(G99*C99) -> 10324 | I99: 0 | J99: =INT(I99*C99) -> 0 | K99: 0 | L99: =INT(K99*C99) -> 0
A100: 소운반 | B100: 트랙터(타이어) | C100: 1 | D100: 본 | E100: =G100+I100+K100 -> 8994 | F100: =H100+J100+L100 -> 8994 | G100: =자재단위당!H24 -> 6710 | H100: =INT(G100*C100) -> 6710 | I100: =자재단위당!I24 -> 1880 | J100: =INT(I100*C100) -> 1880 | K100: =자재단위당!J24 -> 404 | L100: =INT(K100*C100) -> 404
...

Sheet 자재단위당
A1: 자재단위당운반비
A2: 공 종 | B2: 사용장비 | C2: 시 간 당 경 비 | F2: 시간당 작업량 | H2: 단 위 당 경 비
C3: 운 전 원 | D3: 재 료 비 | E3: 손 료 | F3: 수 량 | G3: 단위 | H3: 운 전 원 | I3: 재 료 비 | J3: 손 료 | K3: 계
A4: 양회운반 | B4: 경운기 | C4: =중기일람!D28 -> 35608 | D4: =중기일람!E28 -> 2384 | E4: =중기일람!F28 -> 630 | F4: =자재작업량!G14 -> 4.33 | G4: ton | H4: =INT(C4/F4) -> 8223 | I4: =INT(D4/F4) -> 550 | J4: =INT(E4/F4) -> 145 | K4: =SUM(H4:J4) -> 8918
A5: 철근운반 | B5: 경운기 | C5: =중기일람!D28 -> 35608 | D5: =중기일람!E28*자재작업량!L29 -> 283.696 | E5: =중기일람!F28 -> 630 | F5: =자재작업량!F30 -> 4.33 | G5: ton | H5: =INT(C5/F5) -> 8223 | I5: =INT(D5/F5) -> 65 | J5: =INT(E5/F5) -> 145 | K5: =SUM(H5:J5) -> 8433
A6: 목재운반 | B6: 경운기 | C6: =중기일람!D28 -> 35608 | D6: =중기일람!E28*자재작업량!L47 -> 283.696 | E6: =중기일람!F28 -> 630 | F6: =자재작업량!F48 -> 7.44 | G6: ㎥ | H6: =INT(C6/F6) -> 4786 | I6: =INT(D6/F6) -> 38 | J6: =INT(E6/F6) -> 84 | K6: =SUM(H6:J6) -> 4908
A7: 철재운반 | B7: 경운기 | C7: =중기일람!D28 -> 35608 | D7: =중기일람!E28*자재작업량!F65 -> 283.696 | E7: =중기일람!F28 -> 630 | F7: =자재작업량!G66 -> 4.33 | G7: ton | H7: =INT(C7/F7) -> 8223 | I7: =INT(D7/F7) -> 65 | J7: =INT(E7/F7) -> 145 | K7: =SUM(H7:J7) -> 8433
A8: 모래운반 | B8: 덤프 15ton | C8: =중기일람!D17 -> 57077 | D8: =중기일람!E17 -> 33535 | E8: =중기일람!F17 -> 18567 | F8: =자재작업량!F84 -> 15.64 | G8: ton | H8: =INT(C8/F8) -> 3649 | I8: =INT(D8/F8) -> 2144 | J8: =INT(E8/F8) -> 1187 | K8: =SUM(H8:J8) -> 6980
A9: 모래운반 (소운반) | B9: 경운기 | C9: =중기일람!D28 -> 35608 | D9: =중기일람!E28*자재작업량!F91 -> 283.696 | E9: =중기일람!F28 -> 630 | F9: =자재작업량!F92 -> 4.33 | G9: ton | H9: =INT(C9/F9) -> 8223 | I9: =INT(D9/F9) -> 65 | J9: =INT(E9/F9) -> 145 | K9: =SUM(H9:J9) -> 8433
A10: 자갈운반 | B10: 덤프 15ton | C10: =중기일람!D17 -> 57077 | D10: =중기일람!E17 -> 33535 | E10: =중기일람!F17 -> 18567 | F10: =자재작업량!F110 -> 27.33 | G10: ton | H10: =INT(C10/F10) -> 2088 | I10: =INT(D10/F10) -> 1227 | J10: =INT(E10/F10) -> 679 | K10: =SUM(H10:J10) -> 3994
A11: 자갈운반 (소운반) | B11: 경운기 | C11: =중기일람!D28 -> 35608 | D11: =중기일람!E28*자재작업량!F117 -> 243.168 | E11: =중기일람!F28 -> 630 | F11: =자재작업량!F118 -> 3.73 | G11: ton | H11: =INT(C11/F11) -> 9546 | I11: =INT(D11/F11) -> 65 | J11: =INT(E11/F11) -> 168 | K11: =SUM(H11:J11) -> 9779
A12: 조약돌운반 | B12: 덤프 15ton | C12: =중기일람!D17 -> 57077 | D12: =중기일람!E17 -> 33535 | E12: =중기일람!F17 -> 18567 | F12: =자재작업량!F134 -> 9.49 | G12: ㎥ | H12: =INT(C12/F12) -> 6014 | I12: =INT(D12/F12) -> 3533 | J12: =INT(E12/F12) -> 1956 | K12: =SUM(H12:J12) -> 11503
A13: 조약돌운반(소운반) | B13: 경운기 | C13: =중기일람!D28 -> 35608 | D13: =INT(중기일람!E28*자재작업량!G140) -> 243 | E13: =중기일람!F28 -> 630 | F13: =자재작업량!G141 -> 2.36 | G13: ㎥ | H13: =INT(C13/F13) -> 15088 | I13: =INT(D13/F13) -> 102 | J13: =INT(E13/F13) -> 266 | K13: =SUM(H13:J13) -> 15456
A14: 사석운반(소운반) | B14: 경운기 | C14: =중기일람!D28 -> 35608 | D14: =INT(중기일람!E28*자재작업량!G140) -> 243 | E14: =중기일람!F28 -> 630 | F14: =자재작업량!G167 -> 1.96 | G14: ㎥ | H14: =INT(C14/F14) -> 18167 | I14: =INT(D14/F14) -> 123 | J14: =INT(E14/F14) -> 321 | K14: =SUM(H14:J14) -> 18611
A15: 흄관(D500)운반 | B15: 트랙터(타이어) 2.5Ton | C15: =중기일람!D39 -> 47849 | D15: =중기일람!E39 -> 13406 | E15: =중기일람!F39 -> 2887 | F15: =자재작업량!H181 -> 23.39 | G15: 본 | H15: =INT(C15/F15) -> 2045 | I15: =INT(D15/F15) -> 573 | J15: =INT(E15/F15) -> 123 | K15: =SUM(H15:J15) -> 2741
A16: 흄관(D600)운반 | B16: 트랙터(타이어) 2.5Ton | C16: =C15 -> 47849 | D16: =D15 -> 13406 | E16: =E15 -> 2887 | F16: =자재작업량!H182 -> 16.42 | G16: 본 | H16: =INT(C16/F16) -> 2914 | I16: =INT(D16/F16) -> 816 | J16: =INT(E16/F16) -> 175 | K16: =SUM(H16:J16) -> 3905
A17: 흄관(D800)운반 | B17: 트랙터(타이어) 2.5Ton | C17: =C16 -> 47849 | D17: =D16 -> 13406 | E17: =E16 -> 2887 | F17: =자재작업량!H183 -> 9.33 | G17: 본 | H17: =INT(C17/F17) -> 5128 | I17: =INT(D17/F17) -> 1436 | J17: =INT(E17/F17) -> 309 | K17: =SUM(H17:J17) -> 6873
A18: 흄관(D1000)운반 | B18: 트랙터(타이어) 2.5Ton | C18: =C17 -> 47849 | D18: =D17 -> 13406 | E18: =E17 -> 2887 | F18: =자재작업량!H184 -> 6.01 | G18: 본 | H18: =INT(C18/F18) -> 7961 | I18: =INT(D18/F18) -> 2230 | J18: =INT(E18/F18) -> 480 | K18: =SUM(H18:J18) -> 10671
A19: 수로관(400*400)운반 | B19: 트랙터(타이어) 2.5Ton | C19: =C18 -> 47849 | D19: =D18 -> 13406 | E19: =E18 -> 2887 | F19: =자재작업량!H185 -> 25.34 | G19: 본 | H19: =INT(C19/F19) -> 1888 | I19: =INT(D19/F19) -> 529 | J19: =INT(E19/F19) -> 113 | K19: =SUM(H19:J19) -> 2530
A20: 수로관(500*500)운반 | B20: 트랙터(타이어) 2.5Ton | C20: =C19 -> 47849 | D20: =D19 -> 13406 | E20: =E19 -> 2887 | F20: =자재작업량!H186 -> 19.07 | G20: 본 | H20: =INT(C20/F20) -> 2509 | I20: =INT(D20/F20) -> 702 | J20: =INT(E20/F20) -> 151 | K20: =SUM(H20:J20) -> 3362
A21: 수로관(600*500)운반 | B21: 트랙터(타이어) 2.5Ton | C21: =C20 -> 47849 | D21: =D20 -> 13406 | E21: =E20 -> 2887 | F21: =자재작업량!H187 -> 16.5 | G21: 본 | H21: =INT(C21/F21) -> 2899 | I21: =INT(D21/F21) -> 812 | J21: =INT(E21/F21) -> 174 | K21: =SUM(H21:J21) -> 3885
A22: 수로관(600*600)운반 | B22: 트랙터(타이어) 2.5Ton | C22: =C21 -> 47849 | D22: =D21 -> 13406 | E22: =E21 -> 2887 | F22: =자재작업량!H188 -> 13.89 | G22: 본 | H22: =INT(C22/F22) -> 3444 | I22: =INT(D22/F22) -> 965 | J22: =INT(E22/F22) -> 207 | K22: =SUM(H22:J22) -> 4616
A23: 수로관(800*700)운반 | B23: 트랙터(타이어) 2.5Ton | C23: =C22 -> 47849 | D23: =D22 -> 13406 | E23: =E22 -> 2887 | F23: =자재작업량!H189 -> 10.74 | G23: 본 | H23: =INT(C23/F23) -> 4455 | I23: =INT(D23/F23) -> 1248 | J23: =INT(E23/F23) -> 268 | K23: =SUM(H23:J23) -> 5971
A24: 수로관(1000*1000)운반 | B24: 트랙터(타이어) 2.5Ton | C24: =C23 -> 47849 | D24: =D23 -> 13406 | E24: =E23 -> 2887 | F24: =자재작업량!H190 -> 7.13 | G24: 본 | H24: =INT(C24/F24) -> 6710 | I24: =INT(D24/F24) -> 1880 | J24: =INT(E24/F24) -> 404 | K24: =SUM(H24:J24) -> 8994
A25: 수로관(1200*1000)운반 | B25: 트랙터(타이어) 2.5Ton | C25: =C24 -> 47849 | D25: =D24 -> 13406 | E25: =E24 -> 2887 | F25: =자재작업량!H191 -> 5.59 | G25: 본 | H25: =INT(C25/F25) -> 8559 | I25: =INT(D25/F25) -> 2398 | J25: =INT(E25/F25) -> 516 | K25: =SUM(H25:J25) -> 11473
A26: 수로관(1500*1000)운반 | B26: 트랙터(타이어) 2.5Ton | C26: =C25 -> 47849 | D26: =D25 -> 13406 | E26: =E25 -> 2887 | F26: =자재작업량!H192 -> 4.31 | G26: 본 | H26: =INT(C26/F26) -> 11101 | I26: =INT(D26/F26) -> 3110 | J26: =INT(E26/F26) -> 669 | K26: =SUM(H26:J26) -> 14880
A27: 조립식배수관(H=1.5) | B27: 트랙터(타이어) 2.5Ton | C27: =C26 -> 47849 | D27: =D26 -> 13406 | E27: =E26 -> 2887 | F27: =자재작업량!H193 -> 2.23 | G27: 본 | H27: =INT(C27/F27) -> 21456 | I27: =INT(D27/F27) -> 6011 | J27: =INT(E27/F27) -> 1294 | K27: =SUM(H27:J27) -> 28761
... A33: PE관(D300mm)운반 | B33: 트랙터(타이어) 2.5Ton | C33: =C32 -> 47849 | D33: =D32 -> 13406 | E33: =E32 -> 2887 | F33: =자재작업량!H199 -> 37.32 | G33: 본 | H33: =INT(C33/F33) -> 1282 | I33: =INT(D33/F33) -> 359 | J33: =INT(E33/F33) -> 77 | K33: =SUM(H33:J33) -> 1718
A34: PE관(D500mm)운반 | B34: 트랙터(타이어) 2.5Ton | C34: =C33 -> 47849 | D34: =D33 -> 13406 | E34: =E33 -> 2887 | F34: =자재작업량!H201 -> 24.88 | G34: 본 | H34: =INT(C34/F34) -> 1923 | I34: =INT(D34/F34) -> 538 | J34: =INT(E34/F34) -> 116 | K34: =SUM(H34:J34) -> 2577

Sheet 자재작업량
A1: 산출내역
B2: ◈ 시멘트 하차입고
C3: 트럭에서 창고 17m, | E3: 7m 마다 1인 ⇒ 17 * 2 * 1 / 17 = 5 인
C4: 어깨메기 부리기 시간 ⇒ t = 7 / 50 = 0.14 분
C5: 1 회 운반 소요시간 ⇒ cm = 2 * 17 / 50 + 0.14 = 0.82 분
C6: T = 10,500 kg | F6: t3 = T / 40 * 0.82 * 1 / 5 = 43.05
C7: a = t3 / 450 * 9인 * 1 / T = | F7: 0.08 | G7: 인
B9: ◈ 시멘트 운반
B10: 경운기 | C10: ℓ = | D10: =운반거리!F17 -> 50 | E10: m
B11: q= | C11: 1 | D11: ton f = | E11: 1 | F11: E= | G11: 0.9 | H11: V1 = | I11: 57 | J11: V₂= | K11: 83 | L11: t= | M11: 11
C12: cm = ℓ/ V1 + ℓ/ V2 + t = | F12: =ROUND((D10/57+D10/83+11)/10*10,2) -> 12.48 | G12: 분
C13: 유류대 보정 계수 = (cm - t) / cm = | G13: =ROUND(((F12-M11)/F12)/10*10,3) -> 0.119
C14: Q = 60.00 * q * f * E / cm = | G14: =ROUND(((60*1*1*0.9)/F12)/10*10,2) -> 4.33 | H14: ton/hr
B16: ◈ 시멘트 싣고 부리기
B17: t = | C17: 11 | D17: 분 | E17: q = | F17: 1 | G17: ton | H17: f = | I17: 1
B18: a = t / 450.00 * 2인 * 1 / q *1 / f = | F18: 0.04 | G18: 인
B20: ◈ 철근 하차입고
C21: 트럭에서 창고 17m, | E21: 7m 마다 1인 ⇒ 17 * 2 * 1 / 17 = 5 인
C22: 어깨메기 부리기 시간 ⇒ t = 7 / 50 = 0.14 분
C23: 1 회 운반 소요시간 ⇒ cm = 2 * 17 / 50 + 0.14 = 0.82 분
C24: T = | D24: 10500 | E24: kg | F24: t3 = T / 50 * 0.82 * 1 / 5 = | I24: 34.44
C25: a = t3 / 450 * 9인 * 1 / T = | F25: 0.06 | G25: 인
B26: ◈ 철근 운반
B27: 경운기 | C27: ℓ = | D27: =운반거리!F17 -> 50 | E27: m
B28: q = | C28: 1 | D28: ton f = | E28: 1 | F28: E = | G28: 0.9 | H28: V1 = | I28: 57 | J28: V2 = | K28: 83 | L28: t= | M28: 11
C29: cm = ℓ / V1 + ℓ / V2 + t = | G29: =ROUND((D27/I28+D27/K28+M28)/10*10,2) -> 12.48 | I29: 유류대 보정 계수 = (cm - t) / cm = | L29: =ROUND(((G29-M28)/G29)/10*10,3) -> 0.119
C30: Q = 60.0 * q * f * E/cm = | F30: =ROUND(((60*C28*E28*G28)/G29)/10*10,2) -> 4.33 | G30: ton/hr
B32: ◈ 철근 싣고 부리기
B33: t = | C33: 11 | D33: 분 | E33: q= | F33: 1 | G33: ton | H33: f = | I33: 1
B34: a = t / 450 * 2인 * 1 / q * 1 / f = | F34: =TRUNC((C33/450*2*1/F33*1/I33)/10*10,2) -> 0.04 | G34: 인
B36: ◈ 목재 하차입고
C37: 트럭에서 창고 17m, | E37: 7m 마다 1인 ⇒ 17 * 2 * 1 / 17 = 5 인
C38: 어깨메기 부리기 시간 ⇒ t = 7 / 50 = 0.14 분
C39: 1 회 운반 소요시간 ⇒ cm = 2 * 17 / 50 + 0.14 = 0.82 분
C40: T = 10,500 kg | E40: rt = 580 kg/㎥ | G40: q = T / 8,000 * 12 = 15.75 | K40: qo = q * rt = 9,135.00
C41: t3 = qo / 50 * 0.82 * 1 / 5 = 29.96 분
C42: a = t3 / 450 * 7인 * 1 / q = | F42: 0.02 | G42: 인
B44: ◈ 목재 운반 경운기
B45: 경운기 | C45: ℓ = | D45: =운반거리!F17 -> 50 | E45: m | H45: t = | I45: 11 | J45: 분
B46: q = | C46: 1.72 | D46: ㎥ | E46: f = | F46: 1 | G46: E = | H46: 0.9 | I46: V1 = | J46: 57 | K46: V2 = | L46: 83
C47: cm = ℓ / V1 + ℓ / V2 + t= | F47: =ROUND((D45/J46+D45/L46+I45)/10*10,2) -> 12.48 | I47: 유류대 보정 계수 = (cm - t) / cm = | L47: =ROUND(((F47-I45)/F47)/10*10,3) -> 0.119
C48: Q = 60.00 * q * f * E/ cm= | F48: =ROUND(((60*C46*F46*H46)/F47)/10*10,2) -> 7.44 | G48: ㎥/hr
B50: ◈ 목재 싣고 부리기
C51: t = 11 분 | E51: q = 1.72 ton | G51: f = 1
C52: a = t / 450 * 2인 * 1 / q * 1 / f = | F52: 0.02 | G52: 인
B54: ◈ 철재 하차입고
C55: 트럭에서 창고 17m, | E55: 7m 마다 1인 ⇒ 17 * 2 * 1 / 17 = 5 인
C56: 어깨메기 부리기 시간 ⇒ t = 7 / 50 = 0.14 분
C57: 1 회 운반 소요시간 ⇒ cm = 2 * 17 / 50 + 0.14 = 0.82 분
C58: T = 10,500 kg | F58: t3 = T / 50 * 0.82 * 1 / 5 = 34.44 | K58: qo = q * rt = 9,135.00
C59: a = t3 / 450 * 7인 * 1 / T = | F59: 0.05 | G59: 인
B61: ◈ 철재 운반
B62: 경운기 | C62: ℓ = | D62: =운반거리!F17 -> 50 | E62: m
B63: q = | C63: 1 | D63: ton | E63: f = | F63: 1 | G63: E = | H63: 0.9 | I63: V1 = | J63: 57 | K63: V2 = | L63: 83
C64: cm =ℓ / V1 + ℓ / V2 + t = | F64: =ROUND((D62/J63+D62/L63+I64)/10*10,2) -> 12.48 | H64: t= | I64: 11
C65: 유류대 보정 계수 = (cm - t) / cm = | F65: =ROUND(((F64-I64)/F64)/10*10,3) -> 0.119
C66: Q = 60.00 * q * f * E / cm = | G66: =ROUND(((60*C63*F63*H63)/F64)/10*10,2) -> 4.33 | H66: ton/hr
B68: ◈ 철재 싣고 부리기
B69: t = 11.00 분 | E69: q = 1.00 ton | H69: f = 1.00
B70: a = t / 450.00 * 2인 * 1 / q * 1 / f = | E70: 0.04 | F70: 인
B72: ◈ 모래적재
C73: 타이어 로우더 : 2.29 ㎥ | F73: q = | G73: 2.29 | H73: ㎥
B74: K = | C74: 1.2 | F74: Es = | G74: 0.75 | I74: cms = | J74: 37.4 | K74: sec
B76: ◈ 모래운반
C77: 덤 프 15.00 ton | F77: ℓ = | G77: 9.5 | H77: KM | I77: T = | J77: 15000 | K77: kg
B78: L = | C78: 1.2 | E78: rt = | F78: 1600 | G78: kg/㎥ | H78: V1 = | I78: 30 | J78: V2 = | K78: 35
B79: Qt = L * T / rt = | D79: =ROUND((C78*(J77/F78))/10*10,2) -> 11.25 | E79: ㎥ | F79: E = | G79: 0.9 | I79: f = 1 / 1 = | J79: 1
B80: n = Qt / (q * K) = | D80: =ROUND(D79/(G73*C74)/10*10,1) -> 4.1 | G80: V1 = | H80: 20 | J80: V2 = | K80: 20
B81: t1 = cms * n / (Es * 60.00) = | F81: =ROUND((J74*D80/(60*G74))/10*10,2) -> 3.41 | G81: 분
B82: t2 = (ℓ / V1 + ℓ / V2) * 60.00 = | F82: =ROUND(((G77/H80+G77/K80)*60)/10*10,2) -> 57 | G82: 분
B83: t3 = | C83: 0.8 | D83: t4 = | E83: 0.42 | F83: t5 = | G83: 0.5 | H83: cm = t1 + t2 + t3 + t4 +t5 = | K83: =F81+F82+C83+E83+G83 -> 62.13
B84: Q = 60.00 * Qt * f * E * rt / cm = | F84: =ROUND(((60*D79*J79*G79*F78/1000)/K83)/10*10,2) -> 15.64 | G84: ton/hr
B86: ◈ 모래운반
B87: 경운기 | C87: ℓ = | D87: =운반거리!F17 -> 50 | E87: m
B88: q = | C88: 1 | D88: ton | E88: f = | F88: 1 | G88: E = | H88: 0.9
B89: V1 = | C89: 57 | F89: V2 = | G89: 83 | H89: t = | I89: 11 | J89: 분
B90: cm = ℓ / V1 + ℓ / V2 + t = | F90: =ROUND((D87/C89+D87/G89+I89)/10*10,2) -> 12.48
B91: 유류대 보정 계수 = (cm - t) / cm = | F91: =ROUND(((F90-I89)/F90)/10*10,3) -> 0.119
B92: Q = 60.00 * q * f * E / cm = | F92: =ROUND(((60*C88*F88*H88)/F90)/10*10,2) -> 4.33 | G92: ton/hr
B94: ◈ 모래 싣고 부리기
B95: t = | C95: 11 | E95: q = | F95: 1 | G95: ton | H95: f = | I95: 1 | J95: rt = | K95: 1000 | L95: kg
B96: a = t / 450.00 * 2인 * 1 / q*1 / f = | F96: =TRUNC((C95/450*2*1/F95*1/I95)/10*10,2) -> 0.04 | G96: 인
B98: ◈ 자갈적재
C99: 타이어 로우더 : 2.29 ㎥ | F99: q = | G99: 2.29 | H99: ㎥
B100: K = | C100: 1 | F100: Es = | G100: 0.6 | I100: cms = | J100: 37.4 | K100: sec
B102: ◈ 자갈운반
C103: 덤 프 | D103: 15 ton | E103: ℓ = | F103: =운반거리!K7 -> 7 | G103: km | I103: T = | J103: 15000 | K103: kg
B104: L = | C104: 1.2 | E104: rt = | F104: 1800 | G104: kg/㎥ | H104: V1 = | I104: 30 | K104: V2 = | L104: 35
B105: Qt = T * L / rt = | D105: =ROUND(((J103*C104)/F104)/10*10,2) -> 10 | E105: ㎥ | F105: E = | G105: 0.9 | I105: f = 1 / 1 = | J105: 1
B106: n = Qt / (q *k)= | D106: =ROUND(D105/(G99*C100)/10*10,1) -> 4.4 | E106: 회
B107: t1 = cms * n / (Es * 60.00) = | F107: =ROUND((J100*D106/(G100*60))/10*10,2) -> 4.57 | G107: 분
B108: t2 = ℓ / V1 + ℓ / V2 * 60.00 = | F108: =ROUND((((F103/I104)+(F103/L104))*60)/10*10,2) -> 26 | G108: 분
B109: t3 = | C109: 0.8 | D109: t4 = | E109: 0.42 | F109: t5 = | G109: 3.77 | I109: cm = t1 + t2 + t3 + t4 + t5 = | L109: =F107+F108+C109+E109+G109 -> 35.56
B110: Q = 60 * Qt * f * E * rt / cm = | F110: =ROUND((60*D105*J105*G105*(F104/1000)/L109)/10*10,2) -> 27.33 | G110: ton/hr
B112: ◈ 자갈운반
B113: 경운기 | C113: ℓ = | D113: =운반거리!F17 -> 50 | E113: m
B114: q = | C114: 1 | D114: ton | E114: f = | F114: 1 | G114: E = | H114: 0.9
B115: V1 = | C115: 57 | F115: V2 = | G115: 83 | H115: t = | I115: 13 | J115: 분
B116: cm = ℓ / V1 + ℓ / V2 + t = | F116: =ROUND((D113/C115+D113/G115+I115)/10*10,2) -> 14.48
B117: 유류대 보정 계수 = (cm - t) / cm = | F117: =ROUND(((F116-I115)/F116)/10*10,3) -> 0.102
...

Sheet 중기단위당
A1: 단위당중기사용료
A2: 공 종 명 | B2: 사용기계 | C2: 시 간 당 경 비 | F2: 시간당작업량 | H2: 단 위 당 경 비
C3: 운전원 | D3: 재료비 | E3: 손 료 | F3: 수 량 | G3: 단위 | H3: 운전원 | I3: 재료비 | J3: 손 료 | K3: 계
A4: 집석 | B4: 도쟈 19ton | C4: =중기일람!D6 -> 57077 | D4: =중기일람!E6 -> 44323 | E4: =중기일람!F6 -> 28546 | F4: =중기작업량!H13 -> 42.069407 | G4: ㎥ | H4: =INT(C4/F4) -> 1356 | I4: =INT(D4/F4) -> 1053 | J4: =INT(E4/F4) -> 678 | K4: =J4+I4+H4 -> 3087
A5: 표토제거(모래,사질토) | B5: 도쟈 19ton | C5: =중기일람!D6 -> 57077 | D5: =중기일람!E6 -> 44323 | E5: =중기일람!F6 -> 28546 | F5: =중기작업량!H19 -> 62.440678 | G5: ㎥ | H5: =INT(C5/F5) -> 914 | I5: =INT(D5/F5) -> 709 | J5: =INT(E5/F5) -> 457 | K5: =J5+I5+H5 -> 2080
A6: 표토제거(모래,사질토) | B6: 백호 0.7㎥ | C6: =중기일람!D7 -> 57077 | D6: =중기일람!E7 -> 21629 | E6: =중기일람!F7 -> 21332 | F6: =중기작업량!H25 -> 47.52 | G6: ㎥ | H6: =INT(C6/F6) -> 1201 | I6: =INT(D6/F6) -> 455 | J6: =INT(E6/F6) -> 448 | K6: =J6+I6+H6 -> 2104
A7: 흙깍기(모래,사질토) | B7: 도쟈 19ton | C7: =중기일람!D6 -> 57077 | D7: =중기일람!E6 -> 44323 | E7: =중기일람!F6 -> 28546 | F7: =중기작업량!H31 -> 81.172881 | G7: ㎥ | H7: =INT(C7/F7) -> 703 | I7: =INT(D7/F7) -> 546 | J7: =INT(E7/F7) -> 351 | K7: =J7+I7+H7 -> 1600
A8: 흙깍기(풍화대) | B8: 도쟈 19ton | C8: =중기일람!D6 -> 57077 | D8: =중기일람!E6 -> 44323 | E8: =중기일람!F6 -> 28546 | F8: =중기작업량!H37 -> 72.977542 | G8: ㎥ | H8: =INT(C8/F8) -> 782 | I8: =INT(D8/F8) -> 607 | J8: =INT(E8/F8) -> 391 | K8: =J8+I8+H8 -> 1780
A9: 흙깍기(혼전석) | B9: 도쟈 19ton | C9: =중기일람!D6 -> 57077 | D9: =중기일람!E6 -> 44323 | E9: =중기일람!F6 -> 28546 | F9: =중기작업량!H43 -> 43.703475 | G9: ㎥ | H9: =INT(C9/F9) -> 1306 | I9: =INT(D9/F9) -> 1014 | J9: =INT(E9/F9) -> 653 | K9: =J9+I9+H9 -> 2973
A10: 흙깍기(모래,사질토) | B10: 백호 0.7㎥ | C10: =중기일람!D7 -> 57077 | D10: =중기일람!E7 -> 21629 | E10: =중기일람!F7 -> 21332 | F10: =중기작업량!H49 -> 60.48 | G10: ㎥ | H10: =INT(C10/F10) -> 943 | I10: =INT(D10/F10) -> 357 | J10: =INT(E10/F10) -> 352 | K10: =J10+I10+H10 -> 1652
A11: 흙깍기(풍화대) | B11: 백호 0.7㎥ | C11: =중기일람!D7 -> 57077 | D11: =중기일람!E7 -> 21629 | E11: =중기일람!F7 -> 21332 | F11: =중기작업량!H61 -> 42.84 | G11: ㎥ | H11: =INT(C11/F11) -> 1332 | I11: =INT(D11/F11) -> 504 | J11: =INT(E11/F11) -> 497 | K11: =J11+I11+H11 -> 2333
A12: 터파기(사질토) | B12: 백호 0.4㎥ | C12: =중기일람!D7 -> 57077 | D12: =중기일람!E9 -> 9246 | E12: =중기일람!F9 -> 12510 | F12: =중기작업량!H67 -> 40.32 | G12: ㎥ | H12: =INT(C12/F12) -> 1415 | I12: =INT(D12/F12) -> 229 | J12: =INT(E12/F12) -> 310 | K12: =J12+I12+H12 -> 1954
A13: 터파기(사질토) | B13: 백호 0.7㎥ | C13: =중기일람!D7 -> 57077 | D13: =중기일람!E7 -> 21629 | E13: =중기일람!F7 -> 21332 | F13: =중기작업량!H73 -> 63.504 | G13: ㎥ | H13: =INT(C13/F13) -> 898 | I13: =INT(D13/F13) -> 340 | J13: =INT(E13/F13) -> 335 | K13: =J13+I13+H13 -> 1573
A14: 층따기(사질토) | B14: 백호 0.7㎥ | C14: =중기일람!D7 -> 57077 | D14: =중기일람!E7 -> 21629 | E14: =중기일람!F7 -> 21332 | F14: =중기작업량!H67 -> 40.32 | G14: ㎥ | H14: =INT(C14/F14) -> 1415 | I14: =INT(D14/F14) -> 536 | J14: =INT(E14/F14) -> 529 | K14: =J14+I14+H14 -> 2480
A15: 가체절 흙깍기 | B15: 도쟈 19ton | C15: =중기일람!D6 -> 57077 | D15: =중기일람!E6 -> 44323 | E15: =중기일람!F6 -> 28546 | F15: =중기작업량!H84 -> 73.055593 | G15: ㎥ | H15: =INT(C15/F15) -> 781 | I15: =INT(D15/F15) -> 606 | J15: =INT(E15/F15) -> 390 | K15: =J15+I15+H15 -> 1777
A16: 가체절 흙헐기 | B16: 도쟈 19ton | C16: =중기일람!D6 -> 57077 | D16: =중기일람!E6 -> 44323 | E16: =중기일람!F6 -> 28546 | F16: =중기작업량!H90 -> 81.172881 | G16: ㎥ | H16: =INT(C16/F16) -> 703 | I16: =INT(D16/F16) -> 546 | J16: =INT(E16/F16) -> 351 | K16: =J16+I16+H16 -> 1600
A17: 되메우기(토사) | B17: 백호 0.4㎥ | C17: =중기일람!D6 -> 57077 | D17: =D12 -> 9246 | E17: =E12 -> 12510 | F17: =중기작업량!H96 -> 40.32 | G17: ㎥ | H17: =INT(C17/F17) -> 1415 | I17: =INT(D17/F17) -> 229 | J17: =INT(E17/F17) -> 310 | K17: =J17+I17+H17 -> 1954
A18: 되메우기(토사) | B18: 백호 0.7㎥ | C18: =중기일람!D7 -> 57077 | D18: =중기일람!E7 -> 21629 | E18: =중기일람!F7 -> 21332 | F18: =중기작업량!H102 -> 63.504 | G18: ㎥ | H18: =INT(C18/F18) -> 898 | I18: =INT(D18/F18) -> 340 | J18: =INT(E18/F18) -> 335 | K18: =J18+I18+H18 -> 1573
A19: 잔토처리 | B19: 백호 0.7㎥ | C19: =중기일람!D7 -> 57077 | D19: =중기일람!E7 -> 21629 | E19: =중기일람!F7 -> 21332 | F19: =중기작업량!H107 -> 79.2 | G19: ㎥ | H19: =INT(C19/F19) -> 720 | I19: =INT(D19/F19) -> 273 | J19: =INT(E19/F19) -> 269 | K19: =J19+I19+H19 -> 1262
A20: 잔토처리 적재(암) | B20: 백호 0.7㎥ | C20: =중기일람!D8 -> 57077 | D20: =중기일람!E8 -> 21629 | E20: =중기일람!F8 -> 21332 | F20: =중기작업량!H113 -> 25.28 | G20: ㎥ | H20: =INT(C20/F20) -> 2257 | I20: =INT(D20/F20) -> 855 | J20: =INT(E20/F20) -> 843 | K20: =J20+I20+H20 -> 3955
A21: 잔토처리 운반(암) | B21: 덤프 15ton | C21: =중기일람!D17 -> 57077 | D21: =중기일람!E17 -> 33535 | E21: =중기일람!F17 -> 18567 | F21: =중기작업량!F122 -> 19.44 | G21: ㎥ | H21: =INT(C21/F21) -> 2936 | I21: =INT(D21/F21) -> 1725 | J21: =INT(E21/F21) -> 955 | K21: =J21+I21+H21 -> 5616
A22: 유용성토적재(토사) | B22: 백호 0.7㎥ | C22: =중기일람!D7 -> 57077 | D22: =중기일람!E7 -> 21629 | E22: =중기일람!F7 -> 21332 | F22: =중기작업량!H128 -> 94.54 | G22: ㎥ | H22: =INT(C22/F22) -> 603 | I22: =INT(D22/F22) -> 228 | J22: =INT(E22/F22) -> 225 | K22: =J22+I22+H22 -> 1056
A23: 종단유용(토사:ℓ=34m) | B23: 도쟈 19ton | C23: =중기일람!D6 -> 57077 | D23: =중기일람!E6 -> 44323 | E23: =중기일람!F6 -> 28546 | F23: =중기작업량!H134 -> 78.61 | G23: ㎥ | H23: =INT(C23/F23) -> 726 | I23: =INT(D23/F23) -> 563 | J23: =INT(E23/F23) -> 363 | K23: =J23+I23+H23 -> 1652
A24: 종단유용(토사:ℓ=0.12km) | B24: 덤프 15ton | C24: =중기일람!D17 -> 57077 | D24: =중기일람!E17 -> 33535 | E24: =중기일람!F17 -> 18567 | F24: =중기작업량!F144 -> 62.15 | G24: ㎥ | H24: =INT(C24/F24) -> 918 | I24: =INT(D24/F24) -> 539 | J24: =INT(E24/F24) -> 298 | K24: =J24+I24+H24 -> 1755
A25: 종단유용(암:ℓ=34m) | B25: 도쟈 19ton | C25: =중기일람!D6 -> 57077 | D25: =중기일람!E6 -> 44323 | E25: =중기일람!F6 -> 28546 | F25: =중기작업량!H150 -> 78.11 | G25: ㎥ | H25: =INT(C25/F25) -> 730 | I25: =INT(D25/F25) -> 567 | J25: =INT(E25/F25) -> 365 | K25: =J25+I25+H25 -> 1662
A26: 폐콘크리트 적재(철근) | B26: 백호 1.0㎥ | C26: =중기일람!D11 -> 57077 | D26: =중기일람!E11 -> 36360 | E26: =중기일람!F11 -> 25825 | F26: =중기작업량!H156 -> 75.41 | G26: ㎥ | H26: =INT(C26/F26) -> 756 | I26: =INT(D26/F26) -> 482 | J26: =INT(E26/F26) -> 342 | K26: =J26+I26+H26 -> 1580
A27: 폐콘크리트 운반(철근) | B27: 덤프 24ton | C27: =중기일람!D18 -> 57077 | D27: =중기일람!E18 -> 48510 | E27: =중기일람!F18 -> 29465 | F27: =중기작업량!F165 -> 9.85 | G27: ㎥ | H27: =INT(C27/F27) -> 5794 | I27: =INT((D27/F27)*중기작업량!K165) -> 4023 | J27: =INT(E27/F27) -> 2991 | K27: =J27+I27+H27 -> 12808
A28: 폐콘크리트 적재(무근) | B28: 백호 1.0㎥ | C28: =C26 -> 57077 | D28: =D26 -> 36360 | E28: =E26 -> 25825 | F28: =중기작업량!H171 -> 72.26 | G28: ㎥ | H28: =INT(C28/F28) -> 789 | I28: =INT(D28/F28) -> 503 | J28: =INT(E28/F28) -> 357 | K28: =J28+I28+H28 -> 1649
A29: 폐콘크리트 운반(무근) | B29: 덤프 24ton | C29: =중기일람!D18 -> 57077 | D29: =D27 -> 48510 | E29: =E27 -> 29465 | F29: =중기작업량!F180 -> 9.79 | G29: ㎥ | H29: =INT(C29/F29) -> 5830 | I29: =INT((D29/F29)*중기작업량!K180) -> 4023 | J29: =INT(E29/F29) -> 3009 | K29: =J29+I29+H29 -> 12862
A30: 깍기 및 적재(토사) | B30: 백호 0.7㎥ | C30: =중기일람!D7 -> 57077 | D30: =중기일람!E7 -> 21629 | E30: =중기일람!F7 -> 21332 | F30: =중기작업량!H186 -> 67.93 | G30: ㎥ | H30: =INT(C30/F30) -> 840 | I30: =INT(D30/F30) -> 318 | J30: =INT(E30/F30) -> 314 | K30: =J30+I30+H30 -> 1472
A31: 깍기 및 적재(점토) | B31: 백호 0.7㎥ | C31: =중기일람!D7 -> 57077 | D31: =중기일람!E7 -> 21629 | E31: =중기일람!F7 -> 21332 | F31: =중기작업량!H192 -> 56.7 | G31: ㎥ | H31: =INT(C31/F31) -> 1006 | I31: =INT(D31/F31) -> 381 | J31: =INT(E31/F31) -> 376 | K31: =J31+I31+H31 -> 1763
A32: 순성토운반(토사) | B32: 덤프 15ton | C32: =중기일람!D17 -> 57077 | D32: =중기일람!E17 -> 33535 | E32: =중기일람!F17 -> 18567 | F32: =중기작업량!F201 -> 23.17 | G32: ㎥ | H32: =INT(C32/F32) -> 2463 | I32: =INT(D32/F32) -> 1447 | J32: =INT(E32/F32) -> 801 | K32: =J32+I32+H32 -> 4711
A33: 순성토운반(점토) | B33: 덤프 15ton | C33: =중기일람!D17 -> 57077 | D33: =중기일람!E17 -> 33535 | E33: =중기일람!F17 -> 18567 | F33: =중기작업량!F210 -> 12.52 | G33: ㎥ | H33: =INT(C33/F33) -> 4558 | I33: =INT(D33/F33) -> 2678 | J33: =INT(E33/F33) -> 1482 | K33: =J33+I33+H33 -> 8718
A34: 사토적재 | B34: 백호 0.7㎥ | C34: =중기일람!D7 -> 57077 | D34: =중기일람!E7 -> 21629 | E34: =중기일람!F7 -> 21332 | F34: =중기작업량!H216 -> 94.539789 | G34: ㎥ | H34: =INT(C34/F34) -> 603 | I34: =INT(D34/F34) -> 228 | J34: =INT(E34/F34) -> 225 | K34: =J34+I34+H34 -> 1056
A35: 사토운반 | B35: 덤프 15ton | C35: =중기일람!D17 -> 57077 | D35: =중기일람!E17 -> 33535 | E35: =중기일람!F17 -> 18567 | F35: =중기작업량!F225 -> 33.54 | G35: ㎥ | H35: =INT(C35/F35) -> 1701 | I35: =INT(D35/F35) -> 999 | J35: =INT(E35/F35) -> 553 | K35: =J35+I35+H35 -> 3253
A36: 도로자갈부설 | B36: 도쟈 12ton | C36: =중기일람!D4 -> 57077 | D36: =중기일람!E4 -> 25884 | E36: =중기일람!F4 -> 27562 | F36: =중기작업량!F231 -> 112 | G36: ㎥/h | H36: =INT(C36/F36) -> 509 | I36: =INT(D36/F36) -> 231 | J36: =INT(E36/F36) -> 246 | K36: =J36+I36+H36 -> 986
A37: 잔토 사토장 고르기 | B37: 도쟈 19ton | C37: =중기일람!D6 -> 57077 | D37: =중기일람!E6 -> 44323 | E37: =중기일람!F6 -> 28546 | F37: =중기작업량!H238 -> 266.44898 | G37: ㎥/h | H37: =INT(C37/F37) -> 214 | I37: =INT(D37/F37) -> 166 | J37: =INT(E37/F37) -> 107 | K37: =J37+I37+H37 -> 487
A38: 다지기 | B38: 도쟈 19ton | C38: =중기일람!D6 -> 57077 | D38: =중기일람!E6 -> 44323 | E38: =중기일람!F6 -> 28546 | F38: =중기작업량!H244 -> 143.26 | G38: ㎥ | H38: =INT(C38/F38) -> 398 | I38: =INT(D38/F38) -> 309 | J38: =INT(E38/F38) -> 199 | K38: =J38+I38+H38 -> 906
A39: 콤팩터다짐 프레이트콤팩터 | B39: 1.5 ton | C39: =중기일람!D22 -> 35608 | D39: =중기일람!E22 -> 2034 | E39: =중기일람!F22 -> 529 | F39: =중기작업량!F250 -> 9 | G39: ㎥ | H39: =INT(C39/F39) -> 3956 | I39: =INT(D39/F39) -> 226 | J39: =INT(E39/F39) -> 58 | K39: =J39+I39+H39 -> 4240
A40: 암파쇄 브레이카 | B40: 풍화암 | C40: =중기일람!D10 -> 57077 | D40: =중기일람!E10 -> 21629.6 | E40: =중기일람!F10 -> 31671 | F40: =중기작업량!D265 -> 5.5 | G40: ㎥ | H40: =INT(C40/F40) -> 10377 | I40: =INT(D40/F40) -> 3932 | J40: =INT(E40/F40) -> 5758 | K40: =J40+I40+H40 -> 20067
A41: 암파쇄 브레이카 | B41: 연암 | C41: =중기일람!D10 -> 57077 | D41: =중기일람!E10 -> 21629.6 | E41: =중기일람!F10 -> 31671 | F41: =중기작업량!D268 -> 5 | G41: ㎥ | H41: =INT(C41/F41) -> 11415 | I41: =INT(D41/F41) -> 4325 | J41: =INT(E41/F41) -> 6334 | K41: =J41+I41+H41 -> 22074
A42: 암파쇄 브레이카 | B42: 보통암 | C42: =중기일람!D10 -> 57077 | D42: =중기일람!E10 -> 21629.6 | E42: =중기일람!F10 -> 31671 | F42: =중기작업량!D272 -> 3.4 | G42: ㎥ | H42: =INT(C42/F42) -> 16787 | I42: =INT(D42/F42) -> 6361 | J42: =INT(E42/F42) -> 9315 | K42: =J42+I42+H42 -> 32463
A43: 헐기브레이카(무근) | B43: T=30㎝미만 | C43: =중기일람!D10 -> 57077 | D43: =중기일람!E10 -> 21629.6 | E43: =중기일람!F10 -> 31671 | F43: =중기작업량!D276 -> 4.6 | G43: ㎥ | H43: =INT(C43/F43) -> 12408 | I43: =INT(D43/F43) -> 4702 | J43: =INT(E43/F43) -> 6885 | K43: =J43+I43+H43 -> 23995
A44: 헐기 브레이카(무근) | B44: T=30㎝이상 | C44: =중기일람!D10 -> 57077 | D44: =중기일람!E10 -> 21629.6 | E44: =중기일람!F10 -> 31671 | F44: =중기작업량!D280 -> 3.6 | G44: ㎥ | H44: =INT(C44/F44) -> 15854 | I44: =INT(D44/F44) -> 6008 | J44: =INT(E44/F44) -> 8797 | K44: =J44+I44+H44 -> 30659
A45: 헐기 브레이카(철근) | B45: T=30㎝미만 | C45: =중기일람!D10 -> 57077 | D45: =중기일람!E10 -> 21629.6 | E45: =중기일람!F10 -> 31671 | F45: =중기작업량!D284 -> 2.45 | G45: ㎥ | H45: =INT(C45/F45) -> 23296 | I45: =INT(D45/F45) -> 8828 | J45: =INT(E45/F45) -> 12926 | K45: =J45+I45+H45 -> 45050
A46: 헐기 브레이카(철근) | B46: T=30㎝이상 | C46: =중기일람!D10 -> 57077 | D46: =중기일람!E10 -> 21629.6 | E46: =중기일람!F10 -> 31671 | F46: =중기작업량!D288 -> 2.05 | G46: ㎥ | H46: =INT(C46/F46) -> 27842 | I46: =INT(D46/F46) -> 10551 | J46: =INT(E46/F46) -> 15449 | K46: =J46+I46+H46 -> 53842

Sheet 중기작업량
A1: 작업량산출내역
B3: ○ | C3: 유압식립퍼 (풍화암)
D4: 불도져 | E4: 19 ton | G4: ℓ= | H4: 20 | I4: m
D5: f= | E5: 1 | G5: E= | H5: 0.6 | J5: An= | K5: 0.3
D6: cm = ( 0.05 * 1 ) + 0.25 = | H6: 1.25 | I6: 분
D7: Q=60*An*ℓ*f*E/cm | H7: =60*K5*H4*E5*H5/H6 -> 172.8 | I7: ㎥/hr
B9: ○ | C9: 집 석
D10: 불도져 | E10: 19 ton | G10: ℓ= | H10: 20 | I10: m | J10: q= | K10: 3.2*0.96= | L10: 3.07 | M10: ㎥
D11: f=(1/1.3)= | E11: 0.77 | G11: E= | H11: 0.35 | J11: V1= | K11: 40 | L11: V2= | M11: 46
D12: cm = ℓ/V1 + ℓ/V2 + 0.25 = | H12: =ROUND(((H10/K11)+(H10/M11)+0.25)/10*10,2) -> 1.18 | I12: 분
D13: Q = 60 * q * f * E /cm = | H13: =60*L10*E11*H11/H12 -> 42.069407 | I13: ㎥/hr
B15: ○ | C15: 표토제거(모래,사질토)
D16: 불도져 | E16: 19 ton | G16: ℓ= | H16: 20 | I16: m | J16: q= | K16: 3.2*0.96= | L16: 3.07 | M16: ㎥
D17: f=(1/1.25)= | E17: 0.8 | G17: E= | H17: 0.5 | J17: V1= | K17: 40 | L17: V2= | M17: 46
D18: cm = ℓ/V1 + ℓ/V2 + 0.25 = | H18: =ROUND(((H16/K17)+(H16/M17)+0.25)/10*10,2) -> 1.18 | I18: 분
D19: Q = 60 * q * f * E /cm = | H19: =60*L16*E17*H17/H18 -> 62.440678 | I19: ㎥/hr
B21: ○ | C21: 표토제거(모래,사질토)
D22: 백호 | E22: 0.7㎥ | J22: q= | K22: 0.7 | L22: ㎥
D23: f=(1/1.25)= | E23: 0.8 | G23: E= | H23: 0.55 | J23: k= | K23: 0.9
D24: cm = | H24: 21 | I24: 초
D25: Q = 3600 * q * k * f * E /cm = | H25: =3600*K22*K23*E23*H23/H24 -> 47.52 | I25: ㎥/hr
B27: ○ | C27: 흙깍기(모래,사질토)
D28: 불도져 | E28: 19 ton | G28: ℓ= | H28: 20 | I28: m | J28: q= | K28: 3.2*0.96= | L28: 3.07 | M28: ㎥
D29: f=(1/1.25)= | E29: 0.8 | G29: E= | H29: 0.65 | J29: V1= | K29: 40 | L29: V2= | M29: 46
D30: cm = ℓ/V1 + ℓ/V2 + 0.25 = | H30: =ROUND(((H28/K29)+(H28/M29)+0.25)/10*10,2) -> 1.18 | I30: 분
D31: Q = 60 * q * f * E /cm = | H31: =60*L28*E29*H29/H30 -> 81.172881 | I31: ㎥/hr
B33: ○ | C33: 흙깍기(풍화대)
D34: 불도져 | E34: 19 ton | G34: ℓ= | H34: 20 | I34: m | J34: q= | K34: 3.2*0.96= | L34: 3.07 | M34: ㎥
D35: f=(1/1.17)= | E35: 0.85 | G35: E= | H35: 0.55 | J35: V1= | K35: 40 | L35: V2= | M35: 46
D36: cm = ℓ/V1 + ℓ/V2 + 0.25 = | H36: =ROUND(((H34/K35)+(H34/M35)+0.25)/10*10,2) -> 1.18 | I36: 분
D37: Q = 60 * q * f * E /cm = | H37: =60*L34*E35*H35/H36 -> 72.977542 | I37: ㎥/hr
B39: ○ | C39: 흙깍기(혼전석)
D40: 불도져 | E40: 19 ton | G40: ℓ= | H40: 20 | I40: m | J40: q= | K40: 3.2*0.96= | L40: 3.07 | M40: ㎥
D41: f=(1/1.42)= | E41: 0.7 | G41: E= | H41: 0.4 | J41: V1= | K41: 40 | L41: V2= | M41: 46
D42: cm = ℓ/V1 + ℓ/V2 + 0.25 = | H42: =ROUND(((H40/K41)+(H40/M41)+0.25)/10*10,2) -> 1.18 | I42: 분
D43: Q = 60 * q * f * E /cm = | H43: =60*L40*E41*H41/H42-0.005 -> 43.703475 | I43: ㎥/hr
B45: ○ | C45: 흙깍기(모래,사질토)
D46: 백호 | E46: 0.7㎥ | J46: q= | K46: 0.7 | L46: ㎥
D47: f=(1/1.25)= | E47: 0.8 | G47: E= | H47: 0.7 | J47: k= | K47: 0.9
D48: cm = | H48: 21 | I48: 분
D49: Q = 3600 * q * k * f * E /cm = | H49: =3600*K46*K47*E47*H47/H48 -> 60.48 | I49: ㎥/hr
B51: ○ | C51: 흙깍기(혼전석)
D52: 백호 | E52: 0.7㎥ | J52: q= | K52: 0.7 | L52: ㎥
D53: f=(1/1.42)= | E53: 0.7 | G53: E= | H53: 0.45 | J53: k= | K53: 0.55
D54: cm = | H54: 21 | I54: 초
D55: Q = 3600 * q * k * f * E /cm = | H55: =3600*K52*K53*E53*H53/H54 -> 20.79 | I55: ㎥/hr
B57: ○ | C57: 흙깍기(풍화대)
D58: 백호 | E58: 0.7㎥ | J58: q= | K58: 0.7 | L58: ㎥
D59: f=(1/1.17)= | E59: 0.85 | G59: E= | H59: 0.6 | J59: k= | K59: 0.7
D60: cm = | H60: 21 | I60: 초
D61: Q = 3600 * q * k * f * E /cm = | H61: =3600*K58*K59*E59*H59/H60 -> 42.84 | I61: ㎥/hr
B63: ○ | C63: 터파기(모래,사질토,층따기)
D64: 백호 | E64: 0.4㎥ | J64: q= | K64: 0.4 | L64: ㎥
D65: f=(1/1.25)= | E65: 0.8 | G65: E= | H65: 0.7 | J65: k= | K65: 0.9
D66: cm = | H66: 18 | I66: 초
D67: Q = 3600 * q * k * f * E /cm = | H67: =3600*K64*K65*E65*H65/H66 -> 40.32 | I67: ㎥/hr
B69: ○ | C69: 터파기(모래,사질토,층따기)
D70: 백호 | E70: 0.7㎥ | J70: q= | K70: 0.7 | L70: ㎥
D71: f=(1/1.25)= | E71: 0.8 | G71: E= | H71: 0.7 | J71: k= | K71: 0.9
D72: cm = | H72: 20 | I72: 초
D73: Q = 3600 * q * k * f * E /cm = | H73: =3600*K70*K71*E71*H71/H72 -> 63.504 | I73: ㎥/hr
B74: ○ | C74: 터파기(혼전석)
D75: 백호 | E75: 0.7㎥ | J75: q= | K75: 0.7 | L75: ㎥
D76: f=(1/1.42)= | E76: 0.7 | G76: E= | H76: 0.4 | J76: k= | K76: 0.55
D77: cm = | H77: 21 | I77: 초
D78: Q = 3600 * q * k * f * E /cm = | H78: =3600*K75*K76*E76*H76/H77 -> 18.48 | I78: ㎥/hr
B80: ○ | C80: 가체절 흙깍기(토사)
D81: 불도져 | E81: 19.00 ton | G81: ℓ= | H81: 20 | I81: m | J81: q= | K81: 3.2*0.96= | L81: 3.07 | M81: ㎥
D82: f=0.90/1.25= | E82: 0.72 | G82: E= | H82: 0.65 | J82: V1= | K82: 40 | L82: V2= | M82: 46
D83: cm = ℓ/V1 + ℓ/V2 + 0.25 = | H83: =ROUND(H81/K82+H81/M82+0.25,2) -> 1.18 | I83: 분
D84: Q = 60 * q * f * E /cm = | H84: =60*L81*E82*H82/H83 -> 73.055593 | I84: ㎥/hr
B86: ○ | C86: 가체절 흙헐기(토사)
D87: 불도져 | E87: 19.00 ton | G87: ℓ= | H87: 20 | I87: m | J87: q= | K87: 3.2*0.96= | L87: 3.07 | M87: ㎥
D88: f=1.00/1.25= | E88: 0.8 | G88: E= | H88: 0.65 | J88: V1= | K88: 40 | L88: V2= | M88: 46
D89: cm = ℓ/V1 + ℓ/V2 + 0.25 = | H89: =ROUND(H87/K88+H87/M88+0.25,2) -> 1.18 | I89: 분
D90: Q = 60 * q * f * E /cm = | H90: =60*L87*E88*H88/H89 -> 81.172881 | I90: ㎥/hr
B92: ○ | C92: 되메움(모래,사질토,층따기)
D93: 백호 | E93: 0.4㎥ | J93: q= | K93: 0.4 | L93: ㎥
D94: f=(1/1.25)= | E94: 0.8 | G94: E= | H94: 0.7 | J94: k= | K94: 0.9
D95: cm = | H95: 18 | I95: 초
D96: Q = 3600 * q * k * f * E /cm = | H96: =3600*K93*K94*E94*H94/H95 -> 40.32 | I96: ㎥/hr
B98: ○ | C98: 되메움(모래,사질토,층따기)
D99: 백호 | E99: 0.7㎥ | J99: q= | K99: 0.7 | L99: ㎥
D100: f=(1/1.25)= | E100: 0.8 | G100: E= | H100: 0.7 | J100: k= | K100: 0.9
D101: cm = | H101: 20 | I101: 초
D102: Q = 3600 * q * k * f * E /cm = | H102: =3600*K99*K100*E100*H100/H101 -> 63.504 | I102: ㎥/hr
B103: ○ | C103: 잔토처리
D104: 백호 | E104: 0.7㎥ | J104: q= | K104: 0.7 | L104: ㎥
D105: f=(1/1.25)= | E105: 0.8 | G105: E= | H105: 0.75 | J105: k= | K105: 1.1
D106: cm = | H106: 21 | I106: 초
D107: Q = 3600 * q * k * f * E /cm = | H107: =3600*K104*K105*E105*H105/H106 -> 79.2 | I107: ㎥/hr
B109: ○ | C109: 잔토처리(암) 적재
D110: 백호 | E110: 0.7㎥ | J110: q= | K110: 0.7 | L110: ㎥
D111: f=(1.0/1.3)= | E111: 0.77 | G111: E= | H111: 0.45 | J111: k= | K111: 0.55
D112: cm = | H112: 19 | I112: 초
D113: Q = 3600 * q * k * f * E /cm = | H113: =ROUND(3600*K110*K111*E111*H111/H112,2) -> 25.28 | I113: ㎥/hr
B115: ○ | C115: 잔토처리(암) 운반
D116: 덤프 15ton | F116: ℓ= | G116: 0.12 | H116: ㎞ | I116: Qt=T*L/rt= | K116: =ROUND(((K117*E117)/G117)/10*10,2) -> 8.52
D117: L= | E117: 1.25 | F117: rt= | G117: 2200 | H117: ㎏/㎥ | J117: T= | K117: 15000 | L117: ㎏
D118: E(작업효율)= | E118: 0.9 | F118: f=(0.93/1.25)= | H118: 0.74 | I118: n= | J118: Qt/(q*k)= | L118: =ROUND((K116/(K110*K111))/10*10,2) -> 22.13 | M118: 회
...

Sheet 중기일람
A1: 건설기계사용료
A2: 건설기계명 | B2: 규 격 | C2: 건 설 기 계 사 용 료 | G2: 부 기
C3: 계 | D3: 노무비 | E3: 재료비 | F3: 경 비
A4: 불도져 | B4: 12ton(보통) | C4: =D4+E4+F4 -> 110523 | D4: =중기내역!F11 -> 57077 | E4: =중기내역!F22 -> 25884 | F4: =중기내역!F24 -> 27562
B5: 13ton(습지) | C5: =D5+E5+F5 -> 109380 | D5: =중기내역!F43 -> 57077 | E5: =중기내역!F54 -> 27446 | F5: =중기내역!F56 -> 24857
B6: 19ton(보통) | C6: =D6+E6+F6 -> 129946 | D6: =중기내역!F77 -> 57077 | E6: =중기내역!F87 -> 44323 | F6: =중기내역!F89 -> 28546
A7: 유압식백호 | B7: 0.7㎥(보통) | C7: =D7+E7+F7 -> 100038 | D7: =중기내역!F109 -> 57077 | E7: =중기내역!F121 -> 21629 | F7: =중기내역!F123 -> 21332
B8: 0.7㎥(암석) | C8: =D8+E8+F8 -> 100038 | D8: =중기내역!F173 -> 57077 | E8: =중기내역!F181 -> 21629 | F8: =중기내역!F192 -> 21332
B9: 0.2㎥(무한궤도) | C9: =D9+E9+F9 -> 78833 | D9: =중기내역!F141 -> 57077 | E9: =중기내역!F149 -> 9246 | F9: =중기내역!F151 -> 12510
B10: 0.7㎥(브레카용) | C10: =D10+E10+F10 -> 110377.6 | D10: =중기내역!F205 -> 57077 | E10: =중기내역!F213 -> 21629.6 | F10: =중기내역!F224 -> 31671
B11: 1.0㎥(무한궤도) | C11: =D11+E11+F11 -> 119262 | D11: =중기내역!F237 -> 57077 | E11: =중기내역!F249 -> 36360 | F11: =중기내역!F251 -> 25825
A12: 크레인 | B12: 10ton(무한괘도) | C12: =D12+E12+F12 -> 80280 | D12: =중기내역!F269 -> 57077 | E12: =중기내역!F280 -> 10637 | F12: =중기내역!F282 -> 12566
B13: 20ton(무한궤도) | C13: =D13+E13+F13 -> 96678 | D13: =중기내역!F301 -> 57077 | E13: =중기내역!F311 -> 15772 | F13: =중기내역!F313 -> 23829
A14: 트럭탑재형 크레인 | B14: 10ton | C14: =D14+E14+F14 -> 90112 | D14: =중기내역!F333 -> 49479 | E14: =중기내역!F343 -> 18890 | F14: =중기내역!F345 -> 21743
B15: 15ton | C15: =D15+E15+F15 -> 95710 | D15: =중기내역!F365 -> 49479 | E15: =중기내역!F375 -> 20174 | F15: =중기내역!F377 -> 26057
A16: 그레이더 | B16: 일반용3.6m | C16: =D16+E16+F16 -> 132744 | D16: =중기내역!F397 -> 57077 | E16: =중기내역!F407 -> 34415 | F16: =중기내역!F409 -> 41252
A17: 덤프트럭 | B17: 15ton(보통) | C17: =D17+E17+F17 -> 109179 | D17: =중기내역!F429 -> 57077 | E17: =중기내역!F439 -> 33535 | F17: =중기내역!F441 -> 18567
A18: 덤프트럭 | B18: 24ton(보통) | C18: =D18+E18+F18 -> 135052 | D18: =중기내역!F461 -> 57077 | E18: =중기내역!F471 -> 48510 | F18: =중기내역!F473 -> 29465
A19: 진동로울러(자주식) | B19: 10ton | C19: =D19+E19+F19 -> 109592 | D19: =중기내역!F493 -> 57077 | E19: =중기내역!F503 -> 28611 | F19: =중기내역!F505 -> 23904
A20: 양족식 로울러(견인식) | B20: 7ton | C20: =D20+E20+F20 -> 0 | D20: =중기내역!F525 -> 0 | E20: =중기내역!F533 -> 0 | F20: =중기내역!F535 -> 0
A21: 양족식롤러(자주식) | B21: 19ton | C21: =D21+E21+F21 -> 140332 | D21: =중기내역!F557 -> 57077 | E21: =중기내역!F565 -> 49054 | F21: =중기내역!F567 -> 34201
A22: 플레이트 콤펙터 | B22: 1.5ton | C22: =D22+E22+F22 -> 38171 | D22: =중기내역!F589 -> 35608 | E22: =중기내역!F597 -> 2034 | F22: =중기내역!F599 -> 529
A23: 공기압축기 | B23: 7.1㎥/min | C23: =D23+E23+F23 -> 77886 | D23: =중기내역!F620 -> 57077 | E23: =중기내역!F628 -> 17729 | F23: =중기내역!F630 -> 3080
A24: 콘크리트진동기 | B24: 3.5hp D45(엔진식) | C24: =D24+E24+F24 -> 2064 | E24: =중기내역!F663 -> 1864 | F24: =중기내역!F672 -> 200
A25: 에어호스 | B25: 19mm | F25: 48
A26: 소형브레이카 | B26: 25kg | C26: =D26+E26+F26 -> 374 | F26: 374
A27: 대형브레이카 | B27: 0.7㎥ | C27: =D27+E27+F27 -> 10339 | F27: =중기내역!F726 -> 10339
A28: 경운기 | B28: 1ton | C28: =D28+E28+F28 -> 38622 | D28: =중기내역!F685 -> 35608 | E28: =중기내역!F695 -> 2384 | F28: =중기내역!F697 -> 630
A29: 콘크리트캇타 | B29: 320-400mm | C29: =D29+E29+F29 -> 48459 | D29: =중기내역!F750 -> 35608 | E29: =중기내역!F759 -> 11391 | F29: =중기내역!F761 -> 1460
A30: 트레일러 | B30: 20ton | C30: =D30+E30+F30 -> 107144 | D30: =중기내역!F781 -> 57077 | E30: =중기내역!F791 -> 35053 | F30: =중기내역!F793 -> 15014
A31: 물탱크 | B31: 5500L | C31: =D31+E31+F31 -> 76778 | D31: =중기내역!F807 -> 49479 | E31: =중기내역!F820 -> 18478 | F31: =중기내역!F822 -> 8821
A32: 발전기 | B32: 25kw | C32: =D32+E32+F32 -> 46742 | D32: =중기내역!F844 -> 35608 | E32: =중기내역!F852 -> 8149 | F32: =중기내역!F854 -> 2985
A33: 용접기(교류) | B33: 200amp | C33: =D33+E33+F33 -> 80 | F33: =중기내역!F887 -> 80
A34: 융착기 | B34: 100-150mm용 | C34: =D34+E34+F34 -> 1001 | F34: 1001
A35: 융착기 | B35: 200-300mm용 | C35: =D35+E35+F35 -> 1387 | F35: =중기내역!F1111 -> 1387
A36: 양수기 | B36: 디젤엔진 5hp*80mm | C36: =D36+E36+F36 -> 1071 | E36: =중기내역!F912 -> 916 | F36: =중기내역!F928 -> 155
A37: 콘크리트펌프차 | B37: 21m | C37: =D37+E37+F37 -> 132893 | D37: =중기내역!F941 -> 57077 | E37: =중기내역!F951 -> 30330 | F37: =중기내역!F953 -> 45486
A38: 하수관천공기 | B38: 수동식 | C38: =D38+E38+F38 -> 280 | F38: =중기내역!F994 -> 280
A39: 트랙터(타이어) | B39: 2.5Ton | C39: =D39+E39+F39 -> 64142 | D39: =중기내역!F1133 -> 47849 | E39: =중기내역!F1141 -> 13406 | F39: =중기내역!F1143 -> 2887

Sheet 중기내역
A1: 불도져 12ton
A3: 항 | B3: 목 | C3: 수량 | D3: 단위 | E3: 단 가 | F3: 금 액 | G3: 비 고
A5: 노무비 | B5: 운전수 | C5: 1 | D5: 인 | E5: =U5 -> 57077 | F5: =U5 -> 57077 | G5: =노임!F3 -> 273971 | H5: × | I5: 1 | J5: / | K5: 8 | L5: × | M5: 25 | N5: / | O5: 20 | P5: × | Q5: 16 | R5: / | S5: 12 | T5: = | U5: =INT(G5*I5/K5*M5/O5*Q5/S5) -> 57077
B7: 조 수 | D7: 〃 | E7: =U7 -> 0 | F7: =TRUNC((C7*E7),1) -> 0 | H7: × | I7: 1 | J7: / | K7: =K5 -> 8 | L7: × | M7: =M5 -> 25 | N7: / | O7: =O5 -> 20 | P7: × | Q7: =Q5 -> 16 | R7: / | S7: =S5 -> 12 | T7: = | U7: =INT(G7*I7/K7*M7/O7*Q7/S7) -> 0
B9: 조 장 | D9: 〃 | E9: =U9 -> 0 | F9: =TRUNC((C9*E9),1) -> 0 | H9: × | I9: 1 | J9: / | K9: =K7 -> 8 | L9: × | M9: =M7 -> 25 | N9: / | O9: =O7 -> 20 | P9: × | Q9: =Q7 -> 16 | R9: / | S9: =S7 -> 12 | T9: = | U9: =INT(G9*I9/K9*M9/O9*Q9/S9) -> 0
B11: 소 계 | F11: =F9+F7+F5 -> 57077
A13: 재료비 | B13: 주연료(경유) | C13: 14.6 | D13: ℓ | E13: =자재!$F$19 -> 1528.38 | F13: =ROUNDDOWN(E13*C13,1) -> 22314.3
B15: 잡유(주연료의16%) | C15: 0.16 | E15: =F13 -> 22314.3 | F15: =ROUNDDOWN(E15*C15,1) -> 3570.2
B22: 소 계 | F22: =INT(F20+F18+F15+F13) -> 25884
A24: 경 비 | B24: 손 료 | F24: =INT(H24*M24*O24) -> 27562 | H24: 152197000 | L24: × | M24: 1811 | N24: × | O24: 1e-07
A32: 합 계 | F32: =INT(F24+F22+F11) -> 110523
A33: 불도져 13ton (습지)
A35: 항 | B35: 목 | C35: 수량 | D35: 단위 | E35: 단 가 | F35: 금 액 | G35: 비 고
A37: 노무비 | B37: 운전수 | C37: 1 | D37: 인 | E37: =U37 -> 57077 | F37: =U37 -> 57077 | G37: =노임!F3 -> 273971 | H37: × | I37: 1 | J37: / | K37: 8 | L37: × | M37: 25 | N37: / | O37: 20 | P37: × | Q37: 16 | R37: / | S37: 12 | T37: = | U37: =INT(G37*I37/K37*M37/O37*Q37/S37) -> 57077
B39: 조 수 | D39: 〃 | E39: =U39 -> 0 | F39: =TRUNC((C39*E39),1) -> 0 | H39: × | I39: 1 | J39: / | K39: =K37 -> 8 | L39: × | M39: =M37 -> 25 | N39: / | O39: =O37 -> 20 | P39: × | Q39: =Q37 -> 16 | R39: / | S39: =S37 -> 12 | T39: = | U39: =INT(G39*I39/K39*M39/O39*Q39/S39) -> 0
B41: 조 장 | D41: 〃 | E41: =U41 -> 0 | F41: =TRUNC((C41*E41),1) -> 0 | H41: × | I41: 1 | J41: / | K41: =K39 -> 8 | L41: × | M41: =M39 -> 25 | N41: / | O41: =O39 -> 20 | P41: × | Q41: =Q39 -> 16 | R41: / | S41: =S39 -> 12 | T41: = | U41: =INT(G41*I41/K41*M41/O41*Q41/S41) -> 0
B43: 소 계 | F43: =F41+F39+F37 -> 57077
A45: 재료비 | B45: 주연료(경유) | C45: 14.6 | D45: ℓ | E45: =자재!$F$19 -> 1528.38 | F45: =ROUNDDOWN(E45*C45,1) -> 22314.3
B47: 잡유(주연료의23%) | C47: 0.23 | E47: =F45 -> 22314.3 | F47: =ROUNDDOWN(E47*C47,1) -> 5132.2
B54: 소 계 | F54: =INT(F52+F50+F47+F45) -> 27446
A56: 경 비 | B56: 손 료 | F56: =INT(H56*M56*O56) -> 24857 | H56: 137261000 | L56: × | M56: 1811 | N56: × | O56: 1e-07
A66: 합 계 | F66: =INT(F56+F54+F43) -> 109380
A67: 불도져 19ton
A69: 항 | B69: 목 | C69: 수량 | D69: 단위 | E69: 단 가 | F69: 금 액 | G69: 비 고
A71: 노무비 | B71: 운전수 | C71: 1 | D71: 인 | E71: =U71 -> 57077 | F71: =U71 -> 57077 | G71: =노임!F3 -> 273971 | H71: × | I71: 1 | J71: / | K71: =K37 -> 8 | L71: × | M71: =M37 -> 25 | N71: / | O71: =O37 -> 20 | P71: × | Q71: =Q37 -> 16 | R71: / | S71: =S37 -> 12 | T71: = | U71: =INT(G71*I71/K71*M71/O71*Q71/S71) -> 57077
B73: 조 수 | C73: 0 | D73: 〃 | E73: =U73 -> 0 | F73: =TRUNC((C73*E73),1) -> 0 | H73: × | I73: 1 | J73: / | K73: =K39 -> 8 | L73: × | M73: =M39 -> 25 | N73: / | O73: =O39 -> 20 | P73: × | Q73: =Q39 -> 16 | R73: / | S73: =S39 -> 12 | T73: = | U73: =INT(G73*I73/K73*M73/O73*Q73/S73) -> 0
B75: 조 장 | C75: 0 | D75: 〃 | E75: =U75 -> 0 | F75: =TRUNC((C75*E75),1) -> 0 | H75: × | I75: 1 | J75: / | K75: =K41 -> 8 | L75: × | M75: =M41 -> 25 | N75: / | O75: =O41 -> 20 | P75: × | Q75: =Q41 -> 16 | R75: / | S75: =S41 -> 12 | T75: = | U75: =INT(G75*I75/K75*M75/O75*Q75/S75) -> 0
B77: 소 계 | F77: =F75+F73+F71 -> 57077
A79: 재료비 | B79: 주연료(경유) | C79: 25 | D79: ℓ | E79: =자재!F19 -> 1528.38 | F79: =ROUNDDOWN(E79*C79,1) -> 38209.5
B81: 잡유(주연료의16%) | C81: 0.16 | E81: =F79 -> 38209.5 | F81: =ROUNDDOWN(E81*C81,1) -> 6113.5
B87: 소 계 | F87: =INT(F85+F83+F81+F79) -> 44323
A89: 경 비 | B89: 손 료 | F89: =INT(H89*M89*O89) -> 28546 | H89: 157626000 | L89: × | M89: 1811 | N89: × | O89: 1e-07
A98: 합 계 | F98: =INT(F89+F87+F77) -> 129946
A99: 유압식백호 0.7㎥
A101: 항 | B101: 목 | C101: 수량 | D101: 단위 | E101: 단 가 | F101: 금 액 | G101: 비 고
A103: 노무비 | B103: 운전수 | C103: 1 | D103: 인 | E103: =U103 -> 57077 | F103: =U103 -> 57077 | G103: =노임!F3 -> 273971 | H103: × | I103: 1 | J103: / | K103: =K71 -> 8 | L103: × | M103: =M71 -> 25 | N103: / | O103: =O71 -> 20 | P103: × | Q103: =Q71 -> 16 | R103: / | S103: =S71 -> 12 | T103: = | U103: =INT(G103*I103/K103*M103/O103*Q103/S103) -> 57077
B105: 조 수 | D105: 〃 | F105: =TRUNC((C105*E105),1) -> 0 | H105: × | I105: 1 | J105: / | K105: =K73 -> 8 | L105: × | M105: =M73 -> 25 | N105: / | O105: =O73 -> 20 | P105: × | Q105: =Q73 -> 16 | R105: / | S105: =S73 -> 12 | T105: = | U105: =INT(G105*I105/K105*M105/O105*Q105/S105) -> 0
B107: 조 장 | D107: 〃 | F107: =TRUNC((C107*E107),1) -> 0 | H107: × | I107: 1 | J107: / | K107: =K75 -> 8 | L107: × | M107: =M75 -> 25 | N107: / | O107: =O75 -> 20 | P107: × | Q107: =Q75 -> 16 | R107: / | S107: =S75 -> 12 | T107: = | U107: =INT(G107*I107/K107*M107/O107*Q107/S107) -> 0
B109: 소 계 | F109: =F107+F105+F103 -> 57077
A111: 재료비 | B111: 주연료(경유) | C111: 11.6 | D111: ℓ | E111: =E79 -> 1528.38 | F111: =ROUNDDOWN(E111*C111,1) -> 17729.2
B113: 잡유(주연료의22%) | C113: 0.22 | E113: =F111 -> 17729.2 | F113: =ROUNDDOWN(E113*C113,1) -> 3900.4
B121: 소 계 | F121: =INT(F119+F117+F115+F113+F111) -> 21629
A123: 경 비 | B123: 손 료 | F123: =INT(H123*M123*O123) -> 21332 | H123: 102313000 | L123: × | M123: 2085 | N123: × | O123: 1e-07
A130: 합 계 | F130: =F123+F121+F109 -> 100038
A131: 유압식백호 0.2㎥
A133: 항 | B133: 목 | C133: 수량 | D133: 단위 | E133: 단 가 | F133: 금 액 | G133: 비 고
A135: 노무비 | B135: 운전수 | C135: 1 | D135: 인 | E135: =U135 -> 57077 | F135: =F103 -> 57077 | G135: =노임!$F3 -> 273971 | H135: × | I135: 1 | J135: / | K135: =K103 -> 8 | L135: × | M135: =M103 -> 25 | N135: / | O135: =O103 -> 20 | P135: × | Q135: =Q103 -> 16 | R135: / | S135: =S103 -> 12 | T135: = | U135: =INT(G135*I135/K135*M135/O135*Q135/S135) -> 57077
B137: 조 수 | D137: 〃 | F137: =TRUNC((C137*E137),1) -> 0 | H137: × | I137: 1 | J137: / | K137: =K105 -> 8 | L137: × | M137: =M105 -> 25 | N137: / | O137: =O105 -> 20 | P137: × | Q137: =Q105 -> 16 | R137: / | S137: =S105 -> 12 | T137: = | U137: =INT(G137*I137/K137*M137/O137*Q137/S137) -> 0
B139: 조 장 | D139: 〃 | F139: =TRUNC((C139*E139),1) -> 0 | H139: × | I139: 1 | J139: / | K139: =K107 -> 8 | L139: × | M139: =M107 -> 25 | N139: / | O139: =O107 -> 20 | P139: × | Q139: =Q107 -> 16 | R139: / | S139: =S107 -> 12 | T139: = | U139: =INT(G139*I139/K139*M139/O139*Q139/S139) -> 0
B141: 소 계 | F141: =INT(F139+F137+F135) -> 57077
A143: 재료비 | B143: 주연료(경유) | C143: 5 | D143: ℓ | E143: =E111 -> 1528.38 | F143: =ROUNDDOWN(E143*C143,1) -> 7641.9
B145: 잡유(주연료의25%) | C145: 0.21 | E145: =F143 -> 7641.9 | F145: =ROUNDDOWN(E145*C145,1) -> 1604.7
B149: 소 계 | F149: =INT(F147+F145+F143) -> 9246
A151: 경 비 | B151: 손 료(백호우) | F151: =INT(H151*M151*O151) -> 12510 | H151: 60000000 | L151: × | M151: 2085 | N151: × | O151: 1e-07
A162: 합 계 | F162: =F141+F149+F151 -> 78833
A163: 유압식백호 0.7㎥ (암석)
A165: 항 | B165: 목 | C165: 수량 | D165: 단위 | E165: 단 가 | F165: 금 액 | G165: 비 고
A167: 노무비 | B167: 운전수 | C167: 1 | D167: 인 | E167: =U167 -> 57077 | F167: =U167 -> 57077 | G167: =노임!F3 -> 273971 | H167: × | I167: 1 | J167: / | K167: =K135 -> 8 | L167: × | M167: =M135 -> 25 | N167: / | O167: =O135 -> 20 | P167: × | Q167: =Q135 -> 16 | R167: / | S167: =S135 -> 12 | T167: = | U167: =INT(G167*I167/K167*M167/O167*Q167/S167) -> 57077
B169: 조 수 | D169: 〃 | F169: =TRUNC((C169*E169),1) -> 0 | H169: × | I169: 1 | J169: / | K169: =K137 -> 8 | L169: × | M169: =M137 -> 25 | N169: / | O169: =O137 -> 20 | P169: × | Q169: =Q137 -> 16 | R169: / | S169: =S137 -> 12 | T169: = | U169: =INT(G169*I169/K169*M169/O169*Q169/S169) -> 0
B171: 조 장 | D171: 〃 | F171: =TRUNC((C171*E171),1) -> 0 | H171: × | I171: 1 | J171: / | K171: =K139 -> 8 | L171: × | M171: =M139 -> 25 | N171: / | O171: =O139 -> 20 | P171: × | Q171: =Q139 -> 16 | R171: / | S171: =S139 -> 12 | T171: = | U171: =INT(G171*I171/K171*M171/O171*Q171/S171) -> 0
B173: 소 계 | F173: =F171+F169+F167 -> 57077
A175: 재료비 | B175: 주연료(경유) | C175: 11.6 | D175: ℓ | E175: =자재!F19 -> 1528.38 | F175: =ROUNDDOWN(E175*C175,1) -> 17729.2
B177: 잡유(주연료의22%) | C177: 0.22 | E177: =F175 -> 17729.2 | F177: =ROUNDDOWN(E177*C177,1) -> 3900.4
B181: 소 계 | F181: =INT(F179+F177+F175) -> 21629
A183: 경 비 | B183: 손 료(백호우) | F183: =INT(H183*M183*O183) -> 21332 | H183: 102313000 | L183: × | M183: 2085 | N183: × | O183: 1e-07
B192: 소 계 | F192: =SUM(F182:F191) -> 21332
A194: 합 계 | F194: =F173+F181+F183 -> 100038
A195: 유압식백호 0.7㎥ (브레이카용)
A197: 항 | B197: 목 | C197: 수량 | D197: 단위 | E197: 단 가 | F197: 금 액 | G197: 비 고
B198: 중기 운전수 | C198: 1 | D198: 인 | E198: =U198 -> 57077 | F198: =U198 -> 57077 | G198: =노임!F3 -> 273971 | H198: × | I198: 1 | J198: / | K198: 8 | L198: × | M198: 25 | N198: / | O198: 20 | P198: × | Q198: 16 | R198: / | S198: 12 | T198: = | U198: =INT(G198*I198/K198*M198/O198*Q198/S198) -> 57077
A199: 노무비
B200: 조 수 | D200: 〃 | F200: =TRUNC((C200*E200),1) -> 0 | H200: × | I200: 1 | J200: / | K200: 8 | L200: × | M200: 25 | N200: / | O200: 20 | P200: × | Q200: 16 | R200: / | S200: 12 | T200: = | U200: =INT(G200*I200/K200*M200/O200*Q200/S200) -> 0
B202: 조 장 | D202: 〃 | F202: =TRUNC((C202*E202),1) -> 0 | H202: × | I202: 1 | J202: / | K202: 8 | L202: × | M202: 25 | N202: / | O202: 20 | P202: × | Q202: 16 | R202: / | S202: 12 | T202: = | U202: =INT(G202*I202/K202*M202/O202*Q202/S202) -> 0
B205: 소 계 | F205: =INT(F204+F202+F200+F198) -> 57077
A207: 재료비 | B207: 주연료(경유) | C207: 11.6 | D207: ℓ | E207: =E143 -> 1528.38 | F207: =ROUNDDOWN(E207*C207,1) -> 17729.2
B209: 잡유(주연료의20%) | C209: 0.22 | E209: =F207 -> 17729.2 | F209: =ROUNDDOWN(E209*C209,1) -> 3900.4
B213: 소 계 | F213: =F207+F209 -> 21629.6
A215: 경 비 | B215: 손 료(백호우) | F215: =INT(H215*M215*O215) -> 21332 | H215: 102313000 | L215: × | M215: 2085 | N215: × | O215: 1e-07
B217: 손 료(브레이카) | F217: =INT(H217*M217*O217) -> 10339 | H217: =중기가격!E17 -> 15827000 | L217: × | M217: 6533 | N217: × | O217: 1e-07
B224: 소 계 | F224: =F219+F217+F215 -> 31671
A226: 합 계 | F226: =F205+F213+F224 -> 110377.6
A227: 유압식백호 1.0㎥
A229: 항 | B229: 목 | C229: 수량 | D229: 단위 | E229: 단 가 | F229: 금 액 | G229: 비 고
A231: 노무비 | B231: 운전수 | C231: 1 | D231: 인 | E231: =U231 -> 57077 | F231: =U231 -> 57077 | G231: =노임!F3 -> 273971 | H231: × | I231: 1 | J231: / | K231: 8 | L231: × | M231: 25 | N231: / | O231: 20 | P231: × | Q231: 16 | R231: / | S231: 12 | T231: = | U231: =INT(G231*I231/K231*M231/O231*Q231/S231) -> 57077
B233: 조 수 | D233: 〃 | F233: =TRUNC((C233*E233),1) -> 0 | H233: × | I233: 1 | J233: / | K233: 8 | L233: × | M233: 25 | N233: / | O233: 20 | P233: × | Q233: 16 | R233: / | S233: 12 | T233: = | U233: =INT(G233*I233/K233*M233/O233*Q233/S233) -> 0
B235: 조 장 | D235: 〃 | F235: =TRUNC((C235*E235),1) -> 0 | H235: × | I235: 1 | J235: / | K235: 8 | L235: × | M235: 25 | N235: / | O235: 20 | P235: × | Q235: 16 | R235: / | S235: 12 | T235: = | U235: =INT(G235*I235/K235*M235/O235*Q235/S235) -> 0
B237: 소 계 | F237: =F235+F233+F231 -> 57077
A239: 재료비 | B239: 주연료(경유) | C239: 19.5 | D239: ℓ | E239: =E207 -> 1528.38 | F239: =ROUNDDOWN(E239*C239,1) -> 29803.4
B241: 잡유(주연료의22%) | C241: 0.22 | E241: =F239 -> 29803.4 | F241: =ROUNDDOWN(E241*C241,1) -> 6556.7
B249: 소 계 | F249: =INT(F247+F245+F243+F241+F239) -> 36360
A251: 경 비 | B251: 손 료 | F251: =INT(H251*M251*O251) -> 25825 | H251: 123862000 | L251: × | M251: 2085 | N251: × | O251: 1e-07
A258: 합 계 | F258: =F251+F249+F237 -> 119262
A259: 크레인 10ton
A261: 항 | B261: 목 | C261: 수량 | D261: 단위 | E261: 단 가 | F261: 금 액 | G261: 비 고
A263: 노무비 | B263: 운전수 | C263: 1 | D263: 인 | E263: =U263 -> 57077 | F263: =U263 -> 57077 | G263: =노임!$F$3 -> 273971 | H263: × | I263: 1 | J263: / | K263: 8 | L263: × | M263: 25 | N263: / | O263: 20 | P263: × | Q263: 16 | R263: / | S263: 12 | T263: = | U263: =INT(G263*I263/K263*M263/O263*Q263/S263) -> 57077
B265: 조 수 | D265: 〃 | F265: =TRUNC((C265*E265),1) -> 0 | H265: × | I265: 1 | J265: / | K265: 8 | L265: × | M265: 25 | N265: / | O265: 20 | P265: × | Q265: 16 | R265: / | S265: 12 | T265: = | U265: =INT(G265*I265/K265*M265/O265*Q265/S265) -> 0
B267: 조 장 | D267: 〃 | F267: =TRUNC((C267*E267),1) -> 0 | H267: × | I267: 1 | J267: / | K267: 8 | L267: × | M267: 25 | N267: / | O267: 20 | P267: × | Q267: 16 | R267: / | S267: 12 | T267: = | U267: =INT(G267*I267/K267*M267/O267*Q267/S267) -> 0
B269: 소 계 | F269: =INT(F267+F265+F263) -> 57077
A271: 재료비 | B271: 주연료(경유) | C271: 5.8 | D271: ℓ | E271: =자재!$F$19 -> 1528.38 | F271: =ROUNDDOWN(E271*C271,1) -> 8864.6
B273: 잡유(주연료의20%) | C273: 0.2 | E273: =F271 -> 8864.6 | F273: =ROUNDDOWN(E273*C273,1) -> 1772.9
...

Sheet 중기가격
A1: 건설기계가격 | E1: 환 율 | F1: 1120.7
A2: 품 명 | B2: 규 격 | D2: 가 | E2: 격 | F2: 부 기
C3: 단위 | D3: ＄ | E3: \
A4: 불도우저 | B4: 4 ton(초습지) | C4: 대 | E4: 40586000
A5: " | B5: 12ton 무한궤도 | C5: 〃 | E5: 175000000
A6: 〃 | B6: 13ton(습지) 무한궤도 | C6: 〃 | E6: 152011000
A7: 〃 | B7: 19ton 무한궤도 | C7: 〃 | E7: 178140000
A8: 〃 | B8: 19ton 무한궤도(립퍼) | C8: 〃 | E8: 15980000
A9: 모터그레이더 | B9: 3.6 m | C9: 〃 | E9: 282357000
A10: 유압식 백호 | B10: 0.4㎥(보통) 무한궤도 | C10: 〃 | E10: 76714000
A11: 〃 | B11: 0.7㎥(보통) 무한궤도 | C11: 〃 | E11: 108021000
A12: 〃 | B12: 0.7㎥(습지) 무한궤도 | C12: 〃 | E12: 147973000
A13: 〃 | B13: 0.7㎥(브레이카) 무한궤도 | C13: 〃 | E13: 96703000
A14: 〃 | B14: 1.0㎥(보통) 무한궤도 | C14: 〃 | E14: 130772000
A15: 로 우 더 | B15: 1.34㎥(타이어) | C15: 〃 | E15: 83595000
... A37: 〃 | B37: 섹션호스 150×6m | C37: 〃 | E37: 76200
A38: 디젤파일햄머 | B38: 1.5 TON | C38: 〃 | E38: =INT(F1*D38/1000)*1000 -> 0
A39: 진동로울러(자주식) | B39: 4.4 TON | C39: 〃 | E39: 19618000
A40: 진동로울러(자주식) | B40: 10 TON | C40: 〃 | E40: 88085000
A41: 램 머 | B41: 80 ㎏ | C41: 〃 | E41: 1210000
A42: 콘크리트 펌푸차 41m 80㎥/H | C42: 〃 | E42: 328357000
A43: 콘크리트 펌푸차 21m 65-75㎥/H | C43: 〃 | E43: 172299000
A44: 진동로울러(헨드가이드식) | B44: 0.7TON | C44: 〃 | E44: 6339000
A45: 라인마아커 | B45: 10km/h | C45: 〃 | E45: 54585000
A46: 머캐덤 로울러(자주식) | B46: 10Ton | C46: 〃 | E46: 51074000
A47: 텐덤 로울러(자주식) | B47: 8Ton | C47: 〃 | E47: 44916000
A48: 타이어로울러(자주식) | B48: 8Ton | C48: 〃 | E48: 57442000
A49: 양족식로울러(자주식) | B49: 19 Ton | C49: 〃 | E49: 190726000
A50: 플레이트콤펙터(1.5ton) | B50: 1.5Ton | C50: 〃 | E50: 1522000
A51: 공기압축기 | B51: 3.5㎥/Min | C51: 〃 | E51: 12895000
A52: " | B52: 7.1㎥/Min | C52: 〃 | E52: 18668000
A53: " | B53: 10.3㎥/Min | C53: 〃 | E53: 30398000
A54: " | B54: 17㎥/Min | C54: 〃 | E54: 33253000
A55: 착암기(래그헤머) | B55: 2.7㎥/Min | C55: 〃 | E55: =INT(F1*D55/1000)*1000 -> 0
A56: 에어호스 | B56: 3/4″ | C56: 〃 | E56: 97000
A57: 크로울러드릴(17㎥/min) | B57: 17㎥/Min | C57: 〃 | E57: 41279000
A58: 용접기(교류) | B58: 200AMP | C58: 〃 | E58: 359000
A59: 발 전 기 | B59: 50Kw | C59: 〃 | E59: 18238000
A60: 페이브먼트 브레이카 | B60: 15.9kg | C60: 〃 | E60: =INT(F1*D60/1000)*1000 -> 0
A61: " | B61: 25kg | C61: 〃 | E61: =INT(F1*D61/1000)*1000 -> 0
A62: 콘크리트 펌프 | B62: 12~15㎥/min | C62: eo | E62: =INT(F1*D62/1000)*1000 -> 0
A63: 디젤엔진 | B63: 35HP | C63: 〃 | E63: 3324000
A64: 유압식 리퍼 | B64: 유압식 리퍼(19ton) | C64: 〃 | E64: =INT(F1*D64/1000)*1000 -> 0
A65: 유압식 진동 콤펙터 | B65: 0.7㎥ | C65: 〃 | E65: 13751000
A66: 양 수 기 | B66: 50mm | C66: 〃 | E66: 160000
A67: 디젤엔진 | B67: 5HP | C67: 〃 | E67: 284000
A68: 섹숀호스 | B68: 65×6m | C68: 〃 | E68: 15330
A69: 양 수 기 | B69: 80mm | C69: 〃 | E69: 200000
A70: 섹숀호스 | B70: 75×6m | C70: 〃 | E70: 18246
A71: 로 우 더(타이어식) | B71: q=1.72㎥ | C71: 〃 | E71: 95229000
A72: 유압식 백호(습지) | B72: q=0.4㎥ | C72: 〃 | E72: 73754000
A73: 발 전 기 | B73: 25Kw | C73: 〃 | E73: 13275000
A74: 물탱크 | B74: 5500 | C74: 〃 | E74: 43412000
A75: 융착기 | B75: 200~300mm | C75: 〃 | E75: 6863000
A76: 콘크리트캇타 | B76: 320-400mm | C76: 〃 | E76: 2331000
... A83: 트랙터(타이어) | B83: 35톤 | C83: 〃 | E83: 18342000

Sheet 노임
A1: 노임단가
A2: 종 별 | B2: 단 가 | C2: 종 별 | D2: 단 가 | E2: 종 별 | F2: 단 가
A3: 건축목공 | B3: 277642 | C3: 콘크리트공 | D3: 266361 | E3: 건설기계운전사 | F3: 273971
A4: 형틀목공 | B4: 272931 | C4: 배관공 | D4: 238145 | E4: 건설기계조장 | F4: 202954
A5: 창호공 | B5: 247188 | C5: 도장공 | D5: 253409 | E5: 화물차운전사 | F5: 237500
A6: 철공 | B6: 239808 | C6: 내장공 | D6: 252249 | E6: 일반기계운전사 | F6: 170920
A7: 철근공 | B7: 268187 | C7: 화약취급공 | D7: 258751 | E7: 건설기계운전조수 | F7: 폐지
A8: 철판공 | B8: 221481 | C8: 착암공 | D8: 220081 | E8: 기계설비공 | F8: 237652
A9: 샷시공 | B9: 창호공으로통합 | C9: 포장공 | D9: 267989 | E9: 유리공 | F9: 248139
A10: 절단공 | B10: 철공으로통합 | C10: 포설공 | D10: 216121 | E10: 덕트공(함석공+덕트공) | F10: 201482
A11: 석공 | B11: 268908 | C11: 작업반장 | D11: 215907 | E11: 용접공 | F11: 278326
A12: 비계공 | B12: 279433 | C12: 인력운반공(목도) | D12: 180404 | E12: 할석공 | F12: 236986
A13: 미장공 | B13: 272354 | C13: 특별인부 | D13: 226122 | E13: 연마공 | F13: 201535
A14: 방수공 | B14: 220722 | C14: 보통인부 | D14: 172068 | E14: 플랜트용접공 | F14: 299776
A15: 코킹공 | B15: 206732 | C15: 조적공 | D15: 266624 | E15: 조경공 | F15: 224132
A16: 배관공(수도) | B16: 262580

Sheet 자재
A1: 자 재 단 가
A2: 종 별 | C2: 규 격 | D2: 원수 | E2: 단위 | F2: 단 가 | G2: 비 고
A3: 항 | B3: 목
A4: 목재 | B4: 원목 | C4: 말구 ø9 - 15 ㎝ ℓ=1.8 - 2.7 m | D4: 1 | E4: ㎥ | F4: 173652 | G4: 2024 한국농어촌공사 설계단가
B5: 비계목(육송) | C5: 1.8 m 말구 5-6cm | D5: 1 | E5: 본 | F5: 6346 | G5: 2024 한국농어촌공사 설계단가
B6: 비계목(육송) | C6: 2.7m 말구 5-6cm | D6: 1 | E6: 본 | F6: 9517 | G6: 2024 한국농어촌공사 설계단가
B7: 각재 | C7: 육송(3.6*9.0*9.0) | D7: 1 | E7: ㎥ | F7: 439299 | G7: 2024 한국농어촌공사 설계단가
B8: 각재 | C8: 미송(3.6*4.5*4.5) | D8: 1 | E8: ㎥ | F8: 426000 | G8: 2024 한국농어촌공사 설계단가
B9: 각재 | C9: 라왕(3.6*4.5*9.0) | D9: 1 | E9: ㎥ | F9: 1026000 | G9: 2024 한국농어촌공사 설계단가
B10: 판재 | C10: 육송 | D10: 1 | E10: ㎥ | F10: 483803 | G10: 2024 한국농어촌공사 설계단가
B11: 판재 | C11: 미송 | D11: 1 | E11: ㎥ | F11: 462000 | G11: 2024 한국농어촌공사 설계단가
B12: 판재 | C12: 라왕 | D12: 1 | E12: ㎥ | F12: 1080000 | G12: 2024 한국농어촌공사 설계단가
B13: 내부판넬 | C13: 1200×2400(목재문) | D13: 1 | E13: 개 | F13: 72960 | G13: 2024 한국농어촌공사 설계단가
B14: 꼬치 | D14: 1 | E14: 본 | F14: 9 | G14: 2024 한국농어촌공사 설계단가
B15: 합판 | C15: (보통 1급) 2.7㎜×121×242㎝ | D15: 1 | E15: ㎡ | F15: 2532 | G15: 2024 한국농어촌공사 설계단가
B16: 합판 | C16: (내수급)12㎜×121cm×242cm | D16: 1 | E16: ㎡ | F16: 8193 | G16: 2024 한국농어촌공사 설계단가
B17: 천정판 | C17: 미장P/W+50mmGL | D17: 1 | E17: 매 | F17: 10800 | G17: 물정∥(15/01-468)성우기술
A18: 석유화학제품 | B18: 휘발유 | C18: 무연 | D18: 1 | E18: ℓ | F18: 1695.23 | G18: 한국석유공사 '24년 07월 1주
B19: 경유 | C19: 저유황 | D19: 1 | E19: ℓ | F19: 1528.38 | G19: 한국석유공사 '24년 07월 1주
B20: 중유 | C20: 저유황 (방카C유) | D20: 1 | E20: ℓ | F20: 950 | G20: 한국석유공사 '24년 07월 1주
B21: 전기뇌관(2.5m) | C21: 하이데토 플러스LP/MS | D21: 1 | E21: 개 | F21: 1470 | G21: 2024 한국농어촌공사 설계단가
B22: 에멀젼폭약 | C22: 뉴마이트 플러스1(25mm) | D22: 1 | E22: kg | F22: 2770 | G22: 2024 한국농어촌공사 설계단가
B23: 아세칠렌 | C23: 3kg B급 | D23: 1 | E23: kg | F23: 9500 | G23: 2024 한국농어촌공사 설계단가
B24: 산소 | C24: 6000ℓ | D24: 1 | E24: 병 | F24: 10000 | G24: 2024 한국농어촌공사 설계단가
B25: 에폭시 | C25: 강관도장용 | D25: 1 | E25: kg | F25: 5267 | G25: 2024 한국농어촌공사 설계단가
B26: 에폭시 신너 | C26: 강관도장용 | D26: 1 | E26: kg | F26: 3600 | G26: 2024 한국농어촌공사 설계단가
B27: 프라이머 | C27: 강관도장용 | D27: 1 | E27: kg | F27: 9361 | G27: 2024 한국농어촌공사 설계단가
B28: 강관도장용 매스틱 | C28: 3t*40mm*6m | D28: 1 | E28: m | F28: 3500 | G28: 2024 한국농어촌공사 설계단가
B29: 강관도장용 안쪽테이프 | C29: 0.508t*100mm*6m | D29: 1 | E29: ㎥ | F29: 7733 | G29: 2024 한국농어촌공사 설계단가
B30: 강관도장용 바깥쪽테이프 | C30: 0.381t*100mm*30m | D30: 1 | E30: ㎥ | F30: 7400 | G30: 2024 한국농어촌공사 설계단가
... B51: 아스콘 | C51: #78 | D51: 1 | E51: ton | F51: 65009 | G51: 가정(19/01),기층,WC-2
A52: 합성수지고무제품 | B52: PVC지수판 | C52: K.S 5mm×150mm | D52: 1 | E52: m | F52: 2400 | G52: 2024 한국농어촌공사 설계단가
B53: PVC지수판 | C53: K.S 5mm×230mm | D53: 1 | E53: m | F53: 3300 | G53: 2024 한국농어촌공사 설계단가
B54: 수팽창 고무지수판 | C54: FS2010 20*7 | D54: 1 | E54: m | F54: 1700 | G54: 2024 한국농어촌공사 설계단가
B55: PVC파이프(일반관) | C55: VG1 KS D25mm | D55: 1 | E55: m | F55: 889 | G55: 2024 한국농어촌공사 설계단가
B56: PVC파이프(일반관) | C56: VG1 KS D50mm | D56: 1 | E56: m | F56: 1882 | G56: 2024 한국농어촌공사 설계단가
B57: PVC파이프(일반관) | C57: VG1 KS D125mm | D57: 1 | E57: m | F57: 12275 | G57: 2024 한국농어촌공사 설계단가
B58: 신축이음재 | C58: EXP.JOINT FILLER 9mm | D58: 1 | E58: ㎡ | F58: 6806 | G58: 2024 한국농어촌공사 설계단가
B59: 신축이음재 | C59: EXP.JOINT FILLER 12mm | D59: 1 | E59: ㎡ | F59: 8400 | G59: 2024 한국농어촌공사 설계단가
B60: 신축이음재 | C60: EXP.JOINT FILLER 20mm | D60: 1 | E60: ㎡ | F60: 13000 | G60: 2024 한국농어촌공사 설계단가
B61: 신축이음재 | C61: PRIMER | D61: 1 | E61: kg | F61: 3512 | G61: 2024 한국농어촌공사 설계단가
B62: 신축이음재 | C62: 시란트 | D62: 1 | E62: kg | F62: 3750 | G62: 2024 한국농어촌공사 설계단가
B63: 마스킹테입 | C63: 50mm(중) | D63: 1 | E63: m | F63: 53 | G63: 2024 한국농어촌공사 설계단가
B64: 석션호스(PVC고압호스) | C64: 고무 100mm×6m | D64: 1 | E64: 개 | F64: 46420 | G64: 2024 한국농어촌공사 설계단가
... B113: 게이트밸브 | C113: D200(STS,10K,플랜지식) | D113: 1 | E113: 개 | F113: 1570000 | G113: 2024 한국농어촌공사 설계단가
A114: 철재 | B114: 철판 | C114: t=1.6mm | D114: 1 | E114: kg | F114: 1108 | G114: 2024 한국농어촌공사 설계단가
B115: 철판 | C115: t=3.2mm | D115: 1 | E115: kg | F115: 850 | G115: 2024 한국농어촌공사 설계단가
B116: 철판 | C116: t=4.5mm | D116: 1 | E116: kg | F116: 850 | G116: 2024 한국농어촌공사 설계단가
B117: 철판 | C117: t=6.0mm | D117: 1 | E117: kg | F117: 850 | G117: 2024 한국농어촌공사 설계단가
B118: 철판 | C118: t=9.0mm | D118: 1 | E118: kg | F118: 860 | G118: 2024 한국농어촌공사 설계단가
B119: 보통철선 | C119: ＃20 D=0.9mm 결속선 | D119: 1 | E119: kg | F119: 1215 | G119: 2024 한국농어촌공사 설계단가
B120: 보통철선 | C120: ＃8 D=4.0mm | D120: 1 | E120: kg | F120: 946 | G120: 2024 한국농어촌공사 설계단가
B121: 철선(1종) | C121: 아연도 ＃8 D=4.0mm | D121: 1 | E121: kg | F121: 1530 | G121: 2024 한국농어촌공사 설계단가
B122: 봉강 | C122: D=9mm - 45mm | D122: 1 | E122: kg | F122: 860 | G122: 2024 한국농어촌공사 설계단가
B123: 평강 | C123: t=6mm B=15~50mm | D123: 1 | E123: kg | F123: 860 | G123: 2024 한국농어촌공사 설계단가
B124: STEEL PANNEL | C124: 600mm×1200mm(EURO FORM) | D124: 1 | E124: 조 | F124: 21160 | G124: 2024 한국농어촌공사 설계단가
B125: 내부코너 PANNEL | C125: (200+200)×1200(0.48㎡) | D125: 1 | E125: 조 | F125: 15920 | G125: 2024 한국농어촌공사 설계단가
B126: WEDGE PIN | C126: 90mm | D126: 1 | E126: 개 | F126: 61 | G126: 2024 한국농어촌공사 설계단가
... B175: 중도리(PURIN) | C175: t=2.0m 이상 | D175: 1 | E175: m | F175: 1800 | G175: 2024 한국농어촌공사 설계단가
B176: T-BAR | D176: 1 | E176: m | F176: 1270 | G176: 2024 한국농어촌공사 설계단가
B177: 동지수판 | C177: 270*1t(B=200) | D177: 1 | E177: m | F177: 22609 | G177: 2024 한국농어촌공사 설계단가
B178: 동지수판 | C178: 300*1t(B=200) | D178: 1 | E178: m | F178: 26000 | G178: 2024 한국농어촌공사 설계단가
B179: 동지수판 | C179: 330*1t(B=230) | D179: 1 | E179: m | F179: 28000 | G179: 2024 한국농어촌공사 설계단가
B180: 블레이드 | C180: D=320-400mm, t=3.2mm | D180: 1 | E180: 개 | F180: 190000 | G180: 2024 한국농어촌공사 설계단가
B181: 빗트 D=65mm | C181: 크로라드릴 | D181: 1 | E181: 개 | F181: 258570 | G181: 2024 한국농어촌공사 설계단가
B182: 못 | C182: N 50 | D182: 1 | E182: kg | F182: 861 | G182: 2024 한국농어촌공사 설계단가
B183: 철재 후레쉬도아 | C183: 진카드, 후레임1.6 양면1.0mm | D183: 1 | E183: ㎡ | F183: 159390 | G183: 2024 한국농어촌공사 설계단가
B184: 창레일 | C184: 6.4*7.6mm | D184: 1 | E184: 개 | F184: 300 | G184: 2024 한국농어촌공사 설계단가
B185: 황동레일 | C185: 압출 180cm | D185: 1 | E185: 조 | F185: 3600 | G185: 2024 한국농어촌공사 설계단가
B186: 호차 | C186: 베아링입 36mm | D186: 1 | E186: 조 | F186: 400 | G186: 2024 한국농어촌공사 설계단가
B187: 전기용접봉 | C187: KSE4301 4.0D | D187: 1 | E187: kg | F187: 1849 | G187: 2024 한국농어촌공사 설계단가
B188: 꽂이쇠 | C188: 황동 | D188: 1 | E188: 조 | F188: 1500 | G188: 2024 한국농어촌공사 설계단가
... B200: 철근(SD30A) | C200: D16mm∼D32mm | D200: 1 | E200: ton | F200: 1102530 | G200: 조달단가(부가세포함)
A201: 콘크리트제품 | B201: 양회 | C201: 40kg | D201: 1 | E201: 대 | F201: 3300 | G201: 조달단가(부가세포함)
B202: 레미콘 | C202: 25-160-80 | D202: 1 | E202: ㎥ | F202: 54560 | G202: 조달단가(부가세포함)
B203: 레미콘 | C203: 25-160-12 | D203: 1 | E203: ㎥ | F203: 55780 | G203: 조달단가(부가세포함)
B204: 레미콘 | C204: 25-180-80 | D204: 1 | E204: ㎥ | F204: 96830 | G204: 조달단가(부가세포함)
B205: 레미콘 | C205: 25-180-12 | D205: 1 | E205: ㎥ | F205: 99120 | G205: 조달단가(부가세포함)
B206: 레미콘 | C206: 25-210-80 | D206: 1 | E206: ㎥ | F206: 100500 | G206: 조달단가(부가세포함)
B207: 레미콘 | C207: 25-210-12 | D207: 1 | E207: ㎥ | F207: 102680 | G207: 조달단가(부가세포함)
B208: 레미콘 | C208: 25-240-80 | D208: 1 | E208: ㎥ | F208: 99960 | G208: 조달단가(부가세포함)
B209: 레미콘 | C209: 25-240-12 | D209: 1 | E209: ㎥ | F209: 105840 | G209: 조달단가(부가세포함)
B210: 흄관(소켓관) | C210: D = 0.30 | D210: 1 | E210: 본 | F210: 49100 | G210: 조달단가(부가세포함)
B211: 흄관(소켓관) | C211: D = 0.40 | D211: 1 | E211: 본 | F211: 55490 | G211: 조달단가(부가세포함)
B212: 흄관(소켓관) | C212: D = 0.50 | D212: 1 | E212: 본 | F212: 71980 | G212: 조달단가(부가세포함)
B213: 흄관(소켓관) | C213: D = 0.60 | D213: 1 | E213: 본 | F213: 98210 | G213: 조달단가(부가세포함)
... B239: 콘크리트조립식배수관 | C239: 2500×1500 | D239: 1 | E239: 본 | F239: 634100 | G239: 조달단가(부가세포함)
A240: 골재 | B240: 모래 | D240: 1 | E240: ㎥ | F240: 17000 | G240: 견적가
B241: 자갈 | C241: D25mm 이하 | D241: 1 | E241: ㎥ | F241: 14000 | G241: 견적가
B242: 자갈 | C242: D40mm 이하 | D242: 1 | E242: ㎥ | F242: 13000 | G242: 견적가
B243: 혼합석 | C243: D50mm 이하 | D243: 1 | E243: ㎥ | F243: 9000 | G243: 견적가
B244: 혼합석 | C244: D75mm 이하 | D244: 1 | E244: ㎥ | F244: 9000 | G244: 견적가
B245: 조약돌 | D245: 1 | E245: ㎥ | F245: 12000 | G245: 견적가
B246: 사석 | D246: 1 | E246: ㎥ | F246: 12000 | G246: 견적가
A247: 기타 | B247: 잔디(재배) | C247: 0.3×0.3×0.03 | D247: 1 | E247: 매 | F247: 370 | G247: 2024 한국농어촌공사 설계단가
B248: 바퀴숫돌 | C248: 평반연마지석 150×25 | D248: 1 | E248: 개 | F248: 4690 | G248: 2024 한국농어촌공사 설계단가
B249: 마대 | C249: 수방자재용(900×10×10) | D249: 1 | E249: 매 | F249: 310 | G249: 2024 한국농어촌공사 설계단가
B250: 넝마(모직물) | C250: 면 100% | D250: 1 | E250: kg | F250: 1650 | G250: 2024 한국농어촌공사 설계단가
B251: 지수활제 | C251: 콘크리트관 지수 및 윤활용 | D251: 1 | E251: kg | F251: 4500 | G251: 2024 한국농어촌공사 설계단가
B252: 이중벽PE관 | C252: D100 | D252: 1 | E252: m | F252: 10500 | G252: 2024 한국농어촌공사 설계단가
...

Sheet 구역화물
A1: 구역화물 | H1: q = t / 450 * 5 * 1 / Q
A2: 구 분 | B2: 규 격 | C2: 운반거리 | D2: 적재차량 | E2: 적 재 량 | F2: 대당운임 | G2: 단위운임 | H2: 적하시간 | I2: 적하인부 | J2: 부리기
C3: (km) | D3: (ton) | E3: (ton, m3,본) | F3: (원) | G3: (ton, m3, 본/원) | H3: (분) | I3: (인)
A4: 양회 | C4: =운반거리!F4 -> 10 | D4: 11 | E4: 11 | F4: 116040 | G4: =INT(F4/E4) -> 10549
A5: 철근 | C5: =운반거리!F5 -> 83.2 | D5: 11 | E5: 11 | F5: 213890 | G5: =INT(F5/E5) -> 19444
A6: 목재 | C6: =운반거리!F11 -> 15.5 | D6: 11 | E6: 16 | F6: 92060 | G6: =INT(F6/E6) -> 5753
A7: 일반철재 | C7: =운반거리!F12 -> 15.5 | D7: 11 | E7: 11 | F7: 92060 | G7: =INT(F7/E7) -> 8369
A8: 특수철재 | C8: =운반거리!F13 -> 93.2 | D8: 11 | E8: 11 | F8: 224740 | G8: =INT(F8/E8) -> 20430
A9: PE 관 | B9: D100mm L=6m | C9: =운반거리!F13 -> 93.2 | D9: 8 | E9: 350 | F9: 224740 | G9: =INT(F9/E9) -> 642
B10: D150mm L=6m | C10: =운반거리!F13 -> 93.2 | D10: 8 | E10: 175 | F10: 224740 | G10: =INT(F10/E10) -> 1284
B11: D200mm L=6m | C11: =운반거리!F13 -> 93.2 | D11: 8 | E11: 110 | F11: 224740 | G11: =INT(F11/E11) -> 2043
B12: D250mm L=6m | C12: =운반거리!F13 -> 93.2 | D12: 8 | E12: 66 | F12: 224740 | G12: =INT(F12/E12) -> 3405
B13: D300mm L=6m | C13: =운반거리!F13 -> 93.2 | D13: 8 | E13: 52 | F13: 224740 | G13: =INT(F13/E13) -> 4321
B14: D400mm L=6m | C14: =운반거리!F13 -> 93.2 | D14: 8 | E14: 27 | F14: 224740 | G14: =INT(F14/E14) -> 8323
B15: D500mm L=6m | C15: =운반거리!F13 -> 93.2 | D15: 8 | E15: 16 | F15: 224740 | G15: =INT(F15/E15) -> 14046

Sheet 운반거리
A1: 자재운반거리
A2: 종 별 | B2: 시속별 운반거리(Km) | G2: 20Km/hr 환산 편도거리(km) | L2: 비 고
B3: 10 | C3: 15 | D3: 25 | E3: 35 | F3: 계 | G3: 10 | H3: 15 | I3: 25 | J3: 35 | K3: 계
A4: 양회 | E4: 10 | F4: =SUM(B4:E4) -> 10 | G4: =INT(20/10*B4*10)/10 -> 0 | J4: =INT(20/35*E4*10)/10 -> 5.7 | K4: =SUM(G4:J4) -> 5.7 | L4: 부여읍
A5: 철근 | E5: 83.2 | F5: =SUM(B5:E5) -> 83.2 | G5: =INT(20/10*B5*10)/10 -> 0 | J5: =INT(20/35*E5*10)/10 -> 47.5 | K5: =SUM(G5:J5) -> 47.5 | L5: 대전광역시
A6: 모래 | B6: 0.5 | E6: 15 | F6: =SUM(B6:E6) -> 15.5 | G6: =INT(20/10*B6*10)/10 -> 1 | J6: =INT(20/35*E6*10)/10 -> 8.5 | K6: =SUM(G6:J6) -> 9.5 | L6: 부여읍 장암면
A7: 자갈 | B7: 0.5 | E7: 30.5 | F7: =SUM(B7:E7) -> 31 | G7: =INT(20/10*B7*10)/10 -> 1 | J7: 6 | K7: =SUM(G7:J7) -> 7 | L7: 부여읍 석성면 증산리
A8: 사석 | B8: 0.5 | E8: 30.5 | F8: =SUM(B8:E8) -> 31 | G8: =INT(20/10*B8*10)/10 -> 1 | J8: 12 | K8: =SUM(G8:J8) -> 13 | L8: 부여읍 석성면 증산리
A9: 잡석 | B9: 0.5 | E9: 30.5 | F9: =SUM(B9:E9) -> 31 | G9: =INT(20/10*B9*10)/10 -> 1 | J9: 12 | K9: =SUM(G9:J9) -> 13 | L9: 부여읍 석성면 증산리
A10: 토취장 | B10: 0.5 | E10: 5 | F10: =SUM(B10:E10) -> 5.5 | G10: =INT(20/10*B10*10)/10 -> 1 | J10: =INT(20/35*E10*10)/10 -> 2.8 | K10: =SUM(G10:J10) -> 3.8 | L10: 부여읍 임천면 점리
A11: 목재 | E11: 15.5 | F11: =SUM(B11:E11) -> 15.5 | G11: =INT(20/10*B11*10)/10 -> 0 | J11: =INT(20/35*E11*10)/10 -> 8.8 | K11: =SUM(G11:J11) -> 8.8 | L11: 부여읍
A12: 일반철재 | E12: 15.5 | F12: =SUM(B12:E12) -> 15.5 | G12: =INT(20/10*B12*10)/10 -> 0 | J12: =INT(20/35*E12*10)/10 -> 8.8 | K12: =SUM(G12:J12) -> 8.8 | L12: 부여읍
A13: 특수철재, 배관자재 | E13: 93.2 | F13: =SUM(B13:E13) -> 93.2 | G13: =INT(20/10*B13*10)/10 -> 0 | J13: =INT(20/35*E13*10)/10 -> 53.2 | K13: =SUM(G13:J13) -> 53.2 | L13: 천안시
A14: 중기운반 | E14: 15.5 | F14: =SUM(B14:E14) -> 15.5 | G14: =INT(20/10*B14*10)/10 -> 0 | J14: =INT(20/35*E14*10)/10 -> 8.8 | K14: =SUM(G14:J14) -> 8.8 | L14: 부여읍
A16: 소운반거리
D17: 소운반거리 L = | F17: 50 | G17: m
B26: 자재운반도
E28: 석산
E30: 0.5 | F30: 자갈 혼합석 잡석
E32: 석성면 | H32: 천안시
E33: 증산리
B34: 골재장 | I34: 특수철재 배관자재
E35: 15 | H35: 45.2
B36: 0.5 | C36: 모래
B38: 장암면 | C38: 7 | E38: 부여읍 | F38: 32.5 | H38: 공주시 | I38: 35.2 | K38: 대 전
K39: 광역시
F40: 양회 목재 | L40: 철근
B41: 3 | F41: 철재 중기
B44: 합하 | C44: 2.5 | E44: 임천면 | F44: 3 | H44: 현장 | I44: 3 | K44: 임천면
B45: 삼거리 | E45: 점 리
L46: 조립식구조물

Sheet Sheet1

Sheet Sheet2
