Workbook

Sheet VXXX

Sheet 표지
A1: 충청남도 청양군 | J1: 2026. 9.
A7: 2026년 금정용수지선 외 6개소 보수보강 공사
A15: 한국농어촌공사 청양지사

Sheet 사업개요
A1: 사 업 계 획 개 요
A3: 지 구 명 | C3: 2026년 금정용수지선 외 6개소 보수보강 공사
A4: 목 적 | C4: 1. 용수량확보 2. 작물재배여건 구축 3. 농업생산량 증대
A5: 구 역 | C5: 충청남도 청양군 일원
A6: 면 적 | C6: 수혜면적 : | D6: 0 | E6: ha
A7: 공 사 개 요
C8: 구 분 | D8: =C3 -> 2026년 금정용수지선 외 6개소 보수보강 공사 | J8: 비 고
C10: =재료집계표!D2 -> 금정리 344 | D10: =재료집계표!D3 -> ○ 수로관 교체 | E10: =재료집계표!D5 -> 10 | F10: m
C11: =재료집계표!E2 -> 신흥리 817 | D11: =재료집계표!E3 -> ○ 송수관로 누출 | E11: =재료집계표!E5 -> 30 | F11: m
C12: =재료집계표!F2 -> 청소리 613 | D12: =재료집계표!F3 -> ○ 유공관 보수 | E12: =재료집계표!F5 -> 20 | F12: =재료계산서!C18 -> m
C13: =재료집계표!G2 -> 왕진리 936-9 | D13: =재료집계표!G3 -> ○ 송수관로 누출 | E13: =재료집계표!G5 -> 30 | F13: m
C14: =재료집계표!H2 -> 사점리 167 | D14: =재료집계표!H3 -> ○ 송수관로 누출 | E14: =재료집계표!H5 -> 30 | F14: m | N14: =21956000 -> 21956000
C15: =재료집계표!I2 -> 중산리 732-1 | D15: =재료집계표!I3 -> ○ 송수관로 누출 | E15: =재료집계표!I5 -> 30 | F15: =재료계산서!C60 -> m
C16: =재료집계표!J2 -> 화양리 1041-4 | D16: =재료집계표!J3 -> ○ 농로 파손 | E16: =재료집계표!J5 -> 5 | F16: =재료계산서!C66 -> m
M17: =N14/1.1 -> 19960000
M19: =N14-M17 -> 1996000
C21: 계 | E21: =SUM(E9:E15) -> 150 | F21: m
A23: 사 업 비 | C23: =수지예산서!C22 -> 19793 | D23: 천원
A24: 사 업 효 과 | C24: - 시설물 제기능 유지
C25: - 침수피해방지를 통한 영농환경 개선
A26: 사업시행자 | C26: 한국농어촌공사 청양지사장
A27: 공 사 기 간 | C27: 2025년 9월 일 부터
C28: 2025년 10월 일 까지

Sheet 상세위치도
A1: =사업개요!C3 -> 2026년 금정용수지선 외 6개소 보수보강 공사
A3: ○ 위치 : 남양면 금정리 344
A31: ○ 위치 : 목면 신흥리 817 | F31: ○ 위치 : 청남면 청소리 613
A52: ○ 위치 : 청남면 왕진리 936-9 | F52: ○ 위치 : 비봉면 사점리 167
A73: ○ 위치 : 청남면 중산리 732-1 | F73: ○ 위치 : 목면 화양리 1041-4

Sheet 수지예산서
A1: =사업개요!C3 -> 2026년 금정용수지선 외 6개소 보수보강 공사
A3: ○ 수 입 | G3: (단위:천원)
A4: 과 목 | B4: 신 청 액 | C4: 인 가 액 | D4: 증 감 | E4: 비 고
A5: =사업개요!C3 -> 2026년 금정용수지선 외 6개소 보수보강 공사 | B5: =B22 -> 19793 | C5: =C22 -> 19793 | D5: =C5-B5 -> 0
A8: 계 | B8: =B5 -> 19793 | C8: =C22 -> 19793 | D8: =SUM(D5:D7) -> 0
A10: ○ 지 출
A11: 과 목 | B11: =B4 -> 신 청 액 | C11: =C4 -> 인 가 액 | D11: 증 감 | E11: 비 고
A12: 순 공 사 비 | B12: =토목총괄표!D29/1000 -> 19793 | C12: =토목총괄표!G29/1000 -> 19793 | D12: =C12-B12 -> 0 | H12: =50216-B22 -> 30423
A13: 자 재 대 | B13: 0 | C13: 0 | D13: =C13-B13 -> 0
A14: 폐기물처리비 | B14: 0 | C14: 0
A15: 소 계 | B15: =B12+B13+B14 -> 19793 | C15: =C12+C13+C14 -> 19793 | D15: =C15-B15 -> 0
A16: 측 량 설 계 비 | B16: 0 | C16: 0 | D16: =C16-B16 -> 0
A17: 공 사 감 독 비 | B17: 0 | C17: 0 | D17: =C17-B17 -> 0
A18: 사 업 관 리 비 | B18: 0 | C18: 0 | D18: =C18-B18 -> 0
A19: 잡 지 출 | B19: 0 | C19: 0 | D19: =C19-B19 -> 0
A20: 소 계 | B20: =SUM(B16:B19) -> 0 | C20: =SUM(C16:C19) -> 0 | D20: =SUM(D16:D19) -> 0
A22: 합 계 | B22: =SUM(B20,B15) -> 19793 | C22: =C20+C15 -> 19793 | D22: =C22-B22 -> 0

Sheet 폐기물처리비
A1: =사업개요!C3 -> 2026년 금정용수지선 외 6개소 보수보강 공사
A3: 종 별 | B3: 재료또는 | D3: 원 수 | E3: 단위 | F3: 총 액 | H3: 노 무 비 | J3: 재 료 비 | L3: 경 비 | N3: 비 고
B4: 치수 | F4: 단 가 | G4: 금 액 | H4: 단 가 | I4: 금 액 | J4: 단 가 | K4: 금 액 | L4: 단 가 | M4: 금 액
A5: 폐콘크리트 | B5: 철근 | D5: 0 | E5: ton | F5: =SUM(H5,J5,L5) -> 29587 | G5: =SUM(I5,K5,M5) -> 0 | H5: =[6]단가일람!F99 -> 4857 | I5: =TRUNC(H5*$D5,0) -> 0 | J5: =[6]단가일람!G99 -> -4250 | K5: =TRUNC(J5*$D5,0) -> 0 | L5: =[6]단가일람!H99 -> 28980 | M5: =TRUNC(L5*$D5,0) -> 0 | N5: 신청
D6: =D5 -> 0 | E6: ton | F6: =SUM(H6,J6,L6) -> 29587 | G6: =SUM(I6,K6,M6) -> 0 | H6: =H5 -> 4857 | I6: =TRUNC(H6*$D6,0) -> 0 | J6: =J5 -> -4250 | K6: =TRUNC(J6*$D6,0) -> 0 | L6: =L5 -> 28980 | M6: =TRUNC(L6*$D6,0) -> 0 | N6: 인가
B7: 무근 | D7: =ROUND(재료집계표!K27*2.3,2) -> 21.16 | E7: ton | F7: =SUM(H7,J7,L7) -> 37508 | G7: =SUM(I7,K7,M7) -> 793667 | H7: =[6]단가일람!F101 -> 4887 | I7: =TRUNC(H7*$D7,0) -> 103408 | J7: =[6]단가일람!G101 -> 3623 | K7: =TRUNC(J7*$D7,0) -> 76662 | L7: =[6]단가일람!H101 -> 28998 | M7: =TRUNC(L7*$D7,0) -> 613597 | N7: 신청
D8: =D7 -> 21.16 | E8: ton | F8: =SUM(H8,J8,L8) -> 37508 | G8: =SUM(I8,K8,M8) -> 793667 | H8: =H7 -> 4887 | I8: =TRUNC(H8*$D8,0) -> 103408 | J8: =J7 -> 3623 | K8: =TRUNC(J8*$D8,0) -> 76662 | L8: =L7 -> 28998 | M8: =TRUNC(L8*$D8,0) -> 613597 | N8: 인가
A19: 계 | B19: 신 청 | G19: =SUM(I19,K19,M19) -> 793667 | I19: =I7+I5 -> 103408 | K19: =K7+K5 -> 76662 | M19: =M7+M5 -> 613597
D20: ≒ | G20: =SUM(I20,K20,M20) -> 792000 | I20: =TRUNC(I19,-3) -> 103000 | K20: =TRUNC(K19,-3) -> 76000 | M20: =TRUNC(M19,-3) -> 613000
B21: 인 가 | G21: =SUM(I21,K21,M21) -> 793667 | I21: =I8+I6 -> 103408 | K21: =K8+K6 -> 76662 | M21: =M8+M6 -> 613597
D22: ≒ | G22: =SUM(I22,K22,M22) -> 792000 | I22: =TRUNC(I21,-3) -> 103000 | K22: =TRUNC(K21,-3) -> 76000 | M22: =TRUNC(M21,-3) -> 613000
A23: 합계 (부가세포함) | B23: 신 청 | G23: =TRUNC((G20*1.1),-3) -> 871000
D24: ≒ | G24: =TRUNC((G20*1.1),-3) -> 871000
B25: 인 가 | G25: =TRUNC((G22*1.1),-3) -> 871000
D26: ≒ | G26: =TRUNC((G22*1.1),-3) -> 871000

Sheet 자재대
A1: =사업개요!C3 -> 2026년 금정용수지선 외 6개소 보수보강 공사 | G1: 사급자재대 | I1: (부가세 포함) | K1: (단위:원)
A2: 자 재 별 | C2: 단위 | D2: 단 가 | E2: 신 청 | G2: 인 가 | I2: 증 감 | K2: 비 고
A3: 품 명 | B3: 규 격 | E3: 물 량 | F3: 금 액 | G3: 물 량 | H3: 금 액 | I3: 물 량 | J3: 금 액
A6: 흄관 | B6: D1000 | C6: 본 | D6: 339670 | E6: 0 | F6: =ROUNDUP(D6*E6,-3) -> 0 | G6: 0 | H6: =ROUNDUP(D6*G6,-3) -> 0
F7: =ROUNDUP(D6*E6,-3) -> 0 | H7: =ROUNDUP(D6*G6,-3) -> 0
A8: 벤치플륨관 | B8: 800C | C8: 본 | D8: 163570 | E8: =재료집계표!K15/2 -> 5 | F8: =ROUNDUP(D8*E8,-3) -> 818000 | G8: =E8 -> 5 | H8: =ROUNDUP(D8*G8,-3) -> 818000
F9: =ROUNDUP(D8*E8,-3) -> 818000 | H9: =ROUNDUP(D8*G8,-3) -> 818000
A10: 레미콘 | B10: =자재!C207 -> 25-210-12 | C10: =자재!E207 -> ㎥ | D10: =자재!F207 -> 102680 | E10: =재료집계표!K25 -> 6.8 | F10: =ROUNDUP(D10*E10,-3) -> 699000 | G10: =재료집계표!K26 -> 6.8 | H10: =ROUNDUP(D10*G10,-3) -> 699000 | K10: 사급
F11: =SUM(F10:F10) -> 699000 | H11: =SUM(H10:H10) -> 699000
A14: 합 계 | F14: =SUM(F4,F8,F10,F6,F12) -> 1517000 | H14: =SUM(H4,H8,H10,H6,H12) -> 1517000
A15: ≒ | F15: =SUM(F5,F9,F11,F7,F13) -> 1517000 | H15: =SUM(H5,H9,H11,H7,H13) -> 1517000

Sheet 토목총괄표
A1: =사업개요!C3 -> 2026년 금정용수지선 외 6개소 보수보강 공사
L2: (단위:원)
A3: 구 분 | D3: 신 청 | G3: 인 가 | J3: 증 감
D4: 평야부 | E4: 관급자재대 | F4: 계 | G4: 평야부 | H4: 관급자재대 | I4: 계 | J4: 평야부 | K4: 관급자재대 | L4: 계
A5: 노무비 | B5: 직접노무비 | D5: =총공사비!H20 -> 5207000 | F5: =E5+D5 -> 5207000 | G5: =총공사비!H22 -> 5207000 | I5: =H5+G5 -> 5207000 | J5: =G5-D5 -> 0 | K5: =H5-E5 -> 0 | L5: =K5+J5 -> 0
B6: 간접노무비 | C6: 0.165 | D6: =TRUNC($C6*D5,0) -> 859155 | F6: =E6+D6 -> 859155 | G6: =TRUNC($C6*G5,0) -> 859155 | I6: =H6+G6 -> 859155 | J6: =G6-D6 -> 0 | K6: =H6-E6 -> 0 | L6: =K6+J6 -> 0
B7: 소 계 | D7: =SUM(D5,D6) -> 6066155 | F7: =E7+D7 -> 6066155 | G7: =SUM(G5,G6) -> 6066155 | I7: =H7+G7 -> 6066155 | J7: =G7-D7 -> 0 | K7: =H7-E7 -> 0 | L7: =K7+J7 -> 0
A8: 재 료 비 | D8: =총공사비!J20 -> 4541000 | F8: =E8+D8 -> 4541000 | G8: =총공사비!J22 -> 4541000 | I8: =H8+G8 -> 4541000 | J8: =G8-D8 -> 0 | K8: =H8-E8 -> 0 | L8: =K8+J8 -> 0
A9: 경 비 | B9: 경 비 | D9: =총공사비!L20 -> 770000 | F9: =E9+D9 -> 770000 | G9: =총공사비!L22 -> 770000 | I9: =H9+G9 -> 770000 | J9: =G9-D9 -> 0 | K9: =H9-E9 -> 0 | L9: =K9+J9 -> 0
B10: 산재보험료 | C10: 0.0356 | D10: =TRUNC($C10*D7,0) -> 215955 | F10: =E10+D10 -> 215955 | G10: =TRUNC($C10*G7,0) -> 215955 | I10: =H10+G10 -> 215955 | J10: =G10-D10 -> 0 | K10: =H10-E10 -> 0 | L10: =K10+J10 -> 0
B11: 고용보험료 | C11: 0.0101 | D11: =TRUNC($C11*D7,0) -> 61268 | F11: =E11+D11 -> 61268 | G11: =TRUNC($C11*G7,0) -> 61268 | I11: =H11+G11 -> 61268 | J11: =G11-D11 -> 0 | K11: =H11-E11 -> 0 | L11: =K11+J11 -> 0
B12: 건강보험료 | C12: 0.03595 | D12: =D5*C12 -> 187191.65 | F12: =E12+D12 -> 187191.65 | G12: =G5*C12 -> 187191.65 | I12: =H12+G12 -> 187191.65 | J12: =G12-D12 -> 0 | K12: =H12-E12 -> 0 | L12: =K12+J12 -> 0
B13: 연금보험료 | C13: 0.0475 | D13: =D5*C13 -> 247332.5 | F13: =E13+D13 -> 247332.5 | G13: =G5*C13 -> 247332.5 | I13: =H13+G13 -> 247332.5 | J13: =G13-D13 -> 0 | K13: =H13-E13 -> 0 | L13: =K13+J13 -> 0
B14: 산업안전보건관리비 | C14: 0.0311 | D14: =TRUNC($C14*(D5+D8),0) -> 303162 | F14: =E14+D14 -> 303162 | G14: =TRUNC($C14*(G5+G8),0) -> 303162 | I14: =H14+G14 -> 303162 | J14: =G14-D14 -> 0 | K14: =H14-E14 -> 0 | L14: =K14+J14 -> 0
B15: 환경보전비 | C15: 0.008 | D15: =(D5+D9+D8)*C15 -> 84144 | F15: =E15+D15 -> 84144 | G15: =(G5+G8+G9)*C15 -> 84144 | I15: =H15+G15 -> 84144 | J15: =G15-D15 -> 0 | K15: =H15-E15 -> 0 | L15: =K15+J15 -> 0
B16: 기타경비 | C16: 0.052 | D16: =TRUNC($C16*(D7+D8),0) -> 551572 | F16: =E16+D16 -> 551572 | G16: =TRUNC($C16*(G7+G8),0) -> 551572 | I16: =H16+G16 -> 551572 | J16: =G16-D16 -> 0 | K16: =H16-E16 -> 0 | L16: =K16+J16 -> 0
B17: 퇴직공제부금비 | C17: 0.023 | D17: =D5*C17 -> 119761 | F17: =E17+D17 -> 119761 | G17: =G5*C17 -> 119761 | I17: =H17+G17 -> 119761
B18: 노인장기요양보험료 | C18: 0.1314 | D18: =TRUNC(D12*$C18) -> 24596 | F18: =E18+D18 -> 24596 | G18: =TRUNC(G12*$C18) -> 24596 | I18: =H18+G18 -> 24596 | J18: =G18-D18 -> 0 | K18: =H18-E18 -> 0 | L18: =K18+J18 -> 0
B19: 소 계 | D19: =SUM(D9:D18) -> 2564982.1 | F19: =E19+D19 -> 2564982.1 | G19: =SUM(G9:G18) -> 2564982.1 | I19: =H19+G19 -> 2564982.1 | J19: =G19-D19 -> 0 | K19: =H19-E19 -> 0 | L19: =K19+J19 -> 0
A20: 합 계 | D20: =SUM(D7,D8,D19) -> 13172137 | F20: =E20+D20 -> 13172137 | G20: =SUM(G7,G8,G19) -> 13172137 | I20: =H20+G20 -> 13172137 | J20: =G20-D20 -> 0 | K20: =H20-E20 -> 0 | L20: =K20+J20 -> 0
A21: 일 반 관 리 비 | C21: 0.08 | D21: =TRUNC($C21*D20,0) -> 1053770 | F21: =E21+D21 -> 1053770 | G21: =TRUNC($C21*G20,0) -> 1053770 | I21: =H21+G21 -> 1053770 | J21: =G21-D21 -> 0 | K21: =H21-E21 -> 0 | L21: =K21+J21 -> 0
A22: 합 계 | D22: =SUM(D20,D21) -> 14225907 | F22: =E22+D22 -> 14225907 | G22: =SUM(G20,G21) -> 14225907 | I22: =H22+G22 -> 14225907 | J22: =G22-D22 -> 0 | K22: =H22-E22 -> 0 | L22: =K22+J22 -> 0
A23: 이 윤 | C23: 0.15 | D23: =TRUNC($C23*(D20-D8),-3)-5000 -> 1289000 | F23: =E23+D23 -> 1289000 | G23: =TRUNC($C23*(G20-G8),-3)-5000 -> 1289000 | I23: =H23+G23 -> 1289000 | J23: =G23-D23 -> 0 | K23: =H23-E23 -> 0 | L23: =K23+J23 -> 0
A24: 폐 기 물 처 리 | D24: =폐기물처리비!G24 -> 871000 | F24: =E24+D24 -> 871000 | G24: =폐기물처리비!G26 -> 871000 | I24: =H24+G24 -> 871000
A25: 사 급 자 재 대 | D25: =자재대!F15 -> 1517000 | F25: =E25+D25 -> 1517000 | G25: =자재대!H15 -> 1517000 | I25: =H25+G25 -> 1517000
A26: 합 계 | D26: =ROUND(D22+D23+D24+D25,-3) -> 17903000 | F26: =E26+D26 -> 17903000 | G26: =ROUND(G22+G23+G24+G25,-3) -> 17903000 | I26: =H26+G26 -> 17903000 | J26: =G26-D26 -> 0 | K26: =H26-E26 -> 0 | L26: =K26+J26 -> 0
A27: 부 가 가 치 세 | C27: 0.1 | D27: =ROUND(D26*$C27,-3) -> 1790000 | F27: =E27+D27 -> 1790000 | G27: =ROUND(G26*$C27,-3) -> 1790000 | I27: =H27+G27 -> 1790000 | J27: =G27-D27 -> 0 | K27: =H27-E27 -> 0 | L27: =K27+J27 -> 0
A28: 안 전 관 리 비 | D28: 100000 | F28: =E28+D28 -> 100000 | G28: 100000 | I28: =H28+G28 -> 100000 | J28: =G28-D28 -> 0 | K28: =H28-E28 -> 0 | L28: =K28+J28 -> 0
A29: 총 계 | D29: =SUM(D26:D28) -> 19793000 | F29: =E29+D29 -> 19793000 | G29: =SUM(G26:G28) -> 19793000 | I29: =H29+G29 -> 19793000 | J29: =G29-D29 -> 0 | K29: =H29-E29 -> 0 | L29: =K29+J29 -> 0

Sheet 총공사비
A1: =사업개요!C3 -> 2026년 금정용수지선 외 6개소 보수보강 공사
L2: (단위:원)
A3: 종 별 | B3: 재료또는 | C3: 원 수 | D3: 단위 | E3: 총 액 | G3: 노 무 비 | I3: 재 료 비 | K3: 경 비 | M3: 비고
B4: 치수 | E4: 단 가 | F4: 금 액 | G4: 단 가 | H4: 금 액 | I4: 단 가 | J4: 금 액 | K4: 단 가 | L4: 금 액
A5: =사업개요!C3 -> 2026년 금정용수지선 외 6개소 보수보강 공사 | B5: 토목 | C5: 1 | D5: 식 | F5: =SUM(H5,J5,L5) -> 10519526 | H5: =토목공사비!H29 -> 5207677 | J5: =토목공사비!J29 -> 4541678 | L5: =토목공사비!L29 -> 770171 | M5: 신청
C6: 1 | D6: 식 | F6: =SUM(H6,J6,L6) -> 10519526 | H6: =토목공사비!H31 -> 5207677 | J6: =토목공사비!J31 -> 4541678 | L6: =토목공사비!L31 -> 770171 | M6: 인가
A19: 합 계 | B19: 신 청 | F19: =H19+J19+L19 -> 10519526 | H19: =H5+H7 -> 5207677 | J19: =J5+J7 -> 4541678 | L19: =L5+L7 -> 770171
C20: ≒ | F20: =H20+J20+L20 -> 10518000 | H20: =INT(H19/1000)*1000 -> 5207000 | J20: =INT(J19/1000)*1000 -> 4541000 | L20: =INT(L19/1000)*1000 -> 770000
B21: 인 가 | F21: =H21+J21+L21 -> 10519526 | H21: =H6+H8 -> 5207677 | J21: =J6+J8 -> 4541678 | L21: =L6+L8 -> 770171
C22: ≒ | F22: =H22+J22+L22 -> 10518000 | H22: =INT(H21/1000)*1000 -> 5207000 | J22: =INT(J21/1000)*1000 -> 4541000 | L22: =INT(L21/1000)*1000 -> 770000

Sheet 토목공사비
A1: =사업개요!C3 -> 2026년 금정용수지선 외 6개소 보수보강 공사
L2: (단위:원)
A3: 종 별 | B3: 재료 또는 | C3: 원 수 | D3: 단위 | E3: 총 액 | G3: 노 무 비 | I3: 재 료 비 | K3: 경 비 | M3: 비고
B4: 치 수 | E4: 단 가 | F4: 금 액 | G4: 단 가 | H4: 금 액 | I4: 단 가 | J4: 금 액 | K4: 단 가 | L4: 금 액
A5: =재료집계표!A9 -> 터파기 | B5: =재료집계표!B9 -> 기계 | C5: =재료집계표!K9 -> 488.75 | D5: =재료집계표!C9 -> ㎥ | E5: =SUM(G5,I5,K5) -> 1954 | F5: =SUM(H5,J5,L5) -> 955016 | G5: =단가일람!F5 -> 1415 | H5: =TRUNC(G5*$C5,0) -> 691581 | I5: =단가일람!G5 -> 229 | J5: =TRUNC(I5*$C5,0) -> 111923 | K5: =단가일람!H5 -> 310 | L5: =TRUNC(K5*$C5,0) -> 151512
C6: =재료집계표!K10 -> 488.75 | D6: =D5 -> ㎥ | E6: =SUM(G6,I6,K6) -> 1954 | F6: =SUM(H6,J6,L6) -> 955016 | G6: =G5 -> 1415 | H6: =TRUNC(G6*$C6,0) -> 691581 | I6: =I5 -> 229 | J6: =TRUNC(I6*$C6,0) -> 111923 | K6: =K5 -> 310 | L6: =TRUNC(K6*$C6,0) -> 151512
A7: =재료집계표!A11 -> 되메움 | B7: =재료집계표!B11 -> 기계 | C7: =재료집계표!K11 -> 317.75 | D7: =재료집계표!C11 -> ㎥ | E7: =SUM(G7,I7,K7) -> 1262 | F7: =SUM(H7,J7,L7) -> 400999 | G7: =단가일람!F8 -> 720 | H7: =TRUNC(G7*$C7,0) -> 228780 | I7: =단가일람!G8 -> 273 | J7: =TRUNC(I7*$C7,0) -> 86745 | K7: =단가일람!H8 -> 269 | L7: =TRUNC(K7*$C7,0) -> 85474
C8: =재료집계표!K12 -> 317.75 | D8: =D7 -> ㎥ | E8: =SUM(G8,I8,K8) -> 1262 | F8: =SUM(H8,J8,L8) -> 400999 | G8: =G7 -> 720 | H8: =TRUNC(G8*$C8,0) -> 228780 | I8: =I7 -> 273 | J8: =TRUNC(I8*$C8,0) -> 86745 | K8: =K7 -> 269 | L8: =TRUNC(K8*$C8,0) -> 85474
A9: =재료집계표!A13 -> 잔토처리 | C9: =재료집계표!K13 -> 171 | D9: =재료집계표!C13 -> ㎥ | E9: =SUM(G9,I9,K9) -> 1262 | F9: =SUM(H9,J9,L9) -> 215802 | G9: =단가일람!F9 -> 720 | H9: =TRUNC(G9*$C9,0) -> 123120 | I9: =단가일람!G8 -> 273 | J9: =TRUNC(I9*$C9,0) -> 46683 | K9: =단가일람!H8 -> 269 | L9: =TRUNC(K9*$C9,0) -> 45999
C10: =재료집계표!K14 -> 171 | D10: =D9 -> ㎥ | E10: =SUM(G10,I10,K10) -> 1262 | F10: =SUM(H10,J10,L10) -> 215802 | G10: =G9 -> 720 | H10: =TRUNC(G10*$C10,0) -> 123120 | I10: =I9 -> 273 | J10: =TRUNC(I10*$C10,0) -> 46683 | K10: =K9 -> 269 | L10: =TRUNC(K10*$C10,0) -> 45999
A11: =재료집계표!A15 -> 수로관 설치 및 해체 | B11: =재료집계표!B15 -> 800C | C11: =재료집계표!K15 -> 10 | D11: =재료집계표!C15 -> m | E11: =SUM(G11,I11,K11) -> 90905 | F11: =SUM(H11,J11,L11) -> 909050 | G11: =단가일람!F38+단가일람!F39 -> 78417 | H11: =TRUNC(G11*$C11,0) -> 784170 | I11: =단가일람!G38+단가일람!G39 -> 5158 | J11: =TRUNC(I11*$C11,0) -> 51580 | K11: =단가일람!H38+단가일람!H39 -> 7330 | L11: =TRUNC(K11*$C11,0) -> 73300
C12: =재료집계표!K16 -> 10 | D12: =D11 -> m | E12: =SUM(G12,I12,K12) -> 90905 | F12: =SUM(H12,J12,L12) -> 909050 | G12: =G11 -> 78417 | H12: =TRUNC(G12*$C12,0) -> 784170 | I12: =I11 -> 5158 | J12: =TRUNC(I12*$C12,0) -> 51580 | K12: =K11 -> 7330 | L12: =TRUNC(K12*$C12,0) -> 73300
A13: =재료집계표!A17 -> PE관 부설접합(버트융착식) | B13: =재료집계표!B17 -> D=100 | C13: =재료집계표!K17 -> 36 | D13: =재료집계표!C21 -> m | E13: =SUM(G13,I13,K13) -> 24948 | F13: =SUM(H13,J13,L13) -> 898128 | G13: =단가일람!F138 -> 12911 | H13: =TRUNC(G13*$C13,0) -> 464796 | I13: =단가일람!G138 -> 10230 | J13: =TRUNC(I13*$C13,0) -> 368280 | K13: =단가일람!H138 -> 1807 | L13: =TRUNC(K13*$C13,0) -> 65052
C14: =C13 -> 36 | D14: =D13 -> m | E14: =SUM(G14,I14,K14) -> 24948 | F14: =SUM(H14,J14,L14) -> 898128 | G14: =G13 -> 12911 | H14: =TRUNC(G14*$C14,0) -> 464796 | I14: =I13 -> 10230 | J14: =TRUNC(I14*$C14,0) -> 368280 | K14: =K13 -> 1807 | L14: =TRUNC(K14*$C14,0) -> 65052
A15: =재료집계표!A19 -> 유공관 | B15: =재료집계표!B19 -> D=150 | C15: =재료집계표!K19 -> 24 | D15: =재료집계표!K19 -> 24 | E15: =SUM(G15,I15,K15) -> 48522 | F15: =SUM(H15,J15,L15) -> 1164528 | G15: =단가일람!F142 -> 29579 | H15: =TRUNC(G15*$C15,0) -> 709896 | I15: =단가일람!G142 -> 18557 | J15: =TRUNC(I15*$C15,0) -> 445368 | K15: =단가일람!H142 -> 386 | L15: =TRUNC(K15*$C15,0) -> 9264
C16: =C15 -> 24 | D16: =D15 -> 24 | E16: =SUM(G16,I16,K16) -> 48522 | F16: =SUM(H16,J16,L16) -> 1164528 | G16: =G15 -> 29579 | H16: =TRUNC(G16*$C16,0) -> 709896 | I16: =I15 -> 18557 | J16: =TRUNC(I16*$C16,0) -> 445368 | K16: =K15 -> 386 | L16: =TRUNC(K16*$C16,0) -> 9264
A17: =재료집계표!A21 -> PE관 부설접합(버트융착식) | B17: =재료집계표!B21 -> D=50 | C17: =재료집계표!K21 -> 36 | D17: =재료집계표!C21 -> m | E17: =SUM(G17,I17,K17) -> 9206 | F17: =SUM(H17,J17,L17) -> 331416 | G17: =단가일람!F137 -> 5809 | H17: =TRUNC(G17*$C17,0) -> 209124 | I17: =단가일람!G137 -> 2700 | J17: =TRUNC(I17*$C17,0) -> 97200 | K17: =단가일람!H137 -> 697 | L17: =TRUNC(K17*$C17,0) -> 25092
C18: =재료집계표!K22 -> 36 | D18: =D17 -> m | E18: =SUM(G18,I18,K18) -> 9206 | F18: =SUM(H18,J18,L18) -> 331416 | G18: =G17 -> 5809 | H18: =TRUNC(G18*$C18,0) -> 209124 | I18: =I17 -> 2700 | J18: =TRUNC(I18*$C18,0) -> 97200 | K18: =K17 -> 697 | L18: =TRUNC(K18*$C18,0) -> 25092
A19: =재료집계표!A23 -> PE관 부설접합(버트융착식) | B19: =재료집계표!B23 -> D=150 | C19: =재료집계표!K23 -> 72 | D19: =재료집계표!C23 -> m | E19: =SUM(G19,I19,K19) -> 39942 | F19: =SUM(H19,J19,L19) -> 2875824 | G19: =단가일람!F139 -> 16616 | H19: =TRUNC(G19*$C19,0) -> 1196352 | I19: =단가일람!G139 -> 21000 | J19: =TRUNC(I19*$C19,0) -> 1512000 | K19: =단가일람!H139 -> 2326 | L19: =TRUNC(K19*$C19,0) -> 167472
C20: =C19 -> 72 | D20: =D19 -> m | E20: =SUM(G20,I20,K20) -> 39942 | F20: =SUM(H20,J20,L20) -> 2875824 | G20: =G19 -> 16616 | H20: =TRUNC(G20*$C20,0) -> 1196352 | I20: =I19 -> 21000 | J20: =TRUNC(I20*$C20,0) -> 1512000 | K20: =K19 -> 2326 | L20: =TRUNC(K20*$C20,0) -> 167472
A21: =단가일람!B142 -> 유공관(D150) | C21: =재료집계표!K19 -> 24 | D21: =재료집계표!C19 -> m | E21: =SUM(G21,I21,K21) -> 94316 | F21: =SUM(H21,J21,L21) -> 2263584 | G21: =단가일람!F141 -> 23240 | H21: =TRUNC(G21*$C21,0) -> 557760 | I21: =단가일람!G141 -> 67590 | J21: =TRUNC(I21*$C21,0) -> 1622160 | K21: =단가일람!H141 -> 3486 | L21: =TRUNC(K21*$C21,0) -> 83664
C22: =C21 -> 24 | D22: =D21 -> m | E22: =SUM(G22,I22,K22) -> 94316 | F22: =SUM(H22,J22,L22) -> 2263584 | G22: =G21 -> 23240 | H22: =TRUNC(G22*$C22,0) -> 557760 | I22: =I21 -> 67590 | J22: =TRUNC(I22*$C22,0) -> 1622160 | K22: =K21 -> 3486 | L22: =TRUNC(K22*$C22,0) -> 83664
A23: =재료집계표!A25 -> 콘크리트 포장 | B23: =재료집계표!B25 -> 0.2㎥ 미만 | C23: =재료집계표!K25 -> 6.8 | D23: =재료집계표!C25 -> ㎥ | E23: =SUM(G23,I23,K23) -> 37172 | F23: =SUM(H23,J23,L23) -> 252769 | G23: =단가일람!F14 -> 14160 | H23: =TRUNC(G23*$C23,0) -> 96288 | I23: =단가일람!G14 -> 23012 | J23: =TRUNC(I23*$C23,0) -> 156481 | K23: =단가일람!H14 -> 0 | L23: =TRUNC(K23*$C23,0) -> 0
C24: =C23 -> 6.8 | D24: =D23 -> ㎥ | E24: =SUM(G24,I24,K24) -> 37172 | F24: =SUM(H24,J24,L24) -> 252769 | G24: =G23 -> 14160 | H24: =TRUNC(G24*$C24,0) -> 96288 | I24: =I23 -> 23012 | J24: =TRUNC(I24*$C24,0) -> 156481 | K24: =K23 -> 0 | L24: =TRUNC(K24*$C24,0) -> 0
A25: =재료집계표!A27 -> 콘크리트 헐기 | B25: =재료집계표!B27 -> 0.2㎡ | C25: =재료집계표!K27 -> 9.2 | D25: =재료집계표!C27 -> ㎥ | E25: =SUM(G25,I25,K25) -> 27436 | F25: =SUM(H25,J25,L25) -> 252410 | G25: =단가일람!F11 -> 15849 | H25: =TRUNC(G25*$C25,0) -> 145810 | I25: =단가일람!G11 -> 4702 | J25: =TRUNC(I25*$C25,0) -> 43258 | K25: =단가일람!H11 -> 6885 | L25: =TRUNC(K25*$C25,0) -> 63342
C26: =C25 -> 9.2 | D26: =D25 -> ㎥ | E26: =SUM(G26,I26,K26) -> 27436 | F26: =SUM(H26,J26,L26) -> 252410 | G26: =G25 -> 15849 | H26: =TRUNC(G26*$C26,0) -> 145810 | I26: =I25 -> 4702 | J26: =TRUNC(I26*$C26,0) -> 43258 | K26: =K25 -> 6885 | L26: =TRUNC(K26*$C26,0) -> 63342
A29: 합 계 | B29: 신 청 | F29: =H29+J29+L29 -> 10519526 | H29: =H5+H7+H9+H11+H15+H23+H25+H13+H17+H19+H21+H27 -> 5207677 | J29: =J5+J7+J9+J11+J15+J23+J25+J13+J17+J19+J21+J27 -> 4541678 | L29: =L5+L7+L9+L11+L15+L23+L25+L13+L17+L19+L21+L27 -> 770171
C30: ≒ | F30: =H30+J30+L30 -> 10518000 | H30: =INT(H29/1000)*1000 -> 5207000 | J30: =INT(J29/1000)*1000 -> 4541000 | L30: =INT(L29/1000)*1000 -> 770000
B31: 인 가 | F31: =H31+J31+L31 -> 10519526 | H31: =H6+H8+H10+H14+H16+H18+H20+H22+H12+H24+H26+H28 -> 5207677 | J31: =J6+J8+J10+J14+J16+J18+J20+J22+J12+J24+J26+J28 -> 4541678 | L31: =L6+L8+L10+L16+L14+L18+L20+L22+L12+L24+L26+L28 -> 770171
C32: ≒ | F32: =H32+J32+L32 -> 10518000 | H32: =INT(H31/1000)*1000 -> 5207000 | J32: =INT(J31/1000)*1000 -> 4541000 | L32: =INT(L31/1000)*1000 -> 770000

Sheet 재료집계표
A1: =사업개요!C3 -> 2026년 금정용수지선 외 6개소 보수보강 공사
A2: 로 선 명 | D2: =재료계산서!A4 -> 금정리 344 | E2: =재료계산서!A11 -> 신흥리 817 | F2: =재료계산서!A17 -> 청소리 613 | G2: =재료계산서!A47 -> 왕진리 936-9 | H2: =재료계산서!A53 -> 사점리 167 | I2: =재료계산서!A59 -> 중산리 732-1 | J2: =재료계산서!A65 -> 화양리 1041-4 | K2: 소계 | L2: 비고
A3: 구 조 물 명 | D3: =재료계산서!D4 -> ○ 수로관 교체 | E3: =재료계산서!D11 -> ○ 송수관로 누출 | F3: =재료계산서!D17 -> ○ 유공관 보수 | G3: =재료계산서!D47 -> ○ 송수관로 누출 | H3: =재료계산서!D53 -> ○ 송수관로 누출 | I3: =재료계산서!D59 -> ○ 송수관로 누출 | J3: =재료계산서!D65 -> ○ 농로 파손
A4: 로 선 및 위 치
A5: 치 수 | B5: 길 이 | D5: =재료계산서!B5 -> 10 | E5: =재료계산서!B12 -> 30 | F5: =재료계산서!B18 -> 20 | G5: =재료계산서!B48 -> 30 | H5: =재료계산서!B54 -> 30 | I5: =재료계산서!B60 -> 30 | J5: =재료계산서!B66 -> 5 | K5: =SUM(D5:J5) -> 155
B6: 넓 이
B7: 지름 및 높이
A8: 종 별 | B8: 재료또는치수 | C8: 단위
A9: 터파기 | B9: 기계 | C9: ㎥ | D9: =재료계산서!P5 -> 10 | E9: =재료계산서!P12 -> 42.9 | F9: =재료계산서!P18 -> 300 | G9: =재료계산서!P48 -> 42.9 | H9: =재료계산서!P54 -> 42.9 | I9: =재료계산서!P60 -> 42.9 | J9: =재료계산서!P66 -> 7.15 | K9: =SUM(D9:J9) -> 488.75 | L9: 신청
D10: =D9 -> 10 | E10: =E9 -> 42.9 | F10: =F9 -> 300 | G10: =G9 -> 42.9 | H10: =H9 -> 42.9 | I10: =I9 -> 42.9 | J10: =J9 -> 7.15 | K10: =SUM(D10:J10) -> 488.75 | L10: 인가
A11: 되메움 | B11: 기계 | C11: ㎥ | D11: =재료계산서!P6 -> 6 | E11: =재료계산서!P13 -> 32.4 | F11: =재료계산서!P19 -> 180 | G11: =재료계산서!P49 -> 32.4 | H11: =재료계산서!P55 -> 32.4 | I11: =재료계산서!P61 -> 32.4 | J11: =재료계산서!P67 -> 2.15 | K11: =SUM(D11:J11) -> 317.75
D12: =D11 -> 6 | E12: =E11 -> 32.4 | F12: =F11 -> 180 | G12: =G11 -> 32.4 | H12: =H11 -> 32.4 | I12: =I11 -> 32.4 | J12: =J11 -> 2.15 | K12: =SUM(D12:J12) -> 317.75
A13: 잔토처리 | C13: ㎥ | D13: =재료계산서!P7 -> 4 | E13: =재료계산서!P14 -> 10.5 | F13: =재료계산서!P20 -> 120 | G13: =재료계산서!P50 -> 10.5 | H13: =재료계산서!P56 -> 10.5 | I13: =재료계산서!P62 -> 10.5 | J13: =재료계산서!P68 -> 5 | K13: =SUM(D13:J13) -> 171
D14: =D13 -> 4 | E14: =E13 -> 10.5 | F14: =F13 -> 120 | G14: =G13 -> 10.5 | H14: =H13 -> 10.5 | I14: =I13 -> 10.5 | J14: =J13 -> 5 | K14: =SUM(D14:J14) -> 171
A15: =재료계산서!D8 -> 수로관 설치 및 해체 | B15: =재료계산서!E8 -> 800C | C15: m | D15: =재료계산서!P8 -> 10 | E15: 0 | F15: 0 | G15: 0 | H15: =재료계산서!V8 -> 0 | I15: 0 | J15: 0 | K15: =SUM(D15:J15) -> 10
D16: =D15 -> 10 | E16: =E15 -> 0 | F16: =F15 -> 0 | G16: 0 | H16: =H15 -> 0 | I16: =I15 -> 0 | J16: 0 | K16: =SUM(D16:J16) -> 10
A17: =재료계산서!D15 -> PE관 부설접합(버트융착식) | B17: =재료계산서!E15 -> D=100 | C17: m | D17: 0 | E17: =재료계산서!P15 -> 36 | F17: 0 | G17: =재료계산서!P47 -> 0 | H17: 0 | I17: 0 | J17: =재료계산서!V47 -> 0 | K17: =SUM(D17:J17) -> 36
D18: 0 | E18: =E17 -> 36 | F18: 0 | G18: =G17 -> 0 | H18: 0 | I18: =I17 -> 0 | J18: =J17 -> 0 | K18: =SUM(D18:J18) -> 36
A19: =재료계산서!D21 -> 유공관 | B19: =재료계산서!E21 -> D=150 | C19: m | D19: 0 | E19: 0 | F19: =재료계산서!P21 -> 24 | G19: 0 | H19: 0 | I19: 0 | J19: 0 | K19: =SUM(D19:J19) -> 24
D20: =D19 -> 0 | E20: =E19 -> 0 | F20: =F19 -> 24 | G20: 0 | H20: =H19 -> 0 | I20: =I19 -> 0 | J20: 0 | K20: =SUM(D20:J20) -> 24
A21: =재료계산서!D51 -> PE관 부설접합(버트융착식) | B21: =재료계산서!E51 -> D=50 | C21: m | D21: 0 | E21: 0 | F21: 0 | G21: =재료계산서!P51 -> 36 | H21: 0 | I21: 0 | J21: =재료계산서!V51 -> 0 | K21: =SUM(D21:J21) -> 36
D22: 0 | E22: =E21 -> 0 | F22: 0 | G22: =G21 -> 36 | H22: 0 | I22: =I21 -> 0 | J22: =J21 -> 0 | K22: =SUM(D22:J22) -> 36
A23: =재료계산서!D57 -> PE관 부설접합(버트융착식) | B23: =재료계산서!E63 -> D=150 | C23: m | D23: 0 | E23: 0 | F23: 0 | G23: 0 | H23: =재료계산서!P57 -> 36 | I23: =재료계산서!P63 -> 36 | J23: 0 | K23: =SUM(D23:J23) -> 72
D24: 0 | E24: =E23 -> 0 | F24: 0 | G24: =G23 -> 0 | H24: =H23 -> 36 | I24: =I23 -> 36 | J24: =J23 -> 0 | K24: =SUM(D24:J24) -> 72
A25: 콘크리트 포장 | B25: 0.2㎥ 미만 | C25: ㎥ | D25: 0 | E25: 0 | F25: =재료계산서!P22 -> 4.8 | G25: 0 | H25: =재료계산서!V9 -> 0 | I25: 0 | J25: =재료계산서!P69 -> 2 | K25: =SUM(D25:J25) -> 6.8
D26: =D25 -> 0 | E26: =E25 -> 0 | F26: =F25 -> 4.8 | G26: =G25 -> 0 | H26: =H25 -> 0 | I26: =I25 -> 0 | J26: =J25 -> 2 | K26: =SUM(D26:J26) -> 6.8
A27: 콘크리트 헐기 | B27: 0.2㎡ | C27: ㎥ | D27: =재료계산서!P9 -> 2.4 | E27: 0 | F27: =재료계산서!P23 -> 4.8 | G27: 0 | H27: =재료계산서!V9 -> 0 | I27: =0 -> 0 | J27: =재료계산서!P70 -> 2 | K27: =SUM(D27:J27) -> 9.2
D28: =D27 -> 2.4 | E28: =E27 -> 0 | F28: =F27 -> 4.8 | G28: =G27 -> 0 | H28: =H27 -> 0 | I28: =I27 -> 0 | J28: =J27 -> 2 | K28: =SUM(D28:J28) -> 9.2
K29: =SUM(D29:G29) -> 0
K30: =SUM(D30:G30) -> 0
K33: =SUM(D33:G33) -> 0
K34: =SUM(D34:G34) -> 0
K35: =SUM(D35:G35) -> 0
K36: =SUM(D36:G36) -> 0

Sheet 덮개단면도
A1: 수 로 관 덮 개 구 조 도
G3: 단 면 도
E6: 0.2 | G6: 1.5 | I6: 0.2
N11: 0.15
N13: 0.05
B16: ① D13
K17: ② D13
G18: 평 면 도
E20: 0.2 | G20: 1.5 | I20: 0.2 | Q20: 철 근 표
T23: (1m 당)
O25: 번호 | P25: 규격 | Q25: 간격 | R25: 본장 | S25: 본수 | T25: 연장 | U25: 비고
O26: ① | P26: D13 | Q26: 0.2 | R26: 1 | S26: 8.7 | T26: 8.7
B27: ① D13 | N27: 1 | O27: ② | P27: D13 | Q27: 0.2 | R27: 1.74 | S27: 5 | T27: 8.7
O28: D13 : 17.4 * 0.995 = 17.31㎏
R30: Total : | S30: 17 | T30: ㎏
H33: ② D13

Sheet 재료계산서
A1: 재 료 계 산 서
A3: 구 분 | D3: 공 종 | F3: 산 출 내 역 | P3: 계
A4: 금정리 344 | D4: ○ 수로관 교체
A5: L = | B5: 10 | C5: m | D5: 터파기 | G5: 1.0+1.0 / 2 * 1.0 * L = | P5: =1*B5 -> 10 | Q5: ㎥
D6: 되메움 | G6: 터파기 - (0.8 * 0.5 * L) = | P6: =ROUND((P5-(0.8*0.5*B5)),2) -> 6 | Q6: ㎥
D7: 잔토처리 | P7: =P5-P6 -> 4 | Q7: ㎡
D8: 수로관 설치 및 해체 | E8: 800C | G8: n * 2 = | P8: =B5 -> 10 | Q8: m
D9: 콘크리트 헐기 | G9: (0.8 + 0.8 + 0.8) * n = | P9: =2.4*0.1*B5 -> 2.4 | Q9: ㎥
A11: 신흥리 817 | D11: ○ 송수관로 누출
A12: L = | B12: 30 | C12: m | D12: 터파기 | G12: 1.1 * (0.75 * 2 + 0.55 * 2) * 0.5 * L = | P12: =1.1*(0.75*2+0.55*2)*0.5*B12 -> 42.9 | Q12: ㎥
D13: 되메움 | G13: 터파기 - (0.75 * 0.5 * L) = | P13: =ROUND((P12-(0.7*0.5*B12)),2) -> 32.4 | Q13: ㎥
D14: 잔토처리 | P14: =P12-P13 -> 10.5 | Q14: ㎡
D15: PE관 부설접합(버트융착식) | E15: D=100 | G15: n * 6 = | P15: =6*6 -> 36 | Q15: m
A17: 청소리 613 | D17: ○ 유공관 보수
A18: L = | B18: 20 | C18: m | D18: 터파기 | G18: 15.0 * (4.0 * 2) * 0.5 * L = | P18: =3*(3*2+2*2)*0.5*B18 -> 300 | Q18: ㎥
D19: 되메움 | G19: 터파기 - (3 * 2 * L) = | P19: =ROUND((P18-(3*2*B18)),2) -> 180 | Q19: ㎥
D20: 잔토처리 | P20: =P18-P19 -> 120 | Q20: ㎡
D21: 유공관 | E21: D=150 | G21: n * 6 = | P21: =6*4 -> 24 | Q21: m
D22: 바닥 포장 | G22: (2.0 * 4.0 * 0.2) * n = | P22: =2*4*0.2*3 -> 4.8 | Q22: ㎥
E23: 바닥 헐기 | G23: (2.0 * 4.0 * 0.2) * n = | P23: =P22 -> 4.8 | Q23: ㎥
A24: 광암리 | D24: ○ 송수관로 교체
A25: L = | B25: 10 | C25: m | D25: 터파기 | G25: 1.1 * (0.75 * 2 + 0.55 * 2) * 0.5 * L = | P25: 0 | Q25: ㎥
D26: 되메움 | G26: 터파기 - (0.75 * 0.5 * L) = | P26: 0 | Q26: ㎥
D27: 잔토처리 | P27: 0 | Q27: ㎡
D28: PE관 부설접합 | E28: D=500 | G28: n * 6 = | P28: 0 | Q28: m
D29: 진입로 포장 | G29: (4.0 * 2.0 * 0.4) * n = | P29: 0 | Q29: ㎥
E30: 진입로 헐기 | G30: (4.0 * 2.0 * 0.4) * n = | P30: 0 | Q30: ㎥
D31: 맨홀설치 | E31: 1.0*1.0*1.2 | P31: 0 | Q31: 조
A32: 분향리 830-10 | D32: ○ 진입로 포장 | P32: 0
A33: L = | B33: 9 | C33: m | D33: 진입로 포장 | G33: (4.0 * 9.0 * 0.2) * n = | P33: 0 | Q33: ㎥
E34: 진입로 헐기 | G34: (4.0 * 9.0 * 0.2) * n = | P34: 0 | Q34: ㎥
A35: 광시면 가덕리 | D35: ○ 송수관로 교체
A36: L = | B36: 12 | C36: m | D36: 터파기 | G36: 1.1 * (0.75 * 2 + 0.55 * 2) * 0.5 * L = | P36: 0 | Q36: ㎥
D37: 되메움 | G37: 터파기 - (0.75 * 0.5 * L) = | P37: 0 | Q37: ㎥
D38: 잔토처리 | P38: 0 | Q38: ㎡
D39: PE관 부설접합 | E39: D=200 | G39: n * 6 = | P39: 0 | Q39: m
A40: 수정리 | D40: ○ 송수관로 교체 | P40: 0
A41: L = | B41: 4 | C41: m | D41: 터파기 | G41: 1.1 * (0.75 * 2 + 0.55 * 2) * 0.5 * L = | P41: 0 | Q41: ㎥
D42: 되메움 | G42: 터파기 - (0.75 * 0.5 * L) = | P42: 0 | Q42: ㎥
D43: 잔토처리 | P43: 0 | Q43: ㎡
...

Sheet 단가일람
A1: □ 단 가 일 람
A3: 호 표 | B3: 공 종 | C3: 원 수 | D3: 단 위 | E3: 총 액 | F3: 노 무 비 | G3: 재 료 비 | H3: 경 비
A4: 1 | B4: 터파기(인력) 토사 0~1m | E4: =SUM(F4:H4) -> 34413 | F4: =단가내역!H6 -> 34413 | G4: =단가내역!J6 -> 0 | H4: =단가내역!L6 -> 0
A5: 2 | B5: =단가내역!F7 -> 터파기(백호:모래,사질토) | C5: 1 | D5: ㎥ | E5: =SUM(F5:H5) -> 1954 | F5: =단가내역!H9 -> 1415 | G5: =단가내역!J9 -> 229 | H5: =단가내역!L9 -> 310
A6: 3 | B6: =단가내역!F10 -> 되메움(토사:인력+콤팩터) | C6: 1 | D6: ㎥ | E6: =SUM(F6:H6) -> 21446 | F6: =단가내역!H13 -> 21162 | G6: =단가내역!J13 -> 226 | H6: =단가내역!L13 -> 58
A7: 4 | B7: =단가내역!F14 -> 되메움(토사:백호+양족견인) | C7: 1 | D7: ㎥ | E7: =SUM(F7:H7) -> 1656 | F7: =단가내역!H17 -> 924 | G7: =단가내역!J17 -> 365 | H7: =단가내역!L17 -> 367
A8: 5 | B8: =단가내역!F18 -> 뒷채움(토사:백호) | C8: 1 | D8: ㎥ | E8: =SUM(F8:H8) -> 1262 | F8: =단가내역!H20 -> 720 | G8: =단가내역!J20 -> 273 | H8: =단가내역!L20 -> 269
A9: 6 | B9: =단가내역!F21 -> 잔토처리(토사) | C9: 1 | D9: ㎥ | E9: =SUM(F9:H9) -> 1262 | F9: =단가내역!H23 -> 720 | G9: =단가내역!J23 -> 273 | H9: =단가내역!L23 -> 269
A10: 7 | B10: =단가내역!F24 -> 기초모래 | C10: 1 | D10: ㎥ | E10: =SUM(F10:H10) -> 56813 | F10: =단가내역!H28 -> 34858 | G10: =단가내역!J28 -> 20091 | H10: =단가내역!L28 -> 1864
A11: 8 | B11: =단가내역!F29 -> 구조물헐기(브레이카 무근 t=30㎝ 미만) | C11: 1 | D11: ㎥ | E11: =SUM(F11:H11) -> 27436 | F11: =단가내역!H32 -> 15849 | G11: =단가내역!J32 -> 4702 | H11: =단가내역!L32 -> 6885
A12: 9 | B12: =단가내역!F33 -> 구조물헐기(브레이카 철근 t=30㎝ 미만) | C12: 1 | D12: ㎥ | E12: =SUM(F12:H12) -> 76447 | F12: =단가내역!H37 -> 53933 | G12: =단가내역!J37 -> 9533 | H12: =단가내역!L37 -> 12981
A13: 10 | B13: =단가내역!F38 -> 포장절단 (콘크리트) | C13: 1 | D13: m | E13: =SUM(F13:H13) -> 4048 | F13: =단가내역!H45 -> 2842 | G13: =단가내역!J45 -> 1119 | H13: =단가내역!L45 -> 87
A14: 11 | B14: =단가내역!F46 -> 콘크리트포장(레미콘:인력, t=0.20) | C14: 1 | D14: ㎡ | E14: =SUM(F14:H14) -> 37172 | F14: =단가내역!H53 -> 14160 | G14: =단가내역!J53 -> 23012 | H14: =단가내역!L53 -> 0
A15: 12 | B15: =단가내역!F54 -> 강관동바리(암거구조물 6개월) H= 0.0 -4.2m | C15: 1 | D15: 공/㎥ | E15: =SUM(F15:H15) -> 28692 | F15: =단가내역!H60 -> 27723 | G15: =단가내역!J60 -> 964 | H15: =단가내역!L60 -> 5
A16: 13 | B16: =단가내역!F61 -> 강관비계(6개월) | C16: 1 | D16: ㎡ | E16: =SUM(F16:H16) -> 31255 | F16: =단가내역!H70 -> 27966 | G16: =단가내역!J70 -> 1884 | H16: =단가내역!L70 -> 1405
A17: 14 | B17: =단가내역!F71 -> 철근(복잡구조) | C17: 1 | D17: kg | E17: =SUM(F17:H17) -> 1145 | F17: =단가내역!H76 -> 1136 | G17: =단가내역!J76 -> 0 | H17: =단가내역!L76 -> 9
A18: 15 | B18: =단가내역!F77 -> 철근(보통구조) | C18: 1 | D18: kg | E18: =SUM(F18:H18) -> 1027 | F18: =단가내역!H82 -> 1028 | G18: =단가내역!J82 -> -1 | H18: =단가내역!L82 -> 0
A19: 16 | B19: =단가내역!F83 -> 합판거푸집(4회) 10㎥미만 | C19: 1 | D19: ㎡ | E19: =SUM(F19:H19) -> 68469 | F19: =단가내역!H87 -> 57951 | G19: =단가내역!J87 -> 10408 | H19: =단가내역!L87 -> 110
A20: 17 | B20: =단가내역!F88 -> 합판거푸집(4회) H=0-7M 10㎥이상 | C20: 1 | D20: ㎡ | E20: =SUM(F20:H20) -> 45923 | F20: =단가내역!H92 -> 35405 | G20: =단가내역!J92 -> 10408 | H20: =단가내역!L92 -> 110
A21: 18 | B21: =단가내역!F93 -> 합판거푸집(6회) 10㎥ 이상 | C21: 1 | D21: ㎡ | E21: =SUM(F21:H21) -> 44420 | F21: =단가내역!H97 -> 35370 | G21: =단가내역!J97 -> 8957 | H21: =단가내역!L97 -> 93
A22: 19 | B22: =단가내역!F98 -> 합판거푸집(6회) 10㎥ 미만 | C22: 1 | D22: ㎡ | E22: =SUM(F22:H22) -> 66966 | F22: =단가내역!H102 -> 57916 | G22: =단가내역!J102 -> 8957 | H22: =단가내역!L97 -> 93
A23: 20 | B23: =단가내역!F103 -> PE관 D=200 | C23: 1 | D23: 본 | E23: =SUM(F23:H23) -> 17276 | F23: =단가내역!H107 -> 11766 | G23: =단가내역!J107 -> 5470 | H23: =단가내역!L107 -> 40
A24: 21 | B24: =단가내역!F108 -> PE관 D=300 | C24: 1 | D24: 본 | E24: =SUM(F24:H24) -> 23621 | F24: =단가내역!H112 -> 15135 | G24: =단가내역!J112 -> 8409 | H24: =단가내역!L112 -> 77
A25: 22 | B25: =단가내역!F113 -> PE관 D=500 | C25: 1 | D25: 본 | E25: =SUM(F25:H25) -> 47362 | F25: =단가내역!H117 -> 23318 | G25: =단가내역!J117 -> 23928 | H25: =단가내역!L117 -> 116
A26: 23 | B26: =단가내역!F118 -> PVC 관(D=100㎜) | C26: 1 | D26: m | E26: =SUM(F26:H26) -> 21139 | F26: =단가내역!H122 -> 8864 | G26: =단가내역!J122 -> 12275 | H26: =단가내역!L122 -> 0
A27: 24 | B27: 자갈부설 | C27: 1 | D27: ㎥ | E27: =SUM(F27:H27) -> 49411.4 | F27: =단가내역!H126 -> 32078.7 | G27: =단가내역!J126 -> 15765.4 | H27: =단가내역!L126 -> 1567.3
A28: 25 | B28: 순성토(토사95%) | C28: 1 | D28: ㎥ | E28: =SUM(F28:H28) -> 6183 | F28: =단가내역!H130 -> 3303 | G28: =단가내역!J130 -> 1765 | H28: =단가내역!L130 -> 1115
A29: 26 | B29: 스텐레스사다리 | C29: 1 | D29: m | E29: =SUM(F29:H29) -> 65249 | F29: =단가내역!H138 -> 42757 | G29: =단가내역!J138 -> 21146 | H29: =단가내역!L138 -> 1346
A30: 27 | B30: 방수모르터 바름(1:3, t=21mm) | C30: 1 | D30: ㎡ | E30: =SUM(F30:H30) -> 40487 | F30: =단가내역!H143 -> 5433 | G30: =단가내역!J143 -> 34897 | H30: =단가내역!L143 -> 157
A31: 28 | B31: 유로폼(벽0~7m) | C31: 1 | D31: ㎡ | E31: =SUM(F31:H31) -> 36221 | F31: =단가내역!H148 -> 32455 | G31: =단가내역!J148 -> 2712 | H31: =단가내역!L148 -> 1054
A32: 29 | B32: =단가내역!F149 -> 레미콘 : 무근(인력) | C32: 1 | D32: ㎥ | E32: =SUM(F32:H32) -> 58020 | F32: =단가내역!H152 -> 57773 | G32: =단가내역!J152 -> 233 | H32: =단가내역!L152 -> 14
A33: 30 | B33: =단가내역!F153 -> 레미콘 : 소형(인력) | C33: 1 | D33: ㎥ | E33: =SUM(F33:H33) -> 116041 | F33: =단가내역!H156 -> 115546 | G33: =단가내역!J156 -> 466 | H33: =단가내역!L156 -> 29
A34: 31 | B34: =단가내역!F157 -> 레미콘 : 철근(240-25) 10㎥이상 | C34: 1 | D34: ㎥ | E34: =SUM(F34:H34) -> 32335 | F34: =단가내역!H160 -> 27793 | G34: =단가내역!J160 -> 2395 | H34: =단가내역!L160 -> 2147
A35: 32 | B35: =단가내역!F161 -> 레미콘 : 철근(240-25) 10㎥이하 | C35: 1 | D35: ㎥ | E35: =SUM(F35:H35) -> 164509 | F35: =단가내역!H165 -> 45106 | G35: =단가내역!J165 -> 112777 | H35: =단가내역!L165 -> 6626
A36: 33 | B36: =단가내역!F166 -> 레미콘 : 철근(210-25) 10㎥이상 | C36: 1 | D36: ㎥ | E36: =SUM(F36:H36) -> 32335 | F36: =단가내역!H169 -> 27793 | G36: =단가내역!J169 -> 2395 | H36: =단가내역!L169 -> 2147
A37: 34 | B37: =단가내역!F171 -> 레미콘 : 철근,펌프카(240-25) 10㎥이상 | C37: 1 | D37: ㎥ | E37: =SUM(F37:H37) -> 27469 | F37: =단가내역!H174 -> 21703 | G37: =단가내역!J174 -> 1850 | H37: =단가내역!L174 -> 3916
A38: 35 | B38: 철근콘크리트수로관 부설(800*700,800*800) | C38: 1 | D38: 본 | E38: =SUM(F38:H38) -> 60604 | F38: =단가내역!H179 -> 52278 | G38: =단가내역!J179 -> 3439 | H38: =단가내역!L179 -> 4887
A39: 36 | B39: 철근콘크리트수로관 해체(800*700,800*800) | C39: 1 | D39: 본 | E39: =SUM(F39:H39) -> 30301 | F39: =단가내역!H182 -> 26139 | G39: =단가내역!J182 -> 1719 | H39: =단가내역!L182 -> 2443
A40: 37 | B40: 철근콘크리트수로관 부설(300*300) | C40: 1 | D40: 본 | E40: =SUM(F40:H40) -> 21626 | F40: =단가내역!H186 -> 17593 | G40: =단가내역!J186 -> 1499 | H40: =단가내역!L186 -> 2534
A41: 38 | B41: 철근콘크리트수로관 해체(300*300) | C41: 1 | D41: 본 | E41: =SUM(F41:H41) -> 10812 | F41: =단가내역!H189 -> 8796 | G41: =단가내역!J189 -> 749 | H41: =단가내역!L189 -> 1267
...

Sheet 단가내역
A1: □ 단가내역
A2: 종 별 | B2: 재료또는 | C2: 원 수 | D2: 단 | E2: 총 액 | G2: 노 무 비 | I2: 재 료 비 | K2: 경 비
B3: 치 수 | D3: 위 | E3: 단 가 | F3: 금 액 | G3: 단 가 | H3: 금 액 | I3: 단 가 | J3: 금 액 | K3: 단 가 | L3: 금 액
E4: =1 -> 1 | F4: 터파기(인력) 토사 0~1m | J4: 1㎥
A5: 터파기 | B5: 보통인부 | C5: 0.2 | D5: ㎥ | E5: =G5+I5+K5 -> 172068 | F5: =H5+J5+L5 -> 34413 | G5: =노임!D14 -> 172068 | H5: =INT(C5*G5) -> 34413 | J5: =INT(C5*I5) -> 0 | L5: =INT(C5*K5) -> 0
A6: 계 | F6: =H6+J6+L6 -> 34413 | H6: =SUM(H5:H5) -> 34413 | J6: =SUM(J5:J5) -> 0 | L6: =SUM(L5:L5) -> 0
E7: =E4+1 -> 2 | F7: 터파기(백호:모래,사질토) | J7: 1㎥
A8: 터파기 | B8: 백호0.4㎥ | C8: 1 | D8: ㎥ | E8: =G8+I8+K8 -> 1954 | F8: =H8+J8+L8 -> 1954 | G8: =중기단위당!H12 -> 1415 | H8: =INT(C8*G8) -> 1415 | I8: =중기단위당!I12 -> 229 | J8: =INT(C8*I8) -> 229 | K8: =중기단위당!J12 -> 310 | L8: =INT(C8*K8) -> 310
A9: 계 | F9: =H9+J9+L9 -> 1954 | H9: =SUM(H8:H8) -> 1415 | J9: =SUM(J8:J8) -> 229 | L9: =SUM(L8:L8) -> 310
E10: =E7+1 -> 3 | F10: 되메움(토사:인력+콤팩터) | J10: 1㎥
A11: 되메우기 | B11: 보통인부 | C11: 0.1 | D11: 인 | E11: =G11+I11+K11 -> 172068 | F11: =H11+J11+L11 -> 17206 | G11: =노임!D14 -> 172068 | H11: =INT(C11*G11) -> 17206 | I11: 0 | J11: =INT(C11*I11) -> 0 | K11: 0 | L11: =INT(C11*K11) -> 0
A12: 콤팩트 다짐 | C12: 1 | D12: ㎥ | E12: =G12+I12+K12 -> 4240 | F12: =H12+J12+L12 -> 4240 | G12: =중기단위당!H39 -> 3956 | H12: =INT(C12*G12) -> 3956 | I12: =중기단위당!I39 -> 226 | J12: =INT(C12*I12) -> 226 | K12: =중기단위당!J39 -> 58 | L12: =INT(C12*K12) -> 58
A13: 계 | F13: =H13+J13+L13 -> 21446 | H13: =SUM(H11:H12) -> 21162 | J13: =SUM(J11:J12) -> 226 | L13: =SUM(L11:L12) -> 58
E14: =E10+1 -> 4 | F14: 되메움(토사:백호+양족견인) | J14: 1㎥
A15: 되메우기 | B15: 백호0.7㎥ | C15: 1 | D15: 인 | E15: =G15+I15+K15 -> 1262 | F15: =H15+J15+L15 -> 1262 | G15: =기초일람!F8 -> 720 | H15: =INT(C15*G15) -> 720 | I15: =기초일람!G8 -> 273 | J15: =INT(C15*I15) -> 273 | K15: =기초일람!H8 -> 269 | L15: =INT(C15*K15) -> 269
A16: 기계성토다짐 | B16: 백호+양족견인 | C16: 1 | D16: ㎥ | E16: =G16+I16+K16 -> 394 | F16: =H16+J16+L16 -> 394 | G16: =기초일람!F10 -> 204 | H16: =INT(C16*G16) -> 204 | I16: =기초일람!G10 -> 92 | J16: =INT(C16*I16) -> 92 | K16: =기초일람!H10 -> 98 | L16: =INT(C16*K16) -> 98
A17: 계 | F17: =H17+J17+L17 -> 1656 | H17: =SUM(H15:H16) -> 924 | J17: =SUM(J15:J16) -> 365 | L17: =SUM(L15:L16) -> 367
E18: =E14+1 -> 5 | F18: 뒷채움(토사:백호) | J18: 1㎥
A19: 뒷채움 | B19: 백호0.7㎥ | C19: 1 | D19: ㎥ | E19: =G19+I19+K19 -> 1262 | F19: =H19+J19+L19 -> 1262 | G19: =기초일람!F9 -> 720 | H19: =INT(C19*G19) -> 720 | I19: =기초일람!G9 -> 273 | J19: =INT(C19*I19) -> 273 | K19: =기초일람!H9 -> 269 | L19: =INT(C19*K19) -> 269
A20: 계 | F20: =H20+J20+L20 -> 1262 | H20: =SUM(H19:H19) -> 720 | J20: =SUM(J19:J19) -> 273 | L20: =SUM(L19:L19) -> 269
E21: =E18+1 -> 6 | F21: 잔토처리(토사) | J21: 1㎥
A22: 잔토처리 | B22: 백호0.7㎥ | C22: 1 | D22: ㎥ | E22: =G22+I22+K22 -> 1262 | F22: =H22+J22+L22 -> 1262 | G22: =중기단위당!H19 -> 720 | H22: =INT(C22*G22) -> 720 | I22: =중기단위당!I19 -> 273 | J22: =INT(C22*I22) -> 273 | K22: =중기단위당!J19 -> 269 | L22: =INT(C22*K22) -> 269
A23: 계 | F23: =H23+J23+L23 -> 1262 | H23: =SUM(H22:H22) -> 720 | J23: =SUM(J22:J22) -> 273 | L23: =SUM(L22:L22) -> 269
E24: =E21+1 -> 7 | F24: 기초모래 | J24: 1㎥
A25: 기초모래 | B25: 1*1.4 | C25: 1.4 | D25: ton | E25: =G25+I25+K25 -> 34437 | F25: =H25+J25+L25 -> 48210 | G25: =자재일람!F8 -> 18754 | H25: =INT(C25*G25) -> 26255 | I25: =자재일람!G8 -> 14351 | J25: =INT(C25*I25) -> 20091 | K25: =자재일람!H8 -> 1332 | L25: =INT(C25*K25) -> 1864
A26: 고르고 다짐 | B26: 보통인부 | C26: 0.05 | D26: 인 | E26: =G26+I26+K26 -> 172068 | F26: =H26+J26+L26 -> 8603 | G26: =노임!D14 -> 172068 | H26: =INT(C26*G26) -> 8603 | I26: 0 | J26: =INT(C26*I26) -> 0 | K26: 0 | L26: =INT(C26*K26) -> 0
A27: 작업반장 | D27: 인 | E27: =G27+I27+K27 -> 0 | F27: =H27+J27+L27 -> 0 | G27: 0 | H27: =INT(C27*G27) -> 0 | I27: 0 | J27: =INT(C27*I27) -> 0 | K27: 0 | L27: =INT(C27*K27) -> 0
A28: 계 | F28: =H28+J28+L28 -> 56813 | H28: =SUM(H25:H27) -> 34858 | J28: =SUM(J25:J27) -> 20091 | L28: =SUM(L25:L27) -> 1864
E29: =E24+1 -> 8 | F29: 구조물헐기(브레이카 무근 t=30㎝ 미만) | J29: 1㎥
A30: 브레이카 철근 대형브레이카 0.7 | C30: 1 | D30: ㎥ | E30: =G30+I30+K30 -> 23995 | F30: =H30+J30+L30 -> 23995 | G30: =중기단위당!H43 -> 12408 | H30: =INT(C30*G30) -> 12408 | I30: =중기단위당!I43 -> 4702 | J30: =INT(C30*I30) -> 4702 | K30: =중기단위당!J43 -> 6885 | L30: =INT(C30*K30) -> 6885
A31: 작업보조인부 | B31: 1/8*1/Q | C31: 0.02 | D31: 인 | E31: =G31+I31+K31 -> 172068 | F31: =H31+J31+L31 -> 3441 | G31: =노임!D14 -> 172068 | H31: =INT(C31*G31) -> 3441 | I31: 0 | J31: =INT(C31*I31) -> 0 | K31: 0 | L31: =INT(C31*K31) -> 0
A32: 계 | F32: =H32+J32+L32 -> 27436 | H32: =SUM(H30:H31) -> 15849 | I32: 0 | J32: =SUM(J30:J31) -> 4702 | L32: =SUM(L30:L31) -> 6885
E33: =E29+1 -> 9 | F33: 구조물헐기(브레이카 철근 t=30㎝ 미만) | J33: 1㎥
A34: 브레이카 철근 대형브레이카 0.7 | C34: 1 | D34: ㎥ | E34: =G34+I34+K34 -> 45050 | F34: =H34+J34+L34 -> 45050 | G34: =중기단위당!H45 -> 23296 | H34: =INT(C34*G34) -> 23296 | I34: =중기단위당!I45 -> 8828 | J34: =INT(C34*I34) -> 8828 | K34: =중기단위당!J45 -> 12926 | L34: =INT(C34*K34) -> 12926
A35: 작업보조인부 | B35: 1/8*1/Q | C35: 0.05 | D35: 인 | E35: =G35+I35+K35 -> 172068 | F35: =H35+J35+L35 -> 8603 | G35: =G31 -> 172068 | H35: =INT(C35*G35) -> 8603 | I35: 0 | J35: =INT(C35*I35) -> 0 | K35: 0 | L35: =INT(C35*K35) -> 0
A36: 철근구조물헐기 | B36: 철근절단 | C36: 1 | D36: ㎥ | E36: =G36+I36+K36 -> 22794 | F36: =H36+J36+L36 -> 22794 | G36: =기초일람!F61 -> 22034 | H36: =INT(C36*G36) -> 22034 | I36: =기초일람!G61 -> 705 | J36: =INT(C36*I36) -> 705 | K36: =기초일람!H61 -> 55 | L36: =INT(C36*K36) -> 55
A37: 계 | F37: =H37+J37+L37 -> 76447 | H37: =SUM(H34:H36) -> 53933 | I37: 0 | J37: =SUM(J34:J36) -> 9533 | L37: =SUM(L34:L36) -> 12981
E38: =E33+1 -> 10 | F38: 포장절단 (콘크리트) | J38: 1 m
A39: 블레이드 | B39: D = 320-400mm | C39: 0.0031 | D39: 개 | E39: =G39+I39+K39 -> 190000 | F39: =H39+J39+L39 -> 589 | G39: 0 | H39: =INT(G39*C39) -> 0 | I39: =자재!F180 -> 190000 | J39: =INT(I39*C39) -> 589 | K39: 0 | L39: =INT(K39*C39) -> 0
A40: 물 | B40: 3000/1000 | C40: 0.03 | D40: ton | E40: =G40+I40+K40 -> 10967 | F40: =H40+J40+L40 -> 328 | G40: =기초단위당!H16 -> 7068 | H40: =INT(G40*C40) -> 212 | I40: =기초단위당!I16 -> 2639 | J40: =INT(I40*C40) -> 79 | K40: =기초단위당!J16 -> 1260 | L40: =INT(K40*C40) -> 37
...

Sheet 단가산출
B1: 단가산출
B3: 산 출 근 거 | C3: 합 계 | D3: 노무비 | E3: 재료비 | F3: 경 비 | CX3: 합 계 | CY3: 노무비 | CZ3: 재료비 | DA3: 경 비
B4: 19.아스팔트 포장 절삭후 아스팔트 덧씌우기 (C-Type (1회절삭,1회포장)) [㎡] | CX4: =CX106 -> 5597 | CY4: =CY106 -> 3,032 | CZ4: =CZ106 -> 1,108 | DA4: =DA106 -> 1,457
E6: < 2024년 품셈개정. 유지보수 2-1-3 >
E8: ※ | H8: 밀링깊이 | Q8: 70 | S8: mm | V8: 이하 | AA8: 1 | AB8: 회절삭후 | AJ8: , | AL8: 1 | AM8: 회 | AP8: 재포장하는 | BA8: 기준
H9: C | I9: - | J9: Type | O9: : | Q9: 평면교차로 | AB9: 등으로 | AI9: 인해 | AN9: 시공구간이 | AY9: 단절되어 | BH9: 작업위치 | BQ9: 이동을 | BX9: 위한
Q10: 장비의 | X10: 운반이 | AE10: 발생되는 | AN10: 경우
E12: ※ | H12: 1 | I12: 일 | L12: 시공량 | S12: : | U12: Qd | X12: = | Z12: =TEXT(1800,"#,##0.#######") -> 1,800. | AE12: ㎡ | AG12: / | AH12: 일
H13: 시간당 | O13: 시공량 | V13: : | X13: Q | Z13: = | AB13: Qd | AE13: ÷ | AH13: =TEXT(8,"#,##0.#######") -> 8. | AI13: hr | AL13: = | AN13: =TEXT(Z12,"#,##0.#######") -> 1,800. | AT13: ÷ | AW13: =TEXT(AH13,"#,##0.#######") -> 8. | AY13: = | BB13: =TEXT(ROUND(Z12/AH13,2),"#,##0.#######") -> 225. | BH13: ㎡ | BJ13: / | BK13: hr
D15: 1. | G15: 배치인원
G17: 포 장 공 | R17: : | T17: =TEXT([9]노임단가!F12,"#,##0") -> 267,989 | AD17: × | AG17: =TEXT(4,"#,##0.#######") -> 4. | AJ17: 인 | AM17: ÷ | AP17: Qd | AS17: = | AU17: =TEXT(T17,"#,##0.#######") -> 267,989. | BC17: × | BF17: =TEXT(AG17,"#,##0.#######") -> 4. | BH17: ÷ | BK17: =TEXT(Z12,"#,##0.#######") -> 1,800. | BQ17: = | BS17: =TEXT(TRUNC(T17*AG17/Z12,1),"#,##0.#######") -> 595.5
G19: 보통인부 | R19: : | T19: =TEXT([9]노임단가!F4,"#,##0") -> 169,804 | AD19: × | AG19: =TEXT(2,"#,##0.#######") -> 2. | AJ19: 인 | AM19: ÷ | AP19: Qd | AS19: = | AU19: =TEXT(T19,"#,##0.#######") -> 169,804. | BC19: × | BF19: =TEXT(AG19,"#,##0.#######") -> 2. | BH19: ÷ | BK19: =TEXT(Z12,"#,##0.#######") -> 1,800. | BQ19: = | BS19: =TEXT(TRUNC(T19*AG19/Z12,1),"#,##0.#######") -> 188.6
G21: 인부소계 | P21: : | R21: =TEXT(TRUNC(BS17+BS19,1),"#,##0.#######") -> 784.1 | CY21: =R21 -> 784.1
D23: 2. | G23: 재료비 | N23: ( | O23: 팁 | Q23: ( | R23: 날 | T23: ) | V23: 소모량 | AB23: )
G25: 1 | H25: ㎥당 | M25: 0.69 | Q25: 개소모 | W25: , | Y25: 밀링깊이 | AH25: 70 | AJ25: mm기준시 | AS25: 1 | AT25: ㎥는 | AY25: 14.28 | BD25: ㎡임
G27: 팁(날) | O27: (노면파쇄기용) | AF27: =TEXT([9]자재단가!R14,"#,##0.#######") -> 6,000. | AN27: × | AQ27: =TEXT(0.69,"#,##0.#######") -> 0.69 | AU27: 개 | AX27: ÷ | BA27: =TEXT(14.28,"#,##0.#######") -> 14.28 | BF27: ㎡ | BI27: = | BK27: =TEXT(TRUNC(AF27*AQ27/BA27,1),"#,##0.#") -> 289.9 | CX27: =CY27+CZ27+DA27 -> 289.9 | CZ27: =BK27 -> 289.9
D29: 3. | G29: 기계경비
E31: 가 | G31: . | I31: 노면파쇄기 | V31: (2.0m)
G33: 노무비 | N33: : | Q33: =TEXT([9]기계경비총괄표!G15,"#,##0") -> 57,077 | Z33: ÷ | AC33: =TEXT(BB13,"#,##0.#######") -> 225. | AI33: = | AL33: =TEXT(TRUNC(Q33/BB13,1),"#,##0.#") -> 253.6
G34: 재료비 | N34: : | Q34: =TEXT([9]기계경비총괄표!H15,"#,##0") -> 77,087 | Z34: ÷ | AC34: =TEXT(BB13,"#,##0.#######") -> 225. | AI34: = | AL34: =TEXT(TRUNC(Q34/BB13,1),"#,##0.#") -> 342.6
G35: 경 | K35: 비 | N35: : | P35: =TEXT([9]기계경비총괄표!I15,"#,##0") -> 170,620 | Z35: ÷ | AC35: =TEXT(BB13,"#,##0.#######") -> 225. | AI35: = | AL35: =TEXT(TRUNC(P35/BB13,1),"#,##0.#") -> 758.3
G36: 소 | K36: 계 | N36: : | AF36: =TEXT(AL33+AL34+AL35,"#,##0.#######") -> 1,354.5 | CX36: =CY36+CZ36+DA36 -> 1354.5 | CY36: =TEXT(AL33,"#,###.0") -> 253.6 | CZ36: =TEXT(AL34,"#,###.0") -> 342.6 | DA36: =TEXT(AL35,"#,###.0") -> 758.3
E38: 나 | G38: . | I38: 로우더(타이어)+소형노면파쇄기 | AN38: (0.95㎥)
G40: 노무비 | N40: : | P40: =TEXT([9]기계경비총괄표!G16,"#,##0") -> 57,077 | Y40: ÷ | AB40: =TEXT(BB13,"#,##0.#######") -> 225. | AH40: = | AJ40: =TEXT(TRUNC(P40/BB13,1),"#,##0.#") -> 253.6
G41: 재료비 | N41: : | P41: =TEXT([9]기계경비총괄표!H16,"#,##0") -> 11,258 | Y41: ÷ | AB41: =TEXT(BB13,"#,##0.#######") -> 225. | AH41: = | AK41: =TEXT(TRUNC(P41/BB13,1),"#,##0.#") -> 50.
G42: 경 | K42: 비 | N42: : | P42: =TEXT([9]기계경비총괄표!I16,"#,##0") -> 20,711 | Y42: ÷ | AB42: =TEXT(BB13,"#,##0.#######") -> 225. | AH42: = | AK42: =TEXT(TRUNC(P42/BB13,1),"#,##0.#") -> 92.
G43: 소 | K43: 계 | N43: : | AF43: =TEXT(AJ40+AK41+AK42,"#,##0.#######") -> 395.6 | CX43: =CY43+CZ43+DA43 -> 395.6 | CY43: =TEXT(AJ40,"#,###.0") -> 253.6 | CZ43: =TEXT(AK41,"#,###.0") -> 50.0 | DA43: =TEXT(AK42,"#,###.0") -> 92.0
E45: 다 | G45: . | I45: 로우더(타이어) | Z45: (0.57㎥)
G47: 노무비 | N47: : | P47: =TEXT([9]기계경비총괄표!G17,"#,##0") -> 57,077 | Y47: ÷ | AB47: =TEXT(BB13,"#,##0.#######") -> 225. | AH47: = | AJ47: =TEXT(TRUNC(P47/BB13,1),"#,##0.#") -> 253.6
G48: 재료비 | N48: : | Q48: =TEXT([9]기계경비총괄표!H17,"#,##0") -> 6,355 | Y48: ÷ | AB48: =TEXT(BB13,"#,##0.#######") -> 225. | AH48: = | AK48: =TEXT(TRUNC(Q48/BB13,1),"#,##0.#") -> 28.2
G49: 경 | K49: 비 | N49: : | Q49: =TEXT([9]기계경비총괄표!I17,"#,##0") -> 7,237 | Y49: ÷ | AB49: =TEXT(BB13,"#,##0.#######") -> 225. | AH49: = | AK49: =TEXT(TRUNC(Q49/BB13,1),"#,##0.#") -> 32.1
G50: 소 | K50: 계 | N50: : | AF50: =TEXT(AJ47+AK48+AK49,"#,##0.#######") -> 313.9 | CX50: =CY50+CZ50+DA50 -> 313.9 | CY50: =TEXT(AJ47,"#,###.0") -> 253.6 | CZ50: =TEXT(AK48,"#,###.0") -> 28.2 | DA50: =TEXT(AK49,"#,###.0") -> 32.1
E52: 라 | G52: . | I52: 아스팔트페이버(피니셔) | AH52: (3.0m)
G54: 노무비 | N54: : | P54: =TEXT([9]기계경비총괄표!G18,"#,##0") -> 57,077 | Y54: ÷ | AB54: =TEXT(BB13,"#,##0.#######") -> 225. | AH54: = | AJ54: =TEXT(TRUNC(P54/BB13,1),"#,##0.#") -> 253.6
G55: 재료비 | N55: : | P55: =TEXT([9]기계경비총괄표!H18,"#,##0") -> 17,540 | Y55: ÷ | AB55: =TEXT(BB13,"#,##0.#######") -> 225. | AH55: = | AK55: =TEXT(TRUNC(P55/BB13,1),"#,##0.#") -> 77.9
G56: 경 | K56: 비 | N56: : | P56: =TEXT([9]기계경비총괄표!I18,"#,##0") -> 55,623 | Y56: ÷ | AB56: =TEXT(BB13,"#,##0.#######") -> 225. | AH56: = | AJ56: =TEXT(TRUNC(P56/BB13,1),"#,##0.#") -> 247.2
G57: 소 | K57: 계 | N57: : | AF57: =TEXT(AJ54+AK55+AJ56,"#,##0.#######") -> 578.7 | CX57: =CY57+CZ57+DA57 -> 578.7 | CY57: =TEXT(AJ54,"#,###.0") -> 253.6 | CZ57: =TEXT(AK55,"#,###.0") -> 77.9 | DA57: =TEXT(AJ56,"#,###.0") -> 247.2
E59: 마 | G59: . | I59: 머캐덤로울러(자주식) | AF59: (10~12Ton)
G61: 노무비 | N61: : | P61: =TEXT([9]기계경비총괄표!G19,"#,##0") -> 57,077 | Y61: ÷ | AB61: =TEXT(BB13,"#,##0.#######") -> 225. | AH61: = | AJ61: =TEXT(TRUNC(P61/BB13,1),"#,##0.#") -> 253.6
G62: 재료비 | N62: : | P62: =TEXT([9]기계경비총괄표!H19,"#,##0") -> 13,838 | Y62: ÷ | AB62: =TEXT(BB13,"#,##0.#######") -> 225. | AH62: = | AK62: =TEXT(TRUNC(P62/BB13,1),"#,##0.#") -> 61.5
...

Sheet 기초일람
A1: 기초단가일람
A2: 호표 | B2: 공 종 명 | C2: 원 수 | D2: 단 위 | E2: 총 액 | F2: 노 무 비 | G2: 재 료 비 | H2: 경 비
A3: 1 | B3: =기초내역!F4 -> 인력흙깎기 | C3: 1 | D3: ㎥ | E3: =SUM(F3:H3) -> 27530 | F3: =기초내역!H7 -> 27530 | G3: =기초내역!J7 -> 0 | H3: =기초내역!L7 -> 0
A4: 2 | B4: =기초내역!F8 -> 인력터파기(보통토사) | C4: 1 | D4: ㎥ | E4: =SUM(F4:H4) -> 34413 | F4: =기초내역!H11 -> 34413 | G4: =기초내역!J11 -> 0 | H4: =기초내역!L11 -> 0
A5: 3 | B5: =기초내역!F12 -> 기계터파기(소형브레이카:보통암) | C5: 1 | D5: ㎥ | E5: =SUM(F5:H5) -> 227063 | F5: =기초내역!H19 -> 211791 | G5: =기초내역!J19 -> 12412 | H5: =기초내역!L19 -> 2860
A6: 4 | B6: =기초내역!F20 -> 선별 및 집석 | C6: 1 | D6: ㎥ | E6: =SUM(F6:H6) -> 4864 | F6: =기초내역!H22 -> 2776 | G6: =기초내역!J22 -> 1051 | H6: =기초내역!L22 -> 1037
A7: 5 | B7: =기초내역!F23 -> 인력되메우기(토사) | C7: 1 | D7: ㎥ | E7: =SUM(F7:H7) -> 17206 | F7: =기초내역!H26 -> 17206 | G7: =기초내역!J26 -> 0 | H7: =기초내역!L26 -> 0
A8: 6 | B8: =기초내역!F27 -> 되메우기(토사,백호) | C8: 1 | D8: ㎥ | E8: =SUM(F8:H8) -> 1262 | F8: =기초내역!H29 -> 720 | G8: =기초내역!J29 -> 273 | H8: =기초내역!L29 -> 269
A9: 7 | B9: =기초내역!F30 -> 뒷채움(토사,백호) | C9: 1 | D9: ㎥ | E9: =SUM(F9:H9) -> 1262 | F9: =기초내역!H32 -> 720 | G9: =기초내역!J32 -> 273 | H9: =기초내역!L32 -> 269
A10: 8 | B10: =기초내역!F33 -> 성토다짐(토사:도져+양족식견인) | C10: 1 | D10: ㎥ | E10: =SUM(F10:H10) -> 394 | F10: =기초내역!H35 -> 204 | G10: =기초내역!J35 -> 92 | H10: =기초내역!L35 -> 98
A11: 9 | B11: =기초내역!F36 -> 성토다짐:95%(토사:양족식자주식) | C11: 1 | D11: ㎥ | E11: =SUM(F11:H11) -> 865 | F11: =기초내역!H38 -> 352 | G11: =기초내역!J38 -> 302 | H11: =기초내역!L38 -> 211
A12: 10 | B12: =기초내역!F39 -> 성토다짐(점토:양족식자주식) | C12: 1 | D12: ㎥ | E12: =SUM(F12:H12) -> 1622 | F12: =기초내역!H41 -> 660 | G12: =기초내역!J41 -> 567 | H12: =기초내역!L41 -> 395
A13: 11 | B13: =기초내역!F42 -> 콤펙터다짐 | C13: 1 | D13: ㎥ | E13: =SUM(F13:H13) -> 4240 | F13: =기초내역!H44 -> 3956 | G13: =기초내역!J44 -> 226 | H13: =기초내역!L44 -> 58
A14: 12 | B14: =기초내역!F45 -> 줄떼(구입) | C14: 1 | D14: ㎡ | E14: =SUM(F14:H14) -> 13363 | F14: =기초내역!H49 -> 11872 | G14: =기초내역!J49 -> 1491 | H14: =기초내역!L49 -> 0
A15: 13 | B15: =기초내역!F50 -> 평떼(구입) | C15: 1 | D15: ㎡ | E15: =SUM(F15:H15) -> 16547 | F15: =기초내역!H54 -> 11872 | G15: =기초내역!J54 -> 4675 | H15: =기초내역!L54 -> 0
A16: 14 | B16: =기초내역!F56 -> 원형거푸집(재료비) | C16: 1 | D16: ㎡ | E16: =SUM(F16:H16) -> 39825 | F16: =기초내역!H63 -> 0 | G16: =기초내역!J63 -> 39825 | H16: =기초내역!L63 -> 0
A17: 15 | B17: =기초내역!F64 -> 원형거푸집(노무비) | C17: 1 | D17: ㎡ | E17: =SUM(F17:H17) -> 241485 | F17: =기초내역!H67 -> 241485 | G17: =기초내역!J67 -> 0 | H17: =기초내역!L67 -> 0
A18: 16 | B18: =기초내역!F68 -> 합판거푸집(재료비) | C18: 1 | D18: ㎡ | E18: =SUM(F18:H18) -> 27392 | F18: =기초내역!H72 -> 0 | G18: =기초내역!J72 -> 27392 | H18: =기초내역!L72 -> 0
A19: 17 | B19: =기초내역!F73 -> 합판거푸집(노무비) | C19: 1 | D19: ㎡ | E19: =SUM(F19:H19) -> 35184 | F19: =기초내역!H76 -> 35184 | G19: =기초내역!J76 -> 0 | H19: =기초내역!L76 -> 0
A20: 17 | B20: 합판거푸집(노무비) 소규모 | C20: 1 | D20: ㎡ | E20: =SUM(F20:H20) -> 57730 | F20: =기초내역!H80 -> 57730 | G20: =기초내역!J80 -> 0 | H20: =기초내역!L80 -> 0
A21: 18 | B21: =기초내역!F81 -> 비탈규준틀 | C21: 1 | D21: 개 | E21: =SUM(F21:H21) -> 91733 | F21: =기초내역!H87 -> 88999 | G21: =기초내역!J87 -> 2734 | H21: =기초내역!L87 -> 0
A22: 19 | B22: =기초내역!F89 -> 수평규준틀(평) | C22: 1 | D22: 개 | E22: =SUM(F22:H22) -> 97416 | F22: =기초내역!H94 -> 92559 | G22: =기초내역!J94 -> 4857 | H22: =기초내역!L94 -> 0
A23: 20 | B23: =기초내역!F95 -> 수평 규준틀(귀) | C23: 1 | D23: 개 | E23: =SUM(F23:H23) -> 166828 | F23: =기초내역!H100 -> 159309 | G23: =기초내역!J100 -> 7519 | H23: =기초내역!L100 -> 0
A24: 21 | B24: =기초내역!F101 -> 조립식 가설사무실 (재료비) | C24: 1 | D24: ㎡ | E24: =SUM(F24:H24) -> 57989 | F24: =기초내역!H117 -> 0 | G24: =기초내역!J117 -> 57989 | H24: =기초내역!L117 -> 0
A25: 22 | B25: =기초내역!F119 -> 조립식 가설창고( 재료비) | C25: 1 | D25: ㎡ | E25: =SUM(F25:H25) -> 39399 | F25: =기초내역!H131 -> 0 | G25: =기초내역!J131 -> 39399 | H25: =기초내역!L131 -> 0
A26: 23 | B26: =기초내역!F132 -> 조립식 가설사무실(인건비) | C26: 1 | D26: ㎡ | E26: =SUM(F26:H26) -> 145469 | F26: =기초내역!H135 -> 145469 | G26: =기초내역!J135 -> 0 | H26: =기초내역!L135 -> 0
A27: 24 | B27: =기초내역!F136 -> 조립식 가설창고(인건비) | C27: 1 | D27: ㎡ | E27: =SUM(F27:H27) -> 109102 | F27: =기초내역!H139 -> 109102 | G27: =기초내역!J139 -> 0 | H27: =기초내역!L139 -> 0
A28: 25 | B28: =기초내역!F140 -> 철근 가공비(보통구조) | C28: 1 | D28: ton | E28: =SUM(F28:H28) -> 1048592 | F28: =기초내역!H145 -> 1032496 | G28: =기초내역!J145 -> 7897 | H28: =기초내역!L145 -> 8199
A29: 26 | B29: =기초내역!F146 -> 철근 가공비(복잡구조) | C29: 1 | D29: ton | E29: =SUM(F29:H29) -> 1163108 | F29: =기초내역!H151 -> 1143569 | G29: =기초내역!J151 -> 9720 | H29: =기초내역!L151 -> 9819
A30: 27 | B30: =기초내역!F152 -> 철근 가공비(간단구조) | C30: 1 | D30: ton | E30: =SUM(F30:H30) -> 932164 | F30: =기초내역!H157 -> 919146 | G30: =기초내역!J157 -> 6075 | H30: =기초내역!L157 -> 6943
A31: 28 | B31: =기초내역!F158 -> 철근 가공비(소형, 보통) | C31: 1 | D31: ton | E31: =SUM(F31:H31) -> 1359851 | F31: =기초내역!H163 -> 1343755 | G31: =기초내역!J163 -> 7897 | H31: =기초내역!L163 -> 8199
A32: 29 | B32: =기초내역!F164 -> 철근 가공비(소형, 복잡) | C32: 1 | D32: ton | E32: =SUM(F32:H32) -> 1489394 | F32: =기초내역!H169 -> 1469855 | G32: =기초내역!J169 -> 9720 | H32: =기초내역!L169 -> 9819
A33: 30 | B33: =기초내역!F170 -> 지수판 설치비 | C33: 1 | D33: m | E33: =SUM(F33:H33) -> 55924 | F33: =기초내역!H175 -> 54103 | G33: =기초내역!J175 -> 198 | H33: =기초내역!L175 -> 1623
A34: 31 | B34: =기초내역!F176 -> 모르터(1 : 2) | C34: 1 | D34: ㎥ | E34: =SUM(F34:H34) -> 304607 | F34: =기초내역!H181 -> 223906 | G34: =기초내역!J181 -> 71603 | H34: =기초내역!L181 -> 9098
A35: 32 | B35: =기초내역!F183 -> 모르터(1 : 3) | C35: 1 | D35: ㎥ | E35: =SUM(F35:H35) -> 290688 | F35: =기초내역!H188 -> 222149 | G35: =기초내역!J188 -> 61035 | H35: =기초내역!L188 -> 7504
A36: 33 | B36: =기초내역!F189 -> 방수모르터(1 : 3) | C36: 1 | D36: ㎥ | E36: =SUM(F36:H36) -> 330660 | F36: =기초내역!H195 -> 258721 | G36: =기초내역!J195 -> 64435 | H36: =기초내역!L195 -> 7504
A37: 34 | B37: =기초내역!F196 -> 레미콘타설(철근구조물) 기계사용 | C37: 1 | D37: ㎥ | E37: =SUM(F37:H37) -> 32335 | F37: =기초내역!H201 -> 27793 | G37: =기초내역!J201 -> 2395 | H37: =기초내역!L201 -> 2147
A38: 35 | B38: =기초내역!F202 -> 레미콘타설(무근구조물) 기계사용 | C38: 1 | D38: ㎥ | E38: =SUM(F38:H38) -> 28670 | F38: =기초내역!H207 -> 24558 | G38: =기초내역!J207 -> 2179 | H38: =기초내역!L207 -> 1933
A39: 36 | B39: =기초내역!F208 -> 레미콘타설(소형구조물) 기계사용 | C39: 1 | D39: ㎥ | E39: =SUM(F39:H39) -> 58669 | F39: =기초내역!H213 -> 45106 | G39: =기초내역!J213 -> 6937 | H39: =기초내역!L213 -> 6626
A40: 37 | B40: =기초내역!F214 -> 레미콘타설(LEAN) 10㎥이상 | C40: 1 | D40: ㎥ | E40: =SUM(F40:H40) -> 86412 | F40: =기초내역!H217 -> 86412 | G40: =기초내역!J217 -> 0 | H40: =기초내역!L217 -> 0
...

Sheet 기초내역
A1: 기초단가내역
A2: 종 별 | B2: 재 료 | C2: 원 수 | D2: 단위 | E2: 총 액 | G2: 노 무 비 | I2: 재 료 비 | K2: 경 비
B3: 치 수 | E3: 단 가 | F3: 금 액 | G3: 단 가 | H3: 금 액 | I3: 단 가 | J3: 금 액 | K3: 단 가 | L3: 금 액
E4: 1 | F4: 인력흙깎기 | J4: 1 ㎥
A5: 흙깎기 | B5: 보통인부 | C5: 0.16 | D5: 인 | E5: =G5+I5+K5 -> 172068 | F5: =H5+J5+L5 -> 27530 | G5: =노임!D14 -> 172068 | H5: =INT(G5*C5) -> 27530 | J5: =INT(I5*C5) -> 0 | L5: =INT(K5*C5) -> 0
A6: 작업반장 | C6: 0 | D6: 인 | E6: =G6+I6+K6 -> 215907 | F6: =H6+J6+L6 -> 0 | G6: =노임!D11 -> 215907 | H6: =INT(G6*C6) -> 0 | J6: =INT(I6*C6) -> 0 | L6: =INT(K6*C6) -> 0
A7: 계 | F7: =H7+J7+L7 -> 27530 | H7: =SUM(H5:H6) -> 27530 | J7: =SUM(J5:J6) -> 0 | L7: =SUM(L5:L6) -> 0
E8: =E4+1 -> 2 | F8: 인력터파기(보통토사) | J8: 1 ㎥
A9: 보통인부 | C9: 0.2 | D9: 인 | E9: =G9+I9+K9 -> 172068 | F9: =H9+J9+L9 -> 34413 | G9: =노임!D14 -> 172068 | H9: =INT(G9*C9) -> 34413 | I9: 0 | J9: =INT(I9*C9) -> 0 | L9: =INT(K9*C9) -> 0
A10: 작업반장 | C10: 0 | D10: 인 | E10: =G10+I10+K10 -> 215907 | F10: =H10+J10+L10 -> 0 | G10: =노임!D11 -> 215907 | H10: =INT(G10*C10) -> 0 | I10: 0 | J10: =INT(I10*C10) -> 0 | L10: =INT(K10*C10) -> 0
A11: 계 | F11: =H11+J11+L11 -> 34413 | H11: =SUM(H9:H10) -> 34413 | J11: =SUM(J9:J10) -> 0 | L11: =SUM(L9:L10) -> 0
E12: =E8+1 -> 3 | F12: 기계터파기(소형브레이카:보통암) | J12: 1 ㎥
A13: 착암공 | C13: 0.58 | D13: 인 | E13: =G13+I13+K13 -> 220081 | F13: =H13+J13+L13 -> 127646 | G13: =노임!D8 -> 220081 | H13: =INT(G13*C13) -> 127646 | J13: =INT(I13*C13) -> 0 | L13: =INT(K13*C13) -> 0
A14: 보통인부 | C14: 0.29 | D14: 인 | E14: =G14+I14+K14 -> 172068 | F14: =H14+J14+L14 -> 49899 | G14: =노임!D14 -> 172068 | H14: =INT(G14*C14) -> 49899 | J14: =INT(I14*C14) -> 0 | L14: =INT(K14*C14) -> 0
A15: 공기압축기 | B15: 7.1㎥/min | C15: 0.6 | D15: hr | E15: =G15+I15+K15 -> 77886 | F15: =H15+J15+L15 -> 46731 | G15: =중기일람!D23 -> 57077 | H15: =INT(G15*C15) -> 34246 | I15: =중기일람!E23 -> 17729 | J15: =INT(I15*C15) -> 10637 | K15: =중기일람!F23 -> 3080 | L15: =INT(K15*C15) -> 1848
A16: 소형브레이카 | B16: 25kg급 | C16: 2.4 | D16: hr | E16: =G16+I16+K16 -> 374 | F16: =H16+J16+L16 -> 897 | G16: =중기일람!D26 -> 0 | H16: =INT(G16*C16) -> 0 | I16: =중기일람!E26 -> 0 | J16: =INT(I16*C16) -> 0 | K16: =중기일람!F26 -> 374 | L16: =INT(K16*C16) -> 897
A17: 호스 | B17: 19mm | C17: 2.4 | D17: hr | E17: =G17+I17+K17 -> 48 | F17: =H17+J17+L17 -> 115 | G17: =중기일람!D25 -> 0 | H17: =INT(G17*C17) -> 0 | I17: =중기일람!E25 -> 0 | J17: =INT(I17*C17) -> 0 | K17: =중기일람!F25 -> 48 | L17: =INT(K17*C17) -> 115
A18: 소비재 | B18: 노력비의 1% | C18: 0.01 | E18: =G18+I18+K18 -> 177545 | F18: =H18+J18+L18 -> 1775 | H18: =INT(G18*C18) -> 0 | I18: =SUM(H13:H14) -> 177545 | J18: =INT(I18*C18) -> 1775 | L18: =INT(K18*C18) -> 0
A19: 계 | F19: =H19+J19+L19 -> 227063 | H19: =SUM(H13:H18) -> 211791 | J19: =SUM(J13:J18) -> 12412 | L19: =SUM(L13:L18) -> 2860
E20: =E12+1 -> 4 | F20: 선별 및 집석 | J20: 1 ㎥
A21: 선별 및 집석 | B21: 백호 0.7 | C21: 1 | D21: ㎥ | E21: =G21+I21+K21 -> 4864 | F21: =H21+J21+L21 -> 4864 | G21: =기초단위당!H4 -> 2776 | H21: =INT(G21*C21) -> 2776 | I21: =기초단위당!I4 -> 1051 | J21: =INT(I21*C21) -> 1051 | K21: =기초단위당!J4 -> 1037 | L21: =INT(K21*C21) -> 1037
A22: 계 | F22: =H22+J22+L22 -> 4864 | H22: =SUM(H21) -> 2776 | J22: =SUM(J21) -> 1051 | L22: =SUM(L21) -> 1037
E23: =E20+1 -> 5 | F23: 인력되메우기(토사) | J23: 1 ㎥
A24: 보통인부 | C24: 0.1 | D24: 인 | E24: =G24+I24+K24 -> 172068 | F24: =H24+J24+L24 -> 17206 | G24: =노임!D14 -> 172068 | H24: =INT(G24*C24) -> 17206 | I24: 0 | J24: =INT(I24*C24) -> 0 | K24: 0 | L24: =INT(K24*C24) -> 0
A25: 작업반장 | C25: 0 | D25: 인 | E25: =G25+I25+K25 -> 215907 | F25: =H25+J25+L25 -> 0 | G25: =노임!D11 -> 215907 | H25: =INT(G25*C25) -> 0 | I25: 0 | J25: =INT(I25*C25) -> 0 | K25: 0 | L25: =INT(K25*C25) -> 0
A26: 계 | F26: =H26+J26+L26 -> 17206 | H26: =SUM(H24:H25) -> 17206 | J26: =SUM(J24:J25) -> 0 | L26: =SUM(L24:L25) -> 0
E27: =E23+1 -> 6 | F27: 되메우기(토사,백호) | J27: 1 ㎥
A28: 되메우기 | B28: 백호 0.7 | C28: 1 | D28: ㎥ | E28: =G28+I28+K28 -> 1262 | F28: =H28+J28+L28 -> 1262 | G28: =기초단위당!H5 -> 720 | H28: =INT(G28*C28) -> 720 | I28: =기초단위당!I5 -> 273 | J28: =INT(I28*C28) -> 273 | K28: =기초단위당!J5 -> 269 | L28: =INT(K28*C28) -> 269
A29: 계 | F29: =H29+J29+L29 -> 1262 | H29: =SUM(H28:H28) -> 720 | J29: =SUM(J28:J28) -> 273 | L29: =SUM(L28:L28) -> 269
E30: =E27+1 -> 7 | F30: 뒷채움(토사,백호) | J30: 1 ㎥
A31: 뒷채움 | B31: 백호 0.7 | C31: 1 | D31: ㎥ | E31: =G31+I31+K31 -> 1262 | F31: =H31+J31+L31 -> 1262 | G31: =기초단위당!H6 -> 720 | H31: =INT(G31*C31) -> 720 | I31: =기초단위당!I6 -> 273 | J31: =INT(I31*C31) -> 273 | K31: =기초단위당!J6 -> 269 | L31: =INT(K31*C31) -> 269
A32: 계 | F32: =H32+J32+L32 -> 1262 | H32: =SUM(H31) -> 720 | J32: =SUM(J31) -> 273 | L32: =SUM(L31) -> 269
E33: =E30+1 -> 8 | F33: 성토다짐(토사:도져+양족식견인) | J33: 1 ㎥
A34: 고르고다짐(양족식자주식로러) | C34: 1 | D34: ㎥ | E34: =G34+I34+K34 -> 394 | F34: =H34+J34+L34 -> 394 | G34: =기초단위당!H7 -> 204 | H34: =INT(G34*C34) -> 204 | I34: =기초단위당!I7 -> 92 | J34: =INT(I34*C34) -> 92 | K34: =기초단위당!J7 -> 98 | L34: =INT(K34*C34) -> 98
A35: 계 | F35: =H35+J35+L35 -> 394 | H35: =SUM(H34) -> 204 | J35: =SUM(J34) -> 92 | L35: =SUM(L34) -> 98
E36: =E33+1 -> 9 | F36: 성토다짐:95%(토사:양족식자주식) | J36: 1 ㎥
A37: 고르고다짐(95%) | C37: 1 | D37: ㎥ | E37: =G37+I37+K37 -> 865 | F37: =H37+J37+L37 -> 865 | G37: =기초단위당!H8 -> 352 | H37: =INT(G37*C37) -> 352 | I37: =기초단위당!I8 -> 302 | J37: =INT(I37*C37) -> 302 | K37: =기초단위당!J8 -> 211 | L37: =INT(K37*C37) -> 211
A38: 계 | F38: =H38+J38+L38 -> 865 | H38: =SUM(H37) -> 352 | J38: =SUM(J37) -> 302 | L38: =SUM(L37) -> 211
E39: =E36+1 -> 10 | F39: 성토다짐(점토:양족식자주식) | J39: 1 ㎥
A40: 고르고다짐(양족식자주식로러) | C40: 1 | D40: ㎥ | E40: =G40+I40+K40 -> 1622 | F40: =H40+J40+L40 -> 1622 | G40: =기초단위당!H9 -> 660 | H40: =INT(G40*C40) -> 660 | I40: =기초단위당!I9 -> 567 | J40: =INT(I40*C40) -> 567 | K40: =기초단위당!J9 -> 395 | L40: =INT(K40*C40) -> 395
...

Sheet 기초단위당
A1: 단위당중기사용료
A2: 공 종 | B2: 사용장비 | C2: 시 간 당 경 비 | F2: 시간당 작업량 | H2: 단 위 당 경 비
C3: 운전원 | D3: 재료비 | E3: 손 료 | F3: 수 량 | G3: 단위 | H3: 운전원 | I3: 재료비 | J3: 손 료 | K3: 계
A4: 선별 및 집석 | B4: 백호 0.7㎥ | C4: =중기일람!D8 -> 57077 | D4: =중기일람!E8 -> 21629 | E4: =중기일람!F8 -> 21332 | F4: =기초작업량!F5 -> 20.56 | G4: ㎥ | H4: =INT(C4/F4) -> 2776 | I4: =INT(D4/F4) -> 1051 | J4: =INT(E4/F4) -> 1037 | K4: =SUM(H4:J4) -> 4864
A5: 되메우기(토사) | B5: 백호 0.7㎥ | C5: =중기일람!D7 -> 57077 | D5: =중기일람!E7 -> 21629 | E5: =중기일람!F7 -> 21332 | F5: =기초작업량!F10 -> 79.2 | G5: ㎥ | H5: =INT(C5/F5) -> 720 | I5: =INT(D5/F5) -> 273 | J5: =INT(E5/F5) -> 269 | K5: =SUM(H5:J5) -> 1262
A6: 뒷채움(토사) | B6: 백호 0.7㎥ | C6: =중기일람!D7 -> 57077 | D6: =중기일람!E7 -> 21629 | E6: =중기일람!F7 -> 21332 | F6: =기초작업량!F15 -> 79.2 | G6: ㎥ | H6: =INT(C6/F6) -> 720 | I6: =INT(D6/F6) -> 273 | J6: =INT(E6/F6) -> 269 | K6: =SUM(H6:J6) -> 1262
A7: 성토다짐 | B7: 도져12ton+견인양족로울러 7ton | C7: =중기일람!D4 -> 57077 | D7: =중기일람!E4 -> 25884 | E7: =중기일람!F4+중기일람!F20 -> 27562 | F7: =기초작업량!F21 -> 279 | G7: ㎥ | H7: =INT(C7/F7) -> 204 | I7: =INT(D7/F7) -> 92 | J7: =INT(E7/F7) -> 98 | K7: =SUM(H7:J7) -> 394
A8: 성토다짐(95%) | B8: 자주식 양족식로울러 19ton | C8: =중기일람!D21 -> 57077 | D8: =중기일람!E21 -> 49054 | E8: =중기일람!F21 -> 34201 | F8: =기초작업량!F27 -> 162 | G8: ㎥ | H8: =INT(C8/F8) -> 352 | I8: =INT(D8/F8) -> 302 | J8: =INT(E8/F8) -> 211 | K8: =SUM(H8:J8) -> 865
A9: 점토 고르고다짐 | B9: 자주식 양족식로울러 19ton | C9: =중기일람!D21 -> 57077 | D9: =중기일람!E21 -> 49054 | E9: =중기일람!F21 -> 34201 | F9: =기초작업량!F34 -> 86.4 | G9: ㎥ | H9: =INT(C9/F9) -> 660 | I9: =INT(D9/F9) -> 567 | J9: =INT(E9/F9) -> 395 | K9: =SUM(H9:J9) -> 1622
A10: 성토 다짐(콤팩터) | B10: 플레이트콤팩터 1.5ton | C10: =중기일람!D22 -> 35608 | D10: =중기일람!E22 -> 2034 | E10: =중기일람!F22 -> 529 | F10: =기초작업량!F40 -> 9 | G10: ㎥ | H10: =INT(C10/F10) -> 3956 | I10: =INT(D10/F10) -> 226 | J10: =INT(E10/F10) -> 58 | K10: =SUM(H10:J10) -> 4240
A11: 사석투하고르기 | B11: 백호 0.7㎥ | C11: =중기일람!D8 -> 57077 | D11: =중기일람!E8 -> 21629 | E11: =중기일람!F8 -> 21332 | F11: =기초작업량!F45 -> 22.72 | G11: ㎥ | H11: =INT(C11/F11) -> 2512 | I11: =INT(D11/F11) -> 951 | J11: =INT(E11/F11) -> 938 | K11: =SUM(H11:J11) -> 4401
A12: 콘크리트다짐(10㎥미만) | B12: 진동기 | C12: 0 | D12: =중기내역!F663 -> 1864 | E12: =중기내역!F665 -> 118 | F12: =기초작업량!F65 -> 4 | G12: ㎥ | H12: =INT(C12/F12) -> 0 | I12: =INT(D12/F12) -> 466 | J12: =INT(E12/F12) -> 29 | K12: =SUM(H12:J12) -> 495
A13: 콘크리트다짐(10㎥미만) | B13: 바이브레타 | C13: 0 | D13: =중기내역!F668 -> 0 | E13: =중기내역!F667 -> 82 | F13: =기초작업량!F65 -> 4 | G13: ㎥ | H13: =INT(C13/F13) -> 0 | I13: =INT(D13/F13) -> 0 | J13: =INT(E13/F13) -> 20 | K13: =SUM(H13:J13) -> 20
