Workbook
Name _: [1]산출근거!#REF!
Name _: [1]산출근거!#REF!
Name _: [1]산출근거!#REF!
Name __GHH1: #REF!
Name __GHH1: #REF!
Name __GHH1: #REF!
Name __GHH2: #REF!
Name __GHH2: #REF!
Name __GHH2: #REF!
Name __JEA1: #REF!
Name __JEA1: #REF!
Name __JEA1: #REF!
Name __JEA2: #REF!
Name __JEA2: #REF!
Name __JEA2: #REF!
Name __kM1: #REF!
Name __kM1: #REF!
Name __kM1: #REF!
Name __kM2: #REF!
Name __kM2: #REF!
Name __kM2: #REF!
Name __kM3: #REF!
Name __kM3: #REF!
Name __kM3: #REF!
Name __PI1: #REF!
Name __PI1: #REF!
Name __PI1: #REF!
Name __PRN2: #REF!
Name __PRN2: #REF!
Name __PRN2: #REF!
Name __PRN3: #REF!
Name __PRN3: #REF!
Name __PRN3: #REF!
Name __PRN4: #REF!
Name __PRN4: #REF!
Name __PRN4: #REF!
Name __PRN6: #REF!
Name __PRN6: #REF!
Name __PRN6: #REF!
Name __PRN7: #REF!
Name __PRN7: #REF!
Name __PRN7: #REF!
Name __STS316: #REF!
Name __STS316: #REF!
Name __STS316: #REF!
Name __Ty1: #REF!
Name __Ty1: #REF!
Name __Ty1: #REF!
Name __Ty2: #REF!
Name __Ty2: #REF!
Name __Ty2: #REF!
Name _\D: #REF!
Name _\D: #REF!
Name _\D: #REF!
Name _\X: #REF!
Name _\X: #REF!
Name _\X: #REF!
Name _\Z: [2]결과조달!$GU$5658:$IV$7860
Name _10G__Extr: #REF!
Name _10G__Extr: #REF!

Sheet 관급자재
A1: 관급자재 구입 내역서
A2: ▣ 공사명: 청옥산 은하수 산악관광 허브 구축사업(건축) 관급자재(레미콘) 구입 | H2: (단위 : 원)
A3: 품 명 | B3: 규 격 | C3: 단위 | D3: 수량 | E3: 구입수량 | F3: 단 가 | G3: 금 액 | H3: 비고
A5: 1) 레미콘 | J5: =SUM(J6:J6) -> 6898800 | K5: =G5-J5 -> -6898800
A6: 레미콘 | B6: 20-30-180 | C6: ㎥ | D6: ='관급자재(여만처리분구)'!D26+'관급자재(상리처리분구)'!D26+'관급자재(후평처리분구)'!D26+'관급자재(주진처리분구)'!D26+'관급자재(종부처리분구)'!D26++'관급자재(임하처리분구)'!D38 -> 2541 | E6: 2000 | J6: ='관급자재(여만처리분구)'!F26+'관급자재(상리처리분구)'!F26+'관급자재(후평처리분구)'!F26+'관급자재(주진처리분구)'!F26+'관급자재(종부처리분구)'!F26 -> 6898800 | K6: =G6-J6 -> -6898800

Sheet 집계표
B1: 관급자재 집계표
B3: 현장명 : 여만처리분구외 6개소 하수관로 정비사업(토목+기계) | F3: 단위:원,VAT포함
B4: 구 분 | C4: 규격 | D4: 단위 | E4: 금액 | F4: 비고
B5: 관급자재대(A+B) | E5: =E6+E16 -> 2869402000
B6: A.관로공사 | E6: =SUM(E7:E14) -> 2869402000 | F6: 25년2월9일
B7: 1.여만처리분구 | D7: 식 | E7: ='관급자재(여만처리분구)'!F5 -> 59445000 | F7: 25년2월9일
B8: 2.상리처리분구 | D8: 식 | E8: ='관급자재(상리처리분구)'!F5 -> 256060000 | F8: 25년2월9일
B9: 3.후평처리분구 | D9: 식 | E9: ='관급자재(후평처리분구)'!F5 -> 606067000 | F9: 25년2월9일
B10: 4.주진처리분구 | D10: 식 | E10: ='관급자재(주진처리분구)'!F5 -> 158973000 | F10: 25년2월9일
B11: 5.용항처리분구 | D11: 식 | E11: ='관급자재(용항처리분구)'!F5 -> 184798000 | F11: 25년2월9일
B12: 6.임하처리분구 | D12: 식 | E12: ='관급자재(임하처리분구)'!F5 -> 1473550000 | F12: 25년2월9일
B13: 7.하일처리분구 | D13: 식 | E13: ='관급자재(하일처리분구)'!F5 -> 72606000 | F13: 25년2월9일
B14: 8.종부처리분구 | D14: 식 | E14: ='관급자재(종부처리분구)'!F5 -> 57903000 | F14: 25년2월9일
B16: B.기계공사 | E16: =E17 -> 0
B17: 1.기계공사 | D17: 식 | E17: ='관급자재(기계공사)'!F5 -> 0
I32: PVC이중벽관 관경 변경사항
I33: 구분 | J33: 당초 | K33: 변경 | L33: 비고
I34: 용항처리분구 | J34: D150mm | K34: D200mm
J35: YH-Y01, L=394.3m | K35: YH-Y01, L=394.3m
J36: YH-Y02, L=531.0m | K36: YH-Y02, L=531.0m
J37: L=925.3m | K37: L=925.3m
I38: 상리처리분구 | J38: D150 | K38: D200
J39: SL-Y01, L=695.8m | K39: SL-Y01, L=695.8m
I40: 합계 | J40: 1621.1m | K40: 1621.1m
I41: ∴ PVC이중벽관 : 1621.1m ÷ 6m = 271본
I42: PVC이중벽관 접합부속(소켓) : 271EA
I43: PVC이중벽관 접합부속(고무링) : 542EA
I44: 용항처리분구 D150mm를 상리처리분구 배수설비로 전용하고
I45: 용항처리분구에 기사용된 D200mm는 상리처리분구 배수설비
I46: 수량(D150mm)을 D200mm로 청구함.

Sheet 관급자재(여만처리분구)
A1: 관급자재 구입 내역서
A2: ▣ 공사명: 여만처리분구 외 6개소 하수관로 정비사업(토목+기계) | G2: (단위 : 원)
A3: 품 명 | B3: 규 격 | C3: 단위 | D3: 수량 | E3: 단 가 | F3: 금 액 | G3: 비고 (납품기한) | H3: 수 량
H4: 오수 관로 | I4: 맨홀 펌프장 | J4: 배수 설비 | K4: 합 계
A5: ◈ 도급자 관급자재대 | F5: =F6 -> 59445000
A6: □. 여만처리분구 | F6: =SUM(F7,F12,F19,F25,F29,F40,F45,F55,F67,F72,F78,F83) -> 59445000 | P6: =725829964-F6-#REF!-#REF!-#REF!-#REF! -> #REF!
A7: 1) 레미콘 | F7: =SUM(F8:F10) -> 0 | N7: =SUM(H7:J7) -> 0 | O7: =K7-N7 -> 0
A8: 레미콘 | B8: 25-18-80 | C8: ㎥ | D8: 0 | E8: 105550 | F8: =TRUNC(E8*D8,0) -> 0 | H8: 16 | I8: 1 | J8: 0 | K8: =SUM(H8:J8) -> 17 | N8: =SUM(H8:J8) -> 17 | O8: =K8-N8 -> 0 | P8: ='[79]관급자재(토목,기계)_전체분'!$L$619+'[79]관급자재(토목,기계)_전체분'!$L$620+'[79]관급자재(토목,기계)_전체분'!$L$542+'[79]관급자재(토목,기계)_전체분'!$L$543 -> 197966660 | Q8: ='[79]관급자재(토목,기계)_전체분'!$L$605+'[79]관급자재(토목,기계)_전체분'!$L$606 -> 1715200
A9: 레미콘 | B9: 25-21-80 | C9: ㎥ | D9: 0 | E9: 108990 | F9: =TRUNC(E9*D9,0) -> 0 | H9: 574 | I9: 4 | J9: 318 | K9: =SUM(H9:J9) -> 896 | N9: =SUM(H9:J9) -> 896 | O9: =K9-N9 -> 0 | P9: =TRUNC(P8*0.54%) -> 1069019 | Q9: =TRUNC(Q8*0.54%) -> 9262
A10: 조달수수료 | B10: 자재비의 | C10: % | D10: 0.54 | F10: =TRUNC(SUM(F8:F9)*D10%) -> 0 | K10: 0.54 | L10: =TRUNC(SUM(F8:F9)*K10%,-1) -> 0 | N10: =SUM(H10:J10) -> 0 | O10: =K10-N10 -> 0.54
A12: 2) 아스팔트콘크리트 | F12: =SUM(F13:F17) -> 0 | N12: =SUM(H12:J12) -> 0 | O12: =K12-N12 -> 0
A13: 아스콘 | B13: #78 표층용 | C13: M/T | D13: 0 | E13: 110450 | F13: =TRUNC(E13*D13,0) -> 0 | H13: 1053 | J13: 765 | K13: =SUM(H13:J13) -> 1818 | N13: =SUM(H13:J13) -> 1818 | O13: =K13-N13 -> 0 | P13: ='[79]관급자재(토목,기계)_전체분'!$L$619+'[79]관급자재(토목,기계)_전체분'!$L$620+'[79]관급자재(토목,기계)_전체분'!$L$542+'[79]관급자재(토목,기계)_전체분'!$L$543 -> 197966660 | Q13: ='[79]관급자재(토목,기계)_전체분'!$L$605+'[79]관급자재(토목,기계)_전체분'!$L$606 -> 1715200
A14: 아스콘(재생용) | B14: #787 표층용 | C14: M/T | D14: 0 | E14: 93700 | F14: =TRUNC(E14*D14,0) -> 0 | H14: 714 | J14: 510 | K14: =SUM(H14:J14) -> 1224 | N14: =SUM(H14:J14) -> 1224 | O14: =K14-N14 -> 0 | P14: =TRUNC(P13*0.54%) -> 1069019 | Q14: =TRUNC(Q13*0.54%) -> 9262
A15: 아스콘 | B15: #467 기층용 | C15: M/T | D15: 0 | E15: 91960 | F15: =TRUNC(E15*D15,0) -> 0 | H15: 1576 | J15: 247 | K15: =SUM(H15:J15) -> 1823 | N15: =SUM(H15:J15) -> 1823 | O15: =K15-N15 -> 0 | P15: ='[79]관급자재(토목,기계)_전체분'!$L$619+'[79]관급자재(토목,기계)_전체분'!$L$620+'[79]관급자재(토목,기계)_전체분'!$L$542+'[79]관급자재(토목,기계)_전체분'!$L$543 -> 197966660 | Q15: ='[79]관급자재(토목,기계)_전체분'!$L$605+'[79]관급자재(토목,기계)_전체분'!$L$606 -> 1715200
A16: 아스콘(재생용) | B16: #467 기층용 | C16: M/T | D16: 0 | E16: 79850 | F16: =TRUNC(E16*D16,0) -> 0 | H16: 1050 | J16: 165 | K16: =SUM(H16:J16) -> 1215 | N16: =SUM(H16:J16) -> 1215 | O16: =K16-N16 -> 0 | P16: =TRUNC(P15*0.54%) -> 1069019 | Q16: =TRUNC(Q15*0.54%) -> 9262
A17: 조달수수료 | B17: 자재비의 | C17: % | D17: 0.54 | F17: =TRUNC(SUM(F13:F16)*D17%) -> 0 | K17: 0.54 | L17: =TRUNC(SUM(F15:F16)*K17%,-1) -> 0 | N17: =SUM(H17:J17) -> 0 | O17: =K17-N17 -> 0.54
A19: 3) 기층재 | F19: =SUM(F20:F23) -> 0 | N19: =SUM(H19:J19) -> 0 | O19: =K19-N19 -> 0
A20: 보조기층 | B20: 40mm | C20: ㎥ | D20: 0 | E20: 20680 | F20: =TRUNC(E20*D20,0) -> 0 | H20: 1760 | J20: 611 | K20: =SUM(H20:J20) -> 2371 | N20: =SUM(H20:J20) -> 2371 | O20: =K20-N20 -> 0
A21: 동상방지층 | B21: 75mm | C21: ㎥ | D21: 0 | E21: 22000 | F21: =TRUNC(E21*D21,0) -> 0 | H21: 32 | J21: 398 | K21: =SUM(H21:J21) -> 430 | N21: =SUM(H21:J21) -> 430 | O21: =K21-N21 -> 0
A22: 석분 | B22: 8MM이하 | C22: ㎥ | D22: 0 | E22: 23320 | F22: =TRUNC(E22*D22,0) -> 0 | H22: 3097 | J22: 626 | K22: =SUM(H22:J22) -> 3723 | N22: =SUM(H22:J22) -> 3723 | O22: =K22-N22 -> 0
A23: 조달수수료 | B23: 자재비의 | C23: % | D23: 0.54 | F23: =TRUNC(SUM(F20:F22)*D23%) -> 0 | K23: 0.54 | L23: =TRUNC(SUM(F20:F22)*K23%,-1) -> 0 | N23: =SUM(H23:J23) -> 0 | O23: =K23-N23 -> 0.54
N24: =SUM(H24:J24) -> 0 | O24: =K24-N24 -> 0
A25: 4) 기층재(순환골재) | F25: =SUM(F26:F27) -> 0 | N25: =SUM(H25:J25) -> 0 | O25: =K25-N25 -> 0
A26: 보조기층(순환골재) | B26: RSB-2 | C26: ㎥ | D26: 0 | E26: 8800 | H26: 1173 | J26: 407 | K26: =SUM(H26:J26) -> 1580 | N26: =SUM(H26:J26) -> 1580 | O26: =K26-N26 -> 0
A27: 동상방지층(순환골재) | B27: RSB-2 | C27: ㎥ | D27: 0 | E27: 8800 | F27: =TRUNC(E27*D27,0) -> 0 | H27: 488 | J27: 265 | K27: =SUM(H27:J27) -> 753 | N27: =SUM(H27:J27) -> 753 | O27: =K27-N27 -> 0
N28: =SUM(H28:J28) -> 0 | O28: =K28-N28 -> 0
A29: 5) PVC관 | F29: =SUM(F30:F38) -> 5746000 | G29: 25년2월9일 | N29: =SUM(H29:J29) -> 0 | O29: =K29-N29 -> 0
A30: PVC 이중벽관 | B30: D200mm | C30: 본 | E30: 107320 | F30: =TRUNC(E30*D30,0) -> 0 | H30: 597 | K30: =SUM(H30:J30) -> 597 | N30: =SUM(H30:J30) -> 597 | O30: =K30-N30 -> 0
A31: PVC 이중벽관 | B31: D150mm | C31: 본 | D31: 82 | E31: 69700 | F31: =TRUNC(E31*D31,0) -> 5715400 | H31: 2 | J31: 480 | K31: =SUM(H31:J31) -> 482 | N31: =SUM(H31:J31) -> 482 | O31: =K31-N31 -> 0
A32: PVC 접합부속 | B32: D200mm | C32: EA | E32: 13180 | F32: =TRUNC(E32*D32,0) -> 0 | H32: 709 | K32: =SUM(H32:J32) -> 709 | N32: =SUM(H32:J32) -> 709 | O32: =K32-N32 -> 0
A33: PVC 접합부속 | B33: D150mm | C33: EA | E33: 7560 | F33: =TRUNC(E33*D33,0) -> 0 | H33: 14 | J33: 480 | K33: =SUM(H33:J33) -> 494 | N33: =SUM(H33:J33) -> 494 | O33: =K33-N33 -> 0
A34: PVC 접합부속(고무링) | B34: D200mm | C34: EA | E34: 760 | F34: =TRUNC(E34*D34,0) -> 0 | H34: 1418 | K34: =SUM(H34:J34) -> 1418 | N34: =SUM(H34:J34) -> 1418 | O34: =K34-N34 -> 0
A35: PVC 접합부속(고무링) | B35: D150mm | C35: EA | E35: 450 | F35: =TRUNC(E35*D35,0) -> 0 | H35: 28 | J35: 960 | K35: =SUM(H35:J35) -> 988 | N35: =SUM(H35:J35) -> 988 | O35: =K35-N35 -> 0
A36: 내충격PVC관 | B36: D=100×6.0m | C36: 본 | E36: 36660 | F36: =TRUNC(E36*D36,0) -> 0 | J36: 269 | K36: =SUM(H36:J36) -> 269 | N36: =SUM(H36:J36) -> 269 | O36: =K36-N36 -> 0
A37: 양수소켓 | B37: D100mm | C37: EA | E37: 12400 | F37: =TRUNC(E37*D37,0) -> 0 | J37: 269 | K37: =SUM(H37:J37) -> 269 | N37: =SUM(H37:J37) -> 269 | O37: =K37-N37 -> 0
A38: 조달수수료 | B38: 자재비의 | C38: % | D38: 0.54 | F38: =TRUNC(SUM(F30:F37)*D38%)-263 -> 30600 | K38: 0.54 | L38: =TRUNC(SUM(F30:F34)*K38%,-1) -> 30860 | N38: =SUM(H38:J38) -> 0 | O38: =K38-N38 -> 0.54
A40: 6) PE수도관 | F40: =SUM(F41:F43) -> 0 | N40: =SUM(H40:J40) -> 0 | O40: =K40-N40 -> 0
A41: PE수도관 | B41: D100×6.0m(Φ110) | C41: 본 | D41: 0 | E41: 90300 | F41: =TRUNC(E41*D41,0) -> 0 | H41: 281 | K41: =SUM(H41:J41) -> 281 | N41: =SUM(H41:J41) -> 281 | O41: =K41-N41 -> 0 | P41: ='[79]관급자재(토목,기계)_전체분'!$L$619+'[79]관급자재(토목,기계)_전체분'!$L$620+'[79]관급자재(토목,기계)_전체분'!$L$542+'[79]관급자재(토목,기계)_전체분'!$L$543 -> 197966660 | Q41: ='[79]관급자재(토목,기계)_전체분'!$L$605+'[79]관급자재(토목,기계)_전체분'!$L$606 -> 1715200
A42: PE수도관 | B42: D150×6.0m(Φ160) | C42: 본 | D42: 0 | E42: 191220 | F42: =TRUNC(E42*D42,0) -> 0 | H42: 135 | K42: =SUM(H42:J42) -> 135 | N42: =SUM(H42:J42) -> 135 | O42: =K42-N42 -> 0 | P42: =TRUNC(P41*0.54%) -> 1069019 | Q42: =TRUNC(Q41*0.54%) -> 9262
A43: 조달수수료 | B43: 자재비의 | C43: % | D43: 0.54 | F43: =TRUNC(SUM(F41:F42)*D43%) -> 0 | K43: 0.54 | L43: =TRUNC(SUM(F41:F42)*K43%,-1) -> 0 | N43: =SUM(H43:J43) -> 0 | O43: =K43-N43 -> 0.54
...

Sheet 관급자재(상리처리분구)
A1: 관급자재 구입 내역서
A2: ▣ 공사명: 여만처리분구 외 6개소 하수관로 정비사업(토목+기계) | G2: (단위 : 원)
A3: 품 명 | B3: 규 격 | C3: 단위 | D3: 수량 | E3: 단 가 | F3: 금 액 | G3: 비고 (납품기한) | H3: 수 량
H4: 오수 관로 | I4: 맨홀 펌프장 | J4: 배수 설비 | K4: 합 계
A5: ◈ 도급자 관급자재대 | F5: =F6 -> 256060000
A6: □. 상리처리분구 | F6: =SUM(F7,F12,F19,F25,F29,F42,F47,F57,F71,F76,F82,F87) -> 256060000 | P6: =725829964-F6-#REF!-#REF!-#REF!-#REF! -> #REF!
A7: 1) 레미콘 | F7: =SUM(F8:F10) -> 0 | N7: =SUM(H7:J7) -> 0 | O7: =K7-N7 -> 0
A8: 레미콘 | B8: 25-18-80 | C8: ㎥ | E8: 105550 | F8: =TRUNC(E8*D8,0) -> 0 | H8: 6 | I8: 1 | J8: 0 | K8: =SUM(H8:J8) -> 7 | N8: =SUM(H8:J8) -> 7 | O8: =K8-N8 -> 0 | P8: ='[79]관급자재(토목,기계)_전체분'!$L$619+'[79]관급자재(토목,기계)_전체분'!$L$620+'[79]관급자재(토목,기계)_전체분'!$L$542+'[79]관급자재(토목,기계)_전체분'!$L$543 -> 197966660 | Q8: ='[79]관급자재(토목,기계)_전체분'!$L$605+'[79]관급자재(토목,기계)_전체분'!$L$606 -> 1715200
A9: 레미콘 | B9: 25-21-80 | C9: ㎥ | E9: 108990 | F9: =TRUNC(E9*D9,0) -> 0 | H9: 442 | I9: 6 | J9: 453 | K9: =SUM(H9:J9) -> 901 | N9: =SUM(H9:J9) -> 901 | O9: =K9-N9 -> 0 | P9: =TRUNC(P8*0.54%) -> 1069019 | Q9: =TRUNC(Q8*0.54%) -> 9262
A10: 조달수수료 | B10: 자재비의 | C10: % | D10: 0.54 | F10: =TRUNC(SUM(F8:F9)*D10%) -> 0 | K10: 0.54 | L10: =TRUNC(SUM(F8:F9)*K10%,-1) -> 0 | N10: =SUM(H10:J10) -> 0 | O10: =K10-N10 -> 0.54
A12: 2) 아스팔트콘크리트 | F12: =SUM(F13:F17) -> 12354000 | G12: 25년2월9일 | N12: =SUM(H12:J12) -> 0 | O12: =K12-N12 -> 0
A13: 아스콘 | B13: #78 표층용 | C13: M/T | D13: 0 | E13: 110450 | F13: =TRUNC(E13*D13,0) -> 0 | H13: 569 | J13: 721 | K13: =SUM(H13:J13) -> 1290 | N13: =SUM(H13:J13) -> 1290 | O13: =K13-N13 -> 0 | P13: ='[79]관급자재(토목,기계)_전체분'!$L$619+'[79]관급자재(토목,기계)_전체분'!$L$620+'[79]관급자재(토목,기계)_전체분'!$L$542+'[79]관급자재(토목,기계)_전체분'!$L$543 -> 197966660 | Q13: ='[79]관급자재(토목,기계)_전체분'!$L$605+'[79]관급자재(토목,기계)_전체분'!$L$606 -> 1715200
A14: 아스콘(재생용) | B14: #787 표층용 | C14: M/T | D14: 0 | E14: 93700 | F14: =TRUNC(E14*D14,0) -> 0 | H14: 379 | J14: 480 | K14: =SUM(H14:J14) -> 859 | N14: =SUM(H14:J14) -> 859 | O14: =K14-N14 -> 0 | P14: =TRUNC(P13*0.54%) -> 1069019 | Q14: =TRUNC(Q13*0.54%) -> 9262
A15: 아스콘 | B15: #467 기층용 | C15: M/T | D15: 85 | E15: 91960 | F15: =TRUNC(E15*D15,0) -> 7816600 | H15: 104 | J15: 47 | K15: =SUM(H15:J15) -> 151 | N15: =SUM(H15:J15) -> 151 | O15: =K15-N15 -> 0 | P15: ='[79]관급자재(토목,기계)_전체분'!$L$619+'[79]관급자재(토목,기계)_전체분'!$L$620+'[79]관급자재(토목,기계)_전체분'!$L$542+'[79]관급자재(토목,기계)_전체분'!$L$543 -> 197966660 | Q15: ='[79]관급자재(토목,기계)_전체분'!$L$605+'[79]관급자재(토목,기계)_전체분'!$L$606 -> 1715200
A16: 아스콘(재생용) | B16: #467 기층용 | C16: M/T | D16: 56 | E16: 79850 | F16: =TRUNC(E16*D16,0) -> 4471600 | H16: 69 | J16: 31 | K16: =SUM(H16:J16) -> 100 | N16: =SUM(H16:J16) -> 100 | O16: =K16-N16 -> 0 | P16: =TRUNC(P15*0.54%) -> 1069019 | Q16: =TRUNC(Q15*0.54%) -> 9262
A17: 조달수수료 | B17: 자재비의 | C17: % | D17: 0.54 | F17: =TRUNC(SUM(F13:F16)*D17%)-556 -> 65800 | K17: 0.54 | L17: =TRUNC(SUM(F15:F16)*K17%,-1) -> 66350 | N17: =SUM(H17:J17) -> 0 | O17: =K17-N17 -> 0.54
A19: 3) 기층재 | F19: =SUM(F20:F23) -> 0 | N19: =SUM(H19:J19) -> 0 | O19: =K19-N19 -> 0
A20: 보조기층 | B20: 40mm | C20: ㎥ | D20: 0 | E20: 20680 | F20: =TRUNC(E20*D20,0) -> 0 | H20: 785 | J20: 389 | K20: =SUM(H20:J20) -> 1174 | N20: =SUM(H20:J20) -> 1174 | O20: =K20-N20 -> 0
A21: 동상방지층 | B21: 75mm | C21: ㎥ | D21: 0 | E21: 22000 | F21: =TRUNC(E21*D21,0) -> 0 | H21: 104 | J21: 77 | K21: =SUM(H21:J21) -> 181 | N21: =SUM(H21:J21) -> 181 | O21: =K21-N21 -> 0
A22: 석분 | B22: 8MM이하 | C22: ㎥ | D22: 0 | E22: 23320 | F22: =TRUNC(E22*D22,0) -> 0 | H22: 1932 | J22: 910 | K22: =SUM(H22:J22) -> 2842 | N22: =SUM(H22:J22) -> 2842 | O22: =K22-N22 -> 0
A23: 조달수수료 | B23: 자재비의 | C23: % | D23: 0.54 | F23: =TRUNC(SUM(F20:F22)*D23%) -> 0 | K23: 0.54 | L23: =TRUNC(SUM(F20:F22)*K23%,-1) -> 0 | N23: =SUM(H23:J23) -> 0 | O23: =K23-N23 -> 0.54
N24: =SUM(H24:J24) -> 0 | O24: =K24-N24 -> 0
A25: 4) 기층재(순환골재) | F25: =SUM(F26:F27) -> 431000 | G25: 25년2월9일 | N25: =SUM(H25:J25) -> 0 | O25: =K25-N25 -> 0
A26: 보조기층(순환골재) | B26: RSB-2 | C26: ㎥ | D26: 0 | E26: 8800 | F26: =TRUNC(E26*D26,0) -> 0 | H26: 523 | J26: 259 | K26: =SUM(H26:J26) -> 782 | N26: =SUM(H26:J26) -> 782 | O26: =K26-N26 -> 0
A27: 동상방지층(순환골재) | B27: RSB-2 | C27: ㎥ | D27: 49 | E27: 8800 | F27: =TRUNC(E27*D27,0)-200 -> 431000 | H27: 69 | J27: 51 | K27: =SUM(H27:J27) -> 120 | N27: =SUM(H27:J27) -> 120 | O27: =K27-N27 -> 0
N28: =SUM(H28:J28) -> 0 | O28: =K28-N28 -> 0
A29: 5) PVC관 | F29: =SUM(F30:F40) -> 82709000 | G29: 25년2월9일 | N29: =SUM(H29:J29) -> 0 | O29: =K29-N29 -> 0
A30: PVC 이중벽관 | B30: D200mm | C30: 본 | D30: 412 | E30: 107320 | F30: =TRUNC(E30*D30,0) -> 44215840 | H30: 515 | K30: =SUM(H30:J30) -> 515 | N30: =SUM(H30:J30) -> 515 | O30: =K30-N30 -> 0
A31: PVC 이중벽관 | B31: D150mm | C31: 본 | D31: 387 | E31: 69700 | F31: =TRUNC(E31*D31,0) -> 26973900 | H31: 2 | J31: 385 | K31: =SUM(H31:J31) -> 387 | N31: =SUM(H31:J31) -> 387 | O31: =K31-N31 -> 0
A32: PVC 접합부속 | B32: D200mm | C32: EA | D32: 66 | E32: 13180 | F32: =TRUNC(E32*D32,0) -> 869880 | H32: 602 | K32: =SUM(H32:J32) -> 602 | N32: =SUM(H32:J32) -> 602 | O32: =K32-N32 -> 0
A33: PVC 접합부속 | B33: D150mm | C33: EA | D33: 95 | E33: 7560 | F33: =TRUNC(E33*D33,0) -> 718200 | H33: 16 | J33: 385 | K33: =SUM(H33:J33) -> 401 | N33: =SUM(H33:J33) -> 401 | O33: =K33-N33 -> 0
A34: PVC 접합부속 | B34: D100mm | C34: EA | D34: 3 | E34: 2800 | F34: =TRUNC(E34*D34,0) -> 8400 | H34: 3 | K34: =SUM(H34:J34) -> 3 | N34: =SUM(H34:J34) -> 3 | O34: =K34-N34 -> 0
A35: PVC 접합부속(고무링) | B35: D200mm | C35: EA | D35: 132 | E35: 760 | F35: =TRUNC(E35*D35,0) -> 100320 | H35: 1204 | K35: =SUM(H35:J35) -> 1204 | N35: =SUM(H35:J35) -> 1204 | O35: =K35-N35 -> 0
A36: PVC 접합부속(고무링) | B36: D150mm | C36: EA | D36: 590 | E36: 450 | F36: =TRUNC(E36*D36,0) -> 265500 | H36: 32 | J36: 770 | K36: =SUM(H36:J36) -> 802 | N36: =SUM(H36:J36) -> 802 | O36: =K36-N36 -> 0
A37: PVC 접합부속(고무링) | B37: D100mm | C37: EA | D37: 6 | E37: 220 | F37: =TRUNC(E37*D37,0) -> 1320 | H37: 6 | K37: =SUM(H37:J37) -> 6 | N37: =SUM(H37:J37) -> 6 | O37: =K37-N37 -> 0
A38: 내충격PVC관 | B38: D=100×6.0m | C38: 본 | D38: 211 | E38: 36660 | F38: =TRUNC(E38*D38,0) -> 7735260 | J38: 242 | K38: =SUM(H38:J38) -> 242 | N38: =SUM(H38:J38) -> 242 | O38: =K38-N38 -> 0
A39: 양수소켓 | B39: D100mm | C39: EA | D39: 111 | E39: 12400 | F39: =TRUNC(E39*D39,0) -> 1376400 | J39: 242 | K39: =SUM(H39:J39) -> 242 | N39: =SUM(H39:J39) -> 242 | O39: =K39-N39 -> 0
A40: 조달수수료 | B40: 자재비의 | C40: % | D40: 0.54 | F40: =TRUNC(SUM(F30:F39)*D40%)-251 -> 443980 | K40: 0.54 | L40: =TRUNC(SUM(F30:F35)*K40%,-1) -> 393580 | N40: =SUM(H40:J40) -> 0 | O40: =K40-N40 -> 0.54
A42: 6) PE수도관 | F42: =SUM(F43:F45) -> 9532000 | G42: 25년2월9일 | N42: =SUM(H42:J42) -> 0 | O42: =K42-N42 -> 0
A43: PE수도관 | B43: D100×6.0m(Φ110) | C43: 본 | D43: 105 | E43: 90300 | F43: =TRUNC(E43*D43,0) -> 9481500 | H43: 124 | K43: =SUM(H43:J43) -> 124 | N43: =SUM(H43:J43) -> 124 | O43: =K43-N43 -> 0 | P43: ='[79]관급자재(토목,기계)_전체분'!$L$619+'[79]관급자재(토목,기계)_전체분'!$L$620+'[79]관급자재(토목,기계)_전체분'!$L$542+'[79]관급자재(토목,기계)_전체분'!$L$543 -> 197966660 | Q43: ='[79]관급자재(토목,기계)_전체분'!$L$605+'[79]관급자재(토목,기계)_전체분'!$L$606 -> 1715200
...

Sheet 관급자재(후평처리분구)
A1: 관급자재 구입 내역서
A2: ▣ 공사명: 여만처리분구 외 6개소 하수관로 정비사업(토목+기계) | G2: (단위 : 원)
A3: 품 명 | B3: 규 격 | C3: 단위 | D3: 수량 | E3: 단 가 | F3: 금 액 | G3: 비고 (납품기한) | H3: 수 량
H4: 오수 관로 | I4: 맨홀 펌프장 | J4: 배수 설비 | K4: 합 계
A5: ◈ 도급자 관급자재대 | F5: =F6 -> 606067000
A6: □. 후평처리분구 | F6: =SUM(F7,F12,F19,F25,F29,F42,F47,F57,F72,F77,F83,F88) -> 606067000 | P6: =725829964-F6-#REF!-#REF!-#REF!-#REF! -> #REF!
A7: 1) 레미콘 | F7: =SUM(F8:F10) -> 45146000 | G7: 25년2월9일 | N7: =SUM(H7:J7) -> 0 | O7: =K7-N7 -> 0
A8: 레미콘 | B8: 25-18-80 | C8: ㎥ | D8: 0 | E8: 105550 | F8: =TRUNC(E8*D8,0) -> 0 | H8: 29 | I8: 1 | J8: 0 | K8: =SUM(H8:J8) -> 30 | N8: =SUM(H8:J8) -> 30 | O8: =K8-N8 -> 0 | P8: ='[79]관급자재(토목,기계)_전체분'!$L$619+'[79]관급자재(토목,기계)_전체분'!$L$620+'[79]관급자재(토목,기계)_전체분'!$L$542+'[79]관급자재(토목,기계)_전체분'!$L$543 -> 197966660 | Q8: ='[79]관급자재(토목,기계)_전체분'!$L$605+'[79]관급자재(토목,기계)_전체분'!$L$606 -> 1715200
A9: 레미콘 | B9: 25-21-80 | C9: ㎥ | D9: 412 | E9: 108990 | F9: =TRUNC(E9*D9,0) -> 44903880 | H9: 778 | I9: 7 | J9: 330 | K9: =SUM(H9:J9) -> 1115 | N9: =SUM(H9:J9) -> 1115 | O9: =K9-N9 -> 0 | P9: =TRUNC(P8*0.54%) -> 1069019 | Q9: =TRUNC(Q8*0.54%) -> 9262
A10: 조달수수료 | B10: 자재비의 | C10: % | D10: 0.54 | F10: =TRUNC(SUM(F8:F9)*D10%)-360 -> 242120 | K10: 0.54 | L10: =TRUNC(SUM(F8:F9)*K10%,-1) -> 242480 | N10: =SUM(H10:J10) -> 0 | O10: =K10-N10 -> 0.54
A12: 2) 아스팔트콘크리트 | F12: =SUM(F13:F17) -> 144025000 | G12: 25년2월9일 | N12: =SUM(H12:J12) -> 0 | O12: =K12-N12 -> 0
A13: 아스콘 | B13: #78 표층용 | C13: M/T | D13: 45 | E13: 110450 | F13: =TRUNC(E13*D13,0) -> 4970250 | H13: 682 | J13: 455 | K13: =SUM(H13:J13) -> 1137 | N13: =SUM(H13:J13) -> 1137 | O13: =K13-N13 -> 0 | P13: ='[79]관급자재(토목,기계)_전체분'!$L$619+'[79]관급자재(토목,기계)_전체분'!$L$620+'[79]관급자재(토목,기계)_전체분'!$L$542+'[79]관급자재(토목,기계)_전체분'!$L$543 -> 197966660 | Q13: ='[79]관급자재(토목,기계)_전체분'!$L$605+'[79]관급자재(토목,기계)_전체분'!$L$606 -> 1715200
A14: 아스콘(재생용) | B14: #787 표층용 | C14: M/T | D14: 44 | E14: 93700 | F14: =TRUNC(E14*D14,0) -> 4122800 | H14: 458 | J14: 303 | K14: =SUM(H14:J14) -> 761 | N14: =SUM(H14:J14) -> 761 | O14: =K14-N14 -> 0 | P14: =TRUNC(P13*0.54%) -> 1069019 | Q14: =TRUNC(Q13*0.54%) -> 9262
A15: 아스콘 | B15: #467 기층용 | C15: M/T | D15: 924 | E15: 91960 | F15: =TRUNC(E15*D15,0) -> 84971040 | H15: 919 | J15: 5 | K15: =SUM(H15:J15) -> 924 | N15: =SUM(H15:J15) -> 924 | O15: =K15-N15 -> 0 | P15: ='[79]관급자재(토목,기계)_전체분'!$L$619+'[79]관급자재(토목,기계)_전체분'!$L$620+'[79]관급자재(토목,기계)_전체분'!$L$542+'[79]관급자재(토목,기계)_전체분'!$L$543 -> 197966660 | Q15: ='[79]관급자재(토목,기계)_전체분'!$L$605+'[79]관급자재(토목,기계)_전체분'!$L$606 -> 1715200
A16: 아스콘(재생용) | B16: #467 기층용 | C16: M/T | D16: 616 | E16: 79850 | F16: =TRUNC(E16*D16,0) -> 49187600 | H16: 613 | J16: 3 | K16: =SUM(H16:J16) -> 616 | N16: =SUM(H16:J16) -> 616 | O16: =K16-N16 -> 0 | P16: =TRUNC(P15*0.54%) -> 1069019 | Q16: =TRUNC(Q15*0.54%) -> 9262
A17: 조달수수료 | B17: 자재비의 | C17: % | D17: 0.54 | F17: =TRUNC(SUM(F13:F16)*D17%)-249 -> 773310 | K17: 0.54 | L17: =TRUNC(SUM(F15:F16)*K17%,-1) -> 724450 | N17: =SUM(H17:J17) -> 0 | O17: =K17-N17 -> 0.54
A19: 3) 기층재 | F19: =SUM(F20:F23) -> 38223000 | G19: 25년2월9일 | N19: =SUM(H19:J19) -> 0 | O19: =K19-N19 -> 0
A20: 보조기층 | B20: 40mm | C20: ㎥ | D20: 1057 | E20: 20680 | F20: =TRUNC(E20*D20,0) -> 21858760 | H20: 2407 | J20: 240 | K20: =SUM(H20:J20) -> 2647 | N20: =SUM(H20:J20) -> 2647 | O20: =K20-N20 -> 0
A21: 동상방지층 | B21: 75mm | C21: ㎥ | D21: 319 | E21: 22000 | F21: =TRUNC(E21*D21,0) -> 7018000 | H21: 887 | J21: 7 | K21: =SUM(H21:J21) -> 894 | N21: =SUM(H21:J21) -> 894 | O21: =K21-N21 -> 0
A22: 석분 | B22: 8MM이하 | C22: ㎥ | D22: 392 | E22: 23320 | F22: =TRUNC(E22*D22,0) -> 9141440 | H22: 3548 | J22: 210 | K22: =SUM(H22:J22) -> 3758 | N22: =SUM(H22:J22) -> 3758 | O22: =K22-N22 -> 0
A23: 조달수수료 | B23: 자재비의 | C23: % | D23: 0.54 | F23: =TRUNC(SUM(F20:F22)*D23%)-498 -> 204800 | K23: 0.54 | L23: =TRUNC(SUM(F20:F22)*K23%,-1) -> 205290 | N23: =SUM(H23:J23) -> 0 | O23: =K23-N23 -> 0.54
N24: =SUM(H24:J24) -> 0 | O24: =K24-N24 -> 0
A25: 4) 기층재(순환골재) | F25: =SUM(F26:F27) -> 9380000 | G25: 25년2월9일 | N25: =SUM(H25:J25) -> 0 | O25: =K25-N25 -> 0
A26: 보조기층(순환골재) | B26: RSB-2 | C26: ㎥ | D26: 470 | E26: 8800 | F26: =TRUNC(E26*D26,0) -> 4136000 | H26: 1605 | J26: 160 | K26: =SUM(H26:J26) -> 1765 | N26: =SUM(H26:J26) -> 1765 | O26: =K26-N26 -> 0
A27: 동상방지층(순환골재) | B27: RSB-2 | C27: ㎥ | D27: 596 | E27: 8800 | F27: =TRUNC(E27*D27,0)-800 -> 5244000 | H27: 591 | J27: 5 | K27: =SUM(H27:J27) -> 596 | N27: =SUM(H27:J27) -> 596 | O27: =K27-N27 -> 0
N28: =SUM(H28:J28) -> 0 | O28: =K28-N28 -> 0
A29: 5) PVC관 | F29: =SUM(F30:F40) -> 124079000 | G29: 25년2월9일 | N29: =SUM(H29:J29) -> 0 | O29: =K29-N29 -> 0
A30: PVC 이중벽관 | B30: D200mm | C30: 본 | D30: 732 | E30: 107320 | F30: =TRUNC(E30*D30,0) -> 78558240 | H30: 732 | K30: =SUM(H30:J30) -> 732 | N30: =SUM(H30:J30) -> 732 | O30: =K30-N30 -> 0
A31: PVC 이중벽관 | B31: D150mm | C31: 본 | D31: 305 | E31: 69700 | F31: =TRUNC(E31*D31,0) -> 21258500 | H31: 2 | J31: 303 | K31: =SUM(H31:J31) -> 305 | N31: =SUM(H31:J31) -> 305 | O31: =K31-N31 -> 0
A32: PVC 접합부속 | B32: D200mm | C32: EA | D32: 841 | E32: 13180 | F32: =TRUNC(E32*D32,0) -> 11084380 | H32: 841 | K32: =SUM(H32:J32) -> 841 | N32: =SUM(H32:J32) -> 841 | O32: =K32-N32 -> 0
A33: PVC 접합부속 | B33: D150mm | C33: EA | D33: 313 | E33: 7560 | F33: =TRUNC(E33*D33,0) -> 2366280 | H33: 10 | J33: 303 | K33: =SUM(H33:J33) -> 313 | N33: =SUM(H33:J33) -> 313 | O33: =K33-N33 -> 0
A34: PVC 접합부속 | B34: D100mm | C34: EA | D34: 0 | E34: 2800 | F34: =TRUNC(E34*D34,0) -> 0 | H34: 0 | K34: =SUM(H34:J34) -> 0 | N34: =SUM(H34:J34) -> 0 | O34: =K34-N34 -> 0
A35: PVC 접합부속(고무링) | B35: D200mm | C35: EA | D35: 1682 | E35: 760 | F35: =TRUNC(E35*D35,0) -> 1278320 | H35: 1682 | K35: =SUM(H35:J35) -> 1682 | N35: =SUM(H35:J35) -> 1682 | O35: =K35-N35 -> 0
A36: PVC 접합부속(고무링) | B36: D150mm | C36: EA | D36: 626 | E36: 450 | F36: =TRUNC(E36*D36,0) -> 281700 | H36: 20 | J36: 606 | K36: =SUM(H36:J36) -> 626 | N36: =SUM(H36:J36) -> 626 | O36: =K36-N36 -> 0
A37: PVC 접합부속(고무링) | B37: D100mm | C37: EA | D37: 0 | E37: 220 | F37: =TRUNC(E37*D37,0) -> 0 | H37: 0 | K37: =SUM(H37:J37) -> 0 | N37: =SUM(H37:J37) -> 0 | O37: =K37-N37 -> 0
A38: 내충격PVC관 | B38: D=100×6.0m | C38: 본 | D38: 175 | E38: 36660 | F38: =TRUNC(E38*D38,0) -> 6415500 | J38: 175 | K38: =SUM(H38:J38) -> 175 | N38: =SUM(H38:J38) -> 175 | O38: =K38-N38 -> 0
A39: 양수소켓 | B39: D100mm | C39: EA | D39: 175 | E39: 12400 | F39: =TRUNC(E39*D39,0) -> 2170000 | J39: 175 | K39: =SUM(H39:J39) -> 175 | N39: =SUM(H39:J39) -> 175 | O39: =K39-N39 -> 0
A40: 조달수수료 | B40: 자재비의 | C40: % | D40: 0.54 | F40: =TRUNC(SUM(F30:F39)*D40%)-349 -> 666080 | K40: 0.54 | L40: =TRUNC(SUM(F30:F35)*K40%,-1) -> 618540 | N40: =SUM(H40:J40) -> 0 | O40: =K40-N40 -> 0.54
A42: 6) PE수도관 | F42: =SUM(F44:F45) -> 31337000 | G42: 25년2월9일 | N42: =SUM(H42:J42) -> 0 | O42: =K42-N42 -> 0
A43: PE수도관 | B43: D100×6.0m(Φ110) | C43: 본 | D43: 0 | E43: 90300 | F43: =TRUNC(E43*D43,0) -> 0 | H43: 0 | K43: =SUM(H43:J43) -> 0 | N43: =SUM(H43:J43) -> 0 | O43: =K43-N43 -> 0 | P43: ='[79]관급자재(토목,기계)_전체분'!$L$619+'[79]관급자재(토목,기계)_전체분'!$L$620+'[79]관급자재(토목,기계)_전체분'!$L$542+'[79]관급자재(토목,기계)_전체분'!$L$543 -> 197966660 | Q43: ='[79]관급자재(토목,기계)_전체분'!$L$605+'[79]관급자재(토목,기계)_전체분'!$L$606 -> 1715200
...

Sheet 관급자재(주진처리분구)
A1: 관급자재 구입 내역서
A2: ▣ 공사명: 여만처리분구 외 6개소 하수관로 정비사업(토목+기계) | G2: (단위 : 원)
A3: 품 명 | B3: 규 격 | C3: 단위 | D3: 수량 | E3: 단 가 | F3: 금 액 | G3: 비고 (납품기한) | H3: 수 량
H4: 오수 관로 | I4: 맨홀 펌프장 | J4: 배수 설비 | K4: 합 계
A5: ◈ 도급자 관급자재대 | F5: =F6 -> 158973000
A6: □. 주진처리분구 | F6: =SUM(F7,F12,F19,F25,F29,F42,F47,F57,F72,F77,F83,F88) -> 158973000 | P6: =725829964-F6-#REF!-#REF!-#REF!-#REF! -> #REF!
A7: 1) 레미콘 | F7: =SUM(F8:F10) -> 26079000 | G7: 25년2월9일 | N7: =SUM(H7:J7) -> 0 | O7: =K7-N7 -> 0
A8: 레미콘 | B8: 25-18-80 | C8: ㎥ | E8: 105550 | F8: =TRUNC(E8*D8,0) -> 0 | H8: 5 | J8: 0 | K8: =SUM(H8:J8) -> 5 | N8: =SUM(H8:J8) -> 5 | O8: =K8-N8 -> 0 | P8: ='[79]관급자재(토목,기계)_전체분'!$L$619+'[79]관급자재(토목,기계)_전체분'!$L$620+'[79]관급자재(토목,기계)_전체분'!$L$542+'[79]관급자재(토목,기계)_전체분'!$L$543 -> 197966660 | Q8: ='[79]관급자재(토목,기계)_전체분'!$L$605+'[79]관급자재(토목,기계)_전체분'!$L$606 -> 1715200
A9: 레미콘 | B9: 25-21-80 | C9: ㎥ | D9: 238 | E9: 108990 | F9: =TRUNC(E9*D9,0) -> 25939620 | H9: 121 | J9: 117 | K9: =SUM(H9:J9) -> 238 | N9: =SUM(H9:J9) -> 238 | O9: =K9-N9 -> 0 | P9: =TRUNC(P8*0.54%) -> 1069019 | Q9: =TRUNC(Q8*0.54%) -> 9262
A10: 조달수수료 | B10: 자재비의 | C10: % | D10: 0.54 | F10: =TRUNC(SUM(F8:F9)*D10%)-693 -> 139380 | K10: 0.54 | L10: =TRUNC(SUM(F8:F9)*K10%,-1) -> 140070 | N10: =SUM(H10:J10) -> 0 | O10: =K10-N10 -> 0.54
A12: 2) 아스팔트콘크리트 | F12: =SUM(F13:F17) -> 53150000 | G12: 25년2월9일 | N12: =SUM(H12:J12) -> 0 | O12: =K12-N12 -> 0
A13: 아스콘 | B13: #78 표층용 | C13: M/T | D13: 254 | E13: 110450 | F13: =TRUNC(E13*D13,0) -> 28054300 | H13: 214 | J13: 40 | K13: =SUM(H13:J13) -> 254 | N13: =SUM(H13:J13) -> 254 | O13: =K13-N13 -> 0 | P13: ='[79]관급자재(토목,기계)_전체분'!$L$619+'[79]관급자재(토목,기계)_전체분'!$L$620+'[79]관급자재(토목,기계)_전체분'!$L$542+'[79]관급자재(토목,기계)_전체분'!$L$543 -> 197966660 | Q13: ='[79]관급자재(토목,기계)_전체분'!$L$605+'[79]관급자재(토목,기계)_전체분'!$L$606 -> 1715200
A14: 아스콘(재생용) | B14: #787 표층용 | C14: M/T | D14: 169 | E14: 93700 | F14: =TRUNC(E14*D14,0) -> 15835300 | H14: 142 | J14: 27 | K14: =SUM(H14:J14) -> 169 | N14: =SUM(H14:J14) -> 169 | O14: =K14-N14 -> 0 | P14: =TRUNC(P13*0.54%) -> 1069019 | Q14: =TRUNC(Q13*0.54%) -> 9262
A15: 아스콘 | B15: #467 기층용 | C15: M/T | D15: 62 | E15: 91960 | F15: =TRUNC(E15*D15,0) -> 5701520 | H15: 62 | K15: =SUM(H15:J15) -> 62 | N15: =SUM(H15:J15) -> 62 | O15: =K15-N15 -> 0 | P15: ='[79]관급자재(토목,기계)_전체분'!$L$619+'[79]관급자재(토목,기계)_전체분'!$L$620+'[79]관급자재(토목,기계)_전체분'!$L$542+'[79]관급자재(토목,기계)_전체분'!$L$543 -> 197966660 | Q15: ='[79]관급자재(토목,기계)_전체분'!$L$605+'[79]관급자재(토목,기계)_전체분'!$L$606 -> 1715200
A16: 아스콘(재생용) | B16: #467 기층용 | C16: M/T | D16: 41 | E16: 79850 | F16: =TRUNC(E16*D16,0) -> 3273850 | H16: 41 | K16: =SUM(H16:J16) -> 41 | N16: =SUM(H16:J16) -> 41 | O16: =K16-N16 -> 0 | P16: =TRUNC(P15*0.54%) -> 1069019 | Q16: =TRUNC(Q15*0.54%) -> 9262
A17: 조달수수료 | B17: 자재비의 | C17: % | D17: 0.54 | F17: =TRUNC(SUM(F13:F16)*D17%)-440 -> 285030 | K17: 0.54 | L17: =TRUNC(SUM(F15:F16)*K17%,-1) -> 48460 | N17: =SUM(H17:J17) -> 0 | O17: =K17-N17 -> 0.54
A19: 3) 기층재 | F19: =SUM(F20:F23) -> 18919000 | G19: 25년2월9일 | N19: =SUM(H19:J19) -> 0 | O19: =K19-N19 -> 0
A20: 보조기층 | B20: 40mm | C20: ㎥ | D20: 369 | E20: 20680 | F20: =TRUNC(E20*D20,0) -> 7630920 | H20: 281 | J20: 88 | K20: =SUM(H20:J20) -> 369 | N20: =SUM(H20:J20) -> 369 | O20: =K20-N20 -> 0
A21: 동상방지층 | B21: 75mm | C21: ㎥ | D21: 58 | E21: 22000 | F21: =TRUNC(E21*D21,0) -> 1276000 | H21: 58 | J21: 0 | K21: =SUM(H21:J21) -> 58 | N21: =SUM(H21:J21) -> 58 | O21: =K21-N21 -> 0
A22: 석분 | B22: 8MM이하 | C22: ㎥ | D22: 425 | E22: 23320 | F22: =TRUNC(E22*D22,0) -> 9911000 | H22: 277 | J22: 148 | K22: =SUM(H22:J22) -> 425 | N22: =SUM(H22:J22) -> 425 | O22: =K22-N22 -> 0
A23: 조달수수료 | B23: 자재비의 | C23: % | D23: 0.54 | F23: =TRUNC(SUM(F20:F22)*D23%)-536 -> 101080 | K23: 0.54 | L23: =TRUNC(SUM(F20:F22)*K23%,-1) -> 101610 | N23: =SUM(H23:J23) -> 0 | O23: =K23-N23 -> 0.54
N24: =SUM(H24:J24) -> 0 | O24: =K24-N24 -> 0
A25: 4) 기층재(순환골재) | F25: =SUM(F26:F27) -> 2508000 | G25: 25년2월9일 | N25: =SUM(H25:J25) -> 0 | O25: =K25-N25 -> 0
A26: 보조기층(순환골재) | B26: RSB-2 | C26: ㎥ | D26: 246 | E26: 8800 | F26: =TRUNC(E26*D26,0) -> 2164800 | H26: 187 | J26: 59 | K26: =SUM(H26:J26) -> 246 | N26: =SUM(H26:J26) -> 246 | O26: =K26-N26 -> 0
A27: 동상방지층(순환골재) | B27: RSB-2 | C27: ㎥ | D27: 39 | E27: 8800 | F27: =TRUNC(E27*D27,0) -> 343200 | H27: 39 | J27: 0 | K27: =SUM(H27:J27) -> 39 | N27: =SUM(H27:J27) -> 39 | O27: =K27-N27 -> 0
N28: =SUM(H28:J28) -> 0 | O28: =K28-N28 -> 0
A29: 5) PVC관 | F29: =SUM(F30:F40) -> 10613000 | G29: 25년2월9일 | N29: =SUM(H29:J29) -> 0 | O29: =K29-N29 -> 0
A30: PVC 이중벽관 | B30: D200mm | C30: 본 | D30: 29 | E30: 107320 | F30: =TRUNC(E30*D30,0) -> 3112280 | H30: 29 | K30: =SUM(H30:J30) -> 29 | N30: =SUM(H30:J30) -> 29 | O30: =K30-N30 -> 0
A31: PVC 이중벽관 | B31: D150mm | C31: 본 | D31: 79 | E31: 69700 | F31: =TRUNC(E31*D31,0) -> 5506300 | H31: 0 | J31: 79 | K31: =SUM(H31:J31) -> 79 | N31: =SUM(H31:J31) -> 79 | O31: =K31-N31 -> 0
A32: PVC 접합부속 | B32: D200mm | C32: EA | D32: 33 | E32: 13180 | F32: =TRUNC(E32*D32,0) -> 434940 | H32: 33 | K32: =SUM(H32:J32) -> 33 | N32: =SUM(H32:J32) -> 33 | O32: =K32-N32 -> 0
A33: PVC 접합부속 | B33: D150mm | C33: EA | D33: 79 | E33: 7560 | F33: =TRUNC(E33*D33,0) -> 597240 | H33: 0 | J33: 79 | K33: =SUM(H33:J33) -> 79 | N33: =SUM(H33:J33) -> 79 | O33: =K33-N33 -> 0
A34: PVC 접합부속 | B34: D100mm | C34: EA | D34: 0 | E34: 2800 | F34: =TRUNC(E34*D34,0) -> 0 | H34: 0 | K34: =SUM(H34:J34) -> 0 | N34: =SUM(H34:J34) -> 0 | O34: =K34-N34 -> 0
A35: PVC 접합부속(고무링) | B35: D200mm | C35: EA | D35: 66 | E35: 760 | F35: =TRUNC(E35*D35,0) -> 50160 | H35: 66 | K35: =SUM(H35:J35) -> 66 | N35: =SUM(H35:J35) -> 66 | O35: =K35-N35 -> 0
A36: PVC 접합부속(고무링) | B36: D150mm | C36: EA | D36: 158 | E36: 450 | F36: =TRUNC(E36*D36,0) -> 71100 | H36: 0 | J36: 158 | K36: =SUM(H36:J36) -> 158 | N36: =SUM(H36:J36) -> 158 | O36: =K36-N36 -> 0
A37: PVC 접합부속(고무링) | B37: D100mm | C37: EA | D37: 0 | E37: 220 | F37: =TRUNC(E37*D37,0) -> 0 | H37: 0 | K37: =SUM(H37:J37) -> 0 | N37: =SUM(H37:J37) -> 0 | O37: =K37-N37 -> 0
A38: 내충격PVC관 | B38: D=100×6.0m | C38: 본 | D38: 16 | E38: 36660 | F38: =TRUNC(E38*D38,0) -> 586560 | J38: 16 | K38: =SUM(H38:J38) -> 16 | N38: =SUM(H38:J38) -> 16 | O38: =K38-N38 -> 0
A39: 양수소켓 | B39: D100mm | C39: EA | D39: 16 | E39: 12400 | F39: =TRUNC(E39*D39,0) -> 198400 | J39: 16 | K39: =SUM(H39:J39) -> 16 | N39: =SUM(H39:J39) -> 16 | O39: =K39-N39 -> 0
A40: 조달수수료 | B40: 자재비의 | C40: % | D40: 0.54 | F40: =TRUNC(SUM(F30:F39)*D40%)-987 -> 56020 | K40: 0.54 | L40: =TRUNC(SUM(F30:F35)*K40%,-1) -> 52380 | N40: =SUM(H40:J40) -> 0 | O40: =K40-N40 -> 0.54
A42: 6) PE수도관 | F42: =SUM(F44:F45) -> 23070000 | N42: =SUM(H42:J42) -> 0 | O42: =K42-N42 -> 0
A43: PE수도관 | B43: D100×6.0m(Φ110) | C43: 본 | D43: 0 | E43: 90300 | F43: =TRUNC(E43*D43,0) -> 0 | H43: 0 | K43: =SUM(H43:J43) -> 0 | N43: =SUM(H43:J43) -> 0 | O43: =K43-N43 -> 0 | P43: ='[79]관급자재(토목,기계)_전체분'!$L$619+'[79]관급자재(토목,기계)_전체분'!$L$620+'[79]관급자재(토목,기계)_전체분'!$L$542+'[79]관급자재(토목,기계)_전체분'!$L$543 -> 197966660 | Q43: ='[79]관급자재(토목,기계)_전체분'!$L$605+'[79]관급자재(토목,기계)_전체분'!$L$606 -> 1715200
...

Sheet 관급자재(용항처리분구)
A1: 관급자재 구입 내역서
A2: ▣ 공사명: 여만처리분구 외 6개소 하수관로 정비사업(토목+기계) | G2: (단위 : 원)
A3: 품 명 | B3: 규 격 | C3: 단위 | D3: 수량 | E3: 단 가 | F3: 금 액 | G3: 비고 (납품기한) | H3: 수 량
H4: 오수 관로 | I4: 맨홀 펌프장 | J4: 배수 설비 | K4: 합 계
A5: ◈ 도급자 관급자재대 | F5: =F6 -> 184798000
A6: □. 용항처리분구 | F6: =SUM(F7,F12,F19,F25,F29,F42,F48,F58,F68,F73,F79,F84) -> 184798000 | P6: =725829964-F6-#REF!-#REF!-#REF!-#REF! -> #REF!
A7: 1) 레미콘 | F7: =TRUNC(SUM(F8:F9)+TRUNC(SUM(F8:F9)*K10%,-1),-3) -> 0 | G7: 계약완료 | N7: =SUM(H7:J7) -> 0 | O7: =K7-N7 -> 0
A8: 레미콘 | B8: 25-18-80 | C8: ㎥ | D8: 0 | E8: 105550 | F8: =TRUNC(E8*D8,0) -> 0 | H8: 9 | I8: 1 | J8: 0 | K8: =SUM(H8:J8) -> 10 | N8: =SUM(H8:J8) -> 10 | O8: =K8-N8 -> 0 | P8: ='[79]관급자재(토목,기계)_전체분'!$L$619+'[79]관급자재(토목,기계)_전체분'!$L$620+'[79]관급자재(토목,기계)_전체분'!$L$542+'[79]관급자재(토목,기계)_전체분'!$L$543 -> 197966660 | Q8: ='[79]관급자재(토목,기계)_전체분'!$L$605+'[79]관급자재(토목,기계)_전체분'!$L$606 -> 1715200
A9: 레미콘 | B9: 25-21-80 | C9: ㎥ | D9: 0 | E9: 108990 | F9: =TRUNC(E9*D9,0) -> 0 | H9: 382 | I9: 14 | J9: 557 | K9: =SUM(H9:J9) -> 953 | N9: =SUM(H9:J9) -> 953 | O9: =K9-N9 -> 0 | P9: =TRUNC(P8*0.54%) -> 1069019 | Q9: =TRUNC(Q8*0.54%) -> 9262
A10: 조달수수료 | B10: 자재비의 | C10: % | D10: 0.54 | F10: =F7-F8-F9 -> 0 | K10: 0.54 | L10: =TRUNC(SUM(F8:F9)*K10%,-1) -> 0 | N10: =SUM(H10:J10) -> 0 | O10: =K10-N10 -> 0.54
A12: 1) 아스팔트콘크리트 | F12: =SUM(F13:F17) -> 184723000 | G12: 25년2월9일 | N12: =SUM(H12:J12) -> 0 | O12: =K12-N12 -> 0
A13: 아스콘 | B13: #78 표층용 | C13: M/T | D13: 1062 | E13: 110450 | F13: =TRUNC(E13*D13,0) -> 117297900 | H13: 492 | J13: 570 | K13: =SUM(H13:J13) -> 1062 | N13: =SUM(H13:J13) -> 1062 | O13: =K13-N13 -> 0 | P13: ='[79]관급자재(토목,기계)_전체분'!$L$619+'[79]관급자재(토목,기계)_전체분'!$L$620+'[79]관급자재(토목,기계)_전체분'!$L$542+'[79]관급자재(토목,기계)_전체분'!$L$543 -> 197966660 | Q13: ='[79]관급자재(토목,기계)_전체분'!$L$605+'[79]관급자재(토목,기계)_전체분'!$L$606 -> 1715200
A14: 아스콘(재생용) | B14: #787 표층용 | C14: M/T | D14: 709 | E14: 93700 | F14: =TRUNC(E14*D14,0) -> 66433300 | H14: 330 | J14: 379 | K14: =SUM(H14:J14) -> 709 | N14: =SUM(H14:J14) -> 709 | O14: =K14-N14 -> 0 | P14: =TRUNC(P13*0.54%) -> 1069019 | Q14: =TRUNC(Q13*0.54%) -> 9262
A15: 아스콘 | B15: #467 기층용 | C15: M/T | D15: 0 | E15: 92680 | F15: =TRUNC(E15*D15,0) -> 0 | G15: 계약완료 | H15: 149 | J15: 12 | K15: =SUM(H15:J15) -> 161 | N15: =SUM(H15:J15) -> 161 | O15: =K15-N15 -> 0 | P15: ='[79]관급자재(토목,기계)_전체분'!$L$619+'[79]관급자재(토목,기계)_전체분'!$L$620+'[79]관급자재(토목,기계)_전체분'!$L$542+'[79]관급자재(토목,기계)_전체분'!$L$543 -> 197966660 | Q15: ='[79]관급자재(토목,기계)_전체분'!$L$605+'[79]관급자재(토목,기계)_전체분'!$L$606 -> 1715200
A16: 아스콘(재생용) | B16: #467 기층용 | C16: M/T | D16: 0 | E16: 85650 | F16: =TRUNC(E16*D16,0) -> 0 | G16: 계약완료 | H16: 100 | J16: 8 | K16: =SUM(H16:J16) -> 108 | N16: =SUM(H16:J16) -> 108 | O16: =K16-N16 -> 0 | P16: =TRUNC(P15*0.54%) -> 1069019 | Q16: =TRUNC(Q15*0.54%) -> 9262
A17: 조달수수료 | B17: 자재비의 | C17: % | D17: 0.54 | F17: =TRUNC(SUM(F13:F16)*D17%)-348 -> 991800 | K17: 0.54 | L17: =TRUNC(SUM(F15:F16)*K17%,-1) -> 0 | N17: =SUM(H17:J17) -> 0 | O17: =K17-N17 -> 0.54
A19: 3) 기층재 | F19: =TRUNC(SUM(F20:F22)+TRUNC(SUM(F20:F22)*K23%,-1),-3) -> 0 | G19: 계약완료 | N19: =SUM(H19:J19) -> 0 | O19: =K19-N19 -> 0
A20: 보조기층 | B20: 40mm | C20: ㎥ | D20: 0 | E20: 20680 | F20: =TRUNC(E20*D20,0) -> 0 | H20: 768 | J20: 435 | K20: =SUM(H20:J20) -> 1203 | N20: =SUM(H20:J20) -> 1203 | O20: =K20-N20 -> 0
A21: 동상방지층 | B21: 75mm | C21: ㎥ | D21: 0 | E21: 22000 | F21: =TRUNC(E21*D21,0) -> 0 | H21: 147 | J21: 19 | K21: =SUM(H21:J21) -> 166 | N21: =SUM(H21:J21) -> 166 | O21: =K21-N21 -> 0
A22: 석분 | B22: 8MM이하 | C22: ㎥ | D22: 0 | E22: 23320 | F22: =TRUNC(E22*D22,0) -> 0 | H22: 1282 | J22: 563 | K22: =SUM(H22:J22) -> 1845 | N22: =SUM(H22:J22) -> 1845 | O22: =K22-N22 -> 0
A23: 조달수수료 | B23: 자재비의 | C23: % | D23: 0.54 | F23: =F19-F20-F21-F22 -> 0 | K23: 0.54 | L23: =TRUNC(SUM(F20:F22)*K23%,-1) -> 0 | N23: =SUM(H23:J23) -> 0 | O23: =K23-N23 -> 0.54
N24: =SUM(H24:J24) -> 0 | O24: =K24-N24 -> 0
A25: 4) 기층재(순환골재) | F25: =SUM(F26:F27) -> 0 | G25: 계약완료 | N25: =SUM(H25:J25) -> 0 | O25: =K25-N25 -> 0
A26: 보조기층(순환골재) | B26: RSB-2 | C26: ㎥ | D26: 0 | E26: 8800 | F26: =TRUNC(E26*D26,0) -> 0 | H26: 512 | J26: 290 | K26: =SUM(H26:J26) -> 802 | N26: =SUM(H26:J26) -> 802 | O26: =K26-N26 -> 0
A27: 동상방지층(순환골재) | B27: RSB-2 | C27: ㎥ | D27: 0 | E27: 8800 | F27: =TRUNC(E27*D27,0) -> 0 | H27: 98 | J27: 13 | K27: =SUM(H27:J27) -> 111 | N27: =SUM(H27:J27) -> 111 | O27: =K27-N27 -> 0
N28: =SUM(H28:J28) -> 0 | O28: =K28-N28 -> 0
A29: 5) PVC관 | F29: =TRUNC(SUM(F30:F39)+TRUNC(SUM(F30:F39)*K40%,-1),-3) -> 22000 | G29: 계약완료 | N29: =SUM(H29:J29) -> 0 | O29: =K29-N29 -> 0
A30: PVC 이중벽관 | B30: D200mm | C30: 본 | D30: 0 | E30: 107320 | F30: =TRUNC(E30*D30,0) -> 0 | H30: 282 | K30: =SUM(H30:J30) -> 282 | N30: =SUM(H30:J30) -> 282 | O30: =K30-N30 -> 0
A31: PVC 이중벽관 | B31: D150mm | C31: 본 | D31: 0 | E31: 69700 | F31: =TRUNC(E31*D31,0) -> 0 | H31: 1 | J31: 477 | K31: =SUM(H31:J31) -> 478 | N31: =SUM(H31:J31) -> 478 | O31: =K31-N31 -> 0
A32: PVC 접합부속 | B32: D200mm | C32: EA | D32: 0 | E32: 13180 | F32: =TRUNC(E32*D32,0) -> 0 | H32: 335 | K32: =SUM(H32:J32) -> 335 | N32: =SUM(H32:J32) -> 335 | O32: =K32-N32 -> 0
A33: PVC 접합부속 | B33: D150mm | C33: EA | D33: 0 | E33: 7560 | F33: =TRUNC(E33*D33,0) -> 0 | H33: 0 | J33: 477 | K33: =SUM(H33:J33) -> 477 | N33: =SUM(H33:J33) -> 477 | O33: =K33-N33 -> 0
A34: PVC 접합부속 | B34: D100mm | C34: EA | D34: 7 | E34: 2800 | F34: =TRUNC(E34*D34,0) -> 19600 | H34: 7 | K34: =SUM(H34:J34) -> 7 | N34: =SUM(H34:J34) -> 7 | O34: =K34-N34 -> 0
A35: PVC 접합부속(고무링) | B35: D200mm | C35: EA | D35: 0 | E35: 760 | F35: =TRUNC(E35*D35,0) -> 0 | H35: 670 | K35: =SUM(H35:J35) -> 670 | N35: =SUM(H35:J35) -> 670 | O35: =K35-N35 -> 0
A36: PVC 접합부속(고무링) | B36: D150mm | C36: EA | D36: 0 | E36: 450 | F36: =TRUNC(E36*D36,0) -> 0 | H36: 0 | J36: 954 | K36: =SUM(H36:J36) -> 954 | N36: =SUM(H36:J36) -> 954 | O36: =K36-N36 -> 0
A37: PVC 접합부속(고무링) | B37: D100mm | C37: EA | D37: 14 | E37: 220 | F37: =TRUNC(E37*D37,0) -> 3080 | H37: 14 | K37: =SUM(H37:J37) -> 14 | N37: =SUM(H37:J37) -> 14 | O37: =K37-N37 -> 0
A38: 내충격PVC관 | B38: D=100×6.0m | C38: 본 | D38: 0 | E38: 36660 | F38: =TRUNC(E38*D38,0) -> 0 | J38: 217 | K38: =SUM(H38:J38) -> 217 | N38: =SUM(H38:J38) -> 217 | O38: =K38-N38 -> 0
A39: 양수소켓 | B39: D100mm | C39: EA | D39: 0 | E39: 12400 | F39: =TRUNC(E39*D39,0) -> 0 | J39: 217 | K39: =SUM(H39:J39) -> 217 | N39: =SUM(H39:J39) -> 217 | O39: =K39-N39 -> 0
A40: 조달수수료 | B40: 자재비의 | C40: % | D40: 0.54 | F40: =F29-F30-F31-F32-F33-F34-F35-F36-F37-F38-F39 -> -680 | K40: 0.54 | L40: =TRUNC(SUM(F30:F35)*K40%,-1) -> 100 | N40: =SUM(H40:J40) -> 0 | O40: =K40-N40 -> 0.54
A42: 6) PE수도관 | F42: =TRUNC(SUM(F43:F45)+TRUNC(SUM(F43:F45)*K46%,-1),-3) -> 0 | G42: 계약완료 | N42: =SUM(H42:J42) -> 0 | O42: =K42-N42 -> 0
A43: PE수도관 | B43: D80×6.0m(Φ90) | C43: 본 | D43: 0 | E43: 61140 | F43: =TRUNC(E43*D43,0) -> 0 | H43: 53 | K43: =SUM(H43:J43) -> 53 | N43: =SUM(H43:J43) -> 53 | O43: =K43-N43 -> 0 | P43: ='[79]관급자재(토목,기계)_전체분'!$L$619+'[79]관급자재(토목,기계)_전체분'!$L$620+'[79]관급자재(토목,기계)_전체분'!$L$542+'[79]관급자재(토목,기계)_전체분'!$L$543 -> 197966660 | Q43: ='[79]관급자재(토목,기계)_전체분'!$L$605+'[79]관급자재(토목,기계)_전체분'!$L$606 -> 1715200
...

Sheet 관급자재(임하처리분구)
A1: 관급자재 구입 내역서
A2: ▣ 공사명: 여만처리분구 외 6개소 하수관로 정비사업(토목+기계) | G2: (단위 : 원)
A3: 품 명 | B3: 규 격 | C3: 단위 | D3: 수량 | E3: 단 가 | F3: 금 액 | G3: 비고 (납품기한) | H3: 수 량
H4: 오수 관로 | I4: 맨홀 펌프장 | J4: 배수 설비 | K4: 합 계
A5: ◈ 도급자 관급자재대 | F5: =F6 -> 1473550000
A6: □. 임하처리분구 | F6: =SUM(F7,F12,F21,F27,F41,F54,F60,F70,F84,F89,F95,F100,F31,F37) -> 1473550000 | P6: =725829964-F6-#REF!-#REF!-#REF!-#REF! -> #REF!
A7: 1) 레미콘 | F7: =SUM(F8:F10) -> 205569000 | G7: 25년2월9일 | N7: =SUM(H7:J7) -> 0 | O7: =K7-N7 -> 0
A8: 레미콘 | B8: 25-18-80 | C8: ㎥ | D8: 0 | E8: 105550 | F8: =TRUNC(E8*D8,0) -> 0 | H8: 21 | I8: 1 | J8: 0 | K8: =SUM(H8:J8) -> 22 | N8: =SUM(H8:J8) -> 22 | O8: =K8-N8 -> 0 | P8: ='[79]관급자재(토목,기계)_전체분'!$L$619+'[79]관급자재(토목,기계)_전체분'!$L$620+'[79]관급자재(토목,기계)_전체분'!$L$542+'[79]관급자재(토목,기계)_전체분'!$L$543 -> 197966660 | Q8: ='[79]관급자재(토목,기계)_전체분'!$L$605+'[79]관급자재(토목,기계)_전체분'!$L$606 -> 1715200
A9: 레미콘 | B9: 25-21-80 | C9: ㎥ | D9: 1876 | E9: 108990 | F9: =TRUNC(E9*D9,0) -> 204465240 | H9: 1155 | I9: 7 | J9: 714 | K9: =SUM(H9:J9) -> 1876 | N9: =SUM(H9:J9) -> 1876 | O9: =K9-N9 -> 0 | P9: =TRUNC(P8*0.54%) -> 1069019 | Q9: =TRUNC(Q8*0.54%) -> 9262
A10: 조달수수료 | B10: 자재비의 | C10: % | D10: 0.54 | F10: =TRUNC(SUM(F8:F9)*D10%)-352 -> 1103760 | K10: 0.54 | L10: =TRUNC(SUM(F8:F9)*K10%,-1) -> 1104110 | N10: =SUM(H10:J10) -> 0 | O10: =K10-N10 -> 0.54
A12: 2) 아스팔트콘크리트 | F12: =SUM(F13:F19) -> 486178000 | G12: 25년2월9일 | N12: =SUM(H12:J12) -> 0 | O12: =K12-N12 -> 0
A13: 아스콘 | B13: #78 표층용 | C13: M/T | D13: 2470 | E13: 110450 | F13: =TRUNC(E13*D13,0) -> 272811500 | H13: 1501 | J13: 969 | K13: =SUM(H13:J13) -> 2470 | N13: =SUM(H13:J13) -> 2470 | O13: =K13-N13 -> 0 | P13: ='[79]관급자재(토목,기계)_전체분'!$L$619+'[79]관급자재(토목,기계)_전체분'!$L$620+'[79]관급자재(토목,기계)_전체분'!$L$542+'[79]관급자재(토목,기계)_전체분'!$L$543 -> 197966660 | Q13: ='[79]관급자재(토목,기계)_전체분'!$L$605+'[79]관급자재(토목,기계)_전체분'!$L$606 -> 1715200
A14: 아스콘(재생용) | B14: #787 표층용 | C14: M/T | D14: 1650 | E14: 93700 | F14: =TRUNC(E14*D14,0) -> 154605000 | H14: 1005 | J14: 645 | K14: =SUM(H14:J14) -> 1650 | N14: =SUM(H14:J14) -> 1650 | O14: =K14-N14 -> 0 | P14: =TRUNC(P13*0.54%) -> 1069019 | Q14: =TRUNC(Q13*0.54%) -> 9262
A15: 아스콘 | B15: #467 기층용 | C15: M/T | D15: 0 | E15: 92680 | F15: =TRUNC(E15*D15,0) -> 0 | G15: 계약완료 | H15: 366 | J15: 23 | K15: =SUM(H15:J15) -> 389 | N15: =SUM(H15:J15) -> 389 | O15: =K15-N15 -> 0 | P15: ='[79]관급자재(토목,기계)_전체분'!$L$619+'[79]관급자재(토목,기계)_전체분'!$L$620+'[79]관급자재(토목,기계)_전체분'!$L$542+'[79]관급자재(토목,기계)_전체분'!$L$543 -> 197966660 | Q15: ='[79]관급자재(토목,기계)_전체분'!$L$605+'[79]관급자재(토목,기계)_전체분'!$L$606 -> 1715200
A16: 아스콘(재생용) | B16: #467 기층용 | C16: M/T | D16: 0 | E16: 82700 | F16: =TRUNC(E16*D16,0) -> 0 | G16: 계약완료 | H16: 244 | J16: 15 | K16: =SUM(H16:J16) -> 259 | N16: =SUM(H16:J16) -> 259 | O16: =K16-N16 -> 0 | P16: =TRUNC(P15*0.54%) -> 1069019 | Q16: =TRUNC(Q15*0.54%) -> 9262
A17: 아스콘 | B17: #467 기층용 | C17: M/T | D17: 389 | E17: 91960 | F17: =TRUNC(E17*D17,0) -> 35772440 | H17: 1501 | J17: 969 | K17: =SUM(H17:J17) -> 2470 | N17: =SUM(H17:J17) -> 2470 | O17: =K17-N17 -> 0 | P17: ='[79]관급자재(토목,기계)_전체분'!$L$619+'[79]관급자재(토목,기계)_전체분'!$L$620+'[79]관급자재(토목,기계)_전체분'!$L$542+'[79]관급자재(토목,기계)_전체분'!$L$543 -> 197966660 | Q17: ='[79]관급자재(토목,기계)_전체분'!$L$605+'[79]관급자재(토목,기계)_전체분'!$L$606 -> 1715200
A18: 아스콘(재생용) | B18: #467 기층용 | C18: M/T | D18: 259 | E18: 79850 | F18: =TRUNC(E18*D18,0) -> 20681150 | H18: 1005 | J18: 645 | K18: =SUM(H18:J18) -> 1650 | N18: =SUM(H18:J18) -> 1650 | O18: =K18-N18 -> 0 | P18: =TRUNC(P17*0.54%) -> 1069019 | Q18: =TRUNC(Q17*0.54%) -> 9262
A19: 조달수수료 | B19: 자재비의 | C19: % | D19: 0.54 | F19: =TRUNC(SUM(F13:F15)*D19%)-139 -> 2307910 | K19: 0.54 | L19: =TRUNC(SUM(F15:F16)*K19%,-1) -> 0 | N19: =SUM(H19:J19) -> 0 | O19: =K19-N19 -> 0.54
A21: 3) 기층재 | F21: =TRUNC(SUM(F22:F24)+TRUNC(SUM(F22:F24)*K25%,-1),-3) -> 0 | G21: 계약완료 | N21: =SUM(H21:J21) -> 0 | O21: =K21-N21 -> 0
A22: 보조기층 | B22: 40mm | C22: ㎥ | D22: 0 | E22: 21500 | F22: =TRUNC(E22*D22,0) -> 0 | H22: 2081 | J22: 554 | K22: =SUM(H22:J22) -> 2635 | N22: =SUM(H22:J22) -> 2635 | O22: =K22-N22 -> 0
A23: 동상방지층 | B23: 75mm | C23: ㎥ | D23: 0 | E23: 21590 | F23: =TRUNC(E23*D23,0) -> 0 | H23: 449 | J23: 37 | K23: =SUM(H23:J23) -> 486 | N23: =SUM(H23:J23) -> 486 | O23: =K23-N23 -> 0
A24: 석분 | B24: 8MM이하 | C24: ㎥ | D24: 0 | E24: 20050 | F24: =TRUNC(E24*D24,0) -> 0 | H24: 3273 | J24: 859 | K24: =SUM(H24:J24) -> 4132 | N24: =SUM(H24:J24) -> 4132 | O24: =K24-N24 -> 0
A25: 조달수수료 | B25: 자재비의 | C25: % | D25: 0.54 | F25: =F21-F22-F23-F24 -> 0 | K25: 0.54 | L25: =TRUNC(SUM(F22:F24)*K25%,-1) -> 0 | N25: =SUM(H25:J25) -> 0 | O25: =K25-N25 -> 0.54
N26: =SUM(H26:J26) -> 0 | O26: =K26-N26 -> 0
A27: 4) 기층재(순환골재) | F27: =SUM(F28:F29) -> 0 | G27: 계약완료 | N27: =SUM(H27:J27) -> 0 | O27: =K27-N27 -> 0
A28: 보조기층(순환골재) | B28: RSB-2 | C28: ㎥ | D28: 0 | E28: 8800 | F28: =TRUNC(E28*D28,0) -> 0 | H28: 1388 | J28: 369 | K28: =SUM(H28:J28) -> 1757 | N28: =SUM(H28:J28) -> 1757 | O28: =K28-N28 -> 0
A29: 동상방지층(순환골재) | B29: RSB-2 | C29: ㎥ | D29: 0 | E29: 8800 | F29: =TRUNC(E29*D29,0) -> 0 | H29: 299 | J29: 25 | K29: =SUM(H29:J29) -> 324 | N29: =SUM(H29:J29) -> 324 | O29: =K29-N29 -> 0
N30: =SUM(H30:J30) -> 0 | O30: =K30-N30 -> 0
A31: 3) 기층재 | F31: =SUM(F32:F35) -> 162414000 | G31: 25년2월9일 | N31: =SUM(H31:J31) -> 0 | O31: =K31-N31 -> 0
A32: 보조기층 | B32: 40mm | C32: ㎥ | D32: 2635 | E32: 20680 | F32: =TRUNC(E32*D32,0) -> 54491800 | H32: 281 | J32: 88 | K32: =SUM(H32:J32) -> 369 | N32: =SUM(H32:J32) -> 369 | O32: =K32-N32 -> 0
A33: 동상방지층 | B33: 75mm | C33: ㎥ | D33: 486 | E33: 22000 | F33: =TRUNC(E33*D33,0) -> 10692000 | H33: 58 | J33: 0 | K33: =SUM(H33:J33) -> 58 | N33: =SUM(H33:J33) -> 58 | O33: =K33-N33 -> 0
A34: 석분 | B34: 8MM이하 | C34: ㎥ | D34: 4132 | E34: 23320 | F34: =TRUNC(E34*D34,0) -> 96358240 | H34: 277 | J34: 148 | K34: =SUM(H34:J34) -> 425 | N34: =SUM(H34:J34) -> 425 | O34: =K34-N34 -> 0
A35: 조달수수료 | B35: 자재비의 | C35: % | D35: 0.54 | F35: =TRUNC(SUM(F32:F34)*D35%)-367 -> 871960 | K35: 0.54 | L35: =TRUNC(SUM(F32:F34)*K35%,-1) -> 872320 | N35: =SUM(H35:J35) -> 0 | O35: =K35-N35 -> 0.54
N36: =SUM(H36:J36) -> 0 | O36: =K36-N36 -> 0
A37: 4) 기층재(순환골재) | F37: =SUM(F38:F39) -> 18312000 | G37: 25년2월9일 | N37: =SUM(H37:J37) -> 0 | O37: =K37-N37 -> 0
A38: 보조기층(순환골재) | B38: RSB-2 | C38: ㎥ | D38: 1757 | E38: 8800 | F38: =TRUNC(E38*D38,0) -> 15461600 | H38: 187 | J38: 59 | K38: =SUM(H38:J38) -> 246 | N38: =SUM(H38:J38) -> 246 | O38: =K38-N38 -> 0
A39: 동상방지층(순환골재) | B39: RSB-2 | C39: ㎥ | D39: 324 | E39: 8800 | F39: =TRUNC(E39*D39,0)-800 -> 2850400 | H39: 39 | J39: 0 | K39: =SUM(H39:J39) -> 39 | N39: =SUM(H39:J39) -> 39 | O39: =K39-N39 -> 0
A41: 4) PVC관 | F41: =SUM(F42:F52) -> 161258000 | G41: 25년2월9일 | N41: =SUM(H41:J41) -> 0 | O41: =K41-N41 -> 0
A42: PVC 이중벽관 | B42: D200mm | C42: 본 | D42: 727 | E42: 107320 | F42: =TRUNC(E42*D42,0) -> 78021640 | H42: 727 | K42: =SUM(H42:J42) -> 727 | N42: =SUM(H42:J42) -> 727 | O42: =K42-N42 -> 0
A43: PVC 이중벽관 | B43: D150mm | C43: 본 | D43: 648 | E43: 69700 | F43: =TRUNC(E43*D43,0) -> 45165600 | H43: 4 | J43: 644 | K43: =SUM(H43:J43) -> 648 | N43: =SUM(H43:J43) -> 648 | O43: =K43-N43 -> 0
...

Sheet 관급자재(하일처리분구)
A1: 관급자재 구입 내역서
A2: ▣ 공사명: 여만처리분구 외 6개소 하수관로 정비사업(토목+기계) | G2: (단위 : 원)
A3: 품 명 | B3: 규 격 | C3: 단위 | D3: 수량 | E3: 단 가 | F3: 금 액 | G3: 비고 (납품기한) | H3: 수 량
H4: 오수 관로 | I4: 맨홀 펌프장 | J4: 배수 설비 | K4: 합 계
A5: ◈ 도급자 관급자재대 | F5: =F6 -> 72606000
A6: □. 하일처리분구 | F6: =SUM(F7,F12,F19,F25,F29,F42,F48,F58,F72,F77,F83,F88) -> 72606000 | P6: =725829964-F6-#REF!-#REF!-#REF!-#REF! -> #REF!
A7: 1) 레미콘 | F7: =TRUNC(SUM(F8:F9)+TRUNC(SUM(F8:F9)*K10%,-1),-3) -> 0 | G7: 계약완료 | N7: =SUM(H7:J7) -> 0 | O7: =K7-N7 -> 0
A8: 레미콘 | B8: 25-18-80 | C8: ㎥ | D8: 0 | E8: 105550 | F8: =TRUNC(E8*D8,0) -> 0 | H8: 7 | I8: 1 | J8: 0 | K8: =SUM(H8:J8) -> 8 | N8: =SUM(H8:J8) -> 8 | O8: =K8-N8 -> 0 | P8: ='[79]관급자재(토목,기계)_전체분'!$L$619+'[79]관급자재(토목,기계)_전체분'!$L$620+'[79]관급자재(토목,기계)_전체분'!$L$542+'[79]관급자재(토목,기계)_전체분'!$L$543 -> 197966660 | Q8: ='[79]관급자재(토목,기계)_전체분'!$L$605+'[79]관급자재(토목,기계)_전체분'!$L$606 -> 1715200
A9: 레미콘 | B9: 25-21-80 | C9: ㎥ | D9: 0 | E9: 108990 | F9: =TRUNC(E9*D9,0) -> 0 | H9: 69 | I9: 1 | J9: 79 | K9: =SUM(H9:J9) -> 149 | N9: =SUM(H9:J9) -> 149 | O9: =K9-N9 -> 0 | P9: =TRUNC(P8*0.54%) -> 1069019 | Q9: =TRUNC(Q8*0.54%) -> 9262
A10: 조달수수료 | B10: 자재비의 | C10: % | D10: 0.54 | F10: =F7-F8-F9 -> 0 | K10: 0.54 | L10: =TRUNC(SUM(F8:F9)*K10%,-1) -> 0 | N10: =SUM(H10:J10) -> 0 | O10: =K10-N10 -> 0.54
A12: 1) 아스팔트콘크리트 | F12: =SUM(F13:F17) -> 72606000 | G12: 25년2월9일 | N12: =SUM(H12:J12) -> 0 | O12: =K12-N12 -> 0
A13: 아스콘 | B13: #78 표층용 | C13: M/T | D13: 418 | E13: 110450 | F13: =TRUNC(E13*D13,0) -> 46168100 | H13: 408 | J13: 10 | K13: =SUM(H13:J13) -> 418 | N13: =SUM(H13:J13) -> 418 | O13: =K13-N13 -> 0 | P13: ='[79]관급자재(토목,기계)_전체분'!$L$619+'[79]관급자재(토목,기계)_전체분'!$L$620+'[79]관급자재(토목,기계)_전체분'!$L$542+'[79]관급자재(토목,기계)_전체분'!$L$543 -> 197966660 | Q13: ='[79]관급자재(토목,기계)_전체분'!$L$605+'[79]관급자재(토목,기계)_전체분'!$L$606 -> 1715200
A14: 아스콘(재생용) | B14: #787 표층용 | C14: M/T | D14: 278 | E14: 93700 | F14: =TRUNC(E14*D14,0) -> 26048600 | H14: 272 | J14: 6 | K14: =SUM(H14:J14) -> 278 | N14: =SUM(H14:J14) -> 278 | O14: =K14-N14 -> 0 | P14: =TRUNC(P13*0.54%) -> 1069019 | Q14: =TRUNC(Q13*0.54%) -> 9262
A15: 아스콘 | B15: #467 기층용 | C15: M/T | D15: 0 | E15: 92680 | F15: =TRUNC(E15*D15,0) -> 0 | G15: 계약완료 | H15: 415 | J15: 0 | K15: =SUM(H15:J15) -> 415 | N15: =SUM(H15:J15) -> 415 | O15: =K15-N15 -> 0 | P15: ='[79]관급자재(토목,기계)_전체분'!$L$619+'[79]관급자재(토목,기계)_전체분'!$L$620+'[79]관급자재(토목,기계)_전체분'!$L$542+'[79]관급자재(토목,기계)_전체분'!$L$543 -> 197966660 | Q15: ='[79]관급자재(토목,기계)_전체분'!$L$605+'[79]관급자재(토목,기계)_전체분'!$L$606 -> 1715200
A16: 아스콘(재생용) | B16: #467 기층용 | C16: M/T | D16: 0 | E16: 85650 | F16: =TRUNC(E16*D16,0) -> 0 | G16: 계약완료 | H16: 276 | J16: 0 | K16: =SUM(H16:J16) -> 276 | N16: =SUM(H16:J16) -> 276 | O16: =K16-N16 -> 0 | P16: =TRUNC(P15*0.54%) -> 1069019 | Q16: =TRUNC(Q15*0.54%) -> 9262
A17: 조달수수료 | B17: 자재비의 | C17: % | D17: 0.54 | F17: =TRUNC(SUM(F13:F16)*D17%)-670 -> 389300 | K17: 0.54 | L17: =TRUNC(SUM(F15:F16)*K17%,-1) -> 0 | N17: =SUM(H17:J17) -> 0 | O17: =K17-N17 -> 0.54
A19: 3) 기층재 | F19: =TRUNC(SUM(F20:F22)+TRUNC(SUM(F20:F22)*K23%,-1),-3) -> 0 | G19: 계약완료 | N19: =SUM(H19:J19) -> 0 | O19: =K19-N19 -> 0
A20: 보조기층 | B20: 40mm | C20: ㎥ | D20: 0 | E20: 21500 | F20: =TRUNC(E20*D20,0) -> 0 | H20: 661 | J20: 58 | K20: =SUM(H20:J20) -> 719 | N20: =SUM(H20:J20) -> 719 | O20: =K20-N20 -> 0
A21: 동상방지층 | B21: 75mm | C21: ㎥ | D21: 0 | E21: 21590 | F21: =TRUNC(E21*D21,0) -> 0 | H21: 360 | J21: 0 | K21: =SUM(H21:J21) -> 360 | N21: =SUM(H21:J21) -> 360 | O21: =K21-N21 -> 0
A22: 석분 | B22: 8MM이하 | C22: ㎥ | D22: 0 | E22: 20050 | F22: =TRUNC(E22*D22,0) -> 0 | H22: 644 | J22: 165 | K22: =SUM(H22:J22) -> 809 | N22: =SUM(H22:J22) -> 809 | O22: =K22-N22 -> 0
A23: 조달수수료 | B23: 자재비의 | C23: % | D23: 0.54 | F23: =F19-F20-F21-F22 -> 0 | K23: 0.54 | L23: =TRUNC(SUM(F20:F22)*K23%,-1) -> 0 | N23: =SUM(H23:J23) -> 0 | O23: =K23-N23 -> 0.54
N24: =SUM(H24:J24) -> 0 | O24: =K24-N24 -> 0
A25: 4) 기층재(순환골재) | F25: =SUM(F26:F27) -> 0 | G25: 계약완료 | N25: =SUM(H25:J25) -> 0 | O25: =K25-N25 -> 0
A26: 보조기층(순환골재) | B26: RSB-2 | C26: ㎥ | D26: 0 | E26: 8800 | F26: =TRUNC(E26*D26,0) -> 0 | H26: 441 | J26: 38 | K26: =SUM(H26:J26) -> 479 | N26: =SUM(H26:J26) -> 479 | O26: =K26-N26 -> 0
A27: 동상방지층(순환골재) | B27: RSB-2 | C27: ㎥ | D27: 0 | E27: 8800 | F27: =TRUNC(E27*D27,0) -> 0 | H27: 240 | J27: 0 | K27: =SUM(H27:J27) -> 240 | N27: =SUM(H27:J27) -> 240 | O27: =K27-N27 -> 0
N28: =SUM(H28:J28) -> 0 | O28: =K28-N28 -> 0
A29: 3) PVC관 | F29: =TRUNC(SUM(F30:F39)+TRUNC(SUM(F30:F39)*K40%,-1),-3) -> 0 | G29: 계약완료 | N29: =SUM(H29:J29) -> 0 | O29: =K29-N29 -> 0
A30: PVC 이중벽관 | B30: D200mm | C30: 본 | D30: 0 | E30: 107320 | F30: =TRUNC(E30*D30,0) -> 0 | H30: 0 | K30: =SUM(H30:J30) -> 0 | N30: =SUM(H30:J30) -> 0 | O30: =K30-N30 -> 0
A31: PVC 이중벽관 | B31: D150mm | C31: 본 | D31: 0 | E31: 69700 | F31: =TRUNC(E31*D31,0) -> 0 | H31: 0 | J31: 68 | K31: =SUM(H31:J31) -> 68 | N31: =SUM(H31:J31) -> 68 | O31: =K31-N31 -> 0
A32: PVC 접합부속 | B32: D200mm | C32: EA | D32: 0 | E32: 13180 | F32: =TRUNC(E32*D32,0) -> 0 | H32: 0 | K32: =SUM(H32:J32) -> 0 | N32: =SUM(H32:J32) -> 0 | O32: =K32-N32 -> 0
A33: PVC 접합부속 | B33: D150mm | C33: EA | D33: 0 | E33: 7560 | F33: =TRUNC(E33*D33,0) -> 0 | H33: 0 | J33: 68 | K33: =SUM(H33:J33) -> 68 | N33: =SUM(H33:J33) -> 68 | O33: =K33-N33 -> 0
A34: PVC 접합부속 | B34: D100mm | C34: EA | D34: 0 | E34: 2800 | F34: =TRUNC(E34*D34,0) -> 0 | H34: 0 | K34: =SUM(H34:J34) -> 0 | N34: =SUM(H34:J34) -> 0 | O34: =K34-N34 -> 0
A35: PVC 접합부속(고무링) | B35: D200mm | C35: EA | D35: 0 | E35: 760 | F35: =TRUNC(E35*D35,0) -> 0 | H35: 0 | K35: =SUM(H35:J35) -> 0 | N35: =SUM(H35:J35) -> 0 | O35: =K35-N35 -> 0
A36: PVC 접합부속(고무링) | B36: D150mm | C36: EA | D36: 0 | E36: 450 | F36: =TRUNC(E36*D36,0) -> 0 | H36: 0 | J36: 136 | K36: =SUM(H36:J36) -> 136 | N36: =SUM(H36:J36) -> 136 | O36: =K36-N36 -> 0
A37: PVC 접합부속(고무링) | B37: D100mm | C37: EA | D37: 0 | E37: 220 | F37: =TRUNC(E37*D37,0) -> 0 | H37: 0 | K37: =SUM(H37:J37) -> 0 | N37: =SUM(H37:J37) -> 0 | O37: =K37-N37 -> 0
A38: 내충격PVC관 | B38: D=100×6.0m | C38: 본 | D38: 0 | E38: 36660 | F38: =TRUNC(E38*D38,0) -> 0 | J38: 7 | K38: =SUM(H38:J38) -> 7 | N38: =SUM(H38:J38) -> 7 | O38: =K38-N38 -> 0
A39: 양수소켓 | B39: D100mm | C39: EA | D39: 0 | E39: 12400 | F39: =TRUNC(E39*D39,0) -> 0 | J39: 7 | K39: =SUM(H39:J39) -> 7 | N39: =SUM(H39:J39) -> 7 | O39: =K39-N39 -> 0
A40: 조달수수료 | B40: 자재비의 | C40: % | D40: 0.54 | F40: =F29-F30-F31-F32-F33-F34-F35-F36-F37-F38-F39 -> 0 | K40: 0.54 | L40: =TRUNC(SUM(F30:F35)*K40%,-1) -> 0 | N40: =SUM(H40:J40) -> 0 | O40: =K40-N40 -> 0.54
A42: 4) PE수도관 | F42: =TRUNC(SUM(F43:F45)+TRUNC(SUM(F43:F45)*K46%,-1),-3) -> 0 | G42: 계약완료 | N42: =SUM(H42:J42) -> 0 | O42: =K42-N42 -> 0
A43: PE수도관 | B43: D80×6.0m(Φ90) | C43: 본 | D43: 0 | E43: 61140 | F43: =TRUNC(E43*D43,0) -> 0 | H43: 0 | K43: =SUM(H43:J43) -> 0 | N43: =SUM(H43:J43) -> 0 | O43: =K43-N43 -> 0 | P43: ='[79]관급자재(토목,기계)_전체분'!$L$619+'[79]관급자재(토목,기계)_전체분'!$L$620+'[79]관급자재(토목,기계)_전체분'!$L$542+'[79]관급자재(토목,기계)_전체분'!$L$543 -> 197966660 | Q43: ='[79]관급자재(토목,기계)_전체분'!$L$605+'[79]관급자재(토목,기계)_전체분'!$L$606 -> 1715200
...

Sheet 관급자재(종부처리분구)
A1: 관급자재 구입 내역서
A2: ▣ 공사명: 여만처리분구 외 6개소 하수관로 정비사업(토목+기계) | G2: (단위 : 원)
A3: 품 명 | B3: 규 격 | C3: 단위 | D3: 수량 | E3: 단 가 | F3: 금 액 | G3: 비고 (납품기한) | H3: 수 량
H4: 오수 관로 | I4: 맨홀 펌프장 | J4: 배수 설비 | K4: 합 계
A5: ◈ 도급자 관급자재대 | F5: =F6 -> 57903000
A6: □. 종부처리분구 | F6: =SUM(F7,F12,F19,F25,F29,F42,F48,F58,F73,F78,F84,F89) -> 57903000 | P6: =725829964-F6-#REF!-#REF!-#REF!-#REF! -> #REF!
A7: 1) 레미콘 | F7: =SUM(F8:F10) -> 11396000 | G7: 25년2월9일 | N7: =SUM(H7:J7) -> 0 | O7: =K7-N7 -> 0
A8: 레미콘 | B8: 25-18-80 | C8: ㎥ | D8: 0 | E8: 105550 | F8: =TRUNC(E8*D8,0) -> 0 | H8: 1 | J8: 0 | K8: =SUM(H8:J8) -> 1 | N8: =SUM(H8:J8) -> 1 | O8: =K8-N8 -> 0 | P8: ='[79]관급자재(토목,기계)_전체분'!$L$619+'[79]관급자재(토목,기계)_전체분'!$L$620+'[79]관급자재(토목,기계)_전체분'!$L$542+'[79]관급자재(토목,기계)_전체분'!$L$543 -> 197966660 | Q8: ='[79]관급자재(토목,기계)_전체분'!$L$605+'[79]관급자재(토목,기계)_전체분'!$L$606 -> 1715200
A9: 레미콘 | B9: 25-21-80 | C9: ㎥ | D9: 104 | E9: 108990 | F9: =TRUNC(E9*D9,0) -> 11334960 | H9: 33 | J9: 71 | K9: =SUM(H9:J9) -> 104 | N9: =SUM(H9:J9) -> 104 | O9: =K9-N9 -> 0 | P9: =TRUNC(P8*0.54%) -> 1069019 | Q9: =TRUNC(Q8*0.54%) -> 9262
A10: 조달수수료 | B10: 자재비의 | C10: % | D10: 0.54 | F10: =TRUNC(SUM(F8:F9)*D10%)-168 -> 61040 | K10: 0.54 | L10: =TRUNC(SUM(F8:F9)*K10%,-1) -> 61200 | N10: =SUM(H10:J10) -> 0 | O10: =K10-N10 -> 0.54
A12: 2) 아스팔트콘크리트 | F12: =SUM(F13:F17) -> 24196000 | G12: 25년2월9일 | N12: =SUM(H12:J12) -> 0 | O12: =K12-N12 -> 0
A13: 아스콘 | B13: #78 표층용 | C13: M/T | D13: 139 | E13: 110450 | F13: =TRUNC(E13*D13,0) -> 15352550 | H13: 51 | J13: 88 | K13: =SUM(H13:J13) -> 139 | N13: =SUM(H13:J13) -> 139 | O13: =K13-N13 -> 0 | P13: ='[79]관급자재(토목,기계)_전체분'!$L$619+'[79]관급자재(토목,기계)_전체분'!$L$620+'[79]관급자재(토목,기계)_전체분'!$L$542+'[79]관급자재(토목,기계)_전체분'!$L$543 -> 197966660 | Q13: ='[79]관급자재(토목,기계)_전체분'!$L$605+'[79]관급자재(토목,기계)_전체분'!$L$606 -> 1715200
A14: 아스콘(재생용) | B14: #787 표층용 | C14: M/T | D14: 93 | E14: 93700 | F14: =TRUNC(E14*D14,0) -> 8714100 | H14: 34 | J14: 59 | K14: =SUM(H14:J14) -> 93 | N14: =SUM(H14:J14) -> 93 | O14: =K14-N14 -> 0 | P14: =TRUNC(P13*0.54%) -> 1069019 | Q14: =TRUNC(Q13*0.54%) -> 9262
A15: 아스콘 | B15: #467 기층용 | C15: M/T | D15: 0 | E15: 92680 | F15: =TRUNC(E15*D15,0) -> 0 | H15: 0 | K15: =SUM(H15:J15) -> 0 | N15: =SUM(H15:J15) -> 0 | O15: =K15-N15 -> 0 | P15: ='[79]관급자재(토목,기계)_전체분'!$L$619+'[79]관급자재(토목,기계)_전체분'!$L$620+'[79]관급자재(토목,기계)_전체분'!$L$542+'[79]관급자재(토목,기계)_전체분'!$L$543 -> 197966660 | Q15: ='[79]관급자재(토목,기계)_전체분'!$L$605+'[79]관급자재(토목,기계)_전체분'!$L$606 -> 1715200
A16: 아스콘(재생용) | B16: #467 기층용 | C16: M/T | D16: 0 | E16: 82700 | F16: =TRUNC(E16*D16,0) -> 0 | H16: 0 | K16: =SUM(H16:J16) -> 0 | N16: =SUM(H16:J16) -> 0 | O16: =K16-N16 -> 0 | P16: =TRUNC(P15*0.54%) -> 1069019 | Q16: =TRUNC(Q15*0.54%) -> 9262
A17: 조달수수료 | B17: 자재비의 | C17: % | D17: 0.54 | F17: =TRUNC(SUM(F13:F15)*D17%)-609 -> 129350 | K17: 0.54 | L17: =TRUNC(SUM(F15:F16)*K17%,-1) -> 0 | N17: =SUM(H17:J17) -> 0 | O17: =K17-N17 -> 0.54
A19: 3) 기층재 | F19: =SUM(F20:F23) -> 4228000 | G19: 25년2월9일 | N19: =SUM(H19:J19) -> 0 | O19: =K19-N19 -> 0
A20: 보조기층 | B20: 40mm | C20: ㎥ | D20: 103 | E20: 20680 | F20: =TRUNC(E20*D20,0) -> 2130040 | H20: 52 | J20: 51 | K20: =SUM(H20:J20) -> 103 | N20: =SUM(H20:J20) -> 103 | O20: =K20-N20 -> 0
A21: 동상방지층 | B21: 75mm | C21: ㎥ | D21: 0 | E21: 21590 | F21: =TRUNC(E21*D21,0) -> 0 | H21: 0 | J21: 0 | K21: =SUM(H21:J21) -> 0 | N21: =SUM(H21:J21) -> 0 | O21: =K21-N21 -> 0
A22: 석분 | B22: 8MM이하 | C22: ㎥ | D22: 89 | E22: 23320 | F22: =TRUNC(E22*D22,0) -> 2075480 | H22: 65 | J22: 24 | K22: =SUM(H22:J22) -> 89 | N22: =SUM(H22:J22) -> 89 | O22: =K22-N22 -> 0
A23: 조달수수료 | B23: 자재비의 | C23: % | D23: 0.54 | F23: =TRUNC(SUM(F20:F22)*D23%)-229 -> 22480 | K23: 0.54 | L23: =TRUNC(SUM(F20:F22)*K23%,-1) -> 22700 | N23: =SUM(H23:J23) -> 0 | O23: =K23-N23 -> 0.54
N24: =SUM(H24:J24) -> 0 | O24: =K24-N24 -> 0
A25: 4) 기층재(순환골재) | F25: =SUM(F26:F27) -> 598000 | G25: 25년2월9일 | N25: =SUM(H25:J25) -> 0 | O25: =K25-N25 -> 0
A26: 보조기층(순환골재) | B26: RSB-2 | C26: ㎥ | D26: 68 | E26: 8800 | F26: =TRUNC(E26*D26,0)-400 -> 598000 | H26: 34 | J26: 34 | K26: =SUM(H26:J26) -> 68 | N26: =SUM(H26:J26) -> 68 | O26: =K26-N26 -> 0
A27: 동상방지층(순환골재) | B27: RSB-2 | C27: ㎥ | D27: 0 | E27: 8800 | F27: =TRUNC(E27*D27,0) -> 0 | H27: 0 | J27: 0 | K27: =SUM(H27:J27) -> 0 | N27: =SUM(H27:J27) -> 0 | O27: =K27-N27 -> 0
N28: =SUM(H28:J28) -> 0 | O28: =K28-N28 -> 0
A29: 5) PVC관 | F29: =SUM(F31:F40) -> 4097000 | G29: 25년2월9일 | N29: =SUM(H29:J29) -> 0 | O29: =K29-N29 -> 0
A30: PVC 이중벽관 | B30: D200mm | C30: 본 | D30: 0 | E30: 107320 | F30: =TRUNC(E30*D30,0) -> 0 | H30: 0 | K30: =SUM(H30:J30) -> 0 | N30: =SUM(H30:J30) -> 0 | O30: =K30-N30 -> 0
A31: PVC 이중벽관 | B31: D150mm | C31: 본 | D31: 49 | E31: 69700 | F31: =TRUNC(E31*D31,0) -> 3415300 | H31: 0 | J31: 49 | K31: =SUM(H31:J31) -> 49 | N31: =SUM(H31:J31) -> 49 | O31: =K31-N31 -> 0
A32: PVC 접합부속 | B32: D200mm | C32: EA | D32: 0 | E32: 13180 | F32: =TRUNC(E32*D32,0) -> 0 | H32: 0 | K32: =SUM(H32:J32) -> 0 | N32: =SUM(H32:J32) -> 0 | O32: =K32-N32 -> 0
A33: PVC 접합부속 | B33: D150mm | C33: EA | D33: 49 | E33: 7560 | F33: =TRUNC(E33*D33,0) -> 370440 | H33: 0 | J33: 49 | K33: =SUM(H33:J33) -> 49 | N33: =SUM(H33:J33) -> 49 | O33: =K33-N33 -> 0
A34: PVC 접합부속 | B34: D100mm | C34: EA | D34: 0 | E34: 2800 | F34: =TRUNC(E34*D34,0) -> 0 | H34: 0 | K34: =SUM(H34:J34) -> 0 | N34: =SUM(H34:J34) -> 0 | O34: =K34-N34 -> 0
A35: PVC 접합부속(고무링) | B35: D200mm | C35: EA | D35: 0 | E35: 760 | F35: =TRUNC(E35*D35,0) -> 0 | H35: 0 | K35: =SUM(H35:J35) -> 0 | N35: =SUM(H35:J35) -> 0 | O35: =K35-N35 -> 0
A36: PVC 접합부속(고무링) | B36: D150mm | C36: EA | D36: 98 | E36: 450 | F36: =TRUNC(E36*D36,0) -> 44100 | H36: 0 | J36: 98 | K36: =SUM(H36:J36) -> 98 | N36: =SUM(H36:J36) -> 98 | O36: =K36-N36 -> 0
A37: PVC 접합부속(고무링) | B37: D100mm | C37: EA | D37: 0 | E37: 220 | F37: =TRUNC(E37*D37,0) -> 0 | H37: 0 | K37: =SUM(H37:J37) -> 0 | N37: =SUM(H37:J37) -> 0 | O37: =K37-N37 -> 0
A38: 내충격PVC관 | B38: D=100×6.0m | C38: 본 | D38: 5 | E38: 36660 | F38: =TRUNC(E38*D38,0) -> 183300 | J38: 5 | K38: =SUM(H38:J38) -> 5 | N38: =SUM(H38:J38) -> 5 | O38: =K38-N38 -> 0
A39: 양수소켓 | B39: D100mm | C39: EA | D39: 5 | E39: 12400 | F39: =TRUNC(E39*D39,0) -> 62000 | J39: 5 | K39: =SUM(H39:J39) -> 5 | N39: =SUM(H39:J39) -> 5 | O39: =K39-N39 -> 0
A40: 조달수수료 | B40: 자재비의 | C40: % | D40: 0.54 | F40: =TRUNC(SUM(F31:F39)*D40%)-145 -> 21860 | K40: 0.54 | L40: =TRUNC(SUM(F30:F35)*K40%,-1) -> 20440 | N40: =SUM(H40:J40) -> 0 | O40: =K40-N40 -> 0.54
A42: 6) PE수도관 | F42: =SUM(F43:F46) -> 3268000 | G42: 25년2월9일 | N42: =SUM(H42:J42) -> 0 | O42: =K42-N42 -> 0
A43: PE수도관 | B43: D80×6.0m(Φ90) | C43: 본 | E43: 61140 | F43: =TRUNC(E43*D43,0) -> 0 | H43: 16 | K43: =SUM(H43:J43) -> 16 | N43: =SUM(H43:J43) -> 16 | O43: =K43-N43 -> 0 | P43: ='[79]관급자재(토목,기계)_전체분'!$L$619+'[79]관급자재(토목,기계)_전체분'!$L$620+'[79]관급자재(토목,기계)_전체분'!$L$542+'[79]관급자재(토목,기계)_전체분'!$L$543 -> 197966660 | Q43: ='[79]관급자재(토목,기계)_전체분'!$L$605+'[79]관급자재(토목,기계)_전체분'!$L$606 -> 1715200
...

Sheet 관급자재(기계공사)
A1: 관급자재 구입 내역서
A2: ▣ 공사명: 여만처리분구 외 6개소 하수관로 정비사업(토목+기계) | G2: (단위 : 원)
A3: 품 명 | B3: 규 격 | C3: 단위 | D3: 수량 | E3: 단 가 | F3: 금 액 | G3: 비고 (납품기한) | H3: 수 량
H4: 오수 관로 | I4: 맨홀 펌프장 | J4: 배수 설비 | K4: 합 계
A5: ◈ 도급자 관급자재대 | F5: =F6 -> 0
A6: □. 기계공사 | F6: =SUM(F7:F32) -> 0 | P6: =725829964-F6-#REF!-#REF!-#REF!-#REF! -> #REF!
A7: M-SL-001 맨홀펌프 상리1(자동탈착식 포함) | B7: 수중 스프르트펌프, 0.2㎥/min x 8mH x 0.75kW | C7: 대 | E7: =3630000*1.1 -> 3993000 | F7: =TRUNC(E7*D7,0) -> 0 | K7: =SUM(H7:J7) -> 0 | N7: =SUM(H7:J7) -> 0 | O7: =K7-N7 -> 0
