Workbook
Name _: [1]산출근거!#REF!
Name _: [1]산출근거!#REF!
Name _: [1]산출근거!#REF!
Name __GHH1: #REF!
Name __GHH1: #REF!
Name __GHH1: #REF!
Name __GHH2: #REF!
Name __GHH2: #REF!
Name __GHH2: #REF!
Name __JEA1: #REF!
Name __JEA1: #REF!
Name __JEA1: #REF!
Name __JEA2: #REF!
Name __JEA2: #REF!
Name __JEA2: #REF!
Name __kM1: #REF!
Name __kM1: #REF!
Name __kM1: #REF!
Name __kM2: #REF!
Name __kM2: #REF!
Name __kM2: #REF!
Name __kM3: #REF!
Name __kM3: #REF!
Name __kM3: #REF!
Name __PI1: #REF!
Name __PI1: #REF!
Name __PI1: #REF!
Name __PRN2: #REF!
Name __PRN2: #REF!
Name __PRN2: #REF!
Name __PRN3: #REF!
Name __PRN3: #REF!
Name __PRN3: #REF!
Name __PRN4: #REF!
Name __PRN4: #REF!
Name __PRN4: #REF!
Name __PRN6: #REF!
Name __PRN6: #REF!
Name __PRN6: #REF!
Name __PRN7: #REF!
Name __PRN7: #REF!
Name __PRN7: #REF!
Name __STS316: #REF!
Name __STS316: #REF!
Name __STS316: #REF!
Name __Ty1: #REF!
Name __Ty1: #REF!
Name __Ty1: #REF!
Name __Ty2: #REF!
Name __Ty2: #REF!
Name __Ty2: #REF!
Name _\D: #REF!
Name _\D: #REF!
Name _\D: #REF!
Name _\X: #REF!
Name _\X: #REF!
Name _\X: #REF!
Name _\Z: [2]결과조달!$GU$5658:$IV$7860
Name _10G__Extr: #REF!
Name _10G__Extr: #REF!

Sheet 관급자재
A1: 관급자재 구입 내역서
A2: ▣ 공사명: 청옥산 은하수 산악관광 허브 구축사업(건축) 관급자재(레미콘) 구입 | H2: (단위 : 원)
A3: 품 명 | B3: 규 격 | C3: 단위 | D3: 수량 | E3: 구입수량 | F3: 단 가 | G3: 금 액 | H3: 비고
A5: 1) 레미콘 | J5: =SUM(J6:J6) -> 6898800 | K5: =G5-J5 -> -6898800
A6: 레미콘 | B6: 20-30-180 | C6: ㎥ | D6: ='관급자재(여만처리분구)'!D26+'관급자재(상리처리분구)'!D26+'관급자재(후평처리분구)'!D26+'관급자재(주진처리분구)'!D26+'관급자재(종부처리분구)'!D26++'관급자재(임하처리분구)'!D38 -> 2541 | E6: 2000 | J6: ='관급자재(여만처리분구)'!F26+'관급자재(상리처리분구)'!F26+'관급자재(후평처리분구)'!F26+'관급자재(주진처리분구)'!F26+'관급자재(종부처리분구)'!F26 -> 6898800 | K6: =G6-J6 -> -6898800

Sheet 집계표
B1: 관급자재 집계표
B3: 현장명 : 여만처리분구외 6개소 하수관로 정비사업(토목+기계) | F3: 단위:원,VAT포함
B4: 구 분 | C4: 규격 | D4: 단위 | E4: 금액 | F4: 비고
B5: 관급자재대(A+B) | E5: =E6+E16 -> 2869402000
B6: A.관로공사 | E6: =SUM(E7:E14) -> 2869402000 | F6: 25년2월9일
B7: 1.여만처리분구 | D7: 식 | E7: ='관급자재(여만처리분구)'!F5 -> 59445000 | F7: 25년2월9일
B8: 2.상리처리분구 | D8: 식 | E8: ='관급자재(상리처리분구)'!F5 -> 256060000 | F8: 25년2월9일
B9: 3.후평처리분구 | D9: 식 | E9: ='관급자재(후평처리분구)'!F5 -> 606067000 | F9: 25년2월9일
B10: 4.주진처리분구 | D10: 식 | E10: ='관급자재(주진처리분구)'!F5 -> 158973000 | F10: 25년2월9일
B11: 5.용항처리분구 | D11: 식 | E11: ='관급자재(용항처리분구)'!F5 -> 184798000 | F11: 25년2월9일
B12: 6.임하처리분구 | D12: 식 | E12: ='관급자재(임하처리분구)'!F5 -> 1473550000 | F12: 25년2월9일
B13: 7.하일처리분구 | D13: 식 | E13: ='관급자재(하일처리분구)'!F5 -> 72606000 | F13: 25년2월9일
B14: 8.종부처리분구 | D14: 식 | E14: ='관급자재(종부처리분구)'!F5 -> 57903000 | F14: 25년2월9일
B16: B.기계공사 | E16: =E17 -> 0
B17: 1.기계공사 | D17: 식 | E17: ='관급자재(기계공사)'!F5 -> 0
I32: PVC이중벽관 관경 변경사항
I33: 구분 | J33: 당초 | K33: 변경 | L33: 비고
I34: 용항처리분구 | J34: D150mm | K34: D200mm
J35: YH-Y01, L=394.3m | K35: YH-Y01, L=394.3m
J36: YH-Y02, L=531.0m | K36: YH-Y02, L=531.0m
J37: L=925.3m | K37: L=925.3m
I38: 상리처리분구 | J38: D150 | K38: D200
J39: SL-Y01, L=695.8m | K39: SL-Y01, L=695.8m
I40: 합계 | J40: 1621.1m | K40: 1621.1m
I41: ∴ PVC이중벽관 : 1621.1m ÷ 6m = 271본
I42: PVC이중벽관 접합부속(소켓) : 271EA
I43: PVC이중벽관 접합부속(고무링) : 542EA
I44: 용항처리분구 D150mm를 상리처리분구 배수설비로 전용하고
I45: 용항처리분구에 기사용된 D200mm는 상리처리분구 배수설비
I46: 수량(D150mm)을 D200mm로 청구함.

Sheet 관급자재(여만처리분구)
A1: 관급자재 구입 내역서
A2: ▣ 공사명: 여만처리분구 외 6개소 하수관로 정비사업(토목+기계) | G2: (단위 : 원)
A3: 품 명 | B3: 규 격 | C3: 단위 | D3: 수량 | E3: 단 가 | F3: 금 액 | G3: 비고 (납품기한) | H3: 수 량
H4: 오수 관로 | I4: 맨홀 펌프장 | J4: 배수 설비 | K4: 합 계
A5: ◈ 도급자 관급자재대 | F5: =F6 -> 59445000
A6: □. 여만처리분구 | F6: =SUM(F7,F12,F19,F25,F29,F40,F45,F55,F67,F72,F78,F83) -> 59445000 | P6: =725829964-F6-#REF!-#REF!-#REF!-#REF! -> #REF!
A7: 1) 레미콘 | F7: =SUM(F8:F10) -> 0 | N7: =SUM(H7:J7) -> 0 | O7: =K7-N7 -> 0
A8: 레미콘 | B8: 25-18-80 | C8: ㎥ | D8: 0 | E8: 105550 | F8: =TRUNC(E8*D8,0) -> 0 | H8: 16 | I8: 1 | J8: 0 | K8: =SUM(H8:J8) -> 17 | N8: =SUM(H8:J8) -> 17 | O8: =K8-N8 -> 0 | P8: ='[79]관급자재(토목,기계)_전체분'!$L$619+'[79]관급자재(토목,기계)_전체분'!$L$620+'[79]관급자재(토목,기계)_전체분'!$L$542+'[79]관급자재(토목,기계)_전체분'!$L$543 -> 197966660 | Q8: ='[79]관급자재(토목,기계)_전체분'!$L$605+'[79]관급자재(토목,기계)_전체분'!$L$606 -> 1715200
A9: 레미콘 | B9: 25-21-80 | C9: ㎥ | D9: 0 | E9: 108990 | F9: =TRUNC(E9*D9,0) -> 0 | H9: 574 | I9: 4 | J9: 318 | K9: =SUM(H9:J9) -> 896 | N9: =SUM(H9:J9) -> 896 | O9: =K9-N9 -> 0 | P9: =TRUNC(P8*0.54%) -> 1069019 | Q9: =TRUNC(Q8*0.54%) -> 9262
A10: 조달수수료 | B10: 자재비의 | C10: % | D10: 0.54 | F10: =TRUNC(SUM(F8:F9)*D10%) -> 0 | K10: 0.54 | L10: =TRUNC(SUM(F8:F9)*K10%,-1) -> 0 | N10: =SUM(H10:J10) -> 0 | O10: =K10-N10 -> 0.54
A12: 2) 아스팔트콘크리트 | F12: =SUM(F13:F17) -> 0 | N12: =SUM(H12:J12) -> 0 | O12: =K12-N12 -> 0
A13: 아스콘 | B13: #78 표층용 | C13: M/T | D13: 0 | E13: 110450 | F13: =TRUNC(E13*D13,0) -> 0 | H13: 1053 | J13: 765 | K13: =SUM(H13:J13) -> 1818 | N13: =SUM(H13:J13) -> 1818 | O13: =K13-N13 -> 0 | P13: ='[79]관급자재(토목,기계)_전체분'!$L$619+'[79]관급자재(토목,기계)_전체분'!$L$620+'[79]관급자재(토목,기계)_전체분'!$L$542+'[79]관급자재(토목,기계)_전체분'!$L$543 -> 197966660 | Q13: ='[79]관급자재(토목,기계)_전체분'!$L$605+'[79]관급자재(토목,기계)_전체분'!$L$606 -> 1715200
A14: 아스콘(재생용) | B14: #787 표층용 | C14: M/T | D14: 0 | E14: 93700 | F14: =TRUNC(E14*D14,0) -> 0 | H14: 714 | J14: 510 | K14: =SUM(H14:J14) -> 1224 | N14: =SUM(H14:J14) -> 1224 | O14: =K14-N14 -> 0 | P14: =TRUNC(P13*0.54%) -> 1069019 | Q14: =TRUNC(Q13*0.54%) -> 9262
A15: 아스콘 | B15: #467 기층용 | C15: M/T | D15: 0 | E15: 91960 | F15: =TRUNC(E15*D15,0) -> 0 | H15: 1576 | J15: 247 | K15: =SUM(H15:J15) -> 1823 | N15: =SUM(H15:J15) -> 1823 | O15: =K15-N15 -> 0 | P15: ='[79]관급자재(토목,기계)_전체분'!$L$619+'[79]관급자재(토목,기계)_전체분'!$L$620+'[79]관급자재(토목,기계)_전체분'!$L$542+'[79]관급자재(토목,기계)_전체분'!$L$543 -> 197966660 | Q15: ='[79]관급자재(토목,기계)_전체분'!$L$605+'[79]관급자재(토목,기계)_전체분'!$L$606 -> 1715200
A16: 아스콘(재생용) | B16: #467 기층용 | C16: M/T | D16: 0 | E16: 79850 | F16: =TRUNC(E16*D16,0) -> 0 | H16: 1050 | J16: 165 | K16: =SUM(H16:J16) -> 1215 | N16: =SUM(H16:J16) -> 1215 | O16: =K16-N16 -> 0 | P16: =TRUNC(P15*0.54%) -> 1069019 | Q16: =TRUNC(Q15*0.54%) -> 9262
A17: 조달수수료 | B17: 자재비의 | C17: % | D17: 0.54 | F17: =TRUNC(SUM(F13:F16)*D17%) -> 0 | K17: 0.54 | L17: =TRUNC(SUM(F15:F16)*K17%,-1) -> 0 | N17: =SUM(H17:J17) -> 0 | O17: =K17-N17 -> 0.54
A19: 3) 기층재 | F19: =SUM(F20:F23) -> 0 | N19: =SUM(H19:J19) -> 0 | O19: =K19-N19 -> 0
A20: 보조기층 | B20: 40mm | C20: ㎥ | D20: 0 | E20: 20680 | F20: =TRUNC(E20*D20,0) -> 0 | H20: 1760 | J20: 611 | K20: =SUM(H20:J20) -> 2371 | N20: =SUM(H20:J20) -> 2371 | O20: =K20-N20 -> 0
A21: 동상방지층 | B21: 75mm | C21: ㎥ | D21: 0 | E21: 22000 | F21: =TRUNC(E21*D21,0) -> 0 | H21: 32 | J21: 398 | K21: =SUM(H21:J21) -> 430 | N21: =SUM(H21:J21) -> 430 | O21: =K21-N21 -> 0
A22: 석분 | B22: 8MM이하 | C22: ㎥ | D22: 0 | E22: 23320 | F22: =TRUNC(E22*D22,0) -> 0 | H22: 3097 | J22: 626 | K22: =SUM(H22:J22) -> 3723 | N22: =SUM(H22:J22) -> 3723 | O22: =K22-N22 -> 0
A23: 조달수수료 | B23: 자재비의 | C23: % | D23: 0.54 | F23: =TRUNC(SUM(F20:F22)*D23%) -> 0 | K23: 0.54 | L23: =TRUNC(SUM(F20:F22)*K23%,-1) -> 0 | N23: =SUM(H23:J23) -> 0 | O23: =K23-N23 -> 0.54
N24: =SUM(H24:J24) -> 0 | O24: =K24-N24 -> 0
A25: 4) 기층재(순환골재) | F25: =SUM(F26:F27) -> 0 | N25: =SUM(H25:J25) -> 0 | O25: =K25-N25 -> 0
A26: 보조기층(순환골재) | B26: RSB-2 | C26: ㎥ | D26: 0 | E26: 8800 | H26: 1173 | J26: 407 | K26: =SUM(H26:J26) -> 1580 | N26: =SUM(H26:J26) -> 1580 | O26: =K26-N26 -> 0
A27: 동상방지층(순환골재) | B27: RSB-2 | C27: ㎥ | D27: 0 | E27: 8800 | F27: =TRUNC(E27*D27,0) -> 0 | H27: 488 | J27: 265 | K27: =SUM(H27:J27) -> 753 | N27: =SUM(H27:J27) -> 753 | O27: =K27-N27 -> 0
N28: =SUM(H28:J28) -> 0 | O28: =K28-N28 -> 0
A29: 5) PVC관 | F29: =SUM(F30:F38) -> 5746000 | G29: 25년2월9일 | N29: =SUM(H29:J29) -> 0 | O29: =K29-N29 -> 0
A30: PVC 이중벽관 | B30: D200mm | C30: 본 | E30: 107320 | F30: =TRUNC(E30*D30,0) -> 0 | H30: 597 | K30: =SUM(H30:J30) -> 597 | N30: =SUM(H30:J30) -> 597 | O30: =K30-N30 -> 0
A31: PVC 이중벽관 | B31: D150mm | C31: 본 | D31: 82 | E31: 69700 | F31: =TRUNC(E31*D31,0) -> 5715400 | H31: 2 | J31: 480 | K31: =SUM(H31:J31) -> 482 | N31: =SUM(H31:J31) -> 482 | O31: =K31-N31 -> 0
A32: PVC 접합부속 | B32: D200mm | C32: EA | E32: 13180 | F32: =TRUNC(E32*D32,0) -> 0 | H32: 709 | K32: =SUM(H32:J32) -> 709 | N32: =SUM(H32:J32) -> 709 | O32: =K32-N32 -> 0
A33: PVC 접합부속 | B33: D150mm | C33: EA | E33: 7560 | F33: =TRUNC(E33*D33,0) -> 0 | H33: 14 | J33: 480 | K33: =SUM(H33:J33) -> 494 | N33: =SUM(H33:J33) -> 494 | O33: =K33-N33 -> 0
A34: PVC 접합부속(고무링) | B34: D200mm | C34: EA | E34: 760 | F34: =TRUNC(E34*D34,0) -> 0 | H34: 1418 | K34: =SUM(H34:J34) -> 1418 | N34: =SUM(H34:J34) -> 1418 | O34: =K34-N34 -> 0
A35: PVC 접합부속(고무링) | B35: D150mm | C35: EA | E35: 450 | F35: =TRUNC(E35*D35,0) -> 0 | H35: 28 | J35: 960 | K35: =SUM(H35:J35) -> 988 | N35: =SUM(H35:J35) -> 988 | O35: =K35-N35 -> 0
A36: 내충격PVC관 | B36: D=100×6.0m | C36: 본 | E36: 36660 | F36: =TRUNC(E36*D36,0) -> 0 | J36: 269 | K36: =SUM(H36:J36) -> 269 | N36: =SUM(H36:J36) -> 269 | O36: =K36-N36 -> 0
A37: 양수소켓 | B37: D100mm | C37: EA | E37: 12400 | F37: =TRUNC(E37*D37,0) -> 0 | J37: 269 | K37: =SUM(H37:J37) -> 269 | N37: =SUM(H37:J37) -> 269 | O37: =K37-N37 -> 0
A38: 조달수수료 | B38: 자재비의 | C38: % | D38: 0.54 | F38: =TRUNC(SUM(F30:F37)*D38%)-263 -> 30600 | K38: 0.54 | L38: =TRUNC(SUM(F30:F34)*K38%,-1) -> 30860 | N38: =SUM(H38:J38) -> 0 | O38: =K38-N38 -> 0.54
A40: 6) PE수도관 | F40: =SUM(F41:F43) -> 0 | N40: =SUM(H40:J40) -> 0 | O40: =K40-N40 -> 0
A41: PE수도관 | B41: D100×6.0m(Φ110) | C41: 본 | D41: 0 | E41: 90300 | F41: =TRUNC(E41*D41,0) -> 0 | H41: 281 | K41: =SUM(H41:J41) -> 281 | N41: =SUM(H41:J41) -> 281 | O41: =K41-N41 -> 0 | P41: ='[79]관급자재(토목,기계)_전체분'!$L$619+'[79]관급자재(토목,기계)_전체분'!$L$620+'[79]관급자재(토목,기계)_전체분'!$L$542+'[79]관급자재(토목,기계)_전체분'!$L$543 -> 197966660 | Q41: ='[79]관급자재(토목,기계)_전체분'!$L$605+'[79]관급자재(토목,기계)_전체분'!$L$606 -> 1715200
A42: PE수도관 | B42: D150×6.0m(Φ160) | C42: 본 | D42: 0 | E42: 191220 | F42: =TRUNC(E42*D42,0) -> 0 | H42: 135 | K42: =SUM(H42:J42) -> 135 | N42: =SUM(H42:J42) -> 135 | O42: =K42-N42 -> 0 | P42: =TRUNC(P41*0.54%) -> 1069019 | Q42: =TRUNC(Q41*0.54%) -> 9262
A43: 조달수수료 | B43: 자재비의 | C43: % | D43: 0.54 | F43: =TRUNC(SUM(F41:F42)*D43%) -> 0 | K43: 0.54 | L43: =TRUNC(SUM(F41:F42)*K43%,-1) -> 0 | N43: =SUM(H43:J43) -> 0 | O43: =K43-N43 -> 0.54
A45: 7) 이중보온관 | F45: =SUM(F46:F53) -> 0 | N45: =SUM(H45:J45) -> 0 | O45: =K45-N45 -> 0
A46: 단열이중보온관(노출용) | B46: 강관, D150 | C46: M | D46: 0 | E46: 269500 | F46: =TRUNC(E46*D46,0) -> 0 | H46: 21 | K46: =SUM(H46:J46) -> 21 | N46: =SUM(H46:J46) -> 21 | O46: =K46-N46 -> 0
A47: 단열이중보온관(노출용) | B47: 강관, D150 엘보 | C47: EA | E47: 1051000 | F47: =TRUNC(E47*K47,0) -> 0 | H47: 0 | K47: =SUM(H47:J47) -> 0 | N47: =SUM(H47:J47) -> 0 | O47: =K47-N47 -> 0
A48: 단열이중보온관(노출용) | B48: 강관, D100 | C48: M | D48: 0 | E48: 200800 | F48: =TRUNC(E48*D48,0) -> 0 | H48: 137 | K48: =SUM(H48:J48) -> 137
A49: 단열이중보온관(노출용) | B49: 강관, D100 엘보 | C49: EA | D49: 0 | E49: 783100 | F49: =TRUNC(E49*D49,0) -> 0 | H49: 4 | K49: =SUM(H49:J49) -> 4
A50: 내관연결전자소켓 | B50: D150 | C50: EA | D50: 0 | E50: 189640 | F50: =TRUNC(E50*D50,0) -> 0 | H50: 4 | K50: =SUM(H50:J50) -> 4
A51: 내관연결전자소켓 | B51: D100 | C51: EA | D51: 0 | E51: 51260 | F51: =TRUNC(E51*D51,0) -> 0 | H51: 27 | K51: =SUM(H51:J51) -> 27
A52: 연결보온재 | B52: D150 | C52: EA | D52: 0 | E52: 94080 | F52: =TRUNC(E52*D52,0) -> 0 | H52: 4 | K52: =SUM(H52:J52) -> 4
A53: 연결보온재 | B53: D100 | C53: EA | D53: 0 | E53: 89180 | F53: =TRUNC(E53*D53,0) -> 0 | H53: 27 | K53: =SUM(H53:J53) -> 27
A55: 8) GRP맨홀 | F55: =SUM(F56:F65) -> 53699000 | G55: 25년2월9일 | N55: =SUM(H55:J55) -> 0 | O55: =K55-N55 -> 0
A56: GRP맨홀 | B56: D900×1350mm | C56: EA | D56: 39 | E56: 897000 | F56: =TRUNC(E56*D56,0) -> 34983000 | H56: 92 | J56: 23 | K56: =SUM(H56:J56) -> 115 | N56: =SUM(H56:J56) -> 115 | O56: =K56-N56 -> 0 | P56: ='[79]관급자재(토목,기계)_전체분'!$L$619+'[79]관급자재(토목,기계)_전체분'!$L$620+'[79]관급자재(토목,기계)_전체분'!$L$542+'[79]관급자재(토목,기계)_전체분'!$L$543 -> 197966660 | Q56: ='[79]관급자재(토목,기계)_전체분'!$L$605+'[79]관급자재(토목,기계)_전체분'!$L$606 -> 1715200
A57: GRP연결지관 | B57: D150mm | C57: EA | D57: 14 | E57: 52800 | F57: =TRUNC(E57*D57,0) -> 739200 | J57: 51 | K57: =SUM(H57:J57) -> 51
A58: GRP연결지관 | B58: D200mm | C58: EA | D58: 74 | E58: 57700 | F58: =TRUNC(E58*D58,0) -> 4269800 | H58: 105 | K58: =SUM(H58:J58) -> 105
A59: GRP맨홀, 높이조절단관 | B59: D900×10mm | C59: EA | D59: 1949 | E59: 3110 | F59: =TRUNC(E59*D59,0) -> 6061390 | H59: 6077 | K59: =SUM(H59:J59) -> 6077
A60: GRP맨홀 | B60: D1200×2100mm | C60: EA | D60: 2 | E60: 1479200 | F60: =TRUNC(E60*D60,0) -> 2958400 | H60: 7 | K60: =SUM(H60:J60) -> 7
A61: GRP맨홀, 높이조절단관 | B61: D1200×10mm | C61: EA | D61: 942 | E61: 4670 | F61: =TRUNC(E61*D61,0) -> 4399140 | H61: 1867 | K61: =SUM(H61:J61) -> 1867
A62: GRP맨홀펌프장 | B62: D1800×4800mm | C62: EA | E62: 13240000 | F62: =TRUNC(E62*D62,0) -> 0 | H62: 1 | K62: =SUM(H62:J62) -> 1
A63: GRP맨홀펌프장 | B63: D1800×6840mm | C63: EA | E63: 16060000 | F63: =TRUNC(E63*D63,0) -> 0 | H63: 1 | K63: =SUM(H63:J63) -> 1
A64: GRP맨홀펌프장 | B64: D1800×4460mm | C64: EA | E64: 12760000 | F64: =TRUNC(E64*D64,0) -> 0 | H64: 1 | K64: =SUM(H64:J64) -> 1 | N64: =SUM(H64:J64) -> 1 | O64: =K64-N64 -> 0 | P64: =TRUNC(P56*0.54%) -> 1069019 | Q64: =TRUNC(Q56*0.54%) -> 9262
A65: 조달수수료 | B65: 자재비의 | C65: % | D65: 0.54 | F65: =TRUNC(SUM(F56:F64)*D65%)-349 -> 288070 | K65: 0.54 | L65: =TRUNC(SUM(F56:F64)*K65%,-1) -> 288410 | N65: =SUM(H65:J65) -> 0 | O65: =K65-N65 -> 0.54
A67: 9) 맨홀류 | F67: =SUM(F68:F70) -> 0 | N67: =SUM(H67:J67) -> 0 | O67: =K67-N67 -> 0
A68: 소형맨홀 | B68: D300 | C68: EA | D68: 0 | E68: 209230 | F68: =TRUNC(E68*D68,0) -> 0 | J68: 102 | K68: =SUM(H68:J68) -> 102 | N68: =SUM(H68:J68) -> 102 | O68: =K68-N68 -> 0 | P68: ='[79]관급자재(토목,기계)_전체분'!$L$619+'[79]관급자재(토목,기계)_전체분'!$L$620+'[79]관급자재(토목,기계)_전체분'!$L$542+'[79]관급자재(토목,기계)_전체분'!$L$543 -> 197966660 | Q68: ='[79]관급자재(토목,기계)_전체분'!$L$605+'[79]관급자재(토목,기계)_전체분'!$L$606 -> 1715200
A69: 오수받이 | B69: D300 | C69: EA | D69: 0 | E69: 214700 | F69: =TRUNC(E69*D69,0) -> 0 | J69: 65 | K69: =SUM(H69:J69) -> 65 | N69: =SUM(H69:J69) -> 65 | O69: =K69-N69 -> 0 | P69: =TRUNC(P68*0.54%) -> 1069019 | Q69: =TRUNC(Q68*0.54%) -> 9262
A70: 조달수수료 | B70: 자재비의 | C70: % | D70: 0.54 | F70: =TRUNC(SUM(F68:F69)*D70%) -> 0 | K70: 0.54 | L70: =TRUNC(SUM(F68:F69)*K70%,-1) -> 0 | N70: =SUM(H70:J70) -> 0 | O70: =K70-N70 -> 0.54
A72: 10) 맨홀뚜껑 | F72: =SUM(F73:F76) -> 0 | N72: =SUM(H72:J72) -> 0 | O72: =K72-N72 -> 0
A73: 맨홀뚜껑 | B73: Φ375mm, 오수 | C73: 조 | E73: 67600 | F73: =TRUNC(E73*D73,0) -> 0 | J73: 167 | K73: =SUM(H73:J73) -> 167 | N73: =SUM(H73:J73) -> 167 | O73: =K73-N73 -> 0 | P73: ='[79]관급자재(토목,기계)_전체분'!$L$619+'[79]관급자재(토목,기계)_전체분'!$L$620+'[79]관급자재(토목,기계)_전체분'!$L$542+'[79]관급자재(토목,기계)_전체분'!$L$543 -> 197966660 | Q73: ='[79]관급자재(토목,기계)_전체분'!$L$605+'[79]관급자재(토목,기계)_전체분'!$L$606 -> 1715200
A74: 맨홀뚜껑 | B74: Φ648mm, 오수 | C74: 조 | E74: 417800 | F74: =TRUNC(E74*D74,0) -> 0 | H74: 102 | J74: 23 | K74: =SUM(H74:J74) -> 125 | N74: =SUM(H74:J74) -> 125 | O74: =K74-N74 -> 0 | P74: ='[79]관급자재(토목,기계)_전체분'!$L$619+'[79]관급자재(토목,기계)_전체분'!$L$620+'[79]관급자재(토목,기계)_전체분'!$L$542+'[79]관급자재(토목,기계)_전체분'!$L$543 -> 197966660 | Q74: ='[79]관급자재(토목,기계)_전체분'!$L$605+'[79]관급자재(토목,기계)_전체분'!$L$606 -> 1715200
A75: 맨홀뚜껑 | B75: Φ766mm, 오수 | C75: 조 | E75: 681700 | F75: =TRUNC(E75*D75,0) -> 0 | H75: 6 | K75: =SUM(H75:J75) -> 6 | N75: =SUM(H75:J75) -> 6 | O75: =K75-N75 -> 0 | P75: =TRUNC(P73*0.54%) -> 1069019 | Q75: =TRUNC(Q73*0.54%) -> 9262
A76: 조달수수료 | B76: 자재비의 | C76: % | D76: 0.54 | F76: =TRUNC(SUM(F73:F75)*D76%) -> 0 | K76: 0.54 | L76: =TRUNC(SUM(F73:F75)*K76%,-1) -> 0 | N76: =SUM(H76:J76) -> 0 | O76: =K76-N76 -> 0.54
A78: 11) 휀스 및 출입문 | F78: =SUM(F79:F81) -> 0 | N78: =SUM(H78:J78) -> 0 | O78: =K78-N78 -> 0
A79: 메쉬휀스 | B79: W=2.0, H1.5 | C79: 경간 | E79: 91400 | F79: =TRUNC(E79*D79,0) -> 0 | H79: 26 | K79: =SUM(H79:J79) -> 26 | N79: =SUM(H79:J79) -> 26 | O79: =K79-N79 -> 0 | P79: ='[79]관급자재(토목,기계)_전체분'!$L$619+'[79]관급자재(토목,기계)_전체분'!$L$620+'[79]관급자재(토목,기계)_전체분'!$L$542+'[79]관급자재(토목,기계)_전체분'!$L$543 -> 197966660 | Q79: ='[79]관급자재(토목,기계)_전체분'!$L$605+'[79]관급자재(토목,기계)_전체분'!$L$606 -> 1715200
A80: 출입문 | B80: W=1.0, H1.5 | C80: 개소 | E80: 328000 | F80: =TRUNC(E80*D80,0) -> 0 | H80: 10 | K80: =SUM(H80:J80) -> 10 | N80: =SUM(H80:J80) -> 10 | O80: =K80-N80 -> 0 | P80: =TRUNC(P79*0.54%) -> 1069019 | Q80: =TRUNC(Q79*0.54%) -> 9262
A81: 조달수수료 | B81: 자재비의 | C81: % | D81: 0.54 | F81: =TRUNC(SUM(F79:F80)*D81%) -> 0 | K81: 0.54 | L81: =TRUNC(SUM(F79:F80)*K81%,-1) -> 0 | N81: =SUM(H81:J81) -> 0 | O81: =K81-N81 -> 0.54
N82: =SUM(H82:J82) -> 0 | O82: =K82-N82 -> 0
A83: 12) 와이어메쉬 | F83: =SUM(F84:F85) -> 0 | N83: =SUM(H83:J83) -> 0 | O83: =K83-N83 -> 0
A84: 와이어메쉬 | B84: #8×150×150 | C84: ㎡ | E84: 4040 | F84: =TRUNC(E84*D84,0) -> 0 | H84: 2760 | J84: 1736 | K84: =SUM(H84:J84) -> 4496 | N84: =SUM(H84:J84) -> 4496 | O84: =K84-N84 -> 0
A85: 조달수수료 | B85: 자재비의 | C85: % | D85: 0.54 | F85: =TRUNC(SUM(F84)*D85%) -> 0 | K85: 0.54 | L85: =TRUNC(SUM(F84:F84)*K85%,-1) -> 0 | N85: =SUM(H85:J85) -> 0 | O85: =K85-N85 -> 0.54
N86: =SUM(H86:J86) -> 0 | O86: =K86-N86 -> 0
C87: 0
E88: 순환골재 | F88: =110600+400 -> 111000
E89: 이중보온관 | F89: =221740+260 -> 222000
E91: 합계 | F91: =SUM(F88:F90) -> 333000
F93: =F5+F91 -> 59778000

Sheet 관급자재(상리처리분구)
A1: 관급자재 구입 내역서
A2: ▣ 공사명: 여만처리분구 외 6개소 하수관로 정비사업(토목+기계) | G2: (단위 : 원)
A3: 품 명 | B3: 규 격 | C3: 단위 | D3: 수량 | E3: 단 가 | F3: 금 액 | G3: 비고 (납품기한) | H3: 수 량
H4: 오수 관로 | I4: 맨홀 펌프장 | J4: 배수 설비 | K4: 합 계
A5: ◈ 도급자 관급자재대 | F5: =F6 -> 256060000
A6: □. 상리처리분구 | F6: =SUM(F7,F12,F19,F25,F29,F42,F47,F57,F71,F76,F82,F87) -> 256060000 | P6: =725829964-F6-#REF!-#REF!-#REF!-#REF! -> #REF!
A7: 1) 레미콘 | F7: =SUM(F8:F10) -> 0 | N7: =SUM(H7:J7) -> 0 | O7: =K7-N7 -> 0
A8: 레미콘 | B8: 25-18-80 | C8: ㎥ | E8: 105550 | F8: =TRUNC(E8*D8,0) -> 0 | H8: 6 | I8: 1 | J8: 0 | K8: =SUM(H8:J8) -> 7 | N8: =SUM(H8:J8) -> 7 | O8: =K8-N8 -> 0 | P8: ='[79]관급자재(토목,기계)_전체분'!$L$619+'[79]관급자재(토목,기계)_전체분'!$L$620+'[79]관급자재(토목,기계)_전체분'!$L$542+'[79]관급자재(토목,기계)_전체분'!$L$543 -> 197966660 | Q8: ='[79]관급자재(토목,기계)_전체분'!$L$605+'[79]관급자재(토목,기계)_전체분'!$L$606 -> 1715200
A9: 레미콘 | B9: 25-21-80 | C9: ㎥ | E9: 108990 | F9: =TRUNC(E9*D9,0) -> 0 | H9: 442 | I9: 6 | J9: 453 | K9: =SUM(H9:J9) -> 901 | N9: =SUM(H9:J9) -> 901 | O9: =K9-N9 -> 0 | P9: =TRUNC(P8*0.54%) -> 1069019 | Q9: =TRUNC(Q8*0.54%) -> 9262
A10: 조달수수료 | B10: 자재비의 | C10: % | D10: 0.54 | F10: =TRUNC(SUM(F8:F9)*D10%) -> 0 | K10: 0.54 | L10: =TRUNC(SUM(F8:F9)*K10%,-1) -> 0 | N10: =SUM(H10:J10) -> 0 | O10: =K10-N10 -> 0.54
A12: 2) 아스팔트콘크리트 | F12: =SUM(F13:F17) -> 12354000 | G12: 25년2월9일 | N12: =SUM(H12:J12) -> 0 | O12: =K12-N12 -> 0
A13: 아스콘 | B13: #78 표층용 | C13: M/T | D13: 0 | E13: 110450 | F13: =TRUNC(E13*D13,0) -> 0 | H13: 569 | J13: 721 | K13: =SUM(H13:J13) -> 1290 | N13: =SUM(H13:J13) -> 1290 | O13: =K13-N13 -> 0 | P13: ='[79]관급자재(토목,기계)_전체분'!$L$619+'[79]관급자재(토목,기계)_전체분'!$L$620+'[79]관급자재(토목,기계)_전체분'!$L$542+'[79]관급자재(토목,기계)_전체분'!$L$543 -> 197966660 | Q13: ='[79]관급자재(토목,기계)_전체분'!$L$605+'[79]관급자재(토목,기계)_전체분'!$L$606 -> 1715200
A14: 아스콘(재생용) | B14: #787 표층용 | C14: M/T | D14: 0 | E14: 93700 | F14: =TRUNC(E14*D14,0) -> 0 | H14: 379 | J14: 480 | K14: =SUM(H14:J14) -> 859 | N14: =SUM(H14:J14) -> 859 | O14: =K14-N14 -> 0 | P14: =TRUNC(P13*0.54%) -> 1069019 | Q14: =TRUNC(Q13*0.54%) -> 9262
A15: 아스콘 | B15: #467 기층용 | C15: M/T | D15: 85 | E15: 91960 | F15: =TRUNC(E15*D15,0) -> 7816600 | H15: 104 | J15: 47 | K15: =SUM(H15:J15) -> 151 | N15: =SUM(H15:J15) -> 151 | O15: =K15-N15 -> 0 | P15: ='[79]관급자재(토목,기계)_전체분'!$L$619+'[79]관급자재(토목,기계)_전체분'!$L$620+'[79]관급자재(토목,기계)_전체분'!$L$542+'[79]관급자재(토목,기계)_전체분'!$L$543 -> 197966660 | Q15: ='[79]관급자재(토목,기계)_전체분'!$L$605+'[79]관급자재(토목,기계)_전체분'!$L$606 -> 1715200
A16: 아스콘(재생용) | B16: #467 기층용 | C16: M/T | D16: 56 | E16: 79850 | F16: =TRUNC(E16*D16,0) -> 4471600 | H16: 69 | J16: 31 | K16: =SUM(H16:J16) -> 100 | N16: =SUM(H16:J16) -> 100 | O16: =K16-N16 -> 0 | P16: =TRUNC(P15*0.54%) -> 1069019 | Q16: =TRUNC(Q15*0.54%) -> 9262
A17: 조달수수료 | B17: 자재비의 | C17: % | D17: 0.54 | F17: =TRUNC(SUM(F13:F16)*D17%)-556 -> 65800 | K17: 0.54 | L17: =TRUNC(SUM(F15:F16)*K17%,-1) -> 66350 | N17: =SUM(H17:J17) -> 0 | O17: =K17-N17 -> 0.54
A19: 3) 기층재 | F19: =SUM(F20:F23) -> 0 | N19: =SUM(H19:J19) -> 0 | O19: =K19-N19 -> 0
A20: 보조기층 | B20: 40mm | C20: ㎥ | D20: 0 | E20: 20680 | F20: =TRUNC(E20*D20,0) -> 0 | H20: 785 | J20: 389 | K20: =SUM(H20:J20) -> 1174 | N20: =SUM(H20:J20) -> 1174 | O20: =K20-N20 -> 0
A21: 동상방지층 | B21: 75mm | C21: ㎥ | D21: 0 | E21: 22000 | F21: =TRUNC(E21*D21,0) -> 0 | H21: 104 | J21: 77 | K21: =SUM(H21:J21) -> 181 | N21: =SUM(H21:J21) -> 181 | O21: =K21-N21 -> 0
A22: 석분 | B22: 8MM이하 | C22: ㎥ | D22: 0 | E22: 23320 | F22: =TRUNC(E22*D22,0) -> 0 | H22: 1932 | J22: 910 | K22: =SUM(H22:J22) -> 2842 | N22: =SUM(H22:J22) -> 2842 | O22: =K22-N22 -> 0
A23: 조달수수료 | B23: 자재비의 | C23: % | D23: 0.54 | F23: =TRUNC(SUM(F20:F22)*D23%) -> 0 | K23: 0.54 | L23: =TRUNC(SUM(F20:F22)*K23%,-1) -> 0 | N23: =SUM(H23:J23) -> 0 | O23: =K23-N23 -> 0.54
N24: =SUM(H24:J24) -> 0 | O24: =K24-N24 -> 0
A25: 4) 기층재(순환골재) | F25: =SUM(F26:F27) -> 431000 | G25: 25년2월9일 | N25: =SUM(H25:J25) -> 0 | O25: =K25-N25 -> 0
A26: 보조기층(순환골재) | B26: RSB-2 | C26: ㎥ | D26: 0 | E26: 8800 | F26: =TRUNC(E26*D26,0) -> 0 | H26: 523 | J26: 259 | K26: =SUM(H26:J26) -> 782 | N26: =SUM(H26:J26) -> 782 | O26: =K26-N26 -> 0
A27: 동상방지층(순환골재) | B27: RSB-2 | C27: ㎥ | D27: 49 | E27: 8800 | F27: =TRUNC(E27*D27,0)-200 -> 431000 | H27: 69 | J27: 51 | K27: =SUM(H27:J27) -> 120 | N27: =SUM(H27:J27) -> 120 | O27: =K27-N27 -> 0
N28: =SUM(H28:J28) -> 0 | O28: =K28-N28 -> 0
A29: 5) PVC관 | F29: =SUM(F30:F40) -> 82709000 | G29: 25년2월9일 | N29: =SUM(H29:J29) -> 0 | O29: =K29-N29 -> 0
A30: PVC 이중벽관 | B30: D200mm | C30: 본 | D30: 412 | E30: 107320 | F30: =TRUNC(E30*D30,0) -> 44215840 | H30: 515 | K30: =SUM(H30:J30) -> 515 | N30: =SUM(H30:J30) -> 515 | O30: =K30-N30 -> 0
A31: PVC 이중벽관 | B31: D150mm | C31: 본 | D31: 387 | E31: 69700 | F31: =TRUNC(E31*D31,0) -> 26973900 | H31: 2 | J31: 385 | K31: =SUM(H31:J31) -> 387 | N31: =SUM(H31:J31) -> 387 | O31: =K31-N31 -> 0
A32: PVC 접합부속 | B32: D200mm | C32: EA | D32: 66 | E32: 13180 | F32: =TRUNC(E32*D32,0) -> 869880 | H32: 602 | K32: =SUM(H32:J32) -> 602 | N32: =SUM(H32:J32) -> 602 | O32: =K32-N32 -> 0
A33: PVC 접합부속 | B33: D150mm | C33: EA | D33: 95 | E33: 7560 | F33: =TRUNC(E33*D33,0) -> 718200 | H33: 16 | J33: 385 | K33: =SUM(H33:J33) -> 401 | N33: =SUM(H33:J33) -> 401 | O33: =K33-N33 -> 0
A34: PVC 접합부속 | B34: D100mm | C34: EA | D34: 3 | E34: 2800 | F34: =TRUNC(E34*D34,0) -> 8400 | H34: 3 | K34: =SUM(H34:J34) -> 3 | N34: =SUM(H34:J34) -> 3 | O34: =K34-N34 -> 0
A35: PVC 접합부속(고무링) | B35: D200mm | C35: EA | D35: 132 | E35: 760 | F35: =TRUNC(E35*D35,0) -> 100320 | H35: 1204 | K35: =SUM(H35:J35) -> 1204 | N35: =SUM(H35:J35) -> 1204 | O35: =K35-N35 -> 0
A36: PVC 접합부속(고무링) | B36: D150mm | C36: EA | D36: 590 | E36: 450 | F36: =TRUNC(E36*D36,0) -> 265500 | H36: 32 | J36: 770 | K36: =SUM(H36:J36) -> 802 | N36: =SUM(H36:J36) -> 802 | O36: =K36-N36 -> 0
A37: PVC 접합부속(고무링) | B37: D100mm | C37: EA | D37: 6 | E37: 220 | F37: =TRUNC(E37*D37,0) -> 1320 | H37: 6 | K37: =SUM(H37:J37) -> 6 | N37: =SUM(H37:J37) -> 6 | O37: =K37-N37 -> 0
A38: 내충격PVC관 | B38: D=100×6.0m | C38: 본 | D38: 211 | E38: 36660 | F38: =TRUNC(E38*D38,0) -> 7735260 | J38: 242 | K38: =SUM(H38:J38) -> 242 | N38: =SUM(H38:J38) -> 242 | O38: =K38-N38 -> 0
A39: 양수소켓 | B39: D100mm | C39: EA | D39: 111 | E39: 12400 | F39: =TRUNC(E39*D39,0) -> 1376400 | J39: 242 | K39: =SUM(H39:J39) -> 242 | N39: =SUM(H39:J39) -> 242 | O39: =K39-N39 -> 0
A40: 조달수수료 | B40: 자재비의 | C40: % | D40: 0.54 | F40: =TRUNC(SUM(F30:F39)*D40%)-251 -> 443980 | K40: 0.54 | L40: =TRUNC(SUM(F30:F35)*K40%,-1) -> 393580 | N40: =SUM(H40:J40) -> 0 | O40: =K40-N40 -> 0.54
A42: 6) PE수도관 | F42: =SUM(F43:F45) -> 9532000 | G42: 25년2월9일 | N42: =SUM(H42:J42) -> 0 | O42: =K42-N42 -> 0
A43: PE수도관 | B43: D100×6.0m(Φ110) | C43: 본 | D43: 105 | E43: 90300 | F43: =TRUNC(E43*D43,0) -> 9481500 | H43: 124 | K43: =SUM(H43:J43) -> 124 | N43: =SUM(H43:J43) -> 124 | O43: =K43-N43 -> 0 | P43: ='[79]관급자재(토목,기계)_전체분'!$L$619+'[79]관급자재(토목,기계)_전체분'!$L$620+'[79]관급자재(토목,기계)_전체분'!$L$542+'[79]관급자재(토목,기계)_전체분'!$L$543 -> 197966660 | Q43: ='[79]관급자재(토목,기계)_전체분'!$L$605+'[79]관급자재(토목,기계)_전체분'!$L$606 -> 1715200
A44: PE수도관 | B44: D150×6.0m(Φ160) | C44: 본 | D44: 0 | E44: 191220 | F44: =TRUNC(E44*D44,0) -> 0 | H44: 0 | K44: =SUM(H44:J44) -> 0 | N44: =SUM(H44:J44) -> 0 | O44: =K44-N44 -> 0 | P44: =TRUNC(P43*0.54%) -> 1069019 | Q44: =TRUNC(Q43*0.54%) -> 9262
A45: 조달수수료 | B45: 자재비의 | C45: % | D45: 0.54 | F45: =TRUNC(SUM(F43:F43)*D45%)-700 -> 50500 | K45: 0.54 | L45: =TRUNC(SUM(F43:F44)*K45%,-1) -> 51200 | N45: =SUM(H45:J45) -> 0 | O45: =K45-N45 -> 0.54
A47: 7) 이중보온관 | F47: =SUM(F48:F55) -> 0 | N47: =SUM(H47:J47) -> 0 | O47: =K47-N47 -> 0
A48: 단열이중보온관(노출용) | B48: 강관, D150 | C48: M | D48: 0 | E48: 269500 | F48: =TRUNC(E48*K48,0) -> 0 | H48: 0 | K48: =SUM(H48:J48) -> 0 | N48: =SUM(H48:J48) -> 0 | O48: =K48-N48 -> 0
A49: 단열이중보온관(노출용) | B49: 강관, D150 엘보 | C49: EA | E49: 1051000 | F49: =TRUNC(E49*K49,0) -> 0 | H49: 0 | K49: =SUM(H49:J49) -> 0 | N49: =SUM(H49:J49) -> 0 | O49: =K49-N49 -> 0
A50: 단열이중보온관(노출용) | B50: 강관, D100 | C50: M | D50: 0 | E50: 200800 | F50: =TRUNC(E50*D50,0) -> 0 | H50: 207 | K50: =SUM(H50:J50) -> 207
A51: 단열이중보온관(노출용) | B51: 강관, D100 엘보 | C51: EA | D51: 0 | E51: 783100 | F51: =TRUNC(E51*D51,0) -> 0 | H51: 12 | K51: =SUM(H51:J51) -> 12
A52: 내관연결전자소켓 | B52: D150 | C52: EA | D52: 0 | E52: 189640 | F52: =TRUNC(E52*K52,0) -> 0 | H52: 0 | K52: =SUM(H52:J52) -> 0
A53: 내관연결전자소켓 | B53: D100 | C53: EA | D53: 0 | E53: 51260 | F53: =TRUNC(E53*D53,0) -> 0 | H53: 47 | K53: =SUM(H53:J53) -> 47
A54: 연결보온재 | B54: D150 | C54: EA | D54: 0 | E54: 94080 | F54: =TRUNC(E54*K54,0) -> 0 | H54: 0 | K54: =SUM(H54:J54) -> 0
A55: 연결보온재 | B55: D100 | C55: EA | D55: 0 | E55: 89180 | F55: =TRUNC(E55*D55,0) -> 0 | H55: 47 | K55: =SUM(H55:J55) -> 47
A57: 8) GRP맨홀 | F57: =SUM(F58:F69) -> 132762000 | G57: 25년2월9일 | N57: =SUM(H57:J57) -> 0 | O57: =K57-N57 -> 0
A58: GRP맨홀 | B58: D900×1350mm | C58: EA | D58: 92 | E58: 897000 | F58: =TRUNC(E58*D58,0) -> 82524000 | H58: 75 | J58: 17 | K58: =SUM(H58:J58) -> 92 | N58: =SUM(H58:J58) -> 92 | O58: =K58-N58 -> 0 | P58: ='[79]관급자재(토목,기계)_전체분'!$L$619+'[79]관급자재(토목,기계)_전체분'!$L$620+'[79]관급자재(토목,기계)_전체분'!$L$542+'[79]관급자재(토목,기계)_전체분'!$L$543 -> 197966660 | Q58: ='[79]관급자재(토목,기계)_전체분'!$L$605+'[79]관급자재(토목,기계)_전체분'!$L$606 -> 1715200
A59: GRP연결지관 | B59: D100mm | C59: EA | D59: 3 | E59: 52800 | F59: =TRUNC(E59*D59,0) -> 158400 | H59: 3 | J59: 0 | K59: =SUM(H59:J59) -> 3
A60: GRP연결지관 | B60: D150mm | C60: EA | D60: 43 | E60: 52800 | F60: =TRUNC(E60*D60,0) -> 2270400 | J60: 43 | K60: =SUM(H60:J60) -> 43
A61: GRP연결지관 | B61: D200mm | C61: EA | D61: 79 | E61: 57700 | F61: =TRUNC(E61*D61,0) -> 4558300 | H61: 79 | K61: =SUM(H61:J61) -> 79
A62: GRP맨홀, 높이조절단관 | B62: D900×10mm | C62: EA | D62: 7218 | E62: 3110 | F62: =TRUNC(E62*D62,0) -> 22447980 | H62: 7218 | K62: =SUM(H62:J62) -> 7218
A63: GRP맨홀 | B63: D1200×2100mm | C63: EA | D63: 8 | E63: 1479200 | F63: =TRUNC(E63*D63,0) -> 11833600 | H63: 8 | K63: =SUM(H63:J63) -> 8
A64: GRP맨홀, 높이조절단관 | B64: D1200×10mm | C64: EA | D64: 1768 | E64: 4670 | F64: =TRUNC(E64*D64,0) -> 8256560 | H64: 1768 | K64: =SUM(H64:J64) -> 1768
A65: GRP맨홀펌프장 | B65: D1800×4300mm | C65: EA | E65: 12540000 | F65: =TRUNC(E65*D65,0) -> 0 | H65: 1 | K65: =SUM(H65:J65) -> 1
A66: GRP맨홀펌프장 | B66: D1800×5360mm | C66: EA | E66: 14010000 | F66: =TRUNC(E66*D66,0) -> 0 | H66: 1 | K66: =SUM(H66:J66) -> 1
A67: GRP맨홀펌프장 | B67: D1800×5620mm | C67: EA | E67: 14370000 | F67: =TRUNC(E67*D67,0) -> 0 | H67: 1 | K67: =SUM(H67:J67) -> 1
A68: GRP맨홀펌프장 | B68: D1800×6630mm | C68: EA | E68: 15770000 | F68: =TRUNC(E68*D68,0) -> 0 | H68: 1 | K68: =SUM(H68:J68) -> 1 | N68: =SUM(H68:J68) -> 1 | O68: =K68-N68 -> 0 | P68: =TRUNC(P58*0.54%) -> 1069019 | Q68: =TRUNC(Q58*0.54%) -> 9262
A69: 조달수수료 | B69: 자재비의 | C69: % | D69: 0.54 | F69: =TRUNC(SUM(F58:F68)*D69%)-305 -> 712760 | K69: 0.54 | L69: =TRUNC(SUM(F58:F68)*K69%,-1) -> 713060 | N69: =SUM(H69:J69) -> 0 | O69: =K69-N69 -> 0.54
A71: 9) 맨홀류 | F71: =SUM(F72:F74) -> 0 | N71: =SUM(H71:J71) -> 0 | O71: =K71-N71 -> 0
A72: 소형맨홀 | B72: D300 | C72: EA | D72: 0 | E72: 209230 | F72: =TRUNC(E72*D72,0) -> 0 | J72: 86 | K72: =SUM(H72:J72) -> 86 | N72: =SUM(H72:J72) -> 86 | O72: =K72-N72 -> 0 | P72: ='[79]관급자재(토목,기계)_전체분'!$L$619+'[79]관급자재(토목,기계)_전체분'!$L$620+'[79]관급자재(토목,기계)_전체분'!$L$542+'[79]관급자재(토목,기계)_전체분'!$L$543 -> 197966660 | Q72: ='[79]관급자재(토목,기계)_전체분'!$L$605+'[79]관급자재(토목,기계)_전체분'!$L$606 -> 1715200
A73: 오수받이 | B73: D300 | C73: EA | D73: 0 | E73: 214700 | F73: =TRUNC(E73*D73,0) -> 0 | J73: 53 | K73: =SUM(H73:J73) -> 53 | N73: =SUM(H73:J73) -> 53 | O73: =K73-N73 -> 0 | P73: =TRUNC(P72*0.54%) -> 1069019 | Q73: =TRUNC(Q72*0.54%) -> 9262
A74: 조달수수료 | B74: 자재비의 | C74: % | D74: 0.54 | F74: =TRUNC(SUM(F72:F73)*D74%) -> 0 | K74: 0.54 | L74: =TRUNC(SUM(F72:F73)*K74%,-1) -> 0 | N74: =SUM(H74:J74) -> 0 | O74: =K74-N74 -> 0.54
A76: 10) 맨홀뚜껑 | F76: =SUM(F77:F80) -> 18272000 | G76: 25년2월9일 | N76: =SUM(H76:J76) -> 0 | O76: =K76-N76 -> 0
A77: 맨홀뚜껑 | B77: Φ375mm, 오수 | C77: 조 | D77: 34 | E77: 67600 | F77: =TRUNC(E77*D77,0) -> 2298400 | J77: 139 | K77: =SUM(H77:J77) -> 139 | N77: =SUM(H77:J77) -> 139 | O77: =K77-N77 -> 0 | P77: ='[79]관급자재(토목,기계)_전체분'!$L$619+'[79]관급자재(토목,기계)_전체분'!$L$620+'[79]관급자재(토목,기계)_전체분'!$L$542+'[79]관급자재(토목,기계)_전체분'!$L$543 -> 197966660 | Q77: ='[79]관급자재(토목,기계)_전체분'!$L$605+'[79]관급자재(토목,기계)_전체분'!$L$606 -> 1715200
A78: 맨홀뚜껑 | B78: Φ648mm, 오수 | C78: 조 | D78: 38 | E78: 417800 | F78: =TRUNC(E78*D78,0) -> 15876400 | H78: 87 | J78: 17 | K78: =SUM(H78:J78) -> 104 | N78: =SUM(H78:J78) -> 104 | O78: =K78-N78 -> 0 | P78: ='[79]관급자재(토목,기계)_전체분'!$L$619+'[79]관급자재(토목,기계)_전체분'!$L$620+'[79]관급자재(토목,기계)_전체분'!$L$542+'[79]관급자재(토목,기계)_전체분'!$L$543 -> 197966660 | Q78: ='[79]관급자재(토목,기계)_전체분'!$L$605+'[79]관급자재(토목,기계)_전체분'!$L$606 -> 1715200
A79: 맨홀뚜껑 | B79: Φ766mm, 오수 | C79: 조 | E79: 681700 | F79: =TRUNC(E79*D79,0) -> 0 | H79: 8 | K79: =SUM(H79:J79) -> 8 | N79: =SUM(H79:J79) -> 8 | O79: =K79-N79 -> 0 | P79: =TRUNC(P77*0.54%) -> 1069019 | Q79: =TRUNC(Q77*0.54%) -> 9262
A80: 조달수수료 | B80: 자재비의 | C80: % | D80: 0.54 | F80: =TRUNC(SUM(F77:F79)*D80%)-943 -> 97200 | K80: 0.54 | L80: =TRUNC(SUM(F77:F79)*K80%,-1) -> 98140 | N80: =SUM(H80:J80) -> 0 | O80: =K80-N80 -> 0.54
A82: 11) 휀스 및 출입문 | F82: =SUM(F83:F85) -> 0 | N82: =SUM(H82:J82) -> 0 | O82: =K82-N82 -> 0
A83: 메쉬휀스 | B83: W=2.0, H1.5 | C83: 경간 | E83: 91400 | F83: =TRUNC(E83*D83,0) -> 0 | H83: 10 | K83: =SUM(H83:J83) -> 10 | N83: =SUM(H83:J83) -> 10 | O83: =K83-N83 -> 0 | P83: ='[79]관급자재(토목,기계)_전체분'!$L$619+'[79]관급자재(토목,기계)_전체분'!$L$620+'[79]관급자재(토목,기계)_전체분'!$L$542+'[79]관급자재(토목,기계)_전체분'!$L$543 -> 197966660 | Q83: ='[79]관급자재(토목,기계)_전체분'!$L$605+'[79]관급자재(토목,기계)_전체분'!$L$606 -> 1715200
A84: 출입문 | B84: W=1.0, H1.5 | C84: 개소 | E84: 328000 | F84: =TRUNC(E84*D84,0) -> 0 | H84: 4 | K84: =SUM(H84:J84) -> 4 | N84: =SUM(H84:J84) -> 4 | O84: =K84-N84 -> 0 | P84: =TRUNC(P83*0.54%) -> 1069019 | Q84: =TRUNC(Q83*0.54%) -> 9262
A85: 조달수수료 | B85: 자재비의 | C85: % | D85: 0.54 | F85: =TRUNC(SUM(F83:F84)*D85%) -> 0 | K85: 0.54 | L85: =TRUNC(SUM(F83:F84)*K85%,-1) -> 0 | N85: =SUM(H85:J85) -> 0 | O85: =K85-N85 -> 0.54
N86: =SUM(H86:J86) -> 0 | O86: =K86-N86 -> 0
A87: 12) 와이어메쉬 | F87: =SUM(F88:F89) -> 0 | N87: =SUM(H87:J87) -> 0 | O87: =K87-N87 -> 0
A88: 와이어메쉬 | B88: #8×150×150 | C88: ㎡ | E88: 4040 | F88: =TRUNC(E88*D88,0) -> 0 | H88: 2087 | J88: 2413 | K88: =SUM(H88:J88) -> 4500 | N88: =SUM(H88:J88) -> 4500 | O88: =K88-N88 -> 0
A89: 조달수수료 | B89: 자재비의 | C89: % | D89: 0.54 | F89: =TRUNC(SUM(F88)*D89%) -> 0 | K89: 0.54 | L89: =TRUNC(SUM(F88:F88)*K89%,-1) -> 0 | N89: =SUM(H89:J89) -> 0 | O89: =K89-N89 -> 0.54
N90: =SUM(H90:J90) -> 0 | O90: =K90-N90 -> 0
C91: 0
E92: 순환골재 | F92: =42400+600 -> 43000
E93: 이중보온관 | F93: =310520+480 -> 311000
E95: 합계 | F95: =SUM(F92:F94) -> 354000
F97: =F5+F95 -> 256414000

Sheet 관급자재(후평처리분구)
A1: 관급자재 구입 내역서
A2: ▣ 공사명: 여만처리분구 외 6개소 하수관로 정비사업(토목+기계) | G2: (단위 : 원)
A3: 품 명 | B3: 규 격 | C3: 단위 | D3: 수량 | E3: 단 가 | F3: 금 액 | G3: 비고 (납품기한) | H3: 수 량
H4: 오수 관로 | I4: 맨홀 펌프장 | J4: 배수 설비 | K4: 합 계
A5: ◈ 도급자 관급자재대 | F5: =F6 -> 606067000
A6: □. 후평처리분구 | F6: =SUM(F7,F12,F19,F25,F29,F42,F47,F57,F72,F77,F83,F88) -> 606067000 | P6: =725829964-F6-#REF!-#REF!-#REF!-#REF! -> #REF!
A7: 1) 레미콘 | F7: =SUM(F8:F10) -> 45146000 | G7: 25년2월9일 | N7: =SUM(H7:J7) -> 0 | O7: =K7-N7 -> 0
A8: 레미콘 | B8: 25-18-80 | C8: ㎥ | D8: 0 | E8: 105550 | F8: =TRUNC(E8*D8,0) -> 0 | H8: 29 | I8: 1 | J8: 0 | K8: =SUM(H8:J8) -> 30 | N8: =SUM(H8:J8) -> 30 | O8: =K8-N8 -> 0 | P8: ='[79]관급자재(토목,기계)_전체분'!$L$619+'[79]관급자재(토목,기계)_전체분'!$L$620+'[79]관급자재(토목,기계)_전체분'!$L$542+'[79]관급자재(토목,기계)_전체분'!$L$543 -> 197966660 | Q8: ='[79]관급자재(토목,기계)_전체분'!$L$605+'[79]관급자재(토목,기계)_전체분'!$L$606 -> 1715200
A9: 레미콘 | B9: 25-21-80 | C9: ㎥ | D9: 412 | E9: 108990 | F9: =TRUNC(E9*D9,0) -> 44903880 | H9: 778 | I9: 7 | J9: 330 | K9: =SUM(H9:J9) -> 1115 | N9: =SUM(H9:J9) -> 1115 | O9: =K9-N9 -> 0 | P9: =TRUNC(P8*0.54%) -> 1069019 | Q9: =TRUNC(Q8*0.54%) -> 9262
A10: 조달수수료 | B10: 자재비의 | C10: % | D10: 0.54 | F10: =TRUNC(SUM(F8:F9)*D10%)-360 -> 242120 | K10: 0.54 | L10: =TRUNC(SUM(F8:F9)*K10%,-1) -> 242480 | N10: =SUM(H10:J10) -> 0 | O10: =K10-N10 -> 0.54
A12: 2) 아스팔트콘크리트 | F12: =SUM(F13:F17) -> 144025000 | G12: 25년2월9일 | N12: =SUM(H12:J12) -> 0 | O12: =K12-N12 -> 0
A13: 아스콘 | B13: #78 표층용 | C13: M/T | D13: 45 | E13: 110450 | F13: =TRUNC(E13*D13,0) -> 4970250 | H13: 682 | J13: 455 | K13: =SUM(H13:J13) -> 1137 | N13: =SUM(H13:J13) -> 1137 | O13: =K13-N13 -> 0 | P13: ='[79]관급자재(토목,기계)_전체분'!$L$619+'[79]관급자재(토목,기계)_전체분'!$L$620+'[79]관급자재(토목,기계)_전체분'!$L$542+'[79]관급자재(토목,기계)_전체분'!$L$543 -> 197966660 | Q13: ='[79]관급자재(토목,기계)_전체분'!$L$605+'[79]관급자재(토목,기계)_전체분'!$L$606 -> 1715200
A14: 아스콘(재생용) | B14: #787 표층용 | C14: M/T | D14: 44 | E14: 93700 | F14: =TRUNC(E14*D14,0) -> 4122800 | H14: 458 | J14: 303 | K14: =SUM(H14:J14) -> 761 | N14: =SUM(H14:J14) -> 761 | O14: =K14-N14 -> 0 | P14: =TRUNC(P13*0.54%) -> 1069019 | Q14: =TRUNC(Q13*0.54%) -> 9262
A15: 아스콘 | B15: #467 기층용 | C15: M/T | D15: 924 | E15: 91960 | F15: =TRUNC(E15*D15,0) -> 84971040 | H15: 919 | J15: 5 | K15: =SUM(H15:J15) -> 924 | N15: =SUM(H15:J15) -> 924 | O15: =K15-N15 -> 0 | P15: ='[79]관급자재(토목,기계)_전체분'!$L$619+'[79]관급자재(토목,기계)_전체분'!$L$620+'[79]관급자재(토목,기계)_전체분'!$L$542+'[79]관급자재(토목,기계)_전체분'!$L$543 -> 197966660 | Q15: ='[79]관급자재(토목,기계)_전체분'!$L$605+'[79]관급자재(토목,기계)_전체분'!$L$606 -> 1715200
A16: 아스콘(재생용) | B16: #467 기층용 | C16: M/T | D16: 616 | E16: 79850 | F16: =TRUNC(E16*D16,0) -> 49187600 | H16: 613 | J16: 3 | K16: =SUM(H16:J16) -> 616 | N16: =SUM(H16:J16) -> 616 | O16: =K16-N16 -> 0 | P16: =TRUNC(P15*0.54%) -> 1069019 | Q16: =TRUNC(Q15*0.54%) -> 9262
A17: 조달수수료 | B17: 자재비의 | C17: % | D17: 0.54 | F17: =TRUNC(SUM(F13:F16)*D17%)-249 -> 773310 | K17: 0.54 | L17: =TRUNC(SUM(F15:F16)*K17%,-1) -> 724450 | N17: =SUM(H17:J17) -> 0 | O17: =K17-N17 -> 0.54
A19: 3) 기층재 | F19: =SUM(F20:F23) -> 38223000 | G19: 25년2월9일 | N19: =SUM(H19:J19) -> 0 | O19: =K19-N19 -> 0
A20: 보조기층 | B20: 40mm | C20: ㎥ | D20: 1057 | E20: 20680 | F20: =TRUNC(E20*D20,0) -> 21858760 | H20: 2407 | J20: 240 | K20: =SUM(H20:J20) -> 2647 | N20: =SUM(H20:J20) -> 2647 | O20: =K20-N20 -> 0
A21: 동상방지층 | B21: 75mm | C21: ㎥ | D21: 319 | E21: 22000 | F21: =TRUNC(E21*D21,0) -> 7018000 | H21: 887 | J21: 7 | K21: =SUM(H21:J21) -> 894 | N21: =SUM(H21:J21) -> 894 | O21: =K21-N21 -> 0
A22: 석분 | B22: 8MM이하 | C22: ㎥ | D22: 392 | E22: 23320 | F22: =TRUNC(E22*D22,0) -> 9141440 | H22: 3548 | J22: 210 | K22: =SUM(H22:J22) -> 3758 | N22: =SUM(H22:J22) -> 3758 | O22: =K22-N22 -> 0
A23: 조달수수료 | B23: 자재비의 | C23: % | D23: 0.54 | F23: =TRUNC(SUM(F20:F22)*D23%)-498 -> 204800 | K23: 0.54 | L23: =TRUNC(SUM(F20:F22)*K23%,-1) -> 205290 | N23: =SUM(H23:J23) -> 0 | O23: =K23-N23 -> 0.54
N24: =SUM(H24:J24) -> 0 | O24: =K24-N24 -> 0
A25: 4) 기층재(순환골재) | F25: =SUM(F26:F27) -> 9380000 | G25: 25년2월9일 | N25: =SUM(H25:J25) -> 0 | O25: =K25-N25 -> 0
A26: 보조기층(순환골재) | B26: RSB-2 | C26: ㎥ | D26: 470 | E26: 8800 | F26: =TRUNC(E26*D26,0) -> 4136000 | H26: 1605 | J26: 160 | K26: =SUM(H26:J26) -> 1765 | N26: =SUM(H26:J26) -> 1765 | O26: =K26-N26 -> 0
A27: 동상방지층(순환골재) | B27: RSB-2 | C27: ㎥ | D27: 596 | E27: 8800 | F27: =TRUNC(E27*D27,0)-800 -> 5244000 | H27: 591 | J27: 5 | K27: =SUM(H27:J27) -> 596 | N27: =SUM(H27:J27) -> 596 | O27: =K27-N27 -> 0
N28: =SUM(H28:J28) -> 0 | O28: =K28-N28 -> 0
A29: 5) PVC관 | F29: =SUM(F30:F40) -> 124079000 | G29: 25년2월9일 | N29: =SUM(H29:J29) -> 0 | O29: =K29-N29 -> 0
A30: PVC 이중벽관 | B30: D200mm | C30: 본 | D30: 732 | E30: 107320 | F30: =TRUNC(E30*D30,0) -> 78558240 | H30: 732 | K30: =SUM(H30:J30) -> 732 | N30: =SUM(H30:J30) -> 732 | O30: =K30-N30 -> 0
A31: PVC 이중벽관 | B31: D150mm | C31: 본 | D31: 305 | E31: 69700 | F31: =TRUNC(E31*D31,0) -> 21258500 | H31: 2 | J31: 303 | K31: =SUM(H31:J31) -> 305 | N31: =SUM(H31:J31) -> 305 | O31: =K31-N31 -> 0
A32: PVC 접합부속 | B32: D200mm | C32: EA | D32: 841 | E32: 13180 | F32: =TRUNC(E32*D32,0) -> 11084380 | H32: 841 | K32: =SUM(H32:J32) -> 841 | N32: =SUM(H32:J32) -> 841 | O32: =K32-N32 -> 0
A33: PVC 접합부속 | B33: D150mm | C33: EA | D33: 313 | E33: 7560 | F33: =TRUNC(E33*D33,0) -> 2366280 | H33: 10 | J33: 303 | K33: =SUM(H33:J33) -> 313 | N33: =SUM(H33:J33) -> 313 | O33: =K33-N33 -> 0
A34: PVC 접합부속 | B34: D100mm | C34: EA | D34: 0 | E34: 2800 | F34: =TRUNC(E34*D34,0) -> 0 | H34: 0 | K34: =SUM(H34:J34) -> 0 | N34: =SUM(H34:J34) -> 0 | O34: =K34-N34 -> 0
A35: PVC 접합부속(고무링) | B35: D200mm | C35: EA | D35: 1682 | E35: 760 | F35: =TRUNC(E35*D35,0) -> 1278320 | H35: 1682 | K35: =SUM(H35:J35) -> 1682 | N35: =SUM(H35:J35) -> 1682 | O35: =K35-N35 -> 0
A36: PVC 접합부속(고무링) | B36: D150mm | C36: EA | D36: 626 | E36: 450 | F36: =TRUNC(E36*D36,0) -> 281700 | H36: 20 | J36: 606 | K36: =SUM(H36:J36) -> 626 | N36: =SUM(H36:J36) -> 626 | O36: =K36-N36 -> 0
A37: PVC 접합부속(고무링) | B37: D100mm | C37: EA | D37: 0 | E37: 220 | F37: =TRUNC(E37*D37,0) -> 0 | H37: 0 | K37: =SUM(H37:J37) -> 0 | N37: =SUM(H37:J37) -> 0 | O37: =K37-N37 -> 0
A38: 내충격PVC관 | B38: D=100×6.0m | C38: 본 | D38: 175 | E38: 36660 | F38: =TRUNC(E38*D38,0) -> 6415500 | J38: 175 | K38: =SUM(H38:J38) -> 175 | N38: =SUM(H38:J38) -> 175 | O38: =K38-N38 -> 0
A39: 양수소켓 | B39: D100mm | C39: EA | D39: 175 | E39: 12400 | F39: =TRUNC(E39*D39,0) -> 2170000 | J39: 175 | K39: =SUM(H39:J39) -> 175 | N39: =SUM(H39:J39) -> 175 | O39: =K39-N39 -> 0
A40: 조달수수료 | B40: 자재비의 | C40: % | D40: 0.54 | F40: =TRUNC(SUM(F30:F39)*D40%)-349 -> 666080 | K40: 0.54 | L40: =TRUNC(SUM(F30:F35)*K40%,-1) -> 618540 | N40: =SUM(H40:J40) -> 0 | O40: =K40-N40 -> 0.54
A42: 6) PE수도관 | F42: =SUM(F44:F45) -> 31337000 | G42: 25년2월9일 | N42: =SUM(H42:J42) -> 0 | O42: =K42-N42 -> 0
A43: PE수도관 | B43: D100×6.0m(Φ110) | C43: 본 | D43: 0 | E43: 90300 | F43: =TRUNC(E43*D43,0) -> 0 | H43: 0 | K43: =SUM(H43:J43) -> 0 | N43: =SUM(H43:J43) -> 0 | O43: =K43-N43 -> 0 | P43: ='[79]관급자재(토목,기계)_전체분'!$L$619+'[79]관급자재(토목,기계)_전체분'!$L$620+'[79]관급자재(토목,기계)_전체분'!$L$542+'[79]관급자재(토목,기계)_전체분'!$L$543 -> 197966660 | Q43: ='[79]관급자재(토목,기계)_전체분'!$L$605+'[79]관급자재(토목,기계)_전체분'!$L$606 -> 1715200
A44: PE수도관 | B44: D150×6.0m(Φ160) | C44: 본 | D44: 163 | E44: 191220 | F44: =TRUNC(E44*D44,0) -> 31168860 | H44: 378 | K44: =SUM(H44:J44) -> 378 | N44: =SUM(H44:J44) -> 378 | O44: =K44-N44 -> 0 | P44: =TRUNC(P43*0.54%) -> 1069019 | Q44: =TRUNC(Q43*0.54%) -> 9262
A45: 조달수수료 | B45: 자재비의 | C45: % | D45: 0.54 | F45: =TRUNC(SUM(F44)*D45%)-171 -> 168140 | K45: 0.54 | L45: =TRUNC(SUM(F43:F44)*K45%,-1) -> 168310 | N45: =SUM(H45:J45) -> 0 | O45: =K45-N45 -> 0.54
A47: 7) 이중보온관 | F47: =SUM(F48:F54) -> 0 | G47: 25년2월9일 | N47: =SUM(H47:J47) -> 0 | O47: =K47-N47 -> 0
A48: 단열이중보온관(노출용) | B48: 강관, D150 | C48: M | E48: 269500 | F48: =TRUNC(E48*D48,0) -> 0 | H48: 17 | K48: =SUM(H48:J48) -> 17 | N48: =SUM(H48:J48) -> 17 | O48: =K48-N48 -> 0
A49: 단열이중보온관(노출용) | B49: 강관, D150 엘보 | C49: EA | E49: 1051000 | F49: =TRUNC(E49*D49,0) -> 0 | H49: 4 | K49: =SUM(H49:J49) -> 4 | N49: =SUM(H49:J49) -> 4 | O49: =K49-N49 -> 0
A50: 단열이중보온관(노출용) | B50: 강관, D100 | C50: M | E50: 200800 | F50: =TRUNC(E50*D50,0) -> 0 | H50: 0 | K50: =SUM(H50:J50) -> 0
A51: 단열이중보온관(노출용) | B51: 강관, D100 엘보 | C51: EA | E51: 783100 | F51: =TRUNC(E51*D51,0) -> 0 | H51: 0 | K51: =SUM(H51:J51) -> 0
A52: 내관연결전자소켓 | B52: D150 | C52: EA | E52: 189640 | F52: =TRUNC(E52*D52,0) -> 0 | H52: 7 | K52: =SUM(H52:J52) -> 7
A53: 내관연결전자소켓 | B53: D100 | C53: EA | E53: 51260 | F53: =TRUNC(E53*D53,0) -> 0 | H53: 0 | K53: =SUM(H53:J53) -> 0
A54: 연결보온재 | B54: D150 | C54: EA | E54: 94080 | F54: =TRUNC(E54*D54,0) -> 0 | H54: 7 | K54: =SUM(H54:J54) -> 7
A55: 연결보온재 | B55: D100 | C55: EA | D55: 0 | E55: 89180 | F55: =TRUNC(E55*D55,0) -> 0 | H55: 0 | K55: =SUM(H55:J55) -> 0
A57: 8) GRP맨홀 | F57: =SUM(F58:F70) -> 129192000 | G57: 25년2월9일 | N57: =SUM(H57:J57) -> 0 | O57: =K57-N57 -> 0
A58: GRP맨홀 | B58: D900×1350mm | C58: EA | D58: 94 | E58: 897000 | F58: =TRUNC(E58*D58,0) -> 84318000 | H58: 94 | K58: =SUM(H58:J58) -> 94 | N58: =SUM(H58:J58) -> 94 | O58: =K58-N58 -> 0 | P58: ='[79]관급자재(토목,기계)_전체분'!$L$619+'[79]관급자재(토목,기계)_전체분'!$L$620+'[79]관급자재(토목,기계)_전체분'!$L$542+'[79]관급자재(토목,기계)_전체분'!$L$543 -> 197966660 | Q58: ='[79]관급자재(토목,기계)_전체분'!$L$605+'[79]관급자재(토목,기계)_전체분'!$L$606 -> 1715200
A59: GRP연결지관 | B59: D100mm | C59: EA | D59: 0 | E59: 52800 | F59: =TRUNC(E59*K59,0) -> 0 | K59: =SUM(H59:J59) -> 0
A60: GRP연결지관 | B60: D150mm | C60: EA | D60: 2 | E60: 52800 | F60: =TRUNC(E60*D60,0) -> 105600 | H60: 2 | K60: =SUM(H60:J60) -> 2
A61: GRP연결지관 | B61: D200mm | C61: EA | D61: 105 | E61: 57700 | F61: =TRUNC(E61*D61,0) -> 6058500 | H61: 105 | K61: =SUM(H61:J61) -> 105
A62: GRP맨홀, 높이조절단관 | B62: D900×10mm | C62: EA | D62: 9024 | E62: 3110 | F62: =TRUNC(E62*D62,0) -> 28064640 | H62: 9024 | K62: =SUM(H62:J62) -> 9024
A63: GRP맨홀 | B63: D1200×2100mm | C63: EA | D63: 4 | E63: 1479200 | F63: =TRUNC(E63*D63,0) -> 5916800 | H63: 4 | K63: =SUM(H63:J63) -> 4
A64: GRP맨홀, 높이조절단관 | B64: D1200×10mm | C64: EA | D64: 864 | E64: 4670 | F64: =TRUNC(E64*D64,0) -> 4034880 | H64: 864 | K64: =SUM(H64:J64) -> 864
A65: GRP맨홀펌프장 | B65: D2500×9710mm | C65: EA | E65: 39060000 | F65: =TRUNC(E65*D65,0) -> 0 | H65: 1 | K65: =SUM(H65:J65) -> 1
A66: GRP맨홀펌프장 | B66: D2500×8050mm | C66: EA | E66: 34310000 | F66: =TRUNC(E66*D66,0) -> 0 | H66: 1 | K66: =SUM(H66:J66) -> 1
A67: GRP맨홀펌프장 | B67: D3000×7050mm | C67: EA | E67: 43990000 | F67: =TRUNC(E67*D67,0) -> 0 | H67: 1 | K67: =SUM(H67:J67) -> 1
A68: GRP맨홀펌프장 | B68: D3000×4520mm | C68: EA | E68: 33690000 | F68: =TRUNC(E68*D68,0) -> 0 | H68: 1 | K68: =SUM(H68:J68) -> 1
A69: GRP맨홀펌프장 | B69: D3000×4720mm | C69: EA | E69: 34510000 | F69: =TRUNC(E69*D69,0) -> 0 | H69: 1 | K69: =SUM(H69:J69) -> 1 | N69: =SUM(H69:J69) -> 1 | O69: =K69-N69 -> 0 | P69: =TRUNC(P58*0.54%) -> 1069019 | Q69: =TRUNC(Q58*0.54%) -> 9262
A70: 조달수수료 | B70: 자재비의 | C70: % | D70: 0.54 | F70: =TRUNC(SUM(F58:F69)*D70%)-311 -> 693580 | K70: 0.54 | L70: =TRUNC(SUM(F58:F69)*K70%,-1) -> 693890 | N70: =SUM(H70:J70) -> 0 | O70: =K70-N70 -> 0.54
A72: 9) 맨홀류 | F72: =SUM(F73:F75) -> 18056000 | G72: 25년2월9일 | N72: =SUM(H72:J72) -> 0 | O72: =K72-N72 -> 0
A73: 소형맨홀 | B73: D300 | C73: EA | D73: 53 | E73: 209230 | F73: =TRUNC(E73*D73,0) -> 11089190 | J73: 118 | K73: =SUM(H73:J73) -> 118 | N73: =SUM(H73:J73) -> 118 | O73: =K73-N73 -> 0 | P73: ='[79]관급자재(토목,기계)_전체분'!$L$619+'[79]관급자재(토목,기계)_전체분'!$L$620+'[79]관급자재(토목,기계)_전체분'!$L$542+'[79]관급자재(토목,기계)_전체분'!$L$543 -> 197966660 | Q73: ='[79]관급자재(토목,기계)_전체분'!$L$605+'[79]관급자재(토목,기계)_전체분'!$L$606 -> 1715200
A74: 오수받이 | B74: D300 | C74: EA | D74: 32 | E74: 214700 | F74: =TRUNC(E74*D74,0) -> 6870400 | J74: 58 | K74: =SUM(H74:J74) -> 58 | N74: =SUM(H74:J74) -> 58 | O74: =K74-N74 -> 0 | P74: =TRUNC(P73*0.54%) -> 1069019 | Q74: =TRUNC(Q73*0.54%) -> 9262
A75: 조달수수료 | B75: 자재비의 | C75: % | D75: 0.54 | F75: =TRUNC(SUM(F73:F74)*D75%)-571 -> 96410 | K75: 0.54 | L75: =TRUNC(SUM(F73:F74)*K75%,-1) -> 96980 | N75: =SUM(H75:J75) -> 0 | O75: =K75-N75 -> 0.54
A77: 10) 맨홀뚜껑 | F77: =SUM(F78:F81) -> 59339000 | G77: 25년2월9일 | N77: =SUM(H77:J77) -> 0 | O77: =K77-N77 -> 0
A78: 맨홀뚜껑 | B78: Φ375mm, 오수 | C78: 조 | D78: 176 | E78: 67600 | F78: =TRUNC(E78*D78,0) -> 11897600 | J78: 176 | K78: =SUM(H78:J78) -> 176 | N78: =SUM(H78:J78) -> 176 | O78: =K78-N78 -> 0 | P78: ='[79]관급자재(토목,기계)_전체분'!$L$619+'[79]관급자재(토목,기계)_전체분'!$L$620+'[79]관급자재(토목,기계)_전체분'!$L$542+'[79]관급자재(토목,기계)_전체분'!$L$543 -> 197966660 | Q78: ='[79]관급자재(토목,기계)_전체분'!$L$605+'[79]관급자재(토목,기계)_전체분'!$L$606 -> 1715200
A79: 맨홀뚜껑 | B79: Φ648mm, 오수 | C79: 조 | D79: 103 | E79: 417800 | F79: =TRUNC(E79*D79,0) -> 43033400 | H79: 103 | J79: 0 | K79: =SUM(H79:J79) -> 103 | N79: =SUM(H79:J79) -> 103 | O79: =K79-N79 -> 0 | P79: ='[79]관급자재(토목,기계)_전체분'!$L$619+'[79]관급자재(토목,기계)_전체분'!$L$620+'[79]관급자재(토목,기계)_전체분'!$L$542+'[79]관급자재(토목,기계)_전체분'!$L$543 -> 197966660 | Q79: ='[79]관급자재(토목,기계)_전체분'!$L$605+'[79]관급자재(토목,기계)_전체분'!$L$606 -> 1715200
A80: 맨홀뚜껑 | B80: Φ766mm, 오수 | C80: 조 | D80: 6 | E80: 681700 | F80: =TRUNC(E80*D80,0) -> 4090200 | H80: 10 | K80: =SUM(H80:J80) -> 10 | N80: =SUM(H80:J80) -> 10 | O80: =K80-N80 -> 0 | P80: =TRUNC(P78*0.54%) -> 1069019 | Q80: =TRUNC(Q78*0.54%) -> 9262
A81: 조달수수료 | B81: 자재비의 | C81: % | D81: 0.54 | F81: =TRUNC(SUM(F78:F80)*D81%)-914 -> 317800 | K81: 0.54 | L81: =TRUNC(SUM(F78:F80)*K81%,-1) -> 318710 | N81: =SUM(H81:J81) -> 0 | O81: =K81-N81 -> 0.54
A83: 11) 휀스 및 출입문 | F83: =SUM(F84:F86) -> 0 | G83: 25년2월9일 | N83: =SUM(H83:J83) -> 0 | O83: =K83-N83 -> 0
A84: 메쉬휀스 | B84: W=2.0, H1.5 | C84: 경간 | E84: 91400 | F84: =TRUNC(E84*D84,0) -> 0 | H84: 13 | K84: =SUM(H84:J84) -> 13 | N84: =SUM(H84:J84) -> 13 | O84: =K84-N84 -> 0 | P84: ='[79]관급자재(토목,기계)_전체분'!$L$619+'[79]관급자재(토목,기계)_전체분'!$L$620+'[79]관급자재(토목,기계)_전체분'!$L$542+'[79]관급자재(토목,기계)_전체분'!$L$543 -> 197966660 | Q84: ='[79]관급자재(토목,기계)_전체분'!$L$605+'[79]관급자재(토목,기계)_전체분'!$L$606 -> 1715200
A85: 출입문 | B85: W=1.0, H1.5 | C85: 개소 | E85: 328000 | F85: =TRUNC(E85*D85,0) -> 0 | H85: 5 | K85: =SUM(H85:J85) -> 5 | N85: =SUM(H85:J85) -> 5 | O85: =K85-N85 -> 0 | P85: =TRUNC(P84*0.54%) -> 1069019 | Q85: =TRUNC(Q84*0.54%) -> 9262
A86: 조달수수료 | B86: 자재비의 | C86: % | D86: 0.54 | F86: =TRUNC(SUM(F84:F85)*D86%) -> 0 | K86: 0.54 | L86: =TRUNC(SUM(F84:F85)*K86%,-1) -> 0 | N86: =SUM(H86:J86) -> 0 | O86: =K86-N86 -> 0.54
N87: =SUM(H87:J87) -> 0 | O87: =K87-N87 -> 0
A88: 12) 와이어메쉬 | F88: =SUM(F89:F90) -> 7290000 | G88: 25년2월9일 | N88: =SUM(H88:J88) -> 0 | O88: =K88-N88 -> 0
A89: 와이어메쉬 | B89: #8×150×150 | C89: ㎡ | D89: 1795 | E89: 4040 | F89: =TRUNC(E89*D89,0) -> 7251800 | H89: 3740 | J89: 1729 | K89: =SUM(H89:J89) -> 5469 | N89: =SUM(H89:J89) -> 5469 | O89: =K89-N89 -> 0
A90: 조달수수료 | B90: 자재비의 | C90: % | D90: 0.54 | F90: =TRUNC(SUM(F89)*D90%)-959 -> 38200 | K90: 0.54 | L90: =TRUNC(SUM(F89:F89)*K90%,-1) -> 39150 | N90: =SUM(H90:J90) -> 0 | O90: =K90-N90 -> 0.54
N91: =SUM(H91:J91) -> 0 | O91: =K91-N91 -> 0
C92: 0
E93: 순환골재 | F93: =111200+800 -> 112000
E94: 이중보온관 | F94: =57460+540 -> 58000
E96: 합계 | F96: =SUM(F93:F95) -> 170000
F98: =F5+F96 -> 606237000

Sheet 관급자재(주진처리분구)
A1: 관급자재 구입 내역서
A2: ▣ 공사명: 여만처리분구 외 6개소 하수관로 정비사업(토목+기계) | G2: (단위 : 원)
A3: 품 명 | B3: 규 격 | C3: 단위 | D3: 수량 | E3: 단 가 | F3: 금 액 | G3: 비고 (납품기한) | H3: 수 량
H4: 오수 관로 | I4: 맨홀 펌프장 | J4: 배수 설비 | K4: 합 계
A5: ◈ 도급자 관급자재대 | F5: =F6 -> 158973000
A6: □. 주진처리분구 | F6: =SUM(F7,F12,F19,F25,F29,F42,F47,F57,F72,F77,F83,F88) -> 158973000 | P6: =725829964-F6-#REF!-#REF!-#REF!-#REF! -> #REF!
A7: 1) 레미콘 | F7: =SUM(F8:F10) -> 26079000 | G7: 25년2월9일 | N7: =SUM(H7:J7) -> 0 | O7: =K7-N7 -> 0
A8: 레미콘 | B8: 25-18-80 | C8: ㎥ | E8: 105550 | F8: =TRUNC(E8*D8,0) -> 0 | H8: 5 | J8: 0 | K8: =SUM(H8:J8) -> 5 | N8: =SUM(H8:J8) -> 5 | O8: =K8-N8 -> 0 | P8: ='[79]관급자재(토목,기계)_전체분'!$L$619+'[79]관급자재(토목,기계)_전체분'!$L$620+'[79]관급자재(토목,기계)_전체분'!$L$542+'[79]관급자재(토목,기계)_전체분'!$L$543 -> 197966660 | Q8: ='[79]관급자재(토목,기계)_전체분'!$L$605+'[79]관급자재(토목,기계)_전체분'!$L$606 -> 1715200
A9: 레미콘 | B9: 25-21-80 | C9: ㎥ | D9: 238 | E9: 108990 | F9: =TRUNC(E9*D9,0) -> 25939620 | H9: 121 | J9: 117 | K9: =SUM(H9:J9) -> 238 | N9: =SUM(H9:J9) -> 238 | O9: =K9-N9 -> 0 | P9: =TRUNC(P8*0.54%) -> 1069019 | Q9: =TRUNC(Q8*0.54%) -> 9262
A10: 조달수수료 | B10: 자재비의 | C10: % | D10: 0.54 | F10: =TRUNC(SUM(F8:F9)*D10%)-693 -> 139380 | K10: 0.54 | L10: =TRUNC(SUM(F8:F9)*K10%,-1) -> 140070 | N10: =SUM(H10:J10) -> 0 | O10: =K10-N10 -> 0.54
A12: 2) 아스팔트콘크리트 | F12: =SUM(F13:F17) -> 53150000 | G12: 25년2월9일 | N12: =SUM(H12:J12) -> 0 | O12: =K12-N12 -> 0
A13: 아스콘 | B13: #78 표층용 | C13: M/T | D13: 254 | E13: 110450 | F13: =TRUNC(E13*D13,0) -> 28054300 | H13: 214 | J13: 40 | K13: =SUM(H13:J13) -> 254 | N13: =SUM(H13:J13) -> 254 | O13: =K13-N13 -> 0 | P13: ='[79]관급자재(토목,기계)_전체분'!$L$619+'[79]관급자재(토목,기계)_전체분'!$L$620+'[79]관급자재(토목,기계)_전체분'!$L$542+'[79]관급자재(토목,기계)_전체분'!$L$543 -> 197966660 | Q13: ='[79]관급자재(토목,기계)_전체분'!$L$605+'[79]관급자재(토목,기계)_전체분'!$L$606 -> 1715200
A14: 아스콘(재생용) | B14: #787 표층용 | C14: M/T | D14: 169 | E14: 93700 | F14: =TRUNC(E14*D14,0) -> 15835300 | H14: 142 | J14: 27 | K14: =SUM(H14:J14) -> 169 | N14: =SUM(H14:J14) -> 169 | O14: =K14-N14 -> 0 | P14: =TRUNC(P13*0.54%) -> 1069019 | Q14: =TRUNC(Q13*0.54%) -> 9262
A15: 아스콘 | B15: #467 기층용 | C15: M/T | D15: 62 | E15: 91960 | F15: =TRUNC(E15*D15,0) -> 5701520 | H15: 62 | K15: =SUM(H15:J15) -> 62 | N15: =SUM(H15:J15) -> 62 | O15: =K15-N15 -> 0 | P15: ='[79]관급자재(토목,기계)_전체분'!$L$619+'[79]관급자재(토목,기계)_전체분'!$L$620+'[79]관급자재(토목,기계)_전체분'!$L$542+'[79]관급자재(토목,기계)_전체분'!$L$543 -> 197966660 | Q15: ='[79]관급자재(토목,기계)_전체분'!$L$605+'[79]관급자재(토목,기계)_전체분'!$L$606 -> 1715200
A16: 아스콘(재생용) | B16: #467 기층용 | C16: M/T | D16: 41 | E16: 79850 | F16: =TRUNC(E16*D16,0) -> 3273850 | H16: 41 | K16: =SUM(H16:J16) -> 41 | N16: =SUM(H16:J16) -> 41 | O16: =K16-N16 -> 0 | P16: =TRUNC(P15*0.54%) -> 1069019 | Q16: =TRUNC(Q15*0.54%) -> 9262
A17: 조달수수료 | B17: 자재비의 | C17: % | D17: 0.54 | F17: =TRUNC(SUM(F13:F16)*D17%)-440 -> 285030 | K17: 0.54 | L17: =TRUNC(SUM(F15:F16)*K17%,-1) -> 48460 | N17: =SUM(H17:J17) -> 0 | O17: =K17-N17 -> 0.54
A19: 3) 기층재 | F19: =SUM(F20:F23) -> 18919000 | G19: 25년2월9일 | N19: =SUM(H19:J19) -> 0 | O19: =K19-N19 -> 0
A20: 보조기층 | B20: 40mm | C20: ㎥ | D20: 369 | E20: 20680 | F20: =TRUNC(E20*D20,0) -> 7630920 | H20: 281 | J20: 88 | K20: =SUM(H20:J20) -> 369 | N20: =SUM(H20:J20) -> 369 | O20: =K20-N20 -> 0
A21: 동상방지층 | B21: 75mm | C21: ㎥ | D21: 58 | E21: 22000 | F21: =TRUNC(E21*D21,0) -> 1276000 | H21: 58 | J21: 0 | K21: =SUM(H21:J21) -> 58 | N21: =SUM(H21:J21) -> 58 | O21: =K21-N21 -> 0
A22: 석분 | B22: 8MM이하 | C22: ㎥ | D22: 425 | E22: 23320 | F22: =TRUNC(E22*D22,0) -> 9911000 | H22: 277 | J22: 148 | K22: =SUM(H22:J22) -> 425 | N22: =SUM(H22:J22) -> 425 | O22: =K22-N22 -> 0
A23: 조달수수료 | B23: 자재비의 | C23: % | D23: 0.54 | F23: =TRUNC(SUM(F20:F22)*D23%)-536 -> 101080 | K23: 0.54 | L23: =TRUNC(SUM(F20:F22)*K23%,-1) -> 101610 | N23: =SUM(H23:J23) -> 0 | O23: =K23-N23 -> 0.54
N24: =SUM(H24:J24) -> 0 | O24: =K24-N24 -> 0
A25: 4) 기층재(순환골재) | F25: =SUM(F26:F27) -> 2508000 | G25: 25년2월9일 | N25: =SUM(H25:J25) -> 0 | O25: =K25-N25 -> 0
A26: 보조기층(순환골재) | B26: RSB-2 | C26: ㎥ | D26: 246 | E26: 8800 | F26: =TRUNC(E26*D26,0) -> 2164800 | H26: 187 | J26: 59 | K26: =SUM(H26:J26) -> 246 | N26: =SUM(H26:J26) -> 246 | O26: =K26-N26 -> 0
A27: 동상방지층(순환골재) | B27: RSB-2 | C27: ㎥ | D27: 39 | E27: 8800 | F27: =TRUNC(E27*D27,0) -> 343200 | H27: 39 | J27: 0 | K27: =SUM(H27:J27) -> 39 | N27: =SUM(H27:J27) -> 39 | O27: =K27-N27 -> 0
N28: =SUM(H28:J28) -> 0 | O28: =K28-N28 -> 0
A29: 5) PVC관 | F29: =SUM(F30:F40) -> 10613000 | G29: 25년2월9일 | N29: =SUM(H29:J29) -> 0 | O29: =K29-N29 -> 0
A30: PVC 이중벽관 | B30: D200mm | C30: 본 | D30: 29 | E30: 107320 | F30: =TRUNC(E30*D30,0) -> 3112280 | H30: 29 | K30: =SUM(H30:J30) -> 29 | N30: =SUM(H30:J30) -> 29 | O30: =K30-N30 -> 0
A31: PVC 이중벽관 | B31: D150mm | C31: 본 | D31: 79 | E31: 69700 | F31: =TRUNC(E31*D31,0) -> 5506300 | H31: 0 | J31: 79 | K31: =SUM(H31:J31) -> 79 | N31: =SUM(H31:J31) -> 79 | O31: =K31-N31 -> 0
A32: PVC 접합부속 | B32: D200mm | C32: EA | D32: 33 | E32: 13180 | F32: =TRUNC(E32*D32,0) -> 434940 | H32: 33 | K32: =SUM(H32:J32) -> 33 | N32: =SUM(H32:J32) -> 33 | O32: =K32-N32 -> 0
A33: PVC 접합부속 | B33: D150mm | C33: EA | D33: 79 | E33: 7560 | F33: =TRUNC(E33*D33,0) -> 597240 | H33: 0 | J33: 79 | K33: =SUM(H33:J33) -> 79 | N33: =SUM(H33:J33) -> 79 | O33: =K33-N33 -> 0
A34: PVC 접합부속 | B34: D100mm | C34: EA | D34: 0 | E34: 2800 | F34: =TRUNC(E34*D34,0) -> 0 | H34: 0 | K34: =SUM(H34:J34) -> 0 | N34: =SUM(H34:J34) -> 0 | O34: =K34-N34 -> 0
A35: PVC 접합부속(고무링) | B35: D200mm | C35: EA | D35: 66 | E35: 760 | F35: =TRUNC(E35*D35,0) -> 50160 | H35: 66 | K35: =SUM(H35:J35) -> 66 | N35: =SUM(H35:J35) -> 66 | O35: =K35-N35 -> 0
A36: PVC 접합부속(고무링) | B36: D150mm | C36: EA | D36: 158 | E36: 450 | F36: =TRUNC(E36*D36,0) -> 71100 | H36: 0 | J36: 158 | K36: =SUM(H36:J36) -> 158 | N36: =SUM(H36:J36) -> 158 | O36: =K36-N36 -> 0
A37: PVC 접합부속(고무링) | B37: D100mm | C37: EA | D37: 0 | E37: 220 | F37: =TRUNC(E37*D37,0) -> 0 | H37: 0 | K37: =SUM(H37:J37) -> 0 | N37: =SUM(H37:J37) -> 0 | O37: =K37-N37 -> 0
A38: 내충격PVC관 | B38: D=100×6.0m | C38: 본 | D38: 16 | E38: 36660 | F38: =TRUNC(E38*D38,0) -> 586560 | J38: 16 | K38: =SUM(H38:J38) -> 16 | N38: =SUM(H38:J38) -> 16 | O38: =K38-N38 -> 0
A39: 양수소켓 | B39: D100mm | C39: EA | D39: 16 | E39: 12400 | F39: =TRUNC(E39*D39,0) -> 198400 | J39: 16 | K39: =SUM(H39:J39) -> 16 | N39: =SUM(H39:J39) -> 16 | O39: =K39-N39 -> 0
A40: 조달수수료 | B40: 자재비의 | C40: % | D40: 0.54 | F40: =TRUNC(SUM(F30:F39)*D40%)-987 -> 56020 | K40: 0.54 | L40: =TRUNC(SUM(F30:F35)*K40%,-1) -> 52380 | N40: =SUM(H40:J40) -> 0 | O40: =K40-N40 -> 0.54
A42: 6) PE수도관 | F42: =SUM(F44:F45) -> 23070000 | N42: =SUM(H42:J42) -> 0 | O42: =K42-N42 -> 0
A43: PE수도관 | B43: D100×6.0m(Φ110) | C43: 본 | D43: 0 | E43: 90300 | F43: =TRUNC(E43*D43,0) -> 0 | H43: 0 | K43: =SUM(H43:J43) -> 0 | N43: =SUM(H43:J43) -> 0 | O43: =K43-N43 -> 0 | P43: ='[79]관급자재(토목,기계)_전체분'!$L$619+'[79]관급자재(토목,기계)_전체분'!$L$620+'[79]관급자재(토목,기계)_전체분'!$L$542+'[79]관급자재(토목,기계)_전체분'!$L$543 -> 197966660 | Q43: ='[79]관급자재(토목,기계)_전체분'!$L$605+'[79]관급자재(토목,기계)_전체분'!$L$606 -> 1715200
A44: PE수도관 | B44: D150×6.0m(Φ160) | C44: 본 | D44: 120 | E44: 191220 | F44: =TRUNC(E44*D44,0) -> 22946400 | H44: 120 | K44: =SUM(H44:J44) -> 120 | N44: =SUM(H44:J44) -> 120 | O44: =K44-N44 -> 0 | P44: =TRUNC(P43*0.54%) -> 1069019 | Q44: =TRUNC(Q43*0.54%) -> 9262
A45: 조달수수료 | B45: 자재비의 | C45: % | D45: 0.54 | F45: =TRUNC(SUM(F43:F44)*D45%)-310 -> 123600 | K45: 0.54 | L45: =TRUNC(SUM(F43:F44)*K45%,-1) -> 123910 | N45: =SUM(H45:J45) -> 0 | O45: =K45-N45 -> 0.54
A47: 7) 이중보온관 | F47: =SUM(F48:F54) -> 0 | N47: =SUM(H47:J47) -> 0 | O47: =K47-N47 -> 0
A48: 단열이중보온관(노출용) | B48: 강관, D150 | C48: M | E48: 269500 | F48: =TRUNC(E48*D48,0) -> 0 | H48: 148 | K48: =SUM(H48:J48) -> 148 | N48: =SUM(H48:J48) -> 148 | O48: =K48-N48 -> 0
A49: 단열이중보온관(노출용) | B49: 강관, D150 엘보 | C49: EA | E49: 1051000 | F49: =TRUNC(E49*D49,0) -> 0 | H49: 4 | K49: =SUM(H49:J49) -> 4 | N49: =SUM(H49:J49) -> 4 | O49: =K49-N49 -> 0
A50: 단열이중보온관(노출용) | B50: 강관, D100 | C50: M | D50: 0 | E50: 200800 | F50: =TRUNC(E50*D50,0) -> 0 | H50: 0 | K50: =SUM(H50:J50) -> 0
A51: 단열이중보온관(노출용) | B51: 강관, D100 엘보 | C51: EA | D51: 0 | E51: 783100 | F51: =TRUNC(E51*D51,0) -> 0 | H51: 0 | K51: =SUM(H51:J51) -> 0
A52: 내관연결전자소켓 | B52: D150 | C52: EA | E52: 189640 | F52: =TRUNC(E52*D52,0) -> 0 | H52: 29 | K52: =SUM(H52:J52) -> 29
A53: 내관연결전자소켓 | B53: D100 | C53: EA | D53: 0 | E53: 51260 | F53: =TRUNC(E53*D53,0) -> 0 | H53: 0 | K53: =SUM(H53:J53) -> 0
A54: 연결보온재 | B54: D150 | C54: EA | E54: 94080 | F54: =TRUNC(E54*D54,0) -> 0 | H54: 29 | K54: =SUM(H54:J54) -> 29
A55: 연결보온재 | B55: D100 | C55: EA | D55: 0 | E55: 89180 | F55: =TRUNC(E55*D55,0) -> 0 | H55: 0 | K55: =SUM(H55:J55) -> 0
A57: 8) GRP맨홀 | F57: =SUM(F58:F70) -> 12771000 | G57: 25년2월9일 | N57: =SUM(H57:J57) -> 0 | O57: =K57-N57 -> 0
A58: GRP맨홀 | B58: D900×1350mm | C58: EA | D58: 13 | E58: 897000 | F58: =TRUNC(E58*D58,0) -> 11661000 | H58: 5 | J58: 8 | K58: =SUM(H58:J58) -> 13 | N58: =SUM(H58:J58) -> 13 | O58: =K58-N58 -> 0 | P58: ='[79]관급자재(토목,기계)_전체분'!$L$619+'[79]관급자재(토목,기계)_전체분'!$L$620+'[79]관급자재(토목,기계)_전체분'!$L$542+'[79]관급자재(토목,기계)_전체분'!$L$543 -> 197966660 | Q58: ='[79]관급자재(토목,기계)_전체분'!$L$605+'[79]관급자재(토목,기계)_전체분'!$L$606 -> 1715200
A59: GRP연결지관 | B59: D100mm | C59: EA | D59: 0 | E59: 52800 | F59: =TRUNC(E59*K59,0) -> 0 | K59: =SUM(H59:J59) -> 0
A60: GRP연결지관 | B60: D150mm | C60: EA | D60: 3 | E60: 52800 | F60: =TRUNC(E60*D60,0) -> 158400 | H60: 0 | J60: 3 | K60: =SUM(H60:J60) -> 3
A61: GRP연결지관 | B61: D200mm | C61: EA | D61: 4 | E61: 57700 | F61: =TRUNC(E61*D61,0) -> 230800 | H61: 4 | K61: =SUM(H61:J61) -> 4
A62: GRP맨홀, 높이조절단관 | B62: D900×10mm | C62: EA | D62: 210 | E62: 3110 | F62: =TRUNC(E62*D62,0) -> 653100 | H62: 210 | K62: =SUM(H62:J62) -> 210
A63: GRP맨홀 | B63: D1200×2100mm | C63: EA | D63: 0 | E63: 1479200 | F63: =TRUNC(E63*D63,0) -> 0 | H63: 0 | K63: =SUM(H63:J63) -> 0
A64: GRP맨홀, 높이조절단관 | B64: D1200×10mm | C64: EA | D64: 0 | E64: 4670 | F64: =TRUNC(E64*D64,0) -> 0 | H64: 0 | K64: =SUM(H64:J64) -> 0
A65: GRP맨홀펌프장 | B65: D2500×9710mm | C65: EA | D65: 0 | E65: 39060000 | F65: =TRUNC(E65*D65,0) -> 0 | H65: 0 | K65: =SUM(H65:J65) -> 0
A66: GRP맨홀펌프장 | B66: D2500×8050mm | C66: EA | D66: 0 | E66: 34310000 | F66: =TRUNC(E66*D66,0) -> 0 | H66: 0 | K66: =SUM(H66:J66) -> 0
A67: GRP맨홀펌프장 | B67: D3000×7050mm | C67: EA | D67: 0 | E67: 43990000 | F67: =TRUNC(E67*D67,0) -> 0 | H67: 0 | K67: =SUM(H67:J67) -> 0
A68: GRP맨홀펌프장 | B68: D3000×4520mm | C68: EA | D68: 0 | E68: 33690000 | F68: =TRUNC(E68*D68,0) -> 0 | H68: 0 | K68: =SUM(H68:J68) -> 0
A69: GRP맨홀펌프장 | B69: D3000×4720mm | C69: EA | D69: 0 | E69: 34510000 | F69: =TRUNC(E69*D69,0) -> 0 | H69: 0 | K69: =SUM(H69:J69) -> 0 | N69: =SUM(H69:J69) -> 0 | O69: =K69-N69 -> 0 | P69: =TRUNC(P58*0.54%) -> 1069019 | Q69: =TRUNC(Q58*0.54%) -> 9262
A70: 조달수수료 | B70: 자재비의 | C70: % | D70: 0.54 | F70: =TRUNC(SUM(F58:F68)*D70%)-897 -> 67700 | K70: 0.54 | L70: =TRUNC(SUM(F58:F69)*K70%,-1) -> 68590 | N70: =SUM(H70:J70) -> 0 | O70: =K70-N70 -> 0.54
A72: 9) 맨홀류 | F72: =SUM(F73:F75) -> 1284000 | G72: 25년2월9일 | N72: =SUM(H72:J72) -> 0 | O72: =K72-N72 -> 0
A73: 소형맨홀 | B73: D300 | C73: EA | D73: 2 | E73: 209230 | F73: =TRUNC(E73*D73,0) -> 418460 | J73: 2 | K73: =SUM(H73:J73) -> 2 | N73: =SUM(H73:J73) -> 2 | O73: =K73-N73 -> 0 | P73: ='[79]관급자재(토목,기계)_전체분'!$L$619+'[79]관급자재(토목,기계)_전체분'!$L$620+'[79]관급자재(토목,기계)_전체분'!$L$542+'[79]관급자재(토목,기계)_전체분'!$L$543 -> 197966660 | Q73: ='[79]관급자재(토목,기계)_전체분'!$L$605+'[79]관급자재(토목,기계)_전체분'!$L$606 -> 1715200
A74: 오수받이 | B74: D300 | C74: EA | D74: 4 | E74: 214700 | F74: =TRUNC(E74*D74,0) -> 858800 | J74: 4 | K74: =SUM(H74:J74) -> 4 | N74: =SUM(H74:J74) -> 4 | O74: =K74-N74 -> 0 | P74: =TRUNC(P73*0.54%) -> 1069019 | Q74: =TRUNC(Q73*0.54%) -> 9262
A75: 조달수수료 | B75: 자재비의 | C75: % | D75: 0.54 | F75: =TRUNC(SUM(F73:F74)*D75%)-157 -> 6740 | K75: 0.54 | L75: =TRUNC(SUM(F73:F74)*K75%,-1) -> 6890 | N75: =SUM(H75:J75) -> 0 | O75: =K75-N75 -> 0.54
A77: 10) 맨홀뚜껑 | F77: =SUM(F78:F81) -> 5868000 | G77: 25년2월9일 | N77: =SUM(H77:J77) -> 0 | O77: =K77-N77 -> 0
A78: 맨홀뚜껑 | B78: Φ375mm, 오수 | C78: 조 | D78: 6 | E78: 67600 | F78: =TRUNC(E78*D78,0) -> 405600 | J78: 6 | K78: =SUM(H78:J78) -> 6 | N78: =SUM(H78:J78) -> 6 | O78: =K78-N78 -> 0 | P78: ='[79]관급자재(토목,기계)_전체분'!$L$619+'[79]관급자재(토목,기계)_전체분'!$L$620+'[79]관급자재(토목,기계)_전체분'!$L$542+'[79]관급자재(토목,기계)_전체분'!$L$543 -> 197966660 | Q78: ='[79]관급자재(토목,기계)_전체분'!$L$605+'[79]관급자재(토목,기계)_전체분'!$L$606 -> 1715200
A79: 맨홀뚜껑 | B79: Φ648mm, 오수 | C79: 조 | D79: 13 | E79: 417800 | F79: =TRUNC(E79*D79,0) -> 5431400 | H79: 5 | J79: 8 | K79: =SUM(H79:J79) -> 13 | N79: =SUM(H79:J79) -> 13 | O79: =K79-N79 -> 0 | P79: ='[79]관급자재(토목,기계)_전체분'!$L$619+'[79]관급자재(토목,기계)_전체분'!$L$620+'[79]관급자재(토목,기계)_전체분'!$L$542+'[79]관급자재(토목,기계)_전체분'!$L$543 -> 197966660 | Q79: ='[79]관급자재(토목,기계)_전체분'!$L$605+'[79]관급자재(토목,기계)_전체분'!$L$606 -> 1715200
A80: 맨홀뚜껑 | B80: Φ766mm, 오수 | C80: 조 | D80: 0 | E80: 681700 | F80: =TRUNC(E80*D80,0) -> 0 | H80: 0 | K80: =SUM(H80:J80) -> 0 | N80: =SUM(H80:J80) -> 0 | O80: =K80-N80 -> 0 | P80: =TRUNC(P78*0.54%) -> 1069019 | Q80: =TRUNC(Q78*0.54%) -> 9262
A81: 조달수수료 | B81: 자재비의 | C81: % | D81: 0.54 | F81: =TRUNC(SUM(F78:F80)*D81%)-519 -> 31000 | K81: 0.54 | L81: =TRUNC(SUM(F78:F80)*K81%,-1) -> 31510 | N81: =SUM(H81:J81) -> 0 | O81: =K81-N81 -> 0.54
A83: 11) 휀스 및 출입문 | F83: =TRUNC(SUM(F84:F85)+TRUNC(SUM(F84:F85)*K86%,-1),-3) -> 0 | G83: 24년12월30일 | N83: =SUM(H83:J83) -> 0 | O83: =K83-N83 -> 0
A84: 메쉬휀스 | B84: W=2.0, H1.5 | C84: 경간 | D84: 0 | E84: 91400 | F84: =TRUNC(E84*D84,0) -> 0 | H84: 0 | K84: =SUM(H84:J84) -> 0 | N84: =SUM(H84:J84) -> 0 | O84: =K84-N84 -> 0 | P84: ='[79]관급자재(토목,기계)_전체분'!$L$619+'[79]관급자재(토목,기계)_전체분'!$L$620+'[79]관급자재(토목,기계)_전체분'!$L$542+'[79]관급자재(토목,기계)_전체분'!$L$543 -> 197966660 | Q84: ='[79]관급자재(토목,기계)_전체분'!$L$605+'[79]관급자재(토목,기계)_전체분'!$L$606 -> 1715200
A85: 출입문 | B85: W=1.0, H1.5 | C85: 개소 | D85: 0 | E85: 328000 | F85: =TRUNC(E85*D85,0) -> 0 | H85: 0 | K85: =SUM(H85:J85) -> 0 | N85: =SUM(H85:J85) -> 0 | O85: =K85-N85 -> 0 | P85: =TRUNC(P84*0.54%) -> 1069019 | Q85: =TRUNC(Q84*0.54%) -> 9262
A86: 조달수수료 | B86: 자재비의 | C86: % | D86: 0.54 | F86: =F83-F84-F85 -> 0 | K86: 0.54 | L86: =TRUNC(SUM(F84:F85)*K86%,-1) -> 0 | N86: =SUM(H86:J86) -> 0 | O86: =K86-N86 -> 0.54
N87: =SUM(H87:J87) -> 0 | O87: =K87-N87 -> 0
A88: 11) 와이어메쉬 | F88: =SUM(F89:F90) -> 4711000 | G88: 25년2월9일 | N88: =SUM(H88:J88) -> 0 | O88: =K88-N88 -> 0
A89: 와이어메쉬 | B89: #8×150×150 | C89: ㎡ | D89: 1160 | E89: 4040 | F89: =TRUNC(E89*D89,0) -> 4686400 | H89: 586 | J89: 574 | K89: =SUM(H89:J89) -> 1160 | N89: =SUM(H89:J89) -> 1160 | O89: =K89-N89 -> 0
A90: 조달수수료 | B90: 자재비의 | C90: % | D90: 0.54 | F90: =TRUNC(SUM(F89)*D90%)-706 -> 24600 | K90: 0.54 | L90: =TRUNC(SUM(F89:F89)*K90%,-1) -> 25300 | N90: =SUM(H90:J90) -> 0 | O90: =K90-N90 -> 0.54
N91: =SUM(H91:J91) -> 0 | O91: =K91-N91 -> 0
C92: 0
E93: 순환골재 | F93: =13000 -> 13000
E94: 이중보온관 | F94: =282120+880 -> 283000
E96: 합계 | F96: =SUM(F93:F95) -> 296000
F98: =F5+F96 -> 159269000

Sheet 관급자재(용항처리분구)
A1: 관급자재 구입 내역서
A2: ▣ 공사명: 여만처리분구 외 6개소 하수관로 정비사업(토목+기계) | G2: (단위 : 원)
A3: 품 명 | B3: 규 격 | C3: 단위 | D3: 수량 | E3: 단 가 | F3: 금 액 | G3: 비고 (납품기한) | H3: 수 량
H4: 오수 관로 | I4: 맨홀 펌프장 | J4: 배수 설비 | K4: 합 계
A5: ◈ 도급자 관급자재대 | F5: =F6 -> 184798000
A6: □. 용항처리분구 | F6: =SUM(F7,F12,F19,F25,F29,F42,F48,F58,F68,F73,F79,F84) -> 184798000 | P6: =725829964-F6-#REF!-#REF!-#REF!-#REF! -> #REF!
A7: 1) 레미콘 | F7: =TRUNC(SUM(F8:F9)+TRUNC(SUM(F8:F9)*K10%,-1),-3) -> 0 | G7: 계약완료 | N7: =SUM(H7:J7) -> 0 | O7: =K7-N7 -> 0
A8: 레미콘 | B8: 25-18-80 | C8: ㎥ | D8: 0 | E8: 105550 | F8: =TRUNC(E8*D8,0) -> 0 | H8: 9 | I8: 1 | J8: 0 | K8: =SUM(H8:J8) -> 10 | N8: =SUM(H8:J8) -> 10 | O8: =K8-N8 -> 0 | P8: ='[79]관급자재(토목,기계)_전체분'!$L$619+'[79]관급자재(토목,기계)_전체분'!$L$620+'[79]관급자재(토목,기계)_전체분'!$L$542+'[79]관급자재(토목,기계)_전체분'!$L$543 -> 197966660 | Q8: ='[79]관급자재(토목,기계)_전체분'!$L$605+'[79]관급자재(토목,기계)_전체분'!$L$606 -> 1715200
A9: 레미콘 | B9: 25-21-80 | C9: ㎥ | D9: 0 | E9: 108990 | F9: =TRUNC(E9*D9,0) -> 0 | H9: 382 | I9: 14 | J9: 557 | K9: =SUM(H9:J9) -> 953 | N9: =SUM(H9:J9) -> 953 | O9: =K9-N9 -> 0 | P9: =TRUNC(P8*0.54%) -> 1069019 | Q9: =TRUNC(Q8*0.54%) -> 9262
A10: 조달수수료 | B10: 자재비의 | C10: % | D10: 0.54 | F10: =F7-F8-F9 -> 0 | K10: 0.54 | L10: =TRUNC(SUM(F8:F9)*K10%,-1) -> 0 | N10: =SUM(H10:J10) -> 0 | O10: =K10-N10 -> 0.54
A12: 1) 아스팔트콘크리트 | F12: =SUM(F13:F17) -> 184723000 | G12: 25년2월9일 | N12: =SUM(H12:J12) -> 0 | O12: =K12-N12 -> 0
A13: 아스콘 | B13: #78 표층용 | C13: M/T | D13: 1062 | E13: 110450 | F13: =TRUNC(E13*D13,0) -> 117297900 | H13: 492 | J13: 570 | K13: =SUM(H13:J13) -> 1062 | N13: =SUM(H13:J13) -> 1062 | O13: =K13-N13 -> 0 | P13: ='[79]관급자재(토목,기계)_전체분'!$L$619+'[79]관급자재(토목,기계)_전체분'!$L$620+'[79]관급자재(토목,기계)_전체분'!$L$542+'[79]관급자재(토목,기계)_전체분'!$L$543 -> 197966660 | Q13: ='[79]관급자재(토목,기계)_전체분'!$L$605+'[79]관급자재(토목,기계)_전체분'!$L$606 -> 1715200
A14: 아스콘(재생용) | B14: #787 표층용 | C14: M/T | D14: 709 | E14: 93700 | F14: =TRUNC(E14*D14,0) -> 66433300 | H14: 330 | J14: 379 | K14: =SUM(H14:J14) -> 709 | N14: =SUM(H14:J14) -> 709 | O14: =K14-N14 -> 0 | P14: =TRUNC(P13*0.54%) -> 1069019 | Q14: =TRUNC(Q13*0.54%) -> 9262
A15: 아스콘 | B15: #467 기층용 | C15: M/T | D15: 0 | E15: 92680 | F15: =TRUNC(E15*D15,0) -> 0 | G15: 계약완료 | H15: 149 | J15: 12 | K15: =SUM(H15:J15) -> 161 | N15: =SUM(H15:J15) -> 161 | O15: =K15-N15 -> 0 | P15: ='[79]관급자재(토목,기계)_전체분'!$L$619+'[79]관급자재(토목,기계)_전체분'!$L$620+'[79]관급자재(토목,기계)_전체분'!$L$542+'[79]관급자재(토목,기계)_전체분'!$L$543 -> 197966660 | Q15: ='[79]관급자재(토목,기계)_전체분'!$L$605+'[79]관급자재(토목,기계)_전체분'!$L$606 -> 1715200
A16: 아스콘(재생용) | B16: #467 기층용 | C16: M/T | D16: 0 | E16: 85650 | F16: =TRUNC(E16*D16,0) -> 0 | G16: 계약완료 | H16: 100 | J16: 8 | K16: =SUM(H16:J16) -> 108 | N16: =SUM(H16:J16) -> 108 | O16: =K16-N16 -> 0 | P16: =TRUNC(P15*0.54%) -> 1069019 | Q16: =TRUNC(Q15*0.54%) -> 9262
A17: 조달수수료 | B17: 자재비의 | C17: % | D17: 0.54 | F17: =TRUNC(SUM(F13:F16)*D17%)-348 -> 991800 | K17: 0.54 | L17: =TRUNC(SUM(F15:F16)*K17%,-1) -> 0 | N17: =SUM(H17:J17) -> 0 | O17: =K17-N17 -> 0.54
A19: 3) 기층재 | F19: =TRUNC(SUM(F20:F22)+TRUNC(SUM(F20:F22)*K23%,-1),-3) -> 0 | G19: 계약완료 | N19: =SUM(H19:J19) -> 0 | O19: =K19-N19 -> 0
A20: 보조기층 | B20: 40mm | C20: ㎥ | D20: 0 | E20: 20680 | F20: =TRUNC(E20*D20,0) -> 0 | H20: 768 | J20: 435 | K20: =SUM(H20:J20) -> 1203 | N20: =SUM(H20:J20) -> 1203 | O20: =K20-N20 -> 0
A21: 동상방지층 | B21: 75mm | C21: ㎥ | D21: 0 | E21: 22000 | F21: =TRUNC(E21*D21,0) -> 0 | H21: 147 | J21: 19 | K21: =SUM(H21:J21) -> 166 | N21: =SUM(H21:J21) -> 166 | O21: =K21-N21 -> 0
A22: 석분 | B22: 8MM이하 | C22: ㎥ | D22: 0 | E22: 23320 | F22: =TRUNC(E22*D22,0) -> 0 | H22: 1282 | J22: 563 | K22: =SUM(H22:J22) -> 1845 | N22: =SUM(H22:J22) -> 1845 | O22: =K22-N22 -> 0
A23: 조달수수료 | B23: 자재비의 | C23: % | D23: 0.54 | F23: =F19-F20-F21-F22 -> 0 | K23: 0.54 | L23: =TRUNC(SUM(F20:F22)*K23%,-1) -> 0 | N23: =SUM(H23:J23) -> 0 | O23: =K23-N23 -> 0.54
N24: =SUM(H24:J24) -> 0 | O24: =K24-N24 -> 0
A25: 4) 기층재(순환골재) | F25: =SUM(F26:F27) -> 0 | G25: 계약완료 | N25: =SUM(H25:J25) -> 0 | O25: =K25-N25 -> 0
A26: 보조기층(순환골재) | B26: RSB-2 | C26: ㎥ | D26: 0 | E26: 8800 | F26: =TRUNC(E26*D26,0) -> 0 | H26: 512 | J26: 290 | K26: =SUM(H26:J26) -> 802 | N26: =SUM(H26:J26) -> 802 | O26: =K26-N26 -> 0
A27: 동상방지층(순환골재) | B27: RSB-2 | C27: ㎥ | D27: 0 | E27: 8800 | F27: =TRUNC(E27*D27,0) -> 0 | H27: 98 | J27: 13 | K27: =SUM(H27:J27) -> 111 | N27: =SUM(H27:J27) -> 111 | O27: =K27-N27 -> 0
N28: =SUM(H28:J28) -> 0 | O28: =K28-N28 -> 0
A29: 5) PVC관 | F29: =TRUNC(SUM(F30:F39)+TRUNC(SUM(F30:F39)*K40%,-1),-3) -> 22000 | G29: 계약완료 | N29: =SUM(H29:J29) -> 0 | O29: =K29-N29 -> 0
A30: PVC 이중벽관 | B30: D200mm | C30: 본 | D30: 0 | E30: 107320 | F30: =TRUNC(E30*D30,0) -> 0 | H30: 282 | K30: =SUM(H30:J30) -> 282 | N30: =SUM(H30:J30) -> 282 | O30: =K30-N30 -> 0
A31: PVC 이중벽관 | B31: D150mm | C31: 본 | D31: 0 | E31: 69700 | F31: =TRUNC(E31*D31,0) -> 0 | H31: 1 | J31: 477 | K31: =SUM(H31:J31) -> 478 | N31: =SUM(H31:J31) -> 478 | O31: =K31-N31 -> 0
A32: PVC 접합부속 | B32: D200mm | C32: EA | D32: 0 | E32: 13180 | F32: =TRUNC(E32*D32,0) -> 0 | H32: 335 | K32: =SUM(H32:J32) -> 335 | N32: =SUM(H32:J32) -> 335 | O32: =K32-N32 -> 0
A33: PVC 접합부속 | B33: D150mm | C33: EA | D33: 0 | E33: 7560 | F33: =TRUNC(E33*D33,0) -> 0 | H33: 0 | J33: 477 | K33: =SUM(H33:J33) -> 477 | N33: =SUM(H33:J33) -> 477 | O33: =K33-N33 -> 0
A34: PVC 접합부속 | B34: D100mm | C34: EA | D34: 7 | E34: 2800 | F34: =TRUNC(E34*D34,0) -> 19600 | H34: 7 | K34: =SUM(H34:J34) -> 7 | N34: =SUM(H34:J34) -> 7 | O34: =K34-N34 -> 0
A35: PVC 접합부속(고무링) | B35: D200mm | C35: EA | D35: 0 | E35: 760 | F35: =TRUNC(E35*D35,0) -> 0 | H35: 670 | K35: =SUM(H35:J35) -> 670 | N35: =SUM(H35:J35) -> 670 | O35: =K35-N35 -> 0
A36: PVC 접합부속(고무링) | B36: D150mm | C36: EA | D36: 0 | E36: 450 | F36: =TRUNC(E36*D36,0) -> 0 | H36: 0 | J36: 954 | K36: =SUM(H36:J36) -> 954 | N36: =SUM(H36:J36) -> 954 | O36: =K36-N36 -> 0
A37: PVC 접합부속(고무링) | B37: D100mm | C37: EA | D37: 14 | E37: 220 | F37: =TRUNC(E37*D37,0) -> 3080 | H37: 14 | K37: =SUM(H37:J37) -> 14 | N37: =SUM(H37:J37) -> 14 | O37: =K37-N37 -> 0
A38: 내충격PVC관 | B38: D=100×6.0m | C38: 본 | D38: 0 | E38: 36660 | F38: =TRUNC(E38*D38,0) -> 0 | J38: 217 | K38: =SUM(H38:J38) -> 217 | N38: =SUM(H38:J38) -> 217 | O38: =K38-N38 -> 0
A39: 양수소켓 | B39: D100mm | C39: EA | D39: 0 | E39: 12400 | F39: =TRUNC(E39*D39,0) -> 0 | J39: 217 | K39: =SUM(H39:J39) -> 217 | N39: =SUM(H39:J39) -> 217 | O39: =K39-N39 -> 0
A40: 조달수수료 | B40: 자재비의 | C40: % | D40: 0.54 | F40: =F29-F30-F31-F32-F33-F34-F35-F36-F37-F38-F39 -> -680 | K40: 0.54 | L40: =TRUNC(SUM(F30:F35)*K40%,-1) -> 100 | N40: =SUM(H40:J40) -> 0 | O40: =K40-N40 -> 0.54
A42: 6) PE수도관 | F42: =TRUNC(SUM(F43:F45)+TRUNC(SUM(F43:F45)*K46%,-1),-3) -> 0 | G42: 계약완료 | N42: =SUM(H42:J42) -> 0 | O42: =K42-N42 -> 0
A43: PE수도관 | B43: D80×6.0m(Φ90) | C43: 본 | D43: 0 | E43: 61140 | F43: =TRUNC(E43*D43,0) -> 0 | H43: 53 | K43: =SUM(H43:J43) -> 53 | N43: =SUM(H43:J43) -> 53 | O43: =K43-N43 -> 0 | P43: ='[79]관급자재(토목,기계)_전체분'!$L$619+'[79]관급자재(토목,기계)_전체분'!$L$620+'[79]관급자재(토목,기계)_전체분'!$L$542+'[79]관급자재(토목,기계)_전체분'!$L$543 -> 197966660 | Q43: ='[79]관급자재(토목,기계)_전체분'!$L$605+'[79]관급자재(토목,기계)_전체분'!$L$606 -> 1715200
A44: PE수도관 | B44: D100×6.0m(Φ110) | C44: 본 | D44: 0 | E44: 90300 | F44: =TRUNC(E44*D44,0) -> 0 | H44: 73 | I44: 0 | K44: =SUM(H44:J44) -> 73 | N44: =SUM(H44:J44) -> 73 | O44: =K44-N44 -> 0 | P44: ='[79]관급자재(토목,기계)_전체분'!$L$619+'[79]관급자재(토목,기계)_전체분'!$L$620+'[79]관급자재(토목,기계)_전체분'!$L$542+'[79]관급자재(토목,기계)_전체분'!$L$543 -> 197966660 | Q44: ='[79]관급자재(토목,기계)_전체분'!$L$605+'[79]관급자재(토목,기계)_전체분'!$L$606 -> 1715200
A45: PE수도관 | B45: D150×6.0m(Φ160) | C45: 본 | D45: 0 | E45: 191220 | F45: =TRUNC(E45*D45,0) -> 0 | H45: 0 | K45: =SUM(H45:J45) -> 0 | N45: =SUM(H45:J45) -> 0 | O45: =K45-N45 -> 0 | P45: =TRUNC(P43*0.54%) -> 1069019 | Q45: =TRUNC(Q43*0.54%) -> 9262
A46: 조달수수료 | B46: 자재비의 | C46: % | D46: 0.54 | F46: =F42-F43-F44-F45 -> 0 | K46: 0.54 | L46: =TRUNC(SUM(F43:F45)*K46%,-1) -> 0 | N46: =SUM(H46:J46) -> 0 | O46: =K46-N46 -> 0.54
A48: 7) 이중보온관 | F48: =SUM(F49:F56) -> 0 | G48: 계약완료 | N48: =SUM(H48:J48) -> 0 | O48: =K48-N48 -> 0
A49: 단열이중보온관(노출용) | B49: 강관, D150 | C49: M | D49: 0 | E49: 239830 | F49: =TRUNC(E49*D49,0) -> 0 | H49: 137 | K49: =SUM(H49:J49) -> 137 | N49: =SUM(H49:J49) -> 137 | O49: =K49-N49 -> 0
A50: 단열이중보온관(노출용) | B50: 강관, D150 엘보 | C50: EA | D50: 0 | E50: 936288 | F50: =TRUNC(E50*D50,0) -> 0 | H50: 4 | K50: =SUM(H50:J50) -> 4 | N50: =SUM(H50:J50) -> 4 | O50: =K50-N50 -> 0
A51: 단열이중보온관(노출용) | B51: 강관, D100 | C51: M | D51: 0 | E51: 200800 | F51: =TRUNC(E51*D51,0) -> 0 | H51: 0 | K51: =SUM(H51:J51) -> 0
A52: 단열이중보온관(노출용) | B52: 강관, D100 엘보 | C52: EA | D52: 0 | E52: 783100 | F52: =TRUNC(E52*D52,0) -> 0 | H52: 0 | K52: =SUM(H52:J52) -> 0
A53: 내관연결전자소켓 | B53: D150 | C53: EA | D53: 0 | E53: 105100 | F53: =TRUNC(E53*D53,0) -> 0 | H53: 27 | K53: =SUM(H53:J53) -> 27
A54: 내관연결전자소켓 | B54: D100 | C54: EA | D54: 0 | E54: 51260 | F54: =TRUNC(E54*D54,0) -> 0 | H54: 0 | K54: =SUM(H54:J54) -> 0
A55: 연결보온재 | B55: D150 | C55: EA | D55: 0 | E55: 83720 | F55: =TRUNC(E55*D55,0) -> 0 | H55: 27 | K55: =SUM(H55:J55) -> 27
A56: 연결보온재 | B56: D100 | C56: EA | D56: 0 | E56: 89180 | F56: =TRUNC(E56*D56,0) -> 0 | H56: 0 | K56: =SUM(H56:J56) -> 0
A58: 8) GRP맨홀 | F58: =TRUNC(SUM(F59:F65)+TRUNC(SUM(F59:F65)*K66%,-1),-3) -> 53000 | G58: 계약완료 | N58: =SUM(H58:J58) -> 0 | O58: =K58-N58 -> 0
A59: GRP맨홀 | B59: D900×1350mm | C59: EA | D59: 0 | E59: 897000 | F59: =TRUNC(E59*D59,0) -> 0 | H59: 46 | J59: 24 | K59: =SUM(H59:J59) -> 70 | N59: =SUM(H59:J59) -> 70 | O59: =K59-N59 -> 0 | P59: ='[79]관급자재(토목,기계)_전체분'!$L$619+'[79]관급자재(토목,기계)_전체분'!$L$620+'[79]관급자재(토목,기계)_전체분'!$L$542+'[79]관급자재(토목,기계)_전체분'!$L$543 -> 197966660 | Q59: ='[79]관급자재(토목,기계)_전체분'!$L$605+'[79]관급자재(토목,기계)_전체분'!$L$606 -> 1715200
A60: GRP연결지관 | B60: D100mm | C60: EA | D60: 1 | E60: 52800 | F60: =TRUNC(E60*D60,0) -> 52800 | H60: 1 | K60: =SUM(H60:J60) -> 1
A61: GRP연결지관 | B61: D150mm | C61: EA | D61: 0 | E61: 52800 | F61: =TRUNC(E61*D61,0) -> 0 | H61: 0 | J61: 50 | K61: =SUM(H61:J61) -> 50
A62: GRP연결지관 | B62: D200mm | C62: EA | D62: 0 | E62: 57700 | F62: =TRUNC(E62*D62,0) -> 0 | H62: 50 | K62: =SUM(H62:J62) -> 50
A63: GRP맨홀, 높이조절단관 | B63: D900×10mm | C63: EA | D63: 0 | E63: 3110 | F63: =TRUNC(E63*D63,0) -> 0 | H63: 3970 | K63: =SUM(H63:J63) -> 3970
A64: GRP맨홀펌프장 | B64: D1800×4100mm | C64: EA | D64: 0 | E64: 12270000 | F64: =TRUNC(E64*D64,0) -> 0 | H64: 2 | K64: =SUM(H64:J64) -> 2
A65: GRP맨홀펌프장 | B65: D1800×4800mm | C65: EA | D65: 0 | E65: 12310000 | F65: =TRUNC(E65*D65,0) -> 0 | H65: 1 | K65: =SUM(H65:J65) -> 1
A66: 조달수수료 | B66: 자재비의 | C66: % | D66: 0.54 | F66: =F58-F59-F60-F61-F62-F63-F64-F65 -> 200 | K66: 0.54 | L66: =TRUNC(SUM(F59:F65)*K66%,-1) -> 280 | N66: =SUM(H66:J66) -> 0 | O66: =K66-N66 -> 0.54
A68: 9) 맨홀류 | F68: =TRUNC(SUM(F69:F70)+TRUNC(SUM(F69:F70)*K71%,-1),-3) -> 0 | G68: 계약완료 | N68: =SUM(H68:J68) -> 0 | O68: =K68-N68 -> 0
A69: 소형맨홀 | B69: D300 | C69: EA | D69: 0 | E69: 209230 | F69: =TRUNC(E69*D69,0) -> 0 | J69: 136 | K69: =SUM(H69:J69) -> 136 | N69: =SUM(H69:J69) -> 136 | O69: =K69-N69 -> 0 | P69: ='[79]관급자재(토목,기계)_전체분'!$L$619+'[79]관급자재(토목,기계)_전체분'!$L$620+'[79]관급자재(토목,기계)_전체분'!$L$542+'[79]관급자재(토목,기계)_전체분'!$L$543 -> 197966660 | Q69: ='[79]관급자재(토목,기계)_전체분'!$L$605+'[79]관급자재(토목,기계)_전체분'!$L$606 -> 1715200
A70: 오수받이 | B70: D300 | C70: EA | D70: 0 | E70: 214700 | F70: =TRUNC(E70*D70,0) -> 0 | J70: 57 | K70: =SUM(H70:J70) -> 57 | N70: =SUM(H70:J70) -> 57 | O70: =K70-N70 -> 0 | P70: =TRUNC(P69*0.54%) -> 1069019 | Q70: =TRUNC(Q69*0.54%) -> 9262
A71: 조달수수료 | B71: 자재비의 | C71: % | D71: 0.54 | F71: =F68-F69-F70 -> 0 | K71: 0.54 | L71: =TRUNC(SUM(F69:F70)*K71%,-1) -> 0 | N71: =SUM(H71:J71) -> 0 | O71: =K71-N71 -> 0.54
A73: 10) 맨홀뚜껑 | F73: =TRUNC(SUM(F74:F76)+TRUNC(SUM(F74:F76)*K77%,-1),-3) -> 0 | G73: 계약완료 | N73: =SUM(H73:J73) -> 0 | O73: =K73-N73 -> 0
A74: 맨홀뚜껑 | B74: Φ375mm, 오수 | C74: 조 | D74: 0 | E74: 67600 | F74: =TRUNC(E74*D74,0) -> 0 | J74: 193 | K74: =SUM(H74:J74) -> 193 | N74: =SUM(H74:J74) -> 193 | O74: =K74-N74 -> 0 | P74: ='[79]관급자재(토목,기계)_전체분'!$L$619+'[79]관급자재(토목,기계)_전체분'!$L$620+'[79]관급자재(토목,기계)_전체분'!$L$542+'[79]관급자재(토목,기계)_전체분'!$L$543 -> 197966660 | Q74: ='[79]관급자재(토목,기계)_전체분'!$L$605+'[79]관급자재(토목,기계)_전체분'!$L$606 -> 1715200
A75: 맨홀뚜껑 | B75: Φ648mm, 오수 | C75: 조 | D75: 0 | E75: 417800 | F75: =TRUNC(E75*D75,0) -> 0 | H75: 49 | J75: 24 | K75: =SUM(H75:J75) -> 73 | N75: =SUM(H75:J75) -> 73 | O75: =K75-N75 -> 0 | P75: ='[79]관급자재(토목,기계)_전체분'!$L$619+'[79]관급자재(토목,기계)_전체분'!$L$620+'[79]관급자재(토목,기계)_전체분'!$L$542+'[79]관급자재(토목,기계)_전체분'!$L$543 -> 197966660 | Q75: ='[79]관급자재(토목,기계)_전체분'!$L$605+'[79]관급자재(토목,기계)_전체분'!$L$606 -> 1715200
A76: 맨홀뚜껑 | B76: Φ766mm, 오수 | C76: 조 | D76: 0 | E76: 681700 | F76: =TRUNC(E76*D76,0) -> 0 | H76: 6 | K76: =SUM(H76:J76) -> 6 | N76: =SUM(H76:J76) -> 6 | O76: =K76-N76 -> 0 | P76: =TRUNC(P74*0.54%) -> 1069019 | Q76: =TRUNC(Q74*0.54%) -> 9262
A77: 조달수수료 | B77: 자재비의 | C77: % | D77: 0.54 | F77: =F73-F74-F75-F76 -> 0 | K77: 0.54 | L77: =TRUNC(SUM(F74:F76)*K77%,-1) -> 0 | N77: =SUM(H77:J77) -> 0 | O77: =K77-N77 -> 0.54
A79: 2) 휀스 및 출입문 | F79: =SUM(F80:F82) -> 0 | N79: =SUM(H79:J79) -> 0 | O79: =K79-N79 -> 0
A80: 메쉬휀스 | B80: W=2.0, H1.5 | C80: 경간 | E80: 91400 | F80: =TRUNC(E80*D80,0) -> 0 | H80: 8 | K80: =SUM(H80:J80) -> 8 | N80: =SUM(H80:J80) -> 8 | O80: =K80-N80 -> 0 | P80: ='[79]관급자재(토목,기계)_전체분'!$L$619+'[79]관급자재(토목,기계)_전체분'!$L$620+'[79]관급자재(토목,기계)_전체분'!$L$542+'[79]관급자재(토목,기계)_전체분'!$L$543 -> 197966660 | Q80: ='[79]관급자재(토목,기계)_전체분'!$L$605+'[79]관급자재(토목,기계)_전체분'!$L$606 -> 1715200
A81: 출입문 | B81: W=1.0, H1.5 | C81: 개소 | E81: 328000 | F81: =TRUNC(E81*D81,0) -> 0 | H81: 3 | K81: =SUM(H81:J81) -> 3 | N81: =SUM(H81:J81) -> 3 | O81: =K81-N81 -> 0 | P81: =TRUNC(P80*0.54%) -> 1069019 | Q81: =TRUNC(Q80*0.54%) -> 9262
A82: 조달수수료 | B82: 자재비의 | C82: % | D82: 0.54 | F82: =TRUNC(SUM(F80:F81)*D82%) -> 0 | K82: 0.54 | L82: =TRUNC(SUM(F80:F81)*K82%,-1) -> 0 | N82: =SUM(H82:J82) -> 0 | O82: =K82-N82 -> 0.54
N83: =SUM(H83:J83) -> 0 | O83: =K83-N83 -> 0
A84: 12) 와이어메쉬 | F84: =TRUNC(SUM(F85:F85)+TRUNC(SUM(F85:F85)*K86%,-1),-3) -> 0 | G84: 계약완료 | N84: =SUM(H84:J84) -> 0 | O84: =K84-N84 -> 0
A85: 와이어메쉬 | B85: #8×150×150 | C85: ㎡ | D85: 0 | E85: 4040 | F85: =TRUNC(E85*D85,0) -> 0 | H85: 1838 | J85: 2765 | K85: =SUM(H85:J85) -> 4603 | N85: =SUM(H85:J85) -> 4603 | O85: =K85-N85 -> 0
A86: 조달수수료 | B86: 자재비의 | C86: % | D86: 0.54 | F86: =F84-F85 -> 0 | K86: 0.54 | L86: =TRUNC(SUM(F85:F85)*K86%,-1) -> 0 | N86: =SUM(H86:J86) -> 0 | O86: =K86-N86 -> 0.54
N87: =SUM(H87:J87) -> 0 | O87: =K87-N87 -> 0
C88: 0
E89: 순환골재 | F89: 0
E90: 이중보온관 | F90: 0
E92: 합계 | F92: =SUM(F89:F91) -> 0
F94: =F5+F92 -> 184798000

Sheet 관급자재(임하처리분구)
A1: 관급자재 구입 내역서
A2: ▣ 공사명: 여만처리분구 외 6개소 하수관로 정비사업(토목+기계) | G2: (단위 : 원)
A3: 품 명 | B3: 규 격 | C3: 단위 | D3: 수량 | E3: 단 가 | F3: 금 액 | G3: 비고 (납품기한) | H3: 수 량
H4: 오수 관로 | I4: 맨홀 펌프장 | J4: 배수 설비 | K4: 합 계
A5: ◈ 도급자 관급자재대 | F5: =F6 -> 1473550000
A6: □. 임하처리분구 | F6: =SUM(F7,F12,F21,F27,F41,F54,F60,F70,F84,F89,F95,F100,F31,F37) -> 1473550000 | P6: =725829964-F6-#REF!-#REF!-#REF!-#REF! -> #REF!
A7: 1) 레미콘 | F7: =SUM(F8:F10) -> 205569000 | G7: 25년2월9일 | N7: =SUM(H7:J7) -> 0 | O7: =K7-N7 -> 0
A8: 레미콘 | B8: 25-18-80 | C8: ㎥ | D8: 0 | E8: 105550 | F8: =TRUNC(E8*D8,0) -> 0 | H8: 21 | I8: 1 | J8: 0 | K8: =SUM(H8:J8) -> 22 | N8: =SUM(H8:J8) -> 22 | O8: =K8-N8 -> 0 | P8: ='[79]관급자재(토목,기계)_전체분'!$L$619+'[79]관급자재(토목,기계)_전체분'!$L$620+'[79]관급자재(토목,기계)_전체분'!$L$542+'[79]관급자재(토목,기계)_전체분'!$L$543 -> 197966660 | Q8: ='[79]관급자재(토목,기계)_전체분'!$L$605+'[79]관급자재(토목,기계)_전체분'!$L$606 -> 1715200
A9: 레미콘 | B9: 25-21-80 | C9: ㎥ | D9: 1876 | E9: 108990 | F9: =TRUNC(E9*D9,0) -> 204465240 | H9: 1155 | I9: 7 | J9: 714 | K9: =SUM(H9:J9) -> 1876 | N9: =SUM(H9:J9) -> 1876 | O9: =K9-N9 -> 0 | P9: =TRUNC(P8*0.54%) -> 1069019 | Q9: =TRUNC(Q8*0.54%) -> 9262
A10: 조달수수료 | B10: 자재비의 | C10: % | D10: 0.54 | F10: =TRUNC(SUM(F8:F9)*D10%)-352 -> 1103760 | K10: 0.54 | L10: =TRUNC(SUM(F8:F9)*K10%,-1) -> 1104110 | N10: =SUM(H10:J10) -> 0 | O10: =K10-N10 -> 0.54
A12: 2) 아스팔트콘크리트 | F12: =SUM(F13:F19) -> 486178000 | G12: 25년2월9일 | N12: =SUM(H12:J12) -> 0 | O12: =K12-N12 -> 0
A13: 아스콘 | B13: #78 표층용 | C13: M/T | D13: 2470 | E13: 110450 | F13: =TRUNC(E13*D13,0) -> 272811500 | H13: 1501 | J13: 969 | K13: =SUM(H13:J13) -> 2470 | N13: =SUM(H13:J13) -> 2470 | O13: =K13-N13 -> 0 | P13: ='[79]관급자재(토목,기계)_전체분'!$L$619+'[79]관급자재(토목,기계)_전체분'!$L$620+'[79]관급자재(토목,기계)_전체분'!$L$542+'[79]관급자재(토목,기계)_전체분'!$L$543 -> 197966660 | Q13: ='[79]관급자재(토목,기계)_전체분'!$L$605+'[79]관급자재(토목,기계)_전체분'!$L$606 -> 1715200
A14: 아스콘(재생용) | B14: #787 표층용 | C14: M/T | D14: 1650 | E14: 93700 | F14: =TRUNC(E14*D14,0) -> 154605000 | H14: 1005 | J14: 645 | K14: =SUM(H14:J14) -> 1650 | N14: =SUM(H14:J14) -> 1650 | O14: =K14-N14 -> 0 | P14: =TRUNC(P13*0.54%) -> 1069019 | Q14: =TRUNC(Q13*0.54%) -> 9262
A15: 아스콘 | B15: #467 기층용 | C15: M/T | D15: 0 | E15: 92680 | F15: =TRUNC(E15*D15,0) -> 0 | G15: 계약완료 | H15: 366 | J15: 23 | K15: =SUM(H15:J15) -> 389 | N15: =SUM(H15:J15) -> 389 | O15: =K15-N15 -> 0 | P15: ='[79]관급자재(토목,기계)_전체분'!$L$619+'[79]관급자재(토목,기계)_전체분'!$L$620+'[79]관급자재(토목,기계)_전체분'!$L$542+'[79]관급자재(토목,기계)_전체분'!$L$543 -> 197966660 | Q15: ='[79]관급자재(토목,기계)_전체분'!$L$605+'[79]관급자재(토목,기계)_전체분'!$L$606 -> 1715200
A16: 아스콘(재생용) | B16: #467 기층용 | C16: M/T | D16: 0 | E16: 82700 | F16: =TRUNC(E16*D16,0) -> 0 | G16: 계약완료 | H16: 244 | J16: 15 | K16: =SUM(H16:J16) -> 259 | N16: =SUM(H16:J16) -> 259 | O16: =K16-N16 -> 0 | P16: =TRUNC(P15*0.54%) -> 1069019 | Q16: =TRUNC(Q15*0.54%) -> 9262
A17: 아스콘 | B17: #467 기층용 | C17: M/T | D17: 389 | E17: 91960 | F17: =TRUNC(E17*D17,0) -> 35772440 | H17: 1501 | J17: 969 | K17: =SUM(H17:J17) -> 2470 | N17: =SUM(H17:J17) -> 2470 | O17: =K17-N17 -> 0 | P17: ='[79]관급자재(토목,기계)_전체분'!$L$619+'[79]관급자재(토목,기계)_전체분'!$L$620+'[79]관급자재(토목,기계)_전체분'!$L$542+'[79]관급자재(토목,기계)_전체분'!$L$543 -> 197966660 | Q17: ='[79]관급자재(토목,기계)_전체분'!$L$605+'[79]관급자재(토목,기계)_전체분'!$L$606 -> 1715200
A18: 아스콘(재생용) | B18: #467 기층용 | C18: M/T | D18: 259 | E18: 79850 | F18: =TRUNC(E18*D18,0) -> 20681150 | H18: 1005 | J18: 645 | K18: =SUM(H18:J18) -> 1650 | N18: =SUM(H18:J18) -> 1650 | O18: =K18-N18 -> 0 | P18: =TRUNC(P17*0.54%) -> 1069019 | Q18: =TRUNC(Q17*0.54%) -> 9262
A19: 조달수수료 | B19: 자재비의 | C19: % | D19: 0.54 | F19: =TRUNC(SUM(F13:F15)*D19%)-139 -> 2307910 | K19: 0.54 | L19: =TRUNC(SUM(F15:F16)*K19%,-1) -> 0 | N19: =SUM(H19:J19) -> 0 | O19: =K19-N19 -> 0.54
A21: 3) 기층재 | F21: =TRUNC(SUM(F22:F24)+TRUNC(SUM(F22:F24)*K25%,-1),-3) -> 0 | G21: 계약완료 | N21: =SUM(H21:J21) -> 0 | O21: =K21-N21 -> 0
A22: 보조기층 | B22: 40mm | C22: ㎥ | D22: 0 | E22: 21500 | F22: =TRUNC(E22*D22,0) -> 0 | H22: 2081 | J22: 554 | K22: =SUM(H22:J22) -> 2635 | N22: =SUM(H22:J22) -> 2635 | O22: =K22-N22 -> 0
A23: 동상방지층 | B23: 75mm | C23: ㎥ | D23: 0 | E23: 21590 | F23: =TRUNC(E23*D23,0) -> 0 | H23: 449 | J23: 37 | K23: =SUM(H23:J23) -> 486 | N23: =SUM(H23:J23) -> 486 | O23: =K23-N23 -> 0
A24: 석분 | B24: 8MM이하 | C24: ㎥ | D24: 0 | E24: 20050 | F24: =TRUNC(E24*D24,0) -> 0 | H24: 3273 | J24: 859 | K24: =SUM(H24:J24) -> 4132 | N24: =SUM(H24:J24) -> 4132 | O24: =K24-N24 -> 0
A25: 조달수수료 | B25: 자재비의 | C25: % | D25: 0.54 | F25: =F21-F22-F23-F24 -> 0 | K25: 0.54 | L25: =TRUNC(SUM(F22:F24)*K25%,-1) -> 0 | N25: =SUM(H25:J25) -> 0 | O25: =K25-N25 -> 0.54
N26: =SUM(H26:J26) -> 0 | O26: =K26-N26 -> 0
A27: 4) 기층재(순환골재) | F27: =SUM(F28:F29) -> 0 | G27: 계약완료 | N27: =SUM(H27:J27) -> 0 | O27: =K27-N27 -> 0
A28: 보조기층(순환골재) | B28: RSB-2 | C28: ㎥ | D28: 0 | E28: 8800 | F28: =TRUNC(E28*D28,0) -> 0 | H28: 1388 | J28: 369 | K28: =SUM(H28:J28) -> 1757 | N28: =SUM(H28:J28) -> 1757 | O28: =K28-N28 -> 0
A29: 동상방지층(순환골재) | B29: RSB-2 | C29: ㎥ | D29: 0 | E29: 8800 | F29: =TRUNC(E29*D29,0) -> 0 | H29: 299 | J29: 25 | K29: =SUM(H29:J29) -> 324 | N29: =SUM(H29:J29) -> 324 | O29: =K29-N29 -> 0
N30: =SUM(H30:J30) -> 0 | O30: =K30-N30 -> 0
A31: 3) 기층재 | F31: =SUM(F32:F35) -> 162414000 | G31: 25년2월9일 | N31: =SUM(H31:J31) -> 0 | O31: =K31-N31 -> 0
A32: 보조기층 | B32: 40mm | C32: ㎥ | D32: 2635 | E32: 20680 | F32: =TRUNC(E32*D32,0) -> 54491800 | H32: 281 | J32: 88 | K32: =SUM(H32:J32) -> 369 | N32: =SUM(H32:J32) -> 369 | O32: =K32-N32 -> 0
A33: 동상방지층 | B33: 75mm | C33: ㎥ | D33: 486 | E33: 22000 | F33: =TRUNC(E33*D33,0) -> 10692000 | H33: 58 | J33: 0 | K33: =SUM(H33:J33) -> 58 | N33: =SUM(H33:J33) -> 58 | O33: =K33-N33 -> 0
A34: 석분 | B34: 8MM이하 | C34: ㎥ | D34: 4132 | E34: 23320 | F34: =TRUNC(E34*D34,0) -> 96358240 | H34: 277 | J34: 148 | K34: =SUM(H34:J34) -> 425 | N34: =SUM(H34:J34) -> 425 | O34: =K34-N34 -> 0
A35: 조달수수료 | B35: 자재비의 | C35: % | D35: 0.54 | F35: =TRUNC(SUM(F32:F34)*D35%)-367 -> 871960 | K35: 0.54 | L35: =TRUNC(SUM(F32:F34)*K35%,-1) -> 872320 | N35: =SUM(H35:J35) -> 0 | O35: =K35-N35 -> 0.54
N36: =SUM(H36:J36) -> 0 | O36: =K36-N36 -> 0
A37: 4) 기층재(순환골재) | F37: =SUM(F38:F39) -> 18312000 | G37: 25년2월9일 | N37: =SUM(H37:J37) -> 0 | O37: =K37-N37 -> 0
A38: 보조기층(순환골재) | B38: RSB-2 | C38: ㎥ | D38: 1757 | E38: 8800 | F38: =TRUNC(E38*D38,0) -> 15461600 | H38: 187 | J38: 59 | K38: =SUM(H38:J38) -> 246 | N38: =SUM(H38:J38) -> 246 | O38: =K38-N38 -> 0
A39: 동상방지층(순환골재) | B39: RSB-2 | C39: ㎥ | D39: 324 | E39: 8800 | F39: =TRUNC(E39*D39,0)-800 -> 2850400 | H39: 39 | J39: 0 | K39: =SUM(H39:J39) -> 39 | N39: =SUM(H39:J39) -> 39 | O39: =K39-N39 -> 0
A41: 4) PVC관 | F41: =SUM(F42:F52) -> 161258000 | G41: 25년2월9일 | N41: =SUM(H41:J41) -> 0 | O41: =K41-N41 -> 0
A42: PVC 이중벽관 | B42: D200mm | C42: 본 | D42: 727 | E42: 107320 | F42: =TRUNC(E42*D42,0) -> 78021640 | H42: 727 | K42: =SUM(H42:J42) -> 727 | N42: =SUM(H42:J42) -> 727 | O42: =K42-N42 -> 0
A43: PVC 이중벽관 | B43: D150mm | C43: 본 | D43: 648 | E43: 69700 | F43: =TRUNC(E43*D43,0) -> 45165600 | H43: 4 | J43: 644 | K43: =SUM(H43:J43) -> 648 | N43: =SUM(H43:J43) -> 648 | O43: =K43-N43 -> 0
A44: PVC 접합부속 | B44: D200mm | C44: EA | D44: 886 | E44: 13180 | F44: =TRUNC(E44*D44,0) -> 11677480 | H44: 886 | K44: =SUM(H44:J44) -> 886 | N44: =SUM(H44:J44) -> 886 | O44: =K44-N44 -> 0
A45: PVC 접합부속 | B45: D150mm | C45: EA | D45: 672 | E45: 7560 | F45: =TRUNC(E45*D45,0) -> 5080320 | H45: 28 | J45: 644 | K45: =SUM(H45:J45) -> 672 | N45: =SUM(H45:J45) -> 672 | O45: =K45-N45 -> 0
A46: PVC 접합부속 | B46: D100mm | C46: EA | D46: 0 | E46: 2800 | F46: =TRUNC(E46*D46,0) -> 0 | H46: 0 | K46: =SUM(H46:J46) -> 0 | N46: =SUM(H46:J46) -> 0 | O46: =K46-N46 -> 0
A47: PVC 접합부속(고무링) | B47: D200mm | C47: EA | D47: 1772 | E47: 760 | F47: =TRUNC(E47*D47,0) -> 1346720 | H47: 1772 | K47: =SUM(H47:J47) -> 1772 | N47: =SUM(H47:J47) -> 1772 | O47: =K47-N47 -> 0
A48: PVC 접합부속(고무링) | B48: D150mm | C48: EA | D48: 1344 | E48: 450 | F48: =TRUNC(E48*D48,0) -> 604800 | H48: 56 | J48: 1288 | K48: =SUM(H48:J48) -> 1344 | N48: =SUM(H48:J48) -> 1344 | O48: =K48-N48 -> 0
A49: PVC 접합부속(고무링) | B49: D100mm | C49: EA | D49: 0 | E49: 220 | F49: =TRUNC(E49*D49,0) -> 0 | H49: 0 | K49: =SUM(H49:J49) -> 0 | N49: =SUM(H49:J49) -> 0 | O49: =K49-N49 -> 0
A50: 내충격PVC관 | B50: D=100×6.0m | C50: 본 | D50: 377 | E50: 36660 | F50: =TRUNC(E50*D50,0) -> 13820820 | J50: 377 | K50: =SUM(H50:J50) -> 377 | N50: =SUM(H50:J50) -> 377 | O50: =K50-N50 -> 0
A51: 양수소켓 | B51: D100mm | C51: EA | D51: 377 | E51: 12400 | F51: =TRUNC(E51*D51,0) -> 4674800 | J51: 377 | K51: =SUM(H51:J51) -> 377 | N51: =SUM(H51:J51) -> 377 | O51: =K51-N51 -> 0
A52: 조달수수료 | B52: 자재비의 | C52: % | D52: 0.54 | F52: =TRUNC(SUM(F42:F51)*D52%)-297 -> 865820 | K52: 0.54 | L52: =TRUNC(SUM(F42:F47)*K52%,-1) -> 762970 | N52: =SUM(H52:J52) -> 0 | O52: =K52-N52 -> 0.54
A54: 5) PE수도관 | F54: =SUM(F55:F58) -> 37062000 | G54: 25년2월9일 | N54: =SUM(H54:J54) -> 0 | O54: =K54-N54 -> 0
A55: PE수도관 | B55: D80×6.0m(Φ90) | C55: 본 | E55: 61140 | F55: =TRUNC(E55*D55,0) -> 0 | H55: 16 | K55: =SUM(H55:J55) -> 16 | N55: =SUM(H55:J55) -> 16 | O55: =K55-N55 -> 0 | P55: ='[79]관급자재(토목,기계)_전체분'!$L$619+'[79]관급자재(토목,기계)_전체분'!$L$620+'[79]관급자재(토목,기계)_전체분'!$L$542+'[79]관급자재(토목,기계)_전체분'!$L$543 -> 197966660 | Q55: ='[79]관급자재(토목,기계)_전체분'!$L$605+'[79]관급자재(토목,기계)_전체분'!$L$606 -> 1715200
A56: PE수도관 | B56: D100×6.0m(Φ110) | C56: 본 | D56: 188 | E56: 90300 | F56: =TRUNC(E56*D56,0) -> 16976400 | H56: 188 | K56: =SUM(H56:J56) -> 188 | N56: =SUM(H56:J56) -> 188 | O56: =K56-N56 -> 0 | P56: ='[79]관급자재(토목,기계)_전체분'!$L$619+'[79]관급자재(토목,기계)_전체분'!$L$620+'[79]관급자재(토목,기계)_전체분'!$L$542+'[79]관급자재(토목,기계)_전체분'!$L$543 -> 197966660 | Q56: ='[79]관급자재(토목,기계)_전체분'!$L$605+'[79]관급자재(토목,기계)_전체분'!$L$606 -> 1715200
A57: PE수도관 | B57: D150×6.0m(Φ160) | C57: 본 | D57: 104 | E57: 191220 | F57: =TRUNC(E57*D57,0) -> 19886880 | H57: 104 | K57: =SUM(H57:J57) -> 104 | N57: =SUM(H57:J57) -> 104 | O57: =K57-N57 -> 0 | P57: =TRUNC(P55*0.54%) -> 1069019 | Q57: =TRUNC(Q55*0.54%) -> 9262
A58: 조달수수료 | B58: 자재비의 | C58: % | D58: 0.54 | F58: =TRUNC(SUM(F55:F57)*D58%)-341 -> 198720 | K58: 0.54 | L58: =TRUNC(SUM(F55:F57)*K58%,-1) -> 199060 | N58: =SUM(H58:J58) -> 0 | O58: =K58-N58 -> 0.54
A60: 6) 이중보온관 | F60: =SUM(F63:F68) -> 0 | N60: =SUM(H60:J60) -> 0 | O60: =K60-N60 -> 0
A61: 단열이중보온관(노출용) | B61: 강관, D150 | C61: M | D61: 0 | E61: 269500 | F61: =TRUNC(E61*D61,0) -> 0 | H61: 0 | K61: =SUM(H61:J61) -> 0 | N61: =SUM(H61:J61) -> 0 | O61: =K61-N61 -> 0
A62: 단열이중보온관(노출용) | B62: 강관, D150 엘보 | C62: EA | E62: 1051000 | F62: =TRUNC(E62*D62,0) -> 0 | H62: 0 | K62: =SUM(H62:J62) -> 0 | N62: =SUM(H62:J62) -> 0 | O62: =K62-N62 -> 0
A63: 단열이중보온관(노출용) | B63: 강관, D100 | C63: M | E63: 200800 | F63: =TRUNC(E63*D63,0) -> 0 | H63: 132 | K63: =SUM(H63:J63) -> 132
A64: 단열이중보온관(노출용) | B64: 강관, D100 엘보 | C64: EA | E64: 783100 | F64: =TRUNC(E64*D64,0) -> 0 | H64: 4 | K64: =SUM(H64:J64) -> 4
A65: 내관연결전자소켓 | B65: D150 | C65: EA | E65: 189640 | F65: =TRUNC(E65*D65,0) -> 0 | H65: 0 | K65: =SUM(H65:J65) -> 0
A66: 내관연결전자소켓 | B66: D100 | C66: EA | E66: 51260 | F66: =TRUNC(E66*D66,0) -> 0 | H66: 26 | K66: =SUM(H66:J66) -> 26
A67: 연결보온재 | B67: D150 | C67: EA | E67: 94080 | F67: =TRUNC(E67*D67,0) -> 0 | H67: 0 | K67: =SUM(H67:J67) -> 0
A68: 연결보온재 | B68: D100 | C68: EA | E68: 89180 | F68: =TRUNC(E68*D68,0) -> 0 | H68: 26 | K68: =SUM(H68:J68) -> 26
A70: 7) GRP맨홀 | F70: =SUM(F71:F82) -> 205542000 | G70: 25년2월9일 | N70: =SUM(H70:J70) -> 0 | O70: =K70-N70 -> 0
A71: GRP맨홀 | B71: D900×1350mm | C71: EA | D71: 140 | E71: 897000 | F71: =TRUNC(E71*D71,0) -> 125580000 | H71: 119 | J71: 21 | K71: =SUM(H71:J71) -> 140 | N71: =SUM(H71:J71) -> 140 | O71: =K71-N71 -> 0 | P71: ='[79]관급자재(토목,기계)_전체분'!$L$619+'[79]관급자재(토목,기계)_전체분'!$L$620+'[79]관급자재(토목,기계)_전체분'!$L$542+'[79]관급자재(토목,기계)_전체분'!$L$543 -> 197966660 | Q71: ='[79]관급자재(토목,기계)_전체분'!$L$605+'[79]관급자재(토목,기계)_전체분'!$L$606 -> 1715200
A72: GRP연결지관 | B72: D100mm | C72: EA | D72: 2 | E72: 52800 | F72: =TRUNC(E72*D72,0) -> 105600 | H72: 2 | J72: 0 | K72: =SUM(H72:J72) -> 2
A73: GRP연결지관 | B73: D150mm | C73: EA | D73: 92 | E73: 52800 | F73: =TRUNC(E73*D73,0) -> 4857600 | J73: 92 | K73: =SUM(H73:J73) -> 92
A74: GRP연결지관 | B74: D200mm | C74: EA | D74: 146 | E74: 57700 | F74: =TRUNC(E74*D74,0) -> 8424200 | H74: 146 | K74: =SUM(H74:J74) -> 146
A75: GRP맨홀, 높이조절단관 | B75: D900×10mm | C75: EA | D75: 10502 | E75: 3110 | F75: =TRUNC(E75*D75,0) -> 32661220 | H75: 10502 | K75: =SUM(H75:J75) -> 10502
A76: GRP맨홀 | B76: D1200×2100mm | C76: EA | D76: 13 | E76: 1479200 | F76: =TRUNC(E76*D76,0) -> 19229600 | H76: 13 | K76: =SUM(H76:J76) -> 13
A77: GRP맨홀, 높이조절단관 | B77: D1200×10mm | C77: EA | D77: 2908 | E77: 4670 | F77: =TRUNC(E77*D77,0) -> 13580360 | H77: 2908 | K77: =SUM(H77:J77) -> 2908
A78: GRP맨홀펌프장 | B78: D1800×3900mm | C78: EA | E78: 11990000 | F78: =TRUNC(E78*D78,0) -> 0 | H78: 2 | K78: =SUM(H78:J78) -> 2
A79: GRP맨홀펌프장 | B79: D1800×4130mm | C79: EA | E79: 12310000 | F79: =TRUNC(E79*D79,0) -> 0 | H79: 1 | K79: =SUM(H79:J79) -> 1
A80: GRP맨홀펌프장 | B80: D1800×6550mm | C80: EA | E80: 15660000 | F80: =TRUNC(E80*D80,0) -> 0 | H80: 2 | K80: =SUM(H80:J80) -> 2
A81: GRP맨홀펌프장 | B81: D2500×8010mm | C81: EA | E81: 34200000 | F81: =TRUNC(E81*D81,0) -> 0 | H81: 1 | K81: =SUM(H81:J81) -> 1 | N81: =SUM(H81:J81) -> 1 | O81: =K81-N81 -> 0 | P81: =TRUNC(P71*0.54%) -> 1069019 | Q81: =TRUNC(Q71*0.54%) -> 9262
A82: 조달수수료 | B82: 자재비의 | C82: % | D82: 0.54 | F82: =TRUNC(SUM(F71:F81)*D82%)-548 -> 1103420 | K82: 0.54 | L82: =TRUNC(SUM(F71:F81)*K82%,-1) -> 1103960 | N82: =SUM(H82:J82) -> 0 | O82: =K82-N82 -> 0.54
A84: 8) 맨홀류 | F84: =SUM(F85:F87) -> 64532000 | G84: 25년2월9일 | N84: =SUM(H84:J84) -> 0 | O84: =K84-N84 -> 0
A85: 소형맨홀 | B85: D300 | C85: EA | D85: 198 | E85: 209230 | F85: =TRUNC(E85*D85,0) -> 41427540 | J85: 198 | K85: =SUM(H85:J85) -> 198 | N85: =SUM(H85:J85) -> 198 | O85: =K85-N85 -> 0 | P85: ='[79]관급자재(토목,기계)_전체분'!$L$619+'[79]관급자재(토목,기계)_전체분'!$L$620+'[79]관급자재(토목,기계)_전체분'!$L$542+'[79]관급자재(토목,기계)_전체분'!$L$543 -> 197966660 | Q85: ='[79]관급자재(토목,기계)_전체분'!$L$605+'[79]관급자재(토목,기계)_전체분'!$L$606 -> 1715200
A86: 오수받이 | B86: D300 | C86: EA | D86: 106 | E86: 214700 | F86: =TRUNC(E86*D86,0) -> 22758200 | J86: 106 | K86: =SUM(H86:J86) -> 106 | N86: =SUM(H86:J86) -> 106 | O86: =K86-N86 -> 0 | P86: =TRUNC(P85*0.54%) -> 1069019 | Q86: =TRUNC(Q85*0.54%) -> 9262
A87: 조달수수료 | B87: 자재비의 | C87: % | D87: 0.54 | F87: =TRUNC(SUM(F85:F86)*D87%)-342 -> 346260 | K87: 0.54 | L87: =TRUNC(SUM(F85:F86)*K87%,-1) -> 346600 | N87: =SUM(H87:J87) -> 0 | O87: =K87-N87 -> 0.54
A89: 9) 맨홀뚜껑 | F89: =SUM(F90:F93) -> 95311000 | G89: 25년2월9일 | N89: =SUM(H89:J89) -> 0 | O89: =K89-N89 -> 0
A90: 맨홀뚜껑 | B90: Φ375mm, 오수 | C90: 조 | D90: 325 | E90: 67600 | F90: =TRUNC(E90*D90,0) -> 21970000 | J90: 325 | K90: =SUM(H90:J90) -> 325 | N90: =SUM(H90:J90) -> 325 | O90: =K90-N90 -> 0 | P90: ='[79]관급자재(토목,기계)_전체분'!$L$619+'[79]관급자재(토목,기계)_전체분'!$L$620+'[79]관급자재(토목,기계)_전체분'!$L$542+'[79]관급자재(토목,기계)_전체분'!$L$543 -> 197966660 | Q90: ='[79]관급자재(토목,기계)_전체분'!$L$605+'[79]관급자재(토목,기계)_전체분'!$L$606 -> 1715200
A91: 맨홀뚜껑 | B91: Φ648mm, 오수 | C91: 조 | D91: 158 | E91: 417800 | F91: =TRUNC(E91*D91,0) -> 66012400 | H91: 137 | J91: 21 | K91: =SUM(H91:J91) -> 158 | N91: =SUM(H91:J91) -> 158 | O91: =K91-N91 -> 0 | P91: ='[79]관급자재(토목,기계)_전체분'!$L$619+'[79]관급자재(토목,기계)_전체분'!$L$620+'[79]관급자재(토목,기계)_전체분'!$L$542+'[79]관급자재(토목,기계)_전체분'!$L$543 -> 197966660 | Q91: ='[79]관급자재(토목,기계)_전체분'!$L$605+'[79]관급자재(토목,기계)_전체분'!$L$606 -> 1715200
A92: 맨홀뚜껑 | B92: Φ766mm, 오수 | C92: 조 | D92: 10 | E92: 681700 | F92: =TRUNC(E92*D92,0) -> 6817000 | H92: 10 | K92: =SUM(H92:J92) -> 10 | N92: =SUM(H92:J92) -> 10 | O92: =K92-N92 -> 0 | P92: =TRUNC(P90*0.54%) -> 1069019 | Q92: =TRUNC(Q90*0.54%) -> 9262
A93: 조달수수료 | B93: 자재비의 | C93: % | D93: 0.54 | F93: =TRUNC(SUM(F90:F92)*D93%)-316 -> 511600 | K93: 0.54 | L93: =TRUNC(SUM(F90:F92)*K93%,-1) -> 511910 | N93: =SUM(H93:J93) -> 0 | O93: =K93-N93 -> 0.54
A95: 9) 휀스 및 출입문 | F95: =SUM(F96:F98) -> 0 | G95: 25년2월9일 | N95: =SUM(H95:J95) -> 0 | O95: =K95-N95 -> 0
A96: 메쉬휀스 | B96: W=2.0, H1.5 | C96: 경간 | E96: 91400 | F96: =TRUNC(E96*D96,0) -> 0 | H96: 13 | K96: =SUM(H96:J96) -> 13 | N96: =SUM(H96:J96) -> 13 | O96: =K96-N96 -> 0 | P96: ='[79]관급자재(토목,기계)_전체분'!$L$619+'[79]관급자재(토목,기계)_전체분'!$L$620+'[79]관급자재(토목,기계)_전체분'!$L$542+'[79]관급자재(토목,기계)_전체분'!$L$543 -> 197966660 | Q96: ='[79]관급자재(토목,기계)_전체분'!$L$605+'[79]관급자재(토목,기계)_전체분'!$L$606 -> 1715200
A97: 출입문 | B97: W=1.0, H1.5 | C97: 개소 | E97: 328000 | F97: =TRUNC(E97*D97,0) -> 0 | H97: 5 | K97: =SUM(H97:J97) -> 5 | N97: =SUM(H97:J97) -> 5 | O97: =K97-N97 -> 0 | P97: =TRUNC(P96*0.54%) -> 1069019 | Q97: =TRUNC(Q96*0.54%) -> 9262
A98: 조달수수료 | B98: 자재비의 | C98: % | D98: 0.54 | F98: =TRUNC(SUM(F96:F97)*D98%) -> 0 | K98: 0.54 | L98: =TRUNC(SUM(F96:F97)*K98%,-1) -> 0 | N98: =SUM(H98:J98) -> 0 | O98: =K98-N98 -> 0.54
N99: =SUM(H99:J99) -> 0 | O99: =K99-N99 -> 0
A100: 10) 와이어메쉬 | F100: =SUM(F101:F102) -> 37372000 | G100: 25년2월9일 | N100: =SUM(H100:J100) -> 0 | O100: =K100-N100 -> 0
A101: 와이어메쉬 | B101: #8×150×150 | C101: ㎡ | D101: 9201 | E101: 4040 | F101: =TRUNC(E101*D101,0) -> 37172040 | H101: 5557 | J101: 3644 | K101: =SUM(H101:J101) -> 9201 | N101: =SUM(H101:J101) -> 9201 | O101: =K101-N101 -> 0
A102: 조달수수료 | B102: 자재비의 | C102: % | D102: 0.54 | F102: =TRUNC(SUM(F101)*D102%)-769 -> 199960 | K102: 0.54 | L102: =TRUNC(SUM(F101:F101)*K102%,-1) -> 200720 | N102: =SUM(H102:J102) -> 0 | O102: =K102-N102 -> 0.54
N103: =SUM(H103:J103) -> 0 | O103: =K103-N103 -> 0
C104: 0
E105: 순환골재 | F105: 0
E106: 이중보온관 | F106: =179560+440 -> 180000
E108: 합계 | F108: =SUM(F105:F107) -> 180000
F110: =F5+F108 -> 1473730000

Sheet 관급자재(하일처리분구)
A1: 관급자재 구입 내역서
A2: ▣ 공사명: 여만처리분구 외 6개소 하수관로 정비사업(토목+기계) | G2: (단위 : 원)
A3: 품 명 | B3: 규 격 | C3: 단위 | D3: 수량 | E3: 단 가 | F3: 금 액 | G3: 비고 (납품기한) | H3: 수 량
H4: 오수 관로 | I4: 맨홀 펌프장 | J4: 배수 설비 | K4: 합 계
A5: ◈ 도급자 관급자재대 | F5: =F6 -> 72606000
A6: □. 하일처리분구 | F6: =SUM(F7,F12,F19,F25,F29,F42,F48,F58,F72,F77,F83,F88) -> 72606000 | P6: =725829964-F6-#REF!-#REF!-#REF!-#REF! -> #REF!
A7: 1) 레미콘 | F7: =TRUNC(SUM(F8:F9)+TRUNC(SUM(F8:F9)*K10%,-1),-3) -> 0 | G7: 계약완료 | N7: =SUM(H7:J7) -> 0 | O7: =K7-N7 -> 0
A8: 레미콘 | B8: 25-18-80 | C8: ㎥ | D8: 0 | E8: 105550 | F8: =TRUNC(E8*D8,0) -> 0 | H8: 7 | I8: 1 | J8: 0 | K8: =SUM(H8:J8) -> 8 | N8: =SUM(H8:J8) -> 8 | O8: =K8-N8 -> 0 | P8: ='[79]관급자재(토목,기계)_전체분'!$L$619+'[79]관급자재(토목,기계)_전체분'!$L$620+'[79]관급자재(토목,기계)_전체분'!$L$542+'[79]관급자재(토목,기계)_전체분'!$L$543 -> 197966660 | Q8: ='[79]관급자재(토목,기계)_전체분'!$L$605+'[79]관급자재(토목,기계)_전체분'!$L$606 -> 1715200
A9: 레미콘 | B9: 25-21-80 | C9: ㎥ | D9: 0 | E9: 108990 | F9: =TRUNC(E9*D9,0) -> 0 | H9: 69 | I9: 1 | J9: 79 | K9: =SUM(H9:J9) -> 149 | N9: =SUM(H9:J9) -> 149 | O9: =K9-N9 -> 0 | P9: =TRUNC(P8*0.54%) -> 1069019 | Q9: =TRUNC(Q8*0.54%) -> 9262
A10: 조달수수료 | B10: 자재비의 | C10: % | D10: 0.54 | F10: =F7-F8-F9 -> 0 | K10: 0.54 | L10: =TRUNC(SUM(F8:F9)*K10%,-1) -> 0 | N10: =SUM(H10:J10) -> 0 | O10: =K10-N10 -> 0.54
A12: 1) 아스팔트콘크리트 | F12: =SUM(F13:F17) -> 72606000 | G12: 25년2월9일 | N12: =SUM(H12:J12) -> 0 | O12: =K12-N12 -> 0
A13: 아스콘 | B13: #78 표층용 | C13: M/T | D13: 418 | E13: 110450 | F13: =TRUNC(E13*D13,0) -> 46168100 | H13: 408 | J13: 10 | K13: =SUM(H13:J13) -> 418 | N13: =SUM(H13:J13) -> 418 | O13: =K13-N13 -> 0 | P13: ='[79]관급자재(토목,기계)_전체분'!$L$619+'[79]관급자재(토목,기계)_전체분'!$L$620+'[79]관급자재(토목,기계)_전체분'!$L$542+'[79]관급자재(토목,기계)_전체분'!$L$543 -> 197966660 | Q13: ='[79]관급자재(토목,기계)_전체분'!$L$605+'[79]관급자재(토목,기계)_전체분'!$L$606 -> 1715200
A14: 아스콘(재생용) | B14: #787 표층용 | C14: M/T | D14: 278 | E14: 93700 | F14: =TRUNC(E14*D14,0) -> 26048600 | H14: 272 | J14: 6 | K14: =SUM(H14:J14) -> 278 | N14: =SUM(H14:J14) -> 278 | O14: =K14-N14 -> 0 | P14: =TRUNC(P13*0.54%) -> 1069019 | Q14: =TRUNC(Q13*0.54%) -> 9262
A15: 아스콘 | B15: #467 기층용 | C15: M/T | D15: 0 | E15: 92680 | F15: =TRUNC(E15*D15,0) -> 0 | G15: 계약완료 | H15: 415 | J15: 0 | K15: =SUM(H15:J15) -> 415 | N15: =SUM(H15:J15) -> 415 | O15: =K15-N15 -> 0 | P15: ='[79]관급자재(토목,기계)_전체분'!$L$619+'[79]관급자재(토목,기계)_전체분'!$L$620+'[79]관급자재(토목,기계)_전체분'!$L$542+'[79]관급자재(토목,기계)_전체분'!$L$543 -> 197966660 | Q15: ='[79]관급자재(토목,기계)_전체분'!$L$605+'[79]관급자재(토목,기계)_전체분'!$L$606 -> 1715200
A16: 아스콘(재생용) | B16: #467 기층용 | C16: M/T | D16: 0 | E16: 85650 | F16: =TRUNC(E16*D16,0) -> 0 | G16: 계약완료 | H16: 276 | J16: 0 | K16: =SUM(H16:J16) -> 276 | N16: =SUM(H16:J16) -> 276 | O16: =K16-N16 -> 0 | P16: =TRUNC(P15*0.54%) -> 1069019 | Q16: =TRUNC(Q15*0.54%) -> 9262
A17: 조달수수료 | B17: 자재비의 | C17: % | D17: 0.54 | F17: =TRUNC(SUM(F13:F16)*D17%)-670 -> 389300 | K17: 0.54 | L17: =TRUNC(SUM(F15:F16)*K17%,-1) -> 0 | N17: =SUM(H17:J17) -> 0 | O17: =K17-N17 -> 0.54
A19: 3) 기층재 | F19: =TRUNC(SUM(F20:F22)+TRUNC(SUM(F20:F22)*K23%,-1),-3) -> 0 | G19: 계약완료 | N19: =SUM(H19:J19) -> 0 | O19: =K19-N19 -> 0
A20: 보조기층 | B20: 40mm | C20: ㎥ | D20: 0 | E20: 21500 | F20: =TRUNC(E20*D20,0) -> 0 | H20: 661 | J20: 58 | K20: =SUM(H20:J20) -> 719 | N20: =SUM(H20:J20) -> 719 | O20: =K20-N20 -> 0
A21: 동상방지층 | B21: 75mm | C21: ㎥ | D21: 0 | E21: 21590 | F21: =TRUNC(E21*D21,0) -> 0 | H21: 360 | J21: 0 | K21: =SUM(H21:J21) -> 360 | N21: =SUM(H21:J21) -> 360 | O21: =K21-N21 -> 0
A22: 석분 | B22: 8MM이하 | C22: ㎥ | D22: 0 | E22: 20050 | F22: =TRUNC(E22*D22,0) -> 0 | H22: 644 | J22: 165 | K22: =SUM(H22:J22) -> 809 | N22: =SUM(H22:J22) -> 809 | O22: =K22-N22 -> 0
A23: 조달수수료 | B23: 자재비의 | C23: % | D23: 0.54 | F23: =F19-F20-F21-F22 -> 0 | K23: 0.54 | L23: =TRUNC(SUM(F20:F22)*K23%,-1) -> 0 | N23: =SUM(H23:J23) -> 0 | O23: =K23-N23 -> 0.54
N24: =SUM(H24:J24) -> 0 | O24: =K24-N24 -> 0
A25: 4) 기층재(순환골재) | F25: =SUM(F26:F27) -> 0 | G25: 계약완료 | N25: =SUM(H25:J25) -> 0 | O25: =K25-N25 -> 0
A26: 보조기층(순환골재) | B26: RSB-2 | C26: ㎥ | D26: 0 | E26: 8800 | F26: =TRUNC(E26*D26,0) -> 0 | H26: 441 | J26: 38 | K26: =SUM(H26:J26) -> 479 | N26: =SUM(H26:J26) -> 479 | O26: =K26-N26 -> 0
A27: 동상방지층(순환골재) | B27: RSB-2 | C27: ㎥ | D27: 0 | E27: 8800 | F27: =TRUNC(E27*D27,0) -> 0 | H27: 240 | J27: 0 | K27: =SUM(H27:J27) -> 240 | N27: =SUM(H27:J27) -> 240 | O27: =K27-N27 -> 0
N28: =SUM(H28:J28) -> 0 | O28: =K28-N28 -> 0
A29: 3) PVC관 | F29: =TRUNC(SUM(F30:F39)+TRUNC(SUM(F30:F39)*K40%,-1),-3) -> 0 | G29: 계약완료 | N29: =SUM(H29:J29) -> 0 | O29: =K29-N29 -> 0
A30: PVC 이중벽관 | B30: D200mm | C30: 본 | D30: 0 | E30: 107320 | F30: =TRUNC(E30*D30,0) -> 0 | H30: 0 | K30: =SUM(H30:J30) -> 0 | N30: =SUM(H30:J30) -> 0 | O30: =K30-N30 -> 0
A31: PVC 이중벽관 | B31: D150mm | C31: 본 | D31: 0 | E31: 69700 | F31: =TRUNC(E31*D31,0) -> 0 | H31: 0 | J31: 68 | K31: =SUM(H31:J31) -> 68 | N31: =SUM(H31:J31) -> 68 | O31: =K31-N31 -> 0
A32: PVC 접합부속 | B32: D200mm | C32: EA | D32: 0 | E32: 13180 | F32: =TRUNC(E32*D32,0) -> 0 | H32: 0 | K32: =SUM(H32:J32) -> 0 | N32: =SUM(H32:J32) -> 0 | O32: =K32-N32 -> 0
A33: PVC 접합부속 | B33: D150mm | C33: EA | D33: 0 | E33: 7560 | F33: =TRUNC(E33*D33,0) -> 0 | H33: 0 | J33: 68 | K33: =SUM(H33:J33) -> 68 | N33: =SUM(H33:J33) -> 68 | O33: =K33-N33 -> 0
A34: PVC 접합부속 | B34: D100mm | C34: EA | D34: 0 | E34: 2800 | F34: =TRUNC(E34*D34,0) -> 0 | H34: 0 | K34: =SUM(H34:J34) -> 0 | N34: =SUM(H34:J34) -> 0 | O34: =K34-N34 -> 0
A35: PVC 접합부속(고무링) | B35: D200mm | C35: EA | D35: 0 | E35: 760 | F35: =TRUNC(E35*D35,0) -> 0 | H35: 0 | K35: =SUM(H35:J35) -> 0 | N35: =SUM(H35:J35) -> 0 | O35: =K35-N35 -> 0
A36: PVC 접합부속(고무링) | B36: D150mm | C36: EA | D36: 0 | E36: 450 | F36: =TRUNC(E36*D36,0) -> 0 | H36: 0 | J36: 136 | K36: =SUM(H36:J36) -> 136 | N36: =SUM(H36:J36) -> 136 | O36: =K36-N36 -> 0
A37: PVC 접합부속(고무링) | B37: D100mm | C37: EA | D37: 0 | E37: 220 | F37: =TRUNC(E37*D37,0) -> 0 | H37: 0 | K37: =SUM(H37:J37) -> 0 | N37: =SUM(H37:J37) -> 0 | O37: =K37-N37 -> 0
A38: 내충격PVC관 | B38: D=100×6.0m | C38: 본 | D38: 0 | E38: 36660 | F38: =TRUNC(E38*D38,0) -> 0 | J38: 7 | K38: =SUM(H38:J38) -> 7 | N38: =SUM(H38:J38) -> 7 | O38: =K38-N38 -> 0
A39: 양수소켓 | B39: D100mm | C39: EA | D39: 0 | E39: 12400 | F39: =TRUNC(E39*D39,0) -> 0 | J39: 7 | K39: =SUM(H39:J39) -> 7 | N39: =SUM(H39:J39) -> 7 | O39: =K39-N39 -> 0
A40: 조달수수료 | B40: 자재비의 | C40: % | D40: 0.54 | F40: =F29-F30-F31-F32-F33-F34-F35-F36-F37-F38-F39 -> 0 | K40: 0.54 | L40: =TRUNC(SUM(F30:F35)*K40%,-1) -> 0 | N40: =SUM(H40:J40) -> 0 | O40: =K40-N40 -> 0.54
A42: 4) PE수도관 | F42: =TRUNC(SUM(F43:F45)+TRUNC(SUM(F43:F45)*K46%,-1),-3) -> 0 | G42: 계약완료 | N42: =SUM(H42:J42) -> 0 | O42: =K42-N42 -> 0
A43: PE수도관 | B43: D80×6.0m(Φ90) | C43: 본 | D43: 0 | E43: 61140 | F43: =TRUNC(E43*D43,0) -> 0 | H43: 0 | K43: =SUM(H43:J43) -> 0 | N43: =SUM(H43:J43) -> 0 | O43: =K43-N43 -> 0 | P43: ='[79]관급자재(토목,기계)_전체분'!$L$619+'[79]관급자재(토목,기계)_전체분'!$L$620+'[79]관급자재(토목,기계)_전체분'!$L$542+'[79]관급자재(토목,기계)_전체분'!$L$543 -> 197966660 | Q43: ='[79]관급자재(토목,기계)_전체분'!$L$605+'[79]관급자재(토목,기계)_전체분'!$L$606 -> 1715200
A44: PE수도관 | B44: D100×6.0m(Φ110) | C44: 본 | D44: 0 | E44: 90300 | F44: =TRUNC(E44*D44,0) -> 0 | H44: 58 | K44: =SUM(H44:J44) -> 58 | N44: =SUM(H44:J44) -> 58 | O44: =K44-N44 -> 0 | P44: ='[79]관급자재(토목,기계)_전체분'!$L$619+'[79]관급자재(토목,기계)_전체분'!$L$620+'[79]관급자재(토목,기계)_전체분'!$L$542+'[79]관급자재(토목,기계)_전체분'!$L$543 -> 197966660 | Q44: ='[79]관급자재(토목,기계)_전체분'!$L$605+'[79]관급자재(토목,기계)_전체분'!$L$606 -> 1715200
A45: PE수도관 | B45: D150×6.0m(Φ160) | C45: 본 | D45: 0 | E45: 191220 | F45: =TRUNC(E45*D45,0) -> 0 | H45: 316 | K45: =SUM(H45:J45) -> 316 | N45: =SUM(H45:J45) -> 316 | O45: =K45-N45 -> 0 | P45: =TRUNC(P43*0.54%) -> 1069019 | Q45: =TRUNC(Q43*0.54%) -> 9262
A46: 조달수수료 | B46: 자재비의 | C46: % | D46: 0.54 | F46: =F42-F43-F44-F45 -> 0 | K46: 0.54 | L46: =TRUNC(SUM(F43:F45)*K46%,-1) -> 0 | N46: =SUM(H46:J46) -> 0 | O46: =K46-N46 -> 0.54
A48: 5) 이중보온관 | F48: =SUM(F49:F56) -> 0 | G48: 계약완료 | N48: =SUM(H48:J48) -> 0 | O48: =K48-N48 -> 0
A49: 단열이중보온관(노출용) | B49: 강관, D150 | C49: M | D49: 0 | E49: 218030 | F49: =TRUNC(E49*D49,0) -> 0 | H49: 307 | K49: =SUM(H49:J49) -> 307 | N49: =SUM(H49:J49) -> 307 | O49: =K49-N49 -> 0
A50: 단열이중보온관(노출용) | B50: 강관, D150 엘보 | C50: EA | E50: 561399 | F50: =TRUNC(E50*D50,0) -> 0 | H50: 8 | K50: =SUM(H50:J50) -> 8 | N50: =SUM(H50:J50) -> 8 | O50: =K50-N50 -> 0
A51: 단열이중보온관(노출용) | B51: 강관, D100 | C51: M | D51: 0 | F51: =TRUNC(E51*D51,0) -> 0 | H51: 0 | K51: =SUM(H51:J51) -> 0
A52: 단열이중보온관(노출용) | B52: 강관, D100 엘보 | C52: EA | D52: 0 | F52: =TRUNC(E52*D52,0) -> 0 | H52: 0 | K52: =SUM(H52:J52) -> 0
A53: 내관연결전자소켓 | B53: D150 | C53: EA | D53: 0 | E53: 168760 | F53: =TRUNC(E53*D53,0) -> 0 | H53: 60 | K53: =SUM(H53:J53) -> 60
A54: 내관연결전자소켓 | B54: D100 | C54: EA | D54: 0 | F54: =TRUNC(E54*D54,0) -> 0 | H54: 0 | K54: =SUM(H54:J54) -> 0
A55: 연결보온재 | B55: D150 | C55: EA | D55: 0 | E55: 59800 | F55: =TRUNC(E55*D55,0) -> 0 | H55: 60 | K55: =SUM(H55:J55) -> 60
A56: 연결보온재 | B56: D100 | C56: EA | D56: 0 | F56: =TRUNC(E56*D56,0) -> 0 | H56: 0 | K56: =SUM(H56:J56) -> 0
A58: 6) GRP맨홀 | F58: =TRUNC(SUM(F59:F69)+TRUNC(SUM(F59:F69)*K70%,-1),-3) -> 0 | G58: 계약완료 | N58: =SUM(H58:J58) -> 0 | O58: =K58-N58 -> 0
A59: GRP맨홀 | B59: D900×1350mm | C59: EA | D59: 0 | E59: 897000 | F59: =TRUNC(E59*D59,0) -> 0 | H59: 1 | J59: 8 | K59: =SUM(H59:J59) -> 9 | N59: =SUM(H59:J59) -> 9 | O59: =K59-N59 -> 0 | P59: ='[79]관급자재(토목,기계)_전체분'!$L$619+'[79]관급자재(토목,기계)_전체분'!$L$620+'[79]관급자재(토목,기계)_전체분'!$L$542+'[79]관급자재(토목,기계)_전체분'!$L$543 -> 197966660 | Q59: ='[79]관급자재(토목,기계)_전체분'!$L$605+'[79]관급자재(토목,기계)_전체분'!$L$606 -> 1715200
A60: GRP연결지관 | B60: D100mm | C60: EA | D60: 0 | E60: 52800 | F60: =TRUNC(E60*D60,0) -> 0 | H60: 0 | J60: 0 | K60: =SUM(H60:J60) -> 0
A61: GRP연결지관 | B61: D150mm | C61: EA | D61: 0 | E61: 52800 | F61: =TRUNC(E61*D61,0) -> 0 | J61: 3 | K61: =SUM(H61:J61) -> 3
A62: GRP연결지관 | B62: D200mm | C62: EA | D62: 0 | E62: 57700 | F62: =TRUNC(E62*D62,0) -> 0 | H62: 0 | K62: =SUM(H62:J62) -> 0
A63: GRP맨홀, 높이조절단관 | B63: D900×10mm | C63: EA | D63: 0 | E63: 3110 | F63: =TRUNC(E63*D63,0) -> 0 | H63: 5 | K63: =SUM(H63:J63) -> 5
A64: GRP맨홀 | B64: D1200×2100mm | C64: EA | D64: 0 | E64: 1479200 | F64: =TRUNC(E64*D64,0) -> 0 | H64: 0 | K64: =SUM(H64:J64) -> 0
A65: GRP맨홀, 높이조절단관 | B65: D1200×10mm | C65: EA | D65: 0 | E65: 4670 | F65: =TRUNC(E65*D65,0) -> 0 | H65: 0 | K65: =SUM(H65:J65) -> 0
A66: GRP맨홀펌프장 | B66: D1800×3900mm | C66: EA | D66: 0 | E66: 11270000 | F66: =TRUNC(E66*D66,0) -> 0 | H66: 1 | K66: =SUM(H66:J66) -> 1
A67: GRP맨홀펌프장 | B67: D1800×4130mm | C67: EA | D67: 0 | E67: 12310000 | F67: =TRUNC(E67*D67,0) -> 0 | H67: 0 | K67: =SUM(H67:J67) -> 0
A68: GRP맨홀펌프장 | B68: D1800×6550mm | C68: EA | D68: 0 | E68: 15660000 | F68: =TRUNC(E68*D68,0) -> 0 | H68: 0 | K68: =SUM(H68:J68) -> 0
A69: GRP맨홀펌프장 | B69: D2500×8010mm | C69: EA | D69: 0 | E69: 34200000 | F69: =TRUNC(E69*D69,0) -> 0 | H69: 0 | K69: =SUM(H69:J69) -> 0 | N69: =SUM(H69:J69) -> 0 | O69: =K69-N69 -> 0 | P69: =TRUNC(P59*0.54%) -> 1069019 | Q69: =TRUNC(Q59*0.54%) -> 9262
A70: 조달수수료 | B70: 자재비의 | C70: % | D70: 0.54 | F70: =F58-F59-F60-F61-F62-F63-F64-F65-F66-F67-F68-F69 -> 0 | K70: 0.54 | L70: =TRUNC(SUM(F59:F69)*K70%,-1) -> 0 | N70: =SUM(H70:J70) -> 0 | O70: =K70-N70 -> 0.54
A72: 7) 맨홀류 | F72: =TRUNC(SUM(F73:F74)+TRUNC(SUM(F73:F74)*K75%,-1),-3) -> 0 | G72: 계약완료 | N72: =SUM(H72:J72) -> 0 | O72: =K72-N72 -> 0
A73: 소형맨홀 | B73: D300 | C73: EA | D73: 0 | E73: 209230 | F73: =TRUNC(E73*D73,0) -> 0 | J73: 4 | K73: =SUM(H73:J73) -> 4 | N73: =SUM(H73:J73) -> 4 | O73: =K73-N73 -> 0 | P73: ='[79]관급자재(토목,기계)_전체분'!$L$619+'[79]관급자재(토목,기계)_전체분'!$L$620+'[79]관급자재(토목,기계)_전체분'!$L$542+'[79]관급자재(토목,기계)_전체분'!$L$543 -> 197966660 | Q73: ='[79]관급자재(토목,기계)_전체분'!$L$605+'[79]관급자재(토목,기계)_전체분'!$L$606 -> 1715200
A74: 오수받이 | B74: D300 | C74: EA | D74: 0 | E74: 214700 | F74: =TRUNC(E74*D74,0) -> 0 | J74: 3 | K74: =SUM(H74:J74) -> 3 | N74: =SUM(H74:J74) -> 3 | O74: =K74-N74 -> 0 | P74: =TRUNC(P73*0.54%) -> 1069019 | Q74: =TRUNC(Q73*0.54%) -> 9262
A75: 조달수수료 | B75: 자재비의 | C75: % | D75: 0.54 | F75: =F72-F73-F74 -> 0 | K75: 0.54 | L75: =TRUNC(SUM(F73:F74)*K75%,-1) -> 0 | N75: =SUM(H75:J75) -> 0 | O75: =K75-N75 -> 0.54
A77: 8) 맨홀뚜껑 | F77: =TRUNC(SUM(F78:F80)+TRUNC(SUM(F78:F80)*K81%,-1),-3) -> 0 | G77: 계약완료 | N77: =SUM(H77:J77) -> 0 | O77: =K77-N77 -> 0
A78: 맨홀뚜껑 | B78: Φ375mm, 오수 | C78: 조 | D78: 0 | E78: 67600 | F78: =TRUNC(E78*D78,0) -> 0 | J78: 7 | K78: =SUM(H78:J78) -> 7 | N78: =SUM(H78:J78) -> 7 | O78: =K78-N78 -> 0 | P78: ='[79]관급자재(토목,기계)_전체분'!$L$619+'[79]관급자재(토목,기계)_전체분'!$L$620+'[79]관급자재(토목,기계)_전체분'!$L$542+'[79]관급자재(토목,기계)_전체분'!$L$543 -> 197966660 | Q78: ='[79]관급자재(토목,기계)_전체분'!$L$605+'[79]관급자재(토목,기계)_전체분'!$L$606 -> 1715200
A79: 맨홀뚜껑 | B79: Φ648mm, 오수 | C79: 조 | D79: 0 | E79: 417800 | F79: =TRUNC(E79*D79,0) -> 0 | H79: 2 | J79: 8 | K79: =SUM(H79:J79) -> 10 | N79: =SUM(H79:J79) -> 10 | O79: =K79-N79 -> 0 | P79: ='[79]관급자재(토목,기계)_전체분'!$L$619+'[79]관급자재(토목,기계)_전체분'!$L$620+'[79]관급자재(토목,기계)_전체분'!$L$542+'[79]관급자재(토목,기계)_전체분'!$L$543 -> 197966660 | Q79: ='[79]관급자재(토목,기계)_전체분'!$L$605+'[79]관급자재(토목,기계)_전체분'!$L$606 -> 1715200
A80: 맨홀뚜껑 | B80: Φ766mm, 오수 | C80: 조 | D80: 0 | E80: 681700 | F80: =TRUNC(E80*D80,0) -> 0 | H80: 2 | K80: =SUM(H80:J80) -> 2 | N80: =SUM(H80:J80) -> 2 | O80: =K80-N80 -> 0 | P80: =TRUNC(P78*0.54%) -> 1069019 | Q80: =TRUNC(Q78*0.54%) -> 9262
A81: 조달수수료 | B81: 자재비의 | C81: % | D81: 0.54 | F81: =F77-F78-F79-F80 -> 0 | K81: 0.54 | L81: =TRUNC(SUM(F78:F80)*K81%,-1) -> 0 | N81: =SUM(H81:J81) -> 0 | O81: =K81-N81 -> 0.54
A83: 9) 휀스 및 출입문 | F83: =SUM(F84:F86) -> 0 | G83: 25년2월9일 | N83: =SUM(H83:J83) -> 0 | O83: =K83-N83 -> 0
A84: 메쉬휀스 | B84: W=2.0, H1.5 | C84: 경간 | E84: 91400 | F84: =TRUNC(E84*D84,0) -> 0 | H84: 2 | K84: =SUM(H84:J84) -> 2 | N84: =SUM(H84:J84) -> 2 | O84: =K84-N84 -> 0 | P84: ='[79]관급자재(토목,기계)_전체분'!$L$619+'[79]관급자재(토목,기계)_전체분'!$L$620+'[79]관급자재(토목,기계)_전체분'!$L$542+'[79]관급자재(토목,기계)_전체분'!$L$543 -> 197966660 | Q84: ='[79]관급자재(토목,기계)_전체분'!$L$605+'[79]관급자재(토목,기계)_전체분'!$L$606 -> 1715200
A85: 출입문 | B85: W=1.0, H1.5 | C85: 개소 | E85: 328000 | F85: =TRUNC(E85*D85,0) -> 0 | H85: 1 | K85: =SUM(H85:J85) -> 1 | N85: =SUM(H85:J85) -> 1 | O85: =K85-N85 -> 0 | P85: =TRUNC(P84*0.54%) -> 1069019 | Q85: =TRUNC(Q84*0.54%) -> 9262
A86: 조달수수료 | B86: 자재비의 | C86: % | D86: 0.54 | F86: =TRUNC(SUM(F84:F85)*D86%) -> 0 | K86: 0.54 | L86: =TRUNC(SUM(F84:F85)*K86%,-1) -> 0 | N86: =SUM(H86:J86) -> 0 | O86: =K86-N86 -> 0.54
N87: =SUM(H87:J87) -> 0 | O87: =K87-N87 -> 0
A88: 10) 와이어메쉬 | F88: =TRUNC(SUM(F89:F89)+TRUNC(SUM(F89:F89)*K90%,-1),-3) -> 0 | G88: 계약완료 | N88: =SUM(H88:J88) -> 0 | O88: =K88-N88 -> 0
A89: 와이어메쉬 | B89: #8×150×150 | C89: ㎡ | D89: 0 | E89: 4040 | F89: =TRUNC(E89*D89,0) -> 0 | H89: 333 | J89: 400 | K89: =SUM(H89:J89) -> 733 | N89: =SUM(H89:J89) -> 733 | O89: =K89-N89 -> 0
A90: 조달수수료 | B90: 자재비의 | C90: % | D90: 0.54 | F90: =F88-F89 -> 0 | K90: 0.54 | L90: =TRUNC(SUM(F89:F89)*K90%,-1) -> 0 | N90: =SUM(H90:J90) -> 0 | O90: =K90-N90 -> 0.54
N91: =SUM(H91:J91) -> 0 | O91: =K91-N91 -> 0
C92: 0
E93: 순환골재 | F93: 0
E94: 이중보온관 | F94: =179560+440 -> 180000
E96: 합계 | F96: =SUM(F93:F95) -> 180000
F98: =F5+F96 -> 72786000

Sheet 관급자재(종부처리분구)
A1: 관급자재 구입 내역서
A2: ▣ 공사명: 여만처리분구 외 6개소 하수관로 정비사업(토목+기계) | G2: (단위 : 원)
A3: 품 명 | B3: 규 격 | C3: 단위 | D3: 수량 | E3: 단 가 | F3: 금 액 | G3: 비고 (납품기한) | H3: 수 량
H4: 오수 관로 | I4: 맨홀 펌프장 | J4: 배수 설비 | K4: 합 계
A5: ◈ 도급자 관급자재대 | F5: =F6 -> 57903000
A6: □. 종부처리분구 | F6: =SUM(F7,F12,F19,F25,F29,F42,F48,F58,F73,F78,F84,F89) -> 57903000 | P6: =725829964-F6-#REF!-#REF!-#REF!-#REF! -> #REF!
A7: 1) 레미콘 | F7: =SUM(F8:F10) -> 11396000 | G7: 25년2월9일 | N7: =SUM(H7:J7) -> 0 | O7: =K7-N7 -> 0
A8: 레미콘 | B8: 25-18-80 | C8: ㎥ | D8: 0 | E8: 105550 | F8: =TRUNC(E8*D8,0) -> 0 | H8: 1 | J8: 0 | K8: =SUM(H8:J8) -> 1 | N8: =SUM(H8:J8) -> 1 | O8: =K8-N8 -> 0 | P8: ='[79]관급자재(토목,기계)_전체분'!$L$619+'[79]관급자재(토목,기계)_전체분'!$L$620+'[79]관급자재(토목,기계)_전체분'!$L$542+'[79]관급자재(토목,기계)_전체분'!$L$543 -> 197966660 | Q8: ='[79]관급자재(토목,기계)_전체분'!$L$605+'[79]관급자재(토목,기계)_전체분'!$L$606 -> 1715200
A9: 레미콘 | B9: 25-21-80 | C9: ㎥ | D9: 104 | E9: 108990 | F9: =TRUNC(E9*D9,0) -> 11334960 | H9: 33 | J9: 71 | K9: =SUM(H9:J9) -> 104 | N9: =SUM(H9:J9) -> 104 | O9: =K9-N9 -> 0 | P9: =TRUNC(P8*0.54%) -> 1069019 | Q9: =TRUNC(Q8*0.54%) -> 9262
A10: 조달수수료 | B10: 자재비의 | C10: % | D10: 0.54 | F10: =TRUNC(SUM(F8:F9)*D10%)-168 -> 61040 | K10: 0.54 | L10: =TRUNC(SUM(F8:F9)*K10%,-1) -> 61200 | N10: =SUM(H10:J10) -> 0 | O10: =K10-N10 -> 0.54
A12: 2) 아스팔트콘크리트 | F12: =SUM(F13:F17) -> 24196000 | G12: 25년2월9일 | N12: =SUM(H12:J12) -> 0 | O12: =K12-N12 -> 0
A13: 아스콘 | B13: #78 표층용 | C13: M/T | D13: 139 | E13: 110450 | F13: =TRUNC(E13*D13,0) -> 15352550 | H13: 51 | J13: 88 | K13: =SUM(H13:J13) -> 139 | N13: =SUM(H13:J13) -> 139 | O13: =K13-N13 -> 0 | P13: ='[79]관급자재(토목,기계)_전체분'!$L$619+'[79]관급자재(토목,기계)_전체분'!$L$620+'[79]관급자재(토목,기계)_전체분'!$L$542+'[79]관급자재(토목,기계)_전체분'!$L$543 -> 197966660 | Q13: ='[79]관급자재(토목,기계)_전체분'!$L$605+'[79]관급자재(토목,기계)_전체분'!$L$606 -> 1715200
A14: 아스콘(재생용) | B14: #787 표층용 | C14: M/T | D14: 93 | E14: 93700 | F14: =TRUNC(E14*D14,0) -> 8714100 | H14: 34 | J14: 59 | K14: =SUM(H14:J14) -> 93 | N14: =SUM(H14:J14) -> 93 | O14: =K14-N14 -> 0 | P14: =TRUNC(P13*0.54%) -> 1069019 | Q14: =TRUNC(Q13*0.54%) -> 9262
A15: 아스콘 | B15: #467 기층용 | C15: M/T | D15: 0 | E15: 92680 | F15: =TRUNC(E15*D15,0) -> 0 | H15: 0 | K15: =SUM(H15:J15) -> 0 | N15: =SUM(H15:J15) -> 0 | O15: =K15-N15 -> 0 | P15: ='[79]관급자재(토목,기계)_전체분'!$L$619+'[79]관급자재(토목,기계)_전체분'!$L$620+'[79]관급자재(토목,기계)_전체분'!$L$542+'[79]관급자재(토목,기계)_전체분'!$L$543 -> 197966660 | Q15: ='[79]관급자재(토목,기계)_전체분'!$L$605+'[79]관급자재(토목,기계)_전체분'!$L$606 -> 1715200
A16: 아스콘(재생용) | B16: #467 기층용 | C16: M/T | D16: 0 | E16: 82700 | F16: =TRUNC(E16*D16,0) -> 0 | H16: 0 | K16: =SUM(H16:J16) -> 0 | N16: =SUM(H16:J16) -> 0 | O16: =K16-N16 -> 0 | P16: =TRUNC(P15*0.54%) -> 1069019 | Q16: =TRUNC(Q15*0.54%) -> 9262
A17: 조달수수료 | B17: 자재비의 | C17: % | D17: 0.54 | F17: =TRUNC(SUM(F13:F15)*D17%)-609 -> 129350 | K17: 0.54 | L17: =TRUNC(SUM(F15:F16)*K17%,-1) -> 0 | N17: =SUM(H17:J17) -> 0 | O17: =K17-N17 -> 0.54
A19: 3) 기층재 | F19: =SUM(F20:F23) -> 4228000 | G19: 25년2월9일 | N19: =SUM(H19:J19) -> 0 | O19: =K19-N19 -> 0
A20: 보조기층 | B20: 40mm | C20: ㎥ | D20: 103 | E20: 20680 | F20: =TRUNC(E20*D20,0) -> 2130040 | H20: 52 | J20: 51 | K20: =SUM(H20:J20) -> 103 | N20: =SUM(H20:J20) -> 103 | O20: =K20-N20 -> 0
A21: 동상방지층 | B21: 75mm | C21: ㎥ | D21: 0 | E21: 21590 | F21: =TRUNC(E21*D21,0) -> 0 | H21: 0 | J21: 0 | K21: =SUM(H21:J21) -> 0 | N21: =SUM(H21:J21) -> 0 | O21: =K21-N21 -> 0
A22: 석분 | B22: 8MM이하 | C22: ㎥ | D22: 89 | E22: 23320 | F22: =TRUNC(E22*D22,0) -> 2075480 | H22: 65 | J22: 24 | K22: =SUM(H22:J22) -> 89 | N22: =SUM(H22:J22) -> 89 | O22: =K22-N22 -> 0
A23: 조달수수료 | B23: 자재비의 | C23: % | D23: 0.54 | F23: =TRUNC(SUM(F20:F22)*D23%)-229 -> 22480 | K23: 0.54 | L23: =TRUNC(SUM(F20:F22)*K23%,-1) -> 22700 | N23: =SUM(H23:J23) -> 0 | O23: =K23-N23 -> 0.54
N24: =SUM(H24:J24) -> 0 | O24: =K24-N24 -> 0
A25: 4) 기층재(순환골재) | F25: =SUM(F26:F27) -> 598000 | G25: 25년2월9일 | N25: =SUM(H25:J25) -> 0 | O25: =K25-N25 -> 0
A26: 보조기층(순환골재) | B26: RSB-2 | C26: ㎥ | D26: 68 | E26: 8800 | F26: =TRUNC(E26*D26,0)-400 -> 598000 | H26: 34 | J26: 34 | K26: =SUM(H26:J26) -> 68 | N26: =SUM(H26:J26) -> 68 | O26: =K26-N26 -> 0
A27: 동상방지층(순환골재) | B27: RSB-2 | C27: ㎥ | D27: 0 | E27: 8800 | F27: =TRUNC(E27*D27,0) -> 0 | H27: 0 | J27: 0 | K27: =SUM(H27:J27) -> 0 | N27: =SUM(H27:J27) -> 0 | O27: =K27-N27 -> 0
N28: =SUM(H28:J28) -> 0 | O28: =K28-N28 -> 0
A29: 5) PVC관 | F29: =SUM(F31:F40) -> 4097000 | G29: 25년2월9일 | N29: =SUM(H29:J29) -> 0 | O29: =K29-N29 -> 0
A30: PVC 이중벽관 | B30: D200mm | C30: 본 | D30: 0 | E30: 107320 | F30: =TRUNC(E30*D30,0) -> 0 | H30: 0 | K30: =SUM(H30:J30) -> 0 | N30: =SUM(H30:J30) -> 0 | O30: =K30-N30 -> 0
A31: PVC 이중벽관 | B31: D150mm | C31: 본 | D31: 49 | E31: 69700 | F31: =TRUNC(E31*D31,0) -> 3415300 | H31: 0 | J31: 49 | K31: =SUM(H31:J31) -> 49 | N31: =SUM(H31:J31) -> 49 | O31: =K31-N31 -> 0
A32: PVC 접합부속 | B32: D200mm | C32: EA | D32: 0 | E32: 13180 | F32: =TRUNC(E32*D32,0) -> 0 | H32: 0 | K32: =SUM(H32:J32) -> 0 | N32: =SUM(H32:J32) -> 0 | O32: =K32-N32 -> 0
A33: PVC 접합부속 | B33: D150mm | C33: EA | D33: 49 | E33: 7560 | F33: =TRUNC(E33*D33,0) -> 370440 | H33: 0 | J33: 49 | K33: =SUM(H33:J33) -> 49 | N33: =SUM(H33:J33) -> 49 | O33: =K33-N33 -> 0
A34: PVC 접합부속 | B34: D100mm | C34: EA | D34: 0 | E34: 2800 | F34: =TRUNC(E34*D34,0) -> 0 | H34: 0 | K34: =SUM(H34:J34) -> 0 | N34: =SUM(H34:J34) -> 0 | O34: =K34-N34 -> 0
A35: PVC 접합부속(고무링) | B35: D200mm | C35: EA | D35: 0 | E35: 760 | F35: =TRUNC(E35*D35,0) -> 0 | H35: 0 | K35: =SUM(H35:J35) -> 0 | N35: =SUM(H35:J35) -> 0 | O35: =K35-N35 -> 0
A36: PVC 접합부속(고무링) | B36: D150mm | C36: EA | D36: 98 | E36: 450 | F36: =TRUNC(E36*D36,0) -> 44100 | H36: 0 | J36: 98 | K36: =SUM(H36:J36) -> 98 | N36: =SUM(H36:J36) -> 98 | O36: =K36-N36 -> 0
A37: PVC 접합부속(고무링) | B37: D100mm | C37: EA | D37: 0 | E37: 220 | F37: =TRUNC(E37*D37,0) -> 0 | H37: 0 | K37: =SUM(H37:J37) -> 0 | N37: =SUM(H37:J37) -> 0 | O37: =K37-N37 -> 0
A38: 내충격PVC관 | B38: D=100×6.0m | C38: 본 | D38: 5 | E38: 36660 | F38: =TRUNC(E38*D38,0) -> 183300 | J38: 5 | K38: =SUM(H38:J38) -> 5 | N38: =SUM(H38:J38) -> 5 | O38: =K38-N38 -> 0
A39: 양수소켓 | B39: D100mm | C39: EA | D39: 5 | E39: 12400 | F39: =TRUNC(E39*D39,0) -> 62000 | J39: 5 | K39: =SUM(H39:J39) -> 5 | N39: =SUM(H39:J39) -> 5 | O39: =K39-N39 -> 0
A40: 조달수수료 | B40: 자재비의 | C40: % | D40: 0.54 | F40: =TRUNC(SUM(F31:F39)*D40%)-145 -> 21860 | K40: 0.54 | L40: =TRUNC(SUM(F30:F35)*K40%,-1) -> 20440 | N40: =SUM(H40:J40) -> 0 | O40: =K40-N40 -> 0.54
A42: 6) PE수도관 | F42: =SUM(F43:F46) -> 3268000 | G42: 25년2월9일 | N42: =SUM(H42:J42) -> 0 | O42: =K42-N42 -> 0
A43: PE수도관 | B43: D80×6.0m(Φ90) | C43: 본 | E43: 61140 | F43: =TRUNC(E43*D43,0) -> 0 | H43: 16 | K43: =SUM(H43:J43) -> 16 | N43: =SUM(H43:J43) -> 16 | O43: =K43-N43 -> 0 | P43: ='[79]관급자재(토목,기계)_전체분'!$L$619+'[79]관급자재(토목,기계)_전체분'!$L$620+'[79]관급자재(토목,기계)_전체분'!$L$542+'[79]관급자재(토목,기계)_전체분'!$L$543 -> 197966660 | Q43: ='[79]관급자재(토목,기계)_전체분'!$L$605+'[79]관급자재(토목,기계)_전체분'!$L$606 -> 1715200
A44: PE수도관 | B44: D100×6.0m(Φ110) | C44: 본 | D44: 0 | E44: 90300 | F44: =TRUNC(E44*D44,0) -> 0 | H44: 0 | K44: =SUM(H44:J44) -> 0 | N44: =SUM(H44:J44) -> 0 | O44: =K44-N44 -> 0 | P44: ='[79]관급자재(토목,기계)_전체분'!$L$619+'[79]관급자재(토목,기계)_전체분'!$L$620+'[79]관급자재(토목,기계)_전체분'!$L$542+'[79]관급자재(토목,기계)_전체분'!$L$543 -> 197966660 | Q44: ='[79]관급자재(토목,기계)_전체분'!$L$605+'[79]관급자재(토목,기계)_전체분'!$L$606 -> 1715200
A45: PE수도관 | B45: D150×6.0m(Φ160) | C45: 본 | D45: 17 | E45: 191220 | F45: =TRUNC(E45*D45,0) -> 3250740 | H45: 17 | K45: =SUM(H45:J45) -> 17 | N45: =SUM(H45:J45) -> 17 | O45: =K45-N45 -> 0 | P45: =TRUNC(P43*0.54%) -> 1069019 | Q45: =TRUNC(Q43*0.54%) -> 9262
A46: 조달수수료 | B46: 자재비의 | C46: % | D46: 0.54 | F46: =TRUNC(SUM(F43:F45)*D46%)-293 -> 17260 | K46: 0.54 | L46: =TRUNC(SUM(F43:F45)*K46%,-1) -> 17550 | N46: =SUM(H46:J46) -> 0 | O46: =K46-N46 -> 0.54
A48: 7) 이중보온관 | F48: =SUM(F49:F56) -> 0 | G48: 24년12월30일 | N48: =SUM(H48:J48) -> 0 | O48: =K48-N48 -> 0
A49: 단열이중보온관(노출용) | B49: 강관, D150 | C49: M | D49: 0 | E49: 269500 | F49: =TRUNC(E49*D49,0) -> 0 | H49: 0 | K49: =SUM(H49:J49) -> 0 | N49: =SUM(H49:J49) -> 0 | O49: =K49-N49 -> 0
A50: 단열이중보온관(노출용) | B50: 강관, D150 엘보 | C50: EA | D50: 0 | E50: 1051000 | F50: =TRUNC(E50*D50,0) -> 0 | H50: 0 | K50: =SUM(H50:J50) -> 0 | N50: =SUM(H50:J50) -> 0 | O50: =K50-N50 -> 0
A51: 단열이중보온관(노출용) | B51: 강관, D100 | C51: M | D51: 0 | E51: 200800 | F51: =TRUNC(E51*D51,0) -> 0 | H51: 0 | K51: =SUM(H51:J51) -> 0
A52: 단열이중보온관(노출용) | B52: 강관, D100 엘보 | C52: EA | D52: 0 | E52: 783100 | F52: =TRUNC(E52*D52,0) -> 0 | H52: 0 | K52: =SUM(H52:J52) -> 0
A53: 내관연결전자소켓 | B53: D150 | C53: EA | D53: 0 | E53: 189640 | F53: =TRUNC(E53*D53,0) -> 0 | H53: 0 | K53: =SUM(H53:J53) -> 0
A54: 내관연결전자소켓 | B54: D100 | C54: EA | D54: 0 | E54: 51260 | F54: =TRUNC(E54*D54,0) -> 0 | H54: 0 | K54: =SUM(H54:J54) -> 0
A55: 연결보온재 | B55: D150 | C55: EA | D55: 0 | E55: 94080 | F55: =TRUNC(E55*D55,0) -> 0 | H55: 0 | K55: =SUM(H55:J55) -> 0
A56: 연결보온재 | B56: D100 | C56: EA | D56: 0 | E56: 89180 | F56: =TRUNC(E56*D56,0) -> 0 | H56: 0 | K56: =SUM(H56:J56) -> 0
A58: 7) GRP맨홀 | F58: =SUM(F59:F71) -> 3713000 | G58: 25년2월9일 | N58: =SUM(H58:J58) -> 0 | O58: =K58-N58 -> 0
A59: GRP맨홀 | B59: D900×1350mm | C59: EA | D59: 4 | E59: 897000 | F59: =TRUNC(E59*D59,0) -> 3588000 | H59: 0 | J59: 4 | K59: =SUM(H59:J59) -> 4 | N59: =SUM(H59:J59) -> 4 | O59: =K59-N59 -> 0 | P59: ='[79]관급자재(토목,기계)_전체분'!$L$619+'[79]관급자재(토목,기계)_전체분'!$L$620+'[79]관급자재(토목,기계)_전체분'!$L$542+'[79]관급자재(토목,기계)_전체분'!$L$543 -> 197966660 | Q59: ='[79]관급자재(토목,기계)_전체분'!$L$605+'[79]관급자재(토목,기계)_전체분'!$L$606 -> 1715200
A60: GRP연결지관 | B60: D100mm | C60: EA | D60: 0 | E60: 52800 | F60: =TRUNC(E60*K60,0) -> 0 | K60: =SUM(H60:J60) -> 0
A61: GRP연결지관 | B61: D150mm | C61: EA | D61: 2 | E61: 52800 | F61: =TRUNC(E61*D61,0) -> 105600 | H61: 0 | J61: 2 | K61: =SUM(H61:J61) -> 2
A62: GRP연결지관 | B62: D200mm | C62: EA | D62: 0 | E62: 57700 | F62: =TRUNC(E62*D62,0) -> 0 | H62: 0 | K62: =SUM(H62:J62) -> 0
A63: GRP맨홀, 높이조절단관 | B63: D900×10mm | C63: EA | D63: 0 | E63: 3110 | F63: =TRUNC(E63*D63,0) -> 0 | H63: 0 | K63: =SUM(H63:J63) -> 0
A64: GRP맨홀펌프장 | B64: D1800×3900mm | C64: EA | E64: 11990000 | F64: =TRUNC(E64*D64,0) -> 0 | H64: 1 | K64: =SUM(H64:J64) -> 1
A65: GRP맨홀, 높이조절단관 | B65: D1200×10mm | C65: EA | D65: 0 | E65: 4670 | F65: =TRUNC(E65*D65,0) -> 0 | H65: 0 | K65: =SUM(H65:J65) -> 0
A66: GRP맨홀펌프장 | B66: D2500×9710mm | C66: EA | D66: 0 | E66: 39060000 | F66: =TRUNC(E66*D66,0) -> 0 | H66: 0 | K66: =SUM(H66:J66) -> 0
A67: GRP맨홀펌프장 | B67: D2500×8050mm | C67: EA | D67: 0 | E67: 34310000 | F67: =TRUNC(E67*D67,0) -> 0 | H67: 0 | K67: =SUM(H67:J67) -> 0
A68: GRP맨홀펌프장 | B68: D3000×7050mm | C68: EA | D68: 0 | E68: 43990000 | F68: =TRUNC(E68*D68,0) -> 0 | H68: 0 | K68: =SUM(H68:J68) -> 0
A69: GRP맨홀펌프장 | B69: D3000×4520mm | C69: EA | D69: 0 | E69: 33690000 | F69: =TRUNC(E69*D69,0) -> 0 | H69: 0 | K69: =SUM(H69:J69) -> 0
A70: GRP맨홀펌프장 | B70: D3000×4720mm | C70: EA | D70: 0 | E70: 34510000 | F70: =TRUNC(E70*D70,0) -> 0 | H70: 0 | K70: =SUM(H70:J70) -> 0 | N70: =SUM(H70:J70) -> 0 | O70: =K70-N70 -> 0 | P70: =TRUNC(P59*0.54%) -> 1069019 | Q70: =TRUNC(Q59*0.54%) -> 9262
A71: 조달수수료 | B71: 자재비의 | C71: % | D71: 0.54 | F71: =TRUNC(SUM(F59:F69)*D71%)-545 -> 19400 | K71: 0.54 | L71: =TRUNC(SUM(F59:F70)*K71%,-1) -> 19940 | N71: =SUM(H71:J71) -> 0 | O71: =K71-N71 -> 0.54
A73: 8) 맨홀류 | F73: =SUM(F74:F76) -> 642000 | G73: 25년2월9일 | N73: =SUM(H73:J73) -> 0 | O73: =K73-N73 -> 0
A74: 소형맨홀 | B74: D300 | C74: EA | D74: 1 | E74: 209230 | F74: =TRUNC(E74*D74,0) -> 209230 | J74: 1 | K74: =SUM(H74:J74) -> 1 | N74: =SUM(H74:J74) -> 1 | O74: =K74-N74 -> 0 | P74: ='[79]관급자재(토목,기계)_전체분'!$L$619+'[79]관급자재(토목,기계)_전체분'!$L$620+'[79]관급자재(토목,기계)_전체분'!$L$542+'[79]관급자재(토목,기계)_전체분'!$L$543 -> 197966660 | Q74: ='[79]관급자재(토목,기계)_전체분'!$L$605+'[79]관급자재(토목,기계)_전체분'!$L$606 -> 1715200
A75: 오수받이 | B75: D300 | C75: EA | D75: 2 | E75: 214700 | F75: =TRUNC(E75*D75,0) -> 429400 | J75: 2 | K75: =SUM(H75:J75) -> 2 | N75: =SUM(H75:J75) -> 2 | O75: =K75-N75 -> 0 | P75: =TRUNC(P74*0.54%) -> 1069019 | Q75: =TRUNC(Q74*0.54%) -> 9262
A76: 조달수수료 | B76: 자재비의 | C76: % | D76: 0.54 | F76: =TRUNC(SUM(F74:F75)*D76%)-78 -> 3370 | K76: 0.54 | L76: =TRUNC(SUM(F74:F75)*K76%,-1) -> 3440 | N76: =SUM(H76:J76) -> 0 | O76: =K76-N76 -> 0.54
A78: 9) 맨홀뚜껑 | F78: =SUM(F79:F82) -> 3674000 | G78: 25년2월9일 | N78: =SUM(H78:J78) -> 0 | O78: =K78-N78 -> 0
A79: 맨홀뚜껑 | B79: Φ375mm, 오수 | C79: 조 | D79: 3 | E79: 67600 | F79: =TRUNC(E79*D79,0) -> 202800 | J79: 3 | K79: =SUM(H79:J79) -> 3 | N79: =SUM(H79:J79) -> 3 | O79: =K79-N79 -> 0 | P79: ='[79]관급자재(토목,기계)_전체분'!$L$619+'[79]관급자재(토목,기계)_전체분'!$L$620+'[79]관급자재(토목,기계)_전체분'!$L$542+'[79]관급자재(토목,기계)_전체분'!$L$543 -> 197966660 | Q79: ='[79]관급자재(토목,기계)_전체분'!$L$605+'[79]관급자재(토목,기계)_전체분'!$L$606 -> 1715200
A80: 맨홀뚜껑 | B80: Φ648mm, 오수 | C80: 조 | D80: 5 | E80: 417800 | F80: =TRUNC(E80*D80,0) -> 2089000 | H80: 1 | J80: 4 | K80: =SUM(H80:J80) -> 5 | N80: =SUM(H80:J80) -> 5 | O80: =K80-N80 -> 0 | P80: ='[79]관급자재(토목,기계)_전체분'!$L$619+'[79]관급자재(토목,기계)_전체분'!$L$620+'[79]관급자재(토목,기계)_전체분'!$L$542+'[79]관급자재(토목,기계)_전체분'!$L$543 -> 197966660 | Q80: ='[79]관급자재(토목,기계)_전체분'!$L$605+'[79]관급자재(토목,기계)_전체분'!$L$606 -> 1715200
A81: 맨홀뚜껑 | B81: Φ766mm, 오수 | C81: 조 | D81: 2 | E81: 681700 | F81: =TRUNC(E81*D81,0) -> 1363400 | H81: 2 | K81: =SUM(H81:J81) -> 2 | N81: =SUM(H81:J81) -> 2 | O81: =K81-N81 -> 0 | P81: =TRUNC(P79*0.54%) -> 1069019 | Q81: =TRUNC(Q79*0.54%) -> 9262
A82: 조달수수료 | B82: 자재비의 | C82: % | D82: 0.54 | F82: =TRUNC(SUM(F79:F81)*D82%)-938 -> 18800 | K82: 0.54 | L82: =TRUNC(SUM(F79:F81)*K82%,-1) -> 19730 | N82: =SUM(H82:J82) -> 0 | O82: =K82-N82 -> 0.54
A84: 10) 휀스 및 출입문 | F84: =SUM(F85:F87) -> 0 | G84: 25년2월9일 | N84: =SUM(H84:J84) -> 0 | O84: =K84-N84 -> 0
A85: 메쉬휀스 | B85: W=2.0, H1.5 | C85: 경간 | E85: 91400 | F85: =TRUNC(E85*D85,0) -> 0 | H85: 2 | K85: =SUM(H85:J85) -> 2 | N85: =SUM(H85:J85) -> 2 | O85: =K85-N85 -> 0 | P85: ='[79]관급자재(토목,기계)_전체분'!$L$619+'[79]관급자재(토목,기계)_전체분'!$L$620+'[79]관급자재(토목,기계)_전체분'!$L$542+'[79]관급자재(토목,기계)_전체분'!$L$543 -> 197966660 | Q85: ='[79]관급자재(토목,기계)_전체분'!$L$605+'[79]관급자재(토목,기계)_전체분'!$L$606 -> 1715200
A86: 출입문 | B86: W=1.0, H1.5 | C86: 개소 | E86: 328000 | F86: =TRUNC(E86*D86,0) -> 0 | H86: 1 | K86: =SUM(H86:J86) -> 1 | N86: =SUM(H86:J86) -> 1 | O86: =K86-N86 -> 0 | P86: =TRUNC(P85*0.54%) -> 1069019 | Q86: =TRUNC(Q85*0.54%) -> 9262
A87: 조달수수료 | B87: 자재비의 | C87: % | D87: 0.54 | F87: =TRUNC(SUM(F85:F86)*D87%) -> 0 | K87: 0.54 | L87: =TRUNC(SUM(F85:F86)*K87%,-1) -> 0 | N87: =SUM(H87:J87) -> 0 | O87: =K87-N87 -> 0.54
N88: =SUM(H88:J88) -> 0 | O88: =K88-N88 -> 0
A89: 11) 와이어메쉬 | F89: =SUM(F90:F91) -> 2091000 | G89: 25년2월9일 | N89: =SUM(H89:J89) -> 0 | O89: =K89-N89 -> 0
A90: 와이어메쉬 | B90: #8×150×150 | C90: ㎡ | D90: 515 | E90: 4040 | F90: =TRUNC(E90*D90,0) -> 2080600 | H90: 155 | J90: 360 | K90: =SUM(H90:J90) -> 515 | N90: =SUM(H90:J90) -> 515 | O90: =K90-N90 -> 0
A91: 조달수수료 | B91: 자재비의 | C91: % | D91: 0.54 | F91: =TRUNC(SUM(F90)*D91%)-835 -> 10400 | K91: 0.54 | L91: =TRUNC(SUM(F90:F90)*K91%,-1) -> 11230 | N91: =SUM(H91:J91) -> 0 | O91: =K91-N91 -> 0.54
N92: =SUM(H92:J92) -> 0 | O92: =K92-N92 -> 0
C93: 0
E94: 순환골재 | F94: =2600+400 -> 3000
E95: 이중보온관
E97: 합계 | F97: =SUM(F94:F96) -> 3000
F99: =F5+F97 -> 57906000

Sheet 관급자재(기계공사)
A1: 관급자재 구입 내역서
A2: ▣ 공사명: 여만처리분구 외 6개소 하수관로 정비사업(토목+기계) | G2: (단위 : 원)
A3: 품 명 | B3: 규 격 | C3: 단위 | D3: 수량 | E3: 단 가 | F3: 금 액 | G3: 비고 (납품기한) | H3: 수 량
H4: 오수 관로 | I4: 맨홀 펌프장 | J4: 배수 설비 | K4: 합 계
A5: ◈ 도급자 관급자재대 | F5: =F6 -> 0
A6: □. 기계공사 | F6: =SUM(F7:F32) -> 0 | P6: =725829964-F6-#REF!-#REF!-#REF!-#REF! -> #REF!
A7: M-SL-001 맨홀펌프 상리1(자동탈착식 포함) | B7: 수중 스프르트펌프, 0.2㎥/min x 8mH x 0.75kW | C7: 대 | E7: =3630000*1.1 -> 3993000 | F7: =TRUNC(E7*D7,0) -> 0 | K7: =SUM(H7:J7) -> 0 | N7: =SUM(H7:J7) -> 0 | O7: =K7-N7 -> 0
A8: M-SL-002 맨홀펌프 상리2(자동탈착식 포함) | B8: 수중 스프르트펌프, 0.2㎥/min x 8mH x 0.75kW | C8: 대 | E8: =3630000*1.1 -> 3993000 | F8: =TRUNC(E8*D8,0) -> 0 | K8: =SUM(H8:J8) -> 0 | N8: =SUM(H8:J8) -> 0 | O8: =K8-N8 -> 0 | P8: ='[79]관급자재(토목,기계)_전체분'!$L$619+'[79]관급자재(토목,기계)_전체분'!$L$620+'[79]관급자재(토목,기계)_전체분'!$L$542+'[79]관급자재(토목,기계)_전체분'!$L$543 -> 197966660 | Q8: ='[79]관급자재(토목,기계)_전체분'!$L$605+'[79]관급자재(토목,기계)_전체분'!$L$606 -> 1715200
A9: M-SL-003 맨홀펌프 상리3(자동탈착식 포함) | B9: 수중 스프르트펌프, 0.2㎥/min x 11mH x 1.5kW | C9: 대 | E9: =3930000*1.1 -> 4323000 | F9: =TRUNC(E9*D9,0) -> 0 | K9: =SUM(H9:J9) -> 0 | N9: =SUM(H9:J9) -> 0 | O9: =K9-N9 -> 0 | P9: =TRUNC(P8*0.54%) -> 1069019 | Q9: =TRUNC(Q8*0.54%) -> 9262
A10: M-SL-004 맨홀펌프 상리4(자동탈착식 포함) | B10: 수중 스프르트펌프, 0.2㎥/min x 10mH x 1.5kW | C10: 대 | E10: =3930000*1.1 -> 4323000 | F10: =TRUNC(E10*D10,0) -> 0 | K10: =SUM(H10:J10) -> 0 | L10: =TRUNC(SUM(F8:F9)*K10%,-1) -> 0 | N10: =SUM(H10:J10) -> 0 | O10: =K10-N10 -> 0
A11: M-YM-001 맨홀펌프 여만1(자동탈착식 포함) | B11: 수중 스프르트펌프, 0.2㎥/min x 12mH x 2.2kW | C11: 대 | E11: =4450000*1.1 -> 4895000 | F11: =TRUNC(E11*D11,0) -> 0 | K11: =SUM(H11:J11) -> 0
A12: M-YM-002 맨홀펌프 여만2(자동탈착식 포함) | B12: 수중 스프르트펌프, 0.2㎥/min x 13mH x 2.2kW | C12: 대 | E12: =4450000*1.1 -> 4895000 | F12: =TRUNC(E12*D12,0) -> 0 | K12: =SUM(H12:J12) -> 0 | N12: =SUM(H12:J12) -> 0 | O12: =K12-N12 -> 0
A13: M-YM-003 맨홀펌프 여만3(자동탈착식 포함) | B13: 수중 스프르트펌프, 0.2㎥/min x 10mH x 1.5kW | C13: 대 | E13: =3930000*1.1 -> 4323000 | F13: =TRUNC(E13*D13,0) -> 0 | K13: =SUM(H13:J13) -> 0 | N13: =SUM(H13:J13) -> 0 | O13: =K13-N13 -> 0 | P13: ='[79]관급자재(토목,기계)_전체분'!$L$619+'[79]관급자재(토목,기계)_전체분'!$L$620+'[79]관급자재(토목,기계)_전체분'!$L$542+'[79]관급자재(토목,기계)_전체분'!$L$543 -> 197966660 | Q13: ='[79]관급자재(토목,기계)_전체분'!$L$605+'[79]관급자재(토목,기계)_전체분'!$L$606 -> 1715200
A14: M-HP-001 맨홀펌프 후평1(자동탈착식 포함) | B14: 수중 스프르트펌프, 0.3㎥/min x 11mH x 2.2kW | C14: 대 | E14: =4450000*1.1 -> 4895000 | F14: =TRUNC(E14*D14,0) -> 0 | K14: =SUM(H14:J14) -> 0 | N14: =SUM(H14:J14) -> 0 | O14: =K14-N14 -> 0 | P14: =TRUNC(P13*0.54%) -> 1069019 | Q14: =TRUNC(Q13*0.54%) -> 9262
A15: M-HP-002 맨홀펌프 후평2(자동탈착식 포함) | B15: 수중 스프르트펌프, 0.3㎥/min x 9mH x 1.5kW | C15: 대 | E15: =4050000*1.1 -> 4455000 | F15: =TRUNC(E15*D15,0) -> 0 | K15: =SUM(H15:J15) -> 0 | N15: =SUM(H15:J15) -> 0 | O15: =K15-N15 -> 0 | P15: ='[79]관급자재(토목,기계)_전체분'!$L$619+'[79]관급자재(토목,기계)_전체분'!$L$620+'[79]관급자재(토목,기계)_전체분'!$L$542+'[79]관급자재(토목,기계)_전체분'!$L$543 -> 197966660 | Q15: ='[79]관급자재(토목,기계)_전체분'!$L$605+'[79]관급자재(토목,기계)_전체분'!$L$606 -> 1715200
A16: M-HP1-001 맨홀펌프 후평11(자동탈착식 포함) | B16: 수중 스프르트펌프, 0.5㎥/min x 14mH x 3.7kW | C16: 대 | E16: =4920000*1.1 -> 5412000 | F16: =TRUNC(E16*D16,0) -> 0 | K16: =SUM(H16:J16) -> 0 | N16: =SUM(H16:J16) -> 0 | O16: =K16-N16 -> 0 | P16: =TRUNC(P15*0.54%) -> 1069019 | Q16: =TRUNC(Q15*0.54%) -> 9262
A17: M-HD2-001 맨홀펌프 향동2(자동탈착식 포함) | B17: 수중 스프르트펌프, 0.5㎥/min x 8mH x 2.2kW | C17: 대 | E17: =4450000*1.1 -> 4895000 | F17: =TRUNC(E17*D17,0) -> 0 | K17: =SUM(H17:J17) -> 0 | L17: =TRUNC(SUM(F15:F16)*K17%,-1) -> 0 | N17: =SUM(H17:J17) -> 0 | O17: =K17-N17 -> 0
A18: M-HD3-001 맨홀펌프 향동3(자동탈착식 포함) | B18: 수중 스프르트펌프, 0.6㎥/min x 9mH x 3.7kW | C18: 대 | E18: =4800000*1.1 -> 5280000 | F18: =TRUNC(E18*D18,0) -> 0 | K18: =SUM(H18:J18) -> 0
A19: M-YH-001 맨홀펌프 용항1(자동탈착식 포함) | B19: 수중 스프르트펌프, 0.2㎥/min x 10mH x 1.5kW | C19: 대 | E19: =3930000*1.1 -> 4323000 | F19: =TRUNC(E19*D19,0) -> 0 | K19: =SUM(H19:J19) -> 0 | N19: =SUM(H19:J19) -> 0 | O19: =K19-N19 -> 0
A20: M-YH-002 맨홀펌프 용항2(자동탈착식 포함) | B20: 수중 스프르트펌프, 0.2㎥/min x 14mH x 3.7kW | C20: 대 | E20: =4800000*1.1 -> 5280000 | F20: =TRUNC(E20*D20,0) -> 0 | K20: =SUM(H20:J20) -> 0 | N20: =SUM(H20:J20) -> 0 | O20: =K20-N20 -> 0
A21: M-YH-003 맨홀펌프 용항3(자동탈착식 포함) | B21: 수중 스프르트펌프, 0.2㎥/min x 12mH x 2.2kW | C21: 대 | E21: =4450000*1.1 -> 4895000 | F21: =TRUNC(E21*D21,0) -> 0 | K21: =SUM(H21:J21) -> 0 | N21: =SUM(H21:J21) -> 0 | O21: =K21-N21 -> 0
A22: M-EJJ-001 맨홀펌프 주진개량(자동탈착식 포함) | B22: 수중 스프르트펌프, 0.25㎥/min x 9mH x 1.5kW | C22: 대 | E22: =4050000*1.1 -> 4455000 | F22: =TRUNC(E22*D22,0) -> 0 | K22: =SUM(H22:J22) -> 0 | N22: =SUM(H22:J22) -> 0 | O22: =K22-N22 -> 0
A23: M-IH-001 맨홀펌프 임하1(자동탈착식 포함) | B23: 수중 스프르트펌프, 0.2㎥/min x 10mH x 1.5kW | C23: 대 | E23: =3930000*1.1 -> 4323000 | F23: =TRUNC(E23*D23,0) -> 0 | K23: =SUM(H23:J23) -> 0 | L23: =TRUNC(SUM(F20:F22)*K23%,-1) -> 0 | N23: =SUM(H23:J23) -> 0 | O23: =K23-N23 -> 0
A24: M-IH-002 맨홀펌프 임하2(자동탈착식 포함) | B24: 수중 스프르트펌프, 0.2㎥/min x 12mH x 2.2kW | C24: 대 | E24: =4450000*1.1 -> 4895000 | F24: =TRUNC(E24*D24,0) -> 0 | K24: =SUM(H24:J24) -> 0 | N24: =SUM(H24:J24) -> 0 | O24: =K24-N24 -> 0
A25: M-IH-003 맨홀펌프 임하3(자동탈착식 포함) | B25: 수중 스프르트펌프, 0.2㎥/min x 9mH x 1.5kW | C25: 대 | E25: =3930000*1.1 -> 4323000 | F25: =TRUNC(E25*D25,0) -> 0 | K25: =SUM(H25:J25) -> 0 | N25: =SUM(H25:J25) -> 0 | O25: =K25-N25 -> 0
A26: M-IH-004 맨홀펌프 임하4(자동탈착식 포함) | B26: 수중 스프르트펌프, 0.2㎥/min x 53mH x 15kW | C26: 대 | E26: =6670000*1.1 -> 7337000 | F26: =TRUNC(E26*D26,0) -> 0 | K26: =SUM(H26:J26) -> 0 | N26: =SUM(H26:J26) -> 0 | O26: =K26-N26 -> 0
A27: M-IH-005 맨홀펌프 임하5(자동탈착식 포함) | B27: 수중 스프르트펌프, 0.2㎥/min x 7mH x 0.75kW | C27: 대 | E27: =3630000*1.1 -> 3993000 | F27: =TRUNC(E27*D27,0) -> 0 | K27: =SUM(H27:J27) -> 0 | N27: =SUM(H27:J27) -> 0 | O27: =K27-N27 -> 0
A28: M-EHI-001 맨홀펌프 하일개량(자동탈착식 포함) | B28: 수중 스프르트펌프, 0.2㎥/min x 8mH x 0.75kW | C28: 대 | E28: =3630000*1.1 -> 3993000 | F28: =TRUNC(E28*D28,0) -> 0 | K28: =SUM(H28:J28) -> 0 | N28: =SUM(H28:J28) -> 0 | O28: =K28-N28 -> 0
A29: M-HI-001 맨홀펌프 하일1(자동탈착식 포함) | B29: 수중 스프르트펌프, 0.2㎥/min x 10mH x 1.5kW | C29: 대 | E29: =3930000*1.1 -> 4323000 | F29: =TRUNC(E29*D29,0) -> 0 | K29: =SUM(H29:J29) -> 0 | N29: =SUM(H29:J29) -> 0 | O29: =K29-N29 -> 0
A30: M-JB-001 맨홀펌프 종부1(자동탈착식 포함) | B30: 수중 스프르트펌프, 0.2㎥/min x 9mH x 1.5kW | C30: 대 | E30: =3930000*1.1 -> 4323000 | F30: =TRUNC(E30*D30,0) -> 0 | K30: =SUM(H30:J30) -> 0 | N30: =SUM(H30:J30) -> 0 | O30: =K30-N30 -> 0
A31: M-PC-001 맨홀펌프 평창1(자동탈착식 포함) | B31: 수중 스프르트펌프, 2.3㎥/min x 20mH x 22kW | C31: 대 | D31: 0 | E31: =12540000*1.1 -> 13794000 | F31: =TRUNC(E31*D31,0) -> 0 | K31: =SUM(H31:J31) -> 0 | N31: =SUM(H31:J31) -> 0 | O31: =K31-N31 -> 0
A32: 조달수수료 | B32: 자재비의 | C32: % | D32: 0.54 | F32: =TRUNC(SUM(F7:F31)*D32%) -> 0 | K32: 0.54 | L32: =TRUNC(SUM(F30:F31)*K32%,-1) -> 0 | N32: =SUM(H32:J32) -> 0 | O32: =K32-N32 -> 0.54
N33: =SUM(H33:J33) -> 0 | O33: =K33-N33 -> 0
C34: 0
E35: 펌프 | F35: 1360000
E38: 합계 | F38: =SUM(F35:F37) -> 1360000
F40: =F5-F38 -> -1360000
F42: =SUM(F7:F31)+F32 -> 0

Sheet 여만단가 (전체)
A2: 1. 레미콘
A23: 2. 아스콘
A60: 3. 기층재
A176: 4. 순환골재
A235: 5. 관자재
A313: 6. PE수도관
A351: 7. GRP맨홀
A410: 8. 맨홀류
A431: 9. 맨홀뚜껑
A468: 10 와이어메쉬
