Workbook

Sheet 공사원가계산서
A1: 공 사 원 가 계 산 서 | G1: STmate | H1: STmate
A2: 공사명 : 2025년 하반기 하수도 구조물 정비공사 | G2: =MID(CELL("filename",$A$1),FIND("]",CELL("filename",$A$1))+1,LEN(CELL("filename",$A$1))) -> 공사원가계산서
A3: 구 분 | D3: 금 액 | E3: 구 성 비 | F3: 비 고
A4: 비 목 | H4: =HYPERLINK("#'〓 목 차 〓'!B2","목차 →") -> 목차 →
A5: 순 공 사 원 가 | B5: 재 료 비 | C5: 직 접 재 료 비 | D5: =총괄내역서!D5-D6+D7 -> 0 | E5: =D5/D29*100 -> #DIV/0! | H5: =HYPERLINK("#"&총괄내역서!H2&"!D"&ROW(총괄내역서!D5),"총괄표 →") -> 총괄표 →
C6: 간 접 재 료 비 | D6: 0 | E6: =D6/D29*100 -> #DIV/0!
C7: 작업설,부산물등(△) | D7: 0 | E7: =D7/D29*100 -> #DIV/0!
C8: 소 계 | D8: =+D5+D6-D7 -> 0 | E8: =D8/D29*100 -> #DIV/0!
B9: 노 무 비 | C9: 직 접 노 무 비 | D9: =총괄내역서!E5 -> 0 | E9: =D9/D29*100 -> #DIV/0! | H9: =HYPERLINK("#"&총괄내역서!H2&"!E"&ROW(총괄내역서!E5),"총괄표 →") -> 총괄표 →
C10: 간 접 노 무 비 | D10: =총괄내역서!G6 -> 0 | E10: =D10/D29*100 -> #DIV/0! | F10: ="직접노무비 x "&ROUND(총괄내역서!M6,3)&"%" -> 직접노무비 x 19.1% | H10: =HYPERLINK("#"&총괄내역서!H2&"!G"&ROW(총괄내역서!G6),"총괄표 →") -> 총괄표 →
C11: 소 계 | D11: =+D9+D10 -> 0 | E11: =D11/D29*100 -> #DIV/0!
B12: 경 비 | C12: 산 출 경 비 | D12: =총괄내역서!F5 -> 0 | E12: =D12/D29*100 -> #DIV/0! | H12: =HYPERLINK("#"&총괄내역서!H2&"!F"&ROW(총괄내역서!F5),"총괄표 →") -> 총괄표 →
C13: 산 재 보 험 료 | D13: =총괄내역서!G7 -> 0 | E13: =D13/D29*100 -> #DIV/0! | F13: ="노 무 비 x "&ROUND(총괄내역서!M7,3)&"%" -> 노 무 비 x 3.56% | H13: =HYPERLINK("#"&총괄내역서!H2&"!G"&ROW(총괄내역서!G7),"총괄표 →") -> 총괄표 →
C14: 고 용 보 험 료 | D14: =총괄내역서!G8 -> 0 | E14: =D14/D29*100 -> #DIV/0! | F14: ="노 무 비 x "&ROUND(총괄내역서!M8,3)&"%" -> 노 무 비 x 1.01% | H14: =HYPERLINK("#"&총괄내역서!H2&"!G"&ROW(총괄내역서!G8),"총괄표 →") -> 총괄표 →
C15: 건 강 보 험 료 | D15: =총괄내역서!G9 -> 0 | E15: =D15/D29*100 -> #DIV/0! | F15: ="직접노무비 x "&ROUND(총괄내역서!M9,3)&"%" -> 직접노무비 x 3.595% | H15: =HYPERLINK("#"&총괄내역서!H2&"!G"&ROW(총괄내역서!G9),"총괄표 →") -> 총괄표 →
C16: 연 금 보 험 료 | D16: =총괄내역서!G10 -> 0 | E16: =D16/D29*100 -> #DIV/0! | F16: ="직접노무비 x "&ROUND(총괄내역서!M10,3)&"%" -> 직접노무비 x 4.75% | H16: =HYPERLINK("#"&총괄내역서!H2&"!G"&ROW(총괄내역서!G10),"총괄표 →") -> 총괄표 →
C17: 노인장기요양보험료 | D17: =총괄내역서!G11 -> 0 | E17: =D17/D29*100 -> #DIV/0! | F17: ="건강보험료 x "&ROUND(총괄내역서!M11,3)&"%" -> 건강보험료 x 13.14% | H17: =HYPERLINK("#"&총괄내역서!H2&"!G"&ROW(총괄내역서!G11),"총괄표 →") -> 총괄표 →
C18: 산업안전보건관리비 | D18: =총괄내역서!G12 -> 0 | E18: =D18/D29*100 -> #DIV/0! | F18: ="(직노+직재+간재) x "&ROUND(총괄내역서!M12,3)&"% = 2,637,206" -> (직노+직재+간재) x 3.15% = 2,637,206 | H18: =HYPERLINK("#"&총괄내역서!H2&"!G"&ROW(총괄내역서!G12),"총괄표 →") -> 총괄표 →
C19: 기 타 경 비 | D19: =총괄내역서!G13 -> 0 | E19: =D19/D29*100 -> #DIV/0! | F19: ="(재료비+노무비) x "&ROUND(총괄내역서!M13,3)&"%" -> (재료비+노무비) x 5.5% | H19: =HYPERLINK("#"&총괄내역서!H2&"!G"&ROW(총괄내역서!G13),"총괄표 →") -> 총괄표 →
C20: 환 경 보 전 비 | D20: =총괄내역서!G14 -> 0 | E20: =D20/D29*100 -> #DIV/0! | F20: ="(재료비+직노+산출경비) x "&ROUND(총괄내역서!M14,3)&"%" -> (재료비+직노+산출경비) x 0.5% | H20: =HYPERLINK("#"&총괄내역서!H2&"!G"&ROW(총괄내역서!G14),"총괄표 →") -> 총괄표 →
C21: 건설기계대여금지급보증 금액 | D21: =총괄내역서!G15 -> 0 | E21: =D21/D29*100 -> #DIV/0! | F21: ="(재료비+직노+산출경비) x "&ROUND(총괄내역서!M15,3)&"%" -> (재료비+직노+산출경비) x 0.51% | H21: =HYPERLINK("#"&총괄내역서!H2&"!G"&ROW(총괄내역서!G15),"총괄표 →") -> 총괄표 →
C22: 퇴 직 공 제 부 금 비 | D22: =D9*0.023 -> 0 | E22: =D22/D29*100 -> #DIV/0! | F22: 직접노무비 x 2.3%
C23: 소 계 | D23: =+D12+D13+D14+D15+D16+D17+D18+D19+D20+D21+D22 -> 0 | E23: =D23/D29*100 -> #DIV/0!
A24: 일 반 관 리 비 | D24: =총괄내역서!G20 -> 0 | E24: =D24/D29*100 -> #DIV/0! | F24: ="순공사원가 x "&ROUND(총괄내역서!M20,3)&"%" -> 순공사원가 x 8% | H24: =HYPERLINK("#"&총괄내역서!H2&"!G"&ROW(총괄내역서!G20),"총괄표 →") -> 총괄표 →
A25: 이 윤 | D25: =총괄내역서!G22 -> 0 | E25: =D25/D29*100 -> #DIV/0! | F25: ="(노무비+경비+일반관리비) x "&ROUND(총괄내역서!M22,3)&"%" -> (노무비+경비+일반관리비) x 15% | H25: =HYPERLINK("#"&총괄내역서!H2&"!G"&ROW(총괄내역서!G22),"총괄표 →") -> 총괄표 →
A26: 총 원 가 | D26: =총괄내역서!G24 -> 0 | E26: =D26/D29*100 -> #DIV/0! | H26: =HYPERLINK("#"&총괄내역서!H2&"!G"&ROW(총괄내역서!G24),"총괄표 →") -> 총괄표 →
A27: 부 가 가 치 세 | D27: =총괄내역서!G25 -> 0 | E27: =D27/D29*100 -> #DIV/0! | F27: ="총 원 가 x "&ROUND(총괄내역서!M26,3)&"%" -> 총 원 가 x 10% | H27: =HYPERLINK("#"&총괄내역서!H2&"!G"&ROW(총괄내역서!G25),"총괄표 →") -> 총괄표 →
A28: 도 급 공 사 비 | D28: =총괄내역서!G26 -> 0 | E28: =D28/D29*100 -> #DIV/0! | H28: =HYPERLINK("#"&총괄내역서!H2&"!G"&ROW(총괄내역서!G26),"총괄표 →") -> 총괄표 →
A29: 총 공 사 비 | D29: =D28 -> 0 | E29: 100

Sheet 총괄내역서
A1: 총 괄 내 역 서 | H1: STmate | Q1: STmate
A2: 공사명: 2026년 계양구 관내 민원처리 빗물받이 정비공사 | H2: =MID(CELL("filename",$A$1),FIND("]",CELL("filename",$A$1))+1,LEN(CELL("filename",$A$1))) -> 총괄내역서
A3: 공 종 | B3: 명 칭 | C3: 규 격 | D3: 재 료 비 | E3: 노 무 비 | F3: 경 비 | G3: 합 계 | H3: _x0007_`JTYP|0_x0005_`ACTL|F_x0005_` | Q3: =HYPERLINK("#'〓 목 차 〓'!B2","목차 →") -> 목차 →
A4: □ | B4: 순공사비 | D4: =설계내역서!G5 -> 0 | E4: =설계내역서!I5 -> 0 | F4: =설계내역서!K5 -> 0 | G4: =설계내역서!M5 -> 0 | Q4: =HYPERLINK("#"&설계내역서!O2&"!A"&ROW(설계내역서!A5),"내역 →") -> 내역 →
A5: 가. | B5: 순공사비계 | D5: =D4 -> 0 | E5: =E4 -> 0 | F5: =F4 -> 0 | G5: =G4 -> 0 | Q5: =HYPERLINK("#"&설계내역서!O2&"!A"&ROW(설계내역서!#REF!),"내역 →") -> #REF!
B6: 1. 간접노무비 | D6: ="직접노무비 x "&ROUND(M6,3)&"%" -> 직접노무비 x 19.1% | G6: =ROUNDDOWN(E5*M6/100,0)-K6 -> 0 | H6: _x0007_`DTP|201_x0005_`QTY1|1_x0005_`BDC|_x0005_`SRE|LA_x0005_` | I6: 0 | M6: 19.1 | N6: 0 | O6: 0 | P6: 0
B7: 2. 산재보험료 | D7: ="(직접노무비+간접노무비) x "&ROUND(M7,3)&"%" -> (직접노무비+간접노무비) x 3.56% | G7: =ROUNDDOWN((E5+G6)*M7/100,0)-K7 -> 0 | H7: _x0007_`DTP|301_x0005_`QTY1|1_x0005_`BDC|_x0005_`SRE|SA_x0005_` | I7: 0 | M7: 3.56 | N7: 0 | O7: 0 | P7: 0
B8: 3. 고용보험료 | D8: ="(직접노무비+간접노무비) x "&ROUND(M8,3)&"%" -> (직접노무비+간접노무비) x 1.01% | G8: =ROUNDDOWN((E5+G6)*M8/100,0)-K8 -> 0 | H8: _x0007_`DTP|302_x0005_`QTY1|1_x0005_`BDC|_x0005_`SRE|SA_x0005_` | I8: 0 | M8: 1.01 | N8: 0 | O8: 0 | P8: 0
B9: 4. 건강보험료 | D9: ="직접노무비 x "&ROUND(M9,3)&"%" -> 직접노무비 x 3.595% | G9: =ROUNDDOWN(E5*M9/100,0)-K9 -> 0 | H9: _x0007_`DTP|303_x0005_`QTY1|1_x0005_`BDC|_x0005_`SRE|SA_x0005_` | I9: 0 | J9: =E5 -> 0 | M9: 3.595 | N9: 0 | O9: 0 | P9: 0
B10: 5. 연금보험료 | D10: ="직접노무비 x "&ROUND(M10,3)&"%" -> 직접노무비 x 4.75% | G10: =ROUNDDOWN(E5*M10/100,0)-K10 -> 0 | H10: _x0007_`DTP|304_x0005_`QTY1|1_x0005_`BDC|_x0005_`SRE|SA_x0005_` | I10: 0 | J10: =E5 -> 0 | M10: 4.75 | N10: 0 | O10: 0 | P10: 0
B11: 6. 노인장기요양보험료 | D11: ="건강보험료 x "&ROUND(M11,3)&"%" -> 건강보험료 x 13.14% | G11: =ROUNDDOWN(G9*M11/100,0)-K11 -> 0 | H11: _x0007_`DTP|310_x0005_`QTY1|1_x0005_`BDC|_x0005_`SRE|SA_x0005_` | I11: 0 | J11: =G9 -> 0 | M11: 13.14 | N11: 0 | O11: 0 | P11: 0
B12: 4. 산업안전보건관리비 | D12: ="(직노+직재+간재) x "&ROUND(M12,3)&"% " -> (직노+직재+간재) x 3.15% | G12: =ROUNDDOWN(((E5+(D5)))*M12/100,0)-K12 -> 0 | H12: _x0007_`DTP|306_x0005_`QTY1|1_x0005_`BDC|_x0005_`SRE|SA_x0005_`ANK|1_x0005_` | I12: 0 | J12: =((E5+(D5))) -> 0 | M12: 3.15 | N12: 0 | O12: 0 | P12: 0
B13: 5. 기타경비 | D13: ="(직접노무비+간접노무비+재료비) x "&ROUND(M13,3)&"%" -> (직접노무비+간접노무비+재료비) x 5.5% | G13: =ROUNDDOWN((((E5+G6)+(D5)))*M13/100,0)-K13 -> 0 | H13: _x0007_`DTP|321_x0005_`QTY1|1_x0005_`BDC|_x0005_`SRE|SA_x0005_` | I13: 0 | M13: 5.5 | N13: 0 | O13: 0 | P13: 0
B14: 6. 환경보전비 | D14: ="(재료비 + 직접노무비 + 산출경비) x "&ROUND(M14,3)&"%" -> (재료비 + 직접노무비 + 산출경비) x 0.5% | G14: =ROUNDDOWN((G5)*M14/100,0)-K14 -> 0 | H14: _x0007_`DTP|309_x0005_`QTY1|1_x0005_`BDC|_x0005_`SRE|SA_x0005_` | I14: 0 | M14: 0.5 | N14: 0 | O14: 0
B15: 7. 건설기계대여금지급보증 금액 | D15: ="(재료비 + 직접노무비 + 산출경비) x "&ROUND(M15,3)&"%" -> (재료비 + 직접노무비 + 산출경비) x 0.51% | G15: =ROUNDDOWN((G5)*M15/100,0)-K15 -> 0 | H15: _x0007_`DTP|311_x0005_`QTY1|1_x0005_`BDC|_x0005_`SRE|SA_x0005_` | I15: 0 | M15: 0.51 | N15: 0 | O15: 0 | P15: 0
B16: 8. 퇴직공제부금비 | D16: ="(직접노무비) x "&ROUND(M16,3)&"%" -> (직접노무비) x 2.3% | G16: =ROUNDDOWN((E4)*M16/100,0)-K16 -> 0 | M16: 2.3
B17: 9. 석면분담금 | D17: ="(노무비) x "&ROUND(M17,3)&"%" -> (노무비) x 0.006% | G17: =ROUNDDOWN((E5+G6)*M17/100,0)-K17 -> 0 | M17: 0.006
B18: 10. 임금채권부담금 | D18: ="(노무비) x "&ROUND(M18,3)&"%" -> (노무비) x 0.09% | G18: =ROUNDDOWN((E5+G6)*M18/100,0)-K18 -> 0 | M18: 0.09
A19: 나. | B19: 소 계 | G19: =(G5+G6+G7+G8+G9+G10+G11+G12+G13+G14+G15+G16+G17+G18)-K19 -> 0 | H19: _x0007_`DTP|400_x0005_`QTY1|1_x0005_`BDC|_x0005_`SRE|TA-F_x0005_` | I19: 0 | M19: 0 | N19: 0 | O19: 0 | P19: 0
B20: 11. 일반관리비 | D20: ="(나.소 계) x "&ROUND(M20,3)&"%" -> (나.소 계) x 8% | G20: =ROUNDDOWN(((G19)+0)*M20/100,0) -> 0 | H20: _x0007_`DTP|401_x0005_`QTY1|1_x0005_`BDC|_x0005_`SRE|TA_x0005_` | I20: 0 | M20: 8 | N20: 0 | O20: 0 | P20: 0
A21: 다. | B21: 소 계 | G21: =(G19+G20)-K21 -> 0 | H21: _x0007_`DTP|410_x0005_`QTY1|1_x0005_`BDC|_x0005_`SRE|TA-F_x0005_` | I21: 4 | J21: =G21 -> 0 | L21: =G21 -> 0 | M21: 0 | N21: 0 | O21: 0 | P21: 0
B22: 12. 이 윤 | D22: ="(다.소계 - 재료비) x "&ROUND(M22,3)&"% = "&TEXT(J22,"#,##0") -> (다.소계 - 재료비) x 15% = 0 | G22: =ROUNDDOWN(((G21)-(D5))*M22/100,0) -> 0 | H22: _x0007_`DTP|402_x0005_`QTY1|1_x0005_`BDC|_x0005_`SRE|TA_x0005_` | I22: =J25-ROUNDDOWN(J25,-I21) -> 0 | J22: =ROUNDDOWN(((J21)-(D5))*M22/100,0) -> 0 | L22: =ROUNDDOWN(((L21)-(D5))*M22/100,0)-I22 -> 0 | M22: 15 | N22: 0 | O22: 0 | P22: 0
B23: 13. 고재처리비 | G23: =설계내역서!M28 -> 0
A24: 라. | B24: 공급가액 | G24: =ROUNDDOWN((G21+G22+G23),-3) -> 0
B25: 14. 부가가치세 | D25: ="공급가액 x "&ROUND(M26,3)&"%" -> 공급가액 x 10% | G25: =ROUNDDOWN((G24)*M26/100,0)+I26-K26 -> 0 | H25: _x0007_`DTP|500_x0005_`QTY1|1_x0005_`BDC|_x0005_`SRE|TA-F_x0005_` | I25: 0 | J25: =(J21+J22) -> 0 | L25: =(L21+L22) -> 0 | M25: 0 | N25: 0 | O25: 4 | P25: =G24 -> 0
A26: 마. | B26: 15. 도급공사비 | G26: =ROUNDDOWN((G24+G25)-K27,-2) -> 0 | H26: _x0007_`DTP|502_x0005_`QTY1|1_x0005_`BDC|_x0005_`SRE|TA_x0005_` | I26: 0 | M26: 10 | N26: 0 | O26: 0 | P26: =G25 -> 0
H27: _x0007_`DTP|600_x0005_`QTY1|1_x0005_`BDC|_x0005_`SRE|TA-F_x0005_` | I27: 0 | M27: 0 | N27: 0 | O27: 0 | P27: =G26 -> 0

Sheet 설계내역서
A1: 설 계 내 역 서 | O1: STmate | AC1: STmate
O2: =MID(CELL("filename",$A$1),FIND("]",CELL("filename",$A$1))+1,LEN(CELL("filename",$A$1))) -> 설계내역서
A3: 공 종 | B3: 명 칭 | C3: 규 격 | D3: 수 량 | E3: 단위 | F3: 재 료 비 | H3: 노 무 비 | J3: 경 비 | L3: 합 계 | N3: 비 고
F4: 단 가 | G4: 금 액 | H4: 단 가 | I4: 금 액 | J4: 단 가 | K4: 금 액 | L4: 단 가 | M4: 금 액 | AC4: =HYPERLINK("#'〓 목 차 〓'!B2","목차 →") -> 목차 →
A5: □ | B5: 순공사비 | F5: 0 | G5: =SUMIF(Q6:Q20,SUBSTITUTE(P5,":C",""),G6:G20) -> 0 | H5: 0 | I5: =SUMIF(Q6:Q20,SUBSTITUTE(P5,":C",""),I6:I20) -> 0 | J5: 0 | K5: =SUMIF(Q6:Q20,SUBSTITUTE(P5,":C",""),K6:K20) -> 0 | L5: 0 | M5: =SUMIF(Q6:Q20,SUBSTITUTE(P5,":C",""),M6:M20) -> 0 | O5: ="_x0007_`COD|E2_x0005_`QTY1|1_x0005_`EXI|0_x0005_`END|"&ROW(#REF!)&"_x0005_`" -> #REF! | P5: E2_1 | Q5: E10_1
A6: 1. 빗물받이 재설치 | L6: 0 | O6: _x0007_`COD|_x0005_`QTY1|1_x0005_`EXI|1_x0005_` | P6: CMT_1 | Q6: E2_1
A7: 가. | B7: 빗물받이재설치 | C7: 500*500(콘크리트,주철) | D7: 30 | E7: EA | N7: B07033 | P7: B07033_1 | Q7: E2_1 | AC7: =HYPERLINK("#"&#REF!&"!A"&ROW(#REF!),"B07033 →") -> #REF!
B8: 빗물받이재설치 | C8: 400*500(콘크리트,뚜껑재활용) | D8: 20 | E8: EA | N8: B07040 | O8: _x0007_`COD|B07040_x0005_`QTY1|1_x0005_`EXI|0_x0005_`IPR|0_x0005_`BLA|F_x0005_` | P8: B07040_1 | Q8: E2_1 | AC8: =HYPERLINK("#"&#REF!&"!A"&ROW(#REF!),"B07040 →") -> #REF!
B9: 빗물받이재설치 | C9: 500*500(콘크리트,뚜껑재활용) | D9: 30 | E9: EA | N9: B07041 | AC9: =HYPERLINK("#"&#REF!&"!A"&ROW(#REF!),"B07041 →") -> #REF!
B10: 빗물받이재설치 | C10: 500*1000(콘크리트,뚜껑재활용) | D10: 30 | E10: EA | N10: B07042 | O10: _x0007_`COD|B07042_x0005_`QTY1|1_x0005_`EXI|0_x0005_`IPR|0_x0005_`BLA|F_x0005_` | P10: B07042_1 | Q10: E2_1 | AC10: =HYPERLINK("#"&#REF!&"!A"&ROW(#REF!),"B07042 →") -> #REF!
O11: _x0007_`COD|_x0005_`QTY1|1_x0005_`EXI|1_x0005_` | P11: CMT_1 | Q11: E2_1
A12: 나. | B12: PE이중벽관교체 | C12: D250mm(보도블럭) | D12: 20 | E12: M | N12: B07083 | O12: _x0007_`COD|B07083_x0005_`QTY1|1_x0005_`EXI|0_x0005_`IPR|0_x0005_`BLA|F_x0005_` | P12: B07083_1 | Q12: E2_1 | AC12: =HYPERLINK("#"&#REF!&"!A"&ROW(#REF!),"B07083 →") -> #REF!
B13: PE이중벽관교체 | C13: D300mm(보도블럭) | D13: 20 | E13: M | N13: B07084 | O13: _x0007_`COD|B07084_x0005_`QTY1|1_x0005_`EXI|0_x0005_`IPR|0_x0005_`BLA|F_x0005_` | P13: B07084_1 | Q13: E2_1 | AC13: =HYPERLINK("#"&#REF!&"!A"&ROW(#REF!),"B07084 →") -> #REF!
B14: PE이중벽관교체 | C14: D250mm(콘크리트) | D14: 20 | E14: M | N14: B07085 | O14: _x0007_`COD|B07085_x0005_`QTY1|1_x0005_`EXI|0_x0005_`IPR|0_x0005_`BLA|F_x0005_` | P14: B07085_1 | Q14: E2_1 | AC14: =HYPERLINK("#"&#REF!&"!A"&ROW(#REF!),"B07085 →") -> #REF!
B15: PE이중벽관교체 | C15: D300mm(콘크리트) | D15: 20 | E15: M | N15: B07086 | O15: _x0007_`COD|B07086_x0005_`QTY1|1_x0005_`EXI|0_x0005_`IPR|0_x0005_`BLA|F_x0005_` | P15: B07086_1 | Q15: E2_1 | AC15: =HYPERLINK("#"&#REF!&"!A"&ROW(#REF!),"B07086 →") -> #REF!
B16: PE이중벽관교체 | C16: D250mm(아스콘) | D16: 20 | E16: M | N16: B07087 | O16: _x0007_`COD|B07087_x0005_`QTY1|1_x0005_`EXI|0_x0005_`IPR|0_x0005_`BLA|F_x0005_` | P16: B07087_1 | Q16: E2_1 | AC16: =HYPERLINK("#"&#REF!&"!A"&ROW(#REF!),"B07087 →") -> #REF!
B17: PE이중벽관교체 | C17: D300mm(아스콘) | D17: 20 | E17: M | N17: B07088 | O17: _x0007_`COD|B07088_x0005_`QTY1|1_x0005_`EXI|0_x0005_`IPR|0_x0005_`BLA|F_x0005_` | P17: B07088_1 | Q17: E2_1 | AC17: =HYPERLINK("#"&#REF!&"!A"&ROW(#REF!),"B07088 →") -> #REF!
O18: _x0007_`COD|_x0005_`QTY1|1_x0005_`EXI|1_x0005_` | P18: CMT_1 | Q18: E2_1
A19: 다. | B19: 교통신호수 배치 | C19: 보통인부 | D19: 10 | E19: 명 | N19: B07011 | O19: _x0007_`COD|B07011_x0005_`QTY1|1_x0005_`EXI|0_x0005_`IPR|0_x0005_`BLA|F_x0005_` | P19: B07011_1 | Q19: E2_1 | AC19: =HYPERLINK("#"&#REF!&"!A"&ROW(#REF!),"B07011 →") -> #REF!
L20: 0 | O20: _x0007_`COD|_x0005_`QTY1|1_x0005_`EXI|1_x0005_` | P20: CMT_1 | Q20: E2_1
A21: □ | B21: 폐기물처리비 | F21: 0 | G21: =SUMIF(Q22:Q53,SUBSTITUTE(P21,":C",""),G22:G53) -> #REF! | H21: 0 | I21: =SUMIF(Q22:Q53,SUBSTITUTE(P21,":C",""),I22:I53) -> #REF! | J21: 0 | L21: 0 | M21: =M23+M24+M25+M26 -> #REF!
A22: 1. 폐기물처리비 | L22: 0
A23: 가. | B23: 폐기물(재활용)처리비 | C23: 폐콘크리트 | D23: =TRUNC(#REF!,0) -> #REF! | E23: Ton | F23: =#REF! -> #REF! | G23: =ROUNDDOWN(F23*D23,0) -> #REF! | H23: =#REF! -> #REF! | I23: =ROUNDDOWN(H23*D23,0) -> #REF! | J23: =#REF! -> #REF! | K23: =ROUNDDOWN(J23*D23,0) -> #REF! | L23: =F23+H23+J23 -> #REF! | M23: =G23+I23+K23 -> #REF!
B24: 폐기물(재활용)처리비 | C24: 폐아스콘 | D24: =TRUNC(#REF!,0) -> #REF! | E24: Ton | F24: =#REF! -> #REF! | G24: =ROUNDDOWN(F24*D24,0) -> #REF! | H24: =#REF! -> #REF! | I24: =ROUNDDOWN(H24*D24,0) -> #REF! | J24: =#REF! -> #REF! | K24: =ROUNDDOWN(J24*D24,0) -> #REF! | L24: =F24+H24+J24 -> #REF! | M24: =G24+I24+K24 -> #REF!
B25: 폐기물(재활용)운반비 | C25: 폐콘크리트,폐아스콘 | D25: =D23+D24 -> #REF! | E25: Ton | F25: =#REF! -> #REF! | G25: =ROUNDDOWN(F25*D25,0) -> #REF! | H25: =#REF! -> #REF! | I25: =ROUNDDOWN(H25*D25,0) -> #REF! | J25: =#REF! -> #REF! | K25: =ROUNDDOWN(J25*D25,0) -> #REF! | L25: =F25+H25+J25 -> #REF! | M25: =G25+I25+K25 -> #REF!
B26: 단수정리 | D26: 1 | E26: 식 | J26: -699 | K26: =ROUNDDOWN(J26*D26,0) -> -699 | L26: =F26+H26+J26 -> -699 | M26: =G26+I26+K26 -> -699
A28: □ | B28: 고재처리
A29: 가. | B29: 고재처리 | D29: 233 | E29: kg
B30: 단수정리 | D30: 1 | E30: 식

Sheet 일위대가수량금액집계표
A1: 일위대가 수량,금액 집계표 | K1: STmate | L1: STmate
K2: =MID(CELL("filename",$A$1),FIND("]",CELL("filename",$A$1))+1,LEN(CELL("filename",$A$1))) -> 일위대가수량금액집계표
A3: 코드번호 | B3: 명 칭 | C3: 규 격 | D3: 수 량 | E3: 단위 | F3: 재 료 비 | G3: 노 무 비 | H3: 경 비 | I3: 합 계 | J3: 비 고 | L3: =HYPERLINK("#'〓 목 차 〓'!B2","목차 →") -> 목차 →
A4: B07007 | B4: 보도형블록포장 | C4: 소형고압블럭 | D4: 9.4 | E4: ㎡ | F4: =ROUND(D4*#REF!,0) -> #REF! | G4: =ROUND(D4*#REF!,0) -> #REF! | H4: =ROUND(D4*#REF!,0) -> #REF! | I4: =F4+G4+H4 -> #REF! | L4: =HYPERLINK("#"&#REF!&"!A"&ROW(#REF!),"B07007 →") -> #REF!
A5: B07008 | B5: 콘크리트타설(25B) | C5: 인력비빔타설(소형구조물) | D5: 57.94 | E5: ㎥ | F5: =ROUND(D5*#REF!,0) -> #REF! | G5: =ROUND(D5*#REF!,0) -> #REF! | H5: =ROUND(D5*#REF!,0) -> #REF! | I5: =F5+G5+H5 -> #REF! | L5: =HYPERLINK("#"&#REF!&"!A"&ROW(#REF!),"B07008 →") -> #REF!
A6: B07009 | B6: 터파기(인력) | C6: 0-1m | D6: 80.13 | E6: m3 | F6: =ROUND(D6*#REF!,0) -> #REF! | G6: =ROUND(D6*#REF!,0) -> #REF! | H6: =ROUND(D6*#REF!,0) -> #REF! | I6: =F6+G6+H6 -> #REF! | L6: =HYPERLINK("#"&#REF!&"!A"&ROW(#REF!),"B07009 →") -> #REF!
A7: B07010 | B7: 보조기층 운반 및 포설 | C7: 순환골재(40m/m) | D7: 10.16 | E7: M3 | F7: =ROUND(D7*#REF!,0) -> #REF! | G7: =ROUND(D7*#REF!,0) -> #REF! | H7: =ROUND(D7*#REF!,0) -> #REF! | I7: =F7+G7+H7 -> #REF! | L7: =HYPERLINK("#"&#REF!&"!A"&ROW(#REF!),"B07010 →") -> #REF!
A8: B07011 | B8: 교통신호수 배치 | C8: 보통인부 | D8: 5 | E8: 명 | F8: =ROUND(D8*#REF!,0) -> #REF! | G8: =ROUND(D8*#REF!,0) -> #REF! | H8: =ROUND(D8*#REF!,0) -> #REF! | I8: =F8+G8+H8 -> #REF! | L8: =HYPERLINK("#"&#REF!&"!A"&ROW(#REF!),"B07011 →") -> #REF!
A9: B07012 | B9: 되메우기(인력) | C9: 보통토사(0~1m) | D9: 28.11 | E9: M3 | F9: =ROUND(D9*#REF!,0) -> #REF! | G9: =ROUND(D9*#REF!,0) -> #REF! | H9: =ROUND(D9*#REF!,0) -> #REF! | I9: =F9+G9+H9 -> #REF! | L9: =HYPERLINK("#"&#REF!&"!A"&ROW(#REF!),"B07012 →") -> #REF!
A10: B07013 | B10: 합판거푸집 | C10: 1회(재료비) | D10: 160.4 | E10: M2 | F10: =ROUND(D10*#REF!,0) -> #REF! | G10: =ROUND(D10*#REF!,0) -> #REF! | H10: =ROUND(D10*#REF!,0) -> #REF! | I10: =F10+G10+H10 -> #REF! | L10: =HYPERLINK("#"&#REF!&"!A"&ROW(#REF!),"B07013 →") -> #REF!
A11: B07014 | B11: 합판거푸집 | C11: 1회(노무비) | D11: 422.1 | E11: M2 | F11: =ROUND(D11*#REF!,0) -> #REF! | G11: =ROUND(D11*#REF!,0) -> #REF! | H11: =ROUND(D11*#REF!,0) -> #REF! | I11: =F11+G11+H11 -> #REF! | L11: =HYPERLINK("#"&#REF!&"!A"&ROW(#REF!),"B07014 →") -> #REF!
A12: B07016 | B12: 합판거푸집 | C12: 4회 소형구조물 | D12: 422.1 | E12: M2 | F12: =ROUND(D12*#REF!,0) -> #REF! | G12: =ROUND(D12*#REF!,0) -> #REF! | H12: =ROUND(D12*#REF!,0) -> #REF! | I12: =F12+G12+H12 -> #REF! | L12: =HYPERLINK("#"&#REF!&"!A"&ROW(#REF!),"B07016 →") -> #REF!
A13: B07017 | B13: 프라이머 | D13: 1.56 | E13: m2 | F13: =ROUND(D13*#REF!,0) -> #REF! | G13: =ROUND(D13*#REF!,0) -> #REF! | H13: =ROUND(D13*#REF!,0) -> #REF! | I13: =F13+G13+H13 -> #REF! | L13: =HYPERLINK("#"&#REF!&"!A"&ROW(#REF!),"B07017 →") -> #REF!
A14: B07018 | B14: 잔토처리(인력) | C14: 현장처리 | D14: 52.9 | E14: M3 | F14: =ROUND(D14*#REF!,0) -> #REF! | G14: =ROUND(D14*#REF!,0) -> #REF! | H14: =ROUND(D14*#REF!,0) -> #REF! | I14: =F14+G14+H14 -> #REF! | L14: =HYPERLINK("#"&#REF!&"!A"&ROW(#REF!),"B07018 →") -> #REF!
A15: B07032 | B15: 집수받이재설치 | C15: 400*500(콘크리트,주철) | D15: 3 | E15: EA | F15: =ROUND(D15*#REF!,0) -> #REF! | G15: =ROUND(D15*#REF!,0) -> #REF! | H15: =ROUND(D15*#REF!,0) -> #REF! | I15: =F15+G15+H15 -> #REF! | L15: =HYPERLINK("#"&#REF!&"!A"&ROW(#REF!),"B07032 →") -> #REF!
A16: B07033 | B16: 집수받이재설치 | C16: 500*500(콘크리트,주철) | D16: 3 | E16: EA | F16: =ROUND(D16*#REF!,0) -> #REF! | G16: =ROUND(D16*#REF!,0) -> #REF! | H16: =ROUND(D16*#REF!,0) -> #REF! | I16: =F16+G16+H16 -> #REF! | L16: =HYPERLINK("#"&#REF!&"!A"&ROW(#REF!),"B07033 →") -> #REF!
A17: B07034 | B17: 집수받이재설치 | C17: 400*1000(콘크리트,주철) | D17: 3 | E17: EA | F17: =ROUND(D17*#REF!,0) -> #REF! | G17: =ROUND(D17*#REF!,0) -> #REF! | H17: =ROUND(D17*#REF!,0) -> #REF! | I17: =F17+G17+H17 -> #REF! | L17: =HYPERLINK("#"&#REF!&"!A"&ROW(#REF!),"B07034 →") -> #REF!
A18: B07035 | B18: 집수받이재설치 | C18: 500*1000(콘크리트,주철) | D18: 3 | E18: EA | F18: =ROUND(D18*#REF!,0) -> #REF! | G18: =ROUND(D18*#REF!,0) -> #REF! | H18: =ROUND(D18*#REF!,0) -> #REF! | I18: =F18+G18+H18 -> #REF! | L18: =HYPERLINK("#"&#REF!&"!A"&ROW(#REF!),"B07035 →") -> #REF!
A19: B07036 | B19: 집수받이재설치 | C19: 400*500(아스팔트,주철) | D19: 3 | E19: EA | F19: =ROUND(D19*#REF!,0) -> #REF! | G19: =ROUND(D19*#REF!,0) -> #REF! | H19: =ROUND(D19*#REF!,0) -> #REF! | I19: =F19+G19+H19 -> #REF! | L19: =HYPERLINK("#"&#REF!&"!A"&ROW(#REF!),"B07036 →") -> #REF!
A20: B07037 | B20: 집수받이재설치 | C20: 500*500(아스팔트,주철) | D20: 3 | E20: EA | F20: =ROUND(D20*#REF!,0) -> #REF! | G20: =ROUND(D20*#REF!,0) -> #REF! | H20: =ROUND(D20*#REF!,0) -> #REF! | I20: =F20+G20+H20 -> #REF! | L20: =HYPERLINK("#"&#REF!&"!A"&ROW(#REF!),"B07037 →") -> #REF!
A21: B07038 | B21: 집수받이재설치 | C21: 400*1000(아스팔트,주철) | D21: 3 | E21: EA | F21: =ROUND(D21*#REF!,0) -> #REF! | G21: =ROUND(D21*#REF!,0) -> #REF! | H21: =ROUND(D21*#REF!,0) -> #REF! | I21: =F21+G21+H21 -> #REF! | L21: =HYPERLINK("#"&#REF!&"!A"&ROW(#REF!),"B07038 →") -> #REF!
A22: B07039 | B22: 집수받이재설치 | C22: 500*1000(아스팔트,주철) | D22: 3 | E22: EA | F22: =ROUND(D22*#REF!,0) -> #REF! | G22: =ROUND(D22*#REF!,0) -> #REF! | H22: =ROUND(D22*#REF!,0) -> #REF! | I22: =F22+G22+H22 -> #REF! | L22: =HYPERLINK("#"&#REF!&"!A"&ROW(#REF!),"B07039 →") -> #REF!
A23: B07040 | B23: 집수받이재설치 | C23: 400*500(콘크리트,뚜껑재활용) | D23: 3 | E23: EA | F23: =ROUND(D23*#REF!,0) -> #REF! | G23: =ROUND(D23*#REF!,0) -> #REF! | H23: =ROUND(D23*#REF!,0) -> #REF! | I23: =F23+G23+H23 -> #REF! | L23: =HYPERLINK("#"&#REF!&"!A"&ROW(#REF!),"B07040 →") -> #REF!
A24: B07041 | B24: 집수받이재설치 | C24: 500*500(콘크리트,뚜껑재활용) | D24: 3 | E24: EA | F24: =ROUND(D24*#REF!,0) -> #REF! | G24: =ROUND(D24*#REF!,0) -> #REF! | H24: =ROUND(D24*#REF!,0) -> #REF! | I24: =F24+G24+H24 -> #REF! | L24: =HYPERLINK("#"&#REF!&"!A"&ROW(#REF!),"B07041 →") -> #REF!
A25: B07042 | B25: 집수받이재설치 | C25: 400*1000(콘크리트,뚜껑재활용) | D25: 3 | E25: EA | F25: =ROUND(D25*#REF!,0) -> #REF! | G25: =ROUND(D25*#REF!,0) -> #REF! | H25: =ROUND(D25*#REF!,0) -> #REF! | I25: =F25+G25+H25 -> #REF! | L25: =HYPERLINK("#"&#REF!&"!A"&ROW(#REF!),"B07042 →") -> #REF!
A26: B07043 | B26: 집수받이재설치 | C26: 500*1000(콘크리트,뚜껑재활용) | D26: 3 | E26: EA | F26: =ROUND(D26*#REF!,0) -> #REF! | G26: =ROUND(D26*#REF!,0) -> #REF! | H26: =ROUND(D26*#REF!,0) -> #REF! | I26: =F26+G26+H26 -> #REF! | L26: =HYPERLINK("#"&#REF!&"!A"&ROW(#REF!),"B07043 →") -> #REF!
A27: B07044 | B27: 집수받이재설치 | C27: 400*500(아스팔트,뚜껑재활용) | D27: 3 | E27: EA | F27: =ROUND(D27*#REF!,0) -> #REF! | G27: =ROUND(D27*#REF!,0) -> #REF! | H27: =ROUND(D27*#REF!,0) -> #REF! | I27: =F27+G27+H27 -> #REF! | L27: =HYPERLINK("#"&#REF!&"!A"&ROW(#REF!),"B07044 →") -> #REF!
A28: B07045 | B28: 집수받이재설치 | C28: 500*500(아스팔트,뚜껑재활용) | D28: 3 | E28: EA | F28: =ROUND(D28*#REF!,0) -> #REF! | G28: =ROUND(D28*#REF!,0) -> #REF! | H28: =ROUND(D28*#REF!,0) -> #REF! | I28: =F28+G28+H28 -> #REF! | L28: =HYPERLINK("#"&#REF!&"!A"&ROW(#REF!),"B07045 →") -> #REF!
A29: B07046 | B29: 집수받이재설치 | C29: 400*1000(아스팔트,뚜껑재활용) | D29: 3 | E29: EA | F29: =ROUND(D29*#REF!,0) -> #REF! | G29: =ROUND(D29*#REF!,0) -> #REF! | H29: =ROUND(D29*#REF!,0) -> #REF! | I29: =F29+G29+H29 -> #REF! | L29: =HYPERLINK("#"&#REF!&"!A"&ROW(#REF!),"B07046 →") -> #REF!
A30: B07047 | B30: 집수받이재설치 | C30: 500*1000(아스팔트,뚜껑재활용) | D30: 3 | E30: EA | F30: =ROUND(D30*#REF!,0) -> #REF! | G30: =ROUND(D30*#REF!,0) -> #REF! | H30: =ROUND(D30*#REF!,0) -> #REF! | I30: =F30+G30+H30 -> #REF! | L30: =HYPERLINK("#"&#REF!&"!A"&ROW(#REF!),"B07047 →") -> #REF!
A31: B07083 | B31: PE이중벽관교체 | C31: D250mm(보도블럭) | D31: 3 | E31: M | F31: =ROUND(D31*#REF!,0) -> #REF! | G31: =ROUND(D31*#REF!,0) -> #REF! | H31: =ROUND(D31*#REF!,0) -> #REF! | I31: =F31+G31+H31 -> #REF! | L31: =HYPERLINK("#"&#REF!&"!A"&ROW(#REF!),"B07083 →") -> #REF!
A32: B07084 | B32: PE이중벽관교체 | C32: D300mm(보도블럭) | D32: 3 | E32: M | F32: =ROUND(D32*#REF!,0) -> #REF! | G32: =ROUND(D32*#REF!,0) -> #REF! | H32: =ROUND(D32*#REF!,0) -> #REF! | I32: =F32+G32+H32 -> #REF! | L32: =HYPERLINK("#"&#REF!&"!A"&ROW(#REF!),"B07084 →") -> #REF!
A33: B07085 | B33: PE이중벽관교체 | C33: D250mm(콘크리트) | D33: 3 | E33: M | F33: =ROUND(D33*#REF!,0) -> #REF! | G33: =ROUND(D33*#REF!,0) -> #REF! | H33: =ROUND(D33*#REF!,0) -> #REF! | I33: =F33+G33+H33 -> #REF! | L33: =HYPERLINK("#"&#REF!&"!A"&ROW(#REF!),"B07085 →") -> #REF!
A34: B07086 | B34: PE이중벽관교체 | C34: D300mm(콘크리트) | D34: 3 | E34: M | F34: =ROUND(D34*#REF!,0) -> #REF! | G34: =ROUND(D34*#REF!,0) -> #REF! | H34: =ROUND(D34*#REF!,0) -> #REF! | I34: =F34+G34+H34 -> #REF! | L34: =HYPERLINK("#"&#REF!&"!A"&ROW(#REF!),"B07086 →") -> #REF!
A35: B07087 | B35: PE이중벽관교체 | C35: D250mm(아스콘) | D35: 3 | E35: M | F35: =ROUND(D35*#REF!,0) -> #REF! | G35: =ROUND(D35*#REF!,0) -> #REF! | H35: =ROUND(D35*#REF!,0) -> #REF! | I35: =F35+G35+H35 -> #REF! | L35: =HYPERLINK("#"&#REF!&"!A"&ROW(#REF!),"B07087 →") -> #REF!
A36: B07088 | B36: PE이중벽관교체 | C36: D300mm(아스콘) | D36: 3 | E36: M | F36: =ROUND(D36*#REF!,0) -> #REF! | G36: =ROUND(D36*#REF!,0) -> #REF! | H36: =ROUND(D36*#REF!,0) -> #REF! | I36: =F36+G36+H36 -> #REF! | L36: =HYPERLINK("#"&#REF!&"!A"&ROW(#REF!),"B07088 →") -> #REF!
A37: B07103 | B37: 모르타르 | D37: 0.02 | E37: ㎥ | F37: =ROUND(D37*#REF!,0) -> #REF! | G37: =ROUND(D37*#REF!,0) -> #REF! | H37: =ROUND(D37*#REF!,0) -> #REF! | I37: =F37+G37+H37 -> #REF! | L37: =HYPERLINK("#"&#REF!&"!A"&ROW(#REF!),"B07103 →") -> #REF!
A38: B07104 | B38: 폴리머콘크리트 | D38: 0.07 | E38: ㎥ | F38: =ROUND(D38*#REF!,0) -> #REF! | G38: =ROUND(D38*#REF!,0) -> #REF! | H38: =ROUND(D38*#REF!,0) -> #REF! | I38: =F38+G38+H38 -> #REF! | L38: =HYPERLINK("#"&#REF!&"!A"&ROW(#REF!),"B07104 →") -> #REF!
A39: B07113 | B39: 집수받이재설치 | C39: 400*500(보도블럭,주철) | D39: 3 | E39: EA | F39: =ROUND(D39*#REF!,0) -> #REF! | G39: =ROUND(D39*#REF!,0) -> #REF! | H39: =ROUND(D39*#REF!,0) -> #REF! | I39: =F39+G39+H39 -> #REF! | L39: =HYPERLINK("#"&#REF!&"!A"&ROW(#REF!),"B07113 →") -> #REF!
A40: B07114 | B40: 집수받이재설치 | C40: 500*500(보도블럭,주철) | D40: 3 | E40: EA | F40: =ROUND(D40*#REF!,0) -> #REF! | G40: =ROUND(D40*#REF!,0) -> #REF! | H40: =ROUND(D40*#REF!,0) -> #REF! | I40: =F40+G40+H40 -> #REF! | L40: =HYPERLINK("#"&#REF!&"!A"&ROW(#REF!),"B07114 →") -> #REF!

Sheet 단가산출근거수량금액집계표
A1: 단가산출근거 수량,금액 집계표 | K1: STmate | L1: STmate
K2: =MID(CELL("filename",$A$1),FIND("]",CELL("filename",$A$1))+1,LEN(CELL("filename",$A$1))) -> 단가산출근거수량금액집계표
A3: 코드번호 | B3: 명 칭 | C3: 규 격 | D3: 수 량 | E3: 단위 | F3: 재 료 비 | G3: 노 무 비 | H3: 경 비 | I3: 합 계 | J3: 비 고 | L3: =HYPERLINK("#'〓 목 차 〓'!B2","목차 →") -> 목차 →
A4: D04413 | B4: 보조기층포설 | C4: (인력식 소규모 장비사용) | D4: 10.16 | E4: ㎥ | F4: =ROUND(D4*#REF!,0) -> #REF! | G4: =ROUND(D4*#REF!,0) -> #REF! | H4: =ROUND(D4*#REF!,0) -> #REF! | I4: =F4+G4+H4 -> #REF! | L4: =HYPERLINK("#"&#REF!&"!A"&ROW(#REF!),"D04413 →") -> #REF!
A5: D04414 | B5: 보도블록포장 | C5: 소형고압블럭 | D5: 90.24 | E5: ㎡ | F5: =ROUND(D5*#REF!,0) -> #REF! | G5: =ROUND(D5*#REF!,0) -> #REF! | H5: =ROUND(D5*#REF!,0) -> #REF! | I5: =F5+G5+H5 -> #REF! | L5: =HYPERLINK("#"&#REF!&"!A"&ROW(#REF!),"D04414 →") -> #REF!
A6: D04415 | B6: 보도블록걷기 | C6: 소형고압블럭 | D6: 67.36 | E6: ㎡ | F6: =ROUND(D6*#REF!,0) -> #REF! | G6: =ROUND(D6*#REF!,0) -> #REF! | H6: =ROUND(D6*#REF!,0) -> #REF! | I6: =F6+G6+H6 -> #REF! | L6: =HYPERLINK("#"&#REF!&"!A"&ROW(#REF!),"D04415 →") -> #REF!
A7: D04416 | B7: 되메우기(BH0.2+인력) | C7: 기계80%+인력20% | D7: 132.54 | E7: ㎥ | F7: =ROUND(D7*#REF!,0) -> #REF! | G7: =ROUND(D7*#REF!,0) -> #REF! | H7: =ROUND(D7*#REF!,0) -> #REF! | I7: =F7+G7+H7 -> #REF! | L7: =HYPERLINK("#"&#REF!&"!A"&ROW(#REF!),"D04416 →") -> #REF!
A8: D04417 | B8: 콘크리트포장절단 | C8: 1회 | D8: 257 | E8: M | F8: =ROUND(D8*#REF!,0) -> #REF! | G8: =ROUND(D8*#REF!,0) -> #REF! | H8: =ROUND(D8*#REF!,0) -> #REF! | I8: =F8+G8+H8 -> #REF! | L8: =HYPERLINK("#"&#REF!&"!A"&ROW(#REF!),"D04417 →") -> #REF!
A9: D04418 | B9: 폐기물상차 | C9: BH 0.2 | D9: 62.45 | E9: M3 | F9: =ROUND(D9*#REF!,0) -> #REF! | G9: =ROUND(D9*#REF!,0) -> #REF! | H9: =ROUND(D9*#REF!,0) -> #REF! | I9: =F9+G9+H9 -> #REF! | L9: =HYPERLINK("#"&#REF!&"!A"&ROW(#REF!),"D04418 →") -> #REF!
A10: D04419 | B10: 모래부설 | C10: 기계(0.2)20+인력80 | D10: 1.56 | E10: M3 | F10: =ROUND(D10*#REF!,0) -> #REF! | G10: =ROUND(D10*#REF!,0) -> #REF! | H10: =ROUND(D10*#REF!,0) -> #REF! | I10: =F10+G10+H10 -> #REF! | L10: =HYPERLINK("#"&#REF!&"!A"&ROW(#REF!),"D04419 →") -> #REF!
A11: D04420 | B11: 콘크리트깨기(무근) | C11: 두께30CM미만 0.7조합 | D11: 39.17 | E11: M3 | F11: =ROUND(D11*#REF!,0) -> #REF! | G11: =ROUND(D11*#REF!,0) -> #REF! | H11: =ROUND(D11*#REF!,0) -> #REF! | I11: =F11+G11+H11 -> #REF! | L11: =HYPERLINK("#"&#REF!&"!A"&ROW(#REF!),"D04420 →") -> #REF!
A12: D04421 | B12: 아스팔트포장절단 | C12: 1회 | D12: 247.2 | E12: M | F12: =ROUND(D12*#REF!,0) -> #REF! | G12: =ROUND(D12*#REF!,0) -> #REF! | H12: =ROUND(D12*#REF!,0) -> #REF! | I12: =F12+G12+H12 -> #REF! | L12: =HYPERLINK("#"&#REF!&"!A"&ROW(#REF!),"D04421 →") -> #REF!
A13: D04422 | B13: 터파기(BH0.2+인력) | C13: 기계80%+인력20% | D13: 166.52 | E13: M3 | F13: =ROUND(D13*#REF!,0) -> #REF! | G13: =ROUND(D13*#REF!,0) -> #REF! | H13: =ROUND(D13*#REF!,0) -> #REF! | I13: =F13+G13+H13 -> #REF! | L13: =HYPERLINK("#"&#REF!&"!A"&ROW(#REF!),"D04422 →") -> #REF!
A14: D04423 | B14: 아스팔트포장 깨기 | C14: 브레이커+굴삭기(0.7) | D14: 14.67 | E14: M3 | F14: =ROUND(D14*#REF!,0) -> #REF! | G14: =ROUND(D14*#REF!,0) -> #REF! | H14: =ROUND(D14*#REF!,0) -> #REF! | I14: =F14+G14+H14 -> #REF! | L14: =HYPERLINK("#"&#REF!&"!A"&ROW(#REF!),"D04423 →") -> #REF!
A15: D04424 | B15: 차선도색(문자,기호) | C15: 융착식 도료 수동식 | D15: 1 | E15: ㎡ | F15: =ROUND(D15*#REF!,0) -> #REF! | G15: =ROUND(D15*#REF!,0) -> #REF! | H15: =ROUND(D15*#REF!,0) -> #REF! | I15: =F15+G15+H15 -> #REF! | L15: =HYPERLINK("#"&#REF!&"!A"&ROW(#REF!),"D04424 →") -> #REF!
A16: D04425 | B16: 차선도색(실선) | C16: 융착식 도료 수동식 | D16: 2 | E16: ㎡ | F16: =ROUND(D16*#REF!,0) -> #REF! | G16: =ROUND(D16*#REF!,0) -> #REF! | H16: =ROUND(D16*#REF!,0) -> #REF! | I16: =F16+G16+H16 -> #REF! | L16: =HYPERLINK("#"&#REF!&"!A"&ROW(#REF!),"D04425 →") -> #REF!
A17: D04427 | B17: 중량 구조물 설치 | C17: 850~1150㎏ 기준 | D17: 2 | E17: 개소 | F17: =ROUND(D17*#REF!,0) -> #REF! | G17: =ROUND(D17*#REF!,0) -> #REF! | H17: =ROUND(D17*#REF!,0) -> #REF! | I17: =F17+G17+H17 -> #REF! | L17: =HYPERLINK("#"&#REF!&"!A"&ROW(#REF!),"D04427 →") -> #REF!
A18: D04428 | B18: 소파보수 | C18: 포장복구 45m2 | D18: 6.84 | E18: ㎡ | F18: =ROUND(D18*#REF!,0) -> #REF! | G18: =ROUND(D18*#REF!,0) -> #REF! | H18: =ROUND(D18*#REF!,0) -> #REF! | I18: =F18+G18+H18 -> #REF! | L18: =HYPERLINK("#"&#REF!&"!A"&ROW(#REF!),"D04428 →") -> #REF!
A19: D04429 | B19: 맨홀 설치 | C19: D900(기성) | D19: 6 | E19: 개소 | F19: =ROUND(D19*#REF!,0) -> #REF! | G19: =ROUND(D19*#REF!,0) -> #REF! | H19: =ROUND(D19*#REF!,0) -> #REF! | I19: =F19+G19+H19 -> #REF! | L19: =HYPERLINK("#"&#REF!&"!A"&ROW(#REF!),"D04429 →") -> #REF!
A20: D04430 | B20: 맨홀 설치 | C20: D1200(기성,상판,하부구체) | D20: 6 | E20: 개소 | F20: =ROUND(D20*#REF!,0) -> #REF! | G20: =ROUND(D20*#REF!,0) -> #REF! | H20: =ROUND(D20*#REF!,0) -> #REF! | I20: =F20+G20+H20 -> #REF! | L20: =HYPERLINK("#"&#REF!&"!A"&ROW(#REF!),"D04430 →") -> #REF!
A21: D04431 | B21: 콘크리트깨기(철근) | C21: (BH0.7+브레이카) | D21: 12.2 | E21: M3 | F21: =ROUND(D21*#REF!,0) -> #REF! | G21: =ROUND(D21*#REF!,0) -> #REF! | H21: =ROUND(D21*#REF!,0) -> #REF! | I21: =F21+G21+H21 -> #REF! | L21: =HYPERLINK("#"&#REF!&"!A"&ROW(#REF!),"D04431 →") -> #REF!
A22: D04432 | B22: 골재운반 | C22: 쇄석 40mm | D22: 10.16 | E22: M3 | F22: =ROUND(D22*#REF!,0) -> #REF! | G22: =ROUND(D22*#REF!,0) -> #REF! | H22: =ROUND(D22*#REF!,0) -> #REF! | I22: =F22+G22+H22 -> #REF! | L22: =HYPERLINK("#"&#REF!&"!A"&ROW(#REF!),"D04432 →") -> #REF!

Sheet 환율및기초자료
A1: 1. 환 율 | I1: STmate | J1: STmate
C2: 100,000$ 미만 | D2: 100,000$ 이상 | E2: 유로화(€) | G2: 엔화(100￥) | I2: =MID(CELL("filename",$A$1),FIND("]",CELL("filename",$A$1))+1,LEN(CELL("filename",$A$1))) -> 환율및기초자료
C3: 1466 | D3: 1466 | E3: 1000 | G3: 1000
A5: 2. 인 건 비
C6: 건설기계운전사 | D6: =#REF! -> #REF! | E6: * 1/8 * 16/12 * 25/20 = | G6: =ROUNDDOWN(D6*0.20833333334,1) -> #REF! | H6: L00048 | J6: =HYPERLINK("#"&#REF!&"!A"&ROW(#REF!),"L00048 →") -> #REF!
C7: 화물차운전사 | D7: =#REF! -> #REF! | E7: * 1/8 * 16/12 * 25/20 = | G7: =ROUNDDOWN(D7*0.20833333334,1) -> #REF! | H7: L00049 | J7: =HYPERLINK("#"&#REF!&"!A"&ROW(#REF!),"L00049 →") -> #REF!
C8: 일반기계운전사 | D8: =#REF! -> #REF! | E8: * 1/8 * 16/12 * 25/20 = | G8: =ROUNDDOWN(D8*0.20833333334,1) -> #REF! | H8: L00050 | J8: =HYPERLINK("#"&#REF!&"!A"&ROW(#REF!),"L00050 →") -> #REF!
A10: 3. 단가 및 재료비
B11: NO | C11: 단 가 명 | D11: 규 격 | E11: 단위 | F11: 가 격 | H11: 비 고
B12: 1 | C12: 건설기계운전사 | E12: 인 | F12: =#REF! -> #REF! | H12: L00048 | J12: =HYPERLINK("#"&#REF!&"!A"&ROW(#REF!),"L00048 →") -> #REF!
B13: 2 | C13: 화물차운전사 | E13: 인 | F13: =#REF! -> #REF! | H13: L00049 | J13: =HYPERLINK("#"&#REF!&"!A"&ROW(#REF!),"L00049 →") -> #REF!
B14: 3 | C14: 일반기계운전사 | E14: 인 | F14: =#REF! -> #REF! | H14: L00050 | J14: =HYPERLINK("#"&#REF!&"!A"&ROW(#REF!),"L00050 →") -> #REF!
B15: 4 | C15: 휘발유 | D15: 무연 | E15: L | F15: =#REF! -> #REF! | H15: M00001 | J15: =HYPERLINK("#"&#REF!&"!A"&ROW(#REF!),"M00001 →") -> #REF!
B16: 5 | C16: 경유 | D16: 저유황 | E16: L | F16: =#REF! -> #REF! | H16: M00002 | J16: =HYPERLINK("#"&#REF!&"!A"&ROW(#REF!),"M00002 →") -> #REF!

Sheet 재료비수량금액집계표
A1: 재료비 수량,금액 집계표 | I1: STmate | J1: STmate
I2: =MID(CELL("filename",$A$1),FIND("]",CELL("filename",$A$1))+1,LEN(CELL("filename",$A$1))) -> 재료비수량금액집계표
A3: 코드번호 | B3: 명 칭 | C3: 규 격 | D3: 수 량 | E3: 단위 | F3: 단 가 | G3: 금 액 | H3: 비 고 | J3: =HYPERLINK("#'〓 목 차 〓'!B2","목차 →") -> 목차 →
A4: M00093 | B4: 모래(계양구) | C4: 세척사(운반비) | D4: 31.99 | E4: ㎥ | F4: =#REF! -> #REF! | G4: =ROUND(D4*F4,0) -> #REF! | J4: =HYPERLINK("#"&#REF!&"!A"&ROW(#REF!),"M00093 →") -> #REF!
A5: M00094 | B5: 골재(계양구) | C5: 쇄석(25m/m, 운반비 포함) | D5: 34.46 | E5: ㎥ | F5: =#REF! -> #REF! | G5: =ROUND(D5*F5,0) -> #REF! | J5: =HYPERLINK("#"&#REF!&"!A"&ROW(#REF!),"M00094 →") -> #REF!
A6: M00159 | B6: 물값 | C6: (물이용부담금포함) | D6: 12.65 | E6: TON | F6: =#REF! -> #REF! | G6: =ROUND(D6*F6,0) -> #REF! | J6: =HYPERLINK("#"&#REF!&"!A"&ROW(#REF!),"M00159 →") -> #REF!
A7: M01826 | B7: 플라이애쉬 | D7: 11.05 | E7: Kg | F7: =#REF! -> #REF! | G7: =ROUND(D7*F7,0) -> #REF! | J7: =HYPERLINK("#"&#REF!&"!A"&ROW(#REF!),"M01826 →") -> #REF!
A8: M04351 | B8: 흄관 (소켓식) | C8: D300 | D8: 48 | E8: M | F8: =#REF! -> #REF! | G8: =ROUND(D8*F8,0) -> #REF! | J8: =HYPERLINK("#"&#REF!&"!A"&ROW(#REF!),"M04351 →") -> #REF!
A9: M06507 | B9: 보조기층재(계양구) | C9: 순환골재 | D9: 10.16 | E9: ㎥ | F9: =#REF! -> #REF! | G9: =ROUND(D9*F9,0) -> #REF! | J9: =HYPERLINK("#"&#REF!&"!A"&ROW(#REF!),"M06507 →") -> #REF!
A10: M06509 | B10: PE이중벽관 | C10: D250 | D10: 18 | E10: M | F10: =#REF! -> #REF! | G10: =ROUND(D10*F10,0) -> #REF! | J10: =HYPERLINK("#"&#REF!&"!A"&ROW(#REF!),"M06509 →") -> #REF!
A11: M06513 | B11: PE이중벽관 | C11: D300 | D11: 18 | E11: M | F11: =#REF! -> #REF! | G11: =ROUND(D11*F11,0) -> #REF! | J11: =HYPERLINK("#"&#REF!&"!A"&ROW(#REF!),"M06513 →") -> #REF!
A12: M06596 | B12: 블레이드(DM) | C12: 14"x3mm | D12: 1.46 | E12: 개 | F12: =#REF! -> #REF! | G12: =ROUND(D12*F12,0) -> #REF! | J12: =HYPERLINK("#"&#REF!&"!A"&ROW(#REF!),"M06596 →") -> #REF!
A13: M06597 | B13: 맨홀(원형,하부구체) | C13: 900*1000*200 | D13: 6 | E13: 개 | F13: =#REF! -> #REF! | G13: =ROUND(D13*F13,0) -> #REF! | J13: =HYPERLINK("#"&#REF!&"!A"&ROW(#REF!),"M06597 →") -> #REF!
A14: M06598 | B14: 높이조절재 | C14: 5T | D14: 2 | E14: 매 | F14: =#REF! -> #REF! | G14: =ROUND(D14*F14,0) -> #REF! | J14: =HYPERLINK("#"&#REF!&"!A"&ROW(#REF!),"M06598 →") -> #REF!
A15: M06599 | B15: 치즐(대형브레이커) | C15: 0.7 M3 | D15: 0.14 | E15: 본 | F15: =#REF! -> #REF! | G15: =ROUND(D15*F15,0) -> #REF! | J15: =HYPERLINK("#"&#REF!&"!A"&ROW(#REF!),"M06599 →") -> #REF!
A16: M06600 | B16: 합판 | C16: 내수 12T*1220*2440mm | D16: 165.21 | E16: M2 | F16: =#REF! -> #REF! | G16: =ROUND(D16*F16,0) -> #REF! | J16: =HYPERLINK("#"&#REF!&"!A"&ROW(#REF!),"M06600 →") -> #REF!
A17: M06601 | B17: 맨홀뚜껑 | C17: D648(우오수용) 뚜껑및받침틀 | D17: 10 | E17: 조 | F17: =#REF! -> #REF! | G17: =ROUND(D17*F17,0) -> #REF! | J17: =HYPERLINK("#"&#REF!&"!A"&ROW(#REF!),"M06601 →") -> #REF!
A18: M06602 | B18: 프로판가스 | C18: 일반용 | D18: 0.6 | E18: KG | F18: =#REF! -> #REF! | G18: =ROUND(D18*F18,0) -> #REF! | J18: =HYPERLINK("#"&#REF!&"!A"&ROW(#REF!),"M06602 →") -> #REF!
A19: M06603 | B19: 각재(외송) | C19: 30*30*3600 | D19: 6.1 | E19: M3 | F19: =#REF! -> #REF! | G19: =ROUND(D19*F19,0) -> #REF! | J19: =HYPERLINK("#"&#REF!&"!A"&ROW(#REF!),"M06603 →") -> #REF!
A20: M06604 | B20: 맨홀상판(사각) | C20: 1240*1240 | D20: 2 | E20: 개 | F20: =#REF! -> #REF! | G20: =ROUND(D20*F20,0) -> #REF! | J20: =HYPERLINK("#"&#REF!&"!A"&ROW(#REF!),"M06604 →") -> #REF!
A21: M06605 | B21: 소형고압블럭 | C21: T=6 Cm(무색) | D21: 16.19 | E21: m2 | F21: =#REF! -> #REF! | G21: =ROUND(D21*F21,0) -> #REF! | J21: =HYPERLINK("#"&#REF!&"!A"&ROW(#REF!),"M06605 →") -> #REF!
A22: M06606 | B22: 경계석(인조화강석) | C22: 180*200 | D22: 2 | E22: EA | F22: =#REF! -> #REF! | G22: =ROUND(D22*F22,0) -> #REF! | J22: =HYPERLINK("#"&#REF!&"!A"&ROW(#REF!),"M06606 →") -> #REF!
A23: M06607 | B23: 집수받이뚜껑(닥타일주철) | C23: 400*500*50 | D23: 48 | E23: 조 | F23: =#REF! -> #REF! | G23: =ROUND(D23*F23,0) -> #REF! | J23: =HYPERLINK("#"&#REF!&"!A"&ROW(#REF!),"M06607 →") -> #REF!
A24: M06608 | B24: 집수받이뚜껑(닥타일주철) | C24: 500*500*50 | D24: 48 | E24: 조 | F24: =#REF! -> #REF! | G24: =ROUND(D24*F24,0) -> #REF! | J24: =HYPERLINK("#"&#REF!&"!A"&ROW(#REF!),"M06608 →") -> #REF!
A25: M06610 | B25: 흄관 | C25: D300 | D25: 4.8 | E25: 본 | F25: =#REF! -> #REF! | G25: =ROUND(D25*F25,0) -> #REF! | J25: =HYPERLINK("#"&#REF!&"!A"&ROW(#REF!),"M06610 →") -> #REF!
A26: M06611 | B26: 흄관 | C26: D450 | D26: 4.8 | E26: 본 | F26: =#REF! -> #REF! | G26: =ROUND(D26*F26,0) -> #REF! | J26: =HYPERLINK("#"&#REF!&"!A"&ROW(#REF!),"M06611 →") -> #REF!
A27: M06612 | B27: 흄관 | C27: D600 | D27: 4.8 | E27: 본 | F27: =#REF! -> #REF! | G27: =ROUND(D27*F27,0) -> #REF! | J27: =HYPERLINK("#"&#REF!&"!A"&ROW(#REF!),"M06612 →") -> #REF!
A28: M06613 | B28: 흄관 | C28: D800 | D28: 4.8 | E28: 본 | F28: =#REF! -> #REF! | G28: =ROUND(D28*F28,0) -> #REF! | J28: =HYPERLINK("#"&#REF!&"!A"&ROW(#REF!),"M06613 →") -> #REF!
A29: M06614 | B29: PE이중벽관 | C29: D250 | D29: 3.06 | E29: 본 | F29: =#REF! -> #REF! | G29: =ROUND(D29*F29,0) -> #REF! | J29: =HYPERLINK("#"&#REF!&"!A"&ROW(#REF!),"M06614 →") -> #REF!
A30: M06615 | B30: PE이중벽관 | C30: D300 | D30: 3.06 | E30: 본 | F30: =#REF! -> #REF! | G30: =ROUND(D30*F30,0) -> #REF! | J30: =HYPERLINK("#"&#REF!&"!A"&ROW(#REF!),"M06615 →") -> #REF!
A31: M06616 | B31: PE밴드 | C31: D250 | D31: 18 | E31: EA | F31: =#REF! -> #REF! | G31: =ROUND(D31*F31,0) -> #REF! | J31: =HYPERLINK("#"&#REF!&"!A"&ROW(#REF!),"M06616 →") -> #REF!
A32: M06617 | B32: PE밴드 | C32: D300 | D32: 18 | E32: EA | F32: =#REF! -> #REF! | G32: =ROUND(D32*F32,0) -> #REF! | J32: =HYPERLINK("#"&#REF!&"!A"&ROW(#REF!),"M06617 →") -> #REF!
A33: M06618 | B33: 아스콘(사급) | C33: #78, 표층용 | D33: 14.64 | E33: TON | F33: =#REF! -> #REF! | G33: =ROUND(D33*F33,0) -> #REF! | J33: =HYPERLINK("#"&#REF!&"!A"&ROW(#REF!),"M06618 →") -> #REF!
A34: M06619 | B34: 시멘트 | C34: 보통,40㎏ | D34: 501.22 | E34: 포 | F34: =#REF! -> #REF! | G34: =ROUND(D34*F34,0) -> #REF! | J34: =HYPERLINK("#"&#REF!&"!A"&ROW(#REF!),"M06619 →") -> #REF!
A35: M06620 | B35: 프라이머 | D35: 0.6 | E35: Kg | F35: =#REF! -> #REF! | G35: =ROUND(D35*F35,0) -> #REF! | J35: =HYPERLINK("#"&#REF!&"!A"&ROW(#REF!),"M06620 →") -> #REF!
A36: M06621 | B36: 도로표지용유리알 | C36: KSL2521 (고성능 고휘도) | D36: 0.9 | E36: KG | F36: =#REF! -> #REF! | G36: =ROUND(D36*F36,0) -> #REF! | J36: =HYPERLINK("#"&#REF!&"!A"&ROW(#REF!),"M06621 →") -> #REF!
A37: M06622 | B37: 도로표지용도료 | C37: 4종융착식 흰색 내마모도 R5 | D37: 9.06 | E37: Kg | F37: =#REF! -> #REF! | G37: =ROUND(D37*F37,0) -> #REF! | J37: =HYPERLINK("#"&#REF!&"!A"&ROW(#REF!),"M06622 →") -> #REF!
A38: M06623 | B38: 도로표지용도료 | C38: 4종융착식 노락색 내마모도 R3 | D38: 4.53 | E38: Kg | F38: =#REF! -> #REF! | G38: =ROUND(D38*F38,0) -> #REF! | J38: =HYPERLINK("#"&#REF!&"!A"&ROW(#REF!),"M06623 →") -> #REF!
A39: M06624 | B39: 맨홀(원형,상부구체) | C39: 900*400*200 | D39: 6 | E39: 개 | F39: =#REF! -> #REF! | G39: =ROUND(D39*F39,0) -> #REF! | J39: =HYPERLINK("#"&#REF!&"!A"&ROW(#REF!),"M06624 →") -> #REF!
A40: M06625 | B40: 칼라보도맨홀뚜껑 | C40: D648(800*800*60) | D40: 6 | E40: 조 | F40: =#REF! -> #REF! | G40: =ROUND(D40*F40,0) -> #REF! | J40: =HYPERLINK("#"&#REF!&"!A"&ROW(#REF!),"M06625 →") -> #REF!
A41: M06626 | B41: 맨홀(원형,하부구체) | C41: 1200*1200*200 | D41: 6 | E41: 개 | F41: =#REF! -> #REF! | G41: =ROUND(D41*F41,0) -> #REF! | J41: =HYPERLINK("#"&#REF!&"!A"&ROW(#REF!),"M06626 →") -> #REF!
A42: M06627 | B42: 맨홀(원형,상부구체) | C42: 1200*400*200 | D42: 6 | E42: 개 | F42: =#REF! -> #REF! | G42: =ROUND(D42*F42,0) -> #REF! | J42: =HYPERLINK("#"&#REF!&"!A"&ROW(#REF!),"M06627 →") -> #REF!
A43: M06628 | B43: 시너 | D43: 0.33 | E43: L | F43: =#REF! -> #REF! | G43: =ROUND(D43*F43,0) -> #REF! | J43: =HYPERLINK("#"&#REF!&"!A"&ROW(#REF!),"M06628 →") -> #REF!
A44: M06629 | B44: 수지 | D44: 20.83 | E44: KG | F44: =#REF! -> #REF! | G44: =ROUND(D44*F44,0) -> #REF! | J44: =HYPERLINK("#"&#REF!&"!A"&ROW(#REF!),"M06629 →") -> #REF!

Sheet 노무비수량금액집계표
A1: 노무비 수량,금액 집계표 | I1: STmate | J1: STmate
I2: =MID(CELL("filename",$A$1),FIND("]",CELL("filename",$A$1))+1,LEN(CELL("filename",$A$1))) -> 노무비수량금액집계표
A3: 코드번호 | B3: 명 칭 | C3: 규 격 | D3: 수 량 | E3: 단위 | F3: 단 가 | G3: 금 액 | H3: 비 고 | J3: =HYPERLINK("#'〓 목 차 〓'!B2","목차 →") -> 목차 →
A4: L00002 | B4: 보통인부 | D4: 148.39 | E4: 인 | F4: =#REF! -> #REF! | G4: =ROUND(D4*F4,0) -> #REF! | H4: 01000000075 | J4: =HYPERLINK("#"&#REF!&"!A"&ROW(#REF!),"L00002 →") -> #REF!
A5: L00003 | B5: 특별인부 | D5: 8.9 | E5: 인 | F5: =#REF! -> #REF! | G5: =ROUND(D5*F5,0) -> #REF! | H5: 01000000074 | J5: =HYPERLINK("#"&#REF!&"!A"&ROW(#REF!),"L00003 →") -> #REF!
A6: L00007 | B6: 형틀목공 | D6: 46.43 | E6: 인 | F6: =#REF! -> #REF! | G6: =ROUND(D6*F6,0) -> #REF! | H6: 01000000003 | J6: =HYPERLINK("#"&#REF!&"!A"&ROW(#REF!),"L00007 →") -> #REF!
A7: L00013 | B7: 콘크리트공 | D7: 74.75 | E7: 인 | F7: =#REF! -> #REF! | G7: =ROUND(D7*F7,0) -> #REF! | H7: 01000000023 | J7: =HYPERLINK("#"&#REF!&"!A"&ROW(#REF!),"L00013 →") -> #REF!
A8: L00019 | B8: 포장공 | D8: 0.54 | E8: 인 | F8: =#REF! -> #REF! | G8: =ROUND(D8*F8,0) -> #REF! | H8: 01000000038 | J8: =HYPERLINK("#"&#REF!&"!A"&ROW(#REF!),"L00019 →") -> #REF!
A9: L00040 | B9: 배관공(수도) | D9: 26.1 | E9: 인 | F9: =#REF! -> #REF! | G9: =ROUND(D9*F9,0) -> #REF! | H9: 01000000026 | J9: =HYPERLINK("#"&#REF!&"!A"&ROW(#REF!),"L00040 →") -> #REF!

Sheet 중기시간금액집계표
A1: 중기 시간,금액 집계표 | K1: STmate | L1: STmate
K2: =MID(CELL("filename",$A$1),FIND("]",CELL("filename",$A$1))+1,LEN(CELL("filename",$A$1))) -> 중기시간금액집계표
A3: 코드번호 | B3: 명 칭 | C3: 규 격 | D3: 수 량 | E3: 단위 | F3: 재 료 비 | G3: 노 무 비 | H3: 경 비 | I3: 합 계 | J3: 비 고 | L3: =HYPERLINK("#'〓 목 차 〓'!B2","목차 →") -> 목차 →
A4: X00019 | B4: 굴삭기(무한궤도) | C4: 0.6㎥ | D4: 0.54 | E4: 시간 | F4: =ROUND(D4*#REF!,0) -> #REF! | G4: =ROUND(D4*#REF!,0) -> #REF! | H4: =ROUND(D4*#REF!,0) -> #REF! | I4: =F4+G4+H4 -> #REF! | L4: =HYPERLINK("#"&#REF!&"!A"&ROW(#REF!),"X00019 →") -> #REF!
A5: X00025 | B5: 굴삭기(타이어) | C5: 0.18㎥ | D5: 1.43 | E5: 시간 | F5: =ROUND(D5*#REF!,0) -> #REF! | G5: =ROUND(D5*#REF!,0) -> #REF! | H5: =ROUND(D5*#REF!,0) -> #REF! | I5: =F5+G5+H5 -> #REF! | L5: =HYPERLINK("#"&#REF!&"!A"&ROW(#REF!),"X00025 →") -> #REF!
A6: X00026 | B6: 굴삭기(타이어) | C6: 0.6㎥ | D6: 2.41 | E6: 시간 | F6: =ROUND(D6*#REF!,0) -> #REF! | G6: =ROUND(D6*#REF!,0) -> #REF! | H6: =ROUND(D6*#REF!,0) -> #REF! | I6: =F6+G6+H6 -> #REF! | L6: =HYPERLINK("#"&#REF!&"!A"&ROW(#REF!),"X00026 →") -> #REF!
A7: X00027 | B7: 굴삭기(타이어) | C7: 0.8㎥ | D7: 3.88 | E7: 시간 | F7: =ROUND(D7*#REF!,0) -> #REF! | G7: =ROUND(D7*#REF!,0) -> #REF! | H7: =ROUND(D7*#REF!,0) -> #REF! | I7: =F7+G7+H7 -> #REF! | L7: =HYPERLINK("#"&#REF!&"!A"&ROW(#REF!),"X00027 →") -> #REF!
A8: X00070 | B8: 덤프트럭 | C8: 2.5톤 | D8: 2.89 | E8: 시간 | F8: =ROUND(D8*#REF!,0) -> #REF! | G8: =ROUND(D8*#REF!,0) -> #REF! | H8: =ROUND(D8*#REF!,0) -> #REF! | I8: =F8+G8+H8 -> #REF! | L8: =HYPERLINK("#"&#REF!&"!A"&ROW(#REF!),"X00070 →") -> #REF!
A9: X00071 | B9: 덤프트럭 | C9: 4.5톤 | D9: 0.12 | E9: 시간 | F9: =ROUND(D9*#REF!,0) -> #REF! | G9: =ROUND(D9*#REF!,0) -> #REF! | H9: =ROUND(D9*#REF!,0) -> #REF! | I9: =F9+G9+H9 -> #REF! | L9: =HYPERLINK("#"&#REF!&"!A"&ROW(#REF!),"X00071 →") -> #REF!
A10: X00093 | B10: 진동롤러(핸드가이드식) | C10: 0.7톤 | D10: 0.54 | E10: 시간 | F10: =ROUND(D10*#REF!,0) -> #REF! | G10: =ROUND(D10*#REF!,0) -> #REF! | H10: =ROUND(D10*#REF!,0) -> #REF! | I10: =F10+G10+H10 -> #REF! | L10: =HYPERLINK("#"&#REF!&"!A"&ROW(#REF!),"X00093 →") -> #REF!
A11: X00143 | B11: 플레이트콤펙터 | C11: 1.5톤 | D11: 5.61 | E11: 시간 | F11: =ROUND(D11*#REF!,0) -> #REF! | G11: =ROUND(D11*#REF!,0) -> #REF! | H11: =ROUND(D11*#REF!,0) -> #REF! | I11: =F11+G11+H11 -> #REF! | L11: =HYPERLINK("#"&#REF!&"!A"&ROW(#REF!),"X00143 →") -> #REF!
A12: X00144 | B12: 크레인(무한궤도) | C12: 10톤(0.29㎥) | D12: 20.4 | E12: 시간 | F12: =ROUND(D12*#REF!,0) -> #REF! | G12: =ROUND(D12*#REF!,0) -> #REF! | H12: =ROUND(D12*#REF!,0) -> #REF! | I12: =F12+G12+H12 -> #REF! | L12: =HYPERLINK("#"&#REF!&"!A"&ROW(#REF!),"X00144 →") -> #REF!
A13: X00180 | B13: 트럭탑재형크레인 | C13: 10톤 | D13: 13.82 | E13: 시간 | F13: =ROUND(D13*#REF!,0) -> #REF! | G13: =ROUND(D13*#REF!,0) -> #REF! | H13: =ROUND(D13*#REF!,0) -> #REF! | I13: =F13+G13+H13 -> #REF! | L13: =HYPERLINK("#"&#REF!&"!A"&ROW(#REF!),"X00180 →") -> #REF!
A14: X00286 | B14: 콘크리트믹서 | C14: 0.20㎥ | D14: 3.2 | E14: 시간 | F14: =ROUND(D14*#REF!,0) -> #REF! | G14: =ROUND(D14*#REF!,0) -> #REF! | H14: =ROUND(D14*#REF!,0) -> #REF! | I14: =F14+G14+H14 -> #REF! | L14: =HYPERLINK("#"&#REF!&"!A"&ROW(#REF!),"X00286 →") -> #REF!
A15: X00292 | B15: 커터(콘크리트 및 아스팔트용) | C15: 320-440mm | D15: 10.09 | E15: 시간 | F15: =ROUND(D15*#REF!,0) -> #REF! | G15: =ROUND(D15*#REF!,0) -> #REF! | H15: =ROUND(D15*#REF!,0) -> #REF! | I15: =F15+G15+H15 -> #REF! | L15: =HYPERLINK("#"&#REF!&"!A"&ROW(#REF!),"X00292 →") -> #REF!
A16: X00381 | B16: 공기압축기(이동식) | C16: 3.5㎥/min | D16: 3.2 | E16: 시간 | F16: =ROUND(D16*#REF!,0) -> #REF! | G16: =ROUND(D16*#REF!,0) -> #REF! | H16: =ROUND(D16*#REF!,0) -> #REF! | I16: =F16+G16+H16 -> #REF! | L16: =HYPERLINK("#"&#REF!&"!A"&ROW(#REF!),"X00381 →") -> #REF!
A17: X00387 | B17: 소형브레이커 | C17: 1.0㎥/min | D17: 3.2 | E17: 시간 | F17: =ROUND(D17*#REF!,0) -> #REF! | G17: =ROUND(D17*#REF!,0) -> #REF! | H17: =ROUND(D17*#REF!,0) -> #REF! | I17: =F17+G17+H17 -> #REF! | L17: =HYPERLINK("#"&#REF!&"!A"&ROW(#REF!),"X00387 →") -> #REF!
A18: X00459 | B18: 물탱크(살수차) | C18: 5500ℓ | D18: 0.27 | E18: 시간 | F18: =ROUND(D18*#REF!,0) -> #REF! | G18: =ROUND(D18*#REF!,0) -> #REF! | H18: =ROUND(D18*#REF!,0) -> #REF! | I18: =F18+G18+H18 -> #REF! | L18: =HYPERLINK("#"&#REF!&"!A"&ROW(#REF!),"X00459 →") -> #REF!
A19: X01441 | B19: 굴삭기(무한궤도) | C19: 0.2㎥ | D19: 7.85 | E19: 시간 | F19: =ROUND(D19*#REF!,0) -> #REF! | G19: =ROUND(D19*#REF!,0) -> #REF! | H19: =ROUND(D19*#REF!,0) -> #REF! | I19: =F19+G19+H19 -> #REF! | L19: =HYPERLINK("#"&#REF!&"!A"&ROW(#REF!),"X01441 →") -> #REF!
A20: X02150 | B20: 굴삭기(무한궤도) | C20: 0.2㎥ | D20: 0.04 | E20: 시간 | F20: =ROUND(D20*#REF!,0) -> #REF! | G20: =ROUND(D20*#REF!,0) -> #REF! | H20: =ROUND(D20*#REF!,0) -> #REF! | I20: =F20+G20+H20 -> #REF! | L20: =HYPERLINK("#"&#REF!&"!A"&ROW(#REF!),"X02150 →") -> #REF!
A21: X02196 | B21: 덤프트럭 | C21: 15톤 | D21: 1.17 | E21: 시간 | F21: =ROUND(D21*#REF!,0) -> #REF! | G21: =ROUND(D21*#REF!,0) -> #REF! | H21: =ROUND(D21*#REF!,0) -> #REF! | I21: =F21+G21+H21 -> #REF! | L21: =HYPERLINK("#"&#REF!&"!A"&ROW(#REF!),"X02196 →") -> #REF!
A22: X03280 | B22: 굴삭기(무한궤도) | C22: 0.2㎥ | D22: 7.12 | E22: 시간 | F22: =ROUND(D22*#REF!,0) -> #REF! | G22: =ROUND(D22*#REF!,0) -> #REF! | H22: =ROUND(D22*#REF!,0) -> #REF! | I22: =F22+G22+H22 -> #REF! | L22: =HYPERLINK("#"&#REF!&"!A"&ROW(#REF!),"X03280 →") -> #REF!
A23: X04837 | B23: 대형브레이커+굴삭기조합 | C23: 0.7㎥ | D23: 14.41 | E23: 시간 | F23: =ROUND(D23*#REF!,0) -> #REF! | G23: =ROUND(D23*#REF!,0) -> #REF! | H23: =ROUND(D23*#REF!,0) -> #REF! | I23: =F23+G23+H23 -> #REF! | L23: =HYPERLINK("#"&#REF!&"!A"&ROW(#REF!),"X04837 →") -> #REF!

Sheet 〓 INITIAL 〓
B2: ※※ 현재 Sheet를 수정 또는 삭제하지 마십시요[수정/삭제시 STmate 데이타로 변환할 수 없습니다] ※※
B4: [Sheet정보] | C4: =ISERROR(SUM(C6:X15,C18:X20)) -> TRUE | D4: =ROW(C21) -> 21
B5: 목차 | C5: Sheet | D5: FPos | E5: ITNAME | F5: NAME | G5: SIZE | H5: QTY | I5: UNIT | J5: SPOS | K5: EPOS | L5: TAMT | M5: TAMOUNT | N5: MAMT | O5: MAMOUNT | P5: LAMT | Q5: LAMOUNT | R5: SAMT | S5: SAMOUNT | T5: AAMT | U5: AAMOUNT | V5: NAMT | W5: NAMOUNT | X5: INFO
B6: 1. 재료비목록표 | C6: =IF(D6="","재료비목록표",MID(D6,FIND("]",D6)+1,LEN(D6))) -> #REF! | D6: =CELL("filename",#REF!) -> #REF! | F6: =HYPERLINK("#"&C6&"!"&CHAR(COLUMN(#REF!)+64)&3,COLUMN(#REF!)) -> #REF! | G6: =HYPERLINK("#"&C6&"!"&CHAR(COLUMN(#REF!)+64)&3,COLUMN(#REF!)) -> #REF! | I6: =HYPERLINK("#"&C6&"!"&CHAR(COLUMN(#REF!)+64)&3,COLUMN(#REF!)) -> #REF! | J6: =HYPERLINK("#"&C6&"!A"&ROW(#REF!),ROW(#REF!)) -> #REF! | K6: =HYPERLINK("#"&C6&"!A"&ROW(#REF!),ROW(#REF!)) -> #REF! | L6: =HYPERLINK("#"&C6&"!"&CHAR(COLUMN(#REF!)+64)&3,COLUMN(#REF!)) -> #REF! | X6: =HYPERLINK("#"&C6&"!"&CHAR(COLUMN(#REF!)+64)&3,COLUMN(#REF!)) -> #REF!
B7: 2. 노무비목록표 | C7: =IF(D7="","노무비목록표",MID(D7,FIND("]",D7)+1,LEN(D7))) -> #REF! | D7: =CELL("filename",#REF!) -> #REF! | F7: =HYPERLINK("#"&C7&"!"&CHAR(COLUMN(#REF!)+64)&3,COLUMN(#REF!)) -> #REF! | G7: =HYPERLINK("#"&C7&"!"&CHAR(COLUMN(#REF!)+64)&3,COLUMN(#REF!)) -> #REF! | I7: =HYPERLINK("#"&C7&"!"&CHAR(COLUMN(#REF!)+64)&3,COLUMN(#REF!)) -> #REF! | J7: =HYPERLINK("#"&C7&"!A"&ROW(#REF!),ROW(#REF!)) -> #REF! | K7: =HYPERLINK("#"&C7&"!A"&ROW(#REF!),ROW(#REF!)) -> #REF! | L7: =HYPERLINK("#"&C7&"!"&CHAR(COLUMN(#REF!)+64)&3,COLUMN(#REF!)) -> #REF! | X7: =HYPERLINK("#"&C7&"!"&CHAR(COLUMN(#REF!)+64)&3,COLUMN(#REF!)) -> #REF!
B8: 3. 경비목록표 | C8: =IF(D8="","경비목록표",MID(D8,FIND("]",D8)+1,LEN(D8))) -> #REF! | D8: =CELL("filename",#REF!) -> #REF! | F8: =HYPERLINK("#"&C8&"!"&CHAR(COLUMN(#REF!)+64)&3,COLUMN(#REF!)) -> #REF! | G8: =HYPERLINK("#"&C8&"!"&CHAR(COLUMN(#REF!)+64)&3,COLUMN(#REF!)) -> #REF! | I8: =HYPERLINK("#"&C8&"!"&CHAR(COLUMN(#REF!)+64)&3,COLUMN(#REF!)) -> #REF! | J8: =HYPERLINK("#"&C8&"!A"&ROW(#REF!),ROW(#REF!)) -> #REF! | K8: =HYPERLINK("#"&C8&"!A"&ROW(#REF!),ROW(#REF!)) -> #REF! | L8: =HYPERLINK("#"&C8&"!"&CHAR(COLUMN(#REF!)+64)&3,COLUMN(#REF!)) -> #REF! | X8: =HYPERLINK("#"&C8&"!"&CHAR(COLUMN(#REF!)+64)&3,COLUMN(#REF!)) -> #REF!
B9: 4. 일식목록표
B10: 5. 환율 및 기초자료 | C10: =IF(D10="","환율및기초자료",MID(D10,FIND("]",D10)+1,LEN(D10))) -> 환율및기초자료 | D10: =CELL("filename",환율및기초자료!A1) -> D:\아자아자\공고문\공사(2026)\80.2026년 계양구 관내 민원처리 빗물받이 정비공사\[공내역서.xlsx]환율및기초자료 | E10: =HYPERLINK("#"&C10&"!"&CHAR(COLUMN(환율및기초자료!B1)+64)&5,COLUMN(환율및기초자료!B1)) -> 2 | F10: =HYPERLINK("#"&C10&"!"&CHAR(COLUMN(환율및기초자료!C1)+64)&5,COLUMN(환율및기초자료!C1)) -> 3 | G10: =HYPERLINK("#"&C10&"!"&CHAR(COLUMN(환율및기초자료!D1)+64)&5,COLUMN(환율및기초자료!D1)) -> 4 | I10: =HYPERLINK("#"&C10&"!"&CHAR(COLUMN(환율및기초자료!E1)+64)&5,COLUMN(환율및기초자료!E1)) -> 5 | J10: =HYPERLINK("#"&C10&"!A"&ROW(환율및기초자료!A6),ROW(환율및기초자료!A6)) -> 6 | K10: =HYPERLINK("#"&C10&"!A"&ROW(환율및기초자료!A16),ROW(환율및기초자료!A16)) -> 16 | L10: =HYPERLINK("#"&C10&"!"&CHAR(COLUMN(환율및기초자료!F1)+64)&5,COLUMN(환율및기초자료!F1)) -> 6 | X10: =HYPERLINK("#"&C10&"!"&CHAR(COLUMN(환율및기초자료!I1)+64)&5,COLUMN(환율및기초자료!I1)) -> 9
B11: 6. 중기목록표 | C11: =IF(D11="","중기목록표",MID(D11,FIND("]",D11)+1,LEN(D11))) -> #REF! | D11: =CELL("filename",#REF!) -> #REF! | F11: =HYPERLINK("#"&C11&"!"&CHAR(COLUMN(#REF!)+64)&3,COLUMN(#REF!)) -> #REF! | G11: =HYPERLINK("#"&C11&"!"&CHAR(COLUMN(#REF!)+64)&3,COLUMN(#REF!)) -> #REF! | I11: =HYPERLINK("#"&C11&"!"&CHAR(COLUMN(#REF!)+64)&3,COLUMN(#REF!)) -> #REF! | J11: =HYPERLINK("#"&C11&"!A"&ROW(#REF!),ROW(#REF!)) -> #REF! | K11: =HYPERLINK("#"&C11&"!A"&ROW(#REF!),ROW(#REF!)) -> #REF! | L11: =HYPERLINK("#"&C11&"!"&CHAR(COLUMN(#REF!)+64)&3,COLUMN(#REF!)) -> #REF! | N11: =HYPERLINK("#"&C11&"!"&CHAR(COLUMN(#REF!)+64)&3,COLUMN(#REF!)) -> #REF! | P11: =HYPERLINK("#"&C11&"!"&CHAR(COLUMN(#REF!)+64)&3,COLUMN(#REF!)) -> #REF! | R11: =HYPERLINK("#"&C11&"!"&CHAR(COLUMN(#REF!)+64)&3,COLUMN(#REF!)) -> #REF! | X11: =HYPERLINK("#"&C11&"!"&CHAR(COLUMN(#REF!)+64)&3,COLUMN(#REF!)) -> #REF!
B12: 7. 실적단가표
B13: 8. 일위대가목록표 | C13: =IF(D13="","일위대가목록표",MID(D13,FIND("]",D13)+1,LEN(D13))) -> #REF! | D13: =CELL("filename",#REF!) -> #REF! | F13: =HYPERLINK("#"&C13&"!"&CHAR(COLUMN(#REF!)+64)&3,COLUMN(#REF!)) -> #REF! | G13: =HYPERLINK("#"&C13&"!"&CHAR(COLUMN(#REF!)+64)&3,COLUMN(#REF!)) -> #REF! | I13: =HYPERLINK("#"&C13&"!"&CHAR(COLUMN(#REF!)+64)&3,COLUMN(#REF!)) -> #REF! | J13: =HYPERLINK("#"&C13&"!A"&ROW(#REF!),ROW(#REF!)) -> #REF! | K13: =HYPERLINK("#"&C13&"!A"&ROW(#REF!),ROW(#REF!)) -> #REF! | L13: =HYPERLINK("#"&C13&"!"&CHAR(COLUMN(#REF!)+64)&3,COLUMN(#REF!)) -> #REF! | N13: =HYPERLINK("#"&C13&"!"&CHAR(COLUMN(#REF!)+64)&3,COLUMN(#REF!)) -> #REF! | P13: =HYPERLINK("#"&C13&"!"&CHAR(COLUMN(#REF!)+64)&3,COLUMN(#REF!)) -> #REF! | R13: =HYPERLINK("#"&C13&"!"&CHAR(COLUMN(#REF!)+64)&3,COLUMN(#REF!)) -> #REF! | X13: =HYPERLINK("#"&C13&"!"&CHAR(COLUMN(#REF!)+64)&3,COLUMN(#REF!)) -> #REF!
B14: 9. 산출근거목록표 | C14: =IF(D14="","단가산출근거목록표",MID(D14,FIND("]",D14)+1,LEN(D14))) -> #REF! | D14: =CELL("filename",#REF!) -> #REF! | F14: =HYPERLINK("#"&C14&"!"&CHAR(COLUMN(#REF!)+64)&3,COLUMN(#REF!)) -> #REF! | G14: =HYPERLINK("#"&C14&"!"&CHAR(COLUMN(#REF!)+64)&3,COLUMN(#REF!)) -> #REF! | I14: =HYPERLINK("#"&C14&"!"&CHAR(COLUMN(#REF!)+64)&3,COLUMN(#REF!)) -> #REF! | J14: =HYPERLINK("#"&C14&"!A"&ROW(#REF!),ROW(#REF!)) -> #REF! | K14: =HYPERLINK("#"&C14&"!A"&ROW(#REF!),ROW(#REF!)) -> #REF! | L14: =HYPERLINK("#"&C14&"!"&CHAR(COLUMN(#REF!)+64)&3,COLUMN(#REF!)) -> #REF! | N14: =HYPERLINK("#"&C14&"!"&CHAR(COLUMN(#REF!)+64)&3,COLUMN(#REF!)) -> #REF! | P14: =HYPERLINK("#"&C14&"!"&CHAR(COLUMN(#REF!)+64)&3,COLUMN(#REF!)) -> #REF! | R14: =HYPERLINK("#"&C14&"!"&CHAR(COLUMN(#REF!)+64)&3,COLUMN(#REF!)) -> #REF! | X14: =HYPERLINK("#"&C14&"!"&CHAR(COLUMN(#REF!)+64)&3,COLUMN(#REF!)) -> #REF!
B15: 10. 자재단가대비표 | C15: =IF(D15="","자재단가대비표",MID(D15,FIND("]",D15)+1,LEN(D15))) -> #REF! | D15: =CELL("filename",#REF!) -> #REF! | F15: =HYPERLINK("#"&C15&"!"&CHAR(COLUMN(#REF!)+64)&4,COLUMN(#REF!)) -> #REF! | G15: =HYPERLINK("#"&C15&"!"&CHAR(COLUMN(#REF!)+64)&4,COLUMN(#REF!)) -> #REF! | I15: =HYPERLINK("#"&C15&"!"&CHAR(COLUMN(#REF!)+64)&4,COLUMN(#REF!)) -> #REF! | J15: =HYPERLINK("#"&C15&"!A"&ROW(#REF!),ROW(#REF!)) -> #REF! | K15: =HYPERLINK("#"&C15&"!A"&ROW(#REF!),ROW(#REF!)) -> #REF! | L15: =HYPERLINK("#"&C15&"!"&CHAR(COLUMN(#REF!)+64)&4,COLUMN(#REF!)) -> #REF! | M15: =HYPERLINK("#"&C15&"!"&CHAR(COLUMN(#REF!)+64)&4,COLUMN(#REF!)) -> #REF! | N15: =HYPERLINK("#"&C15&"!"&CHAR(COLUMN(#REF!)+64)&4,COLUMN(#REF!)) -> #REF! | O15: =HYPERLINK("#"&C15&"!"&CHAR(COLUMN(#REF!)+64)&4,COLUMN(#REF!)) -> #REF! | P15: =HYPERLINK("#"&C15&"!"&CHAR(COLUMN(#REF!)+64)&4,COLUMN(#REF!)) -> #REF! | Q15: =HYPERLINK("#"&C15&"!"&CHAR(COLUMN(#REF!)+64)&4,COLUMN(#REF!)) -> #REF! | R15: =HYPERLINK("#"&C15&"!"&CHAR(COLUMN(#REF!)+64)&4,COLUMN(#REF!)) -> #REF! | S15: =HYPERLINK("#"&C15&"!"&CHAR(COLUMN(#REF!)+64)&4,COLUMN(#REF!)) -> #REF! | T15: =HYPERLINK("#"&C15&"!"&CHAR(COLUMN(#REF!)+64)&4,COLUMN(#REF!)) -> #REF! | U15: =HYPERLINK("#"&C15&"!"&CHAR(COLUMN(#REF!)+64)&4,COLUMN(#REF!)) -> #REF! | V15: =HYPERLINK("#"&C15&"!"&CHAR(COLUMN(#REF!)+64)&4,COLUMN(#REF!)) -> #REF! | W15: =HYPERLINK("#"&C15&"!"&CHAR(COLUMN(#REF!)+64)&4,COLUMN(#REF!)) -> #REF! | X15: =HYPERLINK("#"&C15&"!"&CHAR(COLUMN(#REF!)+64)&4,COLUMN(#REF!)) -> #REF!
B16: 11. 내역서 | C16: =IF(D16="","설계내역서",MID(D16,FIND("]",D16)+1,LEN(D16))) -> 설계내역서 | D16: =CELL("filename",설계내역서!A1) -> D:\아자아자\공고문\공사(2026)\80.2026년 계양구 관내 민원처리 빗물받이 정비공사\[공내역서.xlsx]설계내역서 | E16: =HYPERLINK("#"&C16&"!"&CHAR(COLUMN(설계내역서!A1)+64)&4,COLUMN(설계내역서!A1)) -> 1 | F16: =HYPERLINK("#"&C16&"!"&CHAR(COLUMN(설계내역서!B1)+64)&4,COLUMN(설계내역서!B1)) -> 2 | G16: =HYPERLINK("#"&C16&"!"&CHAR(COLUMN(설계내역서!C1)+64)&4,COLUMN(설계내역서!C1)) -> 3 | H16: =HYPERLINK("#"&C16&"!"&CHAR(COLUMN(설계내역서!D1)+64)&4,COLUMN(설계내역서!D1)) -> 4 | I16: =HYPERLINK("#"&C16&"!"&CHAR(COLUMN(설계내역서!E1)+64)&4,COLUMN(설계내역서!E1)) -> 5 | J16: =HYPERLINK("#"&C16&"!A"&ROW(설계내역서!A5),ROW(설계내역서!A5)) -> 5 | K16: =HYPERLINK("#"&C16&"!A"&ROW(설계내역서!#REF!),ROW(설계내역서!#REF!)) -> #REF! | L16: =HYPERLINK("#"&C16&"!"&CHAR(COLUMN(설계내역서!L1)+64)&4,COLUMN(설계내역서!L1)) -> 12 | M16: =HYPERLINK("#"&C16&"!"&CHAR(COLUMN(설계내역서!M1)+64)&4,COLUMN(설계내역서!M1)) -> 13 | N16: =HYPERLINK("#"&C16&"!"&CHAR(COLUMN(설계내역서!F1)+64)&4,COLUMN(설계내역서!F1)) -> 6 | O16: =HYPERLINK("#"&C16&"!"&CHAR(COLUMN(설계내역서!G1)+64)&4,COLUMN(설계내역서!G1)) -> 7 | P16: =HYPERLINK("#"&C16&"!"&CHAR(COLUMN(설계내역서!H1)+64)&4,COLUMN(설계내역서!H1)) -> 8 | Q16: =HYPERLINK("#"&C16&"!"&CHAR(COLUMN(설계내역서!I1)+64)&4,COLUMN(설계내역서!I1)) -> 9 | R16: =HYPERLINK("#"&C16&"!"&CHAR(COLUMN(설계내역서!J1)+64)&4,COLUMN(설계내역서!J1)) -> 10 | S16: =HYPERLINK("#"&C16&"!"&CHAR(COLUMN(설계내역서!K1)+64)&4,COLUMN(설계내역서!K1)) -> 11 | X16: =HYPERLINK("#"&C16&"!"&CHAR(COLUMN(설계내역서!O1)+64)&4,COLUMN(설계내역서!O1)) -> 15
B17: 12. 총괄내역서 | C17: =IF(D17="","총괄내역서",MID(D17,FIND("]",D17)+1,LEN(D17))) -> 총괄내역서 | D17: =CELL("filename",총괄내역서!A1) -> D:\아자아자\공고문\공사(2026)\80.2026년 계양구 관내 민원처리 빗물받이 정비공사\[공내역서.xlsx]총괄내역서 | E17: =HYPERLINK("#"&C17&"!"&CHAR(COLUMN(총괄내역서!A1)+64)&3,COLUMN(총괄내역서!A1)) -> 1 | F17: =HYPERLINK("#"&C17&"!"&CHAR(COLUMN(총괄내역서!B1)+64)&3,COLUMN(총괄내역서!B1)) -> 2 | G17: =HYPERLINK("#"&C17&"!"&CHAR(COLUMN(총괄내역서!C1)+64)&3,COLUMN(총괄내역서!C1)) -> 3 | I17: =HYPERLINK("#"&C17&"!"&CHAR(COLUMN(총괄내역서!D1)+64)&3,COLUMN(총괄내역서!D1)) -> 4 | J17: =HYPERLINK("#"&C17&"!A"&ROW(총괄내역서!A4),ROW(총괄내역서!A4)) -> 4 | K17: =HYPERLINK("#"&C17&"!A"&ROW(총괄내역서!A26),ROW(총괄내역서!A26)) -> 26 | L17: =HYPERLINK("#"&C17&"!"&CHAR(COLUMN(총괄내역서!G1)+64)&3,COLUMN(총괄내역서!G1)) -> 7 | M17: =HYPERLINK("#"&C17&"!"&CHAR(COLUMN(총괄내역서!I1)+64)&3,COLUMN(총괄내역서!I1)) -> 9 | N17: =HYPERLINK("#"&C17&"!"&CHAR(COLUMN(총괄내역서!M1)+64)&3,COLUMN(총괄내역서!M1)) -> 13 | O17: =HYPERLINK("#"&C17&"!"&CHAR(COLUMN(총괄내역서!N1)+64)&3,COLUMN(총괄내역서!N1)) -> 14 | P17: =HYPERLINK("#"&C17&"!"&CHAR(COLUMN(총괄내역서!O1)+64)&3,COLUMN(총괄내역서!O1)) -> 15 | Q17: =HYPERLINK("#"&C17&"!"&CHAR(COLUMN(총괄내역서!P1)+64)&3,COLUMN(총괄내역서!P1)) -> 16 | X17: =HYPERLINK("#"&C17&"!"&CHAR(COLUMN(총괄내역서!H1)+64)&3,COLUMN(총괄내역서!H1)) -> 8
B18: 13. 중기사용료 | C18: =IF(D18="","중기사용료",MID(D18,FIND("]",D18)+1,LEN(D18))) -> #REF! | D18: =CELL("filename",#REF!) -> #REF! | F18: =HYPERLINK("#"&C18&"!"&CHAR(COLUMN(#REF!)+64)&4,COLUMN(#REF!)) -> #REF! | G18: =HYPERLINK("#"&C18&"!"&CHAR(COLUMN(#REF!)+64)&4,COLUMN(#REF!)) -> #REF! | H18: =HYPERLINK("#"&C18&"!"&CHAR(COLUMN(#REF!)+64)&4,COLUMN(#REF!)) -> #REF! | I18: =HYPERLINK("#"&C18&"!"&CHAR(COLUMN(#REF!)+64)&4,COLUMN(#REF!)) -> #REF! | J18: =HYPERLINK("#"&C18&"!A"&ROW(#REF!),ROW(#REF!)) -> #REF! | K18: =HYPERLINK("#"&C18&"!A"&ROW(#REF!),ROW(#REF!)) -> #REF! | L18: =HYPERLINK("#"&C18&"!"&CHAR(COLUMN(#REF!)+64)&4,COLUMN(#REF!)) -> #REF! | M18: =HYPERLINK("#"&C18&"!"&CHAR(COLUMN(#REF!)+64)&4,COLUMN(#REF!)) -> #REF! | N18: =HYPERLINK("#"&C18&"!"&CHAR(COLUMN(#REF!)+64)&4,COLUMN(#REF!)) -> #REF! | O18: =HYPERLINK("#"&C18&"!"&CHAR(COLUMN(#REF!)+64)&4,COLUMN(#REF!)) -> #REF! | P18: =HYPERLINK("#"&C18&"!"&CHAR(COLUMN(#REF!)+64)&4,COLUMN(#REF!)) -> #REF! | Q18: =HYPERLINK("#"&C18&"!"&CHAR(COLUMN(#REF!)+64)&4,COLUMN(#REF!)) -> #REF! | R18: =HYPERLINK("#"&C18&"!"&CHAR(COLUMN(#REF!)+64)&4,COLUMN(#REF!)) -> #REF! | S18: =HYPERLINK("#"&C18&"!"&CHAR(COLUMN(#REF!)+64)&4,COLUMN(#REF!)) -> #REF! | X18: =HYPERLINK("#"&C18&"!"&CHAR(COLUMN(#REF!)+64)&4,COLUMN(#REF!)) -> #REF!
B19: 14. 일위대가표 | C19: =IF(D19="","일위대가표",MID(D19,FIND("]",D19)+1,LEN(D19))) -> #REF! | D19: =CELL("filename",#REF!) -> #REF! | F19: =HYPERLINK("#"&C19&"!"&CHAR(COLUMN(#REF!)+64)&4,COLUMN(#REF!)) -> #REF! | G19: =HYPERLINK("#"&C19&"!"&CHAR(COLUMN(#REF!)+64)&4,COLUMN(#REF!)) -> #REF! | H19: =HYPERLINK("#"&C19&"!"&CHAR(COLUMN(#REF!)+64)&4,COLUMN(#REF!)) -> #REF! | I19: =HYPERLINK("#"&C19&"!"&CHAR(COLUMN(#REF!)+64)&4,COLUMN(#REF!)) -> #REF! | J19: =HYPERLINK("#"&C19&"!A"&ROW(#REF!),ROW(#REF!)) -> #REF! | K19: =HYPERLINK("#"&C19&"!A"&ROW(#REF!),ROW(#REF!)) -> #REF! | L19: =HYPERLINK("#"&C19&"!"&CHAR(COLUMN(#REF!)+64)&4,COLUMN(#REF!)) -> #REF! | M19: =HYPERLINK("#"&C19&"!"&CHAR(COLUMN(#REF!)+64)&4,COLUMN(#REF!)) -> #REF! | N19: =HYPERLINK("#"&C19&"!"&CHAR(COLUMN(#REF!)+64)&4,COLUMN(#REF!)) -> #REF! | O19: =HYPERLINK("#"&C19&"!"&CHAR(COLUMN(#REF!)+64)&4,COLUMN(#REF!)) -> #REF! | P19: =HYPERLINK("#"&C19&"!"&CHAR(COLUMN(#REF!)+64)&4,COLUMN(#REF!)) -> #REF! | Q19: =HYPERLINK("#"&C19&"!"&CHAR(COLUMN(#REF!)+64)&4,COLUMN(#REF!)) -> #REF! | R19: =HYPERLINK("#"&C19&"!"&CHAR(COLUMN(#REF!)+64)&4,COLUMN(#REF!)) -> #REF! | S19: =HYPERLINK("#"&C19&"!"&CHAR(COLUMN(#REF!)+64)&4,COLUMN(#REF!)) -> #REF! | X19: =HYPERLINK("#"&C19&"!"&CHAR(COLUMN(#REF!)+64)&4,COLUMN(#REF!)) -> #REF!
B20: 15. 단가산출근거 | C20: =IF(D20="","단가산출근거",MID(D20,FIND("]",D20)+1,LEN(D20))) -> #REF! | D20: =CELL("filename",#REF!) -> #REF! | E20: =HYPERLINK("#"&C20&"!"&CHAR(COLUMN(#REF!)+64)&4,COLUMN(#REF!)) -> #REF! | F20: =HYPERLINK("#"&C20&"!"&CHAR(COLUMN(#REF!)+64)&4,COLUMN(#REF!)) -> #REF! | J20: =HYPERLINK("#"&C20&"!A"&ROW(#REF!),ROW(#REF!)) -> #REF! | K20: =HYPERLINK("#"&C20&"!A"&ROW(#REF!),ROW(#REF!)) -> #REF! | L20: =HYPERLINK("#"&C20&"!"&CHAR(COLUMN(#REF!)+64)&4,COLUMN(#REF!)) -> #REF! | N20: =HYPERLINK("#"&C20&"!"&CHAR(COLUMN(#REF!)+64)&4,COLUMN(#REF!)) -> #REF! | P20: =HYPERLINK("#"&C20&"!"&CHAR(COLUMN(#REF!)+64)&4,COLUMN(#REF!)) -> #REF! | R20: =HYPERLINK("#"&C20&"!"&CHAR(COLUMN(#REF!)+64)&4,COLUMN(#REF!)) -> #REF! | X20: =HYPERLINK("#"&C20&"!"&CHAR(COLUMN(#REF!)+64)&4,COLUMN(#REF!)) -> #REF!
B21: [공사정보] | D21: =ROW(C30) -> 30
B22: M_VER | C22: 9.83
B23: PNAME | C23: 2020년 하수도 구조물 정비공사(1구역)
B24: PCLAS | C24: 0
B25: SCLAS | C25: 0
B26: K_ORD | C26: 0
B27: PRIPR | C27: True
B28: ACTYP | C28: 1
B29: ACTOP | C29: 2
B30: [초기값] | D30: =ROW(C49) -> 49
B31: P_ORD | C31: 1 | D31: 1 | E31: 0 | F31: 0 | G31: 0 | H31: 0 | I31: 0 | J31: 0 | K31: 0 | L31: 0
B32: EXNM_ | C32: =환율및기초자료!C3 -> 1466 | D32: =환율및기초자료!D3 -> 1466 | E32: =환율및기초자료!C3 -> 1466 | F32: =환율및기초자료!D3 -> 1466 | G32: =환율및기초자료!E3 -> 1000 | H32: =환율및기초자료!E3 -> 1000 | I32: =환율및기초자료!G3 -> 1000 | J32: =환율및기초자료!G3 -> 1000
B33: EXRNM | C33: True
B34: RXNM_ | C34: 1/8 * 16/12 * 25/20 | E34: 1/8*16/12*25/20*24/15 | F34: 1/8*16/12*25/20*12/10
B35: COND_ | C35: L00054L00001L00047L00048L00049L00050L00052L00053L00055L00132L00133L00134L00135L00142L00145L00254L00255L00256L00258L00259L00312L00313L00314L00315L00322L00325L00434L00435L00436L00438L00439L00551L00552L00553L00554L00555L00556L00559L00560L00561L00562L00563L00659L00739L00740L00741L00743L00744L00791L00792L00793L00795L00815L00828L00829L00830L00840L00853L00854L00855L00871L00900L00901L00902L00912L00913L00914L00927L00928L00929L00930L00937L00940L01049L01050L01051L01053L01054L01107L01108L01109L01110L01117L01120L01229L01230L01231L01233L01234L01286L01287L01288L01289L01296L01299L01408L01409L01410L01412L01413L01525L01526L01527L01528L01529L01530L01533L01534L01535L01536L01537L01633L01713L01714L01715L01717L01718L01765L01766L01767L01769L01789L01802L01803L01804L01814L01827L01828L01829L01845L01874L01875L01876L01881L01884
B36: KCDNM | C36: 1
B37: JCDNM | C37: 1
B38: ECDNM | C38: 0
B39: ACDNM | C39: 1
B40: BPNNM | C40: 1
B41: ZCDNM | C41: 2
B42: CHGNM | C42: True
B43: CHBNM | C43: True
B44: CHNNM | C44: True
B45: CUTNM | C45: True
B46: OPTNM | C46: MLS
... B48: SUBNM | C48: 인천광역시 계양구청(건설과)
B49: [인쇄정보] | D49: =ROW(C72) -> 72
B50: BMSTR | C50: 재 료 비 | D50: 노 무 비 | E50: 경 비 | F50: 합 계
B51: BMKNM | C51: MLST
B52: JEMNM | C52: 123456
B53: JMKN1 | C53: 가격 정보 | D53: 가.정
B54: JMKN2 | C54: 물가 자료 | D54: 물.자
B55: JMKN3 | C55: 물가 정보 | D55: 물.정
B56: JMKN4 | C56: 거래 가격 | D56: 거.가
B57: JMKN5 | C57: 유통 물가 | D57: 유.물
B58: JMKN6 | C58: 적용 단가
B59: CAP_CODE | C59: 코드번호
B60: CAP_NO | C60: 호표
B61: CAP_IBRD | C61: 분류번호
B62: CAP_EQCOD | C62: 시설코드
B63: CAP_ITNUM | C63: 공 종
B64: CAP_NAME | C64: 명 칭
B65: CAP_SIZE | C65: 규 격
B66: CAP_QTY | C66: 수 량
B67: CAP_SUNIT | C67: 단위
B68: CAP_AMT | C68: 단 가
B69: CAP_PAGE | C69: 페이지
... B71: CAP_BIGO | C71: 비 고
B72: [PREPARE] | D72: =ROW(C76) -> 76
B73: PREP_VER | C73: w9.83
B74: PREP_COP | C74: 계양구청 건설과 #01
B75: PREP_DATE | C75: 2020-02-25
B76: [.끝.]
