Workbook
Name _: #N/A
Name _1: #N/A
Name _1._PANEL_BD.__LP___1: #REF!
Name _10: #N/A
Name _11: #N/A
Name _12: #N/A
Name _13: #N/A
Name _13_3_0Crite: #REF!
Name _14: #N/A
Name _14_3_0Criteria: #REF!
Name _15: #N/A
Name _15_3__Crite: #REF!
Name _16: #N/A
Name _16_3__Criteria: #REF!
Name _17: #N/A
Name _18: #N/A
Name _19: #N/A
Name _1t3_: #REF!
Name _1공장: #REF!
Name _2: #N/A
Name _20: #N/A
Name _21: #N/A
Name _22: #N/A
Name _23: #N/A
Name _24: #N/A
Name _25: #N/A
Name _25G_0Extr: #REF!
Name _26: #N/A
Name _26G_0Extract: #REF!
Name _27: #N/A
Name _27G__Extr: #REF!
Name _28: #N/A
Name _28G__Extract: #REF!
Name _29: #N/A
Name _2T4_: #REF!
Name _2공장: #REF!
Name _3: #N/A
Name _30: #N/A
Name _31: #N/A
Name _32: #N/A
Name _33: #N/A
Name _34: #N/A
Name _35: #N/A
Name _36: #N/A
Name _37: #N/A
Name _38: #N/A
Name _39: #N/A
Name _3a1_: #REF!
Name _3공장: #REF!
Name _4: #N/A
Name _40: #N/A
Name _41: #N/A
Name _42: #N/A
Name _43: #N/A
Name _44: #N/A
Name _45: #N/A
Name _46: #N/A
Name _47: #N/A
Name _48: #N/A
Name _49: #N/A

Sheet 갑지
B5: 2026년도
A7: 홍천2지구 수리시설개보수사업 설계안전성검토 용역
I9: ■ 위 치 : | M9: - 강원특별자치도 홍천군 일원
I11: ■ 용역개요 : | M11: - 설계안전성 검토 용역 1식
H17: ■ 금 액 : | L17: =" " & TEXT(내역서!F19, "0,000") & "원 (일금 " &NUMBERSTRING(내역서!F19, 1) & "원)" -> 8,690,000원 (일금 팔백육십구만원)

Sheet 산출근거
B2: [용역비 산출근거]
C3: 1. 직접인건비
D4: 품목 및 수량 산출근거 | F4: ◦ 설계의 안전성 검토 표준품셈(산업통상자원부, 2024.01)
D5: 노무비 단가 산출근거 | F5: ◦ 2025 엔지니어링업체 임금실태조사결과 공포(한국엔지니어링협회 기획홍보팀-1515호(2025.12.02)
C7: 2. 제 경 비
D8: 제 경 비 산출근거 | F8: ◦ 건설기술용역 대가 등에 관한 기준
F9: ◦ 적용 기준 : 직접인건비의 110 ~ 120%
F10: =" ◦ 본 내역서에는 직접인건비의 110% 적용. (엔지니어링사업대가의 기준(산업통상자원부고시 제2024-217호)" -> ◦ 본 내역서에는 직접인건비의 110% 적용. (엔지니어링사업대가의 기준(산업통상자원부고시 제2024-217호)
C12: 3. 기 술 료
D13: 기 술 료 산출근거 | F13: ◦ 건설기술용역 대가 등에 관한 기준
F14: ◦ 적용 기준 : 직접인건비에 제경비를 합한 금액의 20 ~ 40%
F15: =" ◦ 본 내역서에는 직접인건비에 제경비를 합한 금액의 20% 적용 (산업통상자원부고시 제2024-217호)" -> ◦ 본 내역서에는 직접인건비에 제경비를 합한 금액의 20% 적용 (산업통상자원부고시 제2024-217호)

Sheet 내역서
B1: 내 역 서
B2: 공종 | C2: 규격 | D2: 수량 | E2: 단위 | F2: 총액 | G2: 노 무 비 | I2: 재 료 비 | K2: 경 비 | M2: 비고
F3: 금액 | G3: 단가 | H3: 금액 | I3: 단가 | J3: 금액 | K3: 단가 | L3: 금액
B4: 1. 직접인건비 | D4: 1 | E4: 식 | F4: =SUM(F5:F9) -> 2695399 | H4: =SUM(H5:H9) -> 2695399
B5: 기술사 | D5: ='투입인원수산정(토목)'!K28*0.8 -> 1.54816 | E5: 인 | F5: =H5+J5+L5 -> 723326 | G5: 467217 | H5: =ROUNDDOWN(D5*G5,0) -> 723326 | M5: 0.8
B6: 특급기술자 | D6: ='투입인원수산정(토목)'!L28*0.7 -> 2.03336 | E6: 인 | F6: =H6+J6+L6 -> 759161 | G6: 373353 | H6: =ROUNDDOWN(D6*G6,0) -> 759161 | M6: 0.7
B7: 고급기술자 | D7: ='투입인원수산정(토목)'!M28*0.7 -> 2.06836 | E7: 인 | F7: =H7+J7+L7 -> 643020 | G7: 310884 | H7: =ROUNDDOWN(D7*G7,0) -> 643020 | M7: 0.7
B8: 중급기술자 | D8: ='투입인원수산정(토목)'!N28*0.7 -> 1.35576 | E8: 인 | F8: =H8+J8+L8 -> 400136 | G8: 295138 | H8: =ROUNDDOWN(D8*G8,0) -> 400136 | M8: 0.7
B9: 초급기술자 | D9: ='투입인원수산정(토목)'!O28*0.8 -> 0.72096 | E9: 인 | F9: =H9+J9+L9 -> 169756 | G9: 235459 | H9: =ROUNDDOWN(D9*G9,0) -> 169756 | M9: 0.8
B10: 2. 직접경비 | D10: 1 | E10: 식 | F10: =SUM(F11:F12) -> 1040596
B11: 인쇄/복사비 | D11: 1 | E11: 식 | F11: =100000-25422-33982 -> 40596 | L11: =ROUNDDOWN(K11*D11,0) -> 0
B12: 가설구조물 구조검토비 | D12: 1 | E12: 식 | F12: =H12+J12+L12 -> 1000000 | G12: 1000000 | H12: =ROUNDDOWN(D12*G12,0) -> 1000000 | M12: 거푸집 및 동바리
B13: 3. 제 경 비 | C13: 직접인건비의 110% | D13: 110 | E13: % | F13: =H13+J13+L13 -> 2964938 | K13: =H4 -> 2695399 | L13: =ROUNDDOWN(K13*D13%,0) -> 2964938
B14: 4. 기 술 료 | C14: (직접인건비+제경비)*20% | D14: 20 | E14: % | F14: =H14+J14+L14 -> 1132067 | K14: =H4+F13 -> 5660337 | L14: =ROUNDDOWN(K14*D14%,0) -> 1132067
B15: 5. 순용역비 | C15: 1+2+3+4 | F15: =ROUNDDOWN(F4+F10+F13+F14,0) -> 7833000
B16: 6. 손해배상공제료 | D16: 1 | E16: 식 | F16: ='엔지니어링 손해배상'!H14 -> 67000
B17: 7. 국토안전관리원 검토비 | D17: 1 | E17: 식 | M17: 발주처부담
B18: 8. 부가가치세 | C18: 0.1 | F18: =(F15+F16)*0.1 -> 790000
B19: 합 계 | D19: 1 | E19: 식 | F19: =(F15+F16)+F18 -> 8690000

Sheet 투입인원수산정(토목)
A1: ▣ 투입인원수 산정
A3: 기본업무 | B3: 단위 | C3: 기준인원수(인.일/단위) | H3: 환산계수 | J3: 보정계수 | K3: 적용인원수(인.일/단위)
C4: 기술사 | D4: 특급 기술자 | E4: 고급 기술자 | F4: 중급 기술자 | G4: 초급 기술자 | H4: 적용 항목 | I4: 값 | K4: 기술사 | L4: 특급 기술자 | M4: 고급 기술자 | N4: 중급 기술자 | O4: 초급 기술자
A5: 1. 대상사업 개요 및 결과요약
A6: 1.1 대상사업 개요 | B6: 식 | F6: 0.05 | G6: 0.1 | H6: ① | I6: =환산계수!E$5 -> 1 | K6: =C6*$I6 -> 0 | L6: =D6*$I6 -> 0 | M6: =E6*$I6 -> 0 | N6: =F6*$I6 -> 0.05 | O6: =G6*$I6 -> 0.1
A7: 1.2 결과요약 | B7: 식 | E7: 0.05 | F7: 0.1 | H7: ① | I7: =환산계수!E$5 -> 1 | K7: =C7*$I7 -> 0 | L7: =D7*$I7 -> 0 | M7: =E7*$I7 -> 0.05 | N7: =F7*$I7 -> 0.1 | O7: =G7*$I7 -> 0
A8: 2. 설계 안전성 검토 절차
A9: 2.1 설계 안전성 검토 목표 | B9: 식 | C9: 0.1 | H9: ① | I9: =환산계수!E$5 -> 1 | K9: =C9*$I9 -> 0.1 | L9: =D9*$I9 -> 0 | M9: =E9*$I9 -> 0 | N9: =F9*$I9 -> 0 | O9: =G9*$I9 -> 0
A10: 2.2 설계 안전성 검토 수행절차 및 일정 | B10: 식 | F10: 0.05 | G10: 0.1 | H10: ① | I10: =환산계수!E$5 -> 1 | K10: =C10*$I10 -> 0 | L10: =D10*$I10 -> 0 | M10: =E10*$I10 -> 0 | N10: =F10*$I10 -> 0.05 | O10: =G10*$I10 -> 0.1
A11: 2.3 설계 안전성 검토 참여자 구성 | B11: 식 | G11: 0.05 | H11: ① | I11: =환산계수!E$5 -> 1 | K11: =C11*$I11 -> 0 | L11: =D11*$I11 -> 0 | M11: =E11*$I11 -> 0 | N11: =F11*$I11 -> 0 | O11: =G11*$I11 -> 0.05
A12: 2.4 검토 자료 | B12: 공사비 | C12: 0.1 | D12: 0.3 | E12: 0.3 | F12: 0.3 | G12: 0.5 | H12: ② | I12: =환산계수!E$6 -> 0.668 | J12: =보정계수!E$6 -> 1 | K12: =C12*I$12*J$12 -> 0.0668 | L12: =D12*$I$12*$J$12 -> 0.2004 | M12: =E12*$I$12*$J$12 -> 0.2004 | N12: =F12*$I$12*$J$12 -> 0.2004 | O12: =G12*$I$12*$J$12 -> 0.334
A13: 2.5 관계자 교육 | B13: 회 | C13: 0.3 | D13: 0.5 | E13: 0.5 | H13: ③ | I13: =환산계수!E$10 -> 1 | K13: =C13*$I13 -> 0.3 | L13: =D13*$I13 -> 0.5 | M13: =E13*$I13 -> 0.5 | N13: =F13*$I13 -> 0 | O13: =G13*$I13 -> 0
A14: 3. 설계 안전성 평가 | K14: =C14*$I14 -> 0 | L14: =D14*$I14 -> 0 | M14: =E14*$I14 -> 0 | N14: =F14*$I14 -> 0 | O14: =G14*$I14 -> 0
A15: 3.1 발생빈도, 심각성의 등급 및 기준 | B15: 식 | G15: 0.05 | H15: ① | I15: =환산계수!E$5 -> 1 | K15: =C15*$I15 -> 0 | L15: =D15*$I15 -> 0 | M15: =E15*$I15 -> 0 | N15: =F15*$I15 -> 0 | O15: =G15*$I15 -> 0.05
A16: 3.2 위험성 허용수준 | B16: 회 | C16: 0.3 | H16: ③ | I16: =환산계수!E$10 -> 1 | K16: =C16*$I16 -> 0.3 | L16: =D16*$I16 -> 0 | M16: =E16*$I16 -> 0 | N16: =F16*$I16 -> 0 | O16: =G16*$I16 -> 0
A17: 3.3 공종별 위험요소 도출
A18: 3.3.1 위험요소 인식 및 도출 | B18: 공사비 | C18: 0.5 | D18: 1.5 | E18: 1.5 | F18: 1.5 | H18: ② | I18: =환산계수!E$6 -> 0.668 | J18: =보정계수!E$6 -> 1 | K18: =C18*$I$18*$J$18 -> 0.334 | L18: =D18*$I$18*$J$18 -> 1.002 | M18: =E18*$I$18*$J$18 -> 1.002 | N18: =F18*$I$18*$J$18 -> 1.002 | O18: =G18*$I$18*$J$18 -> 0
A19: 3.3.2 사고유형 분석 | B19: 공사비 | G19: 0.1 | H19: ② | I19: =환산계수!E$6 -> 0.668 | K19: =C19*$I19 -> 0 | L19: =D19*$I19 -> 0 | M19: =E19*$I19 -> 0 | N19: =F19*$I19 -> 0 | O19: =G19*$I19 -> 0.0668
A20: 3.4 위험요소별 관리주체 선정 및 설계안전성 검토 반영 | B20: 공사비 | E20: 0.2 | H20: ② | I20: =환산계수!E$6 -> 0.668 | K20: =C20*$I20 -> 0 | L20: =D20*$I20 -> 0 | M20: =E20*$I20 -> 0.1336 | N20: =F20*$I20 -> 0 | O20: =G20*$I20 -> 0
A21: 3.5 위험요소별 위험성평가 | B21: 공사비 | E21: 0.2 | H21: ② | I21: =환산계수!E$6 -> 0.668 | K21: =C21*$I21 -> 0 | L21: =D21*$I21 -> 0 | M21: =E21*$I21 -> 0.1336 | N21: =F21*$I21 -> 0 | O21: =G21*$I21 -> 0
A22: 3.6 위험요소별 저감대책
A23: 3.6.1 저감대책 선정 협의사항 | B23: 회 | C23: 0.3 | H23: ③ | I23: =환산계수!E$10 -> 1 | K23: =C23*$I23 -> 0.3 | L23: =D23*$I23 -> 0 | M23: =E23*$I23 -> 0 | N23: =F23*$I23 -> 0 | O23: =G23*$I23 -> 0
A24: 3.6.2 위험요소별 저감대책 | B24: 공사비 | C24: 0.5 | D24: 1 | E24: 0.5 | F24: 0.5 | H24: ② | I24: =환산계수!E$6 -> 0.668 | J24: =보정계수!E$6 -> 1 | K24: =C24*$I24 -> 0.334 | L24: =D24*$I24 -> 0.668 | M24: =E24*$I24 -> 0.334 | N24: =F24*$I24 -> 0.334 | O24: =G24*$I24 -> 0
A25: 4. 위험성 평가표 요약 | B25: 공사비 | E25: 0.2 | H25: ② | I25: =환산계수!E$6 -> 0.668 | K25: =C25*$I25 -> 0 | L25: =D25*$I25 -> 0 | M25: =E25*$I25 -> 0.1336 | N25: =F25*$I25 -> 0 | O25: =G25*$I25 -> 0
A26: 5. 잔여 위험요소 | B26: 공사비 | E26: 0.2 | H26: ② | I26: =환산계수!E$6 -> 0.668 | K26: =C26*$I26 -> 0 | L26: =D26*$I26 -> 0 | M26: =E26*$I26 -> 0.1336 | N26: =F26*$I26 -> 0 | O26: =G26*$I26 -> 0
A27: 6. 성과품 작성 | B27: 공사비 | C27: 0.3 | D27: 0.8 | E27: 0.5 | F27: 0.3 | G27: 0.3 | H27: ② | I27: =환산계수!E$6 -> 0.668 | K27: =C27*$I27 -> 0.2004 | L27: =D27*$I27 -> 0.5344 | M27: =E27*$I27 -> 0.334 | N27: =F27*$I27 -> 0.2004 | O27: =G27*$I27 -> 0.2004
A28: 합 계 | K28: =SUM(K5:K27) -> 1.9352 | L28: =SUM(L5:L27) -> 2.9048 | M28: =SUM(M5:M27) -> 2.9548 | N28: =SUM(N5:N27) -> 1.9368 | O28: =SUM(O5:O27) -> 0.9012

Sheet 환산계수
A1: ▣ 환산계수 산정
A3: 1. 환산계수 산정 | D3: 공사금액: | E3: 13 | F3: 억원
A4: 구분 | B4: 항목 | C4: 세부내용 | E4: 적용계수 | F4: 비고
A5: 환산계수 | B5: ① 식 | C5: ∙ 0.7~1.3 | E5: =보정계수!$E$6 -> 1 | F5: 소수점 셋째 자리에서 반올림 | H5: 값 | I5: 지수 | J5: 제곱근
B6: ② 공사비 | C6: ∙ M ≤ 3억원, | D6: 0.43 | E6: =J7 -> 0.668 | J6: 0.43
C7: ∙ 3억원 < M ≤ 50억원, | H7: =(E3/50) -> 0.26 | I7: 0.3 | J7: =ROUND(POWER(H7,I7),3) -> 0.668
C8: ∙ 50억원 < M, | H8: =(E3/50) -> 0.26 | I8: 0.35 | J8: =ROUND(POWER(H8,I8),3) -> 0.624
C9: * M = 공사비(억원)
B10: ③ 교육 및 협의 | C10: ∙ S | E10: 1
C11: * S = 교육 및 협의 횟수(회)
A12: * 공사비란, 발주청의 공사비 총 예정금액(자재대 포함) 중 용지비, 보상비, 법률 수속비 및 부가가치세를 제외한 일체의 금액

Sheet 보정계수
A1: ▣ 보정계수 산정
A3: 2. 보정계수 산정
A4: 2.1 시설물 종류별 난이도에 따른 보정계수
B5: 구분 | C5: 보정계수 | E5: 적용계수
B6: 단순 | C6: 0.7이상 0.9미만 | E6: 1
B7: 보통 | C7: 0.9이상 1.1미만
B8: 복잡 | C8: 1.1이상 1.3이하
A10: 2.2 시설물 종류에 따른 난이도
B11: 대분류 | C11: 중분류 | D11: 소분류 | E11: 세분류 | F11: 난이도
B12: 토목 | C12: 공동구 | D12: 공동구 | F12: 단순
C13: 교량 | D13: 도로 및 철도교량 | E13: 일반 도로교량 | F13: 보통
D14: 복개구조물 | E14: 사장교, 현수교, 트러스교 1,2종시설물 및 특허공법 적용시 | F14: 복잡
D15: 기타 | F15: 보통
C16: 댐 | D16: 용수전용댐 | F16: 복잡
D17: 홍수전용댐 | F17: 복잡
D18: 발전용댐 | F18: 복잡
D19: 다목적댐 | F19: 복잡
D20: 기타 | F20: 복잡
C21: 도로 | D21: 도로 | E21: 일반도로공사 | F21: 단순
E22: 구조물 복합공종(교량 및 터널포함) | F22: 복잡
D23: 기타 | F23: 단순
C24: 상하수도 | D24: 상수도 및 하수도 | E24: 일반관로공사 | F24: 단순
E25: 구조물(수처리시설) 복합공종 | F25: 복잡
D26: 기타 | F26: 단순
C27: 옹벽 및 절토사면 | D27: 옹벽 | F27: 단순
D28: 절토사면 | F28: 보통
D29: 기타 | F29: 단순
C30: 철도 | D30: 일반 및 고속철도 | F30: 복잡
D31: 지하철 | F31: 복잡
D32: 기타 | F32: 복잡
C33: 터널 | D33: 철도터널 | F33: 복잡
D34: 도로터널 | F34: 복잡
D35: 지하차도 | E35: 일반 지하차도 | F35: 보통
E36: 터널식 공법인 경우 | F36: 복잡
D37: 기타 | F37: 복잡
C38: 하천 | D38: 하구둑 | F38: 복잡
D39: 방조제 | F39: 복잡
D40: 관개수로 | F40: 단순
D41: 배수펌프장 | F41: 보통
D42: 보 | F42: 보통
D43: 수문 및 통문 | F43: 보통
D44: 제방(통관/호안) | F44: 단순
D45: 기타 | F45: 단순
C46: 항만 | D46: 갑문 | F46: 복잡
D47: 계류시설 | F47: 복잡
D48: 파제제 | F48: 보통
D49: 호안 | F49: 보통
D50: 방파제 | F50: 보통
D51: 기타 | F51: 보통
C52: 기타 | D52: 부지조성 및 택개발 | F52: 복잡
D53: 간척매립 | F53: 단순
D54: 조경 | F54: 보통
A55: 주 1) 복합공정(2개 이상 시설물)의 경우에는 난이도가 높은 보정계수를 적용한다.
A56: 예시) 하천설계 시 “제방(단순) + 수문(보통)”의 경우, 수문(보통)의 보정계수 적용
A57: 2) 폭발물을 사용하는 건설공사는 ‘복잡’으로 적용한다.

Sheet 노임 단가

Sheet 국토안전관리원 설계안전성 검토비용

Sheet 엔지니어링 손해배상
A1: ▣ 엔지니어링 손해배상 공제료
A2: 1. 공제요율 : 엔지니어링공제조합 자료(『엔지니어링 손해배상보험(공제) 의무가입제도』)
A3: 구 분 | E3: 기본요율 | G3: 가산요율 | I3: 2단계 공제율 | K3: 비고
A4: 분석(타당성 조사, 평가, 시험), 계약, 검사(시험운전, 안전성 검토, 설계의 경제성 및 기능성 검토, 시스템의 분석 및 관리) : 건설부문 평균 | E4: 0.00569 | G4: 0.00091 | I4: 0.0016
A5: ( 주 ) 1. 엔지니어링 손해배상공제료 = 1단계 공제료 + 2단계 공제료
A6: 2. 1단계 공제료 = 순계약금액 × [기본요율 + {가산요율 × (표준사업기간초과일수/365)}]
A7: 3. 2단계 공제료 = 순계약금액 × 0.16%
A9: 2. 손해보험 보험료 산정
A10: 구 분 | C10: 산 식 | J10: 비 고
A11: 1. 용역비 | C11: =내역서!F15 -> 7833000 | J11: 총괄내역 참조
A12: 2. 1단계 공제료 | C12: =C11 -> 7833000 | E12: × | F12: 0.00697 | G12: = | H12: =F12*C12 -> 54596.01
A13: 3. 2단계 공제료 | C13: =C11 -> 7833000 | E13: × | F13: =I4 -> 0.0016 | G13: = | H13: =F13*C13 -> 12532.8
A14: 4. 총 공제료 | G14: = | H14: =ROUNDDOWN(SUM(H12:I13),-3) -> 67000
