Workbook

Sheet 내역서(고창고)
A1: 내 역 서
A3: 품 명 | B3: 규 격 | C3: 단위 | D3: 수 량 | E3: 재 료 비 | G3: 노 무 비 | I3: 경 비 | K3: 합 계 | M3: 비고
E4: 단 가 | F4: 금 액 | G4: 단 가 | H4: 금 액 | I4: 단 가 | J4: 금 액 | K4: 단 가 | L4: 금 액 | N4: 손료요율 | O4: 손료구분 | P4: 적용구분 | Q4: 합계구분 | R4: 기계경비 | S4: 운반비 | T4: 작업부산물 | U4: 관급 | V4: 외주비 | W4: 장비비 | X4: 폐기물처리비 | Y4: 가설비 | Z4: 잡비제외분 | AA4: 사급자재대 | AB4: 관급자재대 | AC4: 사용자항목1 | AD4: 사용자항목2 | AE4: 안전관리비 | AF4: 품질관리비 | AG4: 사용자항목5 | AH4: 사용자항목6 | AI4: 사용자항목7 | AJ4: 사용자항목8 | AK4: 사용자항목9 | AL4: 사용자항목10 | AM4: 사용자항목11 | AN4: 사용자항목12 | AO4: 사용자항목13 | AP4: 사용자항목14 | AQ4: 사용자항목15 | AR4: 사용자항목16 | AS4: 사용자항목17 | AT4: 사용자항목18 | AU4: 사용자항목19 | AV4: 간접재료비 | AW4: 품목구분 | AX4: 조달코드
A5: 01. 가설공사
A6: 고소작업차 | B6: 5TON | C6: HR | D6: 16 | O6: ="" | P6: 기계경비 | Q6: 1 | R6: =IF(P6="기계경비", J6, 0) -> 0 | S6: =IF(P6="운반비", J6, 0) -> 0 | T6: =IF(P6="작업부산물", F6, 0) -> 0 | U6: =IF(P6="관급", F6, 0) -> 0 | V6: =IF(P6="외주비", J6, 0) -> 0 | W6: =IF(P6="장비비", J6, 0) -> 0 | X6: =IF(P6="폐기물처리비", L6, 0) -> 0 | Y6: =IF(P6="가설비", J6, 0) -> 0 | Z6: =IF(P6="잡비제외분", F6, 0) -> 0 | AA6: =IF(P6="사급자재대", L6, 0) -> 0 | AB6: =IF(P6="관급자재대", L6, 0) -> 0 | AC6: =IF(P6="사용자항목1", L6, 0) -> 0 | AD6: =IF(P6="사용자항목2", L6, 0) -> 0 | AE6: =IF(P6="안전관리비", L6, 0) -> 0 | AF6: =IF(P6="품질관리비", L6, 0) -> 0 | AG6: =IF(P6="사용자항목5", L6, 0) -> 0 | AH6: =IF(P6="사용자항목6", L6, 0) -> 0 | AI6: =IF(P6="사용자항목7", L6, 0) -> 0 | AJ6: =IF(P6="사용자항목8", L6, 0) -> 0 | AK6: =IF(P6="사용자항목9", L6, 0) -> 0 | AL6: =IF(P6="사용자항목10", L6, 0) -> 0 | AM6: =IF(P6="사용자항목11", L6, 0) -> 0 | AN6: =IF(P6="사용자항목12", L6, 0) -> 0 | AO6: =IF(P6="사용자항목13", L6, 0) -> 0 | AP6: =IF(P6="사용자항목14", L6, 0) -> 0 | AQ6: =IF(P6="사용자항목15", L6, 0) -> 0 | AR6: =IF(P6="사용자항목16", L6, 0) -> 0 | AS6: =IF(P6="사용자항목17", L6, 0) -> 0 | AT6: =IF(P6="사용자항목18", L6, 0) -> 0 | AU6: =IF(P6="사용자항목19", L6, 0) -> 0
A20: 합 계 | R20: =ROUNDDOWN(SUM(R6:R6), 0) -> 0 | S20: =ROUNDDOWN(SUM(S6:S6), 0) -> 0 | T20: =ROUNDDOWN(SUM(T6:T6), 0) -> 0 | U20: =ROUNDDOWN(SUM(U6:U6), 0) -> 0 | V20: =ROUNDDOWN(SUM(V6:V6), 0) -> 0 | W20: =ROUNDDOWN(SUM(W6:W6), 0) -> 0 | X20: =ROUNDDOWN(SUM(X6:X6), 0) -> 0 | Y20: =ROUNDDOWN(SUM(Y6:Y6), 0) -> 0 | ... AX20: =ROUNDDOWN(SUM(AX6:AX6), 0) -> 0
A21: 02. 방수공사
A22: 홍학관
A23: 폴리우레아방수코팅 | B23: 구조물방수용, 2.0T | C23: M2 | D23: 443.7 | O23: ="01" -> 01 | P23: 기계경비 | Q23: 1 | R23: =IF(P23="기계경비", J23, 0) -> 0 | S23: =IF(P23="운반비", J23, 0) -> 0 | T23: =IF(P23="작업부산물", F23, 0) -> 0 | U23: =IF(P23="관급", F23, 0) -> 0 | V23: =IF(P23="외주비", J23, 0) -> 0 | W23: =IF(P23="장비비", J23, 0) -> 0 | X23: =IF(P23="폐기물처리비", L23, 0) -> 0 | Y23: =IF(P23="가설비", J23, 0) -> 0 | Z23: =IF(P23="잡비제외분", F23, 0) -> 0 | AA23: =IF(P23="사급자재대", L23, 0) -> 0 | AB23: =IF(P23="관급자재대", L23, 0) -> 0 | AC23: =IF(P23="사용자항목1", L23, 0) -> 0 | AD23: =IF(P23="사용자항목2", L23, 0) -> 0 | AE23: =IF(P23="안전관리비", L23, 0) -> 0 | AF23: =IF(P23="품질관리비", L23, 0) -> 0 | AG23: =IF(P23="사용자항목5", L23, 0) -> 0 | AH23: =IF(P23="사용자항목6", L23, 0) -> 0 | AI23: =IF(P23="사용자항목7", L23, 0) -> 0 | AJ23: =IF(P23="사용자항목8", L23, 0) -> 0 | AK23: =IF(P23="사용자항목9", L23, 0) -> 0 | AL23: =IF(P23="사용자항목10", L23, 0) -> 0 | AM23: =IF(P23="사용자항목11", L23, 0) -> 0 | AN23: =IF(P23="사용자항목12", L23, 0) -> 0 | AO23: =IF(P23="사용자항목13", L23, 0) -> 0 | AP23: =IF(P23="사용자항목14", L23, 0) -> 0 | AQ23: =IF(P23="사용자항목15", L23, 0) -> 0 | AR23: =IF(P23="사용자항목16", L23, 0) -> 0 | AS23: =IF(P23="사용자항목17", L23, 0) -> 0 | AT23: =IF(P23="사용자항목18", L23, 0) -> 0 | AU23: =IF(P23="사용자항목19", L23, 0) -> 0
A24: 폴리우레아방수코팅 | B24: 구조물방수용, 2.0T | C24: M2 | D24: 136.4
A25: 바탕처리 | B25: 보통, 바닥 | C25: M2 | D25: 443.7 | O25: ="" | P25: 기계경비 | Q25: 1 | R25: =IF(P25="기계경비", J25, 0) -> 0 | S25: =IF(P25="운반비", J25, 0) -> 0 | T25: =IF(P25="작업부산물", F25, 0) -> 0 | U25: =IF(P25="관급", F25, 0) -> 0 | V25: =IF(P25="외주비", J25, 0) -> 0 | W25: =IF(P25="장비비", J25, 0) -> 0 | X25: =IF(P25="폐기물처리비", L25, 0) -> 0 | Y25: =IF(P25="가설비", J25, 0) -> 0 | Z25: =IF(P25="잡비제외분", F25, 0) -> 0 | AA25: =IF(P25="사급자재대", L25, 0) -> 0 | AB25: =IF(P25="관급자재대", L25, 0) -> 0 | AC25: =IF(P25="사용자항목1", L25, 0) -> 0 | AD25: =IF(P25="사용자항목2", L25, 0) -> 0 | AE25: =IF(P25="안전관리비", L25, 0) -> 0 | AF25: =IF(P25="품질관리비", L25, 0) -> 0 | AG25: =IF(P25="사용자항목5", L25, 0) -> 0 | AH25: =IF(P25="사용자항목6", L25, 0) -> 0 | AI25: =IF(P25="사용자항목7", L25, 0) -> 0 | AJ25: =IF(P25="사용자항목8", L25, 0) -> 0 | AK25: =IF(P25="사용자항목9", L25, 0) -> 0 | AL25: =IF(P25="사용자항목10", L25, 0) -> 0 | AM25: =IF(P25="사용자항목11", L25, 0) -> 0 | AN25: =IF(P25="사용자항목12", L25, 0) -> 0 | AO25: =IF(P25="사용자항목13", L25, 0) -> 0 | AP25: =IF(P25="사용자항목14", L25, 0) -> 0 | AQ25: =IF(P25="사용자항목15", L25, 0) -> 0 | AR25: =IF(P25="사용자항목16", L25, 0) -> 0 | AS25: =IF(P25="사용자항목17", L25, 0) -> 0 | AT25: =IF(P25="사용자항목18", L25, 0) -> 0 | AU25: =IF(P25="사용자항목19", L25, 0) -> 0
A26: 바탕처리 | B26: 보통, 수직부 | C26: M2 | D26: 136.4
A28: 역시관
A29: 폴리우레아방수코팅 | B29: 구조물방수용, 2.0T | C29: M2 | D29: 406
A30: 폴리우레아방수코팅 | B30: 구조물방수용, 2.0T | C30: M2 | D30: 129.2
A31: 바탕처리 | B31: 보통, 수직부(우레탄철거포함) | C31: M2 | D31: 129.2
A39: 합 계 | R39: =ROUNDDOWN(SUM(R23:R25), 0) -> 0 | S39: =ROUNDDOWN(SUM(S23:S25), 0) -> 0 | T39: =ROUNDDOWN(SUM(T23:T25), 0) -> 0 | U39: =ROUNDDOWN(SUM(U23:U25), 0) -> 0 | V39: =ROUNDDOWN(SUM(V23:V25), 0) -> 0 | W39: =ROUNDDOWN(SUM(W23:W25), 0) -> 0 | X39: =ROUNDDOWN(SUM(X23:X25), 0) -> 0 | Y39: =ROUNDDOWN(SUM(Y23:Y25), 0) -> 0 | ... AX39: =ROUNDDOWN(SUM(AX23:AX25), 0) -> 0
A40: 03. 철거공사
A41: 기존방수층 제거 및 바탕처리 | B41: 바닥(역사관) | C41: M2 | D41: 396 | O41: ="" | P41: 기계경비 | Q41: 1 | R41: =IF(P41="기계경비", J41, 0) -> 0 | S41: =IF(P41="운반비", J41, 0) -> 0 | T41: =IF(P41="작업부산물", F41, 0) -> 0 | U41: =IF(P41="관급", F41, 0) -> 0 | V41: =IF(P41="외주비", J41, 0) -> 0 | W41: =IF(P41="장비비", J41, 0) -> 0 | X41: =IF(P41="폐기물처리비", L41, 0) -> 0 | Y41: =IF(P41="가설비", J41, 0) -> 0 | Z41: =IF(P41="잡비제외분", F41, 0) -> 0 | AA41: =IF(P41="사급자재대", L41, 0) -> 0 | AB41: =IF(P41="관급자재대", L41, 0) -> 0 | AC41: =IF(P41="사용자항목1", L41, 0) -> 0 | AD41: =IF(P41="사용자항목2", L41, 0) -> 0 | AE41: =IF(P41="안전관리비", L41, 0) -> 0 | AF41: =IF(P41="품질관리비", L41, 0) -> 0 | AG41: =IF(P41="사용자항목5", L41, 0) -> 0 | AH41: =IF(P41="사용자항목6", L41, 0) -> 0 | AI41: =IF(P41="사용자항목7", L41, 0) -> 0 | AJ41: =IF(P41="사용자항목8", L41, 0) -> 0 | AK41: =IF(P41="사용자항목9", L41, 0) -> 0 | AL41: =IF(P41="사용자항목10", L41, 0) -> 0 | AM41: =IF(P41="사용자항목11", L41, 0) -> 0 | AN41: =IF(P41="사용자항목12", L41, 0) -> 0 | AO41: =IF(P41="사용자항목13", L41, 0) -> 0 | AP41: =IF(P41="사용자항목14", L41, 0) -> 0 | AQ41: =IF(P41="사용자항목15", L41, 0) -> 0 | AR41: =IF(P41="사용자항목16", L41, 0) -> 0 | AS41: =IF(P41="사용자항목17", L41, 0) -> 0 | AT41: =IF(P41="사용자항목18", L41, 0) -> 0 | AU41: =IF(P41="사용자항목19", L41, 0) -> 0
A55: 합 계 | R55: =ROUNDDOWN(SUM(R41:R41), 0) -> 0 | S55: =ROUNDDOWN(SUM(S41:S41), 0) -> 0 | T55: =ROUNDDOWN(SUM(T41:T41), 0) -> 0 | U55: =ROUNDDOWN(SUM(U41:U41), 0) -> 0 | V55: =ROUNDDOWN(SUM(V41:V41), 0) -> 0 | W55: =ROUNDDOWN(SUM(W41:W41), 0) -> 0 | X55: =ROUNDDOWN(SUM(X41:X41), 0) -> 0 | Y55: =ROUNDDOWN(SUM(Y41:Y41), 0) -> 0 | ... AX55: =ROUNDDOWN(SUM(AX41:AX41), 0) -> 0
A56: 04. 폐기물처리비
A57: 건설폐기물수집운반비(운반비) | B57: 16톤 암롤트럭, 30km | C57: 톤 | D57: 4.99 | O57: ="03" -> 03 | P57: 기계경비 | Q57: 1 | R57: =IF(P57="기계경비", J57, 0) -> 0 | S57: =IF(P57="운반비", J57, 0) -> 0 | T57: =IF(P57="작업부산물", F57, 0) -> 0 | U57: =IF(P57="관급", F57, 0) -> 0 | V57: =IF(P57="외주비", J57, 0) -> 0 | W57: =IF(P57="장비비", J57, 0) -> 0 | X57: =IF(P57="폐기물처리비", L57, 0) -> 0 | Y57: =IF(P57="가설비", J57, 0) -> 0 | Z57: =IF(P57="잡비제외분", F57, 0) -> 0 | AA57: =IF(P57="사급자재대", L57, 0) -> 0 | AB57: =IF(P57="관급자재대", L57, 0) -> 0 | AC57: =IF(P57="사용자항목1", L57, 0) -> 0 | AD57: =IF(P57="사용자항목2", L57, 0) -> 0 | AE57: =IF(P57="안전관리비", L57, 0) -> 0 | AF57: =IF(P57="품질관리비", L57, 0) -> 0 | AG57: =IF(P57="사용자항목5", L57, 0) -> 0 | AH57: =IF(P57="사용자항목6", L57, 0) -> 0 | AI57: =IF(P57="사용자항목7", L57, 0) -> 0 | AJ57: =IF(P57="사용자항목8", L57, 0) -> 0 | AK57: =IF(P57="사용자항목9", L57, 0) -> 0 | AL57: =IF(P57="사용자항목10", L57, 0) -> 0 | AM57: =IF(P57="사용자항목11", L57, 0) -> 0 | AN57: =IF(P57="사용자항목12", L57, 0) -> 0 | AO57: =IF(P57="사용자항목13", L57, 0) -> 0 | AP57: =IF(P57="사용자항목14", L57, 0) -> 0 | AQ57: =IF(P57="사용자항목15", L57, 0) -> 0 | AR57: =IF(P57="사용자항목16", L57, 0) -> 0 | AS57: =IF(P57="사용자항목17", L57, 0) -> 0 | AT57: =IF(P57="사용자항목18", L57, 0) -> 0 | AU57: =IF(P57="사용자항목19", L57, 0) -> 0
A58: 폐자재처리수수료 | B58: 혼합폐기물 | C58: 톤 | D58: 4.99 | O58: ="03" -> 03 | P58: 기계경비 | Q58: 1 | R58: =IF(P58="기계경비", J58, 0) -> 0 | S58: =IF(P58="운반비", J58, 0) -> 0 | T58: =IF(P58="작업부산물", F58, 0) -> 0 | U58: =IF(P58="관급", F58, 0) -> 0 | V58: =IF(P58="외주비", J58, 0) -> 0 | W58: =IF(P58="장비비", J58, 0) -> 0 | X58: =IF(P58="폐기물처리비", L58, 0) -> 0 | Y58: =IF(P58="가설비", J58, 0) -> 0 | Z58: =IF(P58="잡비제외분", F58, 0) -> 0 | AA58: =IF(P58="사급자재대", L58, 0) -> 0 | AB58: =IF(P58="관급자재대", L58, 0) -> 0 | AC58: =IF(P58="사용자항목1", L58, 0) -> 0 | AD58: =IF(P58="사용자항목2", L58, 0) -> 0 | AE58: =IF(P58="안전관리비", L58, 0) -> 0 | AF58: =IF(P58="품질관리비", L58, 0) -> 0 | AG58: =IF(P58="사용자항목5", L58, 0) -> 0 | AH58: =IF(P58="사용자항목6", L58, 0) -> 0 | AI58: =IF(P58="사용자항목7", L58, 0) -> 0 | AJ58: =IF(P58="사용자항목8", L58, 0) -> 0 | AK58: =IF(P58="사용자항목9", L58, 0) -> 0 | AL58: =IF(P58="사용자항목10", L58, 0) -> 0 | AM58: =IF(P58="사용자항목11", L58, 0) -> 0 | AN58: =IF(P58="사용자항목12", L58, 0) -> 0 | AO58: =IF(P58="사용자항목13", L58, 0) -> 0 | AP58: =IF(P58="사용자항목14", L58, 0) -> 0 | AQ58: =IF(P58="사용자항목15", L58, 0) -> 0 | AR58: =IF(P58="사용자항목16", L58, 0) -> 0 | AS58: =IF(P58="사용자항목17", L58, 0) -> 0 | AT58: =IF(P58="사용자항목18", L58, 0) -> 0 | AU58: =IF(P58="사용자항목19", L58, 0) -> 0
A59: 건설폐기물수집운반비(상차비) | B59: 16톤 암롤트럭, 30km | C59: 톤 | D59: 4.99 | O59: ="03" -> 03 | P59: 기계경비 | Q59: 1 | R59: =IF(P59="기계경비", J59, 0) -> 0 | S59: =IF(P59="운반비", J59, 0) -> 0 | T59: =IF(P59="작업부산물", F59, 0) -> 0 | U59: =IF(P59="관급", F59, 0) -> 0 | V59: =IF(P59="외주비", J59, 0) -> 0 | W59: =IF(P59="장비비", J59, 0) -> 0 | X59: =IF(P59="폐기물처리비", L59, 0) -> 0 | Y59: =IF(P59="가설비", J59, 0) -> 0 | Z59: =IF(P59="잡비제외분", F59, 0) -> 0 | AA59: =IF(P59="사급자재대", L59, 0) -> 0 | AB59: =IF(P59="관급자재대", L59, 0) -> 0 | AC59: =IF(P59="사용자항목1", L59, 0) -> 0 | AD59: =IF(P59="사용자항목2", L59, 0) -> 0 | AE59: =IF(P59="안전관리비", L59, 0) -> 0 | AF59: =IF(P59="품질관리비", L59, 0) -> 0 | AG59: =IF(P59="사용자항목5", L59, 0) -> 0 | AH59: =IF(P59="사용자항목6", L59, 0) -> 0 | AI59: =IF(P59="사용자항목7", L59, 0) -> 0 | AJ59: =IF(P59="사용자항목8", L59, 0) -> 0 | AK59: =IF(P59="사용자항목9", L59, 0) -> 0 | AL59: =IF(P59="사용자항목10", L59, 0) -> 0 | AM59: =IF(P59="사용자항목11", L59, 0) -> 0 | AN59: =IF(P59="사용자항목12", L59, 0) -> 0 | AO59: =IF(P59="사용자항목13", L59, 0) -> 0 | AP59: =IF(P59="사용자항목14", L59, 0) -> 0 | AQ59: =IF(P59="사용자항목15", L59, 0) -> 0 | AR59: =IF(P59="사용자항목16", L59, 0) -> 0 | AS59: =IF(P59="사용자항목17", L59, 0) -> 0 | AT59: =IF(P59="사용자항목18", L59, 0) -> 0 | AU59: =IF(P59="사용자항목19", L59, 0) -> 0
A71: 합 계 | R71: =ROUNDDOWN(SUM(R57:R59), 0) -> 0 | S71: =ROUNDDOWN(SUM(S57:S59), 0) -> 0 | T71: =ROUNDDOWN(SUM(T57:T59), 0) -> 0 | U71: =ROUNDDOWN(SUM(U57:U59), 0) -> 0 | V71: =ROUNDDOWN(SUM(V57:V59), 0) -> 0 | W71: =ROUNDDOWN(SUM(W57:W59), 0) -> 0 | X71: =ROUNDDOWN(SUM(X57:X59), 0) -> 0 | Y71: =ROUNDDOWN(SUM(Y57:Y59), 0) -> 0 | ... AX71: =ROUNDDOWN(SUM(AX57:AX59), 0) -> 0
A72: 05. 관급자재대
A73: 폴리우레아방수코팅 | B73: 구조물방수용, 2.0T | C73: M2 | D73: 1115.3 | O73: ="01" -> 01 | P73: 관급자재대 | Q73: 1 | R73: =IF(P73="기계경비", J73, 0) -> 0 | S73: =IF(P73="운반비", J73, 0) -> 0 | T73: =IF(P73="작업부산물", F73, 0) -> 0 | U73: =IF(P73="관급", F73, 0) -> 0 | V73: =IF(P73="외주비", J73, 0) -> 0 | W73: =IF(P73="장비비", J73, 0) -> 0 | X73: =IF(P73="폐기물처리비", L73, 0) -> 0 | Y73: =IF(P73="가설비", J73, 0) -> 0 | Z73: =IF(P73="잡비제외분", F73, 0) -> 0 | AA73: =IF(P73="사급자재대", L73, 0) -> 0 | AB73: =IF(P73="관급자재대", L73, 0) -> 0 | AC73: =IF(P73="사용자항목1", L73, 0) -> 0 | AD73: =IF(P73="사용자항목2", L73, 0) -> 0 | AE73: =IF(P73="안전관리비", L73, 0) -> 0 | AF73: =IF(P73="품질관리비", L73, 0) -> 0 | AG73: =IF(P73="사용자항목5", L73, 0) -> 0 | AH73: =IF(P73="사용자항목6", L73, 0) -> 0 | AI73: =IF(P73="사용자항목7", L73, 0) -> 0 | AJ73: =IF(P73="사용자항목8", L73, 0) -> 0 | AK73: =IF(P73="사용자항목9", L73, 0) -> 0 | AL73: =IF(P73="사용자항목10", L73, 0) -> 0 | AM73: =IF(P73="사용자항목11", L73, 0) -> 0 | AN73: =IF(P73="사용자항목12", L73, 0) -> 0 | AO73: =IF(P73="사용자항목13", L73, 0) -> 0 | AP73: =IF(P73="사용자항목14", L73, 0) -> 0 | AQ73: =IF(P73="사용자항목15", L73, 0) -> 0 | AR73: =IF(P73="사용자항목16", L73, 0) -> 0 | AS73: =IF(P73="사용자항목17", L73, 0) -> 0 | AT73: =IF(P73="사용자항목18", L73, 0) -> 0 | AU73: =IF(P73="사용자항목19", L73, 0) -> 0
A74: 조달수수료 | C74: ％ | D74: 0.54 | N74: 0.0054 | O74: ="" | P74: 관급자재대 | Q74: 1 | R74: =IF(P74="기계경비", J74, 0) -> 0 | S74: =IF(P74="운반비", J74, 0) -> 0 | T74: =IF(P74="작업부산물", F74, 0) -> 0 | U74: =IF(P74="관급", F74, 0) -> 0 | V74: =IF(P74="외주비", J74, 0) -> 0 | W74: =IF(P74="장비비", J74, 0) -> 0 | X74: =IF(P74="폐기물처리비", L74, 0) -> 0 | Y74: =IF(P74="가설비", J74, 0) -> 0 | Z74: =IF(P74="잡비제외분", F74, 0) -> 0 | AA74: =IF(P74="사급자재대", L74, 0) -> 0 | AB74: =IF(P74="관급자재대", L74, 0) -> 0 | AC74: =IF(P74="사용자항목1", L74, 0) -> 0 | AD74: =IF(P74="사용자항목2", L74, 0) -> 0 | AE74: =IF(P74="안전관리비", L74, 0) -> 0 | AF74: =IF(P74="품질관리비", L74, 0) -> 0 | AG74: =IF(P74="사용자항목5", L74, 0) -> 0 | AH74: =IF(P74="사용자항목6", L74, 0) -> 0 | AI74: =IF(P74="사용자항목7", L74, 0) -> 0 | AJ74: =IF(P74="사용자항목8", L74, 0) -> 0 | AK74: =IF(P74="사용자항목9", L74, 0) -> 0 | AL74: =IF(P74="사용자항목10", L74, 0) -> 0 | AM74: =IF(P74="사용자항목11", L74, 0) -> 0 | AN74: =IF(P74="사용자항목12", L74, 0) -> 0 | AO74: =IF(P74="사용자항목13", L74, 0) -> 0 | AP74: =IF(P74="사용자항목14", L74, 0) -> 0 | AQ74: =IF(P74="사용자항목15", L74, 0) -> 0 | AR74: =IF(P74="사용자항목16", L74, 0) -> 0 | AS74: =IF(P74="사용자항목17", L74, 0) -> 0 | AT74: =IF(P74="사용자항목18", L74, 0) -> 0 | AU74: =IF(P74="사용자항목19", L74, 0) -> 0
A75: 단수정리 | D75: -1 | O75: ="" | P75: 관급자재대 | Q75: 1 | R75: =IF(P75="기계경비", J75, 0) -> 0 | S75: =IF(P75="운반비", J75, 0) -> 0 | T75: =IF(P75="작업부산물", F75, 0) -> 0 | U75: =IF(P75="관급", F75, 0) -> 0 | V75: =IF(P75="외주비", J75, 0) -> 0 | W75: =IF(P75="장비비", J75, 0) -> 0 | X75: =IF(P75="폐기물처리비", L75, 0) -> 0 | Y75: =IF(P75="가설비", J75, 0) -> 0 | Z75: =IF(P75="잡비제외분", F75, 0) -> 0 | AA75: =IF(P75="사급자재대", L75, 0) -> 0 | AB75: =IF(P75="관급자재대", L75, 0) -> 0 | AC75: =IF(P75="사용자항목1", L75, 0) -> 0 | AD75: =IF(P75="사용자항목2", L75, 0) -> 0 | AE75: =IF(P75="안전관리비", L75, 0) -> 0 | AF75: =IF(P75="품질관리비", L75, 0) -> 0 | AG75: =IF(P75="사용자항목5", L75, 0) -> 0 | AH75: =IF(P75="사용자항목6", L75, 0) -> 0 | AI75: =IF(P75="사용자항목7", L75, 0) -> 0 | AJ75: =IF(P75="사용자항목8", L75, 0) -> 0 | AK75: =IF(P75="사용자항목9", L75, 0) -> 0 | AL75: =IF(P75="사용자항목10", L75, 0) -> 0 | AM75: =IF(P75="사용자항목11", L75, 0) -> 0 | AN75: =IF(P75="사용자항목12", L75, 0) -> 0 | AO75: =IF(P75="사용자항목13", L75, 0) -> 0 | AP75: =IF(P75="사용자항목14", L75, 0) -> 0 | AQ75: =IF(P75="사용자항목15", L75, 0) -> 0 | AR75: =IF(P75="사용자항목16", L75, 0) -> 0 | AS75: =IF(P75="사용자항목17", L75, 0) -> 0 | AT75: =IF(P75="사용자항목18", L75, 0) -> 0 | AU75: =IF(P75="사용자항목19", L75, 0) -> 0
A87: 합 계 | R87: =ROUNDDOWN(SUM(R73:R75), 0) -> 0 | S87: =ROUNDDOWN(SUM(S73:S75), 0) -> 0 | T87: =ROUNDDOWN(SUM(T73:T75), 0) -> 0 | U87: =ROUNDDOWN(SUM(U73:U75), 0) -> 0 | V87: =ROUNDDOWN(SUM(V73:V75), 0) -> 0 | W87: =ROUNDDOWN(SUM(W73:W75), 0) -> 0 | X87: =ROUNDDOWN(SUM(X73:X75), 0) -> 0 | Y87: =ROUNDDOWN(SUM(Y73:Y75), 0) -> 0 | ... AX87: =ROUNDDOWN(SUM(AX73:AX75), 0) -> 0

Sheet 내역서(심원초)
A1: 내 역 서
A3: 품 명 | B3: 규 격 | C3: 단위 | D3: 수 량 | E3: 재 료 비 | G3: 노 무 비 | I3: 경 비 | K3: 합 계 | M3: 비고
E4: 단 가 | F4: 금 액 | G4: 단 가 | H4: 금 액 | I4: 단 가 | J4: 금 액 | K4: 단 가 | L4: 금 액 | N4: 손료요율 | O4: 손료구분 | P4: 적용구분 | Q4: 합계구분 | R4: 기계경비 | S4: 운반비 | T4: 작업부산물 | U4: 관급 | V4: 외주비 | W4: 장비비 | X4: 폐기물처리비 | Y4: 가설비 | Z4: 잡비제외분 | AA4: 사급자재대 | AB4: 관급자재대 | AC4: 사용자항목1 | AD4: 사용자항목2 | AE4: 안전관리비 | AF4: 품질관리비 | AG4: 사용자항목5 | AH4: 사용자항목6 | AI4: 사용자항목7 | AJ4: 사용자항목8 | AK4: 사용자항목9 | AL4: 사용자항목10 | AM4: 사용자항목11 | AN4: 사용자항목12 | AO4: 사용자항목13 | AP4: 사용자항목14 | AQ4: 사용자항목15 | AR4: 사용자항목16 | AS4: 사용자항목17 | AT4: 사용자항목18 | AU4: 사용자항목19 | AV4: 간접재료비 | AW4: 품목구분 | AX4: 조달코드
A5: 심원초 옥상방수 및 기타 | C5: 1 | D5: 식 | E5: =F21+F40+F57+F74 -> 0 | F5: =E5*C5 -> 0 | G5: =H21+H40+H57+H74 -> 0 | H5: =C5*G5 -> 0 | I5: =J21+J40+J57+J74 -> 0 | J5: =C5*I5 -> 0 | K5: =E5+G5+I5 -> 0 | L5: =F5+H5+J5 -> 0
A6: 01. 가설공사
A7: 고소작업차 | B7: 5TON | C7: HR | D7: 16 | O7: ="" | P7: 기계경비 | Q7: 1 | R7: =IF(P7="기계경비", J7, 0) -> 0 | S7: =IF(P7="운반비", J7, 0) -> 0 | T7: =IF(P7="작업부산물", F7, 0) -> 0 | U7: =IF(P7="관급", F7, 0) -> 0 | V7: =IF(P7="외주비", J7, 0) -> 0 | W7: =IF(P7="장비비", J7, 0) -> 0 | X7: =IF(P7="폐기물처리비", L7, 0) -> 0 | Y7: =IF(P7="가설비", J7, 0) -> 0 | Z7: =IF(P7="잡비제외분", F7, 0) -> 0 | AA7: =IF(P7="사급자재대", L7, 0) -> 0 | AB7: =IF(P7="관급자재대", L7, 0) -> 0 | AC7: =IF(P7="사용자항목1", L7, 0) -> 0 | AD7: =IF(P7="사용자항목2", L7, 0) -> 0 | AE7: =IF(P7="안전관리비", L7, 0) -> 0 | AF7: =IF(P7="품질관리비", L7, 0) -> 0 | AG7: =IF(P7="사용자항목5", L7, 0) -> 0 | AH7: =IF(P7="사용자항목6", L7, 0) -> 0 | AI7: =IF(P7="사용자항목7", L7, 0) -> 0 | AJ7: =IF(P7="사용자항목8", L7, 0) -> 0 | AK7: =IF(P7="사용자항목9", L7, 0) -> 0 | AL7: =IF(P7="사용자항목10", L7, 0) -> 0 | AM7: =IF(P7="사용자항목11", L7, 0) -> 0 | AN7: =IF(P7="사용자항목12", L7, 0) -> 0 | AO7: =IF(P7="사용자항목13", L7, 0) -> 0 | AP7: =IF(P7="사용자항목14", L7, 0) -> 0 | AQ7: =IF(P7="사용자항목15", L7, 0) -> 0 | AR7: =IF(P7="사용자항목16", L7, 0) -> 0 | AS7: =IF(P7="사용자항목17", L7, 0) -> 0 | AT7: =IF(P7="사용자항목18", L7, 0) -> 0 | AU7: =IF(P7="사용자항목19", L7, 0) -> 0
A21: 합 계 | R21: =ROUNDDOWN(SUM(R7:R7), 0) -> 0 | S21: =ROUNDDOWN(SUM(S7:S7), 0) -> 0 | T21: =ROUNDDOWN(SUM(T7:T7), 0) -> 0 | U21: =ROUNDDOWN(SUM(U7:U7), 0) -> 0 | V21: =ROUNDDOWN(SUM(V7:V7), 0) -> 0 | W21: =ROUNDDOWN(SUM(W7:W7), 0) -> 0 | X21: =ROUNDDOWN(SUM(X7:X7), 0) -> 0 | Y21: =ROUNDDOWN(SUM(Y7:Y7), 0) -> 0 | ... AX21: =ROUNDDOWN(SUM(AX7:AX7), 0) -> 0
A22: 02. 방수공사
A23: 심원초
A24: 폴리우레아방수코팅 | B24: 구조물방수용, 2.0T | C24: M2 | D24: 557.2 | O24: ="01" -> 01 | P24: 기계경비 | Q24: 1 | R24: =IF(P24="기계경비", J24, 0) -> 0 | S24: =IF(P24="운반비", J24, 0) -> 0 | T24: =IF(P24="작업부산물", F24, 0) -> 0 | U24: =IF(P24="관급", F24, 0) -> 0 | V24: =IF(P24="외주비", J24, 0) -> 0 | W24: =IF(P24="장비비", J24, 0) -> 0 | X24: =IF(P24="폐기물처리비", L24, 0) -> 0 | Y24: =IF(P24="가설비", J24, 0) -> 0 | Z24: =IF(P24="잡비제외분", F24, 0) -> 0 | AA24: =IF(P24="사급자재대", L24, 0) -> 0 | AB24: =IF(P24="관급자재대", L24, 0) -> 0 | AC24: =IF(P24="사용자항목1", L24, 0) -> 0 | AD24: =IF(P24="사용자항목2", L24, 0) -> 0 | AE24: =IF(P24="안전관리비", L24, 0) -> 0 | AF24: =IF(P24="품질관리비", L24, 0) -> 0 | AG24: =IF(P24="사용자항목5", L24, 0) -> 0 | AH24: =IF(P24="사용자항목6", L24, 0) -> 0 | AI24: =IF(P24="사용자항목7", L24, 0) -> 0 | AJ24: =IF(P24="사용자항목8", L24, 0) -> 0 | AK24: =IF(P24="사용자항목9", L24, 0) -> 0 | AL24: =IF(P24="사용자항목10", L24, 0) -> 0 | AM24: =IF(P24="사용자항목11", L24, 0) -> 0 | AN24: =IF(P24="사용자항목12", L24, 0) -> 0 | AO24: =IF(P24="사용자항목13", L24, 0) -> 0 | AP24: =IF(P24="사용자항목14", L24, 0) -> 0 | AQ24: =IF(P24="사용자항목15", L24, 0) -> 0 | AR24: =IF(P24="사용자항목16", L24, 0) -> 0 | AS24: =IF(P24="사용자항목17", L24, 0) -> 0 | AT24: =IF(P24="사용자항목18", L24, 0) -> 0 | AU24: =IF(P24="사용자항목19", L24, 0) -> 0
A25: 폴리우레아방수코팅 | B25: 구조물방수용, 2.0T | C25: M2 | D25: 118.8
A26: 바탕처리 | B26: 보통, 수직부(우레탄철거포함) | C26: M2 | D26: 118.8 | O26: ="" | P26: 기계경비 | Q26: 1 | R26: =IF(P26="기계경비", J26, 0) -> 0 | S26: =IF(P26="운반비", J26, 0) -> 0 | T26: =IF(P26="작업부산물", F26, 0) -> 0 | U26: =IF(P26="관급", F26, 0) -> 0 | V26: =IF(P26="외주비", J26, 0) -> 0 | W26: =IF(P26="장비비", J26, 0) -> 0 | X26: =IF(P26="폐기물처리비", L26, 0) -> 0 | Y26: =IF(P26="가설비", J26, 0) -> 0 | Z26: =IF(P26="잡비제외분", F26, 0) -> 0 | AA26: =IF(P26="사급자재대", L26, 0) -> 0 | AB26: =IF(P26="관급자재대", L26, 0) -> 0 | AC26: =IF(P26="사용자항목1", L26, 0) -> 0 | AD26: =IF(P26="사용자항목2", L26, 0) -> 0 | AE26: =IF(P26="안전관리비", L26, 0) -> 0 | AF26: =IF(P26="품질관리비", L26, 0) -> 0 | AG26: =IF(P26="사용자항목5", L26, 0) -> 0 | AH26: =IF(P26="사용자항목6", L26, 0) -> 0 | AI26: =IF(P26="사용자항목7", L26, 0) -> 0 | AJ26: =IF(P26="사용자항목8", L26, 0) -> 0 | AK26: =IF(P26="사용자항목9", L26, 0) -> 0 | AL26: =IF(P26="사용자항목10", L26, 0) -> 0 | AM26: =IF(P26="사용자항목11", L26, 0) -> 0 | AN26: =IF(P26="사용자항목12", L26, 0) -> 0 | AO26: =IF(P26="사용자항목13", L26, 0) -> 0 | AP26: =IF(P26="사용자항목14", L26, 0) -> 0 | AQ26: =IF(P26="사용자항목15", L26, 0) -> 0 | AR26: =IF(P26="사용자항목16", L26, 0) -> 0 | AS26: =IF(P26="사용자항목17", L26, 0) -> 0 | AT26: =IF(P26="사용자항목18", L26, 0) -> 0 | AU26: =IF(P26="사용자항목19", L26, 0) -> 0
A27: 외벽발수제 도포 | B27: 롤러 2회, 줄눈보수 | C27: M2 | D27: 122.24
A40: 합 계 | R40: =ROUNDDOWN(SUM(R24:R26), 0) -> 0 | S40: =ROUNDDOWN(SUM(S24:S26), 0) -> 0 | T40: =ROUNDDOWN(SUM(T24:T26), 0) -> 0 | U40: =ROUNDDOWN(SUM(U24:U26), 0) -> 0 | V40: =ROUNDDOWN(SUM(V24:V26), 0) -> 0 | W40: =ROUNDDOWN(SUM(W24:W26), 0) -> 0 | X40: =ROUNDDOWN(SUM(X24:X26), 0) -> 0 | Y40: =ROUNDDOWN(SUM(Y24:Y26), 0) -> 0 | ... AX40: =ROUNDDOWN(SUM(AX24:AX26), 0) -> 0
A41: 03. 지붕 및 홈통공사
A42: 선홈통 스텐레스파이프 | B42: D100mm*1.5t이하 | C42: M | D42: 7.07 | O42: ="01" -> 01 | P42: 기계경비 | Q42: 1 | R42: =IF(P42="기계경비", J42, 0) -> 0 | S42: =IF(P42="운반비", J42, 0) -> 0 | T42: =IF(P42="작업부산물", F42, 0) -> 0 | U42: =IF(P42="관급", F42, 0) -> 0 | V42: =IF(P42="외주비", J42, 0) -> 0 | W42: =IF(P42="장비비", J42, 0) -> 0 | X42: =IF(P42="폐기물처리비", L42, 0) -> 0 | Y42: =IF(P42="가설비", J42, 0) -> 0 | Z42: =IF(P42="잡비제외분", F42, 0) -> 0 | AA42: =IF(P42="사급자재대", L42, 0) -> 0 | AB42: =IF(P42="관급자재대", L42, 0) -> 0 | AC42: =IF(P42="사용자항목1", L42, 0) -> 0 | AD42: =IF(P42="사용자항목2", L42, 0) -> 0 | AE42: =IF(P42="안전관리비", L42, 0) -> 0 | AF42: =IF(P42="품질관리비", L42, 0) -> 0 | AG42: =IF(P42="사용자항목5", L42, 0) -> 0 | AH42: =IF(P42="사용자항목6", L42, 0) -> 0 | AI42: =IF(P42="사용자항목7", L42, 0) -> 0 | AJ42: =IF(P42="사용자항목8", L42, 0) -> 0 | AK42: =IF(P42="사용자항목9", L42, 0) -> 0 | AL42: =IF(P42="사용자항목10", L42, 0) -> 0 | AM42: =IF(P42="사용자항목11", L42, 0) -> 0 | AN42: =IF(P42="사용자항목12", L42, 0) -> 0 | AO42: =IF(P42="사용자항목13", L42, 0) -> 0 | AP42: =IF(P42="사용자항목14", L42, 0) -> 0 | AQ42: =IF(P42="사용자항목15", L42, 0) -> 0 | AR42: =IF(P42="사용자항목16", L42, 0) -> 0 | AS42: =IF(P42="사용자항목17", L42, 0) -> 0 | AT42: =IF(P42="사용자항목18", L42, 0) -> 0 | AU42: =IF(P42="사용자항목19", L42, 0) -> 0
O44: ="" | P44: 기계경비 | Q44: 1 | R44: =IF(P44="기계경비", J44, 0) -> 0 | S44: =IF(P44="운반비", J44, 0) -> 0 | T44: =IF(P44="작업부산물", F44, 0) -> 0 | U44: =IF(P44="관급", F44, 0) -> 0 | V44: =IF(P44="외주비", J44, 0) -> 0 | W44: =IF(P44="장비비", J44, 0) -> 0 | X44: =IF(P44="폐기물처리비", L44, 0) -> 0 | Y44: =IF(P44="가설비", J44, 0) -> 0 | Z44: =IF(P44="잡비제외분", F44, 0) -> 0 | AA44: =IF(P44="사급자재대", L44, 0) -> 0 | AB44: =IF(P44="관급자재대", L44, 0) -> 0 | AC44: =IF(P44="사용자항목1", L44, 0) -> 0 | AD44: =IF(P44="사용자항목2", L44, 0) -> 0 | AE44: =IF(P44="안전관리비", L44, 0) -> 0 | AF44: =IF(P44="품질관리비", L44, 0) -> 0 | AG44: =IF(P44="사용자항목5", L44, 0) -> 0 | AH44: =IF(P44="사용자항목6", L44, 0) -> 0 | AI44: =IF(P44="사용자항목7", L44, 0) -> 0 | AJ44: =IF(P44="사용자항목8", L44, 0) -> 0 | AK44: =IF(P44="사용자항목9", L44, 0) -> 0 | AL44: =IF(P44="사용자항목10", L44, 0) -> 0 | AM44: =IF(P44="사용자항목11", L44, 0) -> 0 | AN44: =IF(P44="사용자항목12", L44, 0) -> 0 | AO44: =IF(P44="사용자항목13", L44, 0) -> 0 | AP44: =IF(P44="사용자항목14", L44, 0) -> 0 | AQ44: =IF(P44="사용자항목15", L44, 0) -> 0 | AR44: =IF(P44="사용자항목16", L44, 0) -> 0 | AS44: =IF(P44="사용자항목17", L44, 0) -> 0 | AT44: =IF(P44="사용자항목18", L44, 0) -> 0 | AU44: =IF(P44="사용자항목19", L44, 0) -> 0
A57: 합 계 | R57: =ROUNDDOWN(SUM(R42:R44), 0) -> 0 | S57: =ROUNDDOWN(SUM(S42:S44), 0) -> 0 | T57: =ROUNDDOWN(SUM(T42:T44), 0) -> 0 | U57: =ROUNDDOWN(SUM(U42:U44), 0) -> 0 | V57: =ROUNDDOWN(SUM(V42:V44), 0) -> 0 | W57: =ROUNDDOWN(SUM(W42:W44), 0) -> 0 | X57: =ROUNDDOWN(SUM(X42:X44), 0) -> 0 | Y57: =ROUNDDOWN(SUM(Y42:Y44), 0) -> 0 | ... AX57: =ROUNDDOWN(SUM(AX42:AX44), 0) -> 0
A58: 04. 철거공사
A59: 기존방수층 제거 및 바탕처리 | B59: 바닥 | C59: M2 | D59: 557.2 | O59: ="" | P59: 기계경비 | Q59: 1 | R59: =IF(P59="기계경비", J59, 0) -> 0 | S59: =IF(P59="운반비", J59, 0) -> 0 | T59: =IF(P59="작업부산물", F59, 0) -> 0 | U59: =IF(P59="관급", F59, 0) -> 0 | V59: =IF(P59="외주비", J59, 0) -> 0 | W59: =IF(P59="장비비", J59, 0) -> 0 | X59: =IF(P59="폐기물처리비", L59, 0) -> 0 | Y59: =IF(P59="가설비", J59, 0) -> 0 | Z59: =IF(P59="잡비제외분", F59, 0) -> 0 | AA59: =IF(P59="사급자재대", L59, 0) -> 0 | AB59: =IF(P59="관급자재대", L59, 0) -> 0 | AC59: =IF(P59="사용자항목1", L59, 0) -> 0 | AD59: =IF(P59="사용자항목2", L59, 0) -> 0 | AE59: =IF(P59="안전관리비", L59, 0) -> 0 | AF59: =IF(P59="품질관리비", L59, 0) -> 0 | AG59: =IF(P59="사용자항목5", L59, 0) -> 0 | AH59: =IF(P59="사용자항목6", L59, 0) -> 0 | AI59: =IF(P59="사용자항목7", L59, 0) -> 0 | AJ59: =IF(P59="사용자항목8", L59, 0) -> 0 | AK59: =IF(P59="사용자항목9", L59, 0) -> 0 | AL59: =IF(P59="사용자항목10", L59, 0) -> 0 | AM59: =IF(P59="사용자항목11", L59, 0) -> 0 | AN59: =IF(P59="사용자항목12", L59, 0) -> 0 | AO59: =IF(P59="사용자항목13", L59, 0) -> 0 | AP59: =IF(P59="사용자항목14", L59, 0) -> 0 | AQ59: =IF(P59="사용자항목15", L59, 0) -> 0 | AR59: =IF(P59="사용자항목16", L59, 0) -> 0 | AS59: =IF(P59="사용자항목17", L59, 0) -> 0 | AT59: =IF(P59="사용자항목18", L59, 0) -> 0 | AU59: =IF(P59="사용자항목19", L59, 0) -> 0
A60: 홈통 철거 | C60: M | D60: 2
A74: 합 계 | R74: =ROUNDDOWN(SUM(R59:R59), 0) -> 0 | S74: =ROUNDDOWN(SUM(S59:S59), 0) -> 0 | T74: =ROUNDDOWN(SUM(T59:T59), 0) -> 0 | U74: =ROUNDDOWN(SUM(U59:U59), 0) -> 0 | V74: =ROUNDDOWN(SUM(V59:V59), 0) -> 0 | W74: =ROUNDDOWN(SUM(W59:W59), 0) -> 0 | X74: =ROUNDDOWN(SUM(X59:X59), 0) -> 0 | Y74: =ROUNDDOWN(SUM(Y59:Y59), 0) -> 0 | ... AX74: =ROUNDDOWN(SUM(AX59:AX59), 0) -> 0
A75: 05. 폐기물처리비
A76: 건설폐기물수집운반비(운반비) | B76: 16톤 암롤트럭, 30km | C76: 톤 | D76: 7.02 | O76: ="03" -> 03 | P76: 기계경비 | Q76: 1 | R76: =IF(P76="기계경비", J76, 0) -> 0 | S76: =IF(P76="운반비", J76, 0) -> 0 | T76: =IF(P76="작업부산물", F76, 0) -> 0 | U76: =IF(P76="관급", F76, 0) -> 0 | V76: =IF(P76="외주비", J76, 0) -> 0 | W76: =IF(P76="장비비", J76, 0) -> 0 | X76: =IF(P76="폐기물처리비", L76, 0) -> 0 | Y76: =IF(P76="가설비", J76, 0) -> 0 | Z76: =IF(P76="잡비제외분", F76, 0) -> 0 | AA76: =IF(P76="사급자재대", L76, 0) -> 0 | AB76: =IF(P76="관급자재대", L76, 0) -> 0 | AC76: =IF(P76="사용자항목1", L76, 0) -> 0 | AD76: =IF(P76="사용자항목2", L76, 0) -> 0 | AE76: =IF(P76="안전관리비", L76, 0) -> 0 | AF76: =IF(P76="품질관리비", L76, 0) -> 0 | AG76: =IF(P76="사용자항목5", L76, 0) -> 0 | AH76: =IF(P76="사용자항목6", L76, 0) -> 0 | AI76: =IF(P76="사용자항목7", L76, 0) -> 0 | AJ76: =IF(P76="사용자항목8", L76, 0) -> 0 | AK76: =IF(P76="사용자항목9", L76, 0) -> 0 | AL76: =IF(P76="사용자항목10", L76, 0) -> 0 | AM76: =IF(P76="사용자항목11", L76, 0) -> 0 | AN76: =IF(P76="사용자항목12", L76, 0) -> 0 | AO76: =IF(P76="사용자항목13", L76, 0) -> 0 | AP76: =IF(P76="사용자항목14", L76, 0) -> 0 | AQ76: =IF(P76="사용자항목15", L76, 0) -> 0 | AR76: =IF(P76="사용자항목16", L76, 0) -> 0 | AS76: =IF(P76="사용자항목17", L76, 0) -> 0 | AT76: =IF(P76="사용자항목18", L76, 0) -> 0 | AU76: =IF(P76="사용자항목19", L76, 0) -> 0
A77: 폐자재처리수수료 | B77: 혼합폐기물 | C77: 톤 | D77: 7.02 | O77: ="03" -> 03 | P77: 기계경비 | Q77: 1 | R77: =IF(P77="기계경비", J77, 0) -> 0 | S77: =IF(P77="운반비", J77, 0) -> 0 | T77: =IF(P77="작업부산물", F77, 0) -> 0 | U77: =IF(P77="관급", F77, 0) -> 0 | V77: =IF(P77="외주비", J77, 0) -> 0 | W77: =IF(P77="장비비", J77, 0) -> 0 | X77: =IF(P77="폐기물처리비", L77, 0) -> 0 | Y77: =IF(P77="가설비", J77, 0) -> 0 | Z77: =IF(P77="잡비제외분", F77, 0) -> 0 | AA77: =IF(P77="사급자재대", L77, 0) -> 0 | AB77: =IF(P77="관급자재대", L77, 0) -> 0 | AC77: =IF(P77="사용자항목1", L77, 0) -> 0 | AD77: =IF(P77="사용자항목2", L77, 0) -> 0 | AE77: =IF(P77="안전관리비", L77, 0) -> 0 | AF77: =IF(P77="품질관리비", L77, 0) -> 0 | AG77: =IF(P77="사용자항목5", L77, 0) -> 0 | AH77: =IF(P77="사용자항목6", L77, 0) -> 0 | AI77: =IF(P77="사용자항목7", L77, 0) -> 0 | AJ77: =IF(P77="사용자항목8", L77, 0) -> 0 | AK77: =IF(P77="사용자항목9", L77, 0) -> 0 | AL77: =IF(P77="사용자항목10", L77, 0) -> 0 | AM77: =IF(P77="사용자항목11", L77, 0) -> 0 | AN77: =IF(P77="사용자항목12", L77, 0) -> 0 | AO77: =IF(P77="사용자항목13", L77, 0) -> 0 | AP77: =IF(P77="사용자항목14", L77, 0) -> 0 | AQ77: =IF(P77="사용자항목15", L77, 0) -> 0 | AR77: =IF(P77="사용자항목16", L77, 0) -> 0 | AS77: =IF(P77="사용자항목17", L77, 0) -> 0 | AT77: =IF(P77="사용자항목18", L77, 0) -> 0 | AU77: =IF(P77="사용자항목19", L77, 0) -> 0
A78: 건설폐기물수집운반비(상차비) | B78: 16톤 암롤트럭, 30km | C78: 톤 | D78: 7.02 | O78: ="03" -> 03 | P78: 기계경비 | Q78: 1 | R78: =IF(P78="기계경비", J78, 0) -> 0 | S78: =IF(P78="운반비", J78, 0) -> 0 | T78: =IF(P78="작업부산물", F78, 0) -> 0 | U78: =IF(P78="관급", F78, 0) -> 0 | V78: =IF(P78="외주비", J78, 0) -> 0 | W78: =IF(P78="장비비", J78, 0) -> 0 | X78: =IF(P78="폐기물처리비", L78, 0) -> 0 | Y78: =IF(P78="가설비", J78, 0) -> 0 | Z78: =IF(P78="잡비제외분", F78, 0) -> 0 | AA78: =IF(P78="사급자재대", L78, 0) -> 0 | AB78: =IF(P78="관급자재대", L78, 0) -> 0 | AC78: =IF(P78="사용자항목1", L78, 0) -> 0 | AD78: =IF(P78="사용자항목2", L78, 0) -> 0 | AE78: =IF(P78="안전관리비", L78, 0) -> 0 | AF78: =IF(P78="품질관리비", L78, 0) -> 0 | AG78: =IF(P78="사용자항목5", L78, 0) -> 0 | AH78: =IF(P78="사용자항목6", L78, 0) -> 0 | AI78: =IF(P78="사용자항목7", L78, 0) -> 0 | AJ78: =IF(P78="사용자항목8", L78, 0) -> 0 | AK78: =IF(P78="사용자항목9", L78, 0) -> 0 | AL78: =IF(P78="사용자항목10", L78, 0) -> 0 | AM78: =IF(P78="사용자항목11", L78, 0) -> 0 | AN78: =IF(P78="사용자항목12", L78, 0) -> 0 | AO78: =IF(P78="사용자항목13", L78, 0) -> 0 | AP78: =IF(P78="사용자항목14", L78, 0) -> 0 | AQ78: =IF(P78="사용자항목15", L78, 0) -> 0 | AR78: =IF(P78="사용자항목16", L78, 0) -> 0 | AS78: =IF(P78="사용자항목17", L78, 0) -> 0 | AT78: =IF(P78="사용자항목18", L78, 0) -> 0 | AU78: =IF(P78="사용자항목19", L78, 0) -> 0
A90: 합 계 | R90: =ROUNDDOWN(SUM(R76:R78), 0) -> 0 | S90: =ROUNDDOWN(SUM(S76:S78), 0) -> 0 | T90: =ROUNDDOWN(SUM(T76:T78), 0) -> 0 | U90: =ROUNDDOWN(SUM(U76:U78), 0) -> 0 | V90: =ROUNDDOWN(SUM(V76:V78), 0) -> 0 | W90: =ROUNDDOWN(SUM(W76:W78), 0) -> 0 | X90: =ROUNDDOWN(SUM(X76:X78), 0) -> 0 | Y90: =ROUNDDOWN(SUM(Y76:Y78), 0) -> 0 | ... AX90: =ROUNDDOWN(SUM(AX76:AX78), 0) -> 0
A91: 06. 작업부산물
A92: 철강설 | B92: 스텐레스, 작업설부산물 | C92: ㎏ | D92: -7.36 | O92: ="03" -> 03 | P92: 기계경비 | Q92: 1 | R92: =IF(P92="기계경비", J92, 0) -> 0 | S92: =IF(P92="운반비", J92, 0) -> 0 | T92: =IF(P92="작업부산물", F92, 0) -> 0 | U92: =IF(P92="관급", F92, 0) -> 0 | V92: =IF(P92="외주비", J92, 0) -> 0 | W92: =IF(P92="장비비", J92, 0) -> 0 | X92: =IF(P92="폐기물처리비", L92, 0) -> 0 | Y92: =IF(P92="가설비", J92, 0) -> 0 | Z92: =IF(P92="잡비제외분", F92, 0) -> 0 | AA92: =IF(P92="사급자재대", L92, 0) -> 0 | AB92: =IF(P92="관급자재대", L92, 0) -> 0 | AC92: =IF(P92="사용자항목1", L92, 0) -> 0 | AD92: =IF(P92="사용자항목2", L92, 0) -> 0 | AE92: =IF(P92="안전관리비", L92, 0) -> 0 | AF92: =IF(P92="품질관리비", L92, 0) -> 0 | AG92: =IF(P92="사용자항목5", L92, 0) -> 0 | AH92: =IF(P92="사용자항목6", L92, 0) -> 0 | AI92: =IF(P92="사용자항목7", L92, 0) -> 0 | AJ92: =IF(P92="사용자항목8", L92, 0) -> 0 | AK92: =IF(P92="사용자항목9", L92, 0) -> 0 | AL92: =IF(P92="사용자항목10", L92, 0) -> 0 | AM92: =IF(P92="사용자항목11", L92, 0) -> 0 | AN92: =IF(P92="사용자항목12", L92, 0) -> 0 | AO92: =IF(P92="사용자항목13", L92, 0) -> 0 | AP92: =IF(P92="사용자항목14", L92, 0) -> 0 | AQ92: =IF(P92="사용자항목15", L92, 0) -> 0 | AR92: =IF(P92="사용자항목16", L92, 0) -> 0 | AS92: =IF(P92="사용자항목17", L92, 0) -> 0 | AT92: =IF(P92="사용자항목18", L92, 0) -> 0 | AU92: =IF(P92="사용자항목19", L92, 0) -> 0
O93: ="03" -> 03 | P93: 기계경비 | Q93: 1 | R93: =IF(P93="기계경비", J93, 0) -> 0 | S93: =IF(P93="운반비", J93, 0) -> 0 | T93: =IF(P93="작업부산물", F93, 0) -> 0 | U93: =IF(P93="관급", F93, 0) -> 0 | V93: =IF(P93="외주비", J93, 0) -> 0 | W93: =IF(P93="장비비", J93, 0) -> 0 | X93: =IF(P93="폐기물처리비", L93, 0) -> 0 | Y93: =IF(P93="가설비", J93, 0) -> 0 | Z93: =IF(P93="잡비제외분", F93, 0) -> 0 | AA93: =IF(P93="사급자재대", L93, 0) -> 0 | AB93: =IF(P93="관급자재대", L93, 0) -> 0 | AC93: =IF(P93="사용자항목1", L93, 0) -> 0 | AD93: =IF(P93="사용자항목2", L93, 0) -> 0 | AE93: =IF(P93="안전관리비", L93, 0) -> 0 | AF93: =IF(P93="품질관리비", L93, 0) -> 0 | AG93: =IF(P93="사용자항목5", L93, 0) -> 0 | AH93: =IF(P93="사용자항목6", L93, 0) -> 0 | AI93: =IF(P93="사용자항목7", L93, 0) -> 0 | AJ93: =IF(P93="사용자항목8", L93, 0) -> 0 | AK93: =IF(P93="사용자항목9", L93, 0) -> 0 | AL93: =IF(P93="사용자항목10", L93, 0) -> 0 | AM93: =IF(P93="사용자항목11", L93, 0) -> 0 | AN93: =IF(P93="사용자항목12", L93, 0) -> 0 | AO93: =IF(P93="사용자항목13", L93, 0) -> 0 | AP93: =IF(P93="사용자항목14", L93, 0) -> 0 | AQ93: =IF(P93="사용자항목15", L93, 0) -> 0 | AR93: =IF(P93="사용자항목16", L93, 0) -> 0 | AS93: =IF(P93="사용자항목17", L93, 0) -> 0 | AT93: =IF(P93="사용자항목18", L93, 0) -> 0 | AU93: =IF(P93="사용자항목19", L93, 0) -> 0
O94: ="03" -> 03 | P94: 기계경비 | Q94: 1 | R94: =IF(P94="기계경비", J94, 0) -> 0 | S94: =IF(P94="운반비", J94, 0) -> 0 | T94: =IF(P94="작업부산물", F94, 0) -> 0 | U94: =IF(P94="관급", F94, 0) -> 0 | V94: =IF(P94="외주비", J94, 0) -> 0 | W94: =IF(P94="장비비", J94, 0) -> 0 | X94: =IF(P94="폐기물처리비", L94, 0) -> 0 | Y94: =IF(P94="가설비", J94, 0) -> 0 | Z94: =IF(P94="잡비제외분", F94, 0) -> 0 | AA94: =IF(P94="사급자재대", L94, 0) -> 0 | AB94: =IF(P94="관급자재대", L94, 0) -> 0 | AC94: =IF(P94="사용자항목1", L94, 0) -> 0 | AD94: =IF(P94="사용자항목2", L94, 0) -> 0 | AE94: =IF(P94="안전관리비", L94, 0) -> 0 | AF94: =IF(P94="품질관리비", L94, 0) -> 0 | AG94: =IF(P94="사용자항목5", L94, 0) -> 0 | AH94: =IF(P94="사용자항목6", L94, 0) -> 0 | AI94: =IF(P94="사용자항목7", L94, 0) -> 0 | AJ94: =IF(P94="사용자항목8", L94, 0) -> 0 | AK94: =IF(P94="사용자항목9", L94, 0) -> 0 | AL94: =IF(P94="사용자항목10", L94, 0) -> 0 | AM94: =IF(P94="사용자항목11", L94, 0) -> 0 | AN94: =IF(P94="사용자항목12", L94, 0) -> 0 | AO94: =IF(P94="사용자항목13", L94, 0) -> 0 | AP94: =IF(P94="사용자항목14", L94, 0) -> 0 | AQ94: =IF(P94="사용자항목15", L94, 0) -> 0 | AR94: =IF(P94="사용자항목16", L94, 0) -> 0 | AS94: =IF(P94="사용자항목17", L94, 0) -> 0 | AT94: =IF(P94="사용자항목18", L94, 0) -> 0 | AU94: =IF(P94="사용자항목19", L94, 0) -> 0
A106: 합 계 | R106: =ROUNDDOWN(SUM(R92:R94), 0) -> 0 | S106: =ROUNDDOWN(SUM(S92:S94), 0) -> 0 | T106: =ROUNDDOWN(SUM(T92:T94), 0) -> 0 | U106: =ROUNDDOWN(SUM(U92:U94), 0) -> 0 | V106: =ROUNDDOWN(SUM(V92:V94), 0) -> 0 | W106: =ROUNDDOWN(SUM(W92:W94), 0) -> 0 | X106: =ROUNDDOWN(SUM(X92:X94), 0) -> 0 | Y106: =ROUNDDOWN(SUM(Y92:Y94), 0) -> 0 | ... AX106: =ROUNDDOWN(SUM(AX92:AX94), 0) -> 0
A107: 07. 관급자재대
A108: 폴리우레아방수코팅 | B108: 구조물방수용, 2.0T | C108: M2 | D108: 676 | O108: ="01" -> 01 | P108: 관급자재대 | Q108: 1 | R108: =IF(P108="기계경비", J108, 0) -> 0 | S108: =IF(P108="운반비", J108, 0) -> 0 | T108: =IF(P108="작업부산물", F108, 0) -> 0 | U108: =IF(P108="관급", F108, 0) -> 0 | V108: =IF(P108="외주비", J108, 0) -> 0 | W108: =IF(P108="장비비", J108, 0) -> 0 | X108: =IF(P108="폐기물처리비", L108, 0) -> 0 | Y108: =IF(P108="가설비", J108, 0) -> 0 | Z108: =IF(P108="잡비제외분", F108, 0) -> 0 | AA108: =IF(P108="사급자재대", L108, 0) -> 0 | AB108: =IF(P108="관급자재대", L108, 0) -> 0 | AC108: =IF(P108="사용자항목1", L108, 0) -> 0 | AD108: =IF(P108="사용자항목2", L108, 0) -> 0 | AE108: =IF(P108="안전관리비", L108, 0) -> 0 | AF108: =IF(P108="품질관리비", L108, 0) -> 0 | AG108: =IF(P108="사용자항목5", L108, 0) -> 0 | AH108: =IF(P108="사용자항목6", L108, 0) -> 0 | AI108: =IF(P108="사용자항목7", L108, 0) -> 0 | AJ108: =IF(P108="사용자항목8", L108, 0) -> 0 | AK108: =IF(P108="사용자항목9", L108, 0) -> 0 | AL108: =IF(P108="사용자항목10", L108, 0) -> 0 | AM108: =IF(P108="사용자항목11", L108, 0) -> 0 | AN108: =IF(P108="사용자항목12", L108, 0) -> 0 | AO108: =IF(P108="사용자항목13", L108, 0) -> 0 | AP108: =IF(P108="사용자항목14", L108, 0) -> 0 | AQ108: =IF(P108="사용자항목15", L108, 0) -> 0 | AR108: =IF(P108="사용자항목16", L108, 0) -> 0 | AS108: =IF(P108="사용자항목17", L108, 0) -> 0 | AT108: =IF(P108="사용자항목18", L108, 0) -> 0 | AU108: =IF(P108="사용자항목19", L108, 0) -> 0
A109: 조달수수료 | C109: ％ | D109: 0.54 | N109: 0.0054 | O109: ="" | P109: 관급자재대 | Q109: 1 | R109: =IF(P109="기계경비", J109, 0) -> 0 | S109: =IF(P109="운반비", J109, 0) -> 0 | T109: =IF(P109="작업부산물", F109, 0) -> 0 | U109: =IF(P109="관급", F109, 0) -> 0 | V109: =IF(P109="외주비", J109, 0) -> 0 | W109: =IF(P109="장비비", J109, 0) -> 0 | X109: =IF(P109="폐기물처리비", L109, 0) -> 0 | Y109: =IF(P109="가설비", J109, 0) -> 0 | Z109: =IF(P109="잡비제외분", F109, 0) -> 0 | AA109: =IF(P109="사급자재대", L109, 0) -> 0 | AB109: =IF(P109="관급자재대", L109, 0) -> 0 | AC109: =IF(P109="사용자항목1", L109, 0) -> 0 | AD109: =IF(P109="사용자항목2", L109, 0) -> 0 | AE109: =IF(P109="안전관리비", L109, 0) -> 0 | AF109: =IF(P109="품질관리비", L109, 0) -> 0 | AG109: =IF(P109="사용자항목5", L109, 0) -> 0 | AH109: =IF(P109="사용자항목6", L109, 0) -> 0 | AI109: =IF(P109="사용자항목7", L109, 0) -> 0 | AJ109: =IF(P109="사용자항목8", L109, 0) -> 0 | AK109: =IF(P109="사용자항목9", L109, 0) -> 0 | AL109: =IF(P109="사용자항목10", L109, 0) -> 0 | AM109: =IF(P109="사용자항목11", L109, 0) -> 0 | AN109: =IF(P109="사용자항목12", L109, 0) -> 0 | AO109: =IF(P109="사용자항목13", L109, 0) -> 0 | AP109: =IF(P109="사용자항목14", L109, 0) -> 0 | AQ109: =IF(P109="사용자항목15", L109, 0) -> 0 | AR109: =IF(P109="사용자항목16", L109, 0) -> 0 | AS109: =IF(P109="사용자항목17", L109, 0) -> 0 | AT109: =IF(P109="사용자항목18", L109, 0) -> 0 | AU109: =IF(P109="사용자항목19", L109, 0) -> 0
A110: 단수정리 | O110: ="" | P110: 관급자재대 | Q110: 1 | R110: =IF(P110="기계경비", J110, 0) -> 0 | S110: =IF(P110="운반비", J110, 0) -> 0 | T110: =IF(P110="작업부산물", F110, 0) -> 0 | U110: =IF(P110="관급", F110, 0) -> 0 | V110: =IF(P110="외주비", J110, 0) -> 0 | W110: =IF(P110="장비비", J110, 0) -> 0 | X110: =IF(P110="폐기물처리비", L110, 0) -> 0 | Y110: =IF(P110="가설비", J110, 0) -> 0 | Z110: =IF(P110="잡비제외분", F110, 0) -> 0 | AA110: =IF(P110="사급자재대", L110, 0) -> 0 | AB110: =IF(P110="관급자재대", L110, 0) -> 0 | AC110: =IF(P110="사용자항목1", L110, 0) -> 0 | AD110: =IF(P110="사용자항목2", L110, 0) -> 0 | AE110: =IF(P110="안전관리비", L110, 0) -> 0 | AF110: =IF(P110="품질관리비", L110, 0) -> 0 | AG110: =IF(P110="사용자항목5", L110, 0) -> 0 | AH110: =IF(P110="사용자항목6", L110, 0) -> 0 | AI110: =IF(P110="사용자항목7", L110, 0) -> 0 | AJ110: =IF(P110="사용자항목8", L110, 0) -> 0 | AK110: =IF(P110="사용자항목9", L110, 0) -> 0 | AL110: =IF(P110="사용자항목10", L110, 0) -> 0 | AM110: =IF(P110="사용자항목11", L110, 0) -> 0 | AN110: =IF(P110="사용자항목12", L110, 0) -> 0 | AO110: =IF(P110="사용자항목13", L110, 0) -> 0 | AP110: =IF(P110="사용자항목14", L110, 0) -> 0 | AQ110: =IF(P110="사용자항목15", L110, 0) -> 0 | AR110: =IF(P110="사용자항목16", L110, 0) -> 0 | AS110: =IF(P110="사용자항목17", L110, 0) -> 0 | AT110: =IF(P110="사용자항목18", L110, 0) -> 0 | AU110: =IF(P110="사용자항목19", L110, 0) -> 0
A122: 합 계 | R122: =ROUNDDOWN(SUM(R108:R110), 0) -> 0 | S122: =ROUNDDOWN(SUM(S108:S110), 0) -> 0 | T122: =ROUNDDOWN(SUM(T108:T110), 0) -> 0 | U122: =ROUNDDOWN(SUM(U108:U110), 0) -> 0 | V122: =ROUNDDOWN(SUM(V108:V110), 0) -> 0 | W122: =ROUNDDOWN(SUM(W108:W110), 0) -> 0 | X122: =ROUNDDOWN(SUM(X108:X110), 0) -> 0 | Y122: =ROUNDDOWN(SUM(Y108:Y110), 0) -> 0 | ... AX122: =ROUNDDOWN(SUM(AX108:AX110), 0) -> 0

Sheet 일위대가표
A1: 일 위 대 가 명 세 서
A2: 공사명 : 고창고 외 2교 옥상방수공사 매산초
A3: 품 명 | B3: 규 격 | C3: 단위 | D3: 수 량 | E3: 재 료 비 | G3: 노 무 비 | I3: 경 비 | K3: 합 계 | M3: 비 고
E4: 단 가 | F4: 금 액 | G4: 단 가 | H4: 금 액 | I4: 단 가 | J4: 금 액 | K4: 단 가 | L4: 금 액 | N4: 손료요율 | O4: 손료구분 | P4: 적용구분 | Q4: 합계구분 | R4: 품목구분 | S4: 조달코드
A5: [일위 1호] - [모르타르바름(바닥) T:24mm,인력마감, 몰탈포함 M2] | M5: 건축9-1-3참고
A6: 모르타르 | B6: 모르타르, 1:3, 550kg | C6: M3 | D6: 0.0252 | E6: =ROUNDDOWN(#REF!, 0) -> #REF! | F6: =ROUNDDOWN(D6*E6, 1) -> #REF! | G6: 0 | H6: =ROUNDDOWN(D6*G6, 1) -> 0 | I6: 0 | J6: =ROUNDDOWN(D6*I6, 1) -> 0 | K6: =E6+G6+I6 -> #REF! | L6: =F6+H6+J6 -> #REF! | O6: 01 | P6: 기계경비 | Q6: 1
A7: 모르타르바름(기계) | B7: 모르타르타설 | C7: M3 | D7: 0.024 | E7: =ROUNDDOWN(#REF!, 0) -> #REF! | F7: =ROUNDDOWN(D7*E7, 1) -> #REF! | G7: =ROUNDDOWN(#REF!, 0) -> #REF! | H7: =ROUNDDOWN(D7*G7, 1) -> #REF! | I7: =ROUNDDOWN(#REF!, 0) -> #REF! | J7: =ROUNDDOWN(D7*I7, 1) -> #REF! | K7: =E7+G7+I7 -> #REF! | L7: =F7+H7+J7 -> #REF! | M7: 일위 4호 | P7: 기계경비 | Q7: 1
A8: 모르타르 기계바름(표면 마무리) | B8: 인력마감, 작업대기 없는 경우 | C8: ㎡ | D8: 1 | E8: =ROUNDDOWN(#REF!, 2) -> #REF! | F8: =ROUNDDOWN(D8*E8, 1) -> #REF! | G8: =ROUNDDOWN(#REF!, 0) -> #REF! | H8: =ROUNDDOWN(D8*G8, 1) -> #REF! | I8: =ROUNDDOWN(#REF!, 2) -> #REF! | J8: =ROUNDDOWN(D8*I8, 1) -> #REF! | K8: =E8+G8+I8 -> #REF! | L8: =F8+H8+J8 -> #REF! | M8: 일위 5호 | P8: 기계경비 | Q8: 1
A9: 합 계 | F9: =ROUNDDOWN(SUMIF(Q6:Q8, "1", F6:F8), 0) -> #REF! | H9: =ROUNDDOWN(SUMIF(Q6:Q8, "1", H6:H8), 0) -> #REF! | J9: =ROUNDDOWN(SUMIF(Q6:Q8, "1", J6:J8), 0) -> #REF! | L9: =F9+H9+J9 -> #REF!
A11: [일위 2호] - [바탕처리 보통, 바닥 M2] | M11: 건축6-1-1
A12: 방수공 | B12: 일반공사 직종 | C12: 인 | D12: 0.03 | E12: 0 | F12: =ROUNDDOWN(D12*E12, 1) -> 0 | G12: =ROUNDDOWN(#REF!, 0) -> #REF! | H12: =ROUNDDOWN(D12*G12, 1) -> #REF! | I12: 0 | J12: =ROUNDDOWN(D12*I12, 1) -> 0 | K12: =E12+G12+I12 -> #REF! | L12: =F12+H12+J12 -> #REF! | O12: 02 | P12: 기계경비 | Q12: 1
A13: 보통인부 | B13: 일반공사 직종 | C13: 인 | D13: 0.012 | E13: 0 | F13: =ROUNDDOWN(D13*E13, 1) -> 0 | G13: =ROUNDDOWN(#REF!, 0) -> #REF! | H13: =ROUNDDOWN(D13*G13, 1) -> #REF! | I13: 0 | J13: =ROUNDDOWN(D13*I13, 1) -> 0 | K13: =E13+G13+I13 -> #REF! | L13: =F13+H13+J13 -> #REF! | O13: 02 | P13: 기계경비 | Q13: 1
A14: 공구손료 및 경장비의 기계경비 | B14: ="인력품의 " & N14*100 & "%" -> 인력품의 4% | C14: 식 | D14: 1 | E14: 0 | F14: 0 | G14: 0 | H14: 0 | I14: =SUMIF(O12:O14, "02", H12:H14) -> #REF! | J14: =ROUNDDOWN((I14)*N14, 1) -> #REF! | K14: =E14+G14+I14 -> #REF! | L14: =F14+H14+J14 -> #REF! | N14: 0.04 | P14: 기계경비 | Q14: 1 | R14: 25 | S14: A0200000000
A15: 합 계 | F15: =ROUNDDOWN(SUMIF(Q12:Q14, "1", F12:F14), 0) -> 0 | H15: =ROUNDDOWN(SUMIF(Q12:Q14, "1", H12:H14), 0) -> #REF! | J15: =ROUNDDOWN(SUMIF(Q12:Q14, "1", J12:J14), 0) -> #REF! | L15: =F15+H15+J15 -> #REF!
A17: [일위 3호] - [에폭시우레탄 바닥 철거 M2] | M17: 2025 실내건축협회
A18: 특별인부 | B18: 일반공사 직종 | C18: 인 | D18: 0.143 | E18: 0 | F18: =ROUNDDOWN(D18*E18, 1) -> 0 | G18: =ROUNDDOWN(#REF!, 0) -> #REF! | H18: =ROUNDDOWN(D18*G18, 1) -> #REF! | I18: 0 | J18: =ROUNDDOWN(D18*I18, 1) -> 0 | K18: =E18+G18+I18 -> #REF! | L18: =F18+H18+J18 -> #REF! | O18: 02 | P18: 기계경비 | Q18: 1
A19: 보통인부 | B19: 일반공사 직종 | C19: 인 | D19: 0.072 | E19: 0 | F19: =ROUNDDOWN(D19*E19, 1) -> 0 | G19: =ROUNDDOWN(#REF!, 0) -> #REF! | H19: =ROUNDDOWN(D19*G19, 1) -> #REF! | I19: 0 | J19: =ROUNDDOWN(D19*I19, 1) -> 0 | K19: =E19+G19+I19 -> #REF! | L19: =F19+H19+J19 -> #REF! | O19: 02 | P19: 기계경비 | Q19: 1
A20: 공구손료 | B20: ="인력품의 " & N20*100 & "%" -> 인력품의 5% | C20: 식 | D20: 1 | E20: =SUMIF(O18:O20, "02", H18:H20) -> #REF! | F20: =ROUNDDOWN((E20)*N20, 1) -> #REF! | G20: 0 | H20: 0 | I20: 0 | J20: 0 | K20: =E20+G20+I20 -> #REF! | L20: =F20+H20+J20 -> #REF! | M20: 재료비 | N20: 0.05 | P20: 기계경비 | Q20: 1 | R20: 23 | S20: A0200000000
A21: 합 계 | F21: =ROUNDDOWN(SUMIF(Q18:Q20, "1", F18:F20), 0) -> #REF! | H21: =ROUNDDOWN(SUMIF(Q18:Q20, "1", H18:H20), 0) -> #REF! | J21: =ROUNDDOWN(SUMIF(Q18:Q20, "1", J18:J20), 0) -> 0 | L21: =F21+H21+J21 -> #REF!
A23: [일위 4호] - [모르타르바름(기계) 모르타르타설 M3] | M23: 건축9-1-3(25년개정)
A24: 미장공 | B24: 일반공사 직종 | C24: 인 | D24: 0.04 | E24: 0 | F24: =ROUNDDOWN(D24*E24, 1) -> 0 | G24: =ROUNDDOWN(#REF!, 0) -> #REF! | H24: =ROUNDDOWN(D24*G24, 1) -> #REF! | I24: 0 | J24: =ROUNDDOWN(D24*I24, 1) -> 0 | K24: =E24+G24+I24 -> #REF! | L24: =F24+H24+J24 -> #REF! | O24: 02 | P24: 기계경비 | Q24: 1
A25: 기계설비공 | B25: 일반공사 직종 | C25: 인 | D25: 0.02 | E25: 0 | F25: =ROUNDDOWN(D25*E25, 1) -> 0 | G25: =ROUNDDOWN(#REF!, 0) -> #REF! | H25: =ROUNDDOWN(D25*G25, 1) -> #REF! | I25: 0 | J25: =ROUNDDOWN(D25*I25, 1) -> 0 | K25: =E25+G25+I25 -> #REF! | L25: =F25+H25+J25 -> #REF! | M25: 기계설치공 | O25: 02 | P25: 기계경비 | Q25: 1
A26: 보통인부 | B26: 일반공사 직종 | C26: 인 | D26: 0.04 | E26: 0 | F26: =ROUNDDOWN(D26*E26, 1) -> 0 | G26: =ROUNDDOWN(#REF!, 0) -> #REF! | H26: =ROUNDDOWN(D26*G26, 1) -> #REF! | I26: 0 | J26: =ROUNDDOWN(D26*I26, 1) -> 0 | K26: =E26+G26+I26 -> #REF! | L26: =F26+H26+J26 -> #REF! | O26: 02 | P26: 기계경비 | Q26: 1
A27: 모르타르펌프 | B27: 37kw | C27: HR | D27: 0.16 | E27: =ROUNDDOWN(중기경비목록!G6, 2) -> 0 | F27: =ROUNDDOWN(D27*E27, 1) -> 0 | G27: =ROUNDDOWN(중기경비목록!I6, 2) -> 0 | H27: =ROUNDDOWN(D27*G27, 1) -> 0 | I27: =ROUNDDOWN(중기경비목록!K6, 0) -> #REF! | J27: =ROUNDDOWN(D27*I27, 1) -> #REF! | K27: =E27+G27+I27 -> #REF! | L27: =F27+H27+J27 -> #REF! | M27: 중기 2호 | P27: 기계경비 | Q27: 1
A28: 모르타르 믹서 | B28: 0.3m3 | C28: HR | D28: 0.16 | E28: =ROUNDDOWN(중기경비목록!G5, 0) -> #REF! | F28: =ROUNDDOWN(D28*E28, 1) -> #REF! | G28: =ROUNDDOWN(중기경비목록!I5, 2) -> 0 | H28: =ROUNDDOWN(D28*G28, 1) -> 0 | I28: =ROUNDDOWN(중기경비목록!K5, 0) -> #REF! | J28: =ROUNDDOWN(D28*I28, 1) -> #REF! | K28: =E28+G28+I28 -> #REF! | L28: =F28+H28+J28 -> #REF! | M28: 중기 1호 | P28: 기계경비 | Q28: 1
A29: 양수기 | B29: 1.49kw | C29: HR | D29: 0.16 | E29: =ROUNDDOWN(중기경비목록!G8, 2) -> 0 | F29: =ROUNDDOWN(D29*E29, 1) -> 0 | G29: =ROUNDDOWN(중기경비목록!I8, 2) -> 0 | H29: =ROUNDDOWN(D29*G29, 1) -> 0 | I29: =ROUNDDOWN(중기경비목록!K8, 0) -> #REF! | J29: =ROUNDDOWN(D29*I29, 1) -> #REF! | K29: =E29+G29+I29 -> #REF! | L29: =F29+H29+J29 -> #REF! | M29: 중기 4호 | P29: 기계경비 | Q29: 1
A30: 배관파이프 | B30: ∮50㎜∼2.6m | C30: HR | D30: 0.16 | E30: =ROUNDDOWN(중기경비목록!G7, 2) -> 0 | F30: =ROUNDDOWN(D30*E30, 1) -> 0 | G30: =ROUNDDOWN(중기경비목록!I7, 2) -> 0 | H30: =ROUNDDOWN(D30*G30, 1) -> 0 | I30: =ROUNDDOWN(중기경비목록!K7, 0) -> #REF! | J30: =ROUNDDOWN(D30*I30, 1) -> #REF! | K30: =E30+G30+I30 -> #REF! | L30: =F30+H30+J30 -> #REF! | M30: 중기 3호 | P30: 기계경비 | Q30: 1
A31: 합 계 | F31: =ROUNDDOWN(SUMIF(Q24:Q30, "1", F24:F30), 0) -> #REF! | H31: =ROUNDDOWN(SUMIF(Q24:Q30, "1", H24:H30), 0) -> #REF! | J31: =ROUNDDOWN(SUMIF(Q24:Q30, "1", J24:J30), 0) -> #REF! | L31: =F31+H31+J31 -> #REF!
A33: [일위 5호] - [모르타르 기계바름(표면 마무리) 인력마감, 작업대기 없는 경우 ㎡] | M33: 건축9-1-4
A34: 미장공 | B34: 일반공사 직종 | C34: 인 | D34: 0.003 | E34: 0 | F34: =ROUNDDOWN(D34*E34, 1) -> 0 | G34: =ROUNDDOWN(#REF!, 0) -> #REF! | H34: =ROUNDDOWN(D34*G34, 1) -> #REF! | I34: 0 | J34: =ROUNDDOWN(D34*I34, 1) -> 0 | K34: =E34+G34+I34 -> #REF! | L34: =F34+H34+J34 -> #REF! | O34: 02 | P34: 기계경비 | Q34: 1
A35: 합 계 | F35: =ROUNDDOWN(SUMIF(Q34:Q34, "1", F34:F34), 0) -> 0 | H35: =ROUNDDOWN(SUMIF(Q34:Q34, "1", H34:H34), 0) -> #REF! | J35: =ROUNDDOWN(SUMIF(Q34:Q34, "1", J34:J34), 0) -> 0 | L35: =F35+H35+J35 -> #REF!

Sheet 중기경비목록
A1: 중 기 경 비 목 록
A2: 공사명 : 고창고 외 2교 옥상방수공사 매산초
A3: 호 표 | B3: 품 명 | C3: 규 격 | D3: 단위 | E3: 수량 | F3: 재 료 비 | H3: 노 무 비 | J3: 경 비 | L3: 합 계 | N3: 비 고
F4: 단 가 | G4: 금 액 | H4: 단 가 | I4: 금 액 | J4: 단 가 | K4: 금 액 | L4: 단 가 | M4: 금 액 | O4: 손료요율 | P4: 손료구분 | Q4: 적용구분 | R4: 합계구분
A5: 중기 1호 | B5: 모르타르 믹서 | C5: 0.3m3 | D5: HR | E5: 1 | F5: =중기경비!F14 -> #REF! | G5: =E5*F5 -> #REF! | H5: =중기경비!H14 -> 0 | I5: =E5*H5 -> 0 | J5: =중기경비!J14 -> #REF! | K5: =E5*J5 -> #REF! | L5: =F5+H5+J5 -> #REF! | M5: =G5+I5+K5 -> #REF! | N5: 공통8-4-8,8-3-8(7992)
A6: 중기 2호 | B6: 모르타르펌프 | C6: 37kw | D6: HR | E6: 1 | F6: =중기경비!F21 -> 0 | G6: =E6*F6 -> 0 | H6: =중기경비!H21 -> 0 | I6: =E6*H6 -> 0 | J6: =중기경비!J21 -> #REF! | K6: =E6*J6 -> #REF! | L6: =F6+H6+J6 -> #REF! | M6: =G6+I6+K6 -> #REF! | N6: 공통8-4-8,8-3-8(7991)
A7: 중기 3호 | B7: 배관파이프 | C7: ∮50㎜∼2.6m | D7: HR | E7: 1 | F7: =중기경비!F27 -> 0 | G7: =E7*F7 -> 0 | H7: =중기경비!H27 -> 0 | I7: =E7*H7 -> 0 | J7: =중기경비!J27 -> #REF! | K7: =E7*J7 -> #REF! | L7: =F7+H7+J7 -> #REF! | M7: =G7+I7+K7 -> #REF! | N7: 공통8-3-8(7995)
A8: 중기 4호 | B8: 양수기 | C8: 1.49kw | D8: HR | E8: 1 | F8: =중기경비!F34 -> 0 | G8: =E8*F8 -> 0 | H8: =중기경비!H34 -> 0 | I8: =E8*H8 -> 0 | J8: =중기경비!J34 -> #REF! | K8: =E8*J8 -> #REF! | L8: =F8+H8+J8 -> #REF! | M8: =G8+I8+K8 -> #REF! | N8: 공통8-4-8,8-3-8(7993)

Sheet 중기경비
A1: 중 기 경 비
A2: 공사명 : 고창고 외 2교 옥상방수공사 매산초
A3: 품 명 | B3: 규 격 | C3: 단위 | D3: 수 량 | E3: 재 료 비 | G3: 노 무 비 | I3: 경 비 | K3: 합 계 | M3: 비 고
E4: 단 가 | F4: 금 액 | G4: 단 가 | H4: 금 액 | I4: 단 가 | J4: 금 액 | K4: 단 가 | L4: 금 액 | N4: 손료요율 | O4: 손료구분 | P4: 적용구분 | Q4: 합계구분 | R4: 품목구분 | S4: 조달코드
A5: [중기 1호] - [모르타르 믹서 0.3m3 HR] | M5: 공통8-4-8,8-3-8(7992)
A6: [경 비] | F6: =ROUNDDOWN(D6*E6, 1) -> 0 | H6: =ROUNDDOWN(D6*G6, 1) -> 0 | J6: =ROUNDDOWN(D6*I6, 1) -> 0 | K6: =E6+G6+I6 -> 0 | L6: =F6+H6+J6 -> 0
A7: 모르터믹서 | B7: 0.3㎥ | C7: 대 | D7: 0.0003708 | E7: 0 | F7: =ROUNDDOWN(D7*E7, 1) -> 0 | G7: 0 | H7: =ROUNDDOWN(D7*G7, 1) -> 0 | I7: =ROUNDDOWN(#REF!, 0) -> #REF! | J7: =ROUNDDOWN(D7*I7, 1) -> #REF! | K7: =E7+G7+I7 -> #REF! | L7: =F7+H7+J7 -> #REF! | M7: 공통8-5-8(7992) | O7: 03 | P7: 기계경비 | Q7: 1
A8: 일반경비 | B8: 전력 | C8: kWh | D8: 1.87 | E8: 0 | F8: =ROUNDDOWN(D8*E8, 1) -> 0 | G8: 0 | H8: =ROUNDDOWN(D8*G8, 1) -> 0 | I8: =ROUNDDOWN(#REF!, 0) -> #REF! | J8: =ROUNDDOWN(D8*I8, 1) -> #REF! | K8: =E8+G8+I8 -> #REF! | L8: =F8+H8+J8 -> #REF! | M8: 봄철(3~5월) | O8: 01 | P8: 기계경비 | Q8: 1
A9: 소 계 | F9: =SUMIF(Q6:Q8, "1", F6:F8) -> 0 | H9: =SUMIF(Q6:Q8, "1", H6:H8) -> 0 | J9: =SUMIF(Q6:Q8, "1", J6:J8) -> #REF! | K9: =E9+G9+I9 -> 0 | L9: =F9+H9+J9 -> #REF!
A10: [재료비] | F10: =ROUNDDOWN(D10*E10, 1) -> 0 | H10: =ROUNDDOWN(D10*G10, 1) -> 0 | J10: =ROUNDDOWN(D10*I10, 1) -> 0 | K10: =E10+G10+I10 -> 0 | L10: =F10+H10+J10 -> 0
A11: 공업용휘발유 | B11: 공업용휘발유, 무연 | C11: L | D11: 1.3 | E11: =ROUNDDOWN(#REF!, 0) -> #REF! | F11: =ROUNDDOWN(D11*E11, 1) -> #REF! | G11: 0 | H11: =ROUNDDOWN(D11*G11, 1) -> 0 | I11: 0 | J11: =ROUNDDOWN(D11*I11, 1) -> 0 | K11: =E11+G11+I11 -> #REF! | L11: =F11+H11+J11 -> #REF! | O11: 04 | P11: 기계경비 | Q11: 1
A12: 잡품 | B12: ="주연료비의 " & N12*100 & "%" -> 주연료비의 2% | C12: 식 | D12: 1 | E12: =SUMIF(O6:O13, "04", F6:F13) -> #REF! | F12: =ROUNDDOWN((E12)*N12, 1) -> #REF! | G12: 0 | H12: 0 | I12: 0 | J12: 0 | K12: =E12+G12+I12 -> #REF! | L12: =F12+H12+J12 -> #REF! | N12: 0.02 | P12: 기계경비 | Q12: 1 | R12: 20 | S12: A0400000000
A13: 소 계 | F13: =SUMIF(Q10:Q12, "1", F10:F12) -> #REF! | H13: =SUMIF(Q10:Q12, "1", H10:H12) -> 0 | J13: =SUMIF(Q10:Q12, "1", J10:J12) -> 0 | K13: =E13+G13+I13 -> 0 | L13: =F13+H13+J13 -> #REF!
A14: 합 계 | F14: =ROUNDDOWN(SUMIF(Q6:Q13, "1", F6:F13), 0) -> #REF! | H14: =ROUNDDOWN(SUMIF(Q6:Q13, "1", H6:H13), 0) -> 0 | J14: =ROUNDDOWN(SUMIF(Q6:Q13, "1", J6:J13), 0) -> #REF! | L14: =F14+H14+J14 -> #REF!
A16: [중기 2호] - [모르타르펌프 37kw HR] | M16: 공통8-4-8,8-3-8(7991)
A17: [경 비] | F17: =ROUNDDOWN(D17*E17, 1) -> 0 | H17: =ROUNDDOWN(D17*G17, 1) -> 0 | J17: =ROUNDDOWN(D17*I17, 1) -> 0 | K17: =E17+G17+I17 -> 0 | L17: =F17+H17+J17 -> 0
A18: 모르터펌프 | B18: 37kw | C18: 대 | D18: 0.0004677 | E18: 0 | F18: =ROUNDDOWN(D18*E18, 1) -> 0 | G18: 0 | H18: =ROUNDDOWN(D18*G18, 1) -> 0 | I18: =ROUNDDOWN(#REF!, 0) -> #REF! | J18: =ROUNDDOWN(D18*I18, 1) -> #REF! | K18: =E18+G18+I18 -> #REF! | L18: =F18+H18+J18 -> #REF! | M18: 공통8-5-8(7991) | O18: 03 | P18: 기계경비 | Q18: 1
A19: 일반경비 | B19: 전력 | C19: kWh | D19: 37 | E19: 0 | F19: =ROUNDDOWN(D19*E19, 1) -> 0 | G19: 0 | H19: =ROUNDDOWN(D19*G19, 1) -> 0 | I19: =ROUNDDOWN(#REF!, 0) -> #REF! | J19: =ROUNDDOWN(D19*I19, 1) -> #REF! | K19: =E19+G19+I19 -> #REF! | L19: =F19+H19+J19 -> #REF! | M19: 봄철(3~5월) | O19: 01 | P19: 기계경비 | Q19: 1
A20: 소 계 | F20: =SUMIF(Q17:Q19, "1", F17:F19) -> 0 | H20: =SUMIF(Q17:Q19, "1", H17:H19) -> 0 | J20: =SUMIF(Q17:Q19, "1", J17:J19) -> #REF! | K20: =E20+G20+I20 -> 0 | L20: =F20+H20+J20 -> #REF!
A21: 합 계 | F21: =ROUNDDOWN(SUMIF(Q17:Q20, "1", F17:F20), 0) -> 0 | H21: =ROUNDDOWN(SUMIF(Q17:Q20, "1", H17:H20), 0) -> 0 | J21: =ROUNDDOWN(SUMIF(Q17:Q20, "1", J17:J20), 0) -> #REF! | L21: =F21+H21+J21 -> #REF!
A23: [중기 3호] - [배관파이프 ∮50㎜∼2.6m HR] | M23: 공통8-3-8(7995)
A24: [경 비] | F24: =ROUNDDOWN(D24*E24, 1) -> 0 | H24: =ROUNDDOWN(D24*G24, 1) -> 0 | J24: =ROUNDDOWN(D24*I24, 1) -> 0 | K24: =E24+G24+I24 -> 0 | L24: =F24+H24+J24 -> 0
A25: 배관파이프 | B25: 50㎜-2.6mψ | C25: 개 | D25: 0.0005 | E25: 0 | F25: =ROUNDDOWN(D25*E25, 1) -> 0 | G25: 0 | H25: =ROUNDDOWN(D25*G25, 1) -> 0 | I25: =ROUNDDOWN(#REF!, 0) -> #REF! | J25: =ROUNDDOWN(D25*I25, 1) -> #REF! | K25: =E25+G25+I25 -> #REF! | L25: =F25+H25+J25 -> #REF! | M25: 공통8-5-8(7995) | O25: 03 | P25: 기계경비 | Q25: 1
A26: 소 계 | F26: =SUMIF(Q24:Q25, "1", F24:F25) -> 0 | H26: =SUMIF(Q24:Q25, "1", H24:H25) -> 0 | J26: =SUMIF(Q24:Q25, "1", J24:J25) -> #REF! | K26: =E26+G26+I26 -> 0 | L26: =F26+H26+J26 -> #REF!
A27: 합 계 | F27: =ROUNDDOWN(SUMIF(Q24:Q26, "1", F24:F26), 0) -> 0 | H27: =ROUNDDOWN(SUMIF(Q24:Q26, "1", H24:H26), 0) -> 0 | J27: =ROUNDDOWN(SUMIF(Q24:Q26, "1", J24:J26), 0) -> #REF! | L27: =F27+H27+J27 -> #REF!
A29: [중기 4호] - [양수기 1.49kw HR] | M29: 공통8-4-8,8-3-8(7993)
A30: [경 비] | F30: =ROUNDDOWN(D30*E30, 1) -> 0 | H30: =ROUNDDOWN(D30*G30, 1) -> 0 | J30: =ROUNDDOWN(D30*I30, 1) -> 0 | K30: =E30+G30+I30 -> 0 | L30: =F30+H30+J30 -> 0
A31: 양수기 | B31: 1.49kW | C31: 대 | D31: 0.0003375 | E31: 0 | F31: =ROUNDDOWN(D31*E31, 1) -> 0 | G31: 0 | H31: =ROUNDDOWN(D31*G31, 1) -> 0 | I31: =ROUNDDOWN(#REF!, 0) -> #REF! | J31: =ROUNDDOWN(D31*I31, 1) -> #REF! | K31: =E31+G31+I31 -> #REF! | L31: =F31+H31+J31 -> #REF! | M31: 공통8-5-8(7993) | O31: 03 | P31: 기계경비 | Q31: 1
A32: 일반경비 | B32: 전력 | C32: kWh | D32: 1.49 | E32: 0 | F32: =ROUNDDOWN(D32*E32, 1) -> 0 | G32: 0 | H32: =ROUNDDOWN(D32*G32, 1) -> 0 | I32: =ROUNDDOWN(#REF!, 0) -> #REF! | J32: =ROUNDDOWN(D32*I32, 1) -> #REF! | K32: =E32+G32+I32 -> #REF! | L32: =F32+H32+J32 -> #REF! | M32: 봄철(3~5월) | O32: 03 | P32: 기계경비 | Q32: 1
A33: 소 계 | F33: =SUMIF(Q30:Q32, "1", F30:F32) -> 0 | H33: =SUMIF(Q30:Q32, "1", H30:H32) -> 0 | J33: =SUMIF(Q30:Q32, "1", J30:J32) -> #REF! | K33: =E33+G33+I33 -> 0 | L33: =F33+H33+J33 -> #REF!
A34: 합 계 | F34: =ROUNDDOWN(SUMIF(Q30:Q33, "1", F30:F33), 0) -> 0 | H34: =ROUNDDOWN(SUMIF(Q30:Q33, "1", H30:H33), 0) -> 0 | J34: =ROUNDDOWN(SUMIF(Q30:Q33, "1", J30:J33), 0) -> #REF! | L34: =F34+H34+J34 -> #REF!

Sheet 집계표_
A1: 집 계 표
A2: =#REF! -> #REF!
A3: 품 명 | B3: 규 격 | C3: 단위 | D3: 수 량 | E3: 재 료 비 | G3: 노 무 비 | I3: 경 비 | K3: 합 계 | M3: 비고
E4: 단 가 | F4: 금 액 | G4: 단 가 | H4: 금 액 | I4: 단 가 | J4: 금 액 | K4: 단 가 | L4: 금 액 | N4: 손료요율 | O4: 손료구분 | P4: 적용구분 | Q4: 합계구분 | R4: 기계경비 | S4: 운반비 | T4: 작업부산물 | U4: 관급 | V4: 외주비 | W4: 장비비 | X4: 폐기물처리비 | Y4: 가설비 | Z4: 잡비제외분 | AA4: 사급자재대 | AB4: 관급자재대 | AC4: 사용자항목1 | AD4: 사용자항목2 | AE4: 안전관리비 | AF4: 품질관리비 | AG4: 사용자항목5 | AH4: 사용자항목6 | AI4: 사용자항목7 | AJ4: 사용자항목8 | AK4: 사용자항목9 | AL4: 사용자항목10 | AM4: 사용자항목11 | AN4: 사용자항목12 | AO4: 사용자항목13 | AP4: 사용자항목14 | AQ4: 사용자항목15 | AR4: 사용자항목16 | AS4: 사용자항목17 | AT4: 사용자항목18 | AU4: 사용자항목19 | AV4: 간접재료비 | AW4: 품목구분 | AX4: 조달코드
A5: 01. 가설공사 | C5: 식 | D5: 1 | E5: 20883 | F5: =D5*E5 -> 20883 | G5: 171231 | H5: =D5*G5 -> 171231 | I5: 92379 | J5: =D5*I5 -> 92379 | K5: =E5+G5+I5 -> 284493 | L5: =F5+H5+J5 -> 284493 | Q5: 1 | R5: 92379 | S5: 0 | T5: 0 | U5: 0 | V5: 0 | W5: 0 | X5: 0 | Y5: 0 | Z5: 0 | AA5: 0 | AB5: 0 | AC5: 0 | AD5: 0 | AE5: 0 | AF5: 0 | AG5: 0 | AH5: 0 | AI5: 0 | AJ5: 0 | AK5: 0 | AL5: 0 | AM5: 0 | AN5: 0 | AO5: 0 | AP5: 0 | AQ5: 0 | AR5: 0 | AS5: 0 | AT5: 0 | AU5: 0 | AV5: 0
A6: 02. 미장공사 | C6: 식 | D6: 1 | E6: 1258068 | F6: =D6*E6 -> 1258068 | G6: 3424556 | H6: =D6*G6 -> 3424556 | I6: 54517 | J6: =D6*I6 -> 54517 | K6: =E6+G6+I6 -> 4737141 | L6: =F6+H6+J6 -> 4737141 | Q6: 1 | R6: 54517 | S6: 0 | T6: 0 | U6: 0 | V6: 0 | W6: 0 | X6: 0 | Y6: 0 | Z6: 0 | AA6: 0 | AB6: 0 | AC6: 0 | AD6: 0 | AE6: 0 | AF6: 0 | AG6: 0 | AH6: 0 | AI6: 0 | AJ6: 0 | AK6: 0 | AL6: 0 | AM6: 0 | AN6: 0 | AO6: 0 | AP6: 0 | AQ6: 0 | AR6: 0 | AS6: 0 | AT6: 0 | AU6: 0 | AV6: 0
A7: 03. 도장공사 | C7: 식 | D7: 1 | E7: 0 | F7: =D7*E7 -> 0 | G7: 1322315 | H7: =D7*G7 -> 1322315 | I7: 52837 | J7: =D7*I7 -> 52837 | K7: =E7+G7+I7 -> 1375152 | L7: =F7+H7+J7 -> 1375152 | Q7: 1 | R7: 52837 | S7: 0 | T7: 0 | U7: 0 | V7: 0 | W7: 0 | X7: 0 | Y7: 0 | Z7: 0 | AA7: 0 | AB7: 0 | AC7: 0 | AD7: 0 | AE7: 0 | AF7: 0 | AG7: 0 | AH7: 0 | AI7: 0 | AJ7: 0 | AK7: 0 | AL7: 0 | AM7: 0 | AN7: 0 | AO7: 0 | AP7: 0 | AQ7: 0 | AR7: 0 | AS7: 0 | AT7: 0 | AU7: 0 | AV7: 0
A8: 04. 금속공사 | C8: 식 | D8: 1 | E8: 199410 | F8: =D8*E8 -> 199410 | G8: 94552 | H8: =D8*G8 -> 94552 | I8: 0 | J8: =D8*I8 -> 0 | K8: =E8+G8+I8 -> 293962 | L8: =F8+H8+J8 -> 293962 | Q8: 1 | R8: 0 | S8: 0 | T8: 0 | U8: 0 | V8: 0 | W8: 0 | X8: 0 | Y8: 0 | Z8: 0 | AA8: 0 | AB8: 0 | AC8: 0 | AD8: 0 | AE8: 0 | AF8: 0 | AG8: 0 | AH8: 0 | AI8: 0 | AJ8: 0 | AK8: 0 | AL8: 0 | AM8: 0 | AN8: 0 | AO8: 0 | AP8: 0 | AQ8: 0 | AR8: 0 | AS8: 0 | AT8: 0 | AU8: 0 | AV8: 0
A9: 05. 철거공사 | C9: 식 | D9: 1 | E9: 288141 | F9: =D9*E9 -> 288141 | G9: 6938479 | H9: =D9*G9 -> 6938479 | I9: 0 | J9: =D9*I9 -> 0 | K9: =E9+G9+I9 -> 7226620 | L9: =F9+H9+J9 -> 7226620 | Q9: 1 | R9: 0 | S9: 0 | T9: 0 | U9: 0 | V9: 0 | W9: 0 | X9: 0 | Y9: 0 | Z9: 0 | AA9: 0 | AB9: 0 | AC9: 0 | AD9: 0 | AE9: 0 | AF9: 0 | AG9: 0 | AH9: 0 | AI9: 0 | AJ9: 0 | AK9: 0 | AL9: 0 | AM9: 0 | AN9: 0 | AO9: 0 | AP9: 0 | AQ9: 0 | AR9: 0 | AS9: 0 | AT9: 0 | AU9: 0 | AV9: 0
A10: 06. 폐기물처리비 | C10: 식 | D10: 1 | E10: 0 | F10: =D10*E10 -> 0 | G10: 0 | H10: =D10*G10 -> 0 | I10: 84028 | J10: =D10*I10 -> 84028 | K10: =E10+G10+I10 -> 84028 | L10: =F10+H10+J10 -> 84028 | Q10: 1 | R10: 84028 | S10: 0 | T10: 0 | U10: 0 | V10: 0 | W10: 0 | X10: 0 | Y10: 0 | Z10: 0 | AA10: 0 | AB10: 0 | AC10: 0 | AD10: 0 | AE10: 0 | AF10: 0 | AG10: 0 | AH10: 0 | AI10: 0 | AJ10: 0 | AK10: 0 | AL10: 0 | AM10: 0 | AN10: 0 | AO10: 0 | AP10: 0 | AQ10: 0 | AR10: 0 | AS10: 0 | AT10: 0 | AU10: 0 | AV10: 0
A11: 07. 관급자재대 | C11: 식 | D11: 1 | E11: 6065000 | F11: =D11*E11 -> 6065000 | G11: 0 | H11: =D11*G11 -> 0 | I11: 0 | J11: =D11*I11 -> 0 | K11: =E11+G11+I11 -> 6065000 | L11: =F11+H11+J11 -> 6065000 | M11: 합계제외 | R11: 0 | S11: 0 | T11: 0 | U11: 0 | V11: 0 | W11: 0 | X11: 0 | Y11: 0 | Z11: 0 | AA11: 0 | AB11: 6065000 | AC11: 0 | AD11: 0 | AE11: 0 | AF11: 0 | AG11: 0 | AH11: 0 | AI11: 0 | AJ11: 0 | AK11: 0 | AL11: 0 | AM11: 0 | AN11: 0 | AO11: 0 | AP11: 0 | AQ11: 0 | AR11: 0 | AS11: 0 | AT11: 0 | AU11: 0 | AV11: 0
A20: 합 계 | F20: =SUMIF(Q5:Q11, "1", F5:F11) -> 1766502 | H20: =SUMIF(Q5:Q11, "1", H5:H11) -> 11951133 | J20: =SUM(J5:J7) -> 199733 | L20: =F20+H20+J20 -> 13917368 | R20: =SUM(R5:R11) -> 283761 | S20: =SUM(S5:S11) -> 0 | T20: =SUM(T5:T11) -> 0 | U20: =SUM(U5:U11) -> 0 | V20: =SUM(V5:V11) -> 0 | W20: =SUM(W5:W11) -> 0 | X20: =SUM(X5:X11) -> 0 | Y20: =SUM(Y5:Y11) -> 0 | ... AX20: =SUM(AX5:AX11) -> 0
