Workbook
Name _: #N/A
Name ___B140007: #REF!
Name ___B140007: #REF!
Name ___B140007: #REF!
Name ___B140007: #REF!
Name ___DOG1: #REF!
Name ___DOG1: #REF!
Name ___DOG1: #REF!
Name ___DOG1: #REF!
Name ___DOG2: #REF!
Name ___DOG2: #REF!
Name ___DOG2: #REF!
Name ___DOG2: #REF!
Name ___DOG22: #REF!
Name ___DOG22: #REF!
Name ___DOG22: #REF!
Name ___DOG22: #REF!
Name ___DOG3: #REF!
Name ___DOG3: #REF!
Name ___DOG3: #REF!
Name ___DOG3: #REF!
Name ___DOG33: #REF!
Name ___DOG33: #REF!
Name ___DOG33: #REF!
Name ___DOG33: #REF!
Name ___DOG4: #REF!
Name ___DOG4: #REF!
Name ___DOG4: #REF!
Name ___DOG4: #REF!
Name ___IL1: #REF!
Name ___IL1: #REF!
Name ___IL1: #REF!
Name ___IL1: #REF!
Name ___PI48: #REF!
Name ___PI48: #REF!
Name ___PI48: #REF!
Name ___PI48: #REF!
Name ___PI60: #REF!
Name ___PI60: #REF!
Name ___PI60: #REF!
Name ___PI60: #REF!
Name ___RO110: #REF!
Name ___RO110: #REF!
Name ___RO110: #REF!
Name ___RO110: #REF!
Name ___RO22: #REF!
Name ___RO22: #REF!
Name ___RO22: #REF!
Name ___RO22: #REF!
Name ___RO35: #REF!
Name ___RO35: #REF!
Name ___RO35: #REF!
Name ___RO35: #REF!
Name ___RO45: #REF!
Name ___RO45: #REF!
Name ___RO45: #REF!
Name ___RO45: #REF!
Name ___RO60: #REF!
Name ___RO60: #REF!
Name ___RO60: #REF!

Sheet 시설 사업비 산출
B1: 입력 필요
A3: ■ 그린스마트 미래학교 리모델링 사업비 산출서(예시)
A5: ■ 사업명 : | B5: ㅇㅇ학교 교사동 리모델링사업 | W5: ※ 검토 참고용
S6: 총 공사기간(예정) | T6: 12 | U6: 개월 | W6: 기존 건축물대장 | Z6: 대지면적(㎡) | AA6: 8974
A7: □ 사업규모 | W7: 구분 | X7: 건물명 | Y7: 층수 | Z7: 연면적(㎡) | AA7: 비고
A8: 학급수 | D8: 총 사업면적(리모델링) | G8: 공간특화 | J8: 주차 | M8: 석면철거공사 | P8: 리모델링 사업면적 | S8: 임시교사 | W8: 주1 | X8: 본관동 | Y8: 0/4 | Z8: 2750 | AA8: 리모델링
A9: 총 학급수 | B9: 24 | C9: 학급 | D9: 총 사업면적(연면적) | E9: 2750 | F9: ㎡ | G9: 공간혁신 특화 | H9: =(E9/2750)*10 -> 10 | I9: 실 | M9: 석면철거면적 | N9: 1285 | O9: ㎡ | S9: 임시교사(모듈러) 설치 | T9: 20 | U9: 실 | W9: 주2 | X9: 후관동 | Y9: 0/4 | Z9: 3140 | AA9: 존치
A10: 리모델링 대상 학급 | B10: 14 | C10: 실 | T10: =T6 -> 12 | U10: 개월 | W10: 주3 | X10: 다목적강당 | Y10: 0/2 | Z10: 994 | AA10: 존치
A13: □ 사업비 산출
A14: 구분 | E14: 수량 | F14: 단위 | G14: 단가(원) | J14: 사업비(원) | M14: 비고
A15: 시설비 | B15: 리모델링 | C15: 특화사업 | D15: 공간혁신 특화 | E15: =(E9/2750)*10 -> 10 | F15: 실 | G15: 69000000 | J15: =E15*G15 -> 690000000 | M15: 꿈을담은교실 단가 기준
D16: 계 | G16: =J16/E9 -> 250909.09 | J16: =SUM(J15) -> 690000000 | M16: 설계용역비 1.5배 적용
D17: 신재생에너지 | E17: =E9 -> 2750 | F17: ㎡ | G17: 92651 | J17: =E17*G17 -> 254790250 | W17: 계 | Y17: 0/4 | Z17: =SUM(Z8:Z15) -> 6884
D18: BEMS | E18: =(E9/2750)*1 -> 1 | F18: 식 | G18: 78670000 | J18: =E18*G18 -> 78670000 | M18: 원격검침전자실계량기 설치비 | X18: 건축면적 | Y18: 1685 | Z18: 건폐율 | AA18: =Y18/$AA$6 -> 0.18776465
D19: 실내환경계측기 설치 | E19: =(E9/2750)*1 -> 1 | F19: 식 | G19: 50000000 | J19: =E19*G19 -> 50000000 | X19: 연면적 | Y19: =Z17 -> 6884
D20: 학교숲 조성 | E20: =E9 -> 2750 | F20: ㎡ | G20: =100000000/2750 -> 36363.636 | J20: =E20*G20 -> 1e+08 | X20: 용적률산정용 연면적 | Y20: =Z17 -> 6884 | Z20: 용적률 | AA20: =Y20/$AA$6 -> 0.76710497
D21: 계 | G21: =J21/E9 -> 175803.73 | J21: =SUM(J17:L20) -> 483460250
C22: 교육환경개선 | D22: 일반교실 | E22: =(E9/2750)*14 -> 14 | F22: 실 | G22: 10000000 | J22: =E22*G22 -> 140000000
D23: 계단실 | E23: =(E9/2750)*2 -> 2 | F23: 실 | G23: 1300000 | J23: =E23*G23 -> 2600000
D24: 화장실(부분보수) | E24: =(E9/2750)*180 -> 180 | F24: ㎡ | G24: 1070000 | J24: =E24*G24 -> 192600000 | M24: 서울시교육청 단가
D25: 기타 | E25: =(E9/2750)*2 -> 2 | F25: 실 | G25: 10000000 | J25: =E25*G25 -> 20000000
D26: 재배치 | E26: =(E9/2750)*10 -> 10 | F26: 실 | G26: 10000000 | J26: =E26*G26 -> 100000000
D27: 외벽보수 | E27: =(E9/2750)*30 -> 30 | F27: 실 | G27: 14530000 | J27: =E27*G27 -> 435900000 | M27: 서울시교육청 단가
D28: 계 | G28: =J28/E9 -> 324036.36 | J28: =SUM(J22:L27) -> 891100000
C29: 임시교사 | D29: 모듈러 가설교사 | E29: =T9 -> 20 | F29: 실 | G29: 25000000 | J29: =E29*G29 -> 500000000
D30: 모듈러 가설교사 부대공사비 | E30: 1 | F30: 식 | G30: 100000000 | J30: =E30*G30 -> 100000000
D31: 계 | J31: =SUM(J29:L30) -> 600000000
C32: 리모델링 합계 | G32: =J32/E9 -> 718021.91 | J32: =J21+J28+J31 -> 1974560250
B33: 기타 | C33: 내진보강 | D33: 내진보강공사 | E33: 1 | F33: 식 | J33: =E33*G33 -> 0
D34: 계 | J34: =SUM(J33) -> 0
C35: 냉난방 | D35: EHP → EHP | F35: 실 | G35: 4630000 | J35: =E35*G35 -> 0 | M35: 서울시교육청 단가
D36: GHP→ EHP | F36: 실 | G36: 5130000 | J36: =E36*G36 -> 0 | M36: 서울시교육청 단가
D37: EHP or GHP → GHP | F37: 실 | G37: 7070000 | J37: =E37*G37 -> 0 | M37: 서울시교육청 단가
D38: 개별/중앙식 EHP → EHP | F38: 실 | G38: 5630000 | J38: =E38*G38 -> 0 | M38: 서울시교육청 단가
D39: 개별/중앙식 EHP → GHP | F39: 실 | G39: 7870000 | J39: =E39*G39 -> 0 | M39: 서울시교육청 단가
D40: 계 | J40: =SUM(J35:L39) -> 0
C41: 석면철거 | D41: 석면철거 | E41: =N9 -> 1285 | F41: ㎡ | G41: 75540 | J41: =E41*G41 -> 97068900 | M41: 서울시교육청 단가
D42: 지정폐기물 | E42: =E41 -> 1285 | F42: ㎡ | G42: 4118 | J42: =E42*G42 -> 5291630 | M42: 서울시교육청 단가
D43: 계 | G43: =SUM(G41:I42) -> 79658 | J43: =SUM(J41:L42) -> 102360530
C44: 기타 합계 | J44: =J34+J40+J43 -> 102360530
B45: 합 계 | G45: =J45/E9 -> 755243.92 | J45: =J32+J44 -> 2076920780

Sheet 설계 대상 공사비
A1: 설계용역 대가 산출서
A3: 1. 대상공사명 : | B3: 재동초 내진보강 및 화장실 개선공사 설계용역
A4: 2. 용 역 명 : | B4: =B3&" 설계용역" -> 재동초 내진보강 및 화장실 개선공사 설계용역 설계용역
A5: 3. 용역 규모 : | B5: =B3& " 1식" -> 재동초 내진보강 및 화장실 개선공사 설계용역 1식
A6: 4. 시설사업 규모 및 예산액 | H6: (금액단위 : 원)
A7: 용역명 | B7: 사업명 | D7: 물량(식) | E7: 시 설 비 | I7: 비고
E8: 설계비 | F8: 시설비 | G8: 감리비 | H8: 계 | K8: ='설계용역비(동관동,급식실동,후관동 내진보강)'!M85 -> 35310000 | M8: 조정설계비
A9: =B3 -> 재동초 내진보강 및 화장실 개선공사 설계용역 | B9: 재동초 동관동 내진보강공사 | D9: 1 | E9: =TRUNC(H9*0.03,-4) -> 24900000 | F9: =H9-G9-E9 -> 805100000 | G9: 0 | H9: 830000000 | K9: =H9/$H$17 -> 0.5063807 | L9: =$K$8*K9 -> 17880303 | M9: =ROUND(L9,-3) -> 17880000 | R9: =ROUND(E17*H9/H17,-3) -> 27360000
B10: 재동초 급식실동 내진보강공사 | D10: 1 | E10: =TRUNC(H10*0.0334,-4) -> 9010000 | F10: =H10-G10-E10 -> 260990000 | G10: 0 | H10: 270000000 | K10: =H10/$H$17 -> 0.16472625 | L10: =$K$8*K10 -> 5816484 | M10: =ROUND(L10,-3) -> 5816000 | R10: =ROUND(E17*H10/H17,-3) -> 8900000
B11: 재동초 후관동 내진보강공사 | D11: 1 | E11: =TRUNC(H11*0.035,-4) -> 1400000 | F11: =H11-G11-E11 -> 38600000 | G11: 0 | H11: 40000000 | K11: =H11/$H$17 -> 0.024403889 | L11: =$K$8*K11 -> 861701.33 | M11: =ROUND(L11,-3) -> 862000 | R11: =ROUND(E17*H11/H17,-3) -> 1319000
B12: 재동초 후관동 및 동관동 화장실개선공사 | D12: 1 | E12: =TRUNC(H12*0.03752,-4) -> 18720000 | F12: =H12-G12-E12 -> 480363000 | G12: 0 | H12: 499083000 | K12: =H12/$H$17 -> 0.30448916 | L12: =$K$8*K12 -> 10751512 | M12: =ROUND(L12,-3) -> 10752000
D13: 1 | E13: =TRUNC(H13*0.027,-4) -> 0 | F13: =H13-G13-E13 -> 0 | G13: 0 | H13: 0 | K13: =H13/$H$17 -> 0 | L13: =$K$8*K13 -> 0 | M13: =ROUND(L13,-3) -> 0
D14: 1 | F14: =H14-G14-E14 -> 0 | G14: 0 | K14: =H14/$H$17 -> 0 | L14: =$K$8*K14 -> 0 | M14: =ROUND(L14,-3) -> 0
D15: 1 | F15: =H15-G15-E15 -> 0 | G15: 0 | K15: =H15/$H$17 -> 0 | L15: =$K$8*K15 -> 0 | M15: =ROUND(L15,-3) -> 0
D16: 1 | E16: =R16 -> 0 | F16: =H16-G16-E16 -> 0 | G16: 0 | H16: 0 | K16: =H16/$H$17 -> 0 | L16: =$K$8*K16 -> 0 | M16: =ROUND(L16,-3) -> 0 | R16: =ROUND(E17*H16/H17,-3) -> 0
A17: 계 | E17: =SUM(E9:E13) -> 54030000 | F17: =SUM(F9:F16) -> 1585053000 | G17: =SUM(G9:G16) -> 0 | H17: =SUM(H9:H16) -> 1639083000 | K17: =SUM(K9:K16) -> 1 | L17: =SUM(L9:L16) -> 35310000 | M17: =SUM(M9:M16) -> 35310000 | R17: =SUM(R9:R16) -> 37579000
A18: 5. 설계용역 규모 및 공사비 산출근거[계획설계 및 중간, 실시설계]
A19: 가. 공사비 산출근거 | H19: (금액단위 : 원)
A20: 구분 | D20: =D7 -> 물량(식) | E20: 단가 | G20: 소요금액 | I20: 비고
A21: =A7 -> 용역명 | B21: =B7 -> 사업명
A22: =A9 -> 재동초 내진보강 및 화장실 개선공사 설계용역 | B22: =B9 -> 재동초 동관동 내진보강공사 | D22: 1 | E22: =F9 -> 805100000 | G22: =D22*E22 -> 805100000
B23: =B10 -> 재동초 급식실동 내진보강공사 | D23: 1 | E23: =F10 -> 260990000 | G23: =D23*E23 -> 260990000
B24: =B11 -> 재동초 후관동 내진보강공사 | D24: 1 | E24: =F11 -> 38600000 | G24: =D24*E24 -> 38600000
B25: =B12 -> 재동초 후관동 및 동관동 화장실개선공사 | D25: 1 | E25: =F12 -> 480363000 | G25: =D25*E25 -> 480363000
B26: =B13 -> 0 | D26: 1 | E26: =F13 -> 0 | G26: =D26*E26 -> 0
B27: =B14 -> 0 | D27: 1 | E27: =F14 -> 0 | G27: =D27*E27 -> 0
B28: =B15 -> 0 | D28: 1 | E28: =F15 -> 0 | G28: =D28*E28 -> 0
B29: =B16 -> 0 | D29: 1 | E29: =F16 -> 0 | G29: =D29*E29 -> 0
A30: 계 | G30: =SUM(G22:H29) -> 1585053000
A32: 나.기초공사비
A33: 구분 | D33: 총사업규모 | F33: 계획설계 | G33: 중간설계 | H33: 실시설계 | I33: 공사비중 | L33: 계획설계 | M33: 중간설계 | N33: 실시설계
A34: =B3 -> 재동초 내진보강 및 화장실 개선공사 설계용역 | B34: =B9 -> 재동초 동관동 내진보강공사 | C34: 총 공사비 | D34: =G22 -> 805100000 | F34: =VLOOKUP(L34,$P$34:$Q$35,2,0)*D34 -> 0 | G34: 0 | H34: =VLOOKUP(N34,$P$34:$Q$35,2,0)*D34 -> 805100000 | I34: 1 | L34: 미반영 | M34: 반영 | N34: 반영 | P34: 반영 | Q34: 1
C35: 건축(토목,설비)공사비 | D35: =INT(D34*I35) -> 805100000 | F35: =INT(F34*I35) -> 0 | G35: =INT(G34*I35) -> 0 | H35: =INT(H34*I35) -> 805100000 | I35: 1 | P35: 미반영 | Q35: 0
C36: 전기,통신(약전포함) 공사비 | D36: =INT(D34*I36) -> 0 | F36: =INT(F34*I36) -> 0 | G36: =INT(G34*I36) -> 0 | H36: =INT(H34*I36) -> 0 | I36: =I34-I35 -> 0
B37: =B10 -> 재동초 급식실동 내진보강공사 | C37: 총 공사비 | D37: =G23 -> 260990000 | F37: =VLOOKUP(L37,$P$34:$Q$35,2,0)*D37 -> 0 | G37: 0 | H37: =VLOOKUP(N37,$P$34:$Q$35,2,0)*D37 -> 260990000 | I37: 1 | L37: 미반영 | M37: 반영 | N37: 반영
C38: 건축(토목,설비)공사비 | D38: =INT(D37*I38) -> 260990000 | F38: =INT(F37*I38) -> 0 | G38: =INT(G37*I38) -> 0 | H38: =INT(H37*I38) -> 260990000 | I38: 1
C39: 전기,통신(약전포함) 공사비 | D39: =INT(D37*I39) -> 0 | F39: =INT(F37*I39) -> 0 | G39: =INT(G37*I39) -> 0 | H39: =INT(H37*I39) -> 0 | I39: =I37-I38 -> 0
B40: =B11 -> 재동초 후관동 내진보강공사 | C40: 총 공사비 | D40: =G24 -> 38600000 | F40: =VLOOKUP(L40,$P$34:$Q$35,2,0)*D40 -> 0 | G40: =VLOOKUP(M40,$P$34:$Q$35,2,0)*D40 -> 0 | H40: =VLOOKUP(N40,$P$34:$Q$35,2,0)*D40 -> 38600000 | I40: 1 | L40: 미반영 | M40: 미반영 | N40: 반영
C41: 건축(토목,설비)공사비 | D41: =INT(D40*I41) -> 38600000 | F41: =INT(F40*I41) -> 0 | G41: =INT(G40*I41) -> 0 | H41: =INT(H40*I41) -> 38600000 | I41: 1
C42: 전기,통신(약전포함) 공사비 | D42: =INT(D40*I42) -> 0 | F42: =INT(F40*I42) -> 0 | G42: =INT(G40*I42) -> 0 | H42: =INT(H40*I42) -> 0 | I42: =I40-I41 -> 0
B43: =B12 -> 재동초 후관동 및 동관동 화장실개선공사 | C43: 총 공사비 | D43: =G25 -> 480363000 | F43: =VLOOKUP(L43,$P$34:$Q$35,2,0)*D43 -> 0 | G43: =VLOOKUP(M43,$P$34:$Q$35,2,0)*D43 -> 480363000 | H43: =VLOOKUP(N43,$P$34:$Q$35,2,0)*D43 -> 480363000 | I43: 1 | L43: 미반영 | M43: 반영 | N43: 반영
C44: 건축(토목,설비)공사비 | D44: =INT(D43*I44) -> 360272250 | F44: =INT(F43*I44) -> 0 | G44: =INT(G43*I44) -> 360272250 | H44: =INT(H43*I44) -> 360272250 | I44: 0.75
C45: 전기,통신(약전포함) 공사비 | D45: =INT(D43*I45) -> 120090750 | F45: =INT(F43*I45) -> 0 | G45: =INT(G43*I45) -> 120090750 | H45: =INT(H43*I45) -> 120090750 | I45: =I43-I44 -> 0.25
B46: =B13 -> 0 | C46: 총 공사비 | D46: =G26 -> 0 | F46: =VLOOKUP(L46,$P$34:$Q$35,2,0)*D46 -> 0 | G46: =VLOOKUP(M46,$P$34:$Q$35,2,0)*D46 -> 0 | H46: =VLOOKUP(N46,$P$34:$Q$35,2,0)*D46 -> 0 | I46: 1 | L46: 미반영 | M46: 반영 | N46: 반영
C47: 건축(토목,설비)공사비 | D47: =INT(D46*I47) -> 0 | F47: =INT(F46*I47) -> 0 | G47: =INT(G46*I47) -> 0 | H47: =INT(H46*I47) -> 0 | I47: 0.95
C48: 전기,통신(약전포함) 공사비 | D48: =INT(D46*I48) -> 0 | F48: =INT(F46*I48) -> 0 | G48: =INT(G46*I48) -> 0 | H48: =INT(H46*I48) -> 0 | I48: =I46-I47 -> 0.05
B49: =B14 -> 0 | C49: 총 공사비 | D49: =G27 -> 0 | F49: =VLOOKUP(L49,$P$34:$Q$35,2,0)*D49 -> 0 | G49: =VLOOKUP(M49,$P$34:$Q$35,2,0)*D49 -> 0 | H49: =VLOOKUP(N49,$P$34:$Q$35,2,0)*D49 -> 0 | I49: 1 | L49: 미반영 | M49: 반영 | N49: 반영
C50: 건축(토목,설비)공사비 | D50: =INT(D49*I50) -> 0 | F50: =INT(F49*I50) -> 0 | G50: =INT(G49*I50) -> 0 | H50: =INT(H49*I50) -> 0 | I50: 1
C51: 전기,통신(약전포함) 공사비 | D51: =INT(D49*I51) -> 0 | F51: =INT(F49*I51) -> 0 | G51: =INT(G49*I51) -> 0 | H51: =INT(H49*I51) -> 0 | I51: =I49-I50 -> 0
B52: =B15 -> 0 | C52: 총 공사비 | D52: =G28 -> 0 | F52: =VLOOKUP(L52,$P$34:$Q$35,2,0)*D52 -> 0 | G52: =VLOOKUP(M52,$P$34:$Q$35,2,0)*D52 -> 0 | H52: =VLOOKUP(N52,$P$34:$Q$35,2,0)*D52 -> 0 | I52: 1 | L52: 미반영 | M52: 반영 | N52: 반영
C53: 건축(토목,설비)공사비 | D53: =INT(D52*I53) -> 0 | F53: =INT(F52*I53) -> 0 | G53: =INT(G52*I53) -> 0 | H53: =INT(H52*I53) -> 0 | I53: 1
C54: 전기,통신(약전포함) 공사비 | D54: =INT(D52*I54) -> 0 | F54: =INT(F52*I54) -> 0 | G54: =INT(G52*I54) -> 0 | H54: =INT(H52*I54) -> 0 | I54: =I52-I53 -> 0
B55: =B16 -> 0 | C55: 총 공사비 | D55: =G29 -> 0 | F55: =VLOOKUP(L55,$P$34:$Q$35,2,0)*D55 -> 0 | G55: =VLOOKUP(M55,$P$34:$Q$35,2,0)*D55 -> 0 | H55: =VLOOKUP(N55,$P$34:$Q$35,2,0)*D55 -> 0 | I55: 1 | L55: 미반영 | M55: 미반영 | N55: 반영
C56: 건축(토목,설비)공사비 | D56: =INT(D55*I56) -> 0 | F56: =INT(F55*I56) -> 0 | G56: =INT(G55*I56) -> 0 | H56: =INT(H55*I56) -> 0 | I56: 0.8
C57: 전기,통신(약전포함) 공사비 | D57: =INT(D55*I57) -> 0 | F57: =INT(F55*I57) -> 0 | G57: =INT(G55*I57) -> 0 | H57: =INT(H55*I57) -> 0 | I57: =I55-I56 -> 0.2
A59: 다. 용역대상공사비
A60: 구분 | D60: 총사업규모 | F60: 계획설계 | G60: 중간설계 | H60: 실시설계 | I60: 비 고
A61: =A34 -> 재동초 내진보강 및 화장실 개선공사 설계용역 | B61: =B9 -> 재동초 동관동 내진보강공사 | C61: 공사비(건축,토목,설비) | D61: =D35 -> 805100000 | F61: =F35 -> 0 | G61: =G35 -> 0 | H61: =H35 -> 805100000
C62: 용역적용금액(부가세공제) | D62: =TRUNC(D61/1.1,0) -> 731909090 | F62: =TRUNC(F61/1.1,0) -> 0 | G62: =TRUNC(G61/1.1,0) -> 0 | H62: =TRUNC(H61/1.1,0) -> 731909090
B63: =B10 -> 재동초 급식실동 내진보강공사 | C63: 공사비(건축,토목,설비) | D63: =D38 -> 260990000 | F63: =F38 -> 0 | G63: =G38 -> 0 | H63: =H38 -> 260990000
C64: 용역적용금액(부가세공제) | D64: =TRUNC(D63/1.1,0) -> 237263636 | F64: =TRUNC(F63/1.1,0) -> 0 | G64: =TRUNC(G63/1.1,0) -> 0 | H64: =TRUNC(H63/1.1,0) -> 237263636
B65: =B11 -> 재동초 후관동 내진보강공사 | C65: 공사비(건축,토목,설비) | D65: =D41 -> 38600000 | F65: =F41 -> 0 | G65: =G41 -> 0 | H65: =H41 -> 38600000
C66: 용역적용금액(부가세공제) | D66: =TRUNC(D65/1.1,0) -> 35090909 | F66: =TRUNC(F65/1.1,0) -> 0 | G66: =TRUNC(G65/1.1,0) -> 0 | H66: =TRUNC(H65/1.1,0) -> 35090909
B67: =B12 -> 재동초 후관동 및 동관동 화장실개선공사 | C67: 공사비(건축,토목,설비) | D67: =D44 -> 360272250 | F67: =F44 -> 0 | G67: =G44 -> 360272250 | H67: =H44 -> 360272250
C68: 용역적용금액(부가세공제) | D68: =TRUNC(D67/1.1,0) -> 327520227 | F68: =TRUNC(F67/1.1,0) -> 0 | G68: =TRUNC(G67/1.1,0) -> 327520227 | H68: =TRUNC(H67/1.1,0) -> 327520227
B69: =B13 -> 0 | C69: 공사비(건축,토목,설비) | D69: =D47 -> 0 | F69: =F47 -> 0 | G69: =G47 -> 0 | H69: =H47 -> 0
C70: 용역적용금액(부가세공제) | D70: =TRUNC(D69/1.1,0) -> 0 | F70: =TRUNC(F69/1.1,0) -> 0 | G70: =TRUNC(G69/1.1,0) -> 0 | H70: =TRUNC(H69/1.1,0) -> 0
B71: =B14 -> 0 | C71: 공사비(건축,토목,설비) | D71: =D50 -> 0 | F71: =F50 -> 0 | G71: =G50 -> 0 | H71: =H50 -> 0
C72: 용역적용금액(부가세공제) | D72: =TRUNC(D71/1.1,0) -> 0 | F72: =TRUNC(F71/1.1,0) -> 0 | G72: =TRUNC(G71/1.1,0) -> 0 | H72: =TRUNC(H71/1.1,0) -> 0
B73: =B15 -> 0 | C73: 공사비(건축,토목,설비) | D73: =D53 -> 0 | F73: =F53 -> 0 | G73: =G53 -> 0 | H73: =H53 -> 0
C74: 용역적용금액(부가세공제) | D74: =TRUNC(D73/1.1,0) -> 0 | F74: =TRUNC(F73/1.1,0) -> 0 | G74: =TRUNC(G73/1.1,0) -> 0 | H74: =TRUNC(H73/1.1,0) -> 0
B75: =B16 -> 0 | C75: 공사비(건축,토목,설비) | D75: =D56 -> 0 | F75: =F56 -> 0 | G75: =G56 -> 0 | H75: =H56 -> 0
C76: 용역적용금액(부가세공제) | D76: =TRUNC(D75/1.1,0) -> 0 | F76: =TRUNC(F75/1.1,0) -> 0 | G76: =TRUNC(G75/1.1,0) -> 0 | H76: =TRUNC(H75/1.1,0) -> 0

Sheet 각종 인증
A1: 각종 인증 관련 비용
A3: ○ 인증수수료 | L3: = | M3: =SUM(K4:K10) -> 61881800 | Q3: 원
B4: 녹색건축 | K4: =U4+W4 -> 17083000 | R4: https://www.gbc.re.kr/app/info/charge.do | S4: 에서 수수료계산 | T4: 예비인증 | U4: 7293000 | V4: 본인증 | W4: 9790000
B5: 지능형건축 | K5: =F5 -> 0 | R5: https://kisba.org/2017/html/sub03_14.php?PHPSESSID=6cf9c72197d90c80b58e65120ab07235 | X5: 에서 수수료계산
B6: 에너지효율등급(예비인증) | F6: 5천㎡이상 1만㎡미만 | K6: =+HLOOKUP(F6,'(참고)인증관련 추가 설계대가 요율'!$D$30:$N$31,2,FALSE)*2 -> 17380000 | M6: ※ 제로에너지인증 별도 추가 감안
B7: 에너지효율등급(본인증) | F7: 5천㎡이상 1만㎡미만 | K7: =+HLOOKUP(F7,'(참고)인증관련 추가 설계대가 요율'!$D$30:$N$31,2,FALSE)*2 -> 17380000 | M7: ※ 제로에너지인증 별도 추가 감안
B8: 장애물 없는 생활환경(BF)(예비인증) | F8: 3천㎡이상 1만㎡미만 | K8: =+HLOOKUP(F8,'(참고)인증관련 추가 설계대가 요율'!$E$41:$J$47,4,FALSE) -> 2719200 | M8: 장애인ㆍ노인ㆍ임산부 등의 편의증진 보장에 관한 법률 제10의2의제3항
B9: 장애물 없는 생활환경(BF)(본인증) | F9: 3천㎡이상 1만㎡미만 | K9: =+HLOOKUP(F9,'(참고)인증관련 추가 설계대가 요율'!$E$41:$J$47,7,FALSE) -> 5319600
B10: 설계안전성검토 | F10: 300억미만 | K10: 2000000 | M10: 건설기술진흥법 시행령제98조제1항에 따른 안전관리계획 수립대상 중 발주청 발주공사의 실시설계
I154: ='각종 인증'!M3 -> 61881800

Sheet 설계용역비(동관동,급식실동,후관동 내진보강)
A1: 설계용역비 산출서
A3: (1) 관련조문
A4: ○ 국토교통부고시 제2020-635호, 2020. 9. 14. 개정
A5: : 공공발주사업에 대한 건축사의 업무범위와 대가기준 [별표4]건축설계 대가요율 - 2종(보통)
A6: (2) 용역대상 공사비 : 용역대상적용금액(부가가치세 공제)
B7: - 계획설계공사비 | J7: =SUM(J8:M15) -> 0
B8: ='설계 대상 공사비'!B9:C9 -> 재동초 동관동 내진보강공사 | J8: ='설계 대상 공사비'!F62 -> 0
B9: ='설계 대상 공사비'!B10:C10 -> 재동초 급식실동 내진보강공사 | J9: ='설계 대상 공사비'!F64 -> 0
B10: ='설계 대상 공사비'!B11:C11 -> 재동초 후관동 내진보강공사 | J10: ='설계 대상 공사비'!F66 -> 0
B11: ='설계 대상 공사비'!B12:C12 -> 재동초 후관동 및 동관동 화장실개선공사 | J11: ='설계 대상 공사비'!F68 -> 0
B12: ='설계 대상 공사비'!B13:C13 -> 0 | J12: ='설계 대상 공사비'!F70 -> 0
B13: ='설계 대상 공사비'!B14:C14 -> 0 | J13: ='설계 대상 공사비'!F72 -> 0
B14: ='설계 대상 공사비'!B15:C15 -> 0 | J14: ='설계 대상 공사비'!F74 -> 0
B15: ='설계 대상 공사비'!B16:C16 -> 0 | J15: ='설계 대상 공사비'!F76 -> 0
B16: - 중간설계공사비 | J16: =SUM(J17:M24) -> 0
B17: =B8 -> 재동초 동관동 내진보강공사 | J17: ='설계 대상 공사비'!G62 -> 0
B18: =B9 -> 재동초 급식실동 내진보강공사 | J18: ='설계 대상 공사비'!G64 -> 0
B19: =B10 -> 재동초 후관동 내진보강공사 | J19: ='설계 대상 공사비'!G66 -> 0
B21: =B12 -> 0 | J21: ='설계 대상 공사비'!G70 -> 0
B22: =B13 -> 0 | J22: ='설계 대상 공사비'!G72 -> 0
B23: =B14 -> 0 | J23: ='설계 대상 공사비'!G74 -> 0
B24: =B15 -> 0 | J24: ='설계 대상 공사비'!G76 -> 0
B25: - 실시설계공사비 | J25: =SUM(J26:M33) -> 1004263635
B26: =B8 -> 재동초 동관동 내진보강공사 | J26: ='설계 대상 공사비'!H62 -> 731909090
B27: =B9 -> 재동초 급식실동 내진보강공사 | J27: ='설계 대상 공사비'!H64 -> 237263636
B28: =B10 -> 재동초 후관동 내진보강공사 | J28: ='설계 대상 공사비'!H66 -> 35090909
B30: =B12 -> 0 | J30: ='설계 대상 공사비'!H70 -> 0
B31: =B13 -> 0 | J31: ='설계 대상 공사비'!H72 -> 0
B32: =B14 -> 0 | J32: ='설계 대상 공사비'!H74 -> 0
B33: =B15 -> 0 | J33: ='설계 대상 공사비'!H76 -> 0
A35: (3) 적용요율
A36: ○ 계획설계 대가요율 | E36: 제2종보통기본 | J36: 미적용 | R36: 학교시설사업 설계용역 대가 표준화 개선계획 알림(교육시설안전과-1167, 2019. 2. )참조
A37: 구 분 | G37: =INDEX('(참고)건축설계 대가요율'!$C$7:$C$24,MATCH(J8+J9+J10+J11+J12+J13+J14+J15,'(참고)건축설계 대가요율'!$D$7:$D$24)) -> 5000만원이하 | K37: =INDEX('(참고)건축설계 대가요율'!$C$7:$C$24,MATCH(J8+J9+J10+J11+J12+J13+J14+J15,'(참고)건축설계 대가요율'!$D$7:$D$24)+1) -> 5000만원 | M37: 이하 | N37: 비고
A38: 적용요율 | E38: =IF($E$36="제2종보통기본",(VLOOKUP(G37,'(참고)건축설계 대가요율'!$C$6:$J$24,5,FALSE)),IF($E$36="제2종보통중급",(VLOOKUP(G37,'(참고)건축설계 대가요율'!$C$6:$J$24,4,FALSE)),IF($E$36="제2종보통상급",(VLOOKUP(G37,'(참고)건축설계 대가요율'!$C$6:$J$24,3,FALSE)),IF($E$36="제3종복잡기본",(VLOOKUP(G37,'(참고)건축설계 대가요율'!$C$6:$J$24,8,FALSE)),IF($E$36="제3종복잡중급",(VLOOKUP(G37,'(참고)건축설계 대가요율'!$C$6:$J$24,7,FALSE)),IF($E$36="제3종복잡상급",(VLOOKUP(G37,'(참고)건축설계 대가요율'!$C$6:$J$24,6,FALSE)),"공종을 입력해주세요")))))) -> 7.61 | K38: =IF($E$36="제2종보통기본",(VLOOKUP(K37,'(참고)건축설계 대가요율'!$C$6:$J$24,5,FALSE)),IF($E$36="제2종보통중급",(VLOOKUP(K37,'(참고)건축설계 대가요율'!$C$6:$J$24,4,FALSE)),IF($E$36="제2종보통상급",(VLOOKUP(K37,'(참고)건축설계 대가요율'!$C$6:$J$24,3,FALSE)),IF($E$36="제3종복잡기본",(VLOOKUP(K37,'(참고)건축설계 대가요율'!$C$6:$J$24,8,FALSE)),IF($E$36="제3종복잡중급",(VLOOKUP(K37,'(참고)건축설계 대가요율'!$C$6:$J$24,7,FALSE)),IF($E$36="제3종복잡상급",(VLOOKUP(K37,'(참고)건축설계 대가요율'!$C$6:$J$24,6,FALSE)),"공종을 입력해주세요")))))) -> 7.61 | N38: 직선보간
A39: = | B39: =K38 -> 7.61 | C39: + | D39: ( | E39: =E38 -> 7.61 | F39: - | G39: =K38 -> 7.61 | H39: ) | I39: × | J39: ( | K39: =VLOOKUP(K37,'(참고)건축설계 대가요율'!$C$7:$D$224,2,0) -> 50000000 | L39: - | M39: =J7 -> 0 | N39: ) | O39: = | P39: =TRUNC(((B39+((E39-G39)*((K39-M39)/(K40-M40))))),2) -> 7.61 | Q39: %
J40: ( | K40: =VLOOKUP(K37,'(참고)건축설계 대가요율'!$C$7:$D$24,2,0) -> 50000000 | L40: - | M40: =VLOOKUP(G37,'(참고)건축설계 대가요율'!$C$7:$D$24,2,0) -> 0 | N40: )
A41: - 설계 업무비율 계획설계(20%)적용
A42: = | G42: =P39 -> 7.61 | L42: × | M42: 0 | O42: = | P42: =TRUNC((G42*M42),2) -> 0 | Q42: %
A43: ○ 중간설계대가요율 | E43: 제2종보통기본 | J43: 적용
A44: 구 분 | G44: =INDEX('(참고)건축설계 대가요율'!$C$7:$C$24,MATCH(J17+J18+J19+J20+J21+J22+J23+J24,'(참고)건축설계 대가요율'!$D$7:$D$24)) -> 5000만원이하 | K44: =INDEX('(참고)건축설계 대가요율'!$C$7:$C$24,MATCH(J17+J18+J19+J20+J21+J22+J23+J24,'(참고)건축설계 대가요율'!$D$7:$D$24)+1) -> 5000만원 | M44: 이하 | N44: 비고
A45: 적용요율 | E45: =IF($E$43="제2종보통기본",(VLOOKUP(G44,'(참고)건축설계 대가요율'!$C$6:$J$24,5,FALSE)),IF($E$43="제2종보통중급",(VLOOKUP(G44,'(참고)건축설계 대가요율'!$C$6:$J$24,4,FALSE)),IF($E$43="제2종보통상급",(VLOOKUP(G44,'(참고)건축설계 대가요율'!$C$6:$J$24,3,FALSE)),IF($E$43="제3종복잡기본",(VLOOKUP(G44,'(참고)건축설계 대가요율'!$C$6:$J$24,8,FALSE)),IF($E$43="제3종복잡중급",(VLOOKUP(G44,'(참고)건축설계 대가요율'!$C$6:$J$24,7,FALSE)),IF($E$43="제3종복잡상급",(VLOOKUP(G44,'(참고)건축설계 대가요율'!$C$6:$J$24,6,FALSE)),"공종을 입력해주세요")))))) -> 7.61 | K45: =IF($E$43="제2종보통기본",(VLOOKUP(K44,'(참고)건축설계 대가요율'!$C$6:$J$24,5,FALSE)),IF($E$43="제2종보통중급",(VLOOKUP(K44,'(참고)건축설계 대가요율'!$C$6:$J$24,4,FALSE)),IF($E$43="제2종보통상급",(VLOOKUP(K44,'(참고)건축설계 대가요율'!$C$6:$J$24,3,FALSE)),IF($E$43="제3종복잡기본",(VLOOKUP(K44,'(참고)건축설계 대가요율'!$C$6:$J$24,8,FALSE)),IF($E$43="제3종복잡중급",(VLOOKUP(K44,'(참고)건축설계 대가요율'!$C$6:$J$24,7,FALSE)),IF($E$43="제3종복잡상급",(VLOOKUP(K44,'(참고)건축설계 대가요율'!$C$6:$J$24,6,FALSE)),"공종을 입력해주세요")))))) -> 7.61 | N45: 직선보간
A46: = | B46: =+K45 -> 7.61 | C46: + | D46: ( | E46: =+E45 -> 7.61 | F46: - | G46: =+K45 -> 7.61 | H46: ) | J46: ( | K46: =VLOOKUP(K44,'(참고)건축설계 대가요율'!$C$7:$D$224,2,0) -> 50000000 | L46: - | M46: =J16 -> 0 | N46: ) | O46: = | P46: =TRUNC(((B46+((E46-G46)*((K46-M46)/(K47-M47))))),2) -> 7.61 | Q46: %
J47: ( | K47: =VLOOKUP(K44,'(참고)건축설계 대가요율'!$C$7:$D$24,2,0) -> 50000000 | L47: - | M47: =VLOOKUP(G44,'(참고)건축설계 대가요율'!$C$7:$D$24,2,0) -> 0 | N47: )
A48: - 설계 업무비율 중간설계(30%)적용
A49: = | G49: =P46 -> 7.61 | L49: × | M49: 0 | O49: = | P49: =TRUNC((G49*M49),2) -> 0 | Q49: %
A50: ○ 실시설계대가요율 | E50: 제2종보통중급 | J50: 적용
A51: 구 분 | G51: =INDEX('(참고)건축설계 대가요율'!$C$7:$C$24,MATCH(J26+J27+J28+J29+J30+J31+J32+J33,'(참고)건축설계 대가요율'!$D$7:$D$24)) -> 10억원 | K51: =INDEX('(참고)건축설계 대가요율'!$C$7:$C$24,MATCH(J26+J27+J28+J29+J30+J31+J32+J33,'(참고)건축설계 대가요율'!$D$7:$D$24)+1) -> 20억원 | M51: 이하 | N51: 비고
A52: 적용요율 | E52: =IF($E$50="제2종보통기본",(VLOOKUP(G51,'(참고)건축설계 대가요율'!$C$6:$J$24,5,FALSE)),IF($E$50="제2종보통중급",(VLOOKUP(G51,'(참고)건축설계 대가요율'!$C$6:$J$24,4,FALSE)),IF($E$50="제2종보통상급",(VLOOKUP(G51,'(참고)건축설계 대가요율'!$C$6:$J$24,3,FALSE)),IF($E$50="제3종복잡기본",(VLOOKUP(G51,'(참고)건축설계 대가요율'!$C$6:$J$24,8,FALSE)),IF($E$50="제3종복잡중급",(VLOOKUP(G51,'(참고)건축설계 대가요율'!$C$6:$J$24,7,FALSE)),IF($E$50="제3종복잡상급",(VLOOKUP(G51,'(참고)건축설계 대가요율'!$C$6:$J$24,6,FALSE)),"공종을 입력해주세요")))))) -> 5.32 | K52: =IF($E$50="제2종보통기본",(VLOOKUP(K51,'(참고)건축설계 대가요율'!$C$6:$J$24,5,FALSE)),IF($E$50="제2종보통중급",(VLOOKUP(K51,'(참고)건축설계 대가요율'!$C$6:$J$24,4,FALSE)),IF(E50="제2종보통상급",(VLOOKUP(K51,'(참고)건축설계 대가요율'!$C$6:$J$24,3,FALSE)),IF($E$50="제3종복잡기본",(VLOOKUP(K51,'(참고)건축설계 대가요율'!$C$6:$J$24,8,FALSE)),IF($E$50="제3종복잡중급",(VLOOKUP(K51,'(참고)건축설계 대가요율'!$C$6:$J$24,7,FALSE)),IF($E$50="제3종복잡상급",(VLOOKUP(K51,'(참고)건축설계 대가요율'!$C$6:$J$24,6,FALSE)),"공종을 입력해주세요")))))) -> 4.72 | N52: 직선보간
A53: = | B53: =+K52 -> 4.72 | C53: + | D53: ( | E53: =+E52 -> 5.32 | F53: - | G53: =+K52 -> 4.72 | H53: ) | I53: × | J53: ( | K53: =VLOOKUP(K51,'(참고)건축설계 대가요율'!$C$7:$D$224,2,0) -> 2000000000 | L53: - | M53: =J25 -> 1004263635 | N53: ) | O53: = | P53: =TRUNC(((B53+((E53-G53)*((K53-M53)/(K54-M54))))),2) -> 5.31 | Q53: %
J54: ( | K54: =VLOOKUP(K51,'(참고)건축설계 대가요율'!$C$7:$D$24,2,0) -> 2000000000 | L54: - | M54: =VLOOKUP(G51,'(참고)건축설계 대가요율'!$C$7:$D$24,2,0) -> 1000000000 | N54: )
A55: - 설계 업무비율 실시설계(50%)적용
A56: = | G56: =P53 -> 5.31 | L56: × | M56: 0.6 | O56: = | P56: =TRUNC((G56*M56),2) -> 3.18 | Q56: %
A57: (4) 용역비 산출 금액
A58: ○ 계획설계비 | D58: =E36 -> 제2종보통기본
C59: = | E59: =J7 -> 0 | I59: × | K59: =TRUNC(P42*1,2) -> 0 | L59: % = | M59: =INT(E59*(K59/100)) -> 0 | Q59: 원
A60: ○ 중간설계비 | D60: =E43 -> 제2종보통기본
C61: = | E61: =J16 -> 0 | I61: × | K61: =TRUNC(P49*1,2) -> 0 | L61: % = | M61: =TRUNC(E61*(K61/100),0) -> 0 | Q61: 원
A62: ○ 실시설계비 | D62: =E50 -> 제2종보통중급
C63: = | E63: =J25 -> 1004263635 | I63: × | K63: =TRUNC(P56*1,2) -> 3.18 | L63: % = | M63: =TRUNC(E63*(K63/100),0) -> 31935583 | Q63: 원
A64: ○ 소계(계획,중간,실시) | M64: =+M59+M61+M63 -> 31935583 | Q64: 원
A66: ○ 인증관련 추가 설계대가 요율 | F66: =M64 -> 31935583 | I66: × | K66: =LARGE($K$67:$K$69,1)+LARGE($K$67:$K$69,2)/2+LARGE($K$67:$K$69,3)/3 -> 0 | L66: % = | M66: =TRUNC(F66*(K66/100),0) -> 0 | Q66: 원
B67: 녹색건축인증 | F67: 해당없음 | K67: =+HLOOKUP(F67,'(참고)인증관련 추가 설계대가 요율'!$D$11:$H$12,2,FALSE) -> 0 | L67: %
B68: 지능형건축물인증 | F68: 해당없음 | K68: =+HLOOKUP(F68,'(참고)인증관련 추가 설계대가 요율'!$D$13:$I$14,2,FALSE) -> 0 | L68: %
B69: 에너지효율등급인증 | F69: 해당없음 | K69: =+HLOOKUP(F69,'(참고)인증관련 추가 설계대가 요율'!$D$15:$I$16,2,FALSE) -> 0 | L69: %
A71: ○ 조감도(1조) | R71: 중간설계 중급 이상 적용시 제외(도서에 포함)
B72: = | E72: 1500000 | I72: × | K72: 0 | L72: = | M72: =INT(E72*K72) -> 0 | Q72: 원
A73: ○ 지질조사비(추정심도 9M기준) | M73: =SUM(M74:P75) -> 0 | Q73: 원
B74: = | E74: ='(참고)지질조사'!F14 -> 3880000 | I74: × | K74: 0 | L74: 공= | M74: =INT(E74*K74) -> 0 | Q74: 원
B75: = | E75: ='(참고)지질조사'!E24+'(참고)지질조사'!E25 -> 637050 | I75: × | K75: 0 | L75: = | M75: =INT(E75*K75) -> 0 | Q75: 원 | R75: 장비 및 기계설비 1회만 적용
A77: ○ 현황측량비
B78: = | E78: ='(참고)측량비'!I23 -> 988 | I78: × | L78: ㎡= | M78: =INT(E78*K78) -> 0 | Q78: 원 | R78: 필요시 적용, 도시계획변경용역시 동시 수행
A79: ○ 소 계 : | L79: = | M79: =SUM(M64,M66,M72,M73,M589,M78) -> 31935583 | Q79: 원
A80: ○ 용역손해배상보험,공제 | M80: =SUM(M81:P81) -> 166065.03 | Q80: 원
B81: = | C81: =(M63)*(100%+K66/100) -> 31935583 | E81: × | F81: 5억원이하 | K81: =HLOOKUP(F81,'(참고)설계 및 감리의 손해배상(공제)'!$D$15:$H$27,4,FALSE) -> 0.52 | L81: %= | M81: =C81*K81% -> 166065.03 | Q81: 원
A82: ○ 부가가치세 : | E82: =M79+M80 -> 32101648 | I82: × | K82: 10 | L82: % = | M82: =E82*K82% -> 3210164.8 | Q82: 원
A83: ○ | B83: 합 계 | D83: : | L83: = | M83: =TRUNC(SUM(M79,M80,M82),-4) -> 35310000 | Q83: 원
A84: ○ | B84: 공간혁신 특화사업 설계비 0.5배 추가 적용(천원절이하절사) | K84: 0.5 배 | L84: ≒ | M84: =TRUNC((#REF!+#REF!+#REF!)*0.5,-3)*0 -> #REF! | Q84: 원 | R84: 공공발주사업에 대한 건축사의 업무범위와 대가기준 제11조(설계업무 대가의 산정) 4항의 1에 의거 대가의 1.5배를 적용한다.(전체 사업의 약 30% 적용)
A85: ● | B85: 설계용역 발주금액(천원이하절사) | M85: =M83 -> 35310000 | Q85: 원 | R85: 내진보강공사 건축설계용역비

Sheet 설계경제성검토(VE)
A1: 설계경제성검토(VE) 용역비 산출서
A3: (1) 관련조문
A4: ○ 건설기술진흥법시행령 제75조
A5: ○ 국토해양부 고시 제2015-472호 건설기술용역대가등에관한기준
A6: (2) 용역대상 공사비 : 용역대상적용금액(부가가치세공제) | S6: 공사난이도
B7: - 기본설계공사비 | J7: ='설계 대상 공사비'!D62 -> 731909090 | S7: 0.015 | T7: =+S7*J7/S8*(1-S9*J7/S8) -> 0.010970601
B8: - 실시설계공사비 | J8: =J7 -> 731909090 | S8: 1000000000 | U8: 2020년 건설사업관리기술인 임금실태조사 결과표
A9: (3) 직접인건비 | S9: 0.001
A10: ○ 기본설계 투입인원수 | U10: 특급기술자 | V10: 337025
A11: 구 분 | E11: 기준인원 | I11: 공사난이도 | L11: 고급기술자노임단가 | P11: 비고 | U11: 고급기술자 | V11: 290868
A12: 건축분야 | E12: 90.6 | I12: =$S$7*($J$7/$S$8)*(1-$S$9*(J7/S8)) -> 0.010970601 | L12: ='(참고)엔지니어링업체 및 건설사업관리기술 임금실태조사결과'!C15 -> 301354 | S12: =E12*I12 -> 0.99393645 | U12: 중급기술자 | V12: 258304
A13: ○ 기본설계 직접인건비 | U13: 초급기술자 | V13: 171622
C14: = | D14: =E12 -> 90.6 | F14: × | G14: =I12 -> 0.010970601 | J14: × | K14: =L12 -> 301354 | L14: = | M14: =D14*G14*K14 -> 299526.72 | Q14: 원
A15: ○ 실시설계 투입인원수
A16: 구 분 | E16: 기준인원 | I16: 공사난이도 | L16: 고급기술자노임단가 | P16: 비고
A17: 건축분야 | E17: 123.3 | I17: =$S$7*($J$8/$S$8)*(1-$S$9*(J8/S8)) -> 0.010970601 | L17: =L12 -> 301354 | S17: =E17*I17 -> 1.3526751
A18: ○ 실시설계 VE
C19: = | D19: =E17 -> 123.3 | F19: × | G19: =I17 -> 0.010970601 | J19: × | K19: =L17 -> 301354 | L19: = | M19: =D19*G19*K19 -> 407634.05 | Q19: 원
A20: ※ 공사난이도 = 0.015*총공사비*(1-0.001*총공사비)
A21: 비고 : 공사비는 10억 단위임
A23: (4) 직접경비
A24: ○ 자문비용 : 특급기술자 노임단가 적용
C25: = | D25: 3 | F25: × | G25: 3 | J25: × | K25: ='(참고)엔지니어링업체 및 건설사업관리기술 임금실태조사결과'!B15 -> 348448 | L25: = | M25: =D25*G25*K25 -> 3136032 | Q25: 원
A26: ○ 워크삽 비용(장소임대 등) | L26: = | M26: 500000 | Q26: 원
A27: ○ 오리엔테이션 및 현장답사비용 | L27: = | M27: 200000 | Q27: 원
A28: ○ 인쇄제본비 | L28: = | M28: 300000 | Q28: 원
A29: ○ 소계 | M29: =SUM(M25:P28) -> 4136032 | Q29: 원
A31: (5) 제경비(직접인건비의 110~120%)
C32: = | E32: =M19 -> 407634.05 | I32: × | K32: 110 | L32: = | M32: =TRUNC(E32*(K32/100),0) -> 448397 | Q32: 원
A34: (6) 기술료(직접인건비+제경비 합의 20~40%)
C35: = | E35: =M19+M32 -> 856031.05 | I35: × | K35: 20 | L35: = | M35: =TRUNC(E35*(K35/100),0) -> 171206 | Q35: 원
A37: ○ | B37: 합 계 | D37: : | L37: = | M37: =M14+M19+M29+M32+M35 -> 5462795.8 | Q37: 원
A39: ● | B39: VE설계용역 발주금액(천원절이하절사) | L39: = | M39: =TRUNC(M37,-3) -> 5462000 | Q39: 원

Sheet (정액)전력시설공사 감리용역비 산출서
A1: 전력시설물공사 감리용역비 산출서(정액)
A3: 1. 용 역 명 | D3: : | E3: 서울고은초 전면 개축사업전기 감리용역
A4: 2. 용 역 규 모 | D4: : | E4: 서울고은초 전면 개축사업1식
A5: 3. 연 면 적 | D5: : | E5: 2715 | H5: ㎡
A6: 4. 공 사 기 간 | D6: : | E6: 420 | H6: 일 | K6: =ROUND(E6/30,1) -> 14 | N6: 개월
A7: 5. 용역적용금액 | D7: =CONCATENATE("전력시설물공사 감리원배치기준 ",B13,"억~",B14,"억원사이 감리원수의 직선보간 적용") -> 전력시설물공사 감리원배치기준 50억원억~70억원억원사이 감리원수의 직선보간 적용
A8: 가. 예정공사비 | D8: : | E8: 6.8863662e+09 | I8: 원
A9: 나. 적 용 금 액 | D9: (부가가치세 제외)
A10: 1) | B10: =E8 -> 6.8863662e+09 | F10: ÷ | G10: 1.1 | I10: × | K10: 1 | P10: ≒ | Q10: =INT(B10/G10) -> 6260332897 | T10: 원
A11: 6. 감리원수 산출 | T11: (단위 : 인*월)
A12: 공종 | B12: 공사금액 | D12: 배치기준
A13: 보통공종 | B13: 50억원 | D13: 37.3 | F13: =D13 -> 37.3 | G13: + | H13: ( | I13: =D14 -> 48.3 | J13: - | K13: =D13 -> 37.3 | L13: ) | M13: X | N13: =Q10 -> 6260332897 | P13: - | Q13: 5000000000 | S13: = | T13: =TRUNC(((F13+((I13-K13)*((N13-Q13)/(N14-Q14))))),2) -> 44.23
B14: 70억원 | D14: 48.3 | N14: 7000000000 | P14: - | Q14: 5000000000
A15: 7. 감리배치인원
A16: 가. 1개월간 감리일수 | E16: : | F16: 22 | I16: 일 | J16: 나. 감리원 환산비 | P16: : | R16: 1
A17: 다. 감리대가적용 감리원수 | E17: : | F17: =ROUND(T13/R16,2)*(22/22) -> 44.23 | I17: 인X월 | J17: <- 예정공사비로 산출한 인*월수에 환산비 적용
A18: 8. 추가 요율 적용
A19: 전력기술관리법 운영요령 제19조(요율의 조정) 발주자는 다음 각 호를 참작하여 설계업자 등과 협의하여 요율을 조정할 수 있다.
A20: 1. 기획 및 설계의 난이도
A21: 2. 비교설계의 유무
A22: 3. 도면 그 밖에 자료작성의 복잡성
A23: 4. 제출자료의 수량 등
A24: 9. 감리대가의 산출
A25: 가. 직접인건비
A26: 1) 직접인건비 | C26: = | D26: 감리원수(인X월) | H26: X | I26: 고급감리원 | K26: 월임금
C27: = | D27: : | E27: =F17 -> 44.23 | H27: X | I27: 5342040 | K27: X | N27: 80 | O27: % | P27: = | Q27: =INT(E27*I27*N27/100) -> 189022743
A28: 나. 제경비(직접인건비의 110~120%)
A29: 1) 제경비 = 직접인건비 X 110% (적용)
C30: = | D30: =Q27 -> 189022743 | H30: X | I30: 1.1 | P30: = | Q30: =INT(D30*I30) -> 207925017
A31: 다. 기술료(직접인건비에 제경비를 합한 금액에 20~40%)
A32: 1) 기술료 = (직접인건비 + 제경비) X | I32: 20 | J32: %
B33: = | C33: =Q27+Q30 -> 396947760 | F33: X | I33: =I32 -> 20 | J33: % | P33: = | Q33: =INT(C33*I33%) -> 79389552
A34: 라. 직접경비
A35: 1) 주재비 : 상주 직접인건비의 30%
A36: - 주재비 = 직접인건비 X 0% X 30%
B37: = | C37: =Q27 -> 189022743 | F37: X | I37: 0 | K37: X | N37: 0.3 | P37: = | Q37: =INT(C37*I37*N37) -> 0
A38: 2) 출장비 : 비상주 직접인건비의 10%
A39: - 출장비 = 직접인건비 X 0% X 10%
B40: = | C40: =Q27 -> 189022743 | F40: X | I40: 0 | K40: X | N40: 0.1 | P40: = | Q40: =INT(C40*I40*N40) -> 0
A41: 3) 도서인쇄비
A42: - 도서인쇄비 1식
A43: 4) 직접경비계
A44: - 직접경비계 = 라. 1) + 라.2) + 라.3)
B45: = ( | C45: =Q37 -> 0 | F45: + | G45: =Q40 -> 0 | I45: ) | N45: 100 | O45: % | P45: = | Q45: =INT((C45+G45))*N45% -> 0
A46: 10. 소 계 | D46: (가+나+다+라) | P46: = | Q46: =Q27+Q30+Q33+Q45 -> 476337312 | U46: 감액금액
A47: 11. 감 액 금 액 | D47: =CONCATENATE("(소계 X -",IF(AND(E5>=10000,E5<20000),15,IF(AND(E5>=20000,E5<30000),10,0)),"%)") -> (소계 X -0%) | P47: = | Q47: =IF(AND(E5>=10000,E5<20000),-INT(Q46*15%),IF(AND(E5>=20000,E5<30000),-INT(Q46*10%),0)) -> 0 | U47: * 연면적 10,000 ~ 20,000 | W47: 0.15
A48: 12. 합 계 | D48: (소계 - 감액금액) | Q48: =Q46+Q47 -> 476337312 | U48: * 연면적 20,000 ~ 30,000 | W48: 0.1
A49: 13. 감리용역비 | D49: (합계용역비) * 조정률 | H49: : | I49: =Q48 -> 476337312 | K49: X | L49: 1 | P49: = | Q49: =INT(I49*L49) -> 476337312 | U49: =Q49/E8 -> 0.069171069
A50: 14. 손해배상공제요율 | D50: (감리용역비 x 요율)(공용청사) | H50: : | I50: =Q49 -> 476337312 | K50: X | L50: 5억원이하 | O50: 0.565 | P50: = | Q50: =INT(Q49*O50%) -> 2691305
A51: 15. 부가가치세 | D51: (합계 X 10%) | H51: : | I51: =Q48+Q50 -> 479028617 | K51: X | N51: 0.1 | P51: = | Q51: =INT(I51*N51) -> 47902861
A52: 16. 산출용역비 | D52: (13 + 14 + 15) | H52: * 천원미만 절사 | Q52: =TRUNC(Q51+Q50+Q49,-3) -> 526931000

Sheet 통신감리
A1: 통신공사 감리용역비 산출서
A3: O 용 역 명 : | B3: ='시설 사업비 산출'!B5&" 통신공사 감리용역" -> ㅇㅇ학교 교사동 리모델링사업 통신공사 감리용역
A4: O 공 사 기 간 : | B4: ='시설 사업비 산출'!T6 -> 12 | C4: 개월
A5: O 감 리 기 간 : | B5: 착수일로부터 통신공사 준공일+10일까지
A6: O 관련근거
A7: - 정보통신공사업법 제8조, 시행령 제8조(감리대상인 공사의 범위)
A8: - 정보통신공사업법 시행령 제11조(감리원의 배치기준)
A10: O 정보통신공사 감리비 산출 : 엔지니어링사업대가 정보통신 분야의 실비정액가산방식 적용
A12: 공사명 | B12: 해당자격 | C12: 노임단가 | E12: 현장방문일수 | G12: 감리비 | H12: 비 고
A13: ='시설 사업비 산출'!B5 -> ㅇㅇ학교 교사동 리모델링사업 | B13: 중급기술자 | C13: ='(참고)엔지니어링업체 및 건설사업관리기술 임금실태조사결과'!F8 -> 222620 | E13: =B4*4 -> 48 | G13: =C13*E13 -> 10685760
A16: 계 | G16: =SUM(G13:G15) -> 10685760
A18: O 감리비 산정
A19: 구 분 | C19: 산 출 내 역 | G19: 금 액 | H19: 비 고
A20: 1. 직접인건비 | B20: 노임단가*현장방문일수 | C20: =C13 -> 222620 | D20: X | E20: =E13 -> 48 | G20: =C20*E20 -> 10685760
A21: 2. 직접경비 | B21: 직접인건비의 10% | C21: =G20 -> 10685760 | D21: X | E21: 0.1 | G21: =C21*E21 -> 1068576
A22: 3. 제 경 비 | B22: 직접인건비의110% | C22: =G20 -> 10685760 | D22: X | E22: 1.1 | G22: =C22*E22 -> 11754336
A23: 4. 기 술 료 | B23: (직접인건비+제경비)의 20% | C23: =G20+G22 -> 22440096 | D23: X | E23: 0.2 | G23: =C23*E23 -> 4488019.2
A24: 소 계 | G24: =SUM(G20:G23) -> 27996691
A25: 5. 손해배상보험 | B25: 순계약금액*해당요율적용 | C25: =G24 -> 27996691 | D25: X | E25: 5억원이하 | F25: 0.424 | G25: =INT(C25*F25%) -> 118705
A26: 6. 부가가치세 | G26: =INT(SUM(G24)*0.1) -> 2799669
A27: 감리용역비 | G27: =SUM(G24:G26) -> 30915065
A28: 결정금액 | B28: 천원이하 절사 | G28: =ROUNDDOWN(G27,-3) -> 30915000

Sheet 단가 참고
B2: 리모델링공사 산출 근거
B4: * | C4: 사업 기준면적 적용 | J4: (단위 : 원/m²)
C5: 1.리모델링 사업비 기준면적 : 2,750m²
C6: → 일반교실 30실 기준
C7: → 특화 면적 : 10실 기준 ( 1실 = 67.5m²)
B9: A | C9: 학교시설 리모델링 시설사업비 | J9: (단위 : 원/m²)
C10: a-1. (특화)공간
C11: → 꿈담 사업비 적용(10실 기준,1실당 67.5m²)
C12: 구분 | D12: 시설비
C13: 꿈담사업 | D13: 60000000
C14: → 내부 비품비(스마트기기)
C15: 구분 | D15: 물량 | E15: 단위 | F15: 시설 사업비
C16: 스마트기기 | D16: 1 | E16: 실 | F16: 20000000
C17: a-2. (기본)공간 리모델링
C18: → 서울특별시교육청 환경개선사업비 단가 적용
C19: → 사업비 기준면적 : 2,750m² 중 기본 환경개선 면적에 해당하는 사업비 단가 평균
C20: 구분 | D20: 세부 항목 | E20: 물량 | F20: 단위 | G20: 면적당 단가(원) | H20: 시설 사업비
C21: 교육환경개선 공사비 | D21: 일반교실 | E21: 14 | F21: 실 | G21: 10000000 | H21: =E21*G21 -> 140000000 | I21: 1실 : 67.5㎡
D22: 계단실 | E22: 2 | F22: 실 | G22: 1300000 | H22: =E22*G22 -> 2600000 | I22: 1실 : 90.0㎡
D23: 화장실_부분 | E23: 180 | F23: m² | G23: 1070000 | H23: =E23*G23 -> 192600000
D24: 기타 | E24: 2 | F24: 실 | G24: 10000000 | H24: =E24*G24 -> 20000000 | I24: 1실 : 90.0㎡
D25: 재배치 | E25: 10 | F25: 실 | G25: 10000000 | H25: =E25*G25 -> 100000000 | I25: 1실 : 67.5㎡
D26: 외벽 | E26: 30 | F26: 실 | G26: 14530000 | H26: =E26*G26 -> 435900000 | I26: 1실 : 90.0㎡
D27: 일반 비품비 | E27: 14 | F27: 실 | G27: 5590000 | H27: =E27*G27 -> 78260000 | I27: 1실 : 67.5㎡
D28: 계 | G28: =SUM(G22:G27) -> 42490000 | H28: =SUM(H21:H27) -> 969360000
B30: B | C30: 그린 특화(에너지) | J30: (단위 : 원/m²)
C31: b-1. 태양광 설치 / 신재생의무비율 30%
C32: 구분 | D32: 내용 | G32: 면적당 단가 | H32: 단위
C33: 태양광설치 | D33: 신재생 의무 비율 30% 달성을 위한 면적당 태양광 설치비용 | G33: 92651 | H33: 원 / m²
C34: b-2. 원격검침 전자식 계량기 설치
C35: 구분 | D35: 내용 | G35: 기본단가 | H35: 단위
C36: 원격검침 | D36: 원격검침전자실계량기 설치비 | G36: 78670000 | H36: 원 / 1식
C37: b-3. 실내환경계측기 설치
C38: 구분 | D38: 내용 | G38: 기본단가 | H38: 단위
C39: 원격검침 | D39: 온도, 습도, 미세먼지, tVOC, CO, 재질센서 등을 설치하여 공기질 모니터링 | G39: 50000000 | H39: 원 / 1식
G40: → 24학급 기준
B41: C | C41: 그린 특화(생태조경) | J41: (단위 : 원/m²)
C42: c-1. 학교숲조성 근거자료 조사
C43: → 산림청 자료 분석을 통하여 학교숲조성 면적당 단가 도출
C44: (자료 : 지자체 도시숲 산림공원 조성현황 통계자료, 2015~2019, 산림청)
C45: 구분 | D45: 도시숲' 조성 실적 단가
C46: 생태 조경 | D46: 35130
C47: c-2. 학교숲조성 (생태조경)
C48: → 사업 면적 2,750m²당 사업비 산정
C49: → 첫 시행사업으로, 산림청 도시숲 조성 단가 분석 내용을 참고하여 기본 면적 2,750m²당 100,000천원으로 산정
C50: 구분 | D50: 물량 | E50: 단위 | F50: 시설 사업비 | G50: 단가 | H50: 단위
C51: 생태 조경 | D51: 2750 | E51: m² | F51: 100000000 | G51: =F51/D51 -> 36363.636 | H51: 원 / m²
B53: 참고 | C53: 사전기획
C54: 1. 그린스마트전환
C55: → 학교 교육 및 그린스마트미래학교 전환 지원비
C56: 2. 학교사전기획
C57: → 사전기획비 적용
B59: 참고 | C59: 가설교사
C60: 1. 모듈러 가설교사
C61: → 리모델링 사업 기준면적 2,750㎡ 기준 20실 구축 비용 : 1실당 ㅇ원
C62: → 모듈러 구매 적용(구매후 기준사용월 ㅇ개월 ㅇ턴 사용)
C63: → 적용모듈러 단가 중 6개월 임대비 적용
C64: 2. 부대공사비
C65: → 전기 및 상하수도 시설 구축 공사비

Sheet 설계용역비(후관동 및 동관동 화장실개선)
A1: 설계용역비 산출서
A3: (1) 관련조문
A4: ○ 국토교통부고시 제2020-635호, 2020. 9. 14. 개정
A5: : 공공발주사업에 대한 건축사의 업무범위와 대가기준 [별표4]건축설계 대가요율 - 2종(보통)
A6: (2) 용역대상 공사비 : 용역대상적용금액(부가가치세 공제)
B7: - 계획설계공사비 | J7: =SUM(J8:M15) -> 0
B8: ='설계 대상 공사비'!B12 -> 재동초 후관동 및 동관동 화장실개선공사
B16: - 중간설계공사비 | J16: =SUM(J17:M24) -> 327520227
B17: =B8 -> 재동초 후관동 및 동관동 화장실개선공사 | J17: ='설계 대상 공사비'!G68 -> 327520227
B25: - 실시설계공사비 | J25: =SUM(J26:M33) -> 327520227
B26: =B8 -> 재동초 후관동 및 동관동 화장실개선공사 | J26: ='설계 대상 공사비'!H68 -> 327520227
A35: (3) 적용요율
A36: ○ 계획설계 대가요율 | E36: 제2종보통기본 | J36: 미적용 | R36: 학교시설사업 설계용역 대가 표준화 개선계획 알림(교육시설안전과-1167, 2019. 2. )참조
A37: 구 분 | G37: =INDEX('(참고)건축설계 대가요율'!$C$7:$C$24,MATCH(J8+J9+J10+J11+J12+J13+J14+J15,'(참고)건축설계 대가요율'!$D$7:$D$24)) -> 5000만원이하 | K37: =INDEX('(참고)건축설계 대가요율'!$C$7:$C$24,MATCH(J8+J9+J10+J11+J12+J13+J14+J15,'(참고)건축설계 대가요율'!$D$7:$D$24)+1) -> 5000만원 | M37: 이하 | N37: 비고
A38: 적용요율 | E38: =IF($E$36="제2종보통기본",(VLOOKUP(G37,'(참고)건축설계 대가요율'!$C$6:$J$24,5,FALSE)),IF($E$36="제2종보통중급",(VLOOKUP(G37,'(참고)건축설계 대가요율'!$C$6:$J$24,4,FALSE)),IF($E$36="제2종보통상급",(VLOOKUP(G37,'(참고)건축설계 대가요율'!$C$6:$J$24,3,FALSE)),IF($E$36="제3종복잡기본",(VLOOKUP(G37,'(참고)건축설계 대가요율'!$C$6:$J$24,8,FALSE)),IF($E$36="제3종복잡중급",(VLOOKUP(G37,'(참고)건축설계 대가요율'!$C$6:$J$24,7,FALSE)),IF($E$36="제3종복잡상급",(VLOOKUP(G37,'(참고)건축설계 대가요율'!$C$6:$J$24,6,FALSE)),"공종을 입력해주세요")))))) -> 7.61 | K38: =IF($E$36="제2종보통기본",(VLOOKUP(K37,'(참고)건축설계 대가요율'!$C$6:$J$24,5,FALSE)),IF($E$36="제2종보통중급",(VLOOKUP(K37,'(참고)건축설계 대가요율'!$C$6:$J$24,4,FALSE)),IF($E$36="제2종보통상급",(VLOOKUP(K37,'(참고)건축설계 대가요율'!$C$6:$J$24,3,FALSE)),IF($E$36="제3종복잡기본",(VLOOKUP(K37,'(참고)건축설계 대가요율'!$C$6:$J$24,8,FALSE)),IF($E$36="제3종복잡중급",(VLOOKUP(K37,'(참고)건축설계 대가요율'!$C$6:$J$24,7,FALSE)),IF($E$36="제3종복잡상급",(VLOOKUP(K37,'(참고)건축설계 대가요율'!$C$6:$J$24,6,FALSE)),"공종을 입력해주세요")))))) -> 7.61 | N38: 직선보간
A39: = | B39: =K38 -> 7.61 | C39: + | D39: ( | E39: =E38 -> 7.61 | F39: - | G39: =K38 -> 7.61 | H39: ) | I39: × | J39: ( | K39: =VLOOKUP(K37,'(참고)건축설계 대가요율'!$C$7:$D$224,2,0) -> 50000000 | L39: - | M39: =J7 -> 0 | N39: ) | O39: = | P39: =TRUNC(((B39+((E39-G39)*((K39-M39)/(K40-M40))))),2) -> 7.61 | Q39: %
J40: ( | K40: =VLOOKUP(K37,'(참고)건축설계 대가요율'!$C$7:$D$24,2,0) -> 50000000 | L40: - | M40: =VLOOKUP(G37,'(참고)건축설계 대가요율'!$C$7:$D$24,2,0) -> 0 | N40: )
A41: - 설계 업무비율 계획설계(20%)적용
A42: = | G42: =P39 -> 7.61 | L42: × | M42: 0.2 | O42: = | P42: =TRUNC((G42*M42),2) -> 1.52 | Q42: %
A43: ○ 중간설계대가요율 | E43: 제2종보통중급 | J43: 적용
A44: 구 분 | G44: =INDEX('(참고)건축설계 대가요율'!$C$7:$C$24,MATCH(J17+J18+J19+J20+J21+J22+J23+J24,'(참고)건축설계 대가요율'!$D$7:$D$24)) -> 3억원 | K44: =INDEX('(참고)건축설계 대가요율'!$C$7:$C$24,MATCH(J17+J18+J19+J20+J21+J22+J23+J24,'(참고)건축설계 대가요율'!$D$7:$D$24)+1) -> 5억원 | M44: 이하 | N44: 비고
A45: 적용요율 | E45: =IF($E$43="제2종보통기본",(VLOOKUP(G44,'(참고)건축설계 대가요율'!$C$6:$J$24,5,FALSE)),IF($E$43="제2종보통중급",(VLOOKUP(G44,'(참고)건축설계 대가요율'!$C$6:$J$24,4,FALSE)),IF($E$43="제2종보통상급",(VLOOKUP(G44,'(참고)건축설계 대가요율'!$C$6:$J$24,3,FALSE)),IF($E$43="제3종복잡기본",(VLOOKUP(G44,'(참고)건축설계 대가요율'!$C$6:$J$24,8,FALSE)),IF($E$43="제3종복잡중급",(VLOOKUP(G44,'(참고)건축설계 대가요율'!$C$6:$J$24,7,FALSE)),IF($E$43="제3종복잡상급",(VLOOKUP(G44,'(참고)건축설계 대가요율'!$C$6:$J$24,6,FALSE)),"공종을 입력해주세요")))))) -> 6.57 | K45: =IF($E$43="제2종보통기본",(VLOOKUP(K44,'(참고)건축설계 대가요율'!$C$6:$J$24,5,FALSE)),IF($E$43="제2종보통중급",(VLOOKUP(K44,'(참고)건축설계 대가요율'!$C$6:$J$24,4,FALSE)),IF($E$43="제2종보통상급",(VLOOKUP(K44,'(참고)건축설계 대가요율'!$C$6:$J$24,3,FALSE)),IF($E$43="제3종복잡기본",(VLOOKUP(K44,'(참고)건축설계 대가요율'!$C$6:$J$24,8,FALSE)),IF($E$43="제3종복잡중급",(VLOOKUP(K44,'(참고)건축설계 대가요율'!$C$6:$J$24,7,FALSE)),IF($E$43="제3종복잡상급",(VLOOKUP(K44,'(참고)건축설계 대가요율'!$C$6:$J$24,6,FALSE)),"공종을 입력해주세요")))))) -> 5.98 | N45: 직선보간
A46: = | B46: =+K45 -> 5.98 | C46: + | D46: ( | E46: =+E45 -> 6.57 | F46: - | G46: =+K45 -> 5.98 | H46: ) | J46: ( | K46: =VLOOKUP(K44,'(참고)건축설계 대가요율'!$C$7:$D$224,2,0) -> 500000000 | L46: - | M46: =J16 -> 327520227 | N46: ) | O46: = | P46: =TRUNC(((B46+((E46-G46)*((K46-M46)/(K47-M47))))),2) -> 6.48 | Q46: %
J47: ( | K47: =VLOOKUP(K44,'(참고)건축설계 대가요율'!$C$7:$D$24,2,0) -> 500000000 | L47: - | M47: =VLOOKUP(G44,'(참고)건축설계 대가요율'!$C$7:$D$24,2,0) -> 300000000 | N47: )
A48: - 설계 업무비율 중간설계(30%)적용
A49: = | G49: =P46 -> 6.48 | L49: × | M49: 0.3 | O49: = | P49: =TRUNC((G49*M49),2) -> 1.94 | Q49: %
A50: ○ 실시설계대가요율 | E50: 제2종보통중급 | J50: 적용
A51: 구 분 | G51: =INDEX('(참고)건축설계 대가요율'!$C$7:$C$24,MATCH(J26+J27+J28+J29+J30+J31+J32+J33,'(참고)건축설계 대가요율'!$D$7:$D$24)) -> 3억원 | K51: =INDEX('(참고)건축설계 대가요율'!$C$7:$C$24,MATCH(J26+J27+J28+J29+J30+J31+J32+J33,'(참고)건축설계 대가요율'!$D$7:$D$24)+1) -> 5억원 | M51: 이하 | N51: 비고
A52: 적용요율 | E52: =IF($E$50="제2종보통기본",(VLOOKUP(G51,'(참고)건축설계 대가요율'!$C$6:$J$24,5,FALSE)),IF($E$50="제2종보통중급",(VLOOKUP(G51,'(참고)건축설계 대가요율'!$C$6:$J$24,4,FALSE)),IF($E$50="제2종보통상급",(VLOOKUP(G51,'(참고)건축설계 대가요율'!$C$6:$J$24,3,FALSE)),IF($E$50="제3종복잡기본",(VLOOKUP(G51,'(참고)건축설계 대가요율'!$C$6:$J$24,8,FALSE)),IF($E$50="제3종복잡중급",(VLOOKUP(G51,'(참고)건축설계 대가요율'!$C$6:$J$24,7,FALSE)),IF($E$50="제3종복잡상급",(VLOOKUP(G51,'(참고)건축설계 대가요율'!$C$6:$J$24,6,FALSE)),"공종을 입력해주세요")))))) -> 6.57 | K52: =IF($E$50="제2종보통기본",(VLOOKUP(K51,'(참고)건축설계 대가요율'!$C$6:$J$24,5,FALSE)),IF($E$50="제2종보통중급",(VLOOKUP(K51,'(참고)건축설계 대가요율'!$C$6:$J$24,4,FALSE)),IF(E50="제2종보통상급",(VLOOKUP(K51,'(참고)건축설계 대가요율'!$C$6:$J$24,3,FALSE)),IF($E$50="제3종복잡기본",(VLOOKUP(K51,'(참고)건축설계 대가요율'!$C$6:$J$24,8,FALSE)),IF($E$50="제3종복잡중급",(VLOOKUP(K51,'(참고)건축설계 대가요율'!$C$6:$J$24,7,FALSE)),IF($E$50="제3종복잡상급",(VLOOKUP(K51,'(참고)건축설계 대가요율'!$C$6:$J$24,6,FALSE)),"공종을 입력해주세요")))))) -> 5.98 | N52: 직선보간
A53: = | B53: =+K52 -> 5.98 | C53: + | D53: ( | E53: =+E52 -> 6.57 | F53: - | G53: =+K52 -> 5.98 | H53: ) | I53: × | J53: ( | K53: =VLOOKUP(K51,'(참고)건축설계 대가요율'!$C$7:$D$224,2,0) -> 500000000 | L53: - | M53: =J25 -> 327520227 | N53: ) | O53: = | P53: =TRUNC(((B53+((E53-G53)*((K53-M53)/(K54-M54))))),2) -> 6.48 | Q53: %
J54: ( | K54: =VLOOKUP(K51,'(참고)건축설계 대가요율'!$C$7:$D$24,2,0) -> 500000000 | L54: - | M54: =VLOOKUP(G51,'(참고)건축설계 대가요율'!$C$7:$D$24,2,0) -> 300000000 | N54: )
A55: - 설계 업무비율 실시설계(50%)적용
A56: = | G56: =P53 -> 6.48 | L56: × | M56: 0.5 | O56: = | P56: =TRUNC((G56*M56),2) -> 3.24 | Q56: %
A57: (4) 용역비 산출 금액
A58: ○ 계획설계비 | D58: =E36 -> 제2종보통기본
C59: = | E59: =J7 -> 0 | I59: × | K59: =TRUNC(P42*1,2) -> 1.52 | L59: % = | M59: =INT(E59*(K59/100)) -> 0 | Q59: 원
A60: ○ 중간설계비 | D60: =E43 -> 제2종보통중급
C61: = | E61: =J16 -> 327520227 | I61: × | K61: =TRUNC(P49*1,2) -> 1.94 | L61: % = | M61: =TRUNC(E61*(K61/100),0) -> 6353892 | Q61: 원
A62: ○ 실시설계비 | D62: =E50 -> 제2종보통중급
C63: = | E63: =J25 -> 327520227 | I63: × | K63: =TRUNC(P56*1,2) -> 3.24 | L63: % = | M63: =TRUNC(E63*(K63/100),0) -> 10611655 | Q63: 원
A64: ○ 소계(계획,중간,실시) | M64: =+M59+M61+M63 -> 16965547 | Q64: 원
A66: ○ 인증관련 추가 설계대가 요율 | F66: =M64 -> 16965547 | I66: × | K66: =LARGE($K$67:$K$69,1)+LARGE($K$67:$K$69,2)/2+LARGE($K$67:$K$69,3)/3 -> 0 | L66: % = | M66: =TRUNC(F66*(K66/100),0) -> 0 | Q66: 원
B67: 녹색건축인증 | F67: 해당없음 | K67: =+HLOOKUP(F67,'(참고)인증관련 추가 설계대가 요율'!$D$11:$H$12,2,FALSE) -> 0 | L67: %
B68: 지능형건축물인증 | F68: 해당없음 | K68: =+HLOOKUP(F68,'(참고)인증관련 추가 설계대가 요율'!$D$13:$I$14,2,FALSE) -> 0 | L68: %
B69: 에너지효율등급인증 | F69: 해당없음 | K69: =+HLOOKUP(F69,'(참고)인증관련 추가 설계대가 요율'!$D$15:$I$16,2,FALSE) -> 0 | L69: %
A71: ○ 조감도(1조) | R71: 중간설계 중급 이상 적용시 제외(도서에 포함)
B72: = | E72: 1500000 | I72: × | K72: 0 | L72: = | M72: =INT(E72*K72) -> 0 | Q72: 원
A73: ○ 지질조사비(추정심도 9M기준) | M73: =SUM(M74:P75) -> 0 | Q73: 원
B74: = | E74: ='(참고)지질조사'!F14 -> 3880000 | I74: × | K74: 0 | L74: 공= | M74: =INT(E74*K74) -> 0 | Q74: 원
B75: = | E75: ='(참고)지질조사'!E24+'(참고)지질조사'!E25 -> 637050 | I75: × | K75: 0 | L75: = | M75: =INT(E75*K75) -> 0 | Q75: 원 | R75: 장비 및 기계설비 1회만 적용
A77: ○ 현황측량비
B78: = | E78: ='(참고)측량비'!I23 -> 988 | I78: × | L78: ㎡= | M78: =INT(E78*K78) -> 0 | Q78: 원 | R78: 필요시 적용, 도시계획변경용역시 동시 수행
A79: ○ 소 계 : | L79: = | M79: =SUM(M64,M66,M72,M73,M589,M78) -> 16965547 | Q79: 원
A80: ○ 용역손해배상보험,공제 | M80: =SUM(M81:P81) -> 55180.606 | Q80: 원
B81: = | C81: =(M63)*(100%+K66/100) -> 10611655 | E81: × | F81: 5억원이하 | K81: =HLOOKUP(F81,'(참고)설계 및 감리의 손해배상(공제)'!$D$15:$H$27,4,FALSE) -> 0.52 | L81: %= | M81: =C81*K81% -> 55180.606 | Q81: 원
A82: ○ 부가가치세 : | E82: =M79+M80 -> 17020728 | I82: × | K82: 10 | L82: % = | M82: =E82*K82% -> 1702072.8 | Q82: 원
A83: ○ | B83: 합 계 | D83: : | L83: = | M83: =TRUNC(SUM(M79,M80,M82),-4) -> 18720000 | Q83: 원
A84: ○ | B84: 공간혁신 특화사업 설계비 0.5배 추가 적용(천원절이하절사) | K84: 0.5 배 | L84: ≒ | M84: =TRUNC((#REF!+#REF!+#REF!)*0.5,-3)*0 -> #REF! | Q84: 원 | R84: 공공발주사업에 대한 건축사의 업무범위와 대가기준 제11조(설계업무 대가의 산정) 4항의 1에 의거 대가의 1.5배를 적용한다.(전체 사업의 약 30% 적용)
A85: ● | B85: 설계용역 발주금액(천원이하절사) | M85: =M83 -> 18720000 | Q85: 원 | R85: 화장실개선 설계용역비

Sheet (참고)건축설계 대가요율
C3: (참고)건설설계 대가요율
C4: 1. 관련근거 : 공공발주사업에 대한 건축사의 업무범위와 대가기준(국토교통부고시 제2020-635호)
C5: 공사비 | D5: 범위 | E5: 적용요율(제2종,보통) | H5: 적용요율(제3종,복잡)
E6: 제2종보통상급 | F6: 제2종보통중급 | G6: 제2종보통기본 | H6: 제3종복잡상급 | I6: 제3종복잡중급 | J6: 제3종복잡기본
C7: 5000만원이하 | D7: 0 | E7: 11.41 | F7: 9.51 | G7: 7.61 | H7: 12.55 | I7: 10.46 | J7: 8.36
C8: 5000만원 | D8: 50000000 | E8: 11.41 | F8: 9.51 | G8: 7.61 | H8: 12.55 | I8: 10.46 | J8: 8.36
C9: 1억원 | D9: 100000000 | E9: 10.43 | F9: 8.69 | G9: 6.95 | H9: 11.48 | I9: 9.56 | J9: 7.65
C10: 2억원 | D10: 200000000 | E10: 9.08 | F10: 7.57 | G10: 6.05 | H10: 9.99 | I10: 8.33 | J10: 6.66
C11: 3억원 | D11: 300000000 | E11: 7.88 | F11: 6.57 | G11: 5.26 | H11: 8.68 | I11: 7.23 | J11: 5.78
C12: 5억원 | D12: 500000000 | E12: 7.18 | F12: 5.98 | G12: 4.79 | H12: 7.9 | I12: 6.58 | J12: 5.26
C13: 10억원 | D13: 1000000000 | E13: 6.39 | F13: 5.32 | G13: 4.26 | H13: 7.03 | I13: 5.86 | J13: 4.68
C14: 20억원 | D14: 2000000000 | E14: 5.66 | F14: 4.72 | G14: 3.77 | H14: 6.22 | I14: 5.19 | J14: 4.15
C15: 30억원 | D15: 3000000000 | E15: 5.38 | F15: 4.48 | G15: 3.58 | H15: 5.91 | I15: 4.93 | J15: 3.94
C16: 50억원 | D16: 5000000000 | E16: 5.2 | F16: 4.33 | G16: 3.46 | H16: 5.72 | I16: 4.76 | J16: 3.81
C17: 100억원 | D17: 10000000000 | E17: 5.07 | F17: 4.22 | G17: 3.38 | H17: 5.58 | I17: 4.65 | J17: 3.72
C18: 200억원 | D18: 20000000000 | E18: 4.92 | F18: 4.1 | G18: 3.28 | H18: 5.42 | I18: 4.51 | J18: 3.61
... C24: 5000억원 | D24: 500000000000 | E24: 4.48 | F24: 3.73 | G24: 2.99 | H24: 4.93 | I24: 4.11 | J24: 3.28

Sheet (참고)지질조사
A1: (참고)지 질 조 사 단 가 (공당) | L1: ★ 매년 상,하반기 변동되는 토목공사 일위대가 참조
A3: =CONCATENATE("공당단가 : 금 ",TEXT($F$14,"#,###")," 원 (부가가치세 제외)") -> 공당단가 : 금 3,880,000 원 (부가가치세 제외) | L3: ★ 발주 구분에 따라 적용하여 주시기 바랍니다.
A4: =CONCATENATE("공당단가 : 금 ",TEXT($F$16,"#,###")," 원 (부가가치세 포함)") -> 공당단가 : 금 4,268,000 원 (부가가치세 포함) | L4: 설계용역에 포함시 적용
A5: 용역내용 : 지질조사 1공(NX시추, 심도 9m기준) | L5: 설계용역과 별도 발주시 적용
A7: 구 분 | B7: 적 용 | D7: 수 량 | F7: 도급금액 | J7: 비 고
A8: 1. 순공사비 원가 | F8: =F9+F10+F11 -> 3358408
A9: 가. 재료비 | B9: 직접재료비+작업부산물 | F9: ='(참고)지질조사'!H23 -> 344,129
A10: 나. 노무비 | B10: 직접노무비 | F10: ='(참고)지질조사'!J23 -> 2,724,734
A11: 다. 경비 | B11: 산출경비 | F11: ='(참고)지질조사'!L23 -> 289,545
A12: 2. 일반관리비 | B12: 1. 순공사비 원가의 | D12: 0.06 | F12: =INT(+F8*0.06) -> 201504
A13: 3. 이윤 | B13: (1의 나+다+2)의 | D13: 0.1 | F13: =(F10+F11+F12)*0.1-0 -> 321578.3
A14: 4. 계 | F14: =TRUNC(SUM(F8+F12+F13),-4) -> 3880000 | J14: 만원미만 절사
A15: 5. 부가가치세 | B15: 4. 계의 | D15: 0.1 | F15: =INT(F14*0.1) -> 388000
A16: 합 계 | F16: =INT(F14+F15) -> 4268000
A18: ※ 본 대가는 건설공사 표준품셈을 기준으로 산정한 단가이므로, 현장여건, 시중견적 등 고려하여 적용 검토
A21: 품 명 | B21: 규 격 | C21: 수량 | D21: 단위 | E21: 합 계 | G21: 재료비 | I21: 노무비 | K21: 경 비 | M21: 비 고
E22: 단 가 | F22: 금 액 | G22: 단 가 | H22: 금 액 | I22: 단 가 | J22: 금 액 | K22: 단 가 | L22: 금 액
A23: 지질조사(NX) | B23: 추정심도 9m | F23: =TEXT(J23+H23+L23,"#,##0") -> 3,358,408 | H23: =TEXT(H24+H25+H26+H27+H28+H29+H30+H31+H32+H33+H34+H35+H36+H37+H38+H39+H40,"#,##0") -> 344,129 | J23: =TEXT(J24+J25+J26+J27+J28+J29+J30+J31+J32+J33+J34+J35+J36+J37+J38+J39+J40,"#,##0") -> 2,724,734 | L23: =TEXT(L24+L25+L26+L27+L28+L29+L30+L31+L32+L33+L34+L35+L36+L37+L38+L39+L40,"#,##0") -> 289,545
A24: 장비운반비 | B24: 11톤 L=20km기준 | C24: 1 | D24: 회 | E24: 150000 | F24: 150,000 | G24: 0 | H24: 0 | I24: 0 | J24: 0 | K24: 150000 | L24: 150000 | M24: 일위1참조
A25: 기계기구설치 | C25: 1 | D25: 개소 | E25: 487050 | F25: 487,050 | G25: 0 | H25: 0 | I25: 487050 | J25: 487050 | K25: 0 | L25: 0 | M25: 일위2참조
A26: 점토층 | B26: NX | C26: 3 | D26: M | E26: 208321 | F26: 624,963 | G26: 11215 | H26: 33645 | I26: 184835 | J26: 554505 | K26: 12271 | L26: 36813 | M26: 일위3참조
A27: 모래층 | B27: NX | C27: 2 | D27: M | E27: 257854 | F27: 515,708 | G27: 19499 | H27: 38998 | I27: 222431 | J27: 444862 | K27: 15924 | L27: 31848 | M27: 일위4참조
A28: 자갈층 | B28: NX | C28: 1 | D28: M | E28: 500101 | F28: 500,101 | G28: 42788 | H28: 42788 | I28: 435703 | J28: 435703 | K28: 21610 | L28: 21610 | M28: 일위5참조
A29: 호박돌층 | B29: NX | D29: M | E29: 827721 | F29: 0 | G29: 187024 | H29: 0 | I29: 600763 | J29: 0 | K29: 39934 | L29: 0 | M29: 일위6참조
A30: 풍화암층 | B30: NX | C30: 1 | D30: M | E30: 255332 | F30: 255,332 | G30: 44028 | H30: 44028 | I30: 197048 | J30: 197048 | K30: 14256 | L30: 14256 | M30: 일위7참조
A31: 연암층 | B31: NX | C31: 1 | D31: M | E31: 280355 | F31: 280,355 | G31: 53544 | H31: 53544 | I31: 211177 | J31: 211177 | K31: 15634 | L31: 15634 | M31: 일위8참조
A32: 보통암 | B32: NX | C32: 1 | D32: M | E32: 309770 | F32: 309,770 | G32: 56207 | H32: 56207 | I32: 234179 | J32: 234179 | K32: 19384 | L32: 19384 | M32: 일위9참조
A33: 경암 | B33: NX | D33: M | E33: 440181 | F33: 0 | G33: 43084 | H33: 0 | I33: 369083 | J33: 0 | K33: 28014 | L33: 0 | M33: 일위10참조
A34: 극경암 | B34: NX | D34: M | E34: 523093 | F34: 0 | G34: 57136 | H34: 0 | I34: 427743 | J34: 0 | K34: 38214 | L34: 0 | M34: 일위11참조
A35: 표준관입시험 | C35: 1 | D35: 회 | E35: 43862 | F35: 43,862 | G35: 7060 | H35: 7060 | I35: 36802 | J35: 36802 | K35: 0 | L35: 0 | M35: 일위12참조
A36: 자연시료채취 | C36: 1 | D36: 회 | E36: 191267 | F36: 191,267 | G36: 67859 | H36: 67859 | I36: 123408 | J36: 123408 | K36: 0 | L36: 0 | M36: 일위13참조
A38: 참고사항 : 지질조사를 1공이상 시행할 경우는 장비운반비 및 기계기구설치비는 1회만 적용할것.

Sheet (참고)측량비
C1: (참고)측량비
C3: 용역명 : 00초등학교 00신축공사 측량용역
C4: =CONCATENATE("도급금액 : 금 ",TEXT($G$16,"#,###")," 원 (부가가치세 포함)") -> 도급금액 : 금 11,363,000 원 (부가가치세 포함)
C5: 용역내용 : 측량 1식(기준점측량 + 수준측량 + 현황측량)
C7: 구 분 | D7: 적 용 | E7: 수 량 | G7: 도급금액 | K7: 비 고
C8: 1. 순공사비 원가 | G8: =G9+G10+G11 -> 8866312
C9: 가. 재료비 | D9: 직접재료비+작업부산물 | G9: ='(참고)측량비'!H23 -> 0
C10: 나. 노무비 | D10: 직접노무비 | G10: ='(참고)측량비'!J23 -> 8866312
C11: 다. 경비 | D11: 산출경비 | G11: ='(참고)측량비'!L23 -> 0
C12: 2. 일반관리비 | D12: 1. 순공사비 원가의 | E12: 0.06 | G12: =INT(+G8*0.06) -> 531978 | K12: 기타용역기준
C13: 3. 이윤 | D13: (1의 나+다+2)의 | E13: 0.1 | G13: =(G10+G11+G12)*0.1 -> 939829 | K13: 용역기준
C14: 4. 계 | G14: =TRUNC(SUM(G8+G12+G13),-4) -> 10330000 | K14: 만원미만 절사
C15: 5. 부가가치세 | D15: 4. 계의 | E15: 0.1 | G15: =INT(G14*0.1) -> 1033000
C16: 합 계 | G16: =INT(G14+G15) -> 11363000
C20: 품 명 | D20: 규 격 | E20: 수량 | F20: 단위 | G20: 재료비 | I20: 노무비 | K20: 경 비 | M20: 비 고
G21: 단 가 | H21: 금 액 | I21: 단 가 | J21: 금 액 | K21: 단 가 | L21: 금 액
C22: 측량비
C23: 측량비 | D23: 기준점, 수준,현황측량포함 | E23: ='시설 사업비 산출'!AA6 -> 8974 | F23: ㎡ | H23: =TRUNC(E23*G23,0) -> 0 | I23: ='(참고)측량비'!G60 -> 988 | J23: =TRUNC(E23*I23,0) -> 8866312 | L23: =TRUNC(E23*K23,0) -> 0
C27: - 측량비 산출 내역서 -
C29: 1. 작업량 기준
C30: - 축 척 : 1 / 500
C31: - 측량면적 : 10,000m2 기준(신규측량)
C32: - 기준점측량 : 4급(구하는점 10점, 시가지, 기준점측량 점간거리 40m)
C33: - 수준측량 : 2급(거리 약1km, 시가지)
C34: - 현황측량 : (시가지, 신규측량, 작업량 10,000㎡)
C36: 2. 작업량비 산출
C37: - 기준점측량(4급) :
D38: 10/150 X 1.15(지형유형) X 3.8(작업량 계수) X 0.53(점간거리별 증감) = 0.15 | M38: 작업량계수(P)=0.8+30/10=3.8 | S38: =ROUNDDOWN(10/150*1*3.8*0.53,2) -> 0.13
C39: - 수준측량(2급) :
D40: 1(수준측량 총길이)/15 X 1.2(지형 유형) X 3.8(작업량 계수) = 0.30 | M40: 작업량계수(P)=0.8+3/1=3.8 | S40: =ROUNDDOWN(1/15*1*3.8,2) -> 0.25
C41: - 지형현황측량 :
D42: 1(면적)/10 X 2.15(지형유형) X 1.0(축척) X 2.8(작업량 계수) X 1.0(작업종류) = 0.60 | M42: 작업량계수(P) = 0.8+2/1 = 2.8 | S42: =ROUNDDOWN(1/10*1.25*1*2.8*1,2) -> 0.35
C43: 3. 인원산출
C44: 구 분 | D44: 작업량비 | E44: 특급기술자 | G44: 고급기술자 | I44: 중급기술자 | K44: 초급기술자 | M44: 초급기능사 | O44: 측량인부(측부)
E45: 인원 | F45: 결과 | G45: 인원 | H45: 결과 | I45: 인원 | J45: 결과 | K45: 인원 | L45: 결과 | M45: 인원 | N45: 결과 | O45: 인원 | P45: 결과
C46: 기준점 | D46: 0.15 | F46: =ROUNDDOWN($D46*E46,2) -> 0 | G46: 31.5 | H46: =ROUNDDOWN($D46*G46,2) -> 4.72 | I46: 35 | J46: =ROUNDDOWN($D46*I46,2) -> 5.25 | K46: 37 | L46: =ROUNDDOWN($D46*K46,2) -> 5.55 | M46: 40 | N46: =ROUNDDOWN($D46*M46,2) -> 6 | O46: 6 | P46: =ROUNDDOWN($D46*O46,2) -> 0.9
C47: 수준측량 | D47: 0.3 | E47: 1 | F47: =ROUNDDOWN($D47*E47,2) -> 0.3 | G47: 3 | H47: =ROUNDDOWN($D47*G47,2) -> 0.9 | I47: 11.5 | J47: =ROUNDDOWN($D47*I47,2) -> 3.45 | K47: 8 | L47: =ROUNDDOWN($D47*K47,2) -> 2.4 | M47: 8 | N47: =ROUNDDOWN($D47*M47,2) -> 2.4 | O47: 8 | P47: =ROUNDDOWN($D47*O47,2) -> 2.4
C48: 현황측량 | D48: 0.6 | F48: =ROUNDDOWN($D48*E48,2) -> 0 | G48: 4.25 | H48: =ROUNDDOWN($D48*G48,2) -> 2.55 | I48: 15 | J48: =ROUNDDOWN($D48*I48,2) -> 9 | K48: 15 | L48: =ROUNDDOWN($D48*K48,2) -> 9 | M48: 7 | N48: =ROUNDDOWN($D48*M48,2) -> 4.2 | O48: 7 | P48: =ROUNDDOWN($D48*O48,2) -> 4.2
C49: 합 계 | F49: =SUM(F46:F48) -> 0.3 | H49: =SUM(H46:H48) -> 8.17 | J49: =SUM(J46:J48) -> 17.7 | L49: =SUM(L46:L48) -> 16.95 | N49: =SUM(N46:N48) -> 12.6 | P49: =SUM(P46:P48) -> 7.5
C51: 4. 측량비
C52: 적용기준 | D52: 구분 | E52: 인 원 | F52: 적용단가(2020.01.01) | G52: 금 액 | K52: 작성방법 | L52: 측량기술자 노임단가(대한측량협회 제공)가 변경될 경우 유색부분만 수정하면 자동계산 됩니다.
C53: 측량부문 | D53: 특급기술자 | E53: =F49 -> 0.3 | F53: 232190 | G53: =E53*F53 -> 69657
D54: 고급기술자 | E54: =H49 -> 8.17 | F54: 209221 | G54: =E54*F54 -> 1709335.6 | L54: 산출근거 : 토목품셈(제18장 측량부문 적용)
D55: 중급기술자 | E55: =J49 -> 17.7 | F55: 180481 | G55: =E55*F55 -> 3194513.7
D56: 초급기술자 | E56: =L49 -> 16.95 | F56: 147479 | G56: =E56*F56 -> 2499769 | K56: 적용기준 | L56: 본 측량품에는 각종 측량성과품(관측계산부,기준점조서, 측량야장,수준망도,기타 측량사진 등)에 대한 대가가 포함된 단가임.
D57: 초급기능사 | E57: =N49 -> 12.6 | F57: 130391 | G57: =E57*F57 -> 1642926.6
D58: 측량인부 | E58: =P49 -> 7.5 | F58: 102112 | G58: =E58*F58 -> 765840 | L58: 측량면적은 측량이 필요한 부지(대지)면적이며, 본품에는 주변 현황을 파악하기위한 면적도 포함된 단가임.
C59: 합 계(10,000m²기준) | G59: =SUM(G53:G58) -> 9882041.9
C60: 1㎡당 단가 | F60: 1/10,000㎡ | G60: =INT(G59/10000) -> 988 | L60: 본품은 10,000㎡를 기준으로 산출한바, 적용시에는 측량할 부지면적을 수정하여 사용바람
C61: 참고 : 노임단가는 2020년 1월 1일 공간정보산업협회 시행단가임
C63: ★ 유색부분 수정 입력

Sheet (참고)인증관련 추가 설계대가 요율
C3: 친환경․지능형건축물, 에너지효율등급 인증관련 추가 설계대가 요율
C5: 1. 관련근거
C6: - 공공발주사업에 대한 건축사의 업무범위와 대가기준(제2011-750호)
C8: 2. 적용기준
C9: ∘ 친환경 ․ 지능형건축물, 에너지효율등급 인증관련 추가 설계대가 요율
C11: 녹색건축인증 | D11: 최우수(1)등급 | E11: 우수(2)등급 | F11: 우량(3)등급 | G11: 일반(4)등급 | H11: 해당없음
D12: 9.5 | E12: 9 | F12: 8.5 | G12: 8 | H12: 0
C13: 지능형 건축물 인증 | D13: 1등급 | E13: 2등급 | F13: 3등급 | G13: 4등급 | H13: 5등급 | I13: 해당없음
D14: 7 | E14: 6.5 | F14: 6 | G14: 5.5 | H14: 5 | I14: 0
C15: 에너지효율등급 인증 | D15: 1등급 | E15: 2등급 | F15: 3등급 | G15: 4등급 | H15: 5등급 | I15: 해당없음
D16: 7.5 | E16: 7 | F16: 6.5 | G16: 6 | H16: 5.5 | I16: 0
C17: ∘ 적용방법
C18: - 추가설계대가 요율 = A + 1/2B + 1/3C
C19: [항목별 추가 설계대가 요율 중 최상위값(A), 차상위값(B), 최하위값(C)]
C21: ※ 연면적 합계가 10,000㎡ 이상인 건축물은 친환경건축물 인증을 득하여야함
C24: (국토교통부) 건축물 에너지효율등급 인증 및 제로에너지건축물 인증 기준
C26: [별표 4] 건축물 에너지효율등급 인증 수수료
C28: 2. 단독주택 및 공동주택을 제외한 건축물(기숙사 포함)
C30: 전용면적주1)의 합계 | D30: 1천㎡미만 | E30: 1천㎡이상 3천㎡미만 | F30: 3천㎡이상 5천㎡미만 | G30: 5천㎡이상 1만㎡미만 | H30: 1만㎡이상 1만5천㎡미만 | I30: 1만5천㎡이상 2만㎡미만 | J30: 2만㎡이상 3만㎡미만 | K30: 3만㎡이상 4만㎡미만 | L30: 4만㎡미만 6만㎡미만 | M30: 6만㎡이상 | N30: 해당없음
C31: 인증 수수료 금액 | D31: =1.1*1900000 -> 2090000 | E31: =1.1*3900000 -> 4290000 | F31: =1.1*5900000 -> 6490000 | G31: =1.1*7900000 -> 8690000 | H31: =1.1*9900000 -> 10890000 | I31: =1.1*11900000 -> 13090000 | J31: =1.1*13900000 -> 15290000 | K31: =1.1*15900000 -> 17490000 | L31: =1.1*17800000 -> 19580000 | M31: =1.1*19800000 -> 21780000 | N31: 0
C32: ※ 비고 : 인증 수수료 금액은 부가가치세 포함
C33: ※ 공공기관에서 추진하는 저소득층을 위한 임대아파트(영구, 국민, 공공)의경우 해당 전용면적에 대한 인증수수료의 50%를 감액할 수 있다.
C34: 주1) 규칙 및 고시의 전용면적 중 단독주택 및 공동주택을 제외한 건축물(기숙사 포함)의 전용면적이란 인증 신청 건축물의 용적률 산정용 연면적을 의미한다. 다만 지하층 바닥면적 합계(지하주차장 제외)가 전체 연면적의 50% 이상을 차지하는 경우 연면적(지하주차장 제외)을 기준으로 인증수수료를 산정할 수 있다.
C37: (국토교통부) 장애물 없는 생활환경(BF) 인증심사기준 및 수수료기준등
C39: [별표8] 장애물 없는 생활환경 인증 수수료(제4조 관련)
C41: 구 분 | E41: 3백㎡미만 | F41: 3백㎡이상 1천㎡미만 | G41: 1천㎡이상 3천㎡미만 | H41: 3천㎡이상 1만㎡미만 | I41: 1만㎡이상 | J41: 해당없음
C42: 예비인증 | D42: 기준 수수료 | E42: 2060000
D43: 적용 요율 | E43: 0.5 | F43: 0.8 | G43: 1 | H43: 1.2 | I43: 1.5
D44: 수수료 | E44: =1030000*1.1 -> 1133000 | F44: =1648000*1.1 -> 1812800 | G44: =2060000*1.1 -> 2266000 | H44: =2472000*1.1 -> 2719200 | I44: =1.1*3090000 -> 3399000
C45: 본인증 | D45: 기준 수수료 | E45: 4030000
D46: 적용 요율 | E46: 0.5 | F46: 0.8 | G46: 1 | H46: 1.2 | I46: 1.5
D47: 수수료 | E47: =1.1*2015000 -> 2216500 | F47: =1.1*3224000 -> 3546400 | G47: =1.1*4030000 -> 4433000 | H47: =1.1*4836000 -> 5319600 | I47: =1.1*6045000 -> 6649500 | J47: 120000
C49: 비고 : 인증 수수료 금액은 부가가치세 포함

Sheet (참고)설계 및 감리의 손해배상(공제)
A1: (참고)설계 및 감리의 손해배상 보험 또는 공제 가입비용 계상
A3: 1. 관련근거
A4: - 건축사법 제20조(업무상의 성실 의무 등)
A5: - 설계, 건설사업관리 등 용역손해배상보험 또는 공제 업무요령(국토교통부고시 제2019-997, 2019. 12. 30.개정 및 시행)
A6: - 전력기술관리법 운영요령(산업통상자원부고시 제2020-93호, 2020. 6. 8.개정)
A8: 2. 적용기준
A9: - 보험(공제)료 = 용역비용 × 보험(공제)요율
A10: ․ 용역비용 : 용역계약금액에서 부가가치세와 보험 또는 공제료를 제외한 금액
A11: ․ 보험(공제)요율 : 건축사 ․ 엔지니어링 ․ 서울공제조합 등에 문의
A13: 3. 건축사공제조합 및 전기기술인협회 안내 설계 ․ 감리 보험(공제) 요율표(기본요율적용기간 : 3년)
A15: 구분 | D15: 5억원이하 | E15: 5억원초과 10억원이하 | F15: 10억원초과 20억원이하 | G15: 20억원초과 30억원이하 | H15: 30억원초과 50억원이하 | I15: 공사종류
A16: 건축 | B16: 기본(중간)설계 | C16: 기본요율 | D16: 0.346 | E16: 0.336 | F16: 0.326 | G16: 0.315 | H16: 0.305 | I16: 교육연구시설
C17: 가산요율 | D17: 0.056 | E17: 0.053 | F17: 0.052 | G17: 0.05 | H17: 0.049
B18: 실시설계 | C18: 기본요율 | D18: 0.52 | E18: 0.503 | F18: 0.488 | G18: 0.472 | H18: 0.457
C19: 가산요율 | D19: 0.083 | E19: 0.082 | F19: 0.078 | G19: 0.077 | H19: 0.072
B20: 비상주감리 | C20: 기본요율 | D20: 0.424 | E20: 0.411 | F20: 0.398 | G20: 0.386 | H20: 0.373
C21: 가산요율 | D21: 0.068 | E21: 0.066 | F21: 0.064 | G21: 0.062 | H21: 0.059
B22: 상주감리 | C22: 기본요율 | D22: 0.566 | E22: 0.548 | F22: 0.531 | G22: 0.514 | H22: 0.497
C23: 가산요율 | D23: 0.09 | E23: 0.088 | F23: 0.085 | G23: 0.083 | H23: 0.08
B24: 책임감리 | C24: 기본요율 | D24: 0.707 | E24: 0.686 | F24: 0.664 | G24: 0.642 | H24: 0.622
C25: 가산요율 | D25: 0.113 | E25: 0.11 | F25: 0.106 | G25: 0.103 | H25: 0.099
B26: 건설사업관리 | C26: 기본요율 | D26: 0.692 | E26: 0.672 | F26: 0.651 | G26: 0.63 | H26: 0.61
C27: 가산요율 | D27: 0.11 | E27: 0.107 | F27: 0.104 | G27: 0.101 | H27: 0.098
B28: 감독권한대행 건설사업관리 | C28: 기본요율 | D28: 0.578 | E28: 0.56 | F28: 0.542 | G28: 0.525 | H28: 0.508 | I28: 공용청사건설공사
C29: 가산요율 | D29: 0.092 | E29: 0.09 | F29: 0.087 | G29: 0.084 | H29: 0.081
B30: 감독권한대행없음 건설사업관리 | C30: 기본요율 | D30: 0.565 | E30: 0.549 | F30: 0.532 | G30: 0.515 | H30: 0.498
C31: 가산요율 | D31: 0.09 | E31: 0.087 | F31: 0.085 | G31: 0.083 | H31: 0.08
A32: 전기 | B32: 기본설계 | C32: 기본요율 | D32: 0.346 | E32: 0.336 | F32: 0.326 | G32: 0.315 | H32: 0.305 | I32: 공용청사건설공사
C33: 가산요율 | D33: 0.056 | E33: 0.053 | F33: 0.052 | G33: 0.05 | H33: 0.049
B34: 실시설계 | C34: 기본요율 | D34: 0.492 | E34: 0.477 | F34: 0.462 | G34: 0.447 | H34: 0.433
C35: 가산요율 | D35: 0.078 | E35: 0.076 | F35: 0.074 | G35: 0.072 | H35: 0.069
B36: 공사감리 | C36: 기본요율 | D36: 0.565 | E36: 0.549 | F36: 0.532 | G36: 0.515 | H36: 0.498
C37: 가산요율 | D37: 0.09 | E37: 0.087 | F37: 0.085 | G37: 0.083 | H37: 0.08
A39: ★ 손해배상 공제료 산정방법
A40: • 공제계약기간이 표준공사 기간 이내인 경우→ 공제가입금액 × 기본요율(금액별, 공종별 요율 적용)
A41: • 공제계약기간이 표준공사기간을 초과하는 경우→ 공제가입금액 × (기본요율 + 가산요율 × 표준공사기간 초과일수/365)
A42: • 중간설계는 기본설계와 동일한 공제요율을 적용
A43: • 동일한 공사에 대하여 기본(중간)설계 및 실시설계를 같은 용역업자가 수행하는 경우 단계별 용역금액을 구분하여 공제요율을 반영
A44: • 공제료는 금액 구간별 요율을 순차적으로 적용하여 산출한 총합계 공제료를 적용 | U44: ㅌ

Sheet (참고)(비상주)감리대가요율
B1: (참고)건축공사감리 대가요율
E2: (단위 : %)
B4: 공사비 | C4: 제3종(복잡) | D4: 제2종(보통) | E4: 제1종(단순)
A5: 50000000 | B5: 5000만원 | C5: 2.46 | D5: 2.24 | E5: 2.02 | F5: 100000000
A6: 100000000 | B6: 1억원 | C6: 2.32 | D6: 2.11 | E6: 1.9 | F6: 200000000
A7: 200000000 | B7: 2억원 | C7: 1.85 | D7: 1.68 | E7: 1.51 | F7: 300000000
A8: 300000000 | B8: 3억원 | C8: 1.7 | D8: 1.54 | E8: 1.39 | F8: 500000000
A9: 500000000 | B9: 5억원 | C9: 1.57 | D9: 1.43 | E9: 1.29 | F9: 1000000000
A10: 1000000000 | B10: 10억원 | C10: 1.35 | D10: 1.23 | E10: 1.11 | F10: 2000000000
A11: 2000000000 | B11: 20억원 | C11: 1.24 | D11: 1.13 | E11: 1.02 | F11: 3000000000
A12: 3000000000 | B12: 30억원 | C12: 1.2 | D12: 1.09 | E12: 0.98 | F12: 5000000000
A13: 5000000000 | B13: 50억원 | C13: 1.18 | D13: 1.07 | E13: 0.96 | F13: 10000000000
A14: 10000000000 | B14: 100억원 | C14: 1.14 | D14: 1.04 | E14: 0.94 | F14: 20000000000
A15: 20000000000 | B15: 200억원 | C15: 1.11 | D15: 1.01 | E15: 0.91 | F15: 30000000000
A16: 30000000000 | B16: 300억원 | C16: 1.1 | D16: 1 | E16: 0.9 | F16: 50000000000
... A20: 300000000000 | B20: 3000억원 | C20: 1.03 | D20: 0.94 | E20: 0.85 | F20: 500000000000
A21: 500000000000 | B21: 5000억원 | C21: 1.02 | D21: 0.93 | E21: 0.84
B22: 주 : “공사비“라 함은 건축주의 공사비 총예정금액(자재대 포함)중 용지비, 보상비, 법률수속비 및 부가가치세를 제외한 일체의 금액을 말한다.

Sheet (참고)엔지니어링업체 및 건설사업관리기술 임금실태조사결과
A1: (참고)엔지니어링업체 및 건설사업관리기술인 임금실태조사 결과
A3: 1. 엔지니어링 기술부문별 기술자 노임단가
A5: 구 분 | C5: 기술사 | D5: 특급기술자 | E5: 고급기술자 | F5: 중급기술자 | G5: 초급기술자 | H5: 고급숙련기술자 | I5: 중급숙련기술자 | J5: 초급숙련기술자
A6: 일임금액(원) | B6: 기계 및 설비 | C6: 382922 | D6: 322321 | E6: 282109 | F6: 219603 | G6: 203384 | H6: 232720 | I6: 190557 | J6: 168953
B7: 전기 | C7: 386790 | D7: 288765 | E7: 242820 | F7: 219050 | G7: 199763 | H7: 238484 | I7: 179526 | J7: 153750
B8: 정보통신 | C8: 367129 | D8: 267977 | E8: 242904 | F8: 222620 | G8: 182192 | H8: 194866 | I8: 172952 | J8: 149870
B9: 건설 | C9: 371891 | D9: 292249 | E9: 242055 | F9: 220497 | G9: 172529 | H9: 207510 | I9: 185073 | J9: 162285
B10: 기타 | C10: 351929 | D10: 288326 | E10: 240794 | F10: 193223 | G10: 175897 | H10: 203120 | I10: 169272 | J10: 140473
A11: * 엔지니어링사업진흥법 시행령 엔지니어링기술(제3조 관련) 별표1에 따른 건술기술자 노임단가[시행일] 2021년 1월 1일부터 적용
A13: 2. 건설사업관리기술인 노임가격
A14: 구분 | B14: 특급감리원 | C14: 고급감리원 | D14: 중급감리원 | E14: 초급감리원
A15: 일일금액 | B15: 348448 | C15: 301354 | D15: 261714 | E15: 198557
A16: 월금액 | B16: =B15*22 -> 7665856 | C16: =C15*22 -> 6629788 | D16: =D15*22 -> 5757708 | E16: =E15*22 -> 4368254
A17: 환산비(Si) | B17: 1.156 | C17: 1 | D17: 0.868 | E17: 0.659
A18: * 건설기술진흥법 제37조 및 건설기술용역 대사들에 관한 기준에 따른 건설사업관리기술인 노임 단가 [시행일] 2021년 1월 1일부터 적용
A20: 3. 전기감리원 연도별 월임금액 현황
A21: 구분 | B21: 특급감리원 | C21: 고급감리원 | D21: 중급감리원 | E21: 초급감리원
A22: 일일금액 | B22: 288765 | C22: 242820 | D22: 219050 | E22: 199763
A23: 월금액 | B23: 6352830 | C23: 5342040 | D23: 4819100 | E23: 4394786
A24: 환산비(Si) | B24: 1.19 | C24: 1 | D24: 0.9 | E24: 0.82
A25: * 한국전기기술인협회 연도별 감리원 인건비와 환산비 적용

Sheet (참고)전력시설물공사 설계 및 설계감리 요율
C1: (참고)전력시설물공사 설계 및 설계 감리요율
C2: 1. 관련근거 : 전력기술관리법 운영요령(산업통상자원부고시 제2020-93호)
C3: 구분 | D3: 범위 | E3: 전력시설물공사 설계 및 설계 감리요율
E4: 기본설계 | F4: 실시설계 | G4: 설계감리 | H4: 계
C5: 2000만원 이하 | D5: 20000000 | E5: 3.79 | F5: 11.38 | G5: 1.89 | H5: 17.06
C6: 3000만원 이하 | D6: 30000000 | E6: 3.07 | F6: 9.19 | G6: 1.53 | H6: 13.79
C7: 5000만원 이하 | D7: 50000000 | E7: 2.14 | F7: 6.42 | G7: 1.07 | H7: 9.63
C8: 1억원 이하 | D8: 100000000 | E8: 2.01 | F8: 6.01 | G8: 1 | H8: 9.02
C9: 2억원 이하 | D9: 200000000 | E9: 1.6 | F9: 4.8 | G9: 0.8 | H9: 7.2
C10: 3억원 이하 | D10: 300000000 | E10: 1.46 | F10: 4.38 | G10: 0.73 | H10: 6.57
C11: 5억원 이하 | D11: 500000000 | E11: 1.33 | F11: 3.97 | G11: 0.66 | H11: 5.96
C12: 10억원 이하 | D12: 1000000000 | E12: 1.17 | F12: 3.51 | G12: 0.58 | H12: 5.26
C13: 20억원 이하 | D13: 2000000000 | E13: 1.08 | F13: 3.22 | G13: 0.54 | H13: 4.84
C14: 30억원 이하 | D14: 3000000000 | E14: 1.04 | F14: 3.11 | G14: 0.52 | H14: 4.67
C15: 50억원 이하 | D15: 5000000000 | E15: 1.02 | F15: 3.06 | G15: 0.51 | H15: 4.59
C16: 100억원 이하 | D16: 10000000000 | E16: 0.99 | F16: 2.98 | G16: 0.49 | H16: 4.46
... C23: 5000억원 이하 | D23: 500000000000 | E23: 0.89 | F23: 2.64 | G23: 0.42 | H23: 3.95

Sheet (참고)전력시설물공사 감리원 배치기준
C1: (참고)전력시설물공사 감리원배치기준(제25조제1항관련)
C2: 1. 관련근거 : 전력기술관리법 운영요령(산업통상자원부고시 제2020-93호)
H3: 단위 : 감리원수(인×월)
C4: 공사비(억원) | D4: 범위 | E4: 단순공종 | F4: 보통공종 | G4: 복잡공종 | H4: 비고
C5: 500만원이하 | D5: 0 | E5: 0 | F5: 0 | G5: 0
C6: 500만원 | D6: 5000000 | E6: 0.17 | F6: 0.18 | G6: 0.2
C7: 1000천원 | D7: 10000000 | E7: 0.28 | F7: 0.31 | G7: 0.34
C8: 2000천원 | D8: 20000000 | E8: 0.48 | F8: 0.53 | G8: 0.59
C9: 3000천원 | D9: 30000000 | E9: 0.66 | F9: 0.73 | G9: 0.8
C10: 4000천원 | D10: 40000000 | E10: 0.82 | F10: 0.9 | G10: 1
C11: 5000천원 | D11: 50000000 | E11: 1 | F11: 1.1 | G11: 1.2
C12: 6000천원 | D12: 60000000 | E12: 1.1 | F12: 1.2 | G12: 1.4
C13: 7000천원 | D13: 70000000 | E13: 1.3 | F13: 1.4 | G13: 1.5
C14: 8000천원 | D14: 80000000 | E14: 1.4 | F14: 1.5 | G14: 1.7
C15: 9000천원 | D15: 90000000 | E15: 1.5 | F15: 1.7 | G15: 1.9
C16: 1억원 | D16: 100000000 | E16: 1.7 | F16: 1.8 | G16: 2
... C35: 500억원 | D35: 50000000000 | E35: 197 | F35: 218.9 | G35: 240.8

Sheet (참고) 엔지니어링 손해배상공제요율표
C1: (참고) 설계 및 감리 등 용역손해배상공제요율
C2: (출처) 엔지니어링 공제조합 홈페이지
C3: 공제 가입금액이 50억 원 이하 건의 경우, 요율을 적용합니다
C4: 구 분 | E4: 5억원이하 | G4: 5억원초과 10억원이하 | I4: 10억원초과 20억원이하 | K4: 20억원초과 30억원이하 | M4: 30억원초과 50억원이하 | O4: 표준 공사기간(년)
E5: 기본요율 | F5: 가산요율 | G5: 기본요율 | H5: 가산요율 | I5: 기본요율 | J5: 가산요율 | K5: 기본요율 | L5: 가산요율 | M5: 기본요율 | N5: 가산요율
C6: 공용청사건설공사 | D6: 기본설계 | E6: 0.346 | F6: 0.056 | G6: 0.336 | H6: 0.053 | I6: 0.326 | J6: 0.052 | K6: 0.315 | L6: 0.05 | M6: 0.305 | N6: 0.049 | O6: 3
D7: 실시설계 | E7: 0.52 | F7: 0.083 | G7: 0.503 | H7: 0.082 | I7: 0.488 | J7: 0.078 | K7: 0.472 | L7: 0.077 | M7: 0.457 | N7: 0.072 | O7: 3
D8: 검측비상주감리 | E8: 0.424 | F8: 0.068 | G8: 0.411 | H8: 0.066 | I8: 0.398 | J8: 0.064 | K8: 0.386 | L8: 0.062 | M8: 0.373 | N8: 0.059 | O8: 3
D9: 시공상주감리 | E9: 0.566 | F9: 0.09 | G9: 0.548 | H9: 0.088 | I9: 0.531 | J9: 0.085 | K9: 0.514 | L9: 0.083 | M9: 0.497 | N9: 0.08 | O9: 3
D10: 책임감리 | E10: 0.707 | F10: 0.113 | G10: 0.686 | H10: 0.11 | I10: 0.664 | J10: 0.106 | K10: 0.642 | L10: 0.103 | M10: 0.622 | N10: 0.099 | O10: 3
D11: 감독권한대행 건설사업관리 | E11: 0.707 | F11: 0.113 | G11: 0.686 | H11: 0.11 | I11: 0.664 | J11: 0.106 | K11: 0.642 | L11: 0.103 | M11: 0.622 | N11: 0.099 | O11: 3
D12: 감독권한대행 없는 건설사업관리 | E12: 0.692 | F12: 0.11 | G12: 0.672 | H12: 0.107 | I12: 0.651 | J12: 0.104 | K12: 0.63 | L12: 0.101 | M12: 0.61 | N12: 0.098 | O12: 3
C14: 손해배상 공제료 산정방법
C15: ♦ 공제료 산정방법 | H15: ♦ 공제료 산정예시
C16: • 공제계약기간이 표준공사 기간 이내인 경우 | H16: • 공종종류 : 실시설계
C17: → 공제가입금액 × 기본요율(금액별, 공종별 요율 적용) | H17: • 공사종류 : 공용청사건설공사 (표준공사기간 3년)
C18: • 공제계약기간이 표준공사기간을 초과하는 경우 | H18: • 초과일수 : 183일
C19: → 공제가입금액 × (기본요율 + 가산요율 × 표준공사기간 초과일수/365) | H19: • 공제가입금액(용역계약금액) : 1,450,000,000원
C20: • 공제료는 금액 구간별 요율을 순차적으로 적용하여 산출한 총합계공제료를 적용 | H20: • 공제료 산정
C21: • 최저 공제료는 매 계약 당 10,000원 | H21: 500,000,000원 × (0.692% + 0.110% × 183/365) = 3,735,753원
C22: • 공제료의 표시는 1,000원 단위를 기본으로 하며, 천원미만은 절사 | H22: 500,000,000원 × (0.671% + 0.107% × 183/365) = 3,623,232원
H23: 450,000,000원 × (0.650% + 0.104% × 183/365) = 3,159,641원
H25: 3,735,753원 + 3,623,232원 + 3,159,641원 = 10,518,626원 에서 천원미만 절삭
H26: → 최종 산정 공제료 : 10,518,000원
