Workbook

Sheet 갑지
A3: 과장 | C3: 담당 | E3: 검산자 | G3: 설계자 | I3: 2026년 9월 설계

Sheet 원가계산서
A1: 공 사 원 가 계 산 서
A2: 공사명 : 공동실험실습관 외벽개선 환기배관 철거 및 설치 공사
A3: 구 분 비 목 | D3: 구 성 비 | E3: 금 액 | F3: 비 고
A5: 순 공 사 원 가 | B5: 재료비 | C5: 직 접 재 료 비 | E5: =ROUNDDOWN(집계표!E20-집계표!AU20, 0) -> 0 | G5: A1 | H5: 0 | I5: =E5 -> 0
C6: 간 접 재 료 비 | E6: =ROUNDDOWN(E5*H6, 0) -> 0 | G6: A2 | H6: 0 | I6: =E6 -> 0
C7: 작업설.부산물 등(△) | E7: =집계표!S20 -> 0 | G7: A3 | H7: 0 | I7: =E7 -> 0
C8: 소 계 | E8: =SUM(E5:E6)-ABS(E7) -> 0 | G8: A | H8: 0 | I8: =E8 -> 0
B9: 노무비 | C9: 직 접 노 무 비 | E9: =ROUNDDOWN(집계표!G20, 0) -> 0 | G9: B1 | H9: 0 | I9: =E9 -> 0
C10: 간 접 노 무 비 | D10: ="직.노*"&H10*100&"%" -> 직.노*17.5% | E10: =ROUNDDOWN(E9*H10, 0) -> 0 | G10: B2 | H10: 0.175 | I10: =E10 -> 0
C11: 소 계 | E11: =SUM(E9:E10) -> 0 | G11: B | H11: 0 | I11: =E11 -> 0
B12: 경 비 | C12: 기 계 경 비 | E12: =ROUNDDOWN(집계표!I20, 0) -> 0 | G12: C4 | H12: 0 | I12: =E12 -> 0
C13: 산 재 보 험 료 | D13: ="(노)*"&H13*100&"%" -> (노)*3.56% | E13: =ROUNDDOWN((E11)*H13, 0) -> 0 | G13: C10 | H13: 0.0356 | I13: =E13 -> 0
C14: 고 용 보 험 료 | D14: ="(노)*"&H14*100&"%" -> (노)*1.01% | E14: =ROUNDDOWN((E11)*H14, 0) -> 0 | G14: C11 | H14: 0.0101 | I14: =E14 -> 0
C15: 건 강 보 험 료 | D15: ="(직.노)*"&H15*100&"%" -> (직.노)*3.595% | E15: =ROUNDDOWN((E9)*H15, 0) -> 0 | G15: C12 | H15: 0.03595 | I15: =E15 -> 0
C16: 연 금 보 험 료 | D16: ="(직.노)*"&H16*100&"%" -> (직.노)*4.75% | E16: =ROUNDDOWN((E9)*H16, 0) -> 0 | G16: C13 | H16: 0.0475 | I16: =E16 -> 0
C17: 노인 장기 요양보험료 | D17: ="(건강보험료)*"&H17*100&"%" -> (건강보험료)*13.14% | E17: =ROUNDDOWN((E15)*H17, 0) -> 0 | G17: C14 | H17: 0.1314 | I17: =E17 -> 0
C18: 산업 안전 보건관리비 | D18: ="(재+직.노+(관급-0)/1.1)*"&H18*100&"%"&" < (재+직.노)*3.11%*1.2" -> (재+직.노+(관급-0)/1.1)*3.11% < (재+직.노)*3.11%*1.2 | E18: =ROUNDDOWN((E8+E9+(0-0)/1.1)*H18, 0) -> 0 | F18: 1,310,118 < 1,572,142 | G18: C16 | H18: 0.0311 | I18: =E18 -> 0
C19: 기 타 경 비 | D19: ="(재+노)*"&H19*100&"%" -> (재+노)*5% | E19: =ROUNDDOWN((E8+E11)*H19, 0) -> 0 | G19: C20 | H19: 0.05 | I19: =E19 -> 0
C20: 환 경 보 전 비 | D20: ="(재+직.노+기.경)*"&H20*100&"%" -> (재+직.노+기.경)*0.3% | E20: =ROUNDDOWN((E8+E9+E12)*H20, 0) -> 0 | G20: C25 | H20: 0.003 | I20: =E20 -> 0
C21: 석 면 분 담 금 | D21: ="(노)*"&H21*100&"%" -> (노)*0.006% | E21: =ROUNDDOWN((E11)*H21, 0) -> 0 | G21: C26 | H21: 6e-05 | I21: =E21 -> 0
C22: 임 금 채 권 부 담 금 | D22: ="(노)*"&H22*100&"%" -> (노)*0.09% | E22: =ROUNDDOWN((E11)*H22, 0) -> 0 | G22: C27 | H22: 0.0009 | I22: =E22 -> 0
C23: 소 계 | E23: =SUM(E12:E20) -> 0 | G23: C | H23: 0 | I23: =E23 -> 0
B24: 계 | E24: =E8+E11+E23 -> 0 | G24: X | H24: 0 | I24: =E24 -> 0
A25: 일 반 관 리 비 | D25: ="(재+노+경)*"&H25*100&"%" -> (재+노+경)*8% | E25: =ROUNDDOWN((E8+E11+E23)*H25, 0) -> 0 | G25: D | H25: 0.08 | I25: =E25 -> 0
A26: 이 윤 | D26: ="(노+경+일)*"&H26*100&"%" -> (노+경+일)*15% | E26: =ROUNDDOWN((E11+E23+E25)*H26, 0) -> 0 | G26: E | H26: 0.15 | I26: =(I11+I23+I25)*H26 -> 0
A27: 작업설.부산물 등(△) | E27: =집계표!AF20 -> 0 | G27: M2 | H27: 0 | I27: =E27 -> 0
A28: 총 원 가 | E28: =SUM(E24:E27) -> 0 | G28: F | H28: 0 | I28: =SUM(I24:I27) -> 0
A29: 부 가 가 치 세 | D29: ="(총원가)*"&H29*100&"%" -> (총원가)*10% | E29: =ROUNDDOWN(((E30)/110)*10, 0)+J29 -> 20 | G29: H | H29: 0.1 | I29: =ROUNDDOWN((I28)*H29, 0)+20 -> 20 | J29: 20
A30: 도 급 금 액 | E30: =INT(I30/1000)*1000 -> 0 | G30: Y | H30: 0 | I30: =I28+I29 -> 20
A31: 총 공 사 금 액 | E31: =ROUNDDOWN(E30+0+0+0, 0) -> 0 | H31: 0 | I31: =I30+0+0+0 -> 20

Sheet 집계표
A1: 공 사 집 계 표
A2: 공사명 : 공동실험실습관 외벽개선 환기배관 철거 및 설치 공사
A3: 품 명 | B3: 단위 | C3: 수량 | D3: 재 료 비 | F3: 노 무 비 | H3: 경 비 | J3: 합 계 | L3: 비고
D4: 단 가 | E4: 금 액 | F4: 단 가 | G4: 금 액 | H4: 단 가 | I4: 금 액 | J4: 단 가 | K4: 금 액 | M4: 손료요율 | N4: 손료구분 | O4: 적용구분 | P4: 합계구분 | Q4: 기계경비 | R4: 운반비 | S4: 작업부산물 | T4: 관급 | U4: 외주비 | V4: 장비비 | W4: 폐기물처리비 | X4: 가설비 | Y4: 잡비제외분 | Z4: 사급자재대 | AA4: 관급자재대 | AB4: 사용자항목1 | AC4: 사용자항목2 | AD4: 안전관리비 | AE4: 품질관리비 | AF4: 작업부산물(철거해체) | AG4: 사용자항목6 | AH4: 사용자항목7 | AI4: 사용자항목8 | AJ4: 사용자항목9 | AK4: 사용자항목10 | AL4: 사용자항목11 | AM4: 사용자항목12 | AN4: 사용자항목13 | AO4: 사용자항목14 | AP4: 사용자항목15 | AQ4: 사용자항목16 | AR4: 사용자항목17 | AS4: 사용자항목18 | AT4: 사용자항목19 | AU4: 간접재료비 | AV4: 품목구분 | AW4: 조달코드 | AX4: 구분
A5: 01. 01. 덕트배관 철거 | B5: 식 | C5: 1 | D5: =내역서!F20 -> 0 | E5: =C5*D5 -> 0 | F5: =내역서!H20 -> 0 | G5: =C5*F5 -> 0 | H5: =내역서!J20 -> 0 | I5: =C5*H5 -> 0 | J5: =D5+F5+H5 -> 0 | K5: =E5+G5+I5 -> 0 | P5: 1 | Q5: =C5*내역서!R20 -> 0 | R5: =C5*내역서!S20 -> 0 | S5: =C5*내역서!T20 -> 0 | T5: =C5*내역서!U20 -> 0 | U5: =C5*내역서!V20 -> 0 | V5: =C5*내역서!W20 -> 0 | W5: =C5*내역서!X20 -> 0 | X5: =C5*내역서!Y20 -> 0 | Y5: =C5*내역서!Z20 -> 0 | Z5: =C5*내역서!AA20 -> 0 | AA5: =C5*내역서!AB20 -> 0 | AB5: =C5*내역서!AC20 -> 0 | AC5: =C5*내역서!AD20 -> 0 | AD5: =C5*내역서!AE20 -> 0 | AE5: =C5*내역서!AF20 -> 0 | AF5: =C5*내역서!AG20 -> 0 | AG5: =C5*내역서!AH20 -> 0 | AH5: =C5*내역서!AI20 -> 0 | AI5: =C5*내역서!AJ20 -> 0 | AJ5: =C5*내역서!AK20 -> 0 | AK5: =C5*내역서!AL20 -> 0 | AL5: =C5*내역서!AM20 -> 0 | AM5: =C5*내역서!AN20 -> 0 | AN5: =C5*내역서!AO20 -> 0 | AO5: =C5*내역서!AP20 -> 0 | AP5: =C5*내역서!AQ20 -> 0 | AQ5: =C5*내역서!AR20 -> 0 | AR5: =C5*내역서!AS20 -> 0 | AS5: =C5*내역서!AT20 -> 0 | AT5: =C5*내역서!AU20 -> 0 | AU5: =C5*내역서!AV20 -> 0
A6: 02. 02. 덕트배관 설치 | B6: 식 | C6: 1 | D6: =내역서!F68 -> 0 | E6: =C6*D6 -> 0 | F6: =내역서!H68 -> 0 | G6: =C6*F6 -> 0 | H6: =내역서!J68 -> 0 | I6: =C6*H6 -> 0 | J6: =D6+F6+H6 -> 0 | K6: =E6+G6+I6 -> 0 | P6: 1 | Q6: =C6*내역서!R68 -> 0 | R6: =C6*내역서!S68 -> 0 | S6: =C6*내역서!T68 -> 0 | T6: =C6*내역서!U68 -> 0 | U6: =C6*내역서!V68 -> 0 | V6: =C6*내역서!W68 -> 0 | W6: =C6*내역서!X68 -> 0 | X6: =C6*내역서!Y68 -> 0 | Y6: =C6*내역서!Z68 -> 0 | Z6: =C6*내역서!AA68 -> 0 | AA6: =C6*내역서!AB68 -> 0 | AB6: =C6*내역서!AC68 -> 0 | AC6: =C6*내역서!AD68 -> 0 | AD6: =C6*내역서!AE68 -> 0 | AE6: =C6*내역서!AF68 -> 0 | AF6: =C6*내역서!AG68 -> 0 | AG6: =C6*내역서!AH68 -> 0 | AH6: =C6*내역서!AI68 -> 0 | AI6: =C6*내역서!AJ68 -> 0 | AJ6: =C6*내역서!AK68 -> 0 | AK6: =C6*내역서!AL68 -> 0 | AL6: =C6*내역서!AM68 -> 0 | AM6: =C6*내역서!AN68 -> 0 | AN6: =C6*내역서!AO68 -> 0 | AO6: =C6*내역서!AP68 -> 0 | AP6: =C6*내역서!AQ68 -> 0 | AQ6: =C6*내역서!AR68 -> 0 | AR6: =C6*내역서!AS68 -> 0 | AS6: =C6*내역서!AT68 -> 0 | AT6: =C6*내역서!AU68 -> 0 | AU6: =C6*내역서!AV68 -> 0
A7: 03. 03. 구멍뚫기 | B7: 식 | C7: 1 | D7: =내역서!F84 -> 0 | E7: =C7*D7 -> 0 | F7: =내역서!H84 -> 0 | G7: =C7*F7 -> 0 | H7: =내역서!J84 -> 0 | I7: =C7*H7 -> 0 | J7: =D7+F7+H7 -> 0 | K7: =E7+G7+I7 -> 0 | P7: 1 | Q7: =C7*내역서!R84 -> 0 | R7: =C7*내역서!S84 -> 0 | S7: =C7*내역서!T84 -> 0 | T7: =C7*내역서!U84 -> 0 | U7: =C7*내역서!V84 -> 0 | V7: =C7*내역서!W84 -> 0 | W7: =C7*내역서!X84 -> 0 | X7: =C7*내역서!Y84 -> 0 | Y7: =C7*내역서!Z84 -> 0 | Z7: =C7*내역서!AA84 -> 0 | AA7: =C7*내역서!AB84 -> 0 | AB7: =C7*내역서!AC84 -> 0 | AC7: =C7*내역서!AD84 -> 0 | AD7: =C7*내역서!AE84 -> 0 | AE7: =C7*내역서!AF84 -> 0 | AF7: =C7*내역서!AG84 -> 0 | AG7: =C7*내역서!AH84 -> 0 | AH7: =C7*내역서!AI84 -> 0 | AI7: =C7*내역서!AJ84 -> 0 | AJ7: =C7*내역서!AK84 -> 0 | AK7: =C7*내역서!AL84 -> 0 | AL7: =C7*내역서!AM84 -> 0 | AM7: =C7*내역서!AN84 -> 0 | AN7: =C7*내역서!AO84 -> 0 | AO7: =C7*내역서!AP84 -> 0 | AP7: =C7*내역서!AQ84 -> 0 | AQ7: =C7*내역서!AR84 -> 0 | AR7: =C7*내역서!AS84 -> 0 | AS7: =C7*내역서!AT84 -> 0 | AT7: =C7*내역서!AU84 -> 0 | AU7: =C7*내역서!AV84 -> 0
A8: 04. 04. 폐기물처리비 | B8: 식 | C8: 1 | D8: =내역서!F100 -> 0 | E8: =C8*D8 -> 0 | F8: =내역서!H100 -> 0 | G8: =C8*F8 -> 0 | H8: =내역서!J100 -> 0 | I8: =C8*H8 -> 0 | J8: =D8+F8+H8 -> 0 | K8: =E8+G8+I8 -> 0 | P8: 1 | Q8: =C8*내역서!R100 -> 0 | R8: =C8*내역서!S100 -> 0 | S8: =C8*내역서!T100 -> 0 | T8: =C8*내역서!U100 -> 0 | U8: =C8*내역서!V100 -> 0 | V8: =C8*내역서!W100 -> 0 | W8: =C8*내역서!X100 -> 0 | X8: =C8*내역서!Y100 -> 0 | Y8: =C8*내역서!Z100 -> 0 | Z8: =C8*내역서!AA100 -> 0 | AA8: =C8*내역서!AB100 -> 0 | AB8: =C8*내역서!AC100 -> 0 | AC8: =C8*내역서!AD100 -> 0 | AD8: =C8*내역서!AE100 -> 0 | AE8: =C8*내역서!AF100 -> 0 | AF8: =C8*내역서!AG100 -> 0 | AG8: =C8*내역서!AH100 -> 0 | AH8: =C8*내역서!AI100 -> 0 | AI8: =C8*내역서!AJ100 -> 0 | AJ8: =C8*내역서!AK100 -> 0 | AK8: =C8*내역서!AL100 -> 0 | AL8: =C8*내역서!AM100 -> 0 | AM8: =C8*내역서!AN100 -> 0 | AN8: =C8*내역서!AO100 -> 0 | AO8: =C8*내역서!AP100 -> 0 | AP8: =C8*내역서!AQ100 -> 0 | AQ8: =C8*내역서!AR100 -> 0 | AR8: =C8*내역서!AS100 -> 0 | AS8: =C8*내역서!AT100 -> 0 | AT8: =C8*내역서!AU100 -> 0 | AU8: =C8*내역서!AV100 -> 0
A20: 합 계 | E20: =SUMIF(P5:P8, "1", E5:E8) -> 0 | G20: =SUMIF(P5:P8, "1", G5:G8) -> 0 | I20: =SUMIF(P5:P8, "1", I5:I8) -> 0 | K20: =E20+G20+I20 -> 0 | Q20: =SUM(Q5:Q8) -> 0 | R20: =SUM(R5:R8) -> 0 | S20: =SUM(S5:S8) -> 0 | T20: =SUM(T5:T8) -> 0 | U20: =SUM(U5:U8) -> 0 | V20: =SUM(V5:V8) -> 0 | W20: =SUM(W5:W8) -> 0 | X20: =SUM(X5:X8) -> 0 | ... AX20: =SUM(AX5:AX8) -> 0

Sheet 내역서
A1: 공 사 내 역 서
A2: 공사명 : 공동실험실습관 외벽개선 환기배관 철거 및 설치 공사
A3: 품 명 | B3: 규 격 | C3: 단위 | D3: 수 량 | E3: 재 료 비 | G3: 노 무 비 | I3: 경 비 | K3: 합 계 | M3: 비고
E4: 단 가 | F4: 금 액 | G4: 단 가 | H4: 금 액 | I4: 단 가 | J4: 금 액 | K4: 단 가 | L4: 금 액 | N4: 손료요율 | O4: 손료구분 | P4: 적용구분 | Q4: 합계구분 | R4: 기계경비 | S4: 운반비 | T4: 작업부산물 | U4: 관급 | V4: 외주비 | W4: 장비비 | X4: 폐기물처리비 | Y4: 가설비 | Z4: 잡비제외분 | AA4: 사급자재대 | AB4: 관급자재대 | AC4: 사용자항목1 | AD4: 사용자항목2 | AE4: 안전관리비 | AF4: 품질관리비 | AG4: 작업부산물(철거해체) | AH4: 사용자항목6 | AI4: 사용자항목7 | AJ4: 사용자항목8 | AK4: 사용자항목9 | AL4: 사용자항목10 | AM4: 사용자항목11 | AN4: 사용자항목12 | AO4: 사용자항목13 | AP4: 사용자항목14 | AQ4: 사용자항목15 | AR4: 사용자항목16 | AS4: 사용자항목17 | AT4: 사용자항목18 | AU4: 사용자항목19 | AV4: 간접재료비 | AW4: 품목구분 | AX4: 조달코드 | AY4: 구분
A5: 01. 01. 덕트배관 철거
A6: 스파이럴덕트 해체 | B6: D250이하, t 0.6mm | C6: m | D6: 7 | O6: ="" | P6: 기계경비 | Q6: 1 | R6: =IF(P6="기계경비", J6, 0) -> 0 | S6: =IF(P6="운반비", L6, 0) -> 0 | T6: =IF(P6="작업부산물", F6, 0) -> 0 | U6: =IF(P6="관급", F6, 0) -> 0 | V6: =IF(P6="외주비", J6, 0) -> 0 | W6: =IF(P6="장비비", J6, 0) -> 0 | X6: =IF(P6="폐기물처리비", L6, 0) -> 0 | Y6: =IF(P6="가설비", J6, 0) -> 0 | Z6: =IF(P6="잡비제외분", F6, 0) -> 0 | AA6: =IF(P6="사급자재대", L6, 0) -> 0 | AB6: =IF(P6="관급자재대", L6, 0) -> 0 | AC6: =IF(P6="사용자항목1", L6, 0) -> 0 | AD6: =IF(P6="사용자항목2", L6, 0) -> 0 | AE6: =IF(P6="안전관리비", L6, 0) -> 0 | AF6: =IF(P6="품질관리비", L6, 0) -> 0 | AG6: =IF(P6="작업부산물(철거해체)", L6, 0) -> 0 | AH6: =IF(P6="사용자항목6", L6, 0) -> 0 | AI6: =IF(P6="사용자항목7", L6, 0) -> 0 | AJ6: =IF(P6="사용자항목8", L6, 0) -> 0 | AK6: =IF(P6="사용자항목9", L6, 0) -> 0 | AL6: =IF(P6="사용자항목10", L6, 0) -> 0 | AM6: =IF(P6="사용자항목11", L6, 0) -> 0 | AN6: =IF(P6="사용자항목12", L6, 0) -> 0 | AO6: =IF(P6="사용자항목13", L6, 0) -> 0 | AP6: =IF(P6="사용자항목14", L6, 0) -> 0 | AQ6: =IF(P6="사용자항목15", L6, 0) -> 0 | AR6: =IF(P6="사용자항목16", L6, 0) -> 0 | AS6: =IF(P6="사용자항목17", L6, 0) -> 0 | AT6: =IF(P6="사용자항목18", L6, 0) -> 0 | AU6: =IF(P6="사용자항목19", L6, 0) -> 0
A7: 스파이럴덕트 해체 | B7: D200이하, t 0.5mm | C7: m | D7: 14 | O7: ="" | P7: 기계경비 | Q7: 1 | R7: =IF(P7="기계경비", J7, 0) -> 0 | S7: =IF(P7="운반비", L7, 0) -> 0 | T7: =IF(P7="작업부산물", F7, 0) -> 0 | U7: =IF(P7="관급", F7, 0) -> 0 | V7: =IF(P7="외주비", J7, 0) -> 0 | W7: =IF(P7="장비비", J7, 0) -> 0 | X7: =IF(P7="폐기물처리비", L7, 0) -> 0 | Y7: =IF(P7="가설비", J7, 0) -> 0 | Z7: =IF(P7="잡비제외분", F7, 0) -> 0 | AA7: =IF(P7="사급자재대", L7, 0) -> 0 | AB7: =IF(P7="관급자재대", L7, 0) -> 0 | AC7: =IF(P7="사용자항목1", L7, 0) -> 0 | AD7: =IF(P7="사용자항목2", L7, 0) -> 0 | AE7: =IF(P7="안전관리비", L7, 0) -> 0 | AF7: =IF(P7="품질관리비", L7, 0) -> 0 | AG7: =IF(P7="작업부산물(철거해체)", L7, 0) -> 0 | AH7: =IF(P7="사용자항목6", L7, 0) -> 0 | AI7: =IF(P7="사용자항목7", L7, 0) -> 0 | AJ7: =IF(P7="사용자항목8", L7, 0) -> 0 | AK7: =IF(P7="사용자항목9", L7, 0) -> 0 | AL7: =IF(P7="사용자항목10", L7, 0) -> 0 | AM7: =IF(P7="사용자항목11", L7, 0) -> 0 | AN7: =IF(P7="사용자항목12", L7, 0) -> 0 | AO7: =IF(P7="사용자항목13", L7, 0) -> 0 | AP7: =IF(P7="사용자항목14", L7, 0) -> 0 | AQ7: =IF(P7="사용자항목15", L7, 0) -> 0 | AR7: =IF(P7="사용자항목16", L7, 0) -> 0 | AS7: =IF(P7="사용자항목17", L7, 0) -> 0 | AT7: =IF(P7="사용자항목18", L7, 0) -> 0 | AU7: =IF(P7="사용자항목19", L7, 0) -> 0
A8: PVC 덕트 해체 | B8: D250이하 | C8: m | D8: 85 | O8: ="" | P8: 기계경비 | Q8: 1 | R8: =IF(P8="기계경비", J8, 0) -> 0 | S8: =IF(P8="운반비", L8, 0) -> 0 | T8: =IF(P8="작업부산물", F8, 0) -> 0 | U8: =IF(P8="관급", F8, 0) -> 0 | V8: =IF(P8="외주비", J8, 0) -> 0 | W8: =IF(P8="장비비", J8, 0) -> 0 | X8: =IF(P8="폐기물처리비", L8, 0) -> 0 | Y8: =IF(P8="가설비", J8, 0) -> 0 | Z8: =IF(P8="잡비제외분", F8, 0) -> 0 | AA8: =IF(P8="사급자재대", L8, 0) -> 0 | AB8: =IF(P8="관급자재대", L8, 0) -> 0 | AC8: =IF(P8="사용자항목1", L8, 0) -> 0 | AD8: =IF(P8="사용자항목2", L8, 0) -> 0 | AE8: =IF(P8="안전관리비", L8, 0) -> 0 | AF8: =IF(P8="품질관리비", L8, 0) -> 0 | AG8: =IF(P8="작업부산물(철거해체)", L8, 0) -> 0 | AH8: =IF(P8="사용자항목6", L8, 0) -> 0 | AI8: =IF(P8="사용자항목7", L8, 0) -> 0 | AJ8: =IF(P8="사용자항목8", L8, 0) -> 0 | AK8: =IF(P8="사용자항목9", L8, 0) -> 0 | AL8: =IF(P8="사용자항목10", L8, 0) -> 0 | AM8: =IF(P8="사용자항목11", L8, 0) -> 0 | AN8: =IF(P8="사용자항목12", L8, 0) -> 0 | AO8: =IF(P8="사용자항목13", L8, 0) -> 0 | AP8: =IF(P8="사용자항목14", L8, 0) -> 0 | AQ8: =IF(P8="사용자항목15", L8, 0) -> 0 | AR8: =IF(P8="사용자항목16", L8, 0) -> 0 | AS8: =IF(P8="사용자항목17", L8, 0) -> 0 | AT8: =IF(P8="사용자항목18", L8, 0) -> 0 | AU8: =IF(P8="사용자항목19", L8, 0) -> 0
A9: 고소작업차 | B9: 5ton | C9: HR | D9: 16 | O9: ="" | P9: 기계경비 | Q9: 1 | R9: =IF(P9="기계경비", J9, 0) -> 0 | S9: =IF(P9="운반비", L9, 0) -> 0 | T9: =IF(P9="작업부산물", F9, 0) -> 0 | U9: =IF(P9="관급", F9, 0) -> 0 | V9: =IF(P9="외주비", J9, 0) -> 0 | W9: =IF(P9="장비비", J9, 0) -> 0 | X9: =IF(P9="폐기물처리비", L9, 0) -> 0 | Y9: =IF(P9="가설비", J9, 0) -> 0 | Z9: =IF(P9="잡비제외분", F9, 0) -> 0 | AA9: =IF(P9="사급자재대", L9, 0) -> 0 | AB9: =IF(P9="관급자재대", L9, 0) -> 0 | AC9: =IF(P9="사용자항목1", L9, 0) -> 0 | AD9: =IF(P9="사용자항목2", L9, 0) -> 0 | AE9: =IF(P9="안전관리비", L9, 0) -> 0 | AF9: =IF(P9="품질관리비", L9, 0) -> 0 | AG9: =IF(P9="작업부산물(철거해체)", L9, 0) -> 0 | AH9: =IF(P9="사용자항목6", L9, 0) -> 0 | AI9: =IF(P9="사용자항목7", L9, 0) -> 0 | AJ9: =IF(P9="사용자항목8", L9, 0) -> 0 | AK9: =IF(P9="사용자항목9", L9, 0) -> 0 | AL9: =IF(P9="사용자항목10", L9, 0) -> 0 | AM9: =IF(P9="사용자항목11", L9, 0) -> 0 | AN9: =IF(P9="사용자항목12", L9, 0) -> 0 | AO9: =IF(P9="사용자항목13", L9, 0) -> 0 | AP9: =IF(P9="사용자항목14", L9, 0) -> 0 | AQ9: =IF(P9="사용자항목15", L9, 0) -> 0 | AR9: =IF(P9="사용자항목16", L9, 0) -> 0 | AS9: =IF(P9="사용자항목17", L9, 0) -> 0 | AT9: =IF(P9="사용자항목18", L9, 0) -> 0 | AU9: =IF(P9="사용자항목19", L9, 0) -> 0
A20: 합 계 | F20: =ROUNDDOWN(SUMIF(Q6:Q19, "1", F6:F19), 0) -> 0 | H20: =ROUNDDOWN(SUMIF(Q6:Q19, "1", H6:H19), 0) -> 0 | J20: =ROUNDDOWN(SUMIF(Q6:Q19, "1", J6:J19), 0) -> 0 | L20: =F20+H20+J20 -> 0 | R20: =ROUNDDOWN(SUM(R6:R9), 0) -> 0 | S20: =ROUNDDOWN(SUM(S6:S9), 0) -> 0 | T20: =ROUNDDOWN(SUM(T6:T9), 0) -> 0 | U20: =ROUNDDOWN(SUM(U6:U9), 0) -> 0 | V20: =ROUNDDOWN(SUM(V6:V9), 0) -> 0 | W20: =ROUNDDOWN(SUM(W6:W9), 0) -> 0 | X20: =ROUNDDOWN(SUM(X6:X9), 0) -> 0 | Y20: =ROUNDDOWN(SUM(Y6:Y9), 0) -> 0 | ... AY20: =ROUNDDOWN(SUM(AY6:AY9), 0) -> 0
A21: 02. 02. 덕트배관 설치
A22: 스파이럴덕트 | B22: 공조덕트, 스파이럴, Φ250mm | C22: m | D22: 7 | O22: ="01" -> 01 | P22: 기계경비 | Q22: 1 | R22: =IF(P22="기계경비", J22, 0) -> 0 | S22: =IF(P22="운반비", L22, 0) -> 0 | T22: =IF(P22="작업부산물", F22, 0) -> 0 | U22: =IF(P22="관급", F22, 0) -> 0 | V22: =IF(P22="외주비", J22, 0) -> 0 | W22: =IF(P22="장비비", J22, 0) -> 0 | X22: =IF(P22="폐기물처리비", L22, 0) -> 0 | Y22: =IF(P22="가설비", J22, 0) -> 0 | Z22: =IF(P22="잡비제외분", F22, 0) -> 0 | AA22: =IF(P22="사급자재대", L22, 0) -> 0 | AB22: =IF(P22="관급자재대", L22, 0) -> 0 | AC22: =IF(P22="사용자항목1", L22, 0) -> 0 | AD22: =IF(P22="사용자항목2", L22, 0) -> 0 | AE22: =IF(P22="안전관리비", L22, 0) -> 0 | AF22: =IF(P22="품질관리비", L22, 0) -> 0 | AG22: =IF(P22="작업부산물(철거해체)", L22, 0) -> 0 | AH22: =IF(P22="사용자항목6", L22, 0) -> 0 | AI22: =IF(P22="사용자항목7", L22, 0) -> 0 | AJ22: =IF(P22="사용자항목8", L22, 0) -> 0 | AK22: =IF(P22="사용자항목9", L22, 0) -> 0 | AL22: =IF(P22="사용자항목10", L22, 0) -> 0 | AM22: =IF(P22="사용자항목11", L22, 0) -> 0 | AN22: =IF(P22="사용자항목12", L22, 0) -> 0 | AO22: =IF(P22="사용자항목13", L22, 0) -> 0 | AP22: =IF(P22="사용자항목14", L22, 0) -> 0 | AQ22: =IF(P22="사용자항목15", L22, 0) -> 0 | AR22: =IF(P22="사용자항목16", L22, 0) -> 0 | AS22: =IF(P22="사용자항목17", L22, 0) -> 0 | AT22: =IF(P22="사용자항목18", L22, 0) -> 0 | AU22: =IF(P22="사용자항목19", L22, 0) -> 0
A23: 스파이럴덕트 | B23: 공조덕트, 스파이럴, Φ200mm | C23: m | D23: 15 | O23: ="01" -> 01 | P23: 기계경비 | Q23: 1 | R23: =IF(P23="기계경비", J23, 0) -> 0 | S23: =IF(P23="운반비", L23, 0) -> 0 | T23: =IF(P23="작업부산물", F23, 0) -> 0 | U23: =IF(P23="관급", F23, 0) -> 0 | V23: =IF(P23="외주비", J23, 0) -> 0 | W23: =IF(P23="장비비", J23, 0) -> 0 | X23: =IF(P23="폐기물처리비", L23, 0) -> 0 | Y23: =IF(P23="가설비", J23, 0) -> 0 | Z23: =IF(P23="잡비제외분", F23, 0) -> 0 | AA23: =IF(P23="사급자재대", L23, 0) -> 0 | AB23: =IF(P23="관급자재대", L23, 0) -> 0 | AC23: =IF(P23="사용자항목1", L23, 0) -> 0 | AD23: =IF(P23="사용자항목2", L23, 0) -> 0 | AE23: =IF(P23="안전관리비", L23, 0) -> 0 | AF23: =IF(P23="품질관리비", L23, 0) -> 0 | AG23: =IF(P23="작업부산물(철거해체)", L23, 0) -> 0 | AH23: =IF(P23="사용자항목6", L23, 0) -> 0 | AI23: =IF(P23="사용자항목7", L23, 0) -> 0 | AJ23: =IF(P23="사용자항목8", L23, 0) -> 0 | AK23: =IF(P23="사용자항목9", L23, 0) -> 0 | AL23: =IF(P23="사용자항목10", L23, 0) -> 0 | AM23: =IF(P23="사용자항목11", L23, 0) -> 0 | AN23: =IF(P23="사용자항목12", L23, 0) -> 0 | AO23: =IF(P23="사용자항목13", L23, 0) -> 0 | AP23: =IF(P23="사용자항목14", L23, 0) -> 0 | AQ23: =IF(P23="사용자항목15", L23, 0) -> 0 | AR23: =IF(P23="사용자항목16", L23, 0) -> 0 | AS23: =IF(P23="사용자항목17", L23, 0) -> 0 | AT23: =IF(P23="사용자항목18", L23, 0) -> 0 | AU23: =IF(P23="사용자항목19", L23, 0) -> 0
A24: 스파이럴덕트 | B24: 공조덕트, 스파이럴, Φ150mm | C24: m | D24: 1 | O24: ="01" -> 01 | P24: 기계경비 | Q24: 1 | R24: =IF(P24="기계경비", J24, 0) -> 0 | S24: =IF(P24="운반비", L24, 0) -> 0 | T24: =IF(P24="작업부산물", F24, 0) -> 0 | U24: =IF(P24="관급", F24, 0) -> 0 | V24: =IF(P24="외주비", J24, 0) -> 0 | W24: =IF(P24="장비비", J24, 0) -> 0 | X24: =IF(P24="폐기물처리비", L24, 0) -> 0 | Y24: =IF(P24="가설비", J24, 0) -> 0 | Z24: =IF(P24="잡비제외분", F24, 0) -> 0 | AA24: =IF(P24="사급자재대", L24, 0) -> 0 | AB24: =IF(P24="관급자재대", L24, 0) -> 0 | AC24: =IF(P24="사용자항목1", L24, 0) -> 0 | AD24: =IF(P24="사용자항목2", L24, 0) -> 0 | AE24: =IF(P24="안전관리비", L24, 0) -> 0 | AF24: =IF(P24="품질관리비", L24, 0) -> 0 | AG24: =IF(P24="작업부산물(철거해체)", L24, 0) -> 0 | AH24: =IF(P24="사용자항목6", L24, 0) -> 0 | AI24: =IF(P24="사용자항목7", L24, 0) -> 0 | AJ24: =IF(P24="사용자항목8", L24, 0) -> 0 | AK24: =IF(P24="사용자항목9", L24, 0) -> 0 | AL24: =IF(P24="사용자항목10", L24, 0) -> 0 | AM24: =IF(P24="사용자항목11", L24, 0) -> 0 | AN24: =IF(P24="사용자항목12", L24, 0) -> 0 | AO24: =IF(P24="사용자항목13", L24, 0) -> 0 | AP24: =IF(P24="사용자항목14", L24, 0) -> 0 | AQ24: =IF(P24="사용자항목15", L24, 0) -> 0 | AR24: =IF(P24="사용자항목16", L24, 0) -> 0 | AS24: =IF(P24="사용자항목17", L24, 0) -> 0 | AT24: =IF(P24="사용자항목18", L24, 0) -> 0 | AU24: =IF(P24="사용자항목19", L24, 0) -> 0
A25: 스파이럴덕트 | B25: 공조덕트, 스파이럴, Φ125mm | C25: m | D25: 3 | O25: ="01" -> 01 | P25: 기계경비 | Q25: 1 | R25: =IF(P25="기계경비", J25, 0) -> 0 | S25: =IF(P25="운반비", L25, 0) -> 0 | T25: =IF(P25="작업부산물", F25, 0) -> 0 | U25: =IF(P25="관급", F25, 0) -> 0 | V25: =IF(P25="외주비", J25, 0) -> 0 | W25: =IF(P25="장비비", J25, 0) -> 0 | X25: =IF(P25="폐기물처리비", L25, 0) -> 0 | Y25: =IF(P25="가설비", J25, 0) -> 0 | Z25: =IF(P25="잡비제외분", F25, 0) -> 0 | AA25: =IF(P25="사급자재대", L25, 0) -> 0 | AB25: =IF(P25="관급자재대", L25, 0) -> 0 | AC25: =IF(P25="사용자항목1", L25, 0) -> 0 | AD25: =IF(P25="사용자항목2", L25, 0) -> 0 | AE25: =IF(P25="안전관리비", L25, 0) -> 0 | AF25: =IF(P25="품질관리비", L25, 0) -> 0 | AG25: =IF(P25="작업부산물(철거해체)", L25, 0) -> 0 | AH25: =IF(P25="사용자항목6", L25, 0) -> 0 | AI25: =IF(P25="사용자항목7", L25, 0) -> 0 | AJ25: =IF(P25="사용자항목8", L25, 0) -> 0 | AK25: =IF(P25="사용자항목9", L25, 0) -> 0 | AL25: =IF(P25="사용자항목10", L25, 0) -> 0 | AM25: =IF(P25="사용자항목11", L25, 0) -> 0 | AN25: =IF(P25="사용자항목12", L25, 0) -> 0 | AO25: =IF(P25="사용자항목13", L25, 0) -> 0 | AP25: =IF(P25="사용자항목14", L25, 0) -> 0 | AQ25: =IF(P25="사용자항목15", L25, 0) -> 0 | AR25: =IF(P25="사용자항목16", L25, 0) -> 0 | AS25: =IF(P25="사용자항목17", L25, 0) -> 0 | AT25: =IF(P25="사용자항목18", L25, 0) -> 0 | AU25: =IF(P25="사용자항목19", L25, 0) -> 0
A26: 공조용플렉시블덕트 | B26: 공조덕트, 플렉시블덕트호스, AL비보온, Φ125mm | C26: m | D26: 4 | O26: ="01" -> 01 | P26: 기계경비 | Q26: 1 | R26: =IF(P26="기계경비", J26, 0) -> 0 | S26: =IF(P26="운반비", L26, 0) -> 0 | T26: =IF(P26="작업부산물", F26, 0) -> 0 | U26: =IF(P26="관급", F26, 0) -> 0 | V26: =IF(P26="외주비", J26, 0) -> 0 | W26: =IF(P26="장비비", J26, 0) -> 0 | X26: =IF(P26="폐기물처리비", L26, 0) -> 0 | Y26: =IF(P26="가설비", J26, 0) -> 0 | Z26: =IF(P26="잡비제외분", F26, 0) -> 0 | AA26: =IF(P26="사급자재대", L26, 0) -> 0 | AB26: =IF(P26="관급자재대", L26, 0) -> 0 | AC26: =IF(P26="사용자항목1", L26, 0) -> 0 | AD26: =IF(P26="사용자항목2", L26, 0) -> 0 | AE26: =IF(P26="안전관리비", L26, 0) -> 0 | AF26: =IF(P26="품질관리비", L26, 0) -> 0 | AG26: =IF(P26="작업부산물(철거해체)", L26, 0) -> 0 | AH26: =IF(P26="사용자항목6", L26, 0) -> 0 | AI26: =IF(P26="사용자항목7", L26, 0) -> 0 | AJ26: =IF(P26="사용자항목8", L26, 0) -> 0 | AK26: =IF(P26="사용자항목9", L26, 0) -> 0 | AL26: =IF(P26="사용자항목10", L26, 0) -> 0 | AM26: =IF(P26="사용자항목11", L26, 0) -> 0 | AN26: =IF(P26="사용자항목12", L26, 0) -> 0 | AO26: =IF(P26="사용자항목13", L26, 0) -> 0 | AP26: =IF(P26="사용자항목14", L26, 0) -> 0 | AQ26: =IF(P26="사용자항목15", L26, 0) -> 0 | AR26: =IF(P26="사용자항목16", L26, 0) -> 0 | AS26: =IF(P26="사용자항목17", L26, 0) -> 0 | AT26: =IF(P26="사용자항목18", L26, 0) -> 0 | AU26: =IF(P26="사용자항목19", L26, 0) -> 0
A27: 공조용플렉시블덕트 | B27: 공조덕트, 플렉시블덕트호스, AL비보온, Φ175mm | C27: m | D27: 1 | O27: ="01" -> 01 | P27: 기계경비 | Q27: 1 | R27: =IF(P27="기계경비", J27, 0) -> 0 | S27: =IF(P27="운반비", L27, 0) -> 0 | T27: =IF(P27="작업부산물", F27, 0) -> 0 | U27: =IF(P27="관급", F27, 0) -> 0 | V27: =IF(P27="외주비", J27, 0) -> 0 | W27: =IF(P27="장비비", J27, 0) -> 0 | X27: =IF(P27="폐기물처리비", L27, 0) -> 0 | Y27: =IF(P27="가설비", J27, 0) -> 0 | Z27: =IF(P27="잡비제외분", F27, 0) -> 0 | AA27: =IF(P27="사급자재대", L27, 0) -> 0 | AB27: =IF(P27="관급자재대", L27, 0) -> 0 | AC27: =IF(P27="사용자항목1", L27, 0) -> 0 | AD27: =IF(P27="사용자항목2", L27, 0) -> 0 | AE27: =IF(P27="안전관리비", L27, 0) -> 0 | AF27: =IF(P27="품질관리비", L27, 0) -> 0 | AG27: =IF(P27="작업부산물(철거해체)", L27, 0) -> 0 | AH27: =IF(P27="사용자항목6", L27, 0) -> 0 | AI27: =IF(P27="사용자항목7", L27, 0) -> 0 | AJ27: =IF(P27="사용자항목8", L27, 0) -> 0 | AK27: =IF(P27="사용자항목9", L27, 0) -> 0 | AL27: =IF(P27="사용자항목10", L27, 0) -> 0 | AM27: =IF(P27="사용자항목11", L27, 0) -> 0 | AN27: =IF(P27="사용자항목12", L27, 0) -> 0 | AO27: =IF(P27="사용자항목13", L27, 0) -> 0 | AP27: =IF(P27="사용자항목14", L27, 0) -> 0 | AQ27: =IF(P27="사용자항목15", L27, 0) -> 0 | AR27: =IF(P27="사용자항목16", L27, 0) -> 0 | AS27: =IF(P27="사용자항목17", L27, 0) -> 0 | AT27: =IF(P27="사용자항목18", L27, 0) -> 0 | AU27: =IF(P27="사용자항목19", L27, 0) -> 0
A28: 공조용플렉시블덕트 | B28: 공조덕트, 플렉시블덕트호스, AL비보온, Φ200mm | C28: m | D28: 5 | O28: ="01" -> 01 | P28: 기계경비 | Q28: 1 | R28: =IF(P28="기계경비", J28, 0) -> 0 | S28: =IF(P28="운반비", L28, 0) -> 0 | T28: =IF(P28="작업부산물", F28, 0) -> 0 | U28: =IF(P28="관급", F28, 0) -> 0 | V28: =IF(P28="외주비", J28, 0) -> 0 | W28: =IF(P28="장비비", J28, 0) -> 0 | X28: =IF(P28="폐기물처리비", L28, 0) -> 0 | Y28: =IF(P28="가설비", J28, 0) -> 0 | Z28: =IF(P28="잡비제외분", F28, 0) -> 0 | AA28: =IF(P28="사급자재대", L28, 0) -> 0 | AB28: =IF(P28="관급자재대", L28, 0) -> 0 | AC28: =IF(P28="사용자항목1", L28, 0) -> 0 | AD28: =IF(P28="사용자항목2", L28, 0) -> 0 | AE28: =IF(P28="안전관리비", L28, 0) -> 0 | AF28: =IF(P28="품질관리비", L28, 0) -> 0 | AG28: =IF(P28="작업부산물(철거해체)", L28, 0) -> 0 | AH28: =IF(P28="사용자항목6", L28, 0) -> 0 | AI28: =IF(P28="사용자항목7", L28, 0) -> 0 | AJ28: =IF(P28="사용자항목8", L28, 0) -> 0 | AK28: =IF(P28="사용자항목9", L28, 0) -> 0 | AL28: =IF(P28="사용자항목10", L28, 0) -> 0 | AM28: =IF(P28="사용자항목11", L28, 0) -> 0 | AN28: =IF(P28="사용자항목12", L28, 0) -> 0 | AO28: =IF(P28="사용자항목13", L28, 0) -> 0 | AP28: =IF(P28="사용자항목14", L28, 0) -> 0 | AQ28: =IF(P28="사용자항목15", L28, 0) -> 0 | AR28: =IF(P28="사용자항목16", L28, 0) -> 0 | AS28: =IF(P28="사용자항목17", L28, 0) -> 0 | AT28: =IF(P28="사용자항목18", L28, 0) -> 0 | AU28: =IF(P28="사용자항목19", L28, 0) -> 0
A29: 공조용플렉시블덕트 | B29: 공조덕트, 플렉시블덕트호스, AL비보온, Φ250mm | C29: m | D29: 9 | O29: ="01" -> 01 | P29: 기계경비 | Q29: 1 | R29: =IF(P29="기계경비", J29, 0) -> 0 | S29: =IF(P29="운반비", L29, 0) -> 0 | T29: =IF(P29="작업부산물", F29, 0) -> 0 | U29: =IF(P29="관급", F29, 0) -> 0 | V29: =IF(P29="외주비", J29, 0) -> 0 | W29: =IF(P29="장비비", J29, 0) -> 0 | X29: =IF(P29="폐기물처리비", L29, 0) -> 0 | Y29: =IF(P29="가설비", J29, 0) -> 0 | Z29: =IF(P29="잡비제외분", F29, 0) -> 0 | AA29: =IF(P29="사급자재대", L29, 0) -> 0 | AB29: =IF(P29="관급자재대", L29, 0) -> 0 | AC29: =IF(P29="사용자항목1", L29, 0) -> 0 | AD29: =IF(P29="사용자항목2", L29, 0) -> 0 | AE29: =IF(P29="안전관리비", L29, 0) -> 0 | AF29: =IF(P29="품질관리비", L29, 0) -> 0 | AG29: =IF(P29="작업부산물(철거해체)", L29, 0) -> 0 | AH29: =IF(P29="사용자항목6", L29, 0) -> 0 | AI29: =IF(P29="사용자항목7", L29, 0) -> 0 | AJ29: =IF(P29="사용자항목8", L29, 0) -> 0 | AK29: =IF(P29="사용자항목9", L29, 0) -> 0 | AL29: =IF(P29="사용자항목10", L29, 0) -> 0 | AM29: =IF(P29="사용자항목11", L29, 0) -> 0 | AN29: =IF(P29="사용자항목12", L29, 0) -> 0 | AO29: =IF(P29="사용자항목13", L29, 0) -> 0 | AP29: =IF(P29="사용자항목14", L29, 0) -> 0 | AQ29: =IF(P29="사용자항목15", L29, 0) -> 0 | AR29: =IF(P29="사용자항목16", L29, 0) -> 0 | AS29: =IF(P29="사용자항목17", L29, 0) -> 0 | AT29: =IF(P29="사용자항목18", L29, 0) -> 0 | AU29: =IF(P29="사용자항목19", L29, 0) -> 0
A30: 일반용경질폴리염화비닐관 | B30: 일반용경질폴리염화비닐관, Φ125mm, VG1 | C30: m | D30: 6 | O30: ="04" -> 04 | P30: 기계경비 | Q30: 1 | R30: =IF(P30="기계경비", J30, 0) -> 0 | S30: =IF(P30="운반비", L30, 0) -> 0 | T30: =IF(P30="작업부산물", F30, 0) -> 0 | U30: =IF(P30="관급", F30, 0) -> 0 | V30: =IF(P30="외주비", J30, 0) -> 0 | W30: =IF(P30="장비비", J30, 0) -> 0 | X30: =IF(P30="폐기물처리비", L30, 0) -> 0 | Y30: =IF(P30="가설비", J30, 0) -> 0 | Z30: =IF(P30="잡비제외분", F30, 0) -> 0 | AA30: =IF(P30="사급자재대", L30, 0) -> 0 | AB30: =IF(P30="관급자재대", L30, 0) -> 0 | AC30: =IF(P30="사용자항목1", L30, 0) -> 0 | AD30: =IF(P30="사용자항목2", L30, 0) -> 0 | AE30: =IF(P30="안전관리비", L30, 0) -> 0 | AF30: =IF(P30="품질관리비", L30, 0) -> 0 | AG30: =IF(P30="작업부산물(철거해체)", L30, 0) -> 0 | AH30: =IF(P30="사용자항목6", L30, 0) -> 0 | AI30: =IF(P30="사용자항목7", L30, 0) -> 0 | AJ30: =IF(P30="사용자항목8", L30, 0) -> 0 | AK30: =IF(P30="사용자항목9", L30, 0) -> 0 | AL30: =IF(P30="사용자항목10", L30, 0) -> 0 | AM30: =IF(P30="사용자항목11", L30, 0) -> 0 | AN30: =IF(P30="사용자항목12", L30, 0) -> 0 | AO30: =IF(P30="사용자항목13", L30, 0) -> 0 | AP30: =IF(P30="사용자항목14", L30, 0) -> 0 | AQ30: =IF(P30="사용자항목15", L30, 0) -> 0 | AR30: =IF(P30="사용자항목16", L30, 0) -> 0 | AS30: =IF(P30="사용자항목17", L30, 0) -> 0 | AT30: =IF(P30="사용자항목18", L30, 0) -> 0 | AU30: =IF(P30="사용자항목19", L30, 0) -> 0
A31: 일반용경질폴리염화비닐관 | B31: 일반용경질폴리염화비닐관, Φ150mm, VG1 | C31: m | D31: 10 | O31: ="04" -> 04 | P31: 기계경비 | Q31: 1 | R31: =IF(P31="기계경비", J31, 0) -> 0 | S31: =IF(P31="운반비", L31, 0) -> 0 | T31: =IF(P31="작업부산물", F31, 0) -> 0 | U31: =IF(P31="관급", F31, 0) -> 0 | V31: =IF(P31="외주비", J31, 0) -> 0 | W31: =IF(P31="장비비", J31, 0) -> 0 | X31: =IF(P31="폐기물처리비", L31, 0) -> 0 | Y31: =IF(P31="가설비", J31, 0) -> 0 | Z31: =IF(P31="잡비제외분", F31, 0) -> 0 | AA31: =IF(P31="사급자재대", L31, 0) -> 0 | AB31: =IF(P31="관급자재대", L31, 0) -> 0 | AC31: =IF(P31="사용자항목1", L31, 0) -> 0 | AD31: =IF(P31="사용자항목2", L31, 0) -> 0 | AE31: =IF(P31="안전관리비", L31, 0) -> 0 | AF31: =IF(P31="품질관리비", L31, 0) -> 0 | AG31: =IF(P31="작업부산물(철거해체)", L31, 0) -> 0 | AH31: =IF(P31="사용자항목6", L31, 0) -> 0 | AI31: =IF(P31="사용자항목7", L31, 0) -> 0 | AJ31: =IF(P31="사용자항목8", L31, 0) -> 0 | AK31: =IF(P31="사용자항목9", L31, 0) -> 0 | AL31: =IF(P31="사용자항목10", L31, 0) -> 0 | AM31: =IF(P31="사용자항목11", L31, 0) -> 0 | AN31: =IF(P31="사용자항목12", L31, 0) -> 0 | AO31: =IF(P31="사용자항목13", L31, 0) -> 0 | AP31: =IF(P31="사용자항목14", L31, 0) -> 0 | AQ31: =IF(P31="사용자항목15", L31, 0) -> 0 | AR31: =IF(P31="사용자항목16", L31, 0) -> 0 | AS31: =IF(P31="사용자항목17", L31, 0) -> 0 | AT31: =IF(P31="사용자항목18", L31, 0) -> 0 | AU31: =IF(P31="사용자항목19", L31, 0) -> 0
A32: 일반용경질폴리염화비닐관 | B32: 일반용경질폴리염화비닐관, Φ300mm, VG1 | C32: m | D32: 1 | O32: ="04" -> 04 | P32: 기계경비 | Q32: 1 | R32: =IF(P32="기계경비", J32, 0) -> 0 | S32: =IF(P32="운반비", L32, 0) -> 0 | T32: =IF(P32="작업부산물", F32, 0) -> 0 | U32: =IF(P32="관급", F32, 0) -> 0 | V32: =IF(P32="외주비", J32, 0) -> 0 | W32: =IF(P32="장비비", J32, 0) -> 0 | X32: =IF(P32="폐기물처리비", L32, 0) -> 0 | Y32: =IF(P32="가설비", J32, 0) -> 0 | Z32: =IF(P32="잡비제외분", F32, 0) -> 0 | AA32: =IF(P32="사급자재대", L32, 0) -> 0 | AB32: =IF(P32="관급자재대", L32, 0) -> 0 | AC32: =IF(P32="사용자항목1", L32, 0) -> 0 | AD32: =IF(P32="사용자항목2", L32, 0) -> 0 | AE32: =IF(P32="안전관리비", L32, 0) -> 0 | AF32: =IF(P32="품질관리비", L32, 0) -> 0 | AG32: =IF(P32="작업부산물(철거해체)", L32, 0) -> 0 | AH32: =IF(P32="사용자항목6", L32, 0) -> 0 | AI32: =IF(P32="사용자항목7", L32, 0) -> 0 | AJ32: =IF(P32="사용자항목8", L32, 0) -> 0 | AK32: =IF(P32="사용자항목9", L32, 0) -> 0 | AL32: =IF(P32="사용자항목10", L32, 0) -> 0 | AM32: =IF(P32="사용자항목11", L32, 0) -> 0 | AN32: =IF(P32="사용자항목12", L32, 0) -> 0 | AO32: =IF(P32="사용자항목13", L32, 0) -> 0 | AP32: =IF(P32="사용자항목14", L32, 0) -> 0 | AQ32: =IF(P32="사용자항목15", L32, 0) -> 0 | AR32: =IF(P32="사용자항목16", L32, 0) -> 0 | AS32: =IF(P32="사용자항목17", L32, 0) -> 0 | AT32: =IF(P32="사용자항목18", L32, 0) -> 0 | AU32: =IF(P32="사용자항목19", L32, 0) -> 0
A33: 일반용경질폴리염화비닐관 | B33: 일반용경질폴리염화비닐관, Φ250mm, VG1 | C33: m | D33: 99 | O33: ="04" -> 04 | P33: 기계경비 | Q33: 1 | R33: =IF(P33="기계경비", J33, 0) -> 0 | S33: =IF(P33="운반비", L33, 0) -> 0 | T33: =IF(P33="작업부산물", F33, 0) -> 0 | U33: =IF(P33="관급", F33, 0) -> 0 | V33: =IF(P33="외주비", J33, 0) -> 0 | W33: =IF(P33="장비비", J33, 0) -> 0 | X33: =IF(P33="폐기물처리비", L33, 0) -> 0 | Y33: =IF(P33="가설비", J33, 0) -> 0 | Z33: =IF(P33="잡비제외분", F33, 0) -> 0 | AA33: =IF(P33="사급자재대", L33, 0) -> 0 | AB33: =IF(P33="관급자재대", L33, 0) -> 0 | AC33: =IF(P33="사용자항목1", L33, 0) -> 0 | AD33: =IF(P33="사용자항목2", L33, 0) -> 0 | AE33: =IF(P33="안전관리비", L33, 0) -> 0 | AF33: =IF(P33="품질관리비", L33, 0) -> 0 | AG33: =IF(P33="작업부산물(철거해체)", L33, 0) -> 0 | AH33: =IF(P33="사용자항목6", L33, 0) -> 0 | AI33: =IF(P33="사용자항목7", L33, 0) -> 0 | AJ33: =IF(P33="사용자항목8", L33, 0) -> 0 | AK33: =IF(P33="사용자항목9", L33, 0) -> 0 | AL33: =IF(P33="사용자항목10", L33, 0) -> 0 | AM33: =IF(P33="사용자항목11", L33, 0) -> 0 | AN33: =IF(P33="사용자항목12", L33, 0) -> 0 | AO33: =IF(P33="사용자항목13", L33, 0) -> 0 | AP33: =IF(P33="사용자항목14", L33, 0) -> 0 | AQ33: =IF(P33="사용자항목15", L33, 0) -> 0 | AR33: =IF(P33="사용자항목16", L33, 0) -> 0 | AS33: =IF(P33="사용자항목17", L33, 0) -> 0 | AT33: =IF(P33="사용자항목18", L33, 0) -> 0 | AU33: =IF(P33="사용자항목19", L33, 0) -> 0
A34: 관부속품비 | B34: ="관의 " & N34*100 & "%" -> 관의 2% | C34: 식 | D34: 1 | N34: 0.02 | O34: ="" | P34: 기계경비 | Q34: 1 | R34: =IF(P34="기계경비", J34, 0) -> 0 | S34: =IF(P34="운반비", L34, 0) -> 0 | T34: =IF(P34="작업부산물", F34, 0) -> 0 | U34: =IF(P34="관급", F34, 0) -> 0 | V34: =IF(P34="외주비", J34, 0) -> 0 | W34: =IF(P34="장비비", J34, 0) -> 0 | X34: =IF(P34="폐기물처리비", L34, 0) -> 0 | Y34: =IF(P34="가설비", J34, 0) -> 0 | Z34: =IF(P34="잡비제외분", F34, 0) -> 0 | AA34: =IF(P34="사급자재대", L34, 0) -> 0 | AB34: =IF(P34="관급자재대", L34, 0) -> 0 | AC34: =IF(P34="사용자항목1", L34, 0) -> 0 | AD34: =IF(P34="사용자항목2", L34, 0) -> 0 | AE34: =IF(P34="안전관리비", L34, 0) -> 0 | AF34: =IF(P34="품질관리비", L34, 0) -> 0 | AG34: =IF(P34="작업부산물(철거해체)", L34, 0) -> 0 | AH34: =IF(P34="사용자항목6", L34, 0) -> 0 | AI34: =IF(P34="사용자항목7", L34, 0) -> 0 | AJ34: =IF(P34="사용자항목8", L34, 0) -> 0 | AK34: =IF(P34="사용자항목9", L34, 0) -> 0 | AL34: =IF(P34="사용자항목10", L34, 0) -> 0 | AM34: =IF(P34="사용자항목11", L34, 0) -> 0 | AN34: =IF(P34="사용자항목12", L34, 0) -> 0 | AO34: =IF(P34="사용자항목13", L34, 0) -> 0 | AP34: =IF(P34="사용자항목14", L34, 0) -> 0 | AQ34: =IF(P34="사용자항목15", L34, 0) -> 0 | AR34: =IF(P34="사용자항목16", L34, 0) -> 0 | AS34: =IF(P34="사용자항목17", L34, 0) -> 0 | AT34: =IF(P34="사용자항목18", L34, 0) -> 0 | AU34: =IF(P34="사용자항목19", L34, 0) -> 0 | AW34: 20 | AX34: A0400000000
A35: U볼트,너트(절연) | B35: M300 | C35: 개소 | D35: 35 | O35: ="" | P35: 기계경비 | Q35: 1 | R35: =IF(P35="기계경비", J35, 0) -> 0 | S35: =IF(P35="운반비", L35, 0) -> 0 | T35: =IF(P35="작업부산물", F35, 0) -> 0 | U35: =IF(P35="관급", F35, 0) -> 0 | V35: =IF(P35="외주비", J35, 0) -> 0 | W35: =IF(P35="장비비", J35, 0) -> 0 | X35: =IF(P35="폐기물처리비", L35, 0) -> 0 | Y35: =IF(P35="가설비", J35, 0) -> 0 | Z35: =IF(P35="잡비제외분", F35, 0) -> 0 | AA35: =IF(P35="사급자재대", L35, 0) -> 0 | AB35: =IF(P35="관급자재대", L35, 0) -> 0 | AC35: =IF(P35="사용자항목1", L35, 0) -> 0 | AD35: =IF(P35="사용자항목2", L35, 0) -> 0 | AE35: =IF(P35="안전관리비", L35, 0) -> 0 | AF35: =IF(P35="품질관리비", L35, 0) -> 0 | AG35: =IF(P35="작업부산물(철거해체)", L35, 0) -> 0 | AH35: =IF(P35="사용자항목6", L35, 0) -> 0 | AI35: =IF(P35="사용자항목7", L35, 0) -> 0 | AJ35: =IF(P35="사용자항목8", L35, 0) -> 0 | AK35: =IF(P35="사용자항목9", L35, 0) -> 0 | AL35: =IF(P35="사용자항목10", L35, 0) -> 0 | AM35: =IF(P35="사용자항목11", L35, 0) -> 0 | AN35: =IF(P35="사용자항목12", L35, 0) -> 0 | AO35: =IF(P35="사용자항목13", L35, 0) -> 0 | AP35: =IF(P35="사용자항목14", L35, 0) -> 0 | AQ35: =IF(P35="사용자항목15", L35, 0) -> 0 | AR35: =IF(P35="사용자항목16", L35, 0) -> 0 | AS35: =IF(P35="사용자항목17", L35, 0) -> 0 | AT35: =IF(P35="사용자항목18", L35, 0) -> 0 | AU35: =IF(P35="사용자항목19", L35, 0) -> 0
A36: 조립식배관가대 지지금구 | B36: 제진클램프, 강, STS, D250 | C36: 개 | D36: 35 | O36: ="01" -> 01 | P36: 기계경비 | Q36: 1 | R36: =IF(P36="기계경비", J36, 0) -> 0 | S36: =IF(P36="운반비", L36, 0) -> 0 | T36: =IF(P36="작업부산물", F36, 0) -> 0 | U36: =IF(P36="관급", F36, 0) -> 0 | V36: =IF(P36="외주비", J36, 0) -> 0 | W36: =IF(P36="장비비", J36, 0) -> 0 | X36: =IF(P36="폐기물처리비", L36, 0) -> 0 | Y36: =IF(P36="가설비", J36, 0) -> 0 | Z36: =IF(P36="잡비제외분", F36, 0) -> 0 | AA36: =IF(P36="사급자재대", L36, 0) -> 0 | AB36: =IF(P36="관급자재대", L36, 0) -> 0 | AC36: =IF(P36="사용자항목1", L36, 0) -> 0 | AD36: =IF(P36="사용자항목2", L36, 0) -> 0 | AE36: =IF(P36="안전관리비", L36, 0) -> 0 | AF36: =IF(P36="품질관리비", L36, 0) -> 0 | AG36: =IF(P36="작업부산물(철거해체)", L36, 0) -> 0 | AH36: =IF(P36="사용자항목6", L36, 0) -> 0 | AI36: =IF(P36="사용자항목7", L36, 0) -> 0 | AJ36: =IF(P36="사용자항목8", L36, 0) -> 0 | AK36: =IF(P36="사용자항목9", L36, 0) -> 0 | AL36: =IF(P36="사용자항목10", L36, 0) -> 0 | AM36: =IF(P36="사용자항목11", L36, 0) -> 0 | AN36: =IF(P36="사용자항목12", L36, 0) -> 0 | AO36: =IF(P36="사용자항목13", L36, 0) -> 0 | AP36: =IF(P36="사용자항목14", L36, 0) -> 0 | AQ36: =IF(P36="사용자항목15", L36, 0) -> 0 | AR36: =IF(P36="사용자항목16", L36, 0) -> 0 | AS36: =IF(P36="사용자항목17", L36, 0) -> 0 | AT36: =IF(P36="사용자항목18", L36, 0) -> 0 | AU36: =IF(P36="사용자항목19", L36, 0) -> 0
A37: 조립식배관가대 | B37: 조립식찬넬(분체도장), SCP-3840 | C37: m | D37: 99 | O37: ="01" -> 01 | P37: 기계경비 | Q37: 1 | R37: =IF(P37="기계경비", J37, 0) -> 0 | S37: =IF(P37="운반비", L37, 0) -> 0 | T37: =IF(P37="작업부산물", F37, 0) -> 0 | U37: =IF(P37="관급", F37, 0) -> 0 | V37: =IF(P37="외주비", J37, 0) -> 0 | W37: =IF(P37="장비비", J37, 0) -> 0 | X37: =IF(P37="폐기물처리비", L37, 0) -> 0 | Y37: =IF(P37="가설비", J37, 0) -> 0 | Z37: =IF(P37="잡비제외분", F37, 0) -> 0 | AA37: =IF(P37="사급자재대", L37, 0) -> 0 | AB37: =IF(P37="관급자재대", L37, 0) -> 0 | AC37: =IF(P37="사용자항목1", L37, 0) -> 0 | AD37: =IF(P37="사용자항목2", L37, 0) -> 0 | AE37: =IF(P37="안전관리비", L37, 0) -> 0 | AF37: =IF(P37="품질관리비", L37, 0) -> 0 | AG37: =IF(P37="작업부산물(철거해체)", L37, 0) -> 0 | AH37: =IF(P37="사용자항목6", L37, 0) -> 0 | AI37: =IF(P37="사용자항목7", L37, 0) -> 0 | AJ37: =IF(P37="사용자항목8", L37, 0) -> 0 | AK37: =IF(P37="사용자항목9", L37, 0) -> 0 | AL37: =IF(P37="사용자항목10", L37, 0) -> 0 | AM37: =IF(P37="사용자항목11", L37, 0) -> 0 | AN37: =IF(P37="사용자항목12", L37, 0) -> 0 | AO37: =IF(P37="사용자항목13", L37, 0) -> 0 | AP37: =IF(P37="사용자항목14", L37, 0) -> 0 | AQ37: =IF(P37="사용자항목15", L37, 0) -> 0 | AR37: =IF(P37="사용자항목16", L37, 0) -> 0 | AS37: =IF(P37="사용자항목17", L37, 0) -> 0 | AT37: =IF(P37="사용자항목18", L37, 0) -> 0 | AU37: =IF(P37="사용자항목19", L37, 0) -> 0
A38: 스파이럴덕트 | B38: 공조덕트, 스파이럴캡, Φ150mm | C38: 개 | D38: 19 | O38: ="01" -> 01 | P38: 기계경비 | Q38: 1 | R38: =IF(P38="기계경비", J38, 0) -> 0 | S38: =IF(P38="운반비", L38, 0) -> 0 | T38: =IF(P38="작업부산물", F38, 0) -> 0 | U38: =IF(P38="관급", F38, 0) -> 0 | V38: =IF(P38="외주비", J38, 0) -> 0 | W38: =IF(P38="장비비", J38, 0) -> 0 | X38: =IF(P38="폐기물처리비", L38, 0) -> 0 | Y38: =IF(P38="가설비", J38, 0) -> 0 | Z38: =IF(P38="잡비제외분", F38, 0) -> 0 | AA38: =IF(P38="사급자재대", L38, 0) -> 0 | AB38: =IF(P38="관급자재대", L38, 0) -> 0 | AC38: =IF(P38="사용자항목1", L38, 0) -> 0 | AD38: =IF(P38="사용자항목2", L38, 0) -> 0 | AE38: =IF(P38="안전관리비", L38, 0) -> 0 | AF38: =IF(P38="품질관리비", L38, 0) -> 0 | AG38: =IF(P38="작업부산물(철거해체)", L38, 0) -> 0 | AH38: =IF(P38="사용자항목6", L38, 0) -> 0 | AI38: =IF(P38="사용자항목7", L38, 0) -> 0 | AJ38: =IF(P38="사용자항목8", L38, 0) -> 0 | AK38: =IF(P38="사용자항목9", L38, 0) -> 0 | AL38: =IF(P38="사용자항목10", L38, 0) -> 0 | AM38: =IF(P38="사용자항목11", L38, 0) -> 0 | AN38: =IF(P38="사용자항목12", L38, 0) -> 0 | AO38: =IF(P38="사용자항목13", L38, 0) -> 0 | AP38: =IF(P38="사용자항목14", L38, 0) -> 0 | AQ38: =IF(P38="사용자항목15", L38, 0) -> 0 | AR38: =IF(P38="사용자항목16", L38, 0) -> 0 | AS38: =IF(P38="사용자항목17", L38, 0) -> 0 | AT38: =IF(P38="사용자항목18", L38, 0) -> 0 | AU38: =IF(P38="사용자항목19", L38, 0) -> 0
A39: 스파이럴덕트 | B39: 공조덕트, 스파이럴캡, Φ200mm | C39: 개 | D39: 7 | O39: ="01" -> 01 | P39: 기계경비 | Q39: 1 | R39: =IF(P39="기계경비", J39, 0) -> 0 | S39: =IF(P39="운반비", L39, 0) -> 0 | T39: =IF(P39="작업부산물", F39, 0) -> 0 | U39: =IF(P39="관급", F39, 0) -> 0 | V39: =IF(P39="외주비", J39, 0) -> 0 | W39: =IF(P39="장비비", J39, 0) -> 0 | X39: =IF(P39="폐기물처리비", L39, 0) -> 0 | Y39: =IF(P39="가설비", J39, 0) -> 0 | Z39: =IF(P39="잡비제외분", F39, 0) -> 0 | AA39: =IF(P39="사급자재대", L39, 0) -> 0 | AB39: =IF(P39="관급자재대", L39, 0) -> 0 | AC39: =IF(P39="사용자항목1", L39, 0) -> 0 | AD39: =IF(P39="사용자항목2", L39, 0) -> 0 | AE39: =IF(P39="안전관리비", L39, 0) -> 0 | AF39: =IF(P39="품질관리비", L39, 0) -> 0 | AG39: =IF(P39="작업부산물(철거해체)", L39, 0) -> 0 | AH39: =IF(P39="사용자항목6", L39, 0) -> 0 | AI39: =IF(P39="사용자항목7", L39, 0) -> 0 | AJ39: =IF(P39="사용자항목8", L39, 0) -> 0 | AK39: =IF(P39="사용자항목9", L39, 0) -> 0 | AL39: =IF(P39="사용자항목10", L39, 0) -> 0 | AM39: =IF(P39="사용자항목11", L39, 0) -> 0 | AN39: =IF(P39="사용자항목12", L39, 0) -> 0 | AO39: =IF(P39="사용자항목13", L39, 0) -> 0 | AP39: =IF(P39="사용자항목14", L39, 0) -> 0 | AQ39: =IF(P39="사용자항목15", L39, 0) -> 0 | AR39: =IF(P39="사용자항목16", L39, 0) -> 0 | AS39: =IF(P39="사용자항목17", L39, 0) -> 0 | AT39: =IF(P39="사용자항목18", L39, 0) -> 0 | AU39: =IF(P39="사용자항목19", L39, 0) -> 0
A40: 스파이럴덕트 | B40: 공조덕트, 스파이럴캡, Φ250mm | C40: 개 | D40: 21 | O40: ="01" -> 01 | P40: 기계경비 | Q40: 1 | R40: =IF(P40="기계경비", J40, 0) -> 0 | S40: =IF(P40="운반비", L40, 0) -> 0 | T40: =IF(P40="작업부산물", F40, 0) -> 0 | U40: =IF(P40="관급", F40, 0) -> 0 | V40: =IF(P40="외주비", J40, 0) -> 0 | W40: =IF(P40="장비비", J40, 0) -> 0 | X40: =IF(P40="폐기물처리비", L40, 0) -> 0 | Y40: =IF(P40="가설비", J40, 0) -> 0 | Z40: =IF(P40="잡비제외분", F40, 0) -> 0 | AA40: =IF(P40="사급자재대", L40, 0) -> 0 | AB40: =IF(P40="관급자재대", L40, 0) -> 0 | AC40: =IF(P40="사용자항목1", L40, 0) -> 0 | AD40: =IF(P40="사용자항목2", L40, 0) -> 0 | AE40: =IF(P40="안전관리비", L40, 0) -> 0 | AF40: =IF(P40="품질관리비", L40, 0) -> 0 | AG40: =IF(P40="작업부산물(철거해체)", L40, 0) -> 0 | AH40: =IF(P40="사용자항목6", L40, 0) -> 0 | AI40: =IF(P40="사용자항목7", L40, 0) -> 0 | AJ40: =IF(P40="사용자항목8", L40, 0) -> 0 | AK40: =IF(P40="사용자항목9", L40, 0) -> 0 | AL40: =IF(P40="사용자항목10", L40, 0) -> 0 | AM40: =IF(P40="사용자항목11", L40, 0) -> 0 | AN40: =IF(P40="사용자항목12", L40, 0) -> 0 | AO40: =IF(P40="사용자항목13", L40, 0) -> 0 | AP40: =IF(P40="사용자항목14", L40, 0) -> 0 | AQ40: =IF(P40="사용자항목15", L40, 0) -> 0 | AR40: =IF(P40="사용자항목16", L40, 0) -> 0 | AS40: =IF(P40="사용자항목17", L40, 0) -> 0 | AT40: =IF(P40="사용자항목18", L40, 0) -> 0 | AU40: =IF(P40="사용자항목19", L40, 0) -> 0
A41: 스파이럴덕트 | B41: 공조덕트, 스파이럴캡, Φ300mm | C41: 개 | D41: 1 | O41: ="01" -> 01 | P41: 기계경비 | Q41: 1 | R41: =IF(P41="기계경비", J41, 0) -> 0 | S41: =IF(P41="운반비", L41, 0) -> 0 | T41: =IF(P41="작업부산물", F41, 0) -> 0 | U41: =IF(P41="관급", F41, 0) -> 0 | V41: =IF(P41="외주비", J41, 0) -> 0 | W41: =IF(P41="장비비", J41, 0) -> 0 | X41: =IF(P41="폐기물처리비", L41, 0) -> 0 | Y41: =IF(P41="가설비", J41, 0) -> 0 | Z41: =IF(P41="잡비제외분", F41, 0) -> 0 | AA41: =IF(P41="사급자재대", L41, 0) -> 0 | AB41: =IF(P41="관급자재대", L41, 0) -> 0 | AC41: =IF(P41="사용자항목1", L41, 0) -> 0 | AD41: =IF(P41="사용자항목2", L41, 0) -> 0 | AE41: =IF(P41="안전관리비", L41, 0) -> 0 | AF41: =IF(P41="품질관리비", L41, 0) -> 0 | AG41: =IF(P41="작업부산물(철거해체)", L41, 0) -> 0 | AH41: =IF(P41="사용자항목6", L41, 0) -> 0 | AI41: =IF(P41="사용자항목7", L41, 0) -> 0 | AJ41: =IF(P41="사용자항목8", L41, 0) -> 0 | AK41: =IF(P41="사용자항목9", L41, 0) -> 0 | AL41: =IF(P41="사용자항목10", L41, 0) -> 0 | AM41: =IF(P41="사용자항목11", L41, 0) -> 0 | AN41: =IF(P41="사용자항목12", L41, 0) -> 0 | AO41: =IF(P41="사용자항목13", L41, 0) -> 0 | AP41: =IF(P41="사용자항목14", L41, 0) -> 0 | AQ41: =IF(P41="사용자항목15", L41, 0) -> 0 | AR41: =IF(P41="사용자항목16", L41, 0) -> 0 | AS41: =IF(P41="사용자항목17", L41, 0) -> 0 | AT41: =IF(P41="사용자항목18", L41, 0) -> 0 | AU41: =IF(P41="사용자항목19", L41, 0) -> 0
A42: 후드캡 | B42: STS, ND150 | C42: EA | D42: 1 | O42: ="01" -> 01 | P42: 기계경비 | Q42: 1 | R42: =IF(P42="기계경비", J42, 0) -> 0 | S42: =IF(P42="운반비", L42, 0) -> 0 | T42: =IF(P42="작업부산물", F42, 0) -> 0 | U42: =IF(P42="관급", F42, 0) -> 0 | V42: =IF(P42="외주비", J42, 0) -> 0 | W42: =IF(P42="장비비", J42, 0) -> 0 | X42: =IF(P42="폐기물처리비", L42, 0) -> 0 | Y42: =IF(P42="가설비", J42, 0) -> 0 | Z42: =IF(P42="잡비제외분", F42, 0) -> 0 | AA42: =IF(P42="사급자재대", L42, 0) -> 0 | AB42: =IF(P42="관급자재대", L42, 0) -> 0 | AC42: =IF(P42="사용자항목1", L42, 0) -> 0 | AD42: =IF(P42="사용자항목2", L42, 0) -> 0 | AE42: =IF(P42="안전관리비", L42, 0) -> 0 | AF42: =IF(P42="품질관리비", L42, 0) -> 0 | AG42: =IF(P42="작업부산물(철거해체)", L42, 0) -> 0 | AH42: =IF(P42="사용자항목6", L42, 0) -> 0 | AI42: =IF(P42="사용자항목7", L42, 0) -> 0 | AJ42: =IF(P42="사용자항목8", L42, 0) -> 0 | AK42: =IF(P42="사용자항목9", L42, 0) -> 0 | AL42: =IF(P42="사용자항목10", L42, 0) -> 0 | AM42: =IF(P42="사용자항목11", L42, 0) -> 0 | AN42: =IF(P42="사용자항목12", L42, 0) -> 0 | AO42: =IF(P42="사용자항목13", L42, 0) -> 0 | AP42: =IF(P42="사용자항목14", L42, 0) -> 0 | AQ42: =IF(P42="사용자항목15", L42, 0) -> 0 | AR42: =IF(P42="사용자항목16", L42, 0) -> 0 | AS42: =IF(P42="사용자항목17", L42, 0) -> 0 | AT42: =IF(P42="사용자항목18", L42, 0) -> 0 | AU42: =IF(P42="사용자항목19", L42, 0) -> 0
A43: 후드캡 | B43: STS, ND200 | C43: EA | D43: 1 | O43: ="01" -> 01 | P43: 기계경비 | Q43: 1 | R43: =IF(P43="기계경비", J43, 0) -> 0 | S43: =IF(P43="운반비", L43, 0) -> 0 | T43: =IF(P43="작업부산물", F43, 0) -> 0 | U43: =IF(P43="관급", F43, 0) -> 0 | V43: =IF(P43="외주비", J43, 0) -> 0 | W43: =IF(P43="장비비", J43, 0) -> 0 | X43: =IF(P43="폐기물처리비", L43, 0) -> 0 | Y43: =IF(P43="가설비", J43, 0) -> 0 | Z43: =IF(P43="잡비제외분", F43, 0) -> 0 | AA43: =IF(P43="사급자재대", L43, 0) -> 0 | AB43: =IF(P43="관급자재대", L43, 0) -> 0 | AC43: =IF(P43="사용자항목1", L43, 0) -> 0 | AD43: =IF(P43="사용자항목2", L43, 0) -> 0 | AE43: =IF(P43="안전관리비", L43, 0) -> 0 | AF43: =IF(P43="품질관리비", L43, 0) -> 0 | AG43: =IF(P43="작업부산물(철거해체)", L43, 0) -> 0 | AH43: =IF(P43="사용자항목6", L43, 0) -> 0 | AI43: =IF(P43="사용자항목7", L43, 0) -> 0 | AJ43: =IF(P43="사용자항목8", L43, 0) -> 0 | AK43: =IF(P43="사용자항목9", L43, 0) -> 0 | AL43: =IF(P43="사용자항목10", L43, 0) -> 0 | AM43: =IF(P43="사용자항목11", L43, 0) -> 0 | AN43: =IF(P43="사용자항목12", L43, 0) -> 0 | AO43: =IF(P43="사용자항목13", L43, 0) -> 0 | AP43: =IF(P43="사용자항목14", L43, 0) -> 0 | AQ43: =IF(P43="사용자항목15", L43, 0) -> 0 | AR43: =IF(P43="사용자항목16", L43, 0) -> 0 | AS43: =IF(P43="사용자항목17", L43, 0) -> 0 | AT43: =IF(P43="사용자항목18", L43, 0) -> 0 | AU43: =IF(P43="사용자항목19", L43, 0) -> 0
A44: 후드캡 | B44: STS, ND250 | C44: EA | D44: 20 | O44: ="01" -> 01 | P44: 기계경비 | Q44: 1 | R44: =IF(P44="기계경비", J44, 0) -> 0 | S44: =IF(P44="운반비", L44, 0) -> 0 | T44: =IF(P44="작업부산물", F44, 0) -> 0 | U44: =IF(P44="관급", F44, 0) -> 0 | V44: =IF(P44="외주비", J44, 0) -> 0 | W44: =IF(P44="장비비", J44, 0) -> 0 | X44: =IF(P44="폐기물처리비", L44, 0) -> 0 | Y44: =IF(P44="가설비", J44, 0) -> 0 | Z44: =IF(P44="잡비제외분", F44, 0) -> 0 | AA44: =IF(P44="사급자재대", L44, 0) -> 0 | AB44: =IF(P44="관급자재대", L44, 0) -> 0 | AC44: =IF(P44="사용자항목1", L44, 0) -> 0 | AD44: =IF(P44="사용자항목2", L44, 0) -> 0 | AE44: =IF(P44="안전관리비", L44, 0) -> 0 | AF44: =IF(P44="품질관리비", L44, 0) -> 0 | AG44: =IF(P44="작업부산물(철거해체)", L44, 0) -> 0 | AH44: =IF(P44="사용자항목6", L44, 0) -> 0 | AI44: =IF(P44="사용자항목7", L44, 0) -> 0 | AJ44: =IF(P44="사용자항목8", L44, 0) -> 0 | AK44: =IF(P44="사용자항목9", L44, 0) -> 0 | AL44: =IF(P44="사용자항목10", L44, 0) -> 0 | AM44: =IF(P44="사용자항목11", L44, 0) -> 0 | AN44: =IF(P44="사용자항목12", L44, 0) -> 0 | AO44: =IF(P44="사용자항목13", L44, 0) -> 0 | AP44: =IF(P44="사용자항목14", L44, 0) -> 0 | AQ44: =IF(P44="사용자항목15", L44, 0) -> 0 | AR44: =IF(P44="사용자항목16", L44, 0) -> 0 | AS44: =IF(P44="사용자항목17", L44, 0) -> 0 | AT44: =IF(P44="사용자항목18", L44, 0) -> 0 | AU44: =IF(P44="사용자항목19", L44, 0) -> 0
A45: 후드캡 | B45: 방풍형 D120 | C45: EA | D45: 12 | O45: ="01" -> 01 | P45: 기계경비 | Q45: 1 | R45: =IF(P45="기계경비", J45, 0) -> 0 | S45: =IF(P45="운반비", L45, 0) -> 0 | T45: =IF(P45="작업부산물", F45, 0) -> 0 | U45: =IF(P45="관급", F45, 0) -> 0 | V45: =IF(P45="외주비", J45, 0) -> 0 | W45: =IF(P45="장비비", J45, 0) -> 0 | X45: =IF(P45="폐기물처리비", L45, 0) -> 0 | Y45: =IF(P45="가설비", J45, 0) -> 0 | Z45: =IF(P45="잡비제외분", F45, 0) -> 0 | AA45: =IF(P45="사급자재대", L45, 0) -> 0 | AB45: =IF(P45="관급자재대", L45, 0) -> 0 | AC45: =IF(P45="사용자항목1", L45, 0) -> 0 | AD45: =IF(P45="사용자항목2", L45, 0) -> 0 | AE45: =IF(P45="안전관리비", L45, 0) -> 0 | AF45: =IF(P45="품질관리비", L45, 0) -> 0 | AG45: =IF(P45="작업부산물(철거해체)", L45, 0) -> 0 | AH45: =IF(P45="사용자항목6", L45, 0) -> 0 | AI45: =IF(P45="사용자항목7", L45, 0) -> 0 | AJ45: =IF(P45="사용자항목8", L45, 0) -> 0 | AK45: =IF(P45="사용자항목9", L45, 0) -> 0 | AL45: =IF(P45="사용자항목10", L45, 0) -> 0 | AM45: =IF(P45="사용자항목11", L45, 0) -> 0 | AN45: =IF(P45="사용자항목12", L45, 0) -> 0 | AO45: =IF(P45="사용자항목13", L45, 0) -> 0 | AP45: =IF(P45="사용자항목14", L45, 0) -> 0 | AQ45: =IF(P45="사용자항목15", L45, 0) -> 0 | AR45: =IF(P45="사용자항목16", L45, 0) -> 0 | AS45: =IF(P45="사용자항목17", L45, 0) -> 0 | AT45: =IF(P45="사용자항목18", L45, 0) -> 0 | AU45: =IF(P45="사용자항목19", L45, 0) -> 0
A46: 후드캡 | B46: 방풍형 D150 | C46: EA | D46: 10 | O46: ="01" -> 01 | P46: 기계경비 | Q46: 1 | R46: =IF(P46="기계경비", J46, 0) -> 0 | S46: =IF(P46="운반비", L46, 0) -> 0 | T46: =IF(P46="작업부산물", F46, 0) -> 0 | U46: =IF(P46="관급", F46, 0) -> 0 | V46: =IF(P46="외주비", J46, 0) -> 0 | W46: =IF(P46="장비비", J46, 0) -> 0 | X46: =IF(P46="폐기물처리비", L46, 0) -> 0 | Y46: =IF(P46="가설비", J46, 0) -> 0 | Z46: =IF(P46="잡비제외분", F46, 0) -> 0 | AA46: =IF(P46="사급자재대", L46, 0) -> 0 | AB46: =IF(P46="관급자재대", L46, 0) -> 0 | AC46: =IF(P46="사용자항목1", L46, 0) -> 0 | AD46: =IF(P46="사용자항목2", L46, 0) -> 0 | AE46: =IF(P46="안전관리비", L46, 0) -> 0 | AF46: =IF(P46="품질관리비", L46, 0) -> 0 | AG46: =IF(P46="작업부산물(철거해체)", L46, 0) -> 0 | AH46: =IF(P46="사용자항목6", L46, 0) -> 0 | AI46: =IF(P46="사용자항목7", L46, 0) -> 0 | AJ46: =IF(P46="사용자항목8", L46, 0) -> 0 | AK46: =IF(P46="사용자항목9", L46, 0) -> 0 | AL46: =IF(P46="사용자항목10", L46, 0) -> 0 | AM46: =IF(P46="사용자항목11", L46, 0) -> 0 | AN46: =IF(P46="사용자항목12", L46, 0) -> 0 | AO46: =IF(P46="사용자항목13", L46, 0) -> 0 | AP46: =IF(P46="사용자항목14", L46, 0) -> 0 | AQ46: =IF(P46="사용자항목15", L46, 0) -> 0 | AR46: =IF(P46="사용자항목16", L46, 0) -> 0 | AS46: =IF(P46="사용자항목17", L46, 0) -> 0 | AT46: =IF(P46="사용자항목18", L46, 0) -> 0 | AU46: =IF(P46="사용자항목19", L46, 0) -> 0
A47: 후드캡 | B47: 방풍형 D200 | C47: EA | D47: 5 | O47: ="01" -> 01 | P47: 기계경비 | Q47: 1 | R47: =IF(P47="기계경비", J47, 0) -> 0 | S47: =IF(P47="운반비", L47, 0) -> 0 | T47: =IF(P47="작업부산물", F47, 0) -> 0 | U47: =IF(P47="관급", F47, 0) -> 0 | V47: =IF(P47="외주비", J47, 0) -> 0 | W47: =IF(P47="장비비", J47, 0) -> 0 | X47: =IF(P47="폐기물처리비", L47, 0) -> 0 | Y47: =IF(P47="가설비", J47, 0) -> 0 | Z47: =IF(P47="잡비제외분", F47, 0) -> 0 | AA47: =IF(P47="사급자재대", L47, 0) -> 0 | AB47: =IF(P47="관급자재대", L47, 0) -> 0 | AC47: =IF(P47="사용자항목1", L47, 0) -> 0 | AD47: =IF(P47="사용자항목2", L47, 0) -> 0 | AE47: =IF(P47="안전관리비", L47, 0) -> 0 | AF47: =IF(P47="품질관리비", L47, 0) -> 0 | AG47: =IF(P47="작업부산물(철거해체)", L47, 0) -> 0 | AH47: =IF(P47="사용자항목6", L47, 0) -> 0 | AI47: =IF(P47="사용자항목7", L47, 0) -> 0 | AJ47: =IF(P47="사용자항목8", L47, 0) -> 0 | AK47: =IF(P47="사용자항목9", L47, 0) -> 0 | AL47: =IF(P47="사용자항목10", L47, 0) -> 0 | AM47: =IF(P47="사용자항목11", L47, 0) -> 0 | AN47: =IF(P47="사용자항목12", L47, 0) -> 0 | AO47: =IF(P47="사용자항목13", L47, 0) -> 0 | AP47: =IF(P47="사용자항목14", L47, 0) -> 0 | AQ47: =IF(P47="사용자항목15", L47, 0) -> 0 | AR47: =IF(P47="사용자항목16", L47, 0) -> 0 | AS47: =IF(P47="사용자항목17", L47, 0) -> 0 | AT47: =IF(P47="사용자항목18", L47, 0) -> 0 | AU47: =IF(P47="사용자항목19", L47, 0) -> 0
A48: 후드캡 | B48: 방풍형 D250 | C48: EA | D48: 2 | O48: ="01" -> 01 | P48: 기계경비 | Q48: 1 | R48: =IF(P48="기계경비", J48, 0) -> 0 | S48: =IF(P48="운반비", L48, 0) -> 0 | T48: =IF(P48="작업부산물", F48, 0) -> 0 | U48: =IF(P48="관급", F48, 0) -> 0 | V48: =IF(P48="외주비", J48, 0) -> 0 | W48: =IF(P48="장비비", J48, 0) -> 0 | X48: =IF(P48="폐기물처리비", L48, 0) -> 0 | Y48: =IF(P48="가설비", J48, 0) -> 0 | Z48: =IF(P48="잡비제외분", F48, 0) -> 0 | AA48: =IF(P48="사급자재대", L48, 0) -> 0 | AB48: =IF(P48="관급자재대", L48, 0) -> 0 | AC48: =IF(P48="사용자항목1", L48, 0) -> 0 | AD48: =IF(P48="사용자항목2", L48, 0) -> 0 | AE48: =IF(P48="안전관리비", L48, 0) -> 0 | AF48: =IF(P48="품질관리비", L48, 0) -> 0 | AG48: =IF(P48="작업부산물(철거해체)", L48, 0) -> 0 | AH48: =IF(P48="사용자항목6", L48, 0) -> 0 | AI48: =IF(P48="사용자항목7", L48, 0) -> 0 | AJ48: =IF(P48="사용자항목8", L48, 0) -> 0 | AK48: =IF(P48="사용자항목9", L48, 0) -> 0 | AL48: =IF(P48="사용자항목10", L48, 0) -> 0 | AM48: =IF(P48="사용자항목11", L48, 0) -> 0 | AN48: =IF(P48="사용자항목12", L48, 0) -> 0 | AO48: =IF(P48="사용자항목13", L48, 0) -> 0 | AP48: =IF(P48="사용자항목14", L48, 0) -> 0 | AQ48: =IF(P48="사용자항목15", L48, 0) -> 0 | AR48: =IF(P48="사용자항목16", L48, 0) -> 0 | AS48: =IF(P48="사용자항목17", L48, 0) -> 0 | AT48: =IF(P48="사용자항목18", L48, 0) -> 0 | AU48: =IF(P48="사용자항목19", L48, 0) -> 0
A49: 수밀코킹 | B49: 재료비 별도 | C49: M | D49: 12 | O49: ="" | P49: 기계경비 | Q49: 1 | R49: =IF(P49="기계경비", J49, 0) -> 0 | S49: =IF(P49="운반비", L49, 0) -> 0 | T49: =IF(P49="작업부산물", F49, 0) -> 0 | U49: =IF(P49="관급", F49, 0) -> 0 | V49: =IF(P49="외주비", J49, 0) -> 0 | W49: =IF(P49="장비비", J49, 0) -> 0 | X49: =IF(P49="폐기물처리비", L49, 0) -> 0 | Y49: =IF(P49="가설비", J49, 0) -> 0 | Z49: =IF(P49="잡비제외분", F49, 0) -> 0 | AA49: =IF(P49="사급자재대", L49, 0) -> 0 | AB49: =IF(P49="관급자재대", L49, 0) -> 0 | AC49: =IF(P49="사용자항목1", L49, 0) -> 0 | AD49: =IF(P49="사용자항목2", L49, 0) -> 0 | AE49: =IF(P49="안전관리비", L49, 0) -> 0 | AF49: =IF(P49="품질관리비", L49, 0) -> 0 | AG49: =IF(P49="작업부산물(철거해체)", L49, 0) -> 0 | AH49: =IF(P49="사용자항목6", L49, 0) -> 0 | AI49: =IF(P49="사용자항목7", L49, 0) -> 0 | AJ49: =IF(P49="사용자항목8", L49, 0) -> 0 | AK49: =IF(P49="사용자항목9", L49, 0) -> 0 | AL49: =IF(P49="사용자항목10", L49, 0) -> 0 | AM49: =IF(P49="사용자항목11", L49, 0) -> 0 | AN49: =IF(P49="사용자항목12", L49, 0) -> 0 | AO49: =IF(P49="사용자항목13", L49, 0) -> 0 | AP49: =IF(P49="사용자항목14", L49, 0) -> 0 | AQ49: =IF(P49="사용자항목15", L49, 0) -> 0 | AR49: =IF(P49="사용자항목16", L49, 0) -> 0 | AS49: =IF(P49="사용자항목17", L49, 0) -> 0 | AT49: =IF(P49="사용자항목18", L49, 0) -> 0 | AU49: =IF(P49="사용자항목19", L49, 0) -> 0 | AY49: AHF00000010S
A50: 페놀폼단열재(PF보드) | B50: 50mm | C50: M2 | D50: 6 | O50: ="01" -> 01 | P50: 기계경비 | Q50: 1 | R50: =IF(P50="기계경비", J50, 0) -> 0 | S50: =IF(P50="운반비", L50, 0) -> 0 | T50: =IF(P50="작업부산물", F50, 0) -> 0 | U50: =IF(P50="관급", F50, 0) -> 0 | V50: =IF(P50="외주비", J50, 0) -> 0 | W50: =IF(P50="장비비", J50, 0) -> 0 | X50: =IF(P50="폐기물처리비", L50, 0) -> 0 | Y50: =IF(P50="가설비", J50, 0) -> 0 | Z50: =IF(P50="잡비제외분", F50, 0) -> 0 | AA50: =IF(P50="사급자재대", L50, 0) -> 0 | AB50: =IF(P50="관급자재대", L50, 0) -> 0 | AC50: =IF(P50="사용자항목1", L50, 0) -> 0 | AD50: =IF(P50="사용자항목2", L50, 0) -> 0 | AE50: =IF(P50="안전관리비", L50, 0) -> 0 | AF50: =IF(P50="품질관리비", L50, 0) -> 0 | AG50: =IF(P50="작업부산물(철거해체)", L50, 0) -> 0 | AH50: =IF(P50="사용자항목6", L50, 0) -> 0 | AI50: =IF(P50="사용자항목7", L50, 0) -> 0 | AJ50: =IF(P50="사용자항목8", L50, 0) -> 0 | AK50: =IF(P50="사용자항목9", L50, 0) -> 0 | AL50: =IF(P50="사용자항목10", L50, 0) -> 0 | AM50: =IF(P50="사용자항목11", L50, 0) -> 0 | AN50: =IF(P50="사용자항목12", L50, 0) -> 0 | AO50: =IF(P50="사용자항목13", L50, 0) -> 0 | AP50: =IF(P50="사용자항목14", L50, 0) -> 0 | AQ50: =IF(P50="사용자항목15", L50, 0) -> 0 | AR50: =IF(P50="사용자항목16", L50, 0) -> 0 | AS50: =IF(P50="사용자항목17", L50, 0) -> 0 | AT50: =IF(P50="사용자항목18", L50, 0) -> 0 | AU50: =IF(P50="사용자항목19", L50, 0) -> 0
A51: 갈바마감/시공비 포함 | B51: 갈바1.2T/프로폰 | C51: 개 | D51: 54 | O51: ="" | P51: 기계경비 | Q51: 1 | R51: =IF(P51="기계경비", J51, 0) -> 0 | S51: =IF(P51="운반비", L51, 0) -> 0 | T51: =IF(P51="작업부산물", F51, 0) -> 0 | U51: =IF(P51="관급", F51, 0) -> 0 | V51: =IF(P51="외주비", J51, 0) -> 0 | W51: =IF(P51="장비비", J51, 0) -> 0 | X51: =IF(P51="폐기물처리비", L51, 0) -> 0 | Y51: =IF(P51="가설비", J51, 0) -> 0 | Z51: =IF(P51="잡비제외분", F51, 0) -> 0 | AA51: =IF(P51="사급자재대", L51, 0) -> 0 | AB51: =IF(P51="관급자재대", L51, 0) -> 0 | AC51: =IF(P51="사용자항목1", L51, 0) -> 0 | AD51: =IF(P51="사용자항목2", L51, 0) -> 0 | AE51: =IF(P51="안전관리비", L51, 0) -> 0 | AF51: =IF(P51="품질관리비", L51, 0) -> 0 | AG51: =IF(P51="작업부산물(철거해체)", L51, 0) -> 0 | AH51: =IF(P51="사용자항목6", L51, 0) -> 0 | AI51: =IF(P51="사용자항목7", L51, 0) -> 0 | AJ51: =IF(P51="사용자항목8", L51, 0) -> 0 | AK51: =IF(P51="사용자항목9", L51, 0) -> 0 | AL51: =IF(P51="사용자항목10", L51, 0) -> 0 | AM51: =IF(P51="사용자항목11", L51, 0) -> 0 | AN51: =IF(P51="사용자항목12", L51, 0) -> 0 | AO51: =IF(P51="사용자항목13", L51, 0) -> 0 | AP51: =IF(P51="사용자항목14", L51, 0) -> 0 | AQ51: =IF(P51="사용자항목15", L51, 0) -> 0 | AR51: =IF(P51="사용자항목16", L51, 0) -> 0 | AS51: =IF(P51="사용자항목17", L51, 0) -> 0 | AT51: =IF(P51="사용자항목18", L51, 0) -> 0 | AU51: =IF(P51="사용자항목19", L51, 0) -> 0
A52: 페놀폼단열재(접착제붙이기, 벽) | B52: PF보드 100mm | C52: M2 | D52: 5.8 | O52: ="" | P52: 기계경비 | Q52: 1 | R52: =IF(P52="기계경비", J52, 0) -> 0 | S52: =IF(P52="운반비", L52, 0) -> 0 | T52: =IF(P52="작업부산물", F52, 0) -> 0 | U52: =IF(P52="관급", F52, 0) -> 0 | V52: =IF(P52="외주비", J52, 0) -> 0 | W52: =IF(P52="장비비", J52, 0) -> 0 | X52: =IF(P52="폐기물처리비", L52, 0) -> 0 | Y52: =IF(P52="가설비", J52, 0) -> 0 | Z52: =IF(P52="잡비제외분", F52, 0) -> 0 | AA52: =IF(P52="사급자재대", L52, 0) -> 0 | AB52: =IF(P52="관급자재대", L52, 0) -> 0 | AC52: =IF(P52="사용자항목1", L52, 0) -> 0 | AD52: =IF(P52="사용자항목2", L52, 0) -> 0 | AE52: =IF(P52="안전관리비", L52, 0) -> 0 | AF52: =IF(P52="품질관리비", L52, 0) -> 0 | AG52: =IF(P52="작업부산물(철거해체)", L52, 0) -> 0 | AH52: =IF(P52="사용자항목6", L52, 0) -> 0 | AI52: =IF(P52="사용자항목7", L52, 0) -> 0 | AJ52: =IF(P52="사용자항목8", L52, 0) -> 0 | AK52: =IF(P52="사용자항목9", L52, 0) -> 0 | AL52: =IF(P52="사용자항목10", L52, 0) -> 0 | AM52: =IF(P52="사용자항목11", L52, 0) -> 0 | AN52: =IF(P52="사용자항목12", L52, 0) -> 0 | AO52: =IF(P52="사용자항목13", L52, 0) -> 0 | AP52: =IF(P52="사용자항목14", L52, 0) -> 0 | AQ52: =IF(P52="사용자항목15", L52, 0) -> 0 | AR52: =IF(P52="사용자항목16", L52, 0) -> 0 | AS52: =IF(P52="사용자항목17", L52, 0) -> 0 | AT52: =IF(P52="사용자항목18", L52, 0) -> 0 | AU52: =IF(P52="사용자항목19", L52, 0) -> 0
A53: 고소작업차 | B53: 5ton | C53: HR | D53: 30 | O53: ="" | P53: 기계경비 | Q53: 1 | R53: =IF(P53="기계경비", J53, 0) -> 0 | S53: =IF(P53="운반비", L53, 0) -> 0 | T53: =IF(P53="작업부산물", F53, 0) -> 0 | U53: =IF(P53="관급", F53, 0) -> 0 | V53: =IF(P53="외주비", J53, 0) -> 0 | W53: =IF(P53="장비비", J53, 0) -> 0 | X53: =IF(P53="폐기물처리비", L53, 0) -> 0 | Y53: =IF(P53="가설비", J53, 0) -> 0 | Z53: =IF(P53="잡비제외분", F53, 0) -> 0 | AA53: =IF(P53="사급자재대", L53, 0) -> 0 | AB53: =IF(P53="관급자재대", L53, 0) -> 0 | AC53: =IF(P53="사용자항목1", L53, 0) -> 0 | AD53: =IF(P53="사용자항목2", L53, 0) -> 0 | AE53: =IF(P53="안전관리비", L53, 0) -> 0 | AF53: =IF(P53="품질관리비", L53, 0) -> 0 | AG53: =IF(P53="작업부산물(철거해체)", L53, 0) -> 0 | AH53: =IF(P53="사용자항목6", L53, 0) -> 0 | AI53: =IF(P53="사용자항목7", L53, 0) -> 0 | AJ53: =IF(P53="사용자항목8", L53, 0) -> 0 | AK53: =IF(P53="사용자항목9", L53, 0) -> 0 | AL53: =IF(P53="사용자항목10", L53, 0) -> 0 | AM53: =IF(P53="사용자항목11", L53, 0) -> 0 | AN53: =IF(P53="사용자항목12", L53, 0) -> 0 | AO53: =IF(P53="사용자항목13", L53, 0) -> 0 | AP53: =IF(P53="사용자항목14", L53, 0) -> 0 | AQ53: =IF(P53="사용자항목15", L53, 0) -> 0 | AR53: =IF(P53="사용자항목16", L53, 0) -> 0 | AS53: =IF(P53="사용자항목17", L53, 0) -> 0 | AT53: =IF(P53="사용자항목18", L53, 0) -> 0 | AU53: =IF(P53="사용자항목19", L53, 0) -> 0
A54: 덕트공 | B54: 일반공사 직종 | C54: 인 | D54: 4.29 | O54: ="02" -> 02 | P54: 기계경비 | Q54: 1 | R54: =IF(P54="기계경비", J54, 0) -> 0 | S54: =IF(P54="운반비", L54, 0) -> 0 | T54: =IF(P54="작업부산물", F54, 0) -> 0 | U54: =IF(P54="관급", F54, 0) -> 0 | V54: =IF(P54="외주비", J54, 0) -> 0 | W54: =IF(P54="장비비", J54, 0) -> 0 | X54: =IF(P54="폐기물처리비", L54, 0) -> 0 | Y54: =IF(P54="가설비", J54, 0) -> 0 | Z54: =IF(P54="잡비제외분", F54, 0) -> 0 | AA54: =IF(P54="사급자재대", L54, 0) -> 0 | AB54: =IF(P54="관급자재대", L54, 0) -> 0 | AC54: =IF(P54="사용자항목1", L54, 0) -> 0 | AD54: =IF(P54="사용자항목2", L54, 0) -> 0 | AE54: =IF(P54="안전관리비", L54, 0) -> 0 | AF54: =IF(P54="품질관리비", L54, 0) -> 0 | AG54: =IF(P54="작업부산물(철거해체)", L54, 0) -> 0 | AH54: =IF(P54="사용자항목6", L54, 0) -> 0 | AI54: =IF(P54="사용자항목7", L54, 0) -> 0 | AJ54: =IF(P54="사용자항목8", L54, 0) -> 0 | AK54: =IF(P54="사용자항목9", L54, 0) -> 0 | AL54: =IF(P54="사용자항목10", L54, 0) -> 0 | AM54: =IF(P54="사용자항목11", L54, 0) -> 0 | AN54: =IF(P54="사용자항목12", L54, 0) -> 0 | AO54: =IF(P54="사용자항목13", L54, 0) -> 0 | AP54: =IF(P54="사용자항목14", L54, 0) -> 0 | AQ54: =IF(P54="사용자항목15", L54, 0) -> 0 | AR54: =IF(P54="사용자항목16", L54, 0) -> 0 | AS54: =IF(P54="사용자항목17", L54, 0) -> 0 | AT54: =IF(P54="사용자항목18", L54, 0) -> 0 | AU54: =IF(P54="사용자항목19", L54, 0) -> 0
A55: 보통인부 | B55: 일반공사 직종 | C55: 인 | D55: 9.685 | O55: ="02" -> 02 | P55: 기계경비 | Q55: 1 | R55: =IF(P55="기계경비", J55, 0) -> 0 | S55: =IF(P55="운반비", L55, 0) -> 0 | T55: =IF(P55="작업부산물", F55, 0) -> 0 | U55: =IF(P55="관급", F55, 0) -> 0 | V55: =IF(P55="외주비", J55, 0) -> 0 | W55: =IF(P55="장비비", J55, 0) -> 0 | X55: =IF(P55="폐기물처리비", L55, 0) -> 0 | Y55: =IF(P55="가설비", J55, 0) -> 0 | Z55: =IF(P55="잡비제외분", F55, 0) -> 0 | AA55: =IF(P55="사급자재대", L55, 0) -> 0 | AB55: =IF(P55="관급자재대", L55, 0) -> 0 | AC55: =IF(P55="사용자항목1", L55, 0) -> 0 | AD55: =IF(P55="사용자항목2", L55, 0) -> 0 | AE55: =IF(P55="안전관리비", L55, 0) -> 0 | AF55: =IF(P55="품질관리비", L55, 0) -> 0 | AG55: =IF(P55="작업부산물(철거해체)", L55, 0) -> 0 | AH55: =IF(P55="사용자항목6", L55, 0) -> 0 | AI55: =IF(P55="사용자항목7", L55, 0) -> 0 | AJ55: =IF(P55="사용자항목8", L55, 0) -> 0 | AK55: =IF(P55="사용자항목9", L55, 0) -> 0 | AL55: =IF(P55="사용자항목10", L55, 0) -> 0 | AM55: =IF(P55="사용자항목11", L55, 0) -> 0 | AN55: =IF(P55="사용자항목12", L55, 0) -> 0 | AO55: =IF(P55="사용자항목13", L55, 0) -> 0 | AP55: =IF(P55="사용자항목14", L55, 0) -> 0 | AQ55: =IF(P55="사용자항목15", L55, 0) -> 0 | AR55: =IF(P55="사용자항목16", L55, 0) -> 0 | AS55: =IF(P55="사용자항목17", L55, 0) -> 0 | AT55: =IF(P55="사용자항목18", L55, 0) -> 0 | AU55: =IF(P55="사용자항목19", L55, 0) -> 0
A56: 배관공 | B56: 일반공사 직종 | C56: 인 | D56: 25.405 | O56: ="02" -> 02 | P56: 기계경비 | Q56: 1 | R56: =IF(P56="기계경비", J56, 0) -> 0 | S56: =IF(P56="운반비", L56, 0) -> 0 | T56: =IF(P56="작업부산물", F56, 0) -> 0 | U56: =IF(P56="관급", F56, 0) -> 0 | V56: =IF(P56="외주비", J56, 0) -> 0 | W56: =IF(P56="장비비", J56, 0) -> 0 | X56: =IF(P56="폐기물처리비", L56, 0) -> 0 | Y56: =IF(P56="가설비", J56, 0) -> 0 | Z56: =IF(P56="잡비제외분", F56, 0) -> 0 | AA56: =IF(P56="사급자재대", L56, 0) -> 0 | AB56: =IF(P56="관급자재대", L56, 0) -> 0 | AC56: =IF(P56="사용자항목1", L56, 0) -> 0 | AD56: =IF(P56="사용자항목2", L56, 0) -> 0 | AE56: =IF(P56="안전관리비", L56, 0) -> 0 | AF56: =IF(P56="품질관리비", L56, 0) -> 0 | AG56: =IF(P56="작업부산물(철거해체)", L56, 0) -> 0 | AH56: =IF(P56="사용자항목6", L56, 0) -> 0 | AI56: =IF(P56="사용자항목7", L56, 0) -> 0 | AJ56: =IF(P56="사용자항목8", L56, 0) -> 0 | AK56: =IF(P56="사용자항목9", L56, 0) -> 0 | AL56: =IF(P56="사용자항목10", L56, 0) -> 0 | AM56: =IF(P56="사용자항목11", L56, 0) -> 0 | AN56: =IF(P56="사용자항목12", L56, 0) -> 0 | AO56: =IF(P56="사용자항목13", L56, 0) -> 0 | AP56: =IF(P56="사용자항목14", L56, 0) -> 0 | AQ56: =IF(P56="사용자항목15", L56, 0) -> 0 | AR56: =IF(P56="사용자항목16", L56, 0) -> 0 | AS56: =IF(P56="사용자항목17", L56, 0) -> 0 | AT56: =IF(P56="사용자항목18", L56, 0) -> 0 | AU56: =IF(P56="사용자항목19", L56, 0) -> 0
A57: 공구손료 | B57: ="노무비의 " & N57*100 & "%" -> 노무비의 3% | C57: 식 | D57: 1 | N57: 0.03 | O57: ="" | P57: 기계경비 | Q57: 1 | R57: =IF(P57="기계경비", J57, 0) -> 0 | S57: =IF(P57="운반비", L57, 0) -> 0 | T57: =IF(P57="작업부산물", F57, 0) -> 0 | U57: =IF(P57="관급", F57, 0) -> 0 | V57: =IF(P57="외주비", J57, 0) -> 0 | W57: =IF(P57="장비비", J57, 0) -> 0 | X57: =IF(P57="폐기물처리비", L57, 0) -> 0 | Y57: =IF(P57="가설비", J57, 0) -> 0 | Z57: =IF(P57="잡비제외분", F57, 0) -> 0 | AA57: =IF(P57="사급자재대", L57, 0) -> 0 | AB57: =IF(P57="관급자재대", L57, 0) -> 0 | AC57: =IF(P57="사용자항목1", L57, 0) -> 0 | AD57: =IF(P57="사용자항목2", L57, 0) -> 0 | AE57: =IF(P57="안전관리비", L57, 0) -> 0 | AF57: =IF(P57="품질관리비", L57, 0) -> 0 | AG57: =IF(P57="작업부산물(철거해체)", L57, 0) -> 0 | AH57: =IF(P57="사용자항목6", L57, 0) -> 0 | AI57: =IF(P57="사용자항목7", L57, 0) -> 0 | AJ57: =IF(P57="사용자항목8", L57, 0) -> 0 | AK57: =IF(P57="사용자항목9", L57, 0) -> 0 | AL57: =IF(P57="사용자항목10", L57, 0) -> 0 | AM57: =IF(P57="사용자항목11", L57, 0) -> 0 | AN57: =IF(P57="사용자항목12", L57, 0) -> 0 | AO57: =IF(P57="사용자항목13", L57, 0) -> 0 | AP57: =IF(P57="사용자항목14", L57, 0) -> 0 | AQ57: =IF(P57="사용자항목15", L57, 0) -> 0 | AR57: =IF(P57="사용자항목16", L57, 0) -> 0 | AS57: =IF(P57="사용자항목17", L57, 0) -> 0 | AT57: =IF(P57="사용자항목18", L57, 0) -> 0 | AU57: =IF(P57="사용자항목19", L57, 0) -> 0 | AW57: 24 | AX57: A0200000000
A68: 합 계 | F68: =ROUNDDOWN(SUMIF(Q22:Q67, "1", F22:F67), 0) -> 0 | H68: =ROUNDDOWN(SUMIF(Q22:Q67, "1", H22:H67), 0) -> 0 | J68: =ROUNDDOWN(SUMIF(Q22:Q67, "1", J22:J67), 0) -> 0 | L68: =F68+H68+J68 -> 0 | R68: =ROUNDDOWN(SUM(R22:R57), 0) -> 0 | S68: =ROUNDDOWN(SUM(S22:S57), 0) -> 0 | T68: =ROUNDDOWN(SUM(T22:T57), 0) -> 0 | U68: =ROUNDDOWN(SUM(U22:U57), 0) -> 0 | V68: =ROUNDDOWN(SUM(V22:V57), 0) -> 0 | W68: =ROUNDDOWN(SUM(W22:W57), 0) -> 0 | X68: =ROUNDDOWN(SUM(X22:X57), 0) -> 0 | Y68: =ROUNDDOWN(SUM(Y22:Y57), 0) -> 0 | ... AY68: =ROUNDDOWN(SUM(AY22:AY57), 0) -> 0
A69: 03. 03. 구멍뚫기
A70: 구멍뚫기(코어드릴) | B70: D300, 콘크리트 300㎜, 벽 | C70: 개소 | D70: 1 | O70: ="" | P70: 기계경비 | Q70: 1 | R70: =IF(P70="기계경비", J70, 0) -> 0 | S70: =IF(P70="운반비", L70, 0) -> 0 | T70: =IF(P70="작업부산물", F70, 0) -> 0 | U70: =IF(P70="관급", F70, 0) -> 0 | V70: =IF(P70="외주비", J70, 0) -> 0 | W70: =IF(P70="장비비", J70, 0) -> 0 | X70: =IF(P70="폐기물처리비", L70, 0) -> 0 | Y70: =IF(P70="가설비", J70, 0) -> 0 | Z70: =IF(P70="잡비제외분", F70, 0) -> 0 | AA70: =IF(P70="사급자재대", L70, 0) -> 0 | AB70: =IF(P70="관급자재대", L70, 0) -> 0 | AC70: =IF(P70="사용자항목1", L70, 0) -> 0 | AD70: =IF(P70="사용자항목2", L70, 0) -> 0 | AE70: =IF(P70="안전관리비", L70, 0) -> 0 | AF70: =IF(P70="품질관리비", L70, 0) -> 0 | AG70: =IF(P70="작업부산물(철거해체)", L70, 0) -> 0 | AH70: =IF(P70="사용자항목6", L70, 0) -> 0 | AI70: =IF(P70="사용자항목7", L70, 0) -> 0 | AJ70: =IF(P70="사용자항목8", L70, 0) -> 0 | AK70: =IF(P70="사용자항목9", L70, 0) -> 0 | AL70: =IF(P70="사용자항목10", L70, 0) -> 0 | AM70: =IF(P70="사용자항목11", L70, 0) -> 0 | AN70: =IF(P70="사용자항목12", L70, 0) -> 0 | AO70: =IF(P70="사용자항목13", L70, 0) -> 0 | AP70: =IF(P70="사용자항목14", L70, 0) -> 0 | AQ70: =IF(P70="사용자항목15", L70, 0) -> 0 | AR70: =IF(P70="사용자항목16", L70, 0) -> 0 | AS70: =IF(P70="사용자항목17", L70, 0) -> 0 | AT70: =IF(P70="사용자항목18", L70, 0) -> 0 | AU70: =IF(P70="사용자항목19", L70, 0) -> 0
A71: 구멍뚫기(코어드릴) | B71: D250, 콘크리트 300㎜, 벽 | C71: 개소 | D71: 29 | O71: ="" | P71: 기계경비 | Q71: 1 | R71: =IF(P71="기계경비", J71, 0) -> 0 | S71: =IF(P71="운반비", L71, 0) -> 0 | T71: =IF(P71="작업부산물", F71, 0) -> 0 | U71: =IF(P71="관급", F71, 0) -> 0 | V71: =IF(P71="외주비", J71, 0) -> 0 | W71: =IF(P71="장비비", J71, 0) -> 0 | X71: =IF(P71="폐기물처리비", L71, 0) -> 0 | Y71: =IF(P71="가설비", J71, 0) -> 0 | Z71: =IF(P71="잡비제외분", F71, 0) -> 0 | AA71: =IF(P71="사급자재대", L71, 0) -> 0 | AB71: =IF(P71="관급자재대", L71, 0) -> 0 | AC71: =IF(P71="사용자항목1", L71, 0) -> 0 | AD71: =IF(P71="사용자항목2", L71, 0) -> 0 | AE71: =IF(P71="안전관리비", L71, 0) -> 0 | AF71: =IF(P71="품질관리비", L71, 0) -> 0 | AG71: =IF(P71="작업부산물(철거해체)", L71, 0) -> 0 | AH71: =IF(P71="사용자항목6", L71, 0) -> 0 | AI71: =IF(P71="사용자항목7", L71, 0) -> 0 | AJ71: =IF(P71="사용자항목8", L71, 0) -> 0 | AK71: =IF(P71="사용자항목9", L71, 0) -> 0 | AL71: =IF(P71="사용자항목10", L71, 0) -> 0 | AM71: =IF(P71="사용자항목11", L71, 0) -> 0 | AN71: =IF(P71="사용자항목12", L71, 0) -> 0 | AO71: =IF(P71="사용자항목13", L71, 0) -> 0 | AP71: =IF(P71="사용자항목14", L71, 0) -> 0 | AQ71: =IF(P71="사용자항목15", L71, 0) -> 0 | AR71: =IF(P71="사용자항목16", L71, 0) -> 0 | AS71: =IF(P71="사용자항목17", L71, 0) -> 0 | AT71: =IF(P71="사용자항목18", L71, 0) -> 0 | AU71: =IF(P71="사용자항목19", L71, 0) -> 0
A72: 구멍뚫기(코어드릴) | B72: D200, 콘크리트 300㎜, 벽 | C72: 개소 | D72: 2 | O72: ="" | P72: 기계경비 | Q72: 1 | R72: =IF(P72="기계경비", J72, 0) -> 0 | S72: =IF(P72="운반비", L72, 0) -> 0 | T72: =IF(P72="작업부산물", F72, 0) -> 0 | U72: =IF(P72="관급", F72, 0) -> 0 | V72: =IF(P72="외주비", J72, 0) -> 0 | W72: =IF(P72="장비비", J72, 0) -> 0 | X72: =IF(P72="폐기물처리비", L72, 0) -> 0 | Y72: =IF(P72="가설비", J72, 0) -> 0 | Z72: =IF(P72="잡비제외분", F72, 0) -> 0 | AA72: =IF(P72="사급자재대", L72, 0) -> 0 | AB72: =IF(P72="관급자재대", L72, 0) -> 0 | AC72: =IF(P72="사용자항목1", L72, 0) -> 0 | AD72: =IF(P72="사용자항목2", L72, 0) -> 0 | AE72: =IF(P72="안전관리비", L72, 0) -> 0 | AF72: =IF(P72="품질관리비", L72, 0) -> 0 | AG72: =IF(P72="작업부산물(철거해체)", L72, 0) -> 0 | AH72: =IF(P72="사용자항목6", L72, 0) -> 0 | AI72: =IF(P72="사용자항목7", L72, 0) -> 0 | AJ72: =IF(P72="사용자항목8", L72, 0) -> 0 | AK72: =IF(P72="사용자항목9", L72, 0) -> 0 | AL72: =IF(P72="사용자항목10", L72, 0) -> 0 | AM72: =IF(P72="사용자항목11", L72, 0) -> 0 | AN72: =IF(P72="사용자항목12", L72, 0) -> 0 | AO72: =IF(P72="사용자항목13", L72, 0) -> 0 | AP72: =IF(P72="사용자항목14", L72, 0) -> 0 | AQ72: =IF(P72="사용자항목15", L72, 0) -> 0 | AR72: =IF(P72="사용자항목16", L72, 0) -> 0 | AS72: =IF(P72="사용자항목17", L72, 0) -> 0 | AT72: =IF(P72="사용자항목18", L72, 0) -> 0 | AU72: =IF(P72="사용자항목19", L72, 0) -> 0
A84: 합 계 | F84: =ROUNDDOWN(SUMIF(Q70:Q83, "1", F70:F83), 0) -> 0 | H84: =ROUNDDOWN(SUMIF(Q70:Q83, "1", H70:H83), 0) -> 0 | J84: =ROUNDDOWN(SUMIF(Q70:Q83, "1", J70:J83), 0) -> 0 | L84: =F84+H84+J84 -> 0 | R84: =ROUNDDOWN(SUM(R70:R72), 0) -> 0 | S84: =ROUNDDOWN(SUM(S70:S72), 0) -> 0 | T84: =ROUNDDOWN(SUM(T70:T72), 0) -> 0 | U84: =ROUNDDOWN(SUM(U70:U72), 0) -> 0 | V84: =ROUNDDOWN(SUM(V70:V72), 0) -> 0 | W84: =ROUNDDOWN(SUM(W70:W72), 0) -> 0 | X84: =ROUNDDOWN(SUM(X70:X72), 0) -> 0 | Y84: =ROUNDDOWN(SUM(Y70:Y72), 0) -> 0 | ... AY84: =ROUNDDOWN(SUM(AY70:AY72), 0) -> 0
A85: 04. 04. 폐기물처리비
A86: 건설폐기물처리비 | B86: 혼합폐기물(소각 약 5%) | C86: 톤 | D86: 1 | O86: ="" | P86: 기계경비 | Q86: 1 | R86: =IF(P86="기계경비", J86, 0) -> 0 | S86: =IF(P86="운반비", L86, 0) -> 0 | T86: =IF(P86="작업부산물", F86, 0) -> 0 | U86: =IF(P86="관급", F86, 0) -> 0 | V86: =IF(P86="외주비", J86, 0) -> 0 | W86: =IF(P86="장비비", J86, 0) -> 0 | X86: =IF(P86="폐기물처리비", L86, 0) -> 0 | Y86: =IF(P86="가설비", J86, 0) -> 0 | Z86: =IF(P86="잡비제외분", F86, 0) -> 0 | AA86: =IF(P86="사급자재대", L86, 0) -> 0 | AB86: =IF(P86="관급자재대", L86, 0) -> 0 | AC86: =IF(P86="사용자항목1", L86, 0) -> 0 | AD86: =IF(P86="사용자항목2", L86, 0) -> 0 | AE86: =IF(P86="안전관리비", L86, 0) -> 0 | AF86: =IF(P86="품질관리비", L86, 0) -> 0 | AG86: =IF(P86="작업부산물(철거해체)", L86, 0) -> 0 | AH86: =IF(P86="사용자항목6", L86, 0) -> 0 | AI86: =IF(P86="사용자항목7", L86, 0) -> 0 | AJ86: =IF(P86="사용자항목8", L86, 0) -> 0 | AK86: =IF(P86="사용자항목9", L86, 0) -> 0 | AL86: =IF(P86="사용자항목10", L86, 0) -> 0 | AM86: =IF(P86="사용자항목11", L86, 0) -> 0 | AN86: =IF(P86="사용자항목12", L86, 0) -> 0 | AO86: =IF(P86="사용자항목13", L86, 0) -> 0 | AP86: =IF(P86="사용자항목14", L86, 0) -> 0 | AQ86: =IF(P86="사용자항목15", L86, 0) -> 0 | AR86: =IF(P86="사용자항목16", L86, 0) -> 0 | AS86: =IF(P86="사용자항목17", L86, 0) -> 0 | AT86: =IF(P86="사용자항목18", L86, 0) -> 0 | AU86: =IF(P86="사용자항목19", L86, 0) -> 0
A100: 합 계 | F100: =ROUNDDOWN(SUMIF(Q86:Q99, "1", F86:F99), 0) -> 0 | H100: =ROUNDDOWN(SUMIF(Q86:Q99, "1", H86:H99), 0) -> 0 | J100: =ROUNDDOWN(SUMIF(Q86:Q99, "1", J86:J99), 0) -> 0 | L100: =F100+H100+J100 -> 0 | R100: =ROUNDDOWN(SUM(R86:R86), 0) -> 0 | S100: =ROUNDDOWN(SUM(S86:S86), 0) -> 0 | T100: =ROUNDDOWN(SUM(T86:T86), 0) -> 0 | U100: =ROUNDDOWN(SUM(U86:U86), 0) -> 0 | V100: =ROUNDDOWN(SUM(V86:V86), 0) -> 0 | W100: =ROUNDDOWN(SUM(W86:W86), 0) -> 0 | X100: =ROUNDDOWN(SUM(X86:X86), 0) -> 0 | Y100: =ROUNDDOWN(SUM(Y86:Y86), 0) -> 0 | ... AY100: =ROUNDDOWN(SUM(AY86:AY86), 0) -> 0

Sheet 일위대가목록
A1: 일 위 대 가 목 록
A2: 공사명 : 공동실험실습관 외벽개선 환기배관 철거 및 설치 공사
A3: 호 표 | B3: 품 명 | C3: 규 격 | D3: 단위 | E3: 수량 | F3: 재 료 비 | H3: 노 무 비 | J3: 경 비 | L3: 합 계 | N3: 비 고
F4: 단 가 | G4: 금 액 | H4: 단 가 | I4: 금 액 | J4: 단 가 | K4: 금 액 | L4: 단 가 | M4: 금 액 | O4: 구분
A5: 일위 1호 | B5: 스파이럴덕트 해체 | C5: D250이하, t 0.6mm | D5: m | E5: 1 | F5: =일위대가표!F9 -> 0 | G5: =E5*F5 -> 0 | H5: =일위대가표!H9 -> 17664 | I5: =E5*H5 -> 17664 | J5: =일위대가표!J9 -> 353 | K5: =E5*J5 -> 353 | L5: =F5+H5+J5 -> 18017 | M5: =G5+I5+K5 -> 18017 | N5: 유지4-1-2
A6: 일위 2호 | B6: 스파이럴덕트 해체 | C6: D200이하, t 0.5mm | D6: m | E6: 1 | F6: =일위대가표!F15 -> 0 | G6: =E6*F6 -> 0 | H6: =일위대가표!H15 -> 14547 | I6: =E6*H6 -> 14547 | J6: =일위대가표!J15 -> 290 | K6: =E6*J6 -> 290 | L6: =F6+H6+J6 -> 14837 | M6: =G6+I6+K6 -> 14837 | N6: 유지4-1-2
A7: 일위 3호 | B7: PVC 덕트 해체 | C7: D250이하 | D7: m | E7: 1 | F7: =일위대가표!F21 -> 0 | G7: =E7*F7 -> 0 | H7: =일위대가표!H21 -> 17664 | I7: =E7*H7 -> 17664 | J7: =일위대가표!J21 -> 353 | K7: =E7*J7 -> 353 | L7: =F7+H7+J7 -> 18017 | M7: =G7+I7+K7 -> 18017 | N7: 유지4-1-2
A8: 일위 5호 | B8: U볼트,너트(절연) | C8: M300 | D8: 개소 | E8: 1 | F8: =일위대가표!F27 -> 4797 | G8: =E8*F8 -> 4797 | H8: =일위대가표!H27 -> 0 | I8: =E8*H8 -> 0 | J8: =일위대가표!J27 -> 0 | K8: =E8*J8 -> 0 | L8: =F8+H8+J8 -> 4797 | M8: =G8+I8+K8 -> 4797
A9: 일위 6호 | B9: 수밀코킹 | C9: 재료비 별도 | D9: M | E9: 1 | F9: =일위대가표!F31 -> 0 | G9: =E9*F9 -> 0 | H9: =일위대가표!H31 -> 5310 | I9: =E9*H9 -> 5310 | J9: =일위대가표!J31 -> 0 | K9: =E9*J9 -> 0 | L9: =F9+H9+J9 -> 5310 | M9: =G9+I9+K9 -> 5310 | N9: 건축6-6-1 | O9: AHF00000010S
A10: 일위 7호 | B10: 페놀폼단열재(접착제붙이기, 벽) | C10: PF보드 100mm | D10: M2 | E10: 1 | F10: =일위대가표!F37 -> 35920 | G10: =E10*F10 -> 35920 | H10: =일위대가표!H37 -> 14422 | I10: =E10*H10 -> 14422 | J10: =일위대가표!J37 -> 0 | K10: =E10*J10 -> 0 | L10: =F10+H10+J10 -> 50342 | M10: =G10+I10+K10 -> 50342 | N10: 건축5-4-2
A11: 일위 8호 | B11: 단열재 접착제 붙이기 | C11: 벽, 100mm이하 | D11: M2 | E11: 1 | F11: =일위대가표!F42 -> 0 | G11: =E11*F11 -> 0 | H11: =일위대가표!H42 -> 14422 | I11: =E11*H11 -> 14422 | J11: =일위대가표!J42 -> 0 | K11: =E11*J11 -> 0 | L11: =F11+H11+J11 -> 14422 | M11: =G11+I11+K11 -> 14422 | N11: 건축5-4-2 | O11: AOD11000060S
A12: 일위 9호 | B12: 구멍뚫기(코어드릴) | C12: D300, 콘크리트 300㎜, 벽 | D12: 개소 | E12: 1 | F12: =일위대가표!F48 -> 6113 | G12: =E12*F12 -> 6113 | H12: =일위대가표!H48 -> 305668 | I12: =E12*H12 -> 305668 | J12: =일위대가표!J48 -> 0 | K12: =E12*J12 -> 0 | L12: =F12+H12+J12 -> 311781 | M12: =G12+I12+K12 -> 311781 | N12: 설비9-3-2
A13: 일위 10호 | B13: 구멍뚫기(코어드릴) | C13: D250, 콘크리트 300㎜, 벽 | D13: 개소 | E13: 1 | F13: =일위대가표!F54 -> 5313 | G13: =E13*F13 -> 5313 | H13: =일위대가표!H54 -> 265678 | I13: =E13*H13 -> 265678 | J13: =일위대가표!J54 -> 0 | K13: =E13*J13 -> 0 | L13: =F13+H13+J13 -> 270991 | M13: =G13+I13+K13 -> 270991 | N13: 설비9-3-2
A14: 일위 11호 | B14: 구멍뚫기(코어드릴) | C14: D200, 콘크리트 300㎜, 벽 | D14: 개소 | E14: 1 | F14: =일위대가표!F60 -> 4513 | G14: =E14*F14 -> 4513 | H14: =일위대가표!H60 -> 225688 | I14: =E14*H14 -> 225688 | J14: =일위대가표!J60 -> 0 | K14: =E14*J14 -> 0 | L14: =F14+H14+J14 -> 230201 | M14: =G14+I14+K14 -> 230201 | N14: 설비9-3-2
A15: 일위 12호 | B15: 건설폐기물처리비 | C15: 혼합폐기물(소각 약 5%) | D15: 톤 | E15: 1 | F15: =일위대가표!F64 -> 0 | G15: =E15*F15 -> 0 | H15: =일위대가표!H64 -> 0 | I15: =E15*H15 -> 0 | J15: =일위대가표!J64 -> 192887 | K15: =E15*J15 -> 192887 | L15: =F15+H15+J15 -> 192887 | M15: =G15+I15+K15 -> 192887 | N15: 부가세별도

Sheet 일위대가표
A1: 일 위 대 가 내 역 서
A2: 공사명 : 공동실험실습관 외벽개선 환기배관 철거 및 설치 공사
A3: 품 명 | B3: 규 격 | C3: 단위 | D3: 수 량 | E3: 재 료 비 | G3: 노 무 비 | I3: 경 비 | K3: 합 계 | M3: 비 고
E4: 단 가 | F4: 금 액 | G4: 단 가 | H4: 금 액 | I4: 단 가 | J4: 금 액 | K4: 단 가 | L4: 금 액 | N4: 손료요율 | O4: 손료구분 | P4: 적용구분 | Q4: 합계구분 | R4: 품목구분 | S4: 조달코드 | T4: 구분
A5: [일위 1호] - [스파이럴덕트 해체 D250이하, t 0.6mm m] | M5: 유지4-1-2
A6: 덕트공 | B6: 일반공사 직종 | C6: 인 | D6: 0.055 | E6: 0 | F6: =ROUNDDOWN(D6*E6, 1) -> 0 | G6: =ROUNDDOWN(단가대비표!O30, 2) -> 208140 | H6: =ROUNDDOWN(D6*G6, 1) -> 11447.7 | I6: 0 | J6: =ROUNDDOWN(D6*I6, 1) -> 0 | K6: =E6+G6+I6 -> 208140 | L6: =F6+H6+J6 -> 11447.7 | M6: 2010년직종통합(함석공) | O6: 02 | P6: 기계경비 | Q6: 1
A7: 보통인부 | B7: 일반공사 직종 | C7: 인 | D7: 0.036 | E7: 0 | F7: =ROUNDDOWN(D7*E7, 1) -> 0 | G7: =ROUNDDOWN(단가대비표!O32, 2) -> 172698 | H7: =ROUNDDOWN(D7*G7, 1) -> 6217.1 | I7: 0 | J7: =ROUNDDOWN(D7*I7, 1) -> 0 | K7: =E7+G7+I7 -> 172698 | L7: =F7+H7+J7 -> 6217.1 | O7: 02 | P7: 기계경비 | Q7: 1
A8: 공구손료 및 경장비의 기계경비 | B8: ="인력품의 " & N8*100 & "%" -> 인력품의 2% | C8: 식 | D8: 1 | E8: 0 | F8: 0 | G8: 0 | H8: 0 | I8: =SUMIF(O6:O8, "02", H6:H8) -> 17664.8 | J8: =ROUNDDOWN((I8)*N8, 1) -> 353.2 | K8: =E8+G8+I8 -> 17664.8 | L8: =F8+H8+J8 -> 353.2 | N8: 0.02 | P8: 기계경비 | Q8: 1 | R8: 25 | S8: A0200000000 | T8: 경비
A9: 합 계 | F9: =ROUNDDOWN(SUMIF(Q6:Q8, "1", F6:F8), 0) -> 0 | H9: =ROUNDDOWN(SUMIF(Q6:Q8, "1", H6:H8), 0) -> 17664 | J9: =ROUNDDOWN(SUMIF(Q6:Q8, "1", J6:J8), 0) -> 353 | L9: =F9+H9+J9 -> 18017
A11: [일위 2호] - [스파이럴덕트 해체 D200이하, t 0.5mm m] | M11: 유지4-1-2
A12: 덕트공 | B12: 일반공사 직종 | C12: 인 | D12: 0.045 | E12: 0 | F12: =ROUNDDOWN(D12*E12, 1) -> 0 | G12: =ROUNDDOWN(단가대비표!O30, 2) -> 208140 | H12: =ROUNDDOWN(D12*G12, 1) -> 9366.3 | I12: 0 | J12: =ROUNDDOWN(D12*I12, 1) -> 0 | K12: =E12+G12+I12 -> 208140 | L12: =F12+H12+J12 -> 9366.3 | M12: 2010년직종통합(함석공) | O12: 02 | P12: 기계경비 | Q12: 1
A13: 보통인부 | B13: 일반공사 직종 | C13: 인 | D13: 0.03 | E13: 0 | F13: =ROUNDDOWN(D13*E13, 1) -> 0 | G13: =ROUNDDOWN(단가대비표!O32, 2) -> 172698 | H13: =ROUNDDOWN(D13*G13, 1) -> 5180.9 | I13: 0 | J13: =ROUNDDOWN(D13*I13, 1) -> 0 | K13: =E13+G13+I13 -> 172698 | L13: =F13+H13+J13 -> 5180.9 | O13: 02 | P13: 기계경비 | Q13: 1
A14: 공구손료 및 경장비의 기계경비 | B14: ="인력품의 " & N14*100 & "%" -> 인력품의 2% | C14: 식 | D14: 1 | E14: 0 | F14: 0 | G14: 0 | H14: 0 | I14: =SUMIF(O12:O14, "02", H12:H14) -> 14547.2 | J14: =ROUNDDOWN((I14)*N14, 1) -> 290.9 | K14: =E14+G14+I14 -> 14547.2 | L14: =F14+H14+J14 -> 290.9 | N14: 0.02 | P14: 기계경비 | Q14: 1 | R14: 25 | S14: A0200000000 | T14: 경비
A15: 합 계 | F15: =ROUNDDOWN(SUMIF(Q12:Q14, "1", F12:F14), 0) -> 0 | H15: =ROUNDDOWN(SUMIF(Q12:Q14, "1", H12:H14), 0) -> 14547 | J15: =ROUNDDOWN(SUMIF(Q12:Q14, "1", J12:J14), 0) -> 290 | L15: =F15+H15+J15 -> 14837
A17: [일위 3호] - [PVC 덕트 해체 D250이하 m] | M17: 유지4-1-2
A18: 덕트공 | B18: 일반공사 직종 | C18: 인 | D18: 0.055 | E18: 0 | F18: =ROUNDDOWN(D18*E18, 1) -> 0 | G18: =ROUNDDOWN(단가대비표!O30, 2) -> 208140 | H18: =ROUNDDOWN(D18*G18, 1) -> 11447.7 | I18: 0 | J18: =ROUNDDOWN(D18*I18, 1) -> 0 | K18: =E18+G18+I18 -> 208140 | L18: =F18+H18+J18 -> 11447.7 | M18: 2010년직종통합(함석공) | O18: 02 | P18: 기계경비 | Q18: 1
A19: 보통인부 | B19: 일반공사 직종 | C19: 인 | D19: 0.036 | E19: 0 | F19: =ROUNDDOWN(D19*E19, 1) -> 0 | G19: =ROUNDDOWN(단가대비표!O32, 2) -> 172698 | H19: =ROUNDDOWN(D19*G19, 1) -> 6217.1 | I19: 0 | J19: =ROUNDDOWN(D19*I19, 1) -> 0 | K19: =E19+G19+I19 -> 172698 | L19: =F19+H19+J19 -> 6217.1 | O19: 02 | P19: 기계경비 | Q19: 1
A20: 공구손료 및 경장비의 기계경비 | B20: ="인력품의 " & N20*100 & "%" -> 인력품의 2% | C20: 식 | D20: 1 | E20: 0 | F20: 0 | G20: 0 | H20: 0 | I20: =SUMIF(O18:O20, "02", H18:H20) -> 17664.8 | J20: =ROUNDDOWN((I20)*N20, 1) -> 353.2 | K20: =E20+G20+I20 -> 17664.8 | L20: =F20+H20+J20 -> 353.2 | N20: 0.02 | P20: 기계경비 | Q20: 1 | R20: 25 | S20: A0200000000 | T20: 경비
A21: 합 계 | F21: =ROUNDDOWN(SUMIF(Q18:Q20, "1", F18:F20), 0) -> 0 | H21: =ROUNDDOWN(SUMIF(Q18:Q20, "1", H18:H20), 0) -> 17664 | J21: =ROUNDDOWN(SUMIF(Q18:Q20, "1", J18:J20), 0) -> 353 | L21: =F21+H21+J21 -> 18017
A23: [일위 5호] - [U볼트,너트(절연) M300 개소]
A24: U볼트 | B24: U볼트, 절연, Φ300mm | C24: 개 | D24: 1 | E24: =ROUNDDOWN(단가대비표!O28, 2) -> 4720 | F24: =ROUNDDOWN(D24*E24, 1) -> 4720 | G24: 0 | H24: =ROUNDDOWN(D24*G24, 1) -> 0 | I24: 0 | J24: =ROUNDDOWN(D24*I24, 1) -> 0 | K24: =E24+G24+I24 -> 4720 | L24: =F24+H24+J24 -> 4720 | M24: 3/8" | O24: 01 | P24: 기계경비 | Q24: 1
A25: 육각너트 | B25: 육각너트, M10 | C25: 개 | D25: 2 | E25: =ROUNDDOWN(단가대비표!O10, 2) -> 25.2 | F25: =ROUNDDOWN(D25*E25, 1) -> 50.4 | G25: 0 | H25: =ROUNDDOWN(D25*G25, 1) -> 0 | I25: 0 | J25: =ROUNDDOWN(D25*I25, 1) -> 0 | K25: =E25+G25+I25 -> 25.2 | L25: =F25+H25+J25 -> 50.4 | M25: 철 | O25: 01 | P25: 기계경비 | Q25: 1
A26: 평와셔 | B26: 평와셔, 호칭경10mm | C26: 개 | D26: 2 | E26: =ROUNDDOWN(단가대비표!O20, 2) -> 13.5 | F26: =ROUNDDOWN(D26*E26, 1) -> 27 | G26: 0 | H26: =ROUNDDOWN(D26*G26, 1) -> 0 | I26: 0 | J26: =ROUNDDOWN(D26*I26, 1) -> 0 | K26: =E26+G26+I26 -> 13.5 | L26: =F26+H26+J26 -> 27 | M26: 스틸 | O26: 01 | P26: 기계경비 | Q26: 1
A27: 합 계 | F27: =ROUNDDOWN(SUMIF(Q24:Q26, "1", F24:F26), 0) -> 4797 | H27: =ROUNDDOWN(SUMIF(Q24:Q26, "1", H24:H26), 0) -> 0 | J27: =ROUNDDOWN(SUMIF(Q24:Q26, "1", J24:J26), 0) -> 0 | L27: =F27+H27+J27 -> 4797
A29: [일위 6호] - [수밀코킹 재료비 별도 M] | M29: 건축6-6-1
A30: 코킹공 | B30: 기타 직종 | C30: 인 | D30: 0.025 | E30: 0 | F30: =ROUNDDOWN(D30*E30, 1) -> 0 | G30: =ROUNDDOWN(단가대비표!O34, 2) -> 212439 | H30: =ROUNDDOWN(D30*G30, 1) -> 5310.9 | I30: 0 | J30: =ROUNDDOWN(D30*I30, 1) -> 0 | K30: =E30+G30+I30 -> 212439 | L30: =F30+H30+J30 -> 5310.9 | O30: 02 | P30: 기계경비 | Q30: 1
A31: 합 계 | F31: =ROUNDDOWN(SUMIF(Q30:Q30, "1", F30:F30), 0) -> 0 | H31: =ROUNDDOWN(SUMIF(Q30:Q30, "1", H30:H30), 0) -> 5310 | J31: =ROUNDDOWN(SUMIF(Q30:Q30, "1", J30:J30), 0) -> 0 | L31: =F31+H31+J31 -> 5310
A33: [일위 7호] - [페놀폼단열재(접착제붙이기, 벽) PF보드 100mm M2] | M33: 건축5-4-2
A34: 페놀폼단열재(PF보드) | B34: 친환경, THK 100mm, 1000×2000 | C34: M2 | D34: 1.1 | E34: =ROUNDDOWN(단가대비표!O19, 2) -> 32000 | F34: =ROUNDDOWN(D34*E34, 1) -> 35200 | G34: 0 | H34: =ROUNDDOWN(D34*G34, 1) -> 0 | I34: 0 | J34: =ROUNDDOWN(D34*I34, 1) -> 0 | K34: =E34+G34+I34 -> 32000 | L34: =F34+H34+J34 -> 35200 | M34: 준불연, 1200×2000 | O34: 01 | P34: 기계경비 | Q34: 1
A35: 초산비닐계접착제 | B35: 초산비닐계접착제, 스치로폴, 암면 | C35: kg | D35: 0.3 | E35: =ROUNDDOWN(단가대비표!O17, 2) -> 2400 | F35: =ROUNDDOWN(D35*E35, 1) -> 720 | G35: 0 | H35: =ROUNDDOWN(D35*G35, 1) -> 0 | I35: 0 | J35: =ROUNDDOWN(D35*I35, 1) -> 0 | K35: =E35+G35+I35 -> 2400 | L35: =F35+H35+J35 -> 720 | O35: 01 | P35: 기계경비 | Q35: 1
A36: 단열재 접착제 붙이기 | B36: 벽, 100mm이하 | C36: M2 | D36: 1 | E36: =ROUNDDOWN(일위대가목록!G11, 2) -> 0 | F36: =ROUNDDOWN(D36*E36, 1) -> 0 | G36: =ROUNDDOWN(일위대가목록!I11, 2) -> 14422 | H36: =ROUNDDOWN(D36*G36, 1) -> 14422 | I36: =ROUNDDOWN(일위대가목록!K11, 2) -> 0 | J36: =ROUNDDOWN(D36*I36, 1) -> 0 | K36: =E36+G36+I36 -> 14422 | L36: =F36+H36+J36 -> 14422 | M36: 일위 8호 | P36: 기계경비 | Q36: 1 | T36: AOD11000060S
A37: 합 계 | F37: =ROUNDDOWN(SUMIF(Q34:Q36, "1", F34:F36), 0) -> 35920 | H37: =ROUNDDOWN(SUMIF(Q34:Q36, "1", H34:H36), 0) -> 14422 | J37: =ROUNDDOWN(SUMIF(Q34:Q36, "1", J34:J36), 0) -> 0 | L37: =F37+H37+J37 -> 50342
A39: [일위 8호] - [단열재 접착제 붙이기 벽, 100mm이하 M2] | M39: 건축5-4-2
A40: 내장공 | B40: 일반공사 직종 | C40: 인 | D40: 0.057 | E40: 0 | F40: =ROUNDDOWN(D40*E40, 1) -> 0 | G40: =ROUNDDOWN(단가대비표!O29, 2) -> 222738 | H40: =ROUNDDOWN(D40*G40, 1) -> 12696 | I40: 0 | J40: =ROUNDDOWN(D40*I40, 1) -> 0 | K40: =E40+G40+I40 -> 222738 | L40: =F40+H40+J40 -> 12696 | O40: 02 | P40: 기계경비 | Q40: 1
A41: 보통인부 | B41: 일반공사 직종 | C41: 인 | D41: 0.01 | E41: 0 | F41: =ROUNDDOWN(D41*E41, 1) -> 0 | G41: =ROUNDDOWN(단가대비표!O32, 2) -> 172698 | H41: =ROUNDDOWN(D41*G41, 1) -> 1726.9 | I41: 0 | J41: =ROUNDDOWN(D41*I41, 1) -> 0 | K41: =E41+G41+I41 -> 172698 | L41: =F41+H41+J41 -> 1726.9 | O41: 02 | P41: 기계경비 | Q41: 1
A42: 합 계 | F42: =ROUNDDOWN(SUMIF(Q40:Q41, "1", F40:F41), 0) -> 0 | H42: =ROUNDDOWN(SUMIF(Q40:Q41, "1", H40:H41), 0) -> 14422 | J42: =ROUNDDOWN(SUMIF(Q40:Q41, "1", J40:J41), 0) -> 0 | L42: =F42+H42+J42 -> 14422
A44: [일위 9호] - [구멍뚫기(코어드릴) D300, 콘크리트 300㎜, 벽 개소] | M44: 설비9-3-2
A45: 착암공 | B45: 일반공사 직종 | C45: 인 | D45: 0.772 | E45: 0 | F45: =ROUNDDOWN(D45*E45, 1) -> 0 | G45: =ROUNDDOWN(단가대비표!O33, 2) -> 223246 | H45: =ROUNDDOWN(D45*G45, 1) -> 172345.9 | I45: 0 | J45: =ROUNDDOWN(D45*I45, 1) -> 0 | K45: =E45+G45+I45 -> 223246 | L45: =F45+H45+J45 -> 172345.9 | O45: 02 | P45: 기계경비 | Q45: 1
A46: 보통인부 | B46: 일반공사 직종 | C46: 인 | D46: 0.772 | E46: 0 | F46: =ROUNDDOWN(D46*E46, 1) -> 0 | G46: =ROUNDDOWN(단가대비표!O32, 2) -> 172698 | H46: =ROUNDDOWN(D46*G46, 1) -> 133322.8 | I46: 0 | J46: =ROUNDDOWN(D46*I46, 1) -> 0 | K46: =E46+G46+I46 -> 172698 | L46: =F46+H46+J46 -> 133322.8 | O46: 02 | P46: 기계경비 | Q46: 1
A47: 공구손료 | B47: ="인력품의 " & N47*100 & "%" -> 인력품의 2% | C47: 식 | D47: 1 | E47: =SUMIF(O45:O47, "02", H45:H47) -> 305668.7 | F47: =ROUNDDOWN((E47)*N47, 1) -> 6113.3 | G47: 0 | H47: 0 | I47: 0 | J47: 0 | K47: =E47+G47+I47 -> 305668.7 | L47: =F47+H47+J47 -> 6113.3 | N47: 0.02 | P47: 기계경비 | Q47: 1 | R47: 23 | S47: A0200000000 | T47: 재료비
A48: 합 계 | F48: =ROUNDDOWN(SUMIF(Q45:Q47, "1", F45:F47), 0) -> 6113 | H48: =ROUNDDOWN(SUMIF(Q45:Q47, "1", H45:H47), 0) -> 305668 | J48: =ROUNDDOWN(SUMIF(Q45:Q47, "1", J45:J47), 0) -> 0 | L48: =F48+H48+J48 -> 311781
A50: [일위 10호] - [구멍뚫기(코어드릴) D250, 콘크리트 300㎜, 벽 개소] | M50: 설비9-3-2
A51: 착암공 | B51: 일반공사 직종 | C51: 인 | D51: 0.671 | E51: 0 | F51: =ROUNDDOWN(D51*E51, 1) -> 0 | G51: =ROUNDDOWN(단가대비표!O33, 2) -> 223246 | H51: =ROUNDDOWN(D51*G51, 1) -> 149798 | I51: 0 | J51: =ROUNDDOWN(D51*I51, 1) -> 0 | K51: =E51+G51+I51 -> 223246 | L51: =F51+H51+J51 -> 149798 | O51: 02 | P51: 기계경비 | Q51: 1
A52: 보통인부 | B52: 일반공사 직종 | C52: 인 | D52: 0.671 | E52: 0 | F52: =ROUNDDOWN(D52*E52, 1) -> 0 | G52: =ROUNDDOWN(단가대비표!O32, 2) -> 172698 | H52: =ROUNDDOWN(D52*G52, 1) -> 115880.3 | I52: 0 | J52: =ROUNDDOWN(D52*I52, 1) -> 0 | K52: =E52+G52+I52 -> 172698 | L52: =F52+H52+J52 -> 115880.3 | O52: 02 | P52: 기계경비 | Q52: 1
A53: 공구손료 | B53: ="인력품의 " & N53*100 & "%" -> 인력품의 2% | C53: 식 | D53: 1 | E53: =SUMIF(O51:O53, "02", H51:H53) -> 265678.3 | F53: =ROUNDDOWN((E53)*N53, 1) -> 5313.5 | G53: 0 | H53: 0 | I53: 0 | J53: 0 | K53: =E53+G53+I53 -> 265678.3 | L53: =F53+H53+J53 -> 5313.5 | N53: 0.02 | P53: 기계경비 | Q53: 1 | R53: 23 | S53: A0200000000 | T53: 재료비
A54: 합 계 | F54: =ROUNDDOWN(SUMIF(Q51:Q53, "1", F51:F53), 0) -> 5313 | H54: =ROUNDDOWN(SUMIF(Q51:Q53, "1", H51:H53), 0) -> 265678 | J54: =ROUNDDOWN(SUMIF(Q51:Q53, "1", J51:J53), 0) -> 0 | L54: =F54+H54+J54 -> 270991
A56: [일위 11호] - [구멍뚫기(코어드릴) D200, 콘크리트 300㎜, 벽 개소] | M56: 설비9-3-2
A57: 착암공 | B57: 일반공사 직종 | C57: 인 | D57: 0.57 | E57: 0 | F57: =ROUNDDOWN(D57*E57, 1) -> 0 | G57: =ROUNDDOWN(단가대비표!O33, 2) -> 223246 | H57: =ROUNDDOWN(D57*G57, 1) -> 127250.2 | I57: 0 | J57: =ROUNDDOWN(D57*I57, 1) -> 0 | K57: =E57+G57+I57 -> 223246 | L57: =F57+H57+J57 -> 127250.2 | O57: 02 | P57: 기계경비 | Q57: 1
A58: 보통인부 | B58: 일반공사 직종 | C58: 인 | D58: 0.57 | E58: 0 | F58: =ROUNDDOWN(D58*E58, 1) -> 0 | G58: =ROUNDDOWN(단가대비표!O32, 2) -> 172698 | H58: =ROUNDDOWN(D58*G58, 1) -> 98437.8 | I58: 0 | J58: =ROUNDDOWN(D58*I58, 1) -> 0 | K58: =E58+G58+I58 -> 172698 | L58: =F58+H58+J58 -> 98437.8 | O58: 02 | P58: 기계경비 | Q58: 1
A59: 공구손료 | B59: ="인력품의 " & N59*100 & "%" -> 인력품의 2% | C59: 식 | D59: 1 | E59: =SUMIF(O57:O59, "02", H57:H59) -> 225688 | F59: =ROUNDDOWN((E59)*N59, 1) -> 4513.7 | G59: 0 | H59: 0 | I59: 0 | J59: 0 | K59: =E59+G59+I59 -> 225688 | L59: =F59+H59+J59 -> 4513.7 | N59: 0.02 | P59: 기계경비 | Q59: 1 | R59: 23 | S59: A0200000000 | T59: 재료비
A60: 합 계 | F60: =ROUNDDOWN(SUMIF(Q57:Q59, "1", F57:F59), 0) -> 4513 | H60: =ROUNDDOWN(SUMIF(Q57:Q59, "1", H57:H59), 0) -> 225688 | J60: =ROUNDDOWN(SUMIF(Q57:Q59, "1", J57:J59), 0) -> 0 | L60: =F60+H60+J60 -> 230201
A62: [일위 12호] - [건설폐기물처리비 혼합폐기물(소각 약 5%) 톤] | M62: 부가세별도
A63: 폐자재처리수수료 | B63: 혼합폐기물 | C63: 톤 | D63: 1 | E63: 0 | F63: =ROUNDDOWN(D63*E63, 1) -> 0 | G63: 0 | H63: =ROUNDDOWN(D63*G63, 1) -> 0 | I63: =ROUNDDOWN(단가대비표!O37, 2) -> 192887 | J63: =ROUNDDOWN(D63*I63, 1) -> 192887 | K63: =E63+G63+I63 -> 192887 | L63: =F63+H63+J63 -> 192887 | M63: 부가세별도 | O63: 03 | P63: 기계경비 | Q63: 1
A64: 합 계 | F64: =ROUNDDOWN(SUMIF(Q63:Q63, "1", F63:F63), 0) -> 0 | H64: =ROUNDDOWN(SUMIF(Q63:Q63, "1", H63:H63), 0) -> 0 | J64: =ROUNDDOWN(SUMIF(Q63:Q63, "1", J63:J63), 0) -> 192887 | L64: =F64+H64+J64 -> 192887

Sheet 중기경비목록
A1: 중 기 경 비 목 록
A2: 공사명 : 공동실험실습관 외벽개선 환기배관 철거 및 설치 공사
A3: 호 표 | B3: 품 명 | C3: 규 격 | D3: 단위 | E3: 수량 | F3: 재 료 비 | H3: 노 무 비 | J3: 경 비 | L3: 합 계 | N3: 비 고
F4: 단 가 | G4: 금 액 | H4: 단 가 | I4: 금 액 | J4: 단 가 | K4: 금 액 | L4: 단 가 | M4: 금 액 | O4: 구분
A5: 중기 4호 | B5: 고소작업차 | C5: 5ton | D5: HR | E5: 1 | F5: =중기경비!F15 -> 9730 | G5: =E5*F5 -> 9730 | H5: =중기경비!H15 -> 10418 | I5: =E5*H5 -> 10418 | J5: =중기경비!J15 -> 36594 | K5: =E5*J5 -> 36594 | L5: =F5+H5+J5 -> 56742 | M5: =G5+I5+K5 -> 56742 | N5: 공통8-4-3,8-3-3(2106)

Sheet 중기경비
A1: 중 기 경 비 내 역 서
A2: 공사명 : 공동실험실습관 외벽개선 환기배관 철거 및 설치 공사
A3: 품 명 | B3: 규 격 | C3: 단위 | D3: 수 량 | E3: 재 료 비 | G3: 노 무 비 | I3: 경 비 | K3: 합 계 | M3: 비 고
E4: 단 가 | F4: 금 액 | G4: 단 가 | H4: 금 액 | I4: 단 가 | J4: 금 액 | K4: 단 가 | L4: 금 액 | N4: 손료요율 | O4: 손료구분 | P4: 적용구분 | Q4: 합계구분 | R4: 품목구분 | S4: 조달코드 | T4: 구분
A5: [중기 4호] - [고소작업차 5ton HR] | M5: 공통8-4-3,8-3-3(2106)
A6: [경 비] | F6: =ROUNDDOWN(D6*E6, 1) -> 0 | H6: =ROUNDDOWN(D6*G6, 1) -> 0 | J6: =ROUNDDOWN(D6*I6, 1) -> 0 | K6: =E6+G6+I6 -> 0 | L6: =F6+H6+J6 -> 0
A7: 소 계 | F7: =SUMIF(Q6:Q6, "1", F6:F6) -> 0 | H7: =SUMIF(Q6:Q6, "1", H6:H6) -> 0 | J7: =SUMIF(Q6:Q6, "1", J6:J6) -> 0 | K7: =E7+G7+I7 -> 0 | L7: =F7+H7+J7 -> 0
A8: [경 비] | D8: 0 | E8: 0 | F8: =ROUNDDOWN(D8*E8, 1) -> 0 | G8: 0 | H8: =ROUNDDOWN(D8*G8, 1) -> 0 | I8: 0 | J8: =ROUNDDOWN(D8*I8, 1) -> 0 | K8: =E8+G8+I8 -> 0 | L8: =F8+H8+J8 -> 0
A9: 고소작업차 | B9: 5 ton | C9: 대 | D9: 0.0002598 | E9: 0 | F9: =ROUNDDOWN(D9*E9, 1) -> 0 | G9: 0 | H9: =ROUNDDOWN(D9*G9, 1) -> 0 | I9: =ROUNDDOWN(단가대비표!O36, 2) -> 140857000 | J9: =ROUNDDOWN(D9*I9, 1) -> 36594.6 | K9: =E9+G9+I9 -> 140857000 | L9: =F9+H9+J9 -> 36594.6 | M9: 공통8-5-3(2106) | O9: 03 | P9: 기계경비 | Q9: 1
A10: [재료비] | D10: 0 | E10: 0 | F10: =ROUNDDOWN(D10*E10, 1) -> 0 | G10: 0 | H10: =ROUNDDOWN(D10*G10, 1) -> 0 | I10: 0 | J10: =ROUNDDOWN(D10*I10, 1) -> 0 | K10: =E10+G10+I10 -> 0 | L10: =F10+H10+J10 -> 0
A11: 경유 | B11: 경유, 저유황 | C11: L | D11: 5.1 | E11: =ROUNDDOWN(단가대비표!O5, 2) -> 1590 | F11: =ROUNDDOWN(D11*E11, 1) -> 8109 | G11: 0 | H11: =ROUNDDOWN(D11*G11, 1) -> 0 | I11: 0 | J11: =ROUNDDOWN(D11*I11, 1) -> 0 | K11: =E11+G11+I11 -> 1590 | L11: =F11+H11+J11 -> 8109 | O11: 01 | P11: 기계경비 | Q11: 1
A12: 잡품 | B12: ="주연료비의 " & N12*100 & "%" -> 주연료비의 20% | C12: 식 | D12: 1 | E12: =SUMIF(O6:O14, "01", F6:F14) -> 8109 | F12: =ROUNDDOWN((E12)*N12, 1) -> 1621.8 | G12: 0 | H12: 0 | I12: 0 | J12: 0 | K12: =E12+G12+I12 -> 8109 | L12: =F12+H12+J12 -> 1621.8 | M12: 재료비->재료비 | N12: 0.2 | P12: 기계경비 | Q12: 1 | R12: 20 | S12: A0100000000 | T12: 재료비
A13: [노무비] | D13: 0 | E13: 0 | F13: =ROUNDDOWN(D13*E13, 1) -> 0 | G13: 0 | H13: =ROUNDDOWN(D13*G13, 1) -> 0 | I13: 0 | J13: =ROUNDDOWN(D13*I13, 1) -> 0 | K13: =E13+G13+I13 -> 0 | L13: =F13+H13+J13 -> 0
A14: 화물차운전사 | B14: 일반공사 직종 | C14: 인 | D14: 0.043402771 | E14: 0 | F14: =ROUNDDOWN(D14*E14, 1) -> 0 | G14: =ROUNDDOWN(단가대비표!O35, 2) -> 240042 | H14: =ROUNDDOWN(D14*G14, 1) -> 10418.4 | I14: 0 | J14: =ROUNDDOWN(D14*I14, 1) -> 0 | K14: =E14+G14+I14 -> 240042 | L14: =F14+H14+J14 -> 10418.4 | M14: 운전사(운반차) | O14: 02 | P14: 기계경비 | Q14: 1
A15: 합 계 | F15: =ROUNDDOWN(SUMIF(Q6:Q14, "1", F6:F14), 0) -> 9730 | H15: =ROUNDDOWN(SUMIF(Q6:Q14, "1", H6:H14), 0) -> 10418 | J15: =ROUNDDOWN(SUMIF(Q6:Q14, "1", J6:J14), 0) -> 36594 | L15: =F15+H15+J15 -> 56742

Sheet 단가대비표
A1: 단 가 대 비 표
A2: 공사명 : 공동실험실습관 외벽개선 환기배관 철거 및 설치 공사
A3: 품 명 | B3: 규 격 | C3: 단위 | D3: 물가자료 | F3: 물가정보 | H3: 가격정보 | I3: 거래가격 | K3: 유통물가 | M3: 상반기 | N3: 조사단가 | O3: 적용단가 | P3: 비 고
D4: 단가 | E4: Page | F4: 단가 | G4: Page | H4: 단가 | I4: 단가 | J4: Page | K4: 단가 | L4: Page | M4: 단가 | N4: 단가 | Q4: 구분
A5: 경유 | B5: 경유, 저유황 | C5: L | D5: 1663 | E5: 하권32 | H5: 1590 | I5: 1708 | J5: 1451 | K5: 1680 | L5: 1189 | O5: =H5 -> 1590
A6: 공조용플렉시블덕트 | B6: 공조덕트, 플렉시블덕트호스, AL비보온, Φ125mm | C6: m | F6: 4000 | G6: 975(2603) | H6: 3400 | I6: 4000 | J6: 984 | O6: =H6 -> 3400
A7: 공조용플렉시블덕트 | B7: 공조덕트, 플렉시블덕트호스, AL비보온, Φ175mm | C7: m | F7: 5600 | G7: 975(2603) | H7: 4760 | I7: 5600 | J7: 984 | O7: =H7 -> 4760
A8: 공조용플렉시블덕트 | B8: 공조덕트, 플렉시블덕트호스, AL비보온, Φ200mm | C8: m | F8: 6400 | G8: 975(2603) | H8: 5440 | I8: 6400 | J8: 984 | O8: =H8 -> 5440
A9: 공조용플렉시블덕트 | B9: 공조덕트, 플렉시블덕트호스, AL비보온, Φ250mm | C9: m | F9: 8000 | G9: 975(2603) | H9: 6800 | I9: 8000 | J9: 984 | O9: =H9 -> 6800
A10: 육각너트 | B10: 육각너트, M10 | C10: 개 | D10: 36.5 | E10: 51 | I10: 26.1 | J10: 96 | K10: 25.2 | L10: 56 | O10: =K10 -> 25.2 | P10: 철
A11: 일반용경질폴리염화비닐관 | B11: 일반용경질폴리염화비닐관, Φ125mm, VG1 | C11: m | D11: 19710 | E11: 754 | F11: 22645 | G11: 720 | I11: 22430 | J11: 793 | K11: 25950 | L11: 554 | O11: =D11 -> 19710 | P11: VN SDR 17
A12: 일반용경질폴리염화비닐관 | B12: 일반용경질폴리염화비닐관, Φ150mm, VG1 | C12: m | D12: 27347 | E12: 754 | F12: 31417 | G12: 720 | I12: 31117 | J12: 793 | K12: 38950 | L12: 554 | O12: =D12 -> 27347 | P12: VN SDR 17
A13: 일반용경질폴리염화비닐관 | B13: 일반용경질폴리염화비닐관, Φ250mm, VG1 | C13: m | D13: 78135 | E13: 754 | F13: 89772 | G13: 720 | I13: 88912 | J13: 793 | K13: 106900 | L13: 554 | O13: =D13 -> 78135 | P13: VN SDR 17
A14: 일반용경질폴리염화비닐관 | B14: 일반용경질폴리염화비닐관, Φ300mm, VG1 | C14: m | D14: 110725 | E14: 754 | F14: 127220 | G14: 720 | I14: 126002 | J14: 793 | O14: =D14 -> 110725 | P14: VN SDR 17
A15: 조립식배관가대 | B15: 조립식찬넬(분체도장), SCP-3840 | C15: m | D15: 5950 | E15: 111 | O15: =D15 -> 5950
A16: 조립식배관가대 지지금구 | B16: 제진클램프, 강, STS, D250 | C16: 개 | D16: 18670 | E16: 111 | O16: =D16 -> 18670
A17: 초산비닐계접착제 | B17: 초산비닐계접착제, 스치로폴, 암면 | C17: kg | F17: 2400 | G17: 60 | H17: 2842 | K17: 2400 | L17: 64 | O17: =MIN(D17,F17,H17,I17,K17,N17) -> 2400
A18: 페놀폼단열재(PF보드) | B18: 50mm | C18: M2 | D18: 14500 | E18: 658 | I18: 14500 | J18: 702 | K18: 16000 | L18: 397 | O18: =I18 -> 14500 | P18: 준불연(1면)내화성능
A19: 페놀폼단열재(PF보드) | B19: 친환경, THK 100mm, 1000×2000 | C19: M2 | I19: 32000 | J19: 701 | K19: 32000 | L19: 399 | O19: =MIN(D19,F19,H19,I19,K19,N19) -> 32000 | P19: 준불연, 1200×2000
A20: 평와셔 | B20: 평와셔, 호칭경10mm | C20: 개 | D20: 18.16 | E20: 48 | F20: 13.5 | G20: 43 | I20: 14 | J20: 93 | K20: 13.6 | L20: 56 | O20: =F20 -> 13.5 | P20: 스틸
A21: 후드캡 | B21: 방풍형 D120 | C21: EA | F21: 15000 | G21: 968(2604) | O21: =F21 -> 15000
A22: 후드캡 | B22: 방풍형 D150 | C22: EA | F22: 15000 | G22: 968(2604) | O22: =F22 -> 15000
A23: 후드캡 | B23: 방풍형 D200 | C23: EA | F23: 25000 | G23: 968(2604) | O23: =F23 -> 25000
A24: 후드캡 | B24: 방풍형 D250 | C24: EA | F24: 30000 | G24: 968(2604) | O24: =F24 -> 30000
A25: 후드캡 | B25: STS, ND150 | C25: EA | F25: 18000 | G25: 968(2604) | O25: =F25 -> 18000
A26: 후드캡 | B26: STS, ND200 | C26: EA | F26: 35000 | G26: 968(2604) | O26: =F26 -> 35000
A27: 후드캡 | B27: STS, ND250 | C27: EA | F27: 50000 | G27: 968(2604) | O27: =F27 -> 50000
A28: U볼트 | B28: U볼트, 절연, Φ300mm | C28: 개 | F28: 5748 | G28: 44 | I28: 4720 | J28: 92 | K28: 5805 | L28: 50 | O28: =I28 -> 4720 | P28: 3/8"
A29: 내장공 | B29: 일반공사 직종 | C29: 인 | M29: 217517 | O29: 222738
A30: 덕트공 | B30: 일반공사 직종 | C30: 인 | D30: 208140 | M30: 202472 | O30: =D30 -> 208140 | P30: 2010년직종통합(함석공)
A31: 배관공 | B31: 일반공사 직종 | C31: 인 | D31: 249073 | M31: 247897 | O31: =D31 -> 249073
A32: 보통인부 | B32: 일반공사 직종 | C32: 인 | D32: 172698 | M32: 172068 | O32: =D32 -> 172698
A33: 착암공 | B33: 일반공사 직종 | C33: 인 | D33: 223246 | M33: 222306 | O33: =D33 -> 223246
A34: 코킹공 | B34: 기타 직종 | C34: 인 | D34: 212439 | M34: 209131 | O34: =D34 -> 212439
A35: 화물차운전사 | B35: 일반공사 직종 | C35: 인 | D35: 240042 | M35: 238936 | O35: =D35 -> 240042 | P35: 운전사(운반차)
A36: 고소작업차 | B36: 5 ton | C36: 대 | N36: 140857000 | O36: =N36 -> 140857000 | P36: 공통8-5-3(2106)
A37: 폐자재처리수수료 | B37: 혼합폐기물 | C37: 톤 | D37: 192887 | E37: 하권151 | F37: 192887 | G37: 부록412 | I37: 192887 | J37: 1585 | K37: 192887 | L37: 1433 | O37: =K37 -> 192887 | P37: 부가세별도

Sheet Sheet1
