Workbook
Name foo: ErrorHandler_1
Name jjjjjjj: ErrorHandler_1
Name www: BLCH
Name 날개벽: ErrorHandler_1
Name ㄷ: ErrorHandler_1
Name ㄷㄱㅈㄱ: BLCH
Name 대구: BLCH
Name 우수토실평균높이: BLCH
Name 장수양수장터파기토적: ErrorHandler_1
Name 정자야: ErrorHandler_1

Sheet 관급자재대_망월지구
A1: 망월지구 국가관리 방조제 개보수사업 관급자재
O2: (단위 : 원)
A3: 구분 | C3: 규격 | D3: 수량 | E3: 단위 | F3: 노무비 | H3: 재료비 | J3: 경비 | L3: 소계 | N3: 부가세 (10%) | O3: 합 계
F4: 단가 | G4: 금 액 | H4: 단가 | I4: 금 액 | J4: 단가 | K4: 금 액 | L4: 단가 | M4: 금 액
A5: 수문(문비) | C5: SLIDE GATE, B2.0m x H2.5m | D5: 2 | E5: set | F5: =기계내역서!G5 -> 3846049 | G5: =ROUND(D5*F5,0) -> 7692098 | H5: =기계내역서!I5 -> 5511004 | I5: =ROUND(H5*D5,0) -> 11022008 | J5: =기계내역서!K5 -> 170215 | K5: =ROUND(J5*D5,0) -> 340430 | L5: =+F5+H5+J5 -> 9527268 | M5: =+G5+I5+K5 -> 19054536 | N5: =ROUND(M5*10%,0) -> 1905454 | O5: =+M5+N5 -> 20959990
A6: 수문(문틀) | C6: SLIDE GATE, B2.0m x H2.5m | D6: 2 | E6: set | F6: =기계내역서!G6 -> 6659759 | G6: =ROUND(D6*F6,0) -> 13319518 | H6: =기계내역서!I6 -> 3042186 | I6: =ROUND(H6*D6,0) -> 6084372 | J6: =기계내역서!K6 -> 98924 | K6: =ROUND(J6*D6,0) -> 197848 | L6: =+F6+H6+J6 -> 9800869 | M6: =+G6+I6+K6 -> 19601738 | N6: =ROUND(M6*10%,0) -> 1960174 | O6: =+M6+N6 -> 21561912
A7: 계 | F7: =SUM(F5:F6) -> 10505808 | G7: =SUM(G5:G6) -> 21011616 | H7: =SUM(H5:H6) -> 8553190 | I7: =SUM(I5:I6) -> 17106380 | J7: =SUM(J5:J6) -> 269139 | K7: =SUM(K5:K6) -> 538278 | L7: =SUM(L5:L6) -> 19328137 | M7: =SUM(M5:M6) -> 38656274 | N7: =SUM(N5:N6) -> 3865628 | O7: =ROUNDDOWN(SUM(O5:O6),-3) -> 42521000

Sheet 기계내역서
A1: 공 사 비 명 세 서
D2: 일 금: | G2: 원 | N2: =관급자재대_망월지구!O7 -> 42521000
A3: 종 별 | B3: 재료 또는 | C3: 원수 | D3: 단위 | E3: 총 액 | G3: 노 무 비 | I3: 재 료 비 | K3: 경 비 | M3: 비 고
B4: 치 수 | E4: 단가 | F4: 금 액 | G4: 단 가 | H4: 금 액 | I4: 단 가 | J4: 금 액 | K4: 단 가 | L4: 금 액
A5: 1-1-1. 문 비 | B5: SLIDE GATE, B2.0mxH2.5m | C5: 2 | D5: set | F5: =H5+J5+L5 -> 19054536 | G5: =H17 -> 3846049 | H5: =INT($C5*G5) -> 7692098 | I5: =J17 -> 5511004 | J5: =INT($C5*I5) -> 11022008 | K5: =L17 -> 170215 | L5: =INT($C5*K5) -> 340430
A6: 1-1-2. 문 틀 | C6: 2 | D6: set | F6: =H6+J6+L6 -> 19601738 | G6: =H90 -> 6659759 | H6: =INT($C6*G6) -> 13319518 | I6: =J90 -> 3042186 | J6: =INT($C6*I6) -> 6084372 | K6: =L90 -> 98924 | L6: =INT($C6*K6) -> 197848
A7: 소 계 | F7: =SUM(H7,J7,L7) -> 38656274 | H7: =SUM(H5:H6) -> 21011616 | J7: =SUM(J5:J6) -> 17106380 | L7: =SUM(L5:L6) -> 538278
A10: 공 사 비 명 세 서
A11: =A5 -> 1-1-1. 문 비 | D11: 일 금: | F11: =F17 -> 9527268 | G11: 원
A12: 종 별 | B12: 재료 또는 | C12: 원수 | D12: 단위 | E12: 총 액 | G12: 노 무 비 | I12: 재 료 비 | K12: 경 비 | M12: 비 고
B13: 치 수 | E13: 단가 | F13: 금 액 | G13: 단 가 | H13: 금 액 | I13: 단 가 | J13: 금 액 | K13: 단 가 | L13: 금 액
A14: 1) 재료비 | C14: 1 | D14: set | F14: =H14+J14+L14 -> 5368160 | I14: =J55 -> 5368160 | J14: =INT($C14*I14) -> 5368160
A15: 2) 제작 가공비 | C15: 1 | D15: set | F15: =H15+J15+L15 -> 4104332 | G15: =H67 -> 3846049 | H15: =INT($C15*G15) -> 3846049 | I15: =J67 -> 142844 | J15: =INT($C15*I15) -> 142844 | K15: =L67 -> 115439 | L15: =INT($C15*K15) -> 115439
A16: 3) 운반비 | C16: 1 | D16: set | F16: =H16+J16+L16 -> 54776 | K16: =L80 -> 54776 | L16: =INT($C16*K16) -> 54776
A17: 계 | F17: =H17+J17+L17 -> 9527268 | H17: =SUM(H14:H16) -> 3846049 | J17: =SUM(J14:J16) -> 5511004 | L17: =SUM(L14:L16) -> 170215
A20: 공 사 비 명 세 서
A21: =A14 -> 1) 재료비 | D21: 일 금: | F21: =F55 -> 5368160 | G21: 원
A22: 종 별 | B22: 재료 또는 | C22: 원수 | D22: 단위 | E22: 총 액 | G22: 노 무 비 | I22: 재 료 비 | K22: 경 비 | M22: 비 고
B23: 치 수 | E23: 단가 | F23: 금 액 | G23: 단 가 | H23: 금 액 | I23: 단 가 | J23: 금 액 | K23: 단 가 | L23: 금 액
A24: =[5]수량!B48 -> Skin Plate | B24: =[5]수량!C48&", "&[5]수량!D48 -> STS304, PL 8t | C24: =[5]수량!Q48 -> 354.9 | D24: kg | F24: =H24+J24+L24 -> 1428117 | I24: =[5]표준단가!$J$26 -> 4024 | J24: =INT($C24*I24) -> 1428117
A25: =[5]수량!B49 -> Upper Beam | B25: =[5]수량!C49&", "&[5]수량!D49 -> STS304, ㄱ-225x80x10 | C25: =[5]수량!Q49 -> 52.24 | D25: kg | F25: =H25+J25+L25 -> 242602 | I25: =[5]표준단가!$J$28 -> 4644 | J25: =INT($C25*I25) -> 242602
A26: =[5]수량!B50 -> -.Base Plate | B26: =[5]수량!C50&", "&[5]수량!D50 -> STS304, PL 10t | C26: =[5]수량!Q50 -> 5.89 | D26: kg | F26: =H26+J26+L26 -> 27353 | I26: =[5]표준단가!$J$28 -> 4644 | J26: =INT($C26*I26) -> 27353
A27: =[5]수량!B51 -> Horizontal Beam | B27: =[5]수량!C51&", "&[5]수량!D51 -> STS304, [-200x80x10 | C27: =[5]수량!Q51 -> 183.27 | D27: kg | F27: =H27+J27+L27 -> 851105 | I27: =[5]표준단가!$J$28 -> 4644 | J27: =INT($C27*I27) -> 851105
A28: =[5]수량!B52 -> Lower Beam | B28: =[5]수량!C52&", "&[5]수량!D52 -> STS304, [-200x140(80)x10 | C28: =[5]수량!Q52 -> 71.27 | D28: kg | F28: =H28+J28+L28 -> 330977 | I28: =[5]표준단가!$J$28 -> 4644 | J28: =INT($C28*I28) -> 330977
A29: =[5]수량!B53 -> Vertical Beam | B29: =[5]수량!C53&", "&[5]수량!D53 -> STS304, PL 10t | C29: =[5]수량!Q53 -> 35.68 | D29: kg | F29: =H29+J29+L29 -> 165697 | I29: =[5]표준단가!$J$28 -> 4644 | J29: =INT($C29*I29) -> 165697
B30: =[5]수량!C54&", "&[5]수량!D54 -> STS304, PL 10t | C30: =[5]수량!Q54 -> 30.45 | D30: kg | F30: =H30+J30+L30 -> 141409 | I30: =[5]표준단가!$J$28 -> 4644 | J30: =INT($C30*I30) -> 141409
B31: =[5]수량!C55&", "&[5]수량!D55 -> STS304, PL 10t | C31: =[5]수량!Q55 -> 25.69 | D31: kg | F31: =H31+J31+L31 -> 119304 | I31: =[5]표준단가!$J$28 -> 4644 | J31: =INT($C31*I31) -> 119304
B32: =[5]수량!C56&", "&[5]수량!D56 -> STS304, PL 10t | C32: =[5]수량!Q56 -> 23.31 | D32: kg | F32: =H32+J32+L32 -> 108251 | I32: =[5]표준단가!$J$28 -> 4644 | J32: =INT($C32*I32) -> 108251
B33: =[5]수량!C57&", "&[5]수량!D57 -> STS304, PL 10t | C33: =[5]수량!Q57 -> 5.56 | D33: kg | F33: =H33+J33+L33 -> 25820 | I33: =[5]표준단가!$J$28 -> 4644 | J33: =INT($C33*I33) -> 25820
A34: =[5]수량!B58 -> End Beam | B34: =[5]수량!C58&", "&[5]수량!D58 -> STS304, ㄱ-225x80x10 | C34: =[5]수량!Q58 -> 125.28 | D34: kg | F34: =H34+J34+L34 -> 581800 | I34: =[5]표준단가!$J$28 -> 4644 | J34: =INT($C34*I34) -> 581800
A35: =[5]수량!B59 -> -.Rib Plate | B35: =[5]수량!C59&", "&[5]수량!D59 -> STS304, PL 10t | C35: =[5]수량!Q59 -> 3.99 | D35: kg | F35: =H35+J35+L35 -> 18529 | I35: =[5]표준단가!$J$28 -> 4644 | J35: =INT($C35*I35) -> 18529
A36: =[5]수량!B60 -> Stop Bar | B36: =[5]수량!C60&", "&[5]수량!D60 -> STS304, PL 20t | C36: =[5]수량!Q60 -> 6.02 | D36: kg | F36: =H36+J36+L36 -> 27956 | I36: =[5]표준단가!$J$30 -> 4644 | J36: =INT($C36*I36) -> 27956
A37: =[5]수량!B61 -> Side Metal | B37: =[5]수량!C61&", "&[5]수량!D61 -> STS304, PL 35t | C37: =[5]수량!Q61 -> 5.55 | D37: kg | F37: =H37+J37+L37 -> 25774 | I37: =[5]표준단가!$J$30 -> 4644 | J37: =INT($C37*I37) -> 25774
A38: =[5]수량!B62 -> Wedge | B38: =[5]수량!C62&", "&[5]수량!D62 -> STS304, PL 19t | C38: =[5]수량!Q62 -> 1.2 | D38: kg | F38: =H38+J38+L38 -> 5572 | I38: =[5]표준단가!$J$30 -> 4644 | J38: =INT($C38*I38) -> 5572
B39: =[5]수량!C63&", "&[5]수량!D63 -> STS304, PL 34t | C39: =[5]수량!Q63 -> 2.15 | D39: kg | F39: =H39+J39+L39 -> 9984 | I39: =[5]표준단가!$J$30 -> 4644 | J39: =INT($C39*I39) -> 9984
A40: =[5]수량!B64 -> Rubber Seal
A41: =[5]수량!B65 -> -.Upper Rubber | B41: =[5]수량!C65&", "&[5]수량!D65 -> Neoprene, 15t(Φ50)x115B | C41: =[5]수량!Q65 -> 11.33 | D41: kg | F41: =H41+J41+L41 -> 237930 | I41: =[5]표준단가!$J$140 -> 21000 | J41: =INT($C41*I41) -> 237930
A42: =[5]수량!B66 -> -.Side Rubber | B42: =[5]수량!C66&", "&[5]수량!D66 -> Neoprene, 15t(Φ50)x115B | C42: =[5]수량!Q66 -> 27.61 | D42: kg | F42: =H42+J42+L42 -> 579810 | I42: =[5]표준단가!$J$140 -> 21000 | J42: =INT($C42*I42) -> 579810
A43: =[5]수량!B68 -> -.Bottom Rubber | B43: =[5]수량!C68&", "&[5]수량!D68 -> Neoprene, 15tx60B | C43: =[5]수량!Q68 -> 2.41 | D43: kg | F43: =H43+J43+L43 -> 50610 | I43: =[5]표준단가!$J$140 -> 21000 | J43: =INT($C43*I43) -> 50610
A44: =[5]수량!B69 -> -.Clamp Plate | B44: =[5]수량!C69&", "&[5]수량!D69 -> STS304, PL 6t | C44: =[5]수량!Q69 -> 5.42 | D44: kg | F44: =H44+J44+L44 -> 21810 | I44: =[5]표준단가!$J$26 -> 4024 | J44: =INT($C44*I44) -> 21810
...
