Workbook
Name _: #REF!
Name _.: #REF!
Name __: #REF!
Name ___: #REF!
Name ____: #REF!
Name _____: #REF!
Name ______: #REF!
Name _______: #REF!
Name __________: #REF!
Name _____________0: #REF!
Name _____________11: #REF!
Name _____________12: #REF!
Name __________0: #REF!
Name __________11: #REF!
Name __________12: #REF!
Name _________0: #REF!
Name _________10: #REF!
Name _________11: #REF!
Name _________12: #REF!
Name ________0: #REF!
Name ________10: #REF!
Name ________11: #REF!
Name ________12: #REF!
Name _______0: #REF!
Name ______0: #REF!
Name ______11: #REF!
Name ______12: #REF!
Name ______JJ21: #REF!
Name ______JK21: #REF!
Name ______JN21: #REF!
Name _____0: #REF!
Name _____10: #REF!
Name _____11: #REF!
Name _____12: #REF!
Name _____JJ21: [1]중기일위대가!$J$25
Name _____JK21: [1]중기일위대가!$K$25
Name _____JN21: [1]중기일위대가!$I$25
Name ____0: #REF!
Name ____1: #REF!
Name ____10: #REF!
Name ____11: #REF!
Name ____12: #REF!
Name ____2: #REF!
Name ____3: #REF!
Name ____4: #REF!
Name ____5: #REF!
Name ____7: #REF!
Name ____8: #REF!
Name ____9: #REF!
Name ____JJ21: [1]중기일위대가!$J$25
Name ____JK21: [1]중기일위대가!$K$25
Name ____JN21: [1]중기일위대가!$I$25
Name ___a1: #REF!
Name ___JJ21: [1]중기일위대가!$J$25
Name ___JK21: [1]중기일위대가!$K$25
Name ___JN21: [1]중기일위대가!$I$25
Name ___LP1: #REF!
Name ___LP2: #REF!
Name __10: #REF!
Name __11: #REF!

Sheet 원가
B1: 시트명 | M1: 공종별집계표
B2: 행
AN3: 1개월이상
B4: 공사명 : 보령가축분뇨 탈수케익 호퍼 설치공사 (전기) | R4: 금액: | T4: =NUMBERSTRING(AG4,1) -> #VALUE! | AC4: 원 정 | AE4: ( | AF4: W | AG4: =M39 -> #VALUE! | AL4: )
A5: 열 | B5: 비목 | D5: 구분 | M5: 금액 | N5: 구성비 | X5: 비고
A6: F | B6: 순공사비원가 | D6: 재료비 | F6: 직접재료비 | M6: =총괄표!I29 -> #VALUE! | AN6: 순공사비 | AO6: =M9+M10+M13 -> #VALUE!
F7: 간접재료비 | AN7: 관급총액 | AO7: =M37+M38 -> 13232000
F8: 작업부산물 | AN8: 한전비 | AO8: =M36 -> 0
F9: 소계 | M9: =SUM(M6:M8) -> #VALUE!
A10: H | D10: 노무비 | F10: 직접노무비(가) | M10: =총괄표!L29 -> 0
F11: 간접노무비(나) | M11: =INT(M10*R11) -> 0 | N11: 직접노무비의 | R11: 0.191 | X11: 순공사비 50억미만 기준(공사기간 6개월이하)
F12: 소계 | M12: =SUM(M10:M11) -> 0
A13: J | D13: 경비 | F13: 기계경비 | M13: =총괄표!N29 -> 0 | AN13: 퇴직공제비 | AO13: =IF(M35+M38>=100000000, "☜ 적용(2.3%)","☜ 삭제") -> #VALUE!
F14: 고용보험료 | M14: =INT(M12*Q14) -> 0 | N14: 노무비의 | Q14: 0.0101
F15: 산재보험료 | M15: =INT(M12*Q15) -> 0 | N15: 노무비의 | Q15: 0.0356 | AN15: 안전관리비 | AO15: =IF(M35+M38-M16<20000000,"☜ 삭제",IF(M9+M10+M38<=499999999,"☜ 적용(3.15%)",IF(M9+M10+M38<=4999999999,"☜ 교체(2.53%+3,300천원)",IF(M9+M10+M38>=5000000000,"☜ 교체(2.60%)")))) -> #VALUE!
F16: 산업안전보건관리비 | M16: =INT(MIN(AO17,AO18)) -> #VALUE! | N16: =IF(M35+M38>=20000000,IF(AO17>AO18,AO20,AO19),"") -> #VALUE! | X16: 도급액+도급자관급 2천만원이상 | AO16: 5억미만 | AP16: 5억이상 50억미만
F17: 건강보험료 | M17: =INT(M10*R17) -> 0 | N17: 직접노무비의 | R17: 0.03595 | AN17: a. | AO17: =INT((($M$9+$M$10)+($M$38/1.1))*2.07%) -> #VALUE! | AP17: =INT((($M$9+$M$10)+($M$38/1.1))*2.53%)+3300000 -> #VALUE!
F18: 연금보험료 | M18: =INT(M10*R18) -> 0 | N18: 직접노무비의 | R18: 0.0475 | AN18: b. | AO18: =INT((($M$9+$M$10)*2.07%)*1.2) -> #VALUE! | AP18: =INT((($M$9+$M$10)*2.53%)+3300000)*1.2 -> #VALUE!
F19: 노인장기요양보험료 | M19: =INT(M17*R19) -> 0 | N19: 건강보험료의 | R19: 0.1314 | AO19: (재+직노+도급자관급)의2.07% | AP19: (재+직노+도급자관급)의2.53%+3,300천원
F20: 기타경비 | M20: =INT((M9+M12)*Q20) -> #VALUE! | N20: (재+노)의 | Q20: 0.055 | X20: 순공사비 50억미만 기준(공사기간 6개월이하) | AO20: (재+직노)의 2.07% *1.2 | AP20: ((재+직노)의 2.53%+3,300천원)*1.2
F21: 퇴직공제부금비 | M21: =INT(M10*2.3%)*0 -> 0 | N21: =IF(M35+M38>=100000000, " 직접노무비의 2.3%","") -> #VALUE! | X21: 도급액+도급자관급 1억원이상
F22: 공사이행보증수수료
F23: 환경보전비
F24: 지급수수료
F25: 임금채권부담금 | M25: =INT(M12*Q25) -> 0 | N25: 노무비의 | Q25: 0.0009 | X25: 2026.03.13 조달청고시적용/모든공사
F26: 석면분담금 | M26: =INT(M12*Q26) -> 0 | N26: 노무비의 | Q26: 6e-05 | X26: 2026.03.13 조달청고시적용/모든공사
F27: 소계 | M27: =SUM(M13:M26) -> #VALUE!
D28: 계 | M28: =M9+M12+M27 -> #VALUE!
B29: 일반관리비 | M29: =INT(M28*P29) -> #VALUE! | N29: 계의 | P29: 0.08 | X29: 5억미만 8% / 5~30억미만 6.5% / 30~100억미만 5% (공급가액 기준)
B30: 이윤 | M30: =INT((M12+M27+M29)*S30) -> #VALUE! | N30: (노+경비+일.관)의 | S30: 0.15 | X30: 50억미만 15% / 50~300억미만 12% (공급가액 기준)
B31: 사급자재비
B32: 총공사원가 | M32: =SUM(M28:M31) -> #VALUE!
B33: 손해배상공제료 | M33: =ROUNDDOWN((M32)*0.26477%,-2) -> #VALUE! | N33: (총공사원가)*0.26477% (100원미만절사) / 최저공제료 : 20,000원
B34: 부가가치세 | M34: =INT((M32+M33)*V34) -> #VALUE! | N34: (총공사원가+손해배상공제료)의 | V34: 0.1
B35: 도급액 | M35: =ROUNDDOWN(SUM(M32+M33+M34),-3) -> #VALUE! | N35: 총공사원가+손해배상공제료+부가가치세 | X35: 천단위절사
B36: 한전인입비/사용전검사비 | M36: =AN36 -> 0 | X36: 천단위절상 | AO36: ☜ 한전비 입력
B37: 관급자설치 관급자재 | M37: =AN37 -> 0 | X37: 천단위절상 | AO37: ☜ 관급자관급 입력
B38: 도급자설치 관급자재 | M38: =AN38 -> 13232000 | X38: 천단위절상 | AN38: =관급자재!K8 -> 13232000 | AO38: ☜ 도급자관급 입력
B39: 총공사비 | M39: =SUM(M35:M38) -> #VALUE!

Sheet 총괄표
A1: 총줄수-> | B1: 29 | D1: [ 보령가축분뇨 탈수케익 호퍼 설치공사(전기) ] | AA1: 연속견적가로형식
A2: 번호 | B2: 공종코드 | C2: … | D2: 공 종 명 | E2: 규격 | F2: 단위 | G2: 수량 | H2: 재료비 | J2: 노무비 | M2: 경비 | P2: 계 | Q2: 비고
H3: 단가 | I3: 금액 | J3: 수량 | K3: 단가 | L3: 금액 | M3: 단가 | N3: 금액 | O3: 단가
B4: 01 | D4: 1.전기공사 | F4: 식 | G4: 1 | H4: =내역서!I29 -> #VALUE! | I4: =G4*H4 -> #VALUE! | K4: =내역서!L29 -> 0 | L4: =G4*K4 -> 0 | M4: =내역서!N29 -> 0 | N4: =G4*M4 -> 0 | O4: =IF((H4+K4+M4)=0, "", (H4+K4+M4)) -> #VALUE! | P4: =SUM(I4,L4,N4) -> #VALUE!
C29: Total | D29: ( 합 계 ) | I29: =TRUNC(SUM(I4:I28)) -> #VALUE! | L29: =TRUNC(SUM(L4:L28)) -> 0 | N29: =TRUNC(SUM(N4:N28)) -> 0 | P29: =TRUNC(SUM(P4:P28)) -> #VALUE!

Sheet 내역서
A1: 총줄수-> | B1: 29 | D1: [ 보령가축분뇨 탈수케익 호퍼 설치공사(전기) ] | W1: 노임 계산 정보 | AA1: 부속재 및 손료
A2: 번호 | B2: 공종코드 | C2: 코드 | D2: 명 칭 | E2: 규 격 | F2: 단위 | G2: 수량 | H2: 재료비 | J2: 노무비 | M2: 경비 | P2: 계 | Q2: 비고 | W2: 노임계 | X2: 전체(%) | Y2: 공종별(%) | Z2: 노임 소수 | AA2: CD배관재 | AB2: 일반배관재 | AC2: 소모재 | AD2: 자재계 | AE2: 노임계
H3: 단가 | I3: 금액 | J3: 수량 | K3: 단가 | L3: 금액 | M3: 단가 | N3: 금액 | O3: 단가 | AD3: =IF(옵션!$C$11 =0, "1", 옵션!$C$11) -> 1000 | AE3: =IF(옵션!$C$12 =0, "1", 옵션!$C$12) -> 1000
B4: 공종줄 | D4: 1.전기공사
A5: 5975B817201 | B5: 01 | C5: E59751817201 | D5: 케이블트레이 | E5: STRAIGHT,St W150x100Hx2.3t | F5: M | G5: 34 | H5: =일대목차!I7 -> #VALUE! | I5: =TRUNC(G5*H5) -> #VALUE! | J5: 34 | K5: =일대목차!L7 -> 0 | L5: =TRUNC(G5*K5) -> 0 | M5: =일대목차!N7 -> 0 | N5: =TRUNC(G5*M5) -> 0 | O5: =IF((H5+K5+M5)=0, "", (H5+K5+M5)) -> #VALUE! | P5: =SUM(I5,L5,N5) -> #VALUE! | Q5: 제 4호 | AE5: =L5 -> 0
A6: 5975B817332 | B6: 01 | C6: E59751817332 | D6: 케이블트레이 | E6: COVER,St W150 | F6: M | G6: 34 | H6: =일대목차!I8 -> #VALUE! | I6: =TRUNC(G6*H6) -> #VALUE! | J6: 34 | K6: =일대목차!L8 -> 0 | L6: =TRUNC(G6*K6) -> 0 | M6: =일대목차!N8 -> 0 | N6: =TRUNC(G6*M6) -> 0 | O6: =IF((H6+K6+M6)=0, "", (H6+K6+M6)) -> #VALUE! | P6: =SUM(I6,L6,N6) -> #VALUE! | Q6: 제 5호 | AE6: =L6 -> 0
A7: 5975E967401 | B7: 01 | C7: E59754967401 | D7: 케이블트레이부속품 | E7: REDUCER, St, W150x100Hx2.3t | F7: 개 | G7: 1 | H7: =일대목차!I11 -> #VALUE! | I7: =TRUNC(G7*H7) -> #VALUE! | J7: 1 | K7: =일대목차!L11 -> 0 | L7: =TRUNC(G7*K7) -> 0 | M7: =일대목차!N11 -> 0 | N7: =TRUNC(G7*M7) -> 0 | O7: =IF((H7+K7+M7)=0, "", (H7+K7+M7)) -> #VALUE! | P7: =SUM(I7,L7,N7) -> #VALUE! | Q7: 제 8호 | AE7: =L7 -> 0
A8: 5975E967001 | B8: 01 | C8: E59754967001 | D8: 케이블트레이부속품 | E8: H. ELBOW, St,W150x100Hx2.3t | F8: 개 | G8: 3 | H8: =일대목차!I9 -> #VALUE! | I8: =TRUNC(G8*H8) -> #VALUE! | J8: 3 | K8: =일대목차!L9 -> 0 | L8: =TRUNC(G8*K8) -> 0 | M8: =일대목차!N9 -> 0 | N8: =TRUNC(G8*M8) -> 0 | O8: =IF((H8+K8+M8)=0, "", (H8+K8+M8)) -> #VALUE! | P8: =SUM(I8,L8,N8) -> #VALUE! | Q8: 제 6호 | AE8: =L8 -> 0
A9: 5975E967101 | B9: 01 | C9: E59754967101 | D9: 케이블트레이부속품 | E9: V. ELBOW, St,W150x100Hx2.3t | F9: 개 | G9: 1 | H9: =일대목차!I10 -> #VALUE! | I9: =TRUNC(G9*H9) -> #VALUE! | J9: 1 | K9: =일대목차!L10 -> 0 | L9: =TRUNC(G9*K9) -> 0 | M9: =일대목차!N10 -> 0 | N9: =TRUNC(G9*M9) -> 0 | O9: =IF((H9+K9+M9)=0, "", (H9+K9+M9)) -> #VALUE! | P9: =SUM(I9,L9,N9) -> #VALUE! | Q9: 제 7호 | AE9: =L9 -> 0
A10: 56950160150 | B10: 01 | C10: EAA110410000 | D10: 케이블트레이지지대 | E10: W150-1단 | F10: 식 | G10: 23 | H10: =일대목차!I20 -> #VALUE! | I10: =TRUNC(G10*H10) -> #VALUE! | J10: 23 | K10: =일대목차!L20 -> 0 | L10: =TRUNC(G10*K10) -> 0 | M10: =일대목차!N20 -> 0 | N10: =TRUNC(G10*M10) -> 0 | O10: =IF((H10+K10+M10)=0, "", (H10+K10+M10)) -> #VALUE! | P10: =SUM(I10,L10,N10) -> #VALUE! | Q10: 제 17호 | AE10: =L10 -> 0
A11: ERP41500002 | B11: 01 | C11: ERP415000002 | D11: 배관용구멍뚫기(코어드릴기준) | E11: Φ150x100 | F11: 개소 | G11: 3 | H11: =일대목차!I24 -> 0 | I11: =TRUNC(G11*H11) -> 0 | J11: 3 | K11: =일대목차!L24 -> 0 | L11: =TRUNC(G11*K11) -> 0 | M11: =일대목차!N24 -> 0 | N11: =TRUNC(G11*M11) -> 0 | O11: =IF((H11+K11+M11)=0, "", (H11+K11+M11)) | P11: =SUM(I11,L11,N11) -> 0 | Q11: 제 21호 | AE11: =L11 -> 0
A12: 56953100911 | B12: 01 | C12: EAB110250000 | D12: 벽관통 구멍(코어드릴) | E12: 54Φ | F12: 개소 | G12: 2 | H12: =일대목차!I22 -> 0 | I12: =TRUNC(G12*H12) -> 0 | J12: 2 | K12: =일대목차!L22 -> 0 | L12: =TRUNC(G12*K12) -> 0 | M12: =일대목차!N22 -> 0 | N12: =TRUNC(G12*M12) -> 0 | O12: =IF((H12+K12+M12)=0, "", (H12+K12+M12)) | P12: =SUM(I12,L12,N12) -> 0 | Q12: 제 19호 | AE12: =L12 -> 0
A13: 56953100910 | B13: 01 | C13: EAB110240000 | D13: 벽관통 구멍(코어드릴) | E13: 36Φ | F13: 개소 | G13: 2 | H13: =일대목차!I21 -> 0 | I13: =TRUNC(G13*H13) -> 0 | J13: 2 | K13: =일대목차!L21 -> 0 | L13: =TRUNC(G13*K13) -> 0 | M13: =일대목차!N21 -> 0 | N13: =TRUNC(G13*M13) -> 0 | O13: =IF((H13+K13+M13)=0, "", (H13+K13+M13)) | P13: =SUM(I13,L13,N13) -> 0 | Q13: 제 18호 | AE13: =L13 -> 0
A14: 5975B477029 | B14: 01 | C14: E59751477029 | D14: 전선덕트 | E14: 스텐 100x50 mm | F14: M | G14: 10 | H14: =일대목차!I12 -> #VALUE! | I14: =TRUNC(G14*H14) -> #VALUE! | J14: 10 | K14: =일대목차!L12 -> 0 | L14: =TRUNC(G14*K14) -> 0 | M14: =일대목차!N12 -> 0 | N14: =TRUNC(G14*M14) -> 0 | O14: =IF((H14+K14+M14)=0, "", (H14+K14+M14)) -> #VALUE! | P14: =SUM(I14,L14,N14) -> #VALUE! | Q14: 제 9호 | AE14: =L14 -> 0
A15: 5975A337016 | B15: 01 | C15: EKA171000010S | D15: 강제전선관(노출) | E15: 아연도 54 mm | F15: M | G15: 4 | H15: =일대목차!I6 -> #VALUE! | I15: =TRUNC(G15*H15) -> #VALUE! | J15: 4 | K15: =일대목차!L6 -> 0 | L15: =TRUNC(G15*K15) -> 0 | M15: =일대목차!N6 -> 0 | N15: =TRUNC(G15*M15) -> 0 | O15: =IF((H15+K15+M15)=0, "", (H15+K15+M15)) -> #VALUE! | P15: =SUM(I15,L15,N15) -> #VALUE! | Q15: 제 3호 | AB15: =I15 -> #VALUE! | AC15: =G15*H15 -> #VALUE! | AE15: =L15 -> 0
A16: 5975A337014 | B16: 01 | C16: EKA151000010S | D16: 강제전선관(노출) | E16: 아연도 36 mm | F16: M | G16: 4 | H16: =일대목차!I5 -> #VALUE! | I16: =TRUNC(G16*H16) -> #VALUE! | J16: 4 | K16: =일대목차!L5 -> 0 | L16: =TRUNC(G16*K16) -> 0 | M16: =일대목차!N5 -> 0 | N16: =TRUNC(G16*M16) -> 0 | O16: =IF((H16+K16+M16)=0, "", (H16+K16+M16)) -> #VALUE! | P16: =SUM(I16,L16,N16) -> #VALUE! | Q16: 제 2호 | AB16: =I16 -> #VALUE! | AC16: =G16*H16 -> #VALUE! | AE16: =L16 -> 0
A17: 5975A337012 | B17: 01 | C17: EKA131000010S | D17: 강제전선관(노출) | E17: 아연도 22 mm | F17: M | G17: 4 | H17: =일대목차!I4 -> #VALUE! | I17: =TRUNC(G17*H17) -> #VALUE! | J17: 4 | K17: =일대목차!L4 -> 0 | L17: =TRUNC(G17*K17) -> 0 | M17: =일대목차!N4 -> 0 | N17: =TRUNC(G17*M17) -> 0 | O17: =IF((H17+K17+M17)=0, "", (H17+K17+M17)) -> #VALUE! | P17: =SUM(I17,L17,N17) -> #VALUE! | Q17: 제 1호 | AB17: =I17 -> #VALUE! | AC17: =G17*H17 -> #VALUE! | AE17: =L17 -> 0
A18: E145A287564 | B18: 01 | C18: ELD651000040S | D18: 폴리에틸렌 난연케이블 | E18: 0.6/1kv F-CV 4C×10㎟ | F18: M | G18: 109 | H18: =일대목차!I15 -> #VALUE! | I18: =TRUNC(G18*H18) -> #VALUE! | J18: 109 | K18: =일대목차!L15 -> 0 | L18: =TRUNC(G18*K18) -> 0 | M18: =일대목차!N15 -> 0 | N18: =TRUNC(G18*M18) -> 0 | O18: =IF((H18+K18+M18)=0, "", (H18+K18+M18)) -> #VALUE! | P18: =SUM(I18,L18,N18) -> #VALUE! | Q18: 제 12호 | AC18: =G18*H18 -> #VALUE! | AE18: =L18 -> 0
A19: E145A287538 | B19: 01 | C19: ELD621000030S | D19: 폴리에틸렌 난연케이블 | E19: 0.6/1kv F-CV 3C×2.5㎟ | F19: M | G19: 76 | H19: =일대목차!I14 -> #VALUE! | I19: =TRUNC(G19*H19) -> #VALUE! | J19: 76 | K19: =일대목차!L14 -> 0 | L19: =TRUNC(G19*K19) -> 0 | M19: =일대목차!N14 -> 0 | N19: =TRUNC(G19*M19) -> 0 | O19: =IF((H19+K19+M19)=0, "", (H19+K19+M19)) -> #VALUE! | P19: =SUM(I19,L19,N19) -> #VALUE! | Q19: 제 11호 | AC19: =G19*H19 -> #VALUE! | AE19: =L19 -> 0
A20: E145A358401 | B20: 01 | C20: ELKB21000010S | D20: 난연제어케이블 | E20: F-CVV-S, 2Cx1.5㎟ | F20: M | G20: 118 | H20: =일대목차!I18 -> #VALUE! | I20: =TRUNC(G20*H20) -> #VALUE! | J20: 118 | K20: =일대목차!L18 -> 0 | L20: =TRUNC(G20*K20) -> 0 | M20: =일대목차!N18 -> 0 | N20: =TRUNC(G20*M20) -> 0 | O20: =IF((H20+K20+M20)=0, "", (H20+K20+M20)) -> #VALUE! | P20: =SUM(I20,L20,N20) -> #VALUE! | Q20: 제 15호 | AC20: =G20*H20 -> #VALUE! | AE20: =L20 -> 0
A21: E145A358086 | B21: 01 | C21: ELKA24000010S | D21: 난연제어케이블 | E21: F-CVV 5Cx1.5㎟ | F21: M | G21: 118 | H21: =일대목차!I16 -> #VALUE! | I21: =TRUNC(G21*H21) -> #VALUE! | J21: 118 | K21: =일대목차!L16 -> 0 | L21: =TRUNC(G21*K21) -> 0 | M21: =일대목차!N16 -> 0 | N21: =TRUNC(G21*M21) -> 0 | O21: =IF((H21+K21+M21)=0, "", (H21+K21+M21)) -> #VALUE! | P21: =SUM(I21,L21,N21) -> #VALUE! | Q21: 제 13호 | AC21: =G21*H21 -> #VALUE! | AE21: =L21 -> 0
A22: E145A358130 | B22: 01 | C22: ELKA28000010S | D22: 난연제어케이블 | E22: F-CVV 10Cx1.5㎟ | F22: M | G22: 118 | H22: =일대목차!I17 -> #VALUE! | I22: =TRUNC(G22*H22) -> #VALUE! | J22: 118 | K22: =일대목차!L17 -> 0 | L22: =TRUNC(G22*K22) -> 0 | M22: =일대목차!N17 -> 0 | N22: =TRUNC(G22*M22) -> 0 | O22: =IF((H22+K22+M22)=0, "", (H22+K22+M22)) -> #VALUE! | P22: =SUM(I22,L22,N22) -> #VALUE! | Q22: 제 14호 | AC22: =G22*H22 -> #VALUE! | AE22: =L22 -> 0
A23: E145A927204 | B23: 01 | C23: EOC345000040S | D23: 접지용비닐절연전선(F-GV) | E23: 10㎟ | F23: M | G23: 59 | H23: =일대목차!I13 -> #VALUE! | I23: =TRUNC(G23*H23) -> #VALUE! | J23: 59 | K23: =일대목차!L13 -> 0 | L23: =TRUNC(G23*K23) -> 0 | M23: =일대목차!N13 -> 0 | N23: =TRUNC(G23*M23) -> 0 | O23: =IF((H23+K23+M23)=0, "", (H23+K23+M23)) -> #VALUE! | P23: =SUM(I23,L23,N23) -> #VALUE! | Q23: 제 10호 | AC23: =G23*H23 -> #VALUE! | AE23: =L23 -> 0
A24: EKK24302002 | B24: 01 | C24: EKK243020002 | D24: 아웃렛박스-ST | E24: 중형4각 54mm 노출 | F24: 개 | G24: 2 | H24: =일대목차!I23 -> #VALUE! | I24: =TRUNC(G24*H24) -> #VALUE! | J24: 2 | K24: =일대목차!L23 -> 0 | L24: =TRUNC(G24*K24) -> 0 | M24: =일대목차!N23 -> 0 | N24: =TRUNC(G24*M24) -> 0 | O24: =IF((H24+K24+M24)=0, "", (H24+K24+M24)) -> #VALUE! | P24: =SUM(I24,L24,N24) -> #VALUE! | Q24: 제 20호 | AE24: =L24 -> 0
A25: 56959000001 | B25: 01 | C25: E56959000001 | D25: 조명기구 | E25: A-TYPE(LED 100W.투광등-벽부) | F25: 개 | G25: 2 | H25: =일대목차!I19 -> #VALUE! | I25: =TRUNC(G25*H25) -> #VALUE! | J25: 2 | K25: =일대목차!L19 -> 0 | L25: =TRUNC(G25*K25) -> 0 | M25: =일대목차!N19 -> 0 | N25: =TRUNC(G25*M25) -> 0 | O25: =IF((H25+K25+M25)=0, "", (H25+K25+M25)) -> #VALUE! | P25: =SUM(I25,L25,N25) -> #VALUE! | Q25: 제 16호 | AE25: =L25 -> 0
A26: MM631764001 | B26: 01 | C26: 4619160120097010 | D26: 전동기제어반 개량 | E26: (MCC 판넬개량 및 프로그램수정) | F26: 식 | G26: 1 | I26: =TRUNC(G26*H26) -> 0 | J26: 1 | L26: =TRUNC(G26*K26) -> 0 | M26: ='합산자재(출력X)'!J25 -> 0 | N26: =TRUNC(G26*M26) -> 0 | O26: =IF((H26+K26+M26)=0, "", (H26+K26+M26)) | P26: =SUM(I26,L26,N26) -> 0 | Q26: 도급자관급
AE27: =TRUNC(SUM(AE4:AE26)) -> 0
B29: 합계줄 | D29: ( 합 계 ) | I29: =TRUNC(SUM(I4:I28)) -> #VALUE! | L29: =TRUNC(SUM(L4:L28)) -> 0 | N29: =TRUNC(SUM(N4:N28)) -> 0 | P29: =TRUNC(SUM(P4:P28)) -> #VALUE!

Sheet 관급자재
A1: 관 급 자 재 내 역 서
A2: 품 명 | B2: 규 격 | C2: 단위 | D2: 수 량 | E2: 재 료 비 | G2: 노 무 비 | I2: 경 비 | K2: 총 계 | L2: 비 고
E3: 단가 | F3: 금액 | G3: 단가 | H3: 금액 | I3: 단가 | J3: 금액
A4: 관급자재
A5: =A26 -> 1. 도급자설치 관급자재 | F5: =SUM(F6:F6) -> 13232000 | K5: =SUM(K6:K6) -> 13232000
A6: =A27 -> 1-1. 전동기제어반 개량 | C6: 식 | D6: 1 | F6: =F32 -> 13232000 | K6: =SUM(F6+H6+J6) -> 13232000
A8: 총 계 | F8: =F5 -> 13232000 | K8: =K5 -> 13232000
A26: 1. 도급자설치 관급자재
A27: 1-1. 전동기제어반 개량
A28: 전동기제어반 개량 | B28: MCC 판넬개량 및 프로그램 수정 | C28: 식 | D28: 1 | E28: =단가조사!G25 -> 13232000 | F28: =D28*E28 -> 13232000 | K28: =SUM(F28+H28+J28) -> 13232000
A29: 소 계 | B29: 설치인건비 및 부가세포함 | C29: 식 | D29: 1 | F29: =SUM(F28:F28) -> 13232000 | H29: =SUM(H28:H28) -> 0 | K29: =SUM(F29+H29+J29) -> 13232000
A30: /
A31: 합 계 | F31: =INT(SUM(F29:F29)) -> 13232000 | H31: =SUM(H29:H29) -> 0 | K31: =INT(F31+H31+J31) -> 13232000
A32: 적 용 | B32: ="원단위절상:+"&K32-K31 -> 원단위절상:+0 | F32: =ROUNDUP(SUM(F31),-3) -> 13232000 | K32: =SUM(F32+H32+J32) -> 13232000

Sheet 일대목차
B1: 29 | C1: [ 보령가축분뇨 탈수케익 호퍼 설치공사(전기) ] - 일위대가목차
A2: 번호 | B2: … | C2: NO | D2: 명 칭 | E2: 규 격 | F2: 단위 | G2: 수량 | H2: 재료비 | J2: 노무비 | M2: 경비 | O2: 계 | P2: 계 | Q2: 비고
H3: 단가 | I3: 금액 | J3: 수량 | K3: 단가 | L3: 금액 | M3: 단가 | N3: 금액 | O3: 단가
A4: 5975A337012 | B4: EKA131000010S | C4: 제 1호 | D4: 강제전선관(노출) | E4: 아연도 22 mm | F4: M | H4: =일위대가!I11 -> #VALUE! | I4: =H4 -> #VALUE! | K4: =일위대가!L11 -> 0 | L4: =K4 -> 0 | M4: =일위대가!N11 -> 0 | N4: =M4 -> 0 | O4: =IF((H4+K4+M4)=0, "", (H4+K4+M4)) -> #VALUE! | P4: =SUM(I4,L4,N4) -> #VALUE!
A5: 5975A337014 | B5: EKA151000010S | C5: 제 2호 | D5: 강제전선관(노출) | E5: 아연도 36 mm | F5: M | H5: =일위대가!I20 -> #VALUE! | I5: =H5 -> #VALUE! | K5: =일위대가!L20 -> 0 | L5: =K5 -> 0 | M5: =일위대가!N20 -> 0 | N5: =M5 -> 0 | O5: =IF((H5+K5+M5)=0, "", (H5+K5+M5)) -> #VALUE! | P5: =SUM(I5,L5,N5) -> #VALUE!
A6: 5975A337016 | B6: EKA171000010S | C6: 제 3호 | D6: 강제전선관(노출) | E6: 아연도 54 mm | F6: M | H6: =일위대가!I29 -> #VALUE! | I6: =H6 -> #VALUE! | K6: =일위대가!L29 -> 0 | L6: =K6 -> 0 | M6: =일위대가!N29 -> 0 | N6: =M6 -> 0 | O6: =IF((H6+K6+M6)=0, "", (H6+K6+M6)) -> #VALUE! | P6: =SUM(I6,L6,N6) -> #VALUE!
A7: 5975B817201 | B7: E59751817201 | C7: 제 4호 | D7: 케이블트레이 | E7: STRAIGHT,St W150x100Hx2.3t | F7: m | H7: =일위대가!I35 -> #VALUE! | I7: =H7 -> #VALUE! | K7: =일위대가!L35 -> 0 | L7: =K7 -> 0 | M7: =일위대가!N35 -> 0 | N7: =M7 -> 0 | O7: =IF((H7+K7+M7)=0, "", (H7+K7+M7)) -> #VALUE! | P7: =SUM(I7,L7,N7) -> #VALUE!
A8: 5975B817332 | B8: E59751817332 | C8: 제 5호 | D8: 케이블트레이 | E8: COVER,St W150 | F8: m | H8: =일위대가!I41 -> #VALUE! | I8: =H8 -> #VALUE! | K8: =일위대가!L41 -> 0 | L8: =K8 -> 0 | M8: =일위대가!N41 -> 0 | N8: =M8 -> 0 | O8: =IF((H8+K8+M8)=0, "", (H8+K8+M8)) -> #VALUE! | P8: =SUM(I8,L8,N8) -> #VALUE!
A9: 5975E967001 | B9: E59754967001 | C9: 제 6호 | D9: 케이블트레이부속품 | E9: H.ELBOW, St,W150x100Hx2.3t | F9: 개 | H9: =일위대가!I47 -> #VALUE! | I9: =H9 -> #VALUE! | K9: =일위대가!L47 -> 0 | L9: =K9 -> 0 | M9: =일위대가!N47 -> 0 | N9: =M9 -> 0 | O9: =IF((H9+K9+M9)=0, "", (H9+K9+M9)) -> #VALUE! | P9: =SUM(I9,L9,N9) -> #VALUE!
A10: 5975E967101 | B10: E59754967101 | C10: 제 7호 | D10: 케이블트레이부속품 | E10: V.ELBOW, St,W150x100Hx2.3t | F10: 개 | H10: =일위대가!I53 -> #VALUE! | I10: =H10 -> #VALUE! | K10: =일위대가!L53 -> 0 | L10: =K10 -> 0 | M10: =일위대가!N53 -> 0 | N10: =M10 -> 0 | O10: =IF((H10+K10+M10)=0, "", (H10+K10+M10)) -> #VALUE! | P10: =SUM(I10,L10,N10) -> #VALUE!
A11: 5975E967401 | B11: E59754967401 | C11: 제 8호 | D11: 케이블트레이부속품 | E11: REDUCER, St,W150x100Hx2.3t | F11: 개 | H11: =일위대가!I59 -> #VALUE! | I11: =H11 -> #VALUE! | K11: =일위대가!L59 -> 0 | L11: =K11 -> 0 | M11: =일위대가!N59 -> 0 | N11: =M11 -> 0 | O11: =IF((H11+K11+M11)=0, "", (H11+K11+M11)) -> #VALUE! | P11: =SUM(I11,L11,N11) -> #VALUE!
A12: 5975B477029 | B12: E59751477029 | C12: 제 9호 | D12: 전선덕트 | E12: 스텐 100x50 mm | F12: m | H12: =일위대가!I65 -> #VALUE! | I12: =H12 -> #VALUE! | K12: =일위대가!L65 -> 0 | L12: =K12 -> 0 | M12: =일위대가!N65 -> 0 | N12: =M12 -> 0 | O12: =IF((H12+K12+M12)=0, "", (H12+K12+M12)) -> #VALUE! | P12: =SUM(I12,L12,N12) -> #VALUE!
A13: E145A927204 | B13: EOC345000040S | C13: 제 10호 | D13: 접지용비닐절연전선(F-GV) | E13: 10㎟ | F13: M | H13: =일위대가!I73 -> #VALUE! | I13: =H13 -> #VALUE! | K13: =일위대가!L73 -> 0 | L13: =K13 -> 0 | M13: =일위대가!N73 -> 0 | N13: =M13 -> 0 | O13: =IF((H13+K13+M13)=0, "", (H13+K13+M13)) -> #VALUE! | P13: =SUM(I13,L13,N13) -> #VALUE!
A14: E145A287538 | B14: ELD621000030S | C14: 제 11호 | D14: 폴리에틸렌 난연케이블 | E14: 0.6/1kv F-CV 3C×2.5㎟ | F14: M | H14: =일위대가!I81 -> #VALUE! | I14: =H14 -> #VALUE! | K14: =일위대가!L81 -> 0 | L14: =K14 -> 0 | M14: =일위대가!N81 -> 0 | N14: =M14 -> 0 | O14: =IF((H14+K14+M14)=0, "", (H14+K14+M14)) -> #VALUE! | P14: =SUM(I14,L14,N14) -> #VALUE!
A15: E145A287564 | B15: ELD651000040S | C15: 제 12호 | D15: 폴리에틸렌 난연케이블 | E15: 0.6/1kv F-CV 4C×10㎟ | F15: M | H15: =일위대가!I89 -> #VALUE! | I15: =H15 -> #VALUE! | K15: =일위대가!L89 -> 0 | L15: =K15 -> 0 | M15: =일위대가!N89 -> 0 | N15: =M15 -> 0 | O15: =IF((H15+K15+M15)=0, "", (H15+K15+M15)) -> #VALUE! | P15: =SUM(I15,L15,N15) -> #VALUE!
A16: E145A358086 | B16: ELKA24000010S | C16: 제 13호 | D16: 난연제어케이블 | E16: F-CVV 5Cx1.5㎟ | F16: M | H16: =일위대가!I97 -> #VALUE! | I16: =H16 -> #VALUE! | K16: =일위대가!L97 -> 0 | L16: =K16 -> 0 | M16: =일위대가!N97 -> 0 | N16: =M16 -> 0 | O16: =IF((H16+K16+M16)=0, "", (H16+K16+M16)) -> #VALUE! | P16: =SUM(I16,L16,N16) -> #VALUE!
A17: E145A358130 | B17: ELKA28000010S | C17: 제 14호 | D17: 난연제어케이블 | E17: F-CVV 10Cx1.5㎟ | F17: M | H17: =일위대가!I105 -> #VALUE! | I17: =H17 -> #VALUE! | K17: =일위대가!L105 -> 0 | L17: =K17 -> 0 | M17: =일위대가!N105 -> 0 | N17: =M17 -> 0 | O17: =IF((H17+K17+M17)=0, "", (H17+K17+M17)) -> #VALUE! | P17: =SUM(I17,L17,N17) -> #VALUE!
A18: E145A358401 | B18: ELKB21000010S | C18: 제 15호 | D18: 난연제어케이블 | E18: F-CVV-S, 2Cx1.5㎟ | F18: M | H18: =일위대가!I113 -> #VALUE! | I18: =H18 -> #VALUE! | K18: =일위대가!L113 -> 0 | L18: =K18 -> 0 | M18: =일위대가!N113 -> 0 | N18: =M18 -> 0 | O18: =IF((H18+K18+M18)=0, "", (H18+K18+M18)) -> #VALUE! | P18: =SUM(I18,L18,N18) -> #VALUE!
A19: 56959000001 | B19: E56959000001 | C19: 제 16호 | D19: 조명기구 | E19: A-TYPE (LED 100W.투광등-벽부) | F19: 개 | H19: =일위대가!I119 -> #VALUE! | I19: =H19 -> #VALUE! | K19: =일위대가!L119 -> 0 | L19: =K19 -> 0 | M19: =일위대가!N119 -> 0 | N19: =M19 -> 0 | O19: =IF((H19+K19+M19)=0, "", (H19+K19+M19)) -> #VALUE! | P19: =SUM(I19,L19,N19) -> #VALUE!
A20: 56950160150 | B20: EAA110410000 | C20: 제 17호 | D20: 케이블트레이지지대 | E20: W150-1단 | F20: 식 | H20: =일위대가!I130 -> #VALUE! | I20: =H20 -> #VALUE! | K20: =일위대가!L130 -> 0 | L20: =K20 -> 0 | M20: =일위대가!N130 -> 0 | N20: =M20 -> 0 | O20: =IF((H20+K20+M20)=0, "", (H20+K20+M20)) -> #VALUE! | P20: =SUM(I20,L20,N20) -> #VALUE!
A21: 56953100910 | B21: EAB110240000 | C21: 제 18호 | D21: 벽관통 구멍(코어드릴) | E21: 36Φ | F21: 개소 | H21: =일위대가!I137 -> 0 | I21: =H21 -> 0 | K21: =일위대가!L137 -> 0 | L21: =K21 -> 0 | M21: =일위대가!N137 -> 0 | N21: =M21 -> 0 | O21: =IF((H21+K21+M21)=0, "", (H21+K21+M21)) | P21: =SUM(I21,L21,N21) -> 0
A22: 56953100911 | B22: EAB110250000 | C22: 제 19호 | D22: 벽관통 구멍(코어드릴) | E22: 54Φ | F22: 개소 | H22: =일위대가!I144 -> 0 | I22: =H22 -> 0 | K22: =일위대가!L144 -> 0 | L22: =K22 -> 0 | M22: =일위대가!N144 -> 0 | N22: =M22 -> 0 | O22: =IF((H22+K22+M22)=0, "", (H22+K22+M22)) | P22: =SUM(I22,L22,N22) -> 0
A23: EKK24302002 | B23: EKK243020002 | C23: 제 20호 | D23: 아웃렛박스-ST | E23: 중형4각 54mm 노출 | F23: 개 | H23: =일위대가!I150 -> #VALUE! | I23: =H23 -> #VALUE! | K23: =일위대가!L150 -> 0 | L23: =K23 -> 0 | M23: =일위대가!N150 -> 0 | N23: =M23 -> 0 | O23: =IF((H23+K23+M23)=0, "", (H23+K23+M23)) -> #VALUE! | P23: =SUM(I23,L23,N23) -> #VALUE!
A24: ERP41500002 | B24: ERP415000002 | C24: 제 21호 | D24: 배관용구멍뚫기(코어드릴기준) | E24: Φ150x100 | F24: 개소 | H24: =일위대가!I157 -> 0 | I24: =H24 -> 0 | K24: =일위대가!L157 -> 0 | L24: =K24 -> 0 | M24: =일위대가!N157 -> 0 | N24: =M24 -> 0 | O24: =IF((H24+K24+M24)=0, "", (H24+K24+M24)) | P24: =SUM(I24,L24,N24) -> 0

Sheet 일위대가
B1: 159 | D1: [ 보령가축분뇨 탈수케익 호퍼 설치공사(전기) ] - 일위대가표 | W1: 노임 계산 정보 | AA1: 부속재 및 손료
A2: 번호 | B2: 목차코드 | C2: 코드 | D2: 명 칭 | E2: 규 격 | F2: 단위 | G2: 수량 | H2: 재료비 | J2: 노무비 | M2: 경비 | P2: 계 | Q2: 비고 | W2: 노임계 | X2: 전체(%) | Y2: 공종별(%) | Z2: 노임 소수 | AA2: CD배관재 | AB2: 일반배관재 | AC2: 소모재 | AD2: 자재계 | AE2: 노임계
H3: 단가 | I3: 금액 | J3: 수량 | K3: 단가 | L3: 금액 | M3: 단가 | N3: 금액 | O3: 단가 | AD3: 1 | AE3: 1
A4: 5975A337012 | B4: 일목줄 | C4: EKA131000010S | D4: [제 1호] 강제전선관(노출) 아연도 22 mm [M.]
A5: 59750337012 | B5: 제 1호 | C5: 3913170610034833 | D5: 강제전선관 | E5: 아연도 22 mm | F5: M | G5: 1 | H5: ='합산자재(출력X)'!H4 -> 0 | I5: =IF(G5*H5<>0, TRUNC(G5*H5, 1), "") | J5: 1 | K5: ='합산자재(출력X)'!I4 -> 0 | L5: =IF(G5*K5<>0, TRUNC(G5*K5, 1), "") | M5: ='합산자재(출력X)'!J4 -> 0 | N5: =IF(G5*M5<>0, TRUNC(G5*M5, 1), "") | O5: =IF((H5+K5+M5)=0, "", (H5+K5+M5)) | P5: =IF(SUM(I5,L5,N5)<>0,SUM(I5,L5,N5),"") | R5: ST
A6: 59750337012 | B6: 제 1호 | C6: 3913170610034833 | D6: 강제전선관 | E6: 아연도 22 mm | F6: M | G6: 0.1 | H6: ='합산자재(출력X)'!H4 -> 0 | I6: =IF(G6*H6<>0, TRUNC(G6*H6, 1), "") | J6: 0.1 | K6: ='합산자재(출력X)'!I4 -> 0 | L6: =IF(G6*K6<>0, TRUNC(G6*K6, 1), "") | M6: ='합산자재(출력X)'!J4 -> 0 | N6: =IF(G6*M6<>0, TRUNC(G6*M6, 1), "") | O6: =IF((H6+K6+M6)=0, "", (H6+K6+M6)) | P6: =IF(SUM(I6,L6,N6)<>0,SUM(I6,L6,N6),"") | R6: ST
A7: A0500000000 | B7: 제 1호 | C7: RENT000000000002 | D7: [ 배관 부속재 ] | E7: 전선관의 15 % | F7: 식 | G7: 1 | H7: =I5*0.15 -> #VALUE! | I7: =IF(G7*H7<>0, TRUNC(G7*H7, 1), "") -> #VALUE! | J7: 1 | L7: =IF(G7*K7<>0, TRUNC(G7*K7, 1), "") | N7: =IF(G7*M7<>0, TRUNC(G7*M7, 1), "") | O7: =IF((H7+K7+M7)=0, "", (H7+K7+M7)) -> #VALUE! | P7: =IF(SUM(I7,L7,N7)<>0,SUM(I7,L7,N7),"") -> #VALUE!
A8: A0100000000 | B8: 제 1호 | C8: RENT000000000003 | D8: [ 소모 잡자재 ] | E8: 전선, 전선관의 2 % | F8: 식 | G8: 1 | H8: =I5*0.02 -> #VALUE! | I8: =IF(G8*H8<>0, TRUNC(G8*H8, 1), "") -> #VALUE! | J8: 1 | L8: =IF(G8*K8<>0, TRUNC(G8*K8, 1), "") | N8: =IF(G8*M8<>0, TRUNC(G8*M8, 1), "") | O8: =IF((H8+K8+M8)=0, "", (H8+K8+M8)) -> #VALUE! | P8: =IF(SUM(I8,L8,N8)<>0,SUM(I8,L8,N8),"") -> #VALUE!
A9: 56900017016 | B9: 제 1호 | C9: L001010101000075 | D9: 노 무 비 | E9: 내선전공 | F9: 인 | G9: =일위노임!G6 -> 0.132 | H9: ='합산자재(출력X)'!H29 -> 0 | I9: =IF(G9*H9<>0, TRUNC(G9*H9, 1), "") | J9: 0.132 | K9: ='합산자재(출력X)'!I29 -> 0 | L9: =IF(G9*K9<>0, TRUNC(G9*K9, 1), "") | M9: ='합산자재(출력X)'!J29 -> 0 | N9: =IF(G9*M9<>0, TRUNC(G9*M9, 1), "") | O9: =IF((H9+K9+M9)=0, "", (H9+K9+M9)) | P9: =IF(SUM(I9,L9,N9)<>0,SUM(I9,L9,N9),"")
A10: A0300000000 | B10: 제 1호 | C10: RENT000000000006 | D10: [ 공 구 손 료 ] | E10: 노무비의 3 % | F10: 식 | G10: 1 | H10: =L9*0.03 -> #VALUE! | I10: =IF(G10*H10<>0, TRUNC(G10*H10, 1), "") -> #VALUE! | J10: 1 | L10: =IF(G10*K10<>0, TRUNC(G10*K10, 1), "") | N10: =IF(G10*M10<>0, TRUNC(G10*M10, 1), "") | O10: =IF((H10+K10+M10)=0, "", (H10+K10+M10)) -> #VALUE! | P10: =IF(SUM(I10,L10,N10)<>0,SUM(I10,L10,N10),"") -> #VALUE!
B11: 합계줄 | D11: ( 합 계 ) | I11: =TRUNC(SUM(I4:I10)) -> #VALUE! | L11: =TRUNC(SUM(L4:L10)) -> 0 | N11: =TRUNC(SUM(N4:N10)) -> 0 | O11: =IF((H11+K11+M11)=0, "", (H11+K11+M11)) | P11: =IF(SUM(I11,L11,N11)<>0,SUM(I11,L11,N11),"") -> #VALUE!
A13: 5975A337014 | B13: 일목줄 | C13: EKA151000010S | D13: [제 2호] 강제전선관(노출) 아연도 36 mm [M.]
A14: 59750337014 | B14: 제 2호 | C14: 3913170610034835 | D14: 강제전선관 | E14: 아연도 36 mm | F14: M | G14: 1 | H14: ='합산자재(출력X)'!H5 -> 0 | I14: =IF(G14*H14<>0, TRUNC(G14*H14, 1), "") | J14: 1 | K14: ='합산자재(출력X)'!I5 -> 0 | L14: =IF(G14*K14<>0, TRUNC(G14*K14, 1), "") | M14: ='합산자재(출력X)'!J5 -> 0 | N14: =IF(G14*M14<>0, TRUNC(G14*M14, 1), "") | O14: =IF((H14+K14+M14)=0, "", (H14+K14+M14)) | P14: =IF(SUM(I14,L14,N14)<>0,SUM(I14,L14,N14),"") | R14: ST
A15: 59750337014 | B15: 제 2호 | C15: 3913170610034835 | D15: 강제전선관 | E15: 아연도 36 mm | F15: M | G15: 0.1 | H15: ='합산자재(출력X)'!H5 -> 0 | I15: =IF(G15*H15<>0, TRUNC(G15*H15, 1), "") | J15: 0.1 | K15: ='합산자재(출력X)'!I5 -> 0 | L15: =IF(G15*K15<>0, TRUNC(G15*K15, 1), "") | M15: ='합산자재(출력X)'!J5 -> 0 | N15: =IF(G15*M15<>0, TRUNC(G15*M15, 1), "") | O15: =IF((H15+K15+M15)=0, "", (H15+K15+M15)) | P15: =IF(SUM(I15,L15,N15)<>0,SUM(I15,L15,N15),"") | R15: ST
A16: A0500000000 | B16: 제 2호 | C16: RENT000000000002 | D16: [ 배관 부속재 ] | E16: 전선관의 15 % | F16: 식 | G16: 1 | H16: =I14*0.15 -> #VALUE! | I16: =IF(G16*H16<>0, TRUNC(G16*H16, 1), "") -> #VALUE! | J16: 1 | L16: =IF(G16*K16<>0, TRUNC(G16*K16, 1), "") | N16: =IF(G16*M16<>0, TRUNC(G16*M16, 1), "") | O16: =IF((H16+K16+M16)=0, "", (H16+K16+M16)) -> #VALUE! | P16: =IF(SUM(I16,L16,N16)<>0,SUM(I16,L16,N16),"") -> #VALUE!
A17: A0100000000 | B17: 제 2호 | C17: RENT000000000003 | D17: [ 소모 잡자재 ] | E17: 전선, 전선관의 2 % | F17: 식 | G17: 1 | H17: =I14*0.02 -> #VALUE! | I17: =IF(G17*H17<>0, TRUNC(G17*H17, 1), "") -> #VALUE! | J17: 1 | L17: =IF(G17*K17<>0, TRUNC(G17*K17, 1), "") | N17: =IF(G17*M17<>0, TRUNC(G17*M17, 1), "") | O17: =IF((H17+K17+M17)=0, "", (H17+K17+M17)) -> #VALUE! | P17: =IF(SUM(I17,L17,N17)<>0,SUM(I17,L17,N17),"") -> #VALUE!
A18: 56900017016 | B18: 제 2호 | C18: L001010101000075 | D18: 노 무 비 | E18: 내선전공 | F18: 인 | G18: =일위노임!G9 -> 0.24 | H18: ='합산자재(출력X)'!H29 -> 0 | I18: =IF(G18*H18<>0, TRUNC(G18*H18, 1), "") | J18: 0.24 | K18: ='합산자재(출력X)'!I29 -> 0 | L18: =IF(G18*K18<>0, TRUNC(G18*K18, 1), "") | M18: ='합산자재(출력X)'!J29 -> 0 | N18: =IF(G18*M18<>0, TRUNC(G18*M18, 1), "") | O18: =IF((H18+K18+M18)=0, "", (H18+K18+M18)) | P18: =IF(SUM(I18,L18,N18)<>0,SUM(I18,L18,N18),"")
A19: A0300000000 | B19: 제 2호 | C19: RENT000000000006 | D19: [ 공 구 손 료 ] | E19: 노무비의 3 % | F19: 식 | G19: 1 | H19: =L18*0.03 -> #VALUE! | I19: =IF(G19*H19<>0, TRUNC(G19*H19, 1), "") -> #VALUE! | J19: 1 | L19: =IF(G19*K19<>0, TRUNC(G19*K19, 1), "") | N19: =IF(G19*M19<>0, TRUNC(G19*M19, 1), "") | O19: =IF((H19+K19+M19)=0, "", (H19+K19+M19)) -> #VALUE! | P19: =IF(SUM(I19,L19,N19)<>0,SUM(I19,L19,N19),"") -> #VALUE!
B20: 합계줄 | D20: ( 합 계 ) | I20: =TRUNC(SUM(I13:I19)) -> #VALUE! | L20: =TRUNC(SUM(L13:L19)) -> 0 | N20: =TRUNC(SUM(N13:N19)) -> 0 | O20: =IF((H20+K20+M20)=0, "", (H20+K20+M20)) | P20: =IF(SUM(I20,L20,N20)<>0,SUM(I20,L20,N20),"") -> #VALUE!
A22: 5975A337016 | B22: 일목줄 | C22: EKA171000010S | D22: [제 3호] 강제전선관(노출) 아연도 54 mm [M.]
A23: 59750337016 | B23: 제 3호 | C23: 3913170610034837 | D23: 강제전선관 | E23: 아연도 54 mm | F23: M | G23: 1 | H23: ='합산자재(출력X)'!H6 -> 0 | I23: =IF(G23*H23<>0, TRUNC(G23*H23, 1), "") | J23: 1 | K23: ='합산자재(출력X)'!I6 -> 0 | L23: =IF(G23*K23<>0, TRUNC(G23*K23, 1), "") | M23: ='합산자재(출력X)'!J6 -> 0 | N23: =IF(G23*M23<>0, TRUNC(G23*M23, 1), "") | O23: =IF((H23+K23+M23)=0, "", (H23+K23+M23)) | P23: =IF(SUM(I23,L23,N23)<>0,SUM(I23,L23,N23),"") | R23: ST
A24: 59750337016 | B24: 제 3호 | C24: 3913170610034837 | D24: 강제전선관 | E24: 아연도 54 mm | F24: M | G24: 0.1 | H24: ='합산자재(출력X)'!H6 -> 0 | I24: =IF(G24*H24<>0, TRUNC(G24*H24, 1), "") | J24: 0.1 | K24: ='합산자재(출력X)'!I6 -> 0 | L24: =IF(G24*K24<>0, TRUNC(G24*K24, 1), "") | M24: ='합산자재(출력X)'!J6 -> 0 | N24: =IF(G24*M24<>0, TRUNC(G24*M24, 1), "") | O24: =IF((H24+K24+M24)=0, "", (H24+K24+M24)) | P24: =IF(SUM(I24,L24,N24)<>0,SUM(I24,L24,N24),"") | R24: ST
A25: A0500000000 | B25: 제 3호 | C25: RENT000000000002 | D25: [ 배관 부속재 ] | E25: 전선관의 15 % | F25: 식 | G25: 1 | H25: =I23*0.15 -> #VALUE! | I25: =IF(G25*H25<>0, TRUNC(G25*H25, 1), "") -> #VALUE! | J25: 1 | L25: =IF(G25*K25<>0, TRUNC(G25*K25, 1), "") | N25: =IF(G25*M25<>0, TRUNC(G25*M25, 1), "") | O25: =IF((H25+K25+M25)=0, "", (H25+K25+M25)) -> #VALUE! | P25: =IF(SUM(I25,L25,N25)<>0,SUM(I25,L25,N25),"") -> #VALUE!
A26: A0100000000 | B26: 제 3호 | C26: RENT000000000003 | D26: [ 소모 잡자재 ] | E26: 전선, 전선관의 2 % | F26: 식 | G26: 1 | H26: =I23*0.02 -> #VALUE! | I26: =IF(G26*H26<>0, TRUNC(G26*H26, 1), "") -> #VALUE! | J26: 1 | L26: =IF(G26*K26<>0, TRUNC(G26*K26, 1), "") | N26: =IF(G26*M26<>0, TRUNC(G26*M26, 1), "") | O26: =IF((H26+K26+M26)=0, "", (H26+K26+M26)) -> #VALUE! | P26: =IF(SUM(I26,L26,N26)<>0,SUM(I26,L26,N26),"") -> #VALUE!
A27: 56900017016 | B27: 제 3호 | C27: L001010101000075 | D27: 노 무 비 | E27: 내선전공 | F27: 인 | G27: =일위노임!G12 -> 0.408 | H27: ='합산자재(출력X)'!H29 -> 0 | I27: =IF(G27*H27<>0, TRUNC(G27*H27, 1), "") | J27: 0.408 | K27: ='합산자재(출력X)'!I29 -> 0 | L27: =IF(G27*K27<>0, TRUNC(G27*K27, 1), "") | M27: ='합산자재(출력X)'!J29 -> 0 | N27: =IF(G27*M27<>0, TRUNC(G27*M27, 1), "") | O27: =IF((H27+K27+M27)=0, "", (H27+K27+M27)) | P27: =IF(SUM(I27,L27,N27)<>0,SUM(I27,L27,N27),"")
A28: A0300000000 | B28: 제 3호 | C28: RENT000000000006 | D28: [ 공 구 손 료 ] | E28: 노무비의 3 % | F28: 식 | G28: 1 | H28: =L27*0.03 -> #VALUE! | I28: =IF(G28*H28<>0, TRUNC(G28*H28, 1), "") -> #VALUE! | J28: 1 | L28: =IF(G28*K28<>0, TRUNC(G28*K28, 1), "") | N28: =IF(G28*M28<>0, TRUNC(G28*M28, 1), "") | O28: =IF((H28+K28+M28)=0, "", (H28+K28+M28)) -> #VALUE! | P28: =IF(SUM(I28,L28,N28)<>0,SUM(I28,L28,N28),"") -> #VALUE!
B29: 합계줄 | D29: ( 합 계 ) | I29: =TRUNC(SUM(I22:I28)) -> #VALUE! | L29: =TRUNC(SUM(L22:L28)) -> 0 | N29: =TRUNC(SUM(N22:N28)) -> 0 | O29: =IF((H29+K29+M29)=0, "", (H29+K29+M29)) | P29: =IF(SUM(I29,L29,N29)<>0,SUM(I29,L29,N29),"") -> #VALUE!
A31: 5975B817201 | B31: 일목줄 | C31: E59751817201 | D31: [제 4호] 케이블트레이 STRAIGHT,St W150x100Hx2.3t [m]
A32: 59751817201 | B32: 제 4호 | C32: 3913170420174046 | D32: 케이블트레이 | E32: STRAIGHT,St W150x100Hx2.3t | F32: M | G32: 1.05 | H32: ='합산자재(출력X)'!H8 -> 0 | I32: =IF(G32*H32<>0, TRUNC(G32*H32, 1), "") | J32: 1 | K32: ='합산자재(출력X)'!I8 -> 0 | L32: =IF(G32*K32<>0, TRUNC(G32*K32, 1), "") | M32: ='합산자재(출력X)'!J8 -> 0 | N32: =IF(G32*M32<>0, TRUNC(G32*M32, 1), "") | O32: =IF((H32+K32+M32)=0, "", (H32+K32+M32)) | P32: =IF(SUM(I32,L32,N32)<>0,SUM(I32,L32,N32),"") | R32: TRAY
A33: 56900017016 | B33: 제 4호 | C33: L001010101000075 | D33: 노 무 비 | E33: 내선전공 | F33: 인 | G33: =일위노임!G15 -> 0.23 | H33: ='합산자재(출력X)'!H29 -> 0 | I33: =IF(G33*H33<>0, TRUNC(G33*H33, 1), "") | J33: 0.23 | K33: ='합산자재(출력X)'!I29 -> 0 | L33: =IF(G33*K33<>0, TRUNC(G33*K33, 1), "") | M33: ='합산자재(출력X)'!J29 -> 0 | N33: =IF(G33*M33<>0, TRUNC(G33*M33, 1), "") | O33: =IF((H33+K33+M33)=0, "", (H33+K33+M33)) | P33: =IF(SUM(I33,L33,N33)<>0,SUM(I33,L33,N33),"")
A34: A0300000000 | B34: 제 4호 | C34: RENT000000000006 | D34: [ 공 구 손 료 ] | E34: 노무비의 3 % | F34: 식 | G34: 1 | H34: =L33*0.03 -> #VALUE! | I34: =IF(G34*H34<>0, TRUNC(G34*H34, 1), "") -> #VALUE! | J34: 1 | L34: =IF(G34*K34<>0, TRUNC(G34*K34, 1), "") | N34: =IF(G34*M34<>0, TRUNC(G34*M34, 1), "") | O34: =IF((H34+K34+M34)=0, "", (H34+K34+M34)) -> #VALUE! | P34: =IF(SUM(I34,L34,N34)<>0,SUM(I34,L34,N34),"") -> #VALUE!
B35: 합계줄 | D35: ( 합 계 ) | I35: =TRUNC(SUM(I31:I34)) -> #VALUE! | L35: =TRUNC(SUM(L31:L34)) -> 0 | N35: =TRUNC(SUM(N31:N34)) -> 0 | O35: =IF((H35+K35+M35)=0, "", (H35+K35+M35)) | P35: =IF(SUM(I35,L35,N35)<>0,SUM(I35,L35,N35),"") -> #VALUE!
A37: 5975B817332 | B37: 일목줄 | C37: E59751817332 | D37: [제 5호] 케이블트레이 COVER,St W150 [m]
A38: 59751817332 | B38: 제 5호 | C38: 3913170420171159 | D38: 케이블트레이 | E38: COVER,St W150 | F38: M | G38: 1.05 | H38: ='합산자재(출력X)'!H9 -> 0 | I38: =IF(G38*H38<>0, TRUNC(G38*H38, 1), "") | J38: 1 | K38: ='합산자재(출력X)'!I9 -> 0 | L38: =IF(G38*K38<>0, TRUNC(G38*K38, 1), "") | M38: ='합산자재(출력X)'!J9 -> 0 | N38: =IF(G38*M38<>0, TRUNC(G38*M38, 1), "") | O38: =IF((H38+K38+M38)=0, "", (H38+K38+M38)) | P38: =IF(SUM(I38,L38,N38)<>0,SUM(I38,L38,N38),"")
A39: 56900017016 | B39: 제 5호 | C39: L001010101000075 | D39: 노 무 비 | E39: 내선전공 | F39: 인 | G39: =일위노임!G18 -> 0.046 | H39: ='합산자재(출력X)'!H29 -> 0 | I39: =IF(G39*H39<>0, TRUNC(G39*H39, 1), "") | J39: 0.046 | K39: ='합산자재(출력X)'!I29 -> 0 | L39: =IF(G39*K39<>0, TRUNC(G39*K39, 1), "") | M39: ='합산자재(출력X)'!J29 -> 0 | N39: =IF(G39*M39<>0, TRUNC(G39*M39, 1), "") | O39: =IF((H39+K39+M39)=0, "", (H39+K39+M39)) | P39: =IF(SUM(I39,L39,N39)<>0,SUM(I39,L39,N39),"")
A40: A0300000000 | B40: 제 5호 | C40: RENT000000000006 | D40: [ 공 구 손 료 ] | E40: 노무비의 3 % | F40: 식 | G40: 1 | H40: =L39*0.03 -> #VALUE! | I40: =IF(G40*H40<>0, TRUNC(G40*H40, 1), "") -> #VALUE! | J40: 1 | L40: =IF(G40*K40<>0, TRUNC(G40*K40, 1), "") | N40: =IF(G40*M40<>0, TRUNC(G40*M40, 1), "") | O40: =IF((H40+K40+M40)=0, "", (H40+K40+M40)) -> #VALUE! | P40: =IF(SUM(I40,L40,N40)<>0,SUM(I40,L40,N40),"") -> #VALUE!
B41: 합계줄 | D41: ( 합 계 ) | I41: =TRUNC(SUM(I37:I40)) -> #VALUE! | L41: =TRUNC(SUM(L37:L40)) -> 0 | N41: =TRUNC(SUM(N37:N40)) -> 0 | O41: =IF((H41+K41+M41)=0, "", (H41+K41+M41)) | P41: =IF(SUM(I41,L41,N41)<>0,SUM(I41,L41,N41),"") -> #VALUE!
A43: 5975E967001 | B43: 일목줄 | C43: E59754967001 | D43: [제 6호] 케이블트레이부속품 H. ELBOW, St,W150x100Hx2.3t [개]
A44: 59754967001 | B44: 제 6호 | C44: 3913170520175048 | D44: 케이블트레이부속품 | E44: H. ELBOW, St,W150x100Hx2.3t | F44: 개 | G44: 1 | H44: ='합산자재(출력X)'!H10 -> 0 | I44: =IF(G44*H44<>0, TRUNC(G44*H44, 1), "") | J44: 1 | K44: ='합산자재(출력X)'!I10 -> 0 | L44: =IF(G44*K44<>0, TRUNC(G44*K44, 1), "") | M44: ='합산자재(출력X)'!J10 -> 0 | N44: =IF(G44*M44<>0, TRUNC(G44*M44, 1), "") | O44: =IF((H44+K44+M44)=0, "", (H44+K44+M44)) | P44: =IF(SUM(I44,L44,N44)<>0,SUM(I44,L44,N44),"")
A45: 56900017016 | B45: 제 6호 | C45: L001010101000075 | D45: 노 무 비 | E45: 내선전공 | F45: 인 | G45: =일위노임!G21 -> 0.23 | H45: ='합산자재(출력X)'!H29 -> 0 | I45: =IF(G45*H45<>0, TRUNC(G45*H45, 1), "") | J45: 0.23 | K45: ='합산자재(출력X)'!I29 -> 0 | L45: =IF(G45*K45<>0, TRUNC(G45*K45, 1), "") | M45: ='합산자재(출력X)'!J29 -> 0 | N45: =IF(G45*M45<>0, TRUNC(G45*M45, 1), "") | O45: =IF((H45+K45+M45)=0, "", (H45+K45+M45)) | P45: =IF(SUM(I45,L45,N45)<>0,SUM(I45,L45,N45),"")
A46: A0300000000 | B46: 제 6호 | C46: RENT000000000006 | D46: [ 공 구 손 료 ] | E46: 노무비의 3 % | F46: 식 | G46: 1 | H46: =L45*0.03 -> #VALUE! | I46: =IF(G46*H46<>0, TRUNC(G46*H46, 1), "") -> #VALUE! | J46: 1 | L46: =IF(G46*K46<>0, TRUNC(G46*K46, 1), "") | N46: =IF(G46*M46<>0, TRUNC(G46*M46, 1), "") | O46: =IF((H46+K46+M46)=0, "", (H46+K46+M46)) -> #VALUE! | P46: =IF(SUM(I46,L46,N46)<>0,SUM(I46,L46,N46),"") -> #VALUE!
B47: 합계줄 | D47: ( 합 계 ) | I47: =TRUNC(SUM(I43:I46)) -> #VALUE! | L47: =TRUNC(SUM(L43:L46)) -> 0 | N47: =TRUNC(SUM(N43:N46)) -> 0 | O47: =IF((H47+K47+M47)=0, "", (H47+K47+M47)) | P47: =IF(SUM(I47,L47,N47)<>0,SUM(I47,L47,N47),"") -> #VALUE!
A49: 5975E967101 | B49: 일목줄 | C49: E59754967101 | D49: [제 7호] 케이블트레이부속품 V. ELBOW, St,W150x100Hx2.3t [개]
A50: 59754967101 | B50: 제 7호 | C50: 3913170520175062 | D50: 케이블트레이부속품 | E50: V. ELBOW, St,W150x100Hx2.3t | F50: 개 | G50: 1 | H50: ='합산자재(출력X)'!H11 -> 0 | I50: =IF(G50*H50<>0, TRUNC(G50*H50, 1), "") | J50: 1 | K50: ='합산자재(출력X)'!I11 -> 0 | L50: =IF(G50*K50<>0, TRUNC(G50*K50, 1), "") | M50: ='합산자재(출력X)'!J11 -> 0 | N50: =IF(G50*M50<>0, TRUNC(G50*M50, 1), "") | O50: =IF((H50+K50+M50)=0, "", (H50+K50+M50)) | P50: =IF(SUM(I50,L50,N50)<>0,SUM(I50,L50,N50),"")
A51: 56900017016 | B51: 제 7호 | C51: L001010101000075 | D51: 노 무 비 | E51: 내선전공 | F51: 인 | G51: =일위노임!G24 -> 0.23 | H51: ='합산자재(출력X)'!H29 -> 0 | I51: =IF(G51*H51<>0, TRUNC(G51*H51, 1), "") | J51: 0.23 | K51: ='합산자재(출력X)'!I29 -> 0 | L51: =IF(G51*K51<>0, TRUNC(G51*K51, 1), "") | M51: ='합산자재(출력X)'!J29 -> 0 | N51: =IF(G51*M51<>0, TRUNC(G51*M51, 1), "") | O51: =IF((H51+K51+M51)=0, "", (H51+K51+M51)) | P51: =IF(SUM(I51,L51,N51)<>0,SUM(I51,L51,N51),"")
A52: A0300000000 | B52: 제 7호 | C52: RENT000000000006 | D52: [ 공 구 손 료 ] | E52: 노무비의 3 % | F52: 식 | G52: 1 | H52: =L51*0.03 -> #VALUE! | I52: =IF(G52*H52<>0, TRUNC(G52*H52, 1), "") -> #VALUE! | J52: 1 | L52: =IF(G52*K52<>0, TRUNC(G52*K52, 1), "") | N52: =IF(G52*M52<>0, TRUNC(G52*M52, 1), "") | O52: =IF((H52+K52+M52)=0, "", (H52+K52+M52)) -> #VALUE! | P52: =IF(SUM(I52,L52,N52)<>0,SUM(I52,L52,N52),"") -> #VALUE!
B53: 합계줄 | D53: ( 합 계 ) | I53: =TRUNC(SUM(I49:I52)) -> #VALUE! | L53: =TRUNC(SUM(L49:L52)) -> 0 | N53: =TRUNC(SUM(N49:N52)) -> 0 | O53: =IF((H53+K53+M53)=0, "", (H53+K53+M53)) | P53: =IF(SUM(I53,L53,N53)<>0,SUM(I53,L53,N53),"") -> #VALUE!
A55: 5975E967401 | B55: 일목줄 | C55: E59754967401 | D55: [제 8호] 케이블트레이부속품 REDUCER, St, W150x100Hx2.3t [개]
A56: 59754967401 | B56: 제 8호 | C56: 3913170520175104 | D56: 케이블트레이부속품 | E56: REDUCER, St, W150x100Hx2.3t | F56: 개 | G56: 1 | H56: ='합산자재(출력X)'!H12 -> 0 | I56: =IF(G56*H56<>0, TRUNC(G56*H56, 1), "") | J56: 1 | K56: ='합산자재(출력X)'!I12 -> 0 | L56: =IF(G56*K56<>0, TRUNC(G56*K56, 1), "") | M56: ='합산자재(출력X)'!J12 -> 0 | N56: =IF(G56*M56<>0, TRUNC(G56*M56, 1), "") | O56: =IF((H56+K56+M56)=0, "", (H56+K56+M56)) | P56: =IF(SUM(I56,L56,N56)<>0,SUM(I56,L56,N56),"")
A57: 56900017016 | B57: 제 8호 | C57: L001010101000075 | D57: 노 무 비 | E57: 내선전공 | F57: 인 | G57: =일위노임!G27 -> 0.23 | H57: ='합산자재(출력X)'!H29 -> 0 | I57: =IF(G57*H57<>0, TRUNC(G57*H57, 1), "") | J57: 0.23 | K57: ='합산자재(출력X)'!I29 -> 0 | L57: =IF(G57*K57<>0, TRUNC(G57*K57, 1), "") | M57: ='합산자재(출력X)'!J29 -> 0 | N57: =IF(G57*M57<>0, TRUNC(G57*M57, 1), "") | O57: =IF((H57+K57+M57)=0, "", (H57+K57+M57)) | P57: =IF(SUM(I57,L57,N57)<>0,SUM(I57,L57,N57),"")
A58: A0300000000 | B58: 제 8호 | C58: RENT000000000006 | D58: [ 공 구 손 료 ] | E58: 노무비의 3 % | F58: 식 | G58: 1 | H58: =L57*0.03 -> #VALUE! | I58: =IF(G58*H58<>0, TRUNC(G58*H58, 1), "") -> #VALUE! | J58: 1 | L58: =IF(G58*K58<>0, TRUNC(G58*K58, 1), "") | N58: =IF(G58*M58<>0, TRUNC(G58*M58, 1), "") | O58: =IF((H58+K58+M58)=0, "", (H58+K58+M58)) -> #VALUE! | P58: =IF(SUM(I58,L58,N58)<>0,SUM(I58,L58,N58),"") -> #VALUE!
B59: 합계줄 | D59: ( 합 계 ) | I59: =TRUNC(SUM(I55:I58)) -> #VALUE! | L59: =TRUNC(SUM(L55:L58)) -> 0 | N59: =TRUNC(SUM(N55:N58)) -> 0 | O59: =IF((H59+K59+M59)=0, "", (H59+K59+M59)) | P59: =IF(SUM(I59,L59,N59)<>0,SUM(I59,L59,N59),"") -> #VALUE!
A61: 5975B477029 | B61: 일목줄 | C61: E59751477029 | D61: [제 9호] 전선덕트 스텐 100x50 mm [m]
A62: 59751477029 | B62: 제 9호 | C62: 3913171220173817 | D62: 전선덕트 | E62: 스텐 100x50 mm | F62: M | G62: 1.05 | H62: ='합산자재(출력X)'!H15 -> 0 | I62: =IF(G62*H62<>0, TRUNC(G62*H62, 1), "") | J62: 1 | K62: ='합산자재(출력X)'!I15 -> 0 | L62: =IF(G62*K62<>0, TRUNC(G62*K62, 1), "") | M62: ='합산자재(출력X)'!J15 -> 0 | N62: =IF(G62*M62<>0, TRUNC(G62*M62, 1), "") | O62: =IF((H62+K62+M62)=0, "", (H62+K62+M62)) | P62: =IF(SUM(I62,L62,N62)<>0,SUM(I62,L62,N62),"")
A63: 56900017016 | B63: 제 9호 | C63: L001010101000075 | D63: 노 무 비 | E63: 내선전공 | F63: 인 | G63: =일위노임!G30 -> 0.14 | H63: ='합산자재(출력X)'!H29 -> 0 | I63: =IF(G63*H63<>0, TRUNC(G63*H63, 1), "") | J63: 0.14 | K63: ='합산자재(출력X)'!I29 -> 0 | L63: =IF(G63*K63<>0, TRUNC(G63*K63, 1), "") | M63: ='합산자재(출력X)'!J29 -> 0 | N63: =IF(G63*M63<>0, TRUNC(G63*M63, 1), "") | O63: =IF((H63+K63+M63)=0, "", (H63+K63+M63)) | P63: =IF(SUM(I63,L63,N63)<>0,SUM(I63,L63,N63),"")
A64: A0300000000 | B64: 제 9호 | C64: RENT000000000006 | D64: [ 공 구 손 료 ] | E64: 노무비의 3 % | F64: 식 | G64: 1 | H64: =L63*0.03 -> #VALUE! | I64: =IF(G64*H64<>0, TRUNC(G64*H64, 1), "") -> #VALUE! | J64: 1 | L64: =IF(G64*K64<>0, TRUNC(G64*K64, 1), "") | N64: =IF(G64*M64<>0, TRUNC(G64*M64, 1), "") | O64: =IF((H64+K64+M64)=0, "", (H64+K64+M64)) -> #VALUE! | P64: =IF(SUM(I64,L64,N64)<>0,SUM(I64,L64,N64),"") -> #VALUE!
B65: 합계줄 | D65: ( 합 계 ) | I65: =TRUNC(SUM(I61:I64)) -> #VALUE! | L65: =TRUNC(SUM(L61:L64)) -> 0 | N65: =TRUNC(SUM(N61:N64)) -> 0 | O65: =IF((H65+K65+M65)=0, "", (H65+K65+M65)) | P65: =IF(SUM(I65,L65,N65)<>0,SUM(I65,L65,N65),"") -> #VALUE!
A67: E145A927204 | B67: 일목줄 | C67: EOC345000040S | D67: [제 10호] 접지용비닐절연전선(F-GV) 10㎟ [M]
A68: E1450927204 | B68: 제 10호 | C68: 2612152420683698 | D68: 접지용비닐절연전선(F-GV) | E68: 10㎟ | F68: M | G68: 1 | H68: ='합산자재(출력X)'!H18 -> 0 | I68: =IF(G68*H68<>0, TRUNC(G68*H68, 1), "") | J68: 1 | K68: ='합산자재(출력X)'!I18 -> 0 | L68: =IF(G68*K68<>0, TRUNC(G68*K68, 1), "") | M68: ='합산자재(출력X)'!J18 -> 0 | N68: =IF(G68*M68<>0, TRUNC(G68*M68, 1), "") | O68: =IF((H68+K68+M68)=0, "", (H68+K68+M68)) | P68: =IF(SUM(I68,L68,N68)<>0,SUM(I68,L68,N68),"")
A69: E1450927204 | B69: 제 10호 | C69: 2612152420683698 | D69: 접지용비닐절연전선(F-GV) | E69: 10㎟ | F69: M | G69: 0.1 | H69: ='합산자재(출력X)'!H18 -> 0 | I69: =IF(G69*H69<>0, TRUNC(G69*H69, 1), "") | J69: 0.1 | K69: ='합산자재(출력X)'!I18 -> 0 | L69: =IF(G69*K69<>0, TRUNC(G69*K69, 1), "") | M69: ='합산자재(출력X)'!J18 -> 0 | N69: =IF(G69*M69<>0, TRUNC(G69*M69, 1), "") | O69: =IF((H69+K69+M69)=0, "", (H69+K69+M69)) | P69: =IF(SUM(I69,L69,N69)<>0,SUM(I69,L69,N69),"")
A70: A0100000000 | B70: 제 10호 | C70: RENT000000000003 | D70: [ 소모 잡자재 ] | E70: 전선, 전선관의 2 % | F70: 식 | G70: 1 | H70: =I68*0.02 -> #VALUE! | I70: =IF(G70*H70<>0, TRUNC(G70*H70, 1), "") -> #VALUE! | J70: 1 | L70: =IF(G70*K70<>0, TRUNC(G70*K70, 1), "") | N70: =IF(G70*M70<>0, TRUNC(G70*M70, 1), "") | O70: =IF((H70+K70+M70)=0, "", (H70+K70+M70)) -> #VALUE! | P70: =IF(SUM(I70,L70,N70)<>0,SUM(I70,L70,N70),"") -> #VALUE!
A71: 56900017016 | B71: 제 10호 | C71: L001010101000075 | D71: 노 무 비 | E71: 내선전공 | F71: 인 | G71: =일위노임!G33 -> 0.009 | H71: ='합산자재(출력X)'!H29 -> 0 | I71: =IF(G71*H71<>0, TRUNC(G71*H71, 1), "") | J71: 0.009 | K71: ='합산자재(출력X)'!I29 -> 0 | L71: =IF(G71*K71<>0, TRUNC(G71*K71, 1), "") | M71: ='합산자재(출력X)'!J29 -> 0 | N71: =IF(G71*M71<>0, TRUNC(G71*M71, 1), "") | O71: =IF((H71+K71+M71)=0, "", (H71+K71+M71)) | P71: =IF(SUM(I71,L71,N71)<>0,SUM(I71,L71,N71),"")
A72: A0300000000 | B72: 제 10호 | C72: RENT000000000006 | D72: [ 공 구 손 료 ] | E72: 노무비의 3 % | F72: 식 | G72: 1 | H72: =L71*0.03 -> #VALUE! | I72: =IF(G72*H72<>0, TRUNC(G72*H72, 1), "") -> #VALUE! | J72: 1 | L72: =IF(G72*K72<>0, TRUNC(G72*K72, 1), "") | N72: =IF(G72*M72<>0, TRUNC(G72*M72, 1), "") | O72: =IF((H72+K72+M72)=0, "", (H72+K72+M72)) -> #VALUE! | P72: =IF(SUM(I72,L72,N72)<>0,SUM(I72,L72,N72),"") -> #VALUE!
B73: 합계줄 | D73: ( 합 계 ) | I73: =TRUNC(SUM(I67:I72)) -> #VALUE! | L73: =TRUNC(SUM(L67:L72)) -> 0 | N73: =TRUNC(SUM(N67:N72)) -> 0 | O73: =IF((H73+K73+M73)=0, "", (H73+K73+M73)) | P73: =IF(SUM(I73,L73,N73)<>0,SUM(I73,L73,N73),"") -> #VALUE!
A75: E145A287538 | B75: 일목줄 | C75: ELD621000030S | D75: [제 11호] 폴리에틸렌 난연케이블 0.6/1kv F-CV 3C×2.5㎟ [M]
A76: E1450287538 | B76: 제 11호 | C76: 2612162920683921 | D76: 폴리에틸렌 난연케이블 | E76: 0.6/1kv F-CV 3C×2.5㎟ | F76: M | G76: 1 | H76: ='합산자재(출력X)'!H19 -> 0 | I76: =IF(G76*H76<>0, TRUNC(G76*H76, 1), "") | J76: 1 | K76: ='합산자재(출력X)'!I19 -> 0 | L76: =IF(G76*K76<>0, TRUNC(G76*K76, 1), "") | M76: ='합산자재(출력X)'!J19 -> 0 | N76: =IF(G76*M76<>0, TRUNC(G76*M76, 1), "") | O76: =IF((H76+K76+M76)=0, "", (H76+K76+M76)) | P76: =IF(SUM(I76,L76,N76)<>0,SUM(I76,L76,N76),"")
A77: E1450287538 | B77: 제 11호 | C77: 2612162920683921 | D77: 폴리에틸렌 난연케이블 | E77: 0.6/1kv F-CV 3C×2.5㎟ | F77: M | G77: 0.05 | H77: ='합산자재(출력X)'!H19 -> 0 | I77: =IF(G77*H77<>0, TRUNC(G77*H77, 1), "") | J77: 0.05 | K77: ='합산자재(출력X)'!I19 -> 0 | L77: =IF(G77*K77<>0, TRUNC(G77*K77, 1), "") | M77: ='합산자재(출력X)'!J19 -> 0 | N77: =IF(G77*M77<>0, TRUNC(G77*M77, 1), "") | O77: =IF((H77+K77+M77)=0, "", (H77+K77+M77)) | P77: =IF(SUM(I77,L77,N77)<>0,SUM(I77,L77,N77),"")
A78: A0100000000 | B78: 제 11호 | C78: RENT000000000003 | D78: [ 소모 잡자재 ] | E78: 전선, 전선관의 2 % | F78: 식 | G78: 1 | H78: =I76*0.02 -> #VALUE! | I78: =IF(G78*H78<>0, TRUNC(G78*H78, 1), "") -> #VALUE! | J78: 1 | L78: =IF(G78*K78<>0, TRUNC(G78*K78, 1), "") | N78: =IF(G78*M78<>0, TRUNC(G78*M78, 1), "") | O78: =IF((H78+K78+M78)=0, "", (H78+K78+M78)) -> #VALUE! | P78: =IF(SUM(I78,L78,N78)<>0,SUM(I78,L78,N78),"") -> #VALUE!
A79: 56900017076 | B79: 제 11호 | C79: L001010101000078 | D79: 노 무 비 | E79: 저압케이블전공 | F79: 인 | G79: =일위노임!G36 -> 0.019 | H79: ='합산자재(출력X)'!H30 -> 0 | I79: =IF(G79*H79<>0, TRUNC(G79*H79, 1), "") | J79: 0.019 | K79: ='합산자재(출력X)'!I30 -> 0 | L79: =IF(G79*K79<>0, TRUNC(G79*K79, 1), "") | M79: ='합산자재(출력X)'!J30 -> 0 | N79: =IF(G79*M79<>0, TRUNC(G79*M79, 1), "") | O79: =IF((H79+K79+M79)=0, "", (H79+K79+M79)) | P79: =IF(SUM(I79,L79,N79)<>0,SUM(I79,L79,N79),"")
A80: A0300000000 | B80: 제 11호 | C80: RENT000000000006 | D80: [ 공 구 손 료 ] | E80: 노무비의 3 % | F80: 식 | G80: 1 | H80: =L79*0.03 -> #VALUE! | I80: =IF(G80*H80<>0, TRUNC(G80*H80, 1), "") -> #VALUE! | J80: 1 | L80: =IF(G80*K80<>0, TRUNC(G80*K80, 1), "") | N80: =IF(G80*M80<>0, TRUNC(G80*M80, 1), "") | O80: =IF((H80+K80+M80)=0, "", (H80+K80+M80)) -> #VALUE! | P80: =IF(SUM(I80,L80,N80)<>0,SUM(I80,L80,N80),"") -> #VALUE!
B81: 합계줄 | D81: ( 합 계 ) | I81: =TRUNC(SUM(I75:I80)) -> #VALUE! | L81: =TRUNC(SUM(L75:L80)) -> 0 | N81: =TRUNC(SUM(N75:N80)) -> 0 | O81: =IF((H81+K81+M81)=0, "", (H81+K81+M81)) | P81: =IF(SUM(I81,L81,N81)<>0,SUM(I81,L81,N81),"") -> #VALUE!
A83: E145A287564 | B83: 일목줄 | C83: ELD651000040S | D83: [제 12호] 폴리에틸렌 난연케이블 0.6/1kv F-CV 4C×10㎟ [M]
A84: E1450287564 | B84: 제 12호 | C84: 2612162920683946 | D84: 폴리에틸렌 난연케이블 | E84: 0.6/1kv F-CV 4C×10㎟ | F84: M | G84: 1 | H84: ='합산자재(출력X)'!H20 -> 0 | I84: =IF(G84*H84<>0, TRUNC(G84*H84, 1), "") | J84: 1 | K84: ='합산자재(출력X)'!I20 -> 0 | L84: =IF(G84*K84<>0, TRUNC(G84*K84, 1), "") | M84: ='합산자재(출력X)'!J20 -> 0 | N84: =IF(G84*M84<>0, TRUNC(G84*M84, 1), "") | O84: =IF((H84+K84+M84)=0, "", (H84+K84+M84)) | P84: =IF(SUM(I84,L84,N84)<>0,SUM(I84,L84,N84),"")
A85: E1450287564 | B85: 제 12호 | C85: 2612162920683946 | D85: 폴리에틸렌 난연케이블 | E85: 0.6/1kv F-CV 4C×10㎟ | F85: M | G85: 0.05 | H85: ='합산자재(출력X)'!H20 -> 0 | I85: =IF(G85*H85<>0, TRUNC(G85*H85, 1), "") | J85: 0.05 | K85: ='합산자재(출력X)'!I20 -> 0 | L85: =IF(G85*K85<>0, TRUNC(G85*K85, 1), "") | M85: ='합산자재(출력X)'!J20 -> 0 | N85: =IF(G85*M85<>0, TRUNC(G85*M85, 1), "") | O85: =IF((H85+K85+M85)=0, "", (H85+K85+M85)) | P85: =IF(SUM(I85,L85,N85)<>0,SUM(I85,L85,N85),"")
A86: A0100000000 | B86: 제 12호 | C86: RENT000000000003 | D86: [ 소모 잡자재 ] | E86: 전선, 전선관의 2 % | F86: 식 | G86: 1 | H86: =I84*0.02 -> #VALUE! | I86: =IF(G86*H86<>0, TRUNC(G86*H86, 1), "") -> #VALUE! | J86: 1 | L86: =IF(G86*K86<>0, TRUNC(G86*K86, 1), "") | N86: =IF(G86*M86<>0, TRUNC(G86*M86, 1), "") | O86: =IF((H86+K86+M86)=0, "", (H86+K86+M86)) -> #VALUE! | P86: =IF(SUM(I86,L86,N86)<>0,SUM(I86,L86,N86),"") -> #VALUE!
A87: 56900017076 | B87: 제 12호 | C87: L001010101000078 | D87: 노 무 비 | E87: 저압케이블전공 | F87: 인 | G87: =일위노임!G39 -> 0.049 | H87: ='합산자재(출력X)'!H30 -> 0 | I87: =IF(G87*H87<>0, TRUNC(G87*H87, 1), "") | J87: 0.049 | K87: ='합산자재(출력X)'!I30 -> 0 | L87: =IF(G87*K87<>0, TRUNC(G87*K87, 1), "") | M87: ='합산자재(출력X)'!J30 -> 0 | N87: =IF(G87*M87<>0, TRUNC(G87*M87, 1), "") | O87: =IF((H87+K87+M87)=0, "", (H87+K87+M87)) | P87: =IF(SUM(I87,L87,N87)<>0,SUM(I87,L87,N87),"")
A88: A0300000000 | B88: 제 12호 | C88: RENT000000000006 | D88: [ 공 구 손 료 ] | E88: 노무비의 3 % | F88: 식 | G88: 1 | H88: =L87*0.03 -> #VALUE! | I88: =IF(G88*H88<>0, TRUNC(G88*H88, 1), "") -> #VALUE! | J88: 1 | L88: =IF(G88*K88<>0, TRUNC(G88*K88, 1), "") | N88: =IF(G88*M88<>0, TRUNC(G88*M88, 1), "") | O88: =IF((H88+K88+M88)=0, "", (H88+K88+M88)) -> #VALUE! | P88: =IF(SUM(I88,L88,N88)<>0,SUM(I88,L88,N88),"") -> #VALUE!
B89: 합계줄 | D89: ( 합 계 ) | I89: =TRUNC(SUM(I83:I88)) -> #VALUE! | L89: =TRUNC(SUM(L83:L88)) -> 0 | N89: =TRUNC(SUM(N83:N88)) -> 0 | O89: =IF((H89+K89+M89)=0, "", (H89+K89+M89)) | P89: =IF(SUM(I89,L89,N89)<>0,SUM(I89,L89,N89),"") -> #VALUE!
A91: E145A358086 | B91: 일목줄 | C91: ELKA24000010S | D91: [제 13호] 난연제어케이블 F-CVV 5Cx1.5㎟ [M]
A92: E1450358086 | B92: 제 13호 | C92: 2612160320684238 | D92: 난연제어케이블 | E92: F-CVV 5Cx1.5㎟ | F92: M | G92: 1 | H92: ='합산자재(출력X)'!H21 -> 0 | I92: =IF(G92*H92<>0, TRUNC(G92*H92, 1), "") | J92: 1 | K92: ='합산자재(출력X)'!I21 -> 0 | L92: =IF(G92*K92<>0, TRUNC(G92*K92, 1), "") | M92: ='합산자재(출력X)'!J21 -> 0 | N92: =IF(G92*M92<>0, TRUNC(G92*M92, 1), "") | O92: =IF((H92+K92+M92)=0, "", (H92+K92+M92)) | P92: =IF(SUM(I92,L92,N92)<>0,SUM(I92,L92,N92),"")
A93: E1450358086 | B93: 제 13호 | C93: 2612160320684238 | D93: 난연제어케이블 | E93: F-CVV 5Cx1.5㎟ | F93: M | G93: 0.05 | H93: ='합산자재(출력X)'!H21 -> 0 | I93: =IF(G93*H93<>0, TRUNC(G93*H93, 1), "") | J93: 0.05 | K93: ='합산자재(출력X)'!I21 -> 0 | L93: =IF(G93*K93<>0, TRUNC(G93*K93, 1), "") | M93: ='합산자재(출력X)'!J21 -> 0 | N93: =IF(G93*M93<>0, TRUNC(G93*M93, 1), "") | O93: =IF((H93+K93+M93)=0, "", (H93+K93+M93)) | P93: =IF(SUM(I93,L93,N93)<>0,SUM(I93,L93,N93),"")
A94: A0100000000 | B94: 제 13호 | C94: RENT000000000003 | D94: [ 소모 잡자재 ] | E94: 전선, 전선관의 2 % | F94: 식 | G94: 1 | H94: =I92*0.02 -> #VALUE! | I94: =IF(G94*H94<>0, TRUNC(G94*H94, 1), "") -> #VALUE! | J94: 1 | L94: =IF(G94*K94<>0, TRUNC(G94*K94, 1), "") | N94: =IF(G94*M94<>0, TRUNC(G94*M94, 1), "") | O94: =IF((H94+K94+M94)=0, "", (H94+K94+M94)) -> #VALUE! | P94: =IF(SUM(I94,L94,N94)<>0,SUM(I94,L94,N94),"") -> #VALUE!
A95: 56900017076 | B95: 제 13호 | C95: L001010101000078 | D95: 노 무 비 | E95: 저압케이블전공 | F95: 인 | G95: =일위노임!G42 -> 0.032 | H95: ='합산자재(출력X)'!H30 -> 0 | I95: =IF(G95*H95<>0, TRUNC(G95*H95, 1), "") | J95: 0.032 | K95: ='합산자재(출력X)'!I30 -> 0 | L95: =IF(G95*K95<>0, TRUNC(G95*K95, 1), "") | M95: ='합산자재(출력X)'!J30 -> 0 | N95: =IF(G95*M95<>0, TRUNC(G95*M95, 1), "") | O95: =IF((H95+K95+M95)=0, "", (H95+K95+M95)) | P95: =IF(SUM(I95,L95,N95)<>0,SUM(I95,L95,N95),"")
A96: A0300000000 | B96: 제 13호 | C96: RENT000000000006 | D96: [ 공 구 손 료 ] | E96: 노무비의 3 % | F96: 식 | G96: 1 | H96: =L95*0.03 -> #VALUE! | I96: =IF(G96*H96<>0, TRUNC(G96*H96, 1), "") -> #VALUE! | J96: 1 | L96: =IF(G96*K96<>0, TRUNC(G96*K96, 1), "") | N96: =IF(G96*M96<>0, TRUNC(G96*M96, 1), "") | O96: =IF((H96+K96+M96)=0, "", (H96+K96+M96)) -> #VALUE! | P96: =IF(SUM(I96,L96,N96)<>0,SUM(I96,L96,N96),"") -> #VALUE!
B97: 합계줄 | D97: ( 합 계 ) | I97: =TRUNC(SUM(I91:I96)) -> #VALUE! | L97: =TRUNC(SUM(L91:L96)) -> 0 | N97: =TRUNC(SUM(N91:N96)) -> 0 | O97: =IF((H97+K97+M97)=0, "", (H97+K97+M97)) | P97: =IF(SUM(I97,L97,N97)<>0,SUM(I97,L97,N97),"") -> #VALUE!
A99: E145A358130 | B99: 일목줄 | C99: ELKA28000010S | D99: [제 14호] 난연제어케이블 F-CVV 10Cx1.5㎟ [M]
A100: E1450358130 | B100: 제 14호 | C100: 2612160320684254 | D100: 난연제어케이블 | E100: F-CVV 10Cx1.5㎟ | F100: M | G100: 1 | H100: ='합산자재(출력X)'!H22 -> 0 | I100: =IF(G100*H100<>0, TRUNC(G100*H100, 1), "") | J100: 1 | K100: ='합산자재(출력X)'!I22 -> 0 | L100: =IF(G100*K100<>0, TRUNC(G100*K100, 1), "") | M100: ='합산자재(출력X)'!J22 -> 0 | N100: =IF(G100*M100<>0, TRUNC(G100*M100, 1), "") | O100: =IF((H100+K100+M100)=0, "", (H100+K100+M100)) | P100: =IF(SUM(I100,L100,N100)<>0,SUM(I100,L100,N100),"")
A101: E1450358130 | B101: 제 14호 | C101: 2612160320684254 | D101: 난연제어케이블 | E101: F-CVV 10Cx1.5㎟ | F101: M | G101: 0.05 | H101: ='합산자재(출력X)'!H22 -> 0 | I101: =IF(G101*H101<>0, TRUNC(G101*H101, 1), "") | J101: 0.05 | K101: ='합산자재(출력X)'!I22 -> 0 | L101: =IF(G101*K101<>0, TRUNC(G101*K101, 1), "") | M101: ='합산자재(출력X)'!J22 -> 0 | N101: =IF(G101*M101<>0, TRUNC(G101*M101, 1), "") | O101: =IF((H101+K101+M101)=0, "", (H101+K101+M101)) | P101: =IF(SUM(I101,L101,N101)<>0,SUM(I101,L101,N101),"")
A102: A0100000000 | B102: 제 14호 | C102: RENT000000000003 | D102: [ 소모 잡자재 ] | E102: 전선, 전선관의 2 % | F102: 식 | G102: 1 | H102: =I100*0.02 -> #VALUE! | I102: =IF(G102*H102<>0, TRUNC(G102*H102, 1), "") -> #VALUE! | J102: 1 | L102: =IF(G102*K102<>0, TRUNC(G102*K102, 1), "") | N102: =IF(G102*M102<>0, TRUNC(G102*M102, 1), "") | O102: =IF((H102+K102+M102)=0, "", (H102+K102+M102)) -> #VALUE! | P102: =IF(SUM(I102,L102,N102)<>0,SUM(I102,L102,N102),"") -> #VALUE!
A103: 56900017076 | B103: 제 14호 | C103: L001010101000078 | D103: 노 무 비 | E103: 저압케이블전공 | F103: 인 | G103: =일위노임!G45 -> 0.048 | H103: ='합산자재(출력X)'!H30 -> 0 | I103: =IF(G103*H103<>0, TRUNC(G103*H103, 1), "") | J103: 0.048 | K103: ='합산자재(출력X)'!I30 -> 0 | L103: =IF(G103*K103<>0, TRUNC(G103*K103, 1), "") | M103: ='합산자재(출력X)'!J30 -> 0 | N103: =IF(G103*M103<>0, TRUNC(G103*M103, 1), "") | O103: =IF((H103+K103+M103)=0, "", (H103+K103+M103)) | P103: =IF(SUM(I103,L103,N103)<>0,SUM(I103,L103,N103),"")
A104: A0300000000 | B104: 제 14호 | C104: RENT000000000006 | D104: [ 공 구 손 료 ] | E104: 노무비의 3 % | F104: 식 | G104: 1 | H104: =L103*0.03 -> #VALUE! | I104: =IF(G104*H104<>0, TRUNC(G104*H104, 1), "") -> #VALUE! | J104: 1 | L104: =IF(G104*K104<>0, TRUNC(G104*K104, 1), "") | N104: =IF(G104*M104<>0, TRUNC(G104*M104, 1), "") | O104: =IF((H104+K104+M104)=0, "", (H104+K104+M104)) -> #VALUE! | P104: =IF(SUM(I104,L104,N104)<>0,SUM(I104,L104,N104),"") -> #VALUE!
B105: 합계줄 | D105: ( 합 계 ) | I105: =TRUNC(SUM(I99:I104)) -> #VALUE! | L105: =TRUNC(SUM(L99:L104)) -> 0 | N105: =TRUNC(SUM(N99:N104)) -> 0 | O105: =IF((H105+K105+M105)=0, "", (H105+K105+M105)) | P105: =IF(SUM(I105,L105,N105)<>0,SUM(I105,L105,N105),"") -> #VALUE!
A107: E145A358401 | B107: 일목줄 | C107: ELKB21000010S | D107: [제 15호] 난연제어케이블 F-CVV-S, 2Cx1.5㎟ [M]
A108: E1450358401 | B108: 제 15호 | C108: 2612160320684349 | D108: 난연제어케이블 | E108: F-CVV-S, 2Cx1.5㎟ | F108: M | G108: 1 | H108: ='합산자재(출력X)'!H23 -> 0 | I108: =IF(G108*H108<>0, TRUNC(G108*H108, 1), "") | J108: 1 | K108: ='합산자재(출력X)'!I23 -> 0 | L108: =IF(G108*K108<>0, TRUNC(G108*K108, 1), "") | M108: ='합산자재(출력X)'!J23 -> 0 | N108: =IF(G108*M108<>0, TRUNC(G108*M108, 1), "") | O108: =IF((H108+K108+M108)=0, "", (H108+K108+M108)) | P108: =IF(SUM(I108,L108,N108)<>0,SUM(I108,L108,N108),"")
A109: E1450358401 | B109: 제 15호 | C109: 2612160320684349 | D109: 난연제어케이블 | E109: F-CVV-S, 2Cx1.5㎟ | F109: M | G109: 0.05 | H109: ='합산자재(출력X)'!H23 -> 0 | I109: =IF(G109*H109<>0, TRUNC(G109*H109, 1), "") | J109: 0.05 | K109: ='합산자재(출력X)'!I23 -> 0 | L109: =IF(G109*K109<>0, TRUNC(G109*K109, 1), "") | M109: ='합산자재(출력X)'!J23 -> 0 | N109: =IF(G109*M109<>0, TRUNC(G109*M109, 1), "") | O109: =IF((H109+K109+M109)=0, "", (H109+K109+M109)) | P109: =IF(SUM(I109,L109,N109)<>0,SUM(I109,L109,N109),"")
A110: A0100000000 | B110: 제 15호 | C110: RENT000000000003 | D110: [ 소모 잡자재 ] | E110: 전선, 전선관의 2 % | F110: 식 | G110: 1 | H110: =I108*0.02 -> #VALUE! | I110: =IF(G110*H110<>0, TRUNC(G110*H110, 1), "") -> #VALUE! | J110: 1 | L110: =IF(G110*K110<>0, TRUNC(G110*K110, 1), "") | N110: =IF(G110*M110<>0, TRUNC(G110*M110, 1), "") | O110: =IF((H110+K110+M110)=0, "", (H110+K110+M110)) -> #VALUE! | P110: =IF(SUM(I110,L110,N110)<>0,SUM(I110,L110,N110),"") -> #VALUE!
A111: 56900017076 | B111: 제 15호 | C111: L001010101000078 | D111: 노 무 비 | E111: 저압케이블전공 | F111: 인 | G111: =일위노임!G48 -> 0.0168 | H111: ='합산자재(출력X)'!H30 -> 0 | I111: =IF(G111*H111<>0, TRUNC(G111*H111, 1), "") | J111: 0.0168 | K111: ='합산자재(출력X)'!I30 -> 0 | L111: =IF(G111*K111<>0, TRUNC(G111*K111, 1), "") | M111: ='합산자재(출력X)'!J30 -> 0 | N111: =IF(G111*M111<>0, TRUNC(G111*M111, 1), "") | O111: =IF((H111+K111+M111)=0, "", (H111+K111+M111)) | P111: =IF(SUM(I111,L111,N111)<>0,SUM(I111,L111,N111),"")
A112: A0300000000 | B112: 제 15호 | C112: RENT000000000006 | D112: [ 공 구 손 료 ] | E112: 노무비의 3 % | F112: 식 | G112: 1 | H112: =L111*0.03 -> #VALUE! | I112: =IF(G112*H112<>0, TRUNC(G112*H112, 1), "") -> #VALUE! | J112: 1 | L112: =IF(G112*K112<>0, TRUNC(G112*K112, 1), "") | N112: =IF(G112*M112<>0, TRUNC(G112*M112, 1), "") | O112: =IF((H112+K112+M112)=0, "", (H112+K112+M112)) -> #VALUE! | P112: =IF(SUM(I112,L112,N112)<>0,SUM(I112,L112,N112),"") -> #VALUE!
B113: 합계줄 | D113: ( 합 계 ) | I113: =TRUNC(SUM(I107:I112)) -> #VALUE! | L113: =TRUNC(SUM(L107:L112)) -> 0 | N113: =TRUNC(SUM(N107:N112)) -> 0 | O113: =IF((H113+K113+M113)=0, "", (H113+K113+M113)) | P113: =IF(SUM(I113,L113,N113)<>0,SUM(I113,L113,N113),"") -> #VALUE!
A115: 56959000001 | B115: 일목줄 | C115: E56959000001 | D115: [제 16호] 조명기구 A-TYPE (LED 100W.투광등-벽부) [개]
...

Sheet 일위노임
B1: 81 | D1: [ 보령가축분뇨 탈수케익 호퍼 설치공사(전기) ] - 일위노임 산출근거(2026년 하반기 노임) | AA1: 내선전공 | AB1: 저압케이블전공 | AC1: 보통인부 | AD1: 착암공
A2: 번호 | B2: 공종코드 | C2: 코드 | D2: 명 칭 | E2: 규 격 | F2: 단위 | G2: 수량 | K2: 코드 | L2: 공량산출 | P2: 단 위 단 가 산 출 | S2: 품셈근거 | T2: 비고
G3: 결정수량 | H3: 할증 | I3: 산출수량 | J3: 재할% | L3: 명칭 | M3: 품셈 | N3: 할증% | O3: 공량 | P3: 단가 | Q3: 단위단가 | R3: 단위계
B4: 공종줄 | D4: [ 제 1호 ] 강제전선관(노출) 아연도 22 mm [M.]
B5: 800 | C5: 3913170610034833 | D5: 강제전선관 | E5: 아연도 22 mm | F5: M | G5: 1 | H5: =IF(I5<>0, G5-I5, "") -> 0 | I5: 1 | K5: 56900017016 | L5: 내선전공 | M5: 0.11 | N5: 120 | O5: =IF(I5*M5=0, "", I5*M5*(N5/100)) -> 0.132 | Q5: =TRUNC(P5*M5*N5/100) -> 0 | S5: 전기5-1 | AA5: =O5 -> 0.132
B6: 800 | C6: L001010101000075 | D6: 노 무 비 | E6: 내선전공 | F6: 인 | G6: =IF(H6*I6/100+0.000005 <1, TRUNC(H6*I6/100+0.000005, 옵션!$E$13), TRUNC(H6*I6/100+0.000005, 옵션!$E$13)) -> 0.132 | H6: =옵션!$B$13 -> 100 | I6: =SUM(AA5:AA5) -> 0.132 | O6: =IF(I6*M6=0, "", I6*M6*(N6/100)) | Q6: =TRUNC(P6*M6*N6/100) -> 0 | Z6: 노임계 | AA6: =SUM(AA5:AA5) -> 0.132
B7: 공종줄 | D7: [ 제 2호 ] 강제전선관(노출) 아연도 36 mm [M.]
B8: 800 | C8: 3913170610034835 | D8: 강제전선관 | E8: 아연도 36 mm | F8: M | G8: 1 | H8: =IF(I8<>0, G8-I8, "") -> 0 | I8: 1 | K8: 56900017016 | L8: 내선전공 | M8: 0.2 | N8: 120 | O8: =IF(I8*M8=0, "", I8*M8*(N8/100)) -> 0.24 | Q8: =TRUNC(P8*M8*N8/100) -> 0 | S8: 전기5-1 | AA8: =O8 -> 0.24
B9: 800 | C9: L001010101000075 | D9: 노 무 비 | E9: 내선전공 | F9: 인 | G9: =IF(H9*I9/100+0.000005 <1, TRUNC(H9*I9/100+0.000005, 옵션!$E$13), TRUNC(H9*I9/100+0.000005, 옵션!$E$13)) -> 0.24 | H9: =옵션!$B$13 -> 100 | I9: =SUM(AA8:AA8) -> 0.24 | O9: =IF(I9*M9=0, "", I9*M9*(N9/100)) | Q9: =TRUNC(P9*M9*N9/100) -> 0 | Z9: 노임계 | AA9: =SUM(AA8:AA8) -> 0.24
B10: 공종줄 | D10: [ 제 3호 ] 강제전선관(노출) 아연도 54 mm [M.]
B11: 800 | C11: 3913170610034837 | D11: 강제전선관 | E11: 아연도 54 mm | F11: M | G11: 1 | H11: =IF(I11<>0, G11-I11, "") -> 0 | I11: 1 | K11: 56900017016 | L11: 내선전공 | M11: 0.34 | N11: 120 | O11: =IF(I11*M11=0, "", I11*M11*(N11/100)) -> 0.408 | Q11: =TRUNC(P11*M11*N11/100) -> 0 | S11: 전기5-1 | AA11: =O11 -> 0.408
B12: 800 | C12: L001010101000075 | D12: 노 무 비 | E12: 내선전공 | F12: 인 | G12: =IF(H12*I12/100+0.000005 <1, TRUNC(H12*I12/100+0.000005, 옵션!$E$13), TRUNC(H12*I12/100+0.000005, 옵션!$E$13)) -> 0.408 | H12: =옵션!$B$13 -> 100 | I12: =SUM(AA11:AA11) -> 0.408 | O12: =IF(I12*M12=0, "", I12*M12*(N12/100)) | Q12: =TRUNC(P12*M12*N12/100) -> 0 | Z12: 노임계 | AA12: =SUM(AA11:AA11) -> 0.408
B13: 공종줄 | D13: [ 제 4호 ] 케이블트레이 STRAIGHT,St W150x100Hx2.3t [m]
B14: 800 | C14: 3913170420174046 | D14: 케이블트레이 | E14: STRAIGHT,St W150x100Hx2.3t | F14: M | G14: 1.05 | H14: =IF(I14<>0, G14-I14, "") -> 0.05 | I14: 1 | J14: 5 | K14: 56900017016 | L14: 내선전공 | M14: 0.23 | N14: 100 | O14: =IF(I14*M14=0, "", I14*M14*(N14/100)) -> 0.23 | Q14: =TRUNC(P14*M14*N14/100) -> 0 | S14: 전기5-8 | AA14: =O14 -> 0.23
B15: 800 | C15: L001010101000075 | D15: 노 무 비 | E15: 내선전공 | F15: 인 | G15: =IF(H15*I15/100+0.000005 <1, TRUNC(H15*I15/100+0.000005, 옵션!$E$13), TRUNC(H15*I15/100+0.000005, 옵션!$E$13)) -> 0.23 | H15: =옵션!$B$13 -> 100 | I15: =SUM(AA14:AA14) -> 0.23 | O15: =IF(I15*M15=0, "", I15*M15*(N15/100)) | Q15: =TRUNC(P15*M15*N15/100) -> 0 | Z15: 노임계 | AA15: =SUM(AA14:AA14) -> 0.23
B16: 공종줄 | D16: [ 제 5호 ] 케이블트레이 COVER,St W150 [m]
B17: 800 | C17: 3913170420171159 | D17: 케이블트레이 | E17: COVER,St W150 | F17: M | G17: 1.05 | H17: =IF(I17<>0, G17-I17, "") -> 0.05 | I17: 1 | J17: 5 | K17: 56900017016 | L17: 내선전공 | M17: 0.046 | N17: 100 | O17: =IF(I17*M17=0, "", I17*M17*(N17/100)) -> 0.046 | Q17: =TRUNC(P17*M17*N17/100) -> 0 | S17: 전기5-8 | AA17: =O17 -> 0.046
B18: 800 | C18: L001010101000075 | D18: 노 무 비 | E18: 내선전공 | F18: 인 | G18: =IF(H18*I18/100+0.000005 <1, TRUNC(H18*I18/100+0.000005, 옵션!$E$13), TRUNC(H18*I18/100+0.000005, 옵션!$E$13)) -> 0.046 | H18: =옵션!$B$13 -> 100 | I18: =SUM(AA17:AA17) -> 0.046 | O18: =IF(I18*M18=0, "", I18*M18*(N18/100)) | Q18: =TRUNC(P18*M18*N18/100) -> 0 | Z18: 노임계 | AA18: =SUM(AA17:AA17) -> 0.046
B19: 공종줄 | D19: [ 제 6호 ] 케이블트레이부속품 H. ELBOW, St,W150x100Hx2.3t [개]
B20: 800 | C20: 3913170520175048 | D20: 케이블트레이부속품 | E20: H. ELBOW, St,W150x100Hx2.3t | F20: 개 | G20: 1 | H20: =IF(I20<>0, G20-I20, "") -> 0 | I20: 1 | K20: 56900017016 | L20: 내선전공 | M20: 0.23 | N20: 100 | O20: =IF(I20*M20=0, "", I20*M20*(N20/100)) -> 0.23 | Q20: =TRUNC(P20*M20*N20/100) -> 0 | S20: 전기5-8 | AA20: =O20 -> 0.23
B21: 800 | C21: L001010101000075 | D21: 노 무 비 | E21: 내선전공 | F21: 인 | G21: =IF(H21*I21/100+0.000005 <1, TRUNC(H21*I21/100+0.000005, 옵션!$E$13), TRUNC(H21*I21/100+0.000005, 옵션!$E$13)) -> 0.23 | H21: =옵션!$B$13 -> 100 | I21: =SUM(AA20:AA20) -> 0.23 | O21: =IF(I21*M21=0, "", I21*M21*(N21/100)) | Q21: =TRUNC(P21*M21*N21/100) -> 0 | Z21: 노임계 | AA21: =SUM(AA20:AA20) -> 0.23
B22: 공종줄 | D22: [ 제 7호 ] 케이블트레이부속품 V. ELBOW, St,W150x100Hx2.3t [개]
B23: 800 | C23: 3913170520175062 | D23: 케이블트레이부속품 | E23: V. ELBOW, St,W150x100Hx2.3t | F23: 개 | G23: 1 | H23: =IF(I23<>0, G23-I23, "") -> 0 | I23: 1 | K23: 56900017016 | L23: 내선전공 | M23: 0.23 | N23: 100 | O23: =IF(I23*M23=0, "", I23*M23*(N23/100)) -> 0.23 | Q23: =TRUNC(P23*M23*N23/100) -> 0 | S23: 전기5-8 | AA23: =O23 -> 0.23
B24: 800 | C24: L001010101000075 | D24: 노 무 비 | E24: 내선전공 | F24: 인 | G24: =IF(H24*I24/100+0.000005 <1, TRUNC(H24*I24/100+0.000005, 옵션!$E$13), TRUNC(H24*I24/100+0.000005, 옵션!$E$13)) -> 0.23 | H24: =옵션!$B$13 -> 100 | I24: =SUM(AA23:AA23) -> 0.23 | O24: =IF(I24*M24=0, "", I24*M24*(N24/100)) | Q24: =TRUNC(P24*M24*N24/100) -> 0 | Z24: 노임계 | AA24: =SUM(AA23:AA23) -> 0.23
B25: 공종줄 | D25: [ 제 8호 ] 케이블트레이부속품 REDUCER, St, W150x100Hx2.3t [개]
B26: 800 | C26: 3913170520175104 | D26: 케이블트레이부속품 | E26: REDUCER, St, W150x100Hx2.3t | F26: 개 | G26: 1 | H26: =IF(I26<>0, G26-I26, "") -> 0 | I26: 1 | K26: 56900017016 | L26: 내선전공 | M26: 0.23 | N26: 100 | O26: =IF(I26*M26=0, "", I26*M26*(N26/100)) -> 0.23 | Q26: =TRUNC(P26*M26*N26/100) -> 0 | S26: 전기5-8 | AA26: =O26 -> 0.23
B27: 800 | C27: L001010101000075 | D27: 노 무 비 | E27: 내선전공 | F27: 인 | G27: =IF(H27*I27/100+0.000005 <1, TRUNC(H27*I27/100+0.000005, 옵션!$E$13), TRUNC(H27*I27/100+0.000005, 옵션!$E$13)) -> 0.23 | H27: =옵션!$B$13 -> 100 | I27: =SUM(AA26:AA26) -> 0.23 | O27: =IF(I27*M27=0, "", I27*M27*(N27/100)) | Q27: =TRUNC(P27*M27*N27/100) -> 0 | Z27: 노임계 | AA27: =SUM(AA26:AA26) -> 0.23
B28: 공종줄 | D28: [ 제 9호 ] 전선덕트 스텐 100x50 mm [m]
B29: 800 | C29: 3913171220173817 | D29: 전선덕트 | E29: 스텐 100x50 mm | F29: M | G29: 1.05 | H29: =IF(I29<>0, G29-I29, "") -> 0.05 | I29: 1 | J29: 5 | K29: 56900017016 | L29: 내선전공 | M29: 0.2 | N29: 70 | O29: =IF(I29*M29=0, "", I29*M29*(N29/100)) -> 0.14 | Q29: =TRUNC(P29*M29*N29/100) -> 0 | S29: 전기5-7 | AA29: =O29 -> 0.14
B30: 800 | C30: L001010101000075 | D30: 노 무 비 | E30: 내선전공 | F30: 인 | G30: =IF(H30*I30/100+0.000005 <1, TRUNC(H30*I30/100+0.000005, 옵션!$E$13), TRUNC(H30*I30/100+0.000005, 옵션!$E$13)) -> 0.14 | H30: =옵션!$B$13 -> 100 | I30: =SUM(AA29:AA29) -> 0.14 | O30: =IF(I30*M30=0, "", I30*M30*(N30/100)) | Q30: =TRUNC(P30*M30*N30/100) -> 0 | Z30: 노임계 | AA30: =SUM(AA29:AA29) -> 0.14
B31: 공종줄 | D31: [ 제 10호 ] 접지용비닐절연전선(F-GV) 10㎟ [M]
B32: 800 | C32: 2612152420683698 | D32: 접지용비닐절연전선(F-GV) | E32: 10㎟ | F32: M | G32: 1 | H32: =IF(I32<>0, G32-I32, "") -> 0 | I32: 1 | K32: 56900017016 | L32: 내선전공 | M32: 0.006 | N32: 150 | O32: =IF(I32*M32=0, "", I32*M32*(N32/100)) -> 0.009 | Q32: =TRUNC(P32*M32*N32/100) -> 0 | S32: 전기3-38 | AA32: =O32 -> 0.009
B33: 800 | C33: L001010101000075 | D33: 노 무 비 | E33: 내선전공 | F33: 인 | G33: =IF(H33*I33/100+0.000005 <1, TRUNC(H33*I33/100+0.000005, 옵션!$E$13), TRUNC(H33*I33/100+0.000005, 옵션!$E$13)) -> 0.009 | H33: =옵션!$B$13 -> 100 | I33: =SUM(AA32:AA32) -> 0.009 | O33: =IF(I33*M33=0, "", I33*M33*(N33/100)) | Q33: =TRUNC(P33*M33*N33/100) -> 0 | Z33: 노임계 | AA33: =SUM(AA32:AA32) -> 0.009
B34: 공종줄 | D34: [ 제 11호 ] 폴리에틸렌 난연케이블 0.6/1kv F-CV 3C×2.5㎟ [M]
B35: 800 | C35: 2612162920683921 | D35: 폴리에틸렌 난연케이블 | E35: 0.6/1kv F-CV 3C×2.5㎟ | F35: M | G35: 1 | H35: =IF(I35<>0, G35-I35, "") -> 0 | I35: 1 | K35: 56900017076 | L35: 저압케이블전공 | M35: 0.019 | N35: 100 | O35: =IF(I35*M35=0, "", I35*M35*(N35/100)) -> 0.019 | Q35: =TRUNC(P35*M35*N35/100) -> 0 | S35: 전기5-13 | AB35: =O35 -> 0.019
B36: 800 | C36: L001010101000078 | D36: 노 무 비 | E36: 저압케이블전공 | F36: 인 | G36: =IF(H36*I36/100+0.000005 <1, TRUNC(H36*I36/100+0.000005, 옵션!$E$13), TRUNC(H36*I36/100+0.000005, 옵션!$E$13)) -> 0.019 | H36: =옵션!$B$13 -> 100 | I36: =SUM(AB35:AB35) -> 0.019 | O36: =IF(I36*M36=0, "", I36*M36*(N36/100)) | Q36: =TRUNC(P36*M36*N36/100) -> 0 | Z36: 노임계 | AB36: =SUM(AB35:AB35) -> 0.019
B37: 공종줄 | D37: [ 제 12호 ] 폴리에틸렌 난연케이블 0.6/1kv F-CV 4C×10㎟ [M]
B38: 800 | C38: 2612162920683946 | D38: 폴리에틸렌 난연케이블 | E38: 0.6/1kv F-CV 4C×10㎟ | F38: M | G38: 1 | H38: =IF(I38<>0, G38-I38, "") -> 0 | I38: 1 | K38: 56900017076 | L38: 저압케이블전공 | M38: 0.049 | N38: 100 | O38: =IF(I38*M38=0, "", I38*M38*(N38/100)) -> 0.049 | Q38: =TRUNC(P38*M38*N38/100) -> 0 | S38: 전기5-13 | AB38: =O38 -> 0.049
B39: 800 | C39: L001010101000078 | D39: 노 무 비 | E39: 저압케이블전공 | F39: 인 | G39: =IF(H39*I39/100+0.000005 <1, TRUNC(H39*I39/100+0.000005, 옵션!$E$13), TRUNC(H39*I39/100+0.000005, 옵션!$E$13)) -> 0.049 | H39: =옵션!$B$13 -> 100 | I39: =SUM(AB38:AB38) -> 0.049 | O39: =IF(I39*M39=0, "", I39*M39*(N39/100)) | Q39: =TRUNC(P39*M39*N39/100) -> 0 | Z39: 노임계 | AB39: =SUM(AB38:AB38) -> 0.049
B40: 공종줄 | D40: [ 제 13호 ] 난연제어케이블 F-CVV 5Cx1.5㎟ [M]
B41: 800 | C41: 2612160320684238 | D41: 난연제어케이블 | E41: F-CVV 5Cx1.5㎟ | F41: M | G41: 1 | H41: =IF(I41<>0, G41-I41, "") -> 0 | I41: 1 | K41: 56900017076 | L41: 저압케이블전공 | M41: 0.032 | N41: 100 | O41: =IF(I41*M41=0, "", I41*M41*(N41/100)) -> 0.032 | Q41: =TRUNC(P41*M41*N41/100) -> 0 | S41: 전기5-13 | AB41: =O41 -> 0.032
B42: 800 | C42: L001010101000078 | D42: 노 무 비 | E42: 저압케이블전공 | F42: 인 | G42: =IF(H42*I42/100+0.000005 <1, TRUNC(H42*I42/100+0.000005, 옵션!$E$13), TRUNC(H42*I42/100+0.000005, 옵션!$E$13)) -> 0.032 | H42: =옵션!$B$13 -> 100 | I42: =SUM(AB41:AB41) -> 0.032 | O42: =IF(I42*M42=0, "", I42*M42*(N42/100)) | Q42: =TRUNC(P42*M42*N42/100) -> 0 | Z42: 노임계 | AB42: =SUM(AB41:AB41) -> 0.032
B43: 공종줄 | D43: [ 제 14호 ] 난연제어케이블 F-CVV 10Cx1.5㎟ [M]
B44: 800 | C44: 2612160320684254 | D44: 난연제어케이블 | E44: F-CVV 10Cx1.5㎟ | F44: M | G44: 1 | H44: =IF(I44<>0, G44-I44, "") -> 0 | I44: 1 | K44: 56900017076 | L44: 저압케이블전공 | M44: 0.048 | N44: 100 | O44: =IF(I44*M44=0, "", I44*M44*(N44/100)) -> 0.048 | Q44: =TRUNC(P44*M44*N44/100) -> 0 | S44: 전기5-13 | AB44: =O44 -> 0.048
B45: 800 | C45: L001010101000078 | D45: 노 무 비 | E45: 저압케이블전공 | F45: 인 | G45: =IF(H45*I45/100+0.000005 <1, TRUNC(H45*I45/100+0.000005, 옵션!$E$13), TRUNC(H45*I45/100+0.000005, 옵션!$E$13)) -> 0.048 | H45: =옵션!$B$13 -> 100 | I45: =SUM(AB44:AB44) -> 0.048 | O45: =IF(I45*M45=0, "", I45*M45*(N45/100)) | Q45: =TRUNC(P45*M45*N45/100) -> 0 | Z45: 노임계 | AB45: =SUM(AB44:AB44) -> 0.048
B46: 공종줄 | D46: [ 제 15호 ] 난연제어케이블 F-CVV-S, 2Cx1.5㎟ [M]
B47: 800 | C47: 2612160320684349 | D47: 난연제어케이블 | E47: F-CVV-S, 2Cx1.5㎟ | F47: M | G47: 1 | H47: =IF(I47<>0, G47-I47, "") -> 0 | I47: 1 | K47: 56900017076 | L47: 저압케이블전공 | M47: 0.014 | N47: 120 | O47: =IF(I47*M47=0, "", I47*M47*(N47/100)) -> 0.0168 | Q47: =TRUNC(P47*M47*N47/100) -> 0 | S47: 전기5-13 | AB47: =O47 -> 0.0168
B48: 800 | C48: L001010101000078 | D48: 노 무 비 | E48: 저압케이블전공 | F48: 인 | G48: =IF(H48*I48/100+0.000005 <1, TRUNC(H48*I48/100+0.000005, 옵션!$E$13), TRUNC(H48*I48/100+0.000005, 옵션!$E$13)) -> 0.0168 | H48: =옵션!$B$13 -> 100 | I48: =SUM(AB47:AB47) -> 0.0168 | O48: =IF(I48*M48=0, "", I48*M48*(N48/100)) | Q48: =TRUNC(P48*M48*N48/100) -> 0 | Z48: 노임계 | AB48: =SUM(AB47:AB47) -> 0.0168
B49: 공종줄 | D49: [ 제 16호 ] 조명기구 A-TYPE (LED 100W.투광등-벽부) [개]
B50: 800 | C50: 3910160520280002 | D50: 조명기구 | E50: A-TYPE (LED 100W.투광등-벽부) | F50: 개 | G50: 1 | H50: =IF(I50<>0, G50-I50, "") -> 0 | I50: 1 | K50: 56900017016 | L50: 내선전공 | M50: 0.208 | N50: 100 | O50: =IF(I50*M50=0, "", I50*M50*(N50/100)) -> 0.208 | Q50: =TRUNC(P50*M50*N50/100) -> 0 | S50: 전기5-26-4 | AA50: =O50 -> 0.208
B51: 800 | C51: L001010101000075 | D51: 노 무 비 | E51: 내선전공 | F51: 인 | G51: =IF(H51*I51/100+0.000005 <1, TRUNC(H51*I51/100+0.000005, 옵션!$E$13), TRUNC(H51*I51/100+0.000005, 옵션!$E$13)) -> 0.208 | H51: =옵션!$B$13 -> 100 | I51: =SUM(AA50:AA50) -> 0.208 | O51: =IF(I51*M51=0, "", I51*M51*(N51/100)) | Q51: =TRUNC(P51*M51*N51/100) -> 0 | Z51: 노임계 | AA51: =SUM(AA50:AA50) -> 0.208
B52: 공종줄 | D52: [ 제 17호 ] 케이블트레이지지대 W150-1단 [식]
B53: 800 | C53: 3116210220135769 | D53: 스트롱앵커 | E53: 3/8 | F53: 개 | G53: 2 | H53: =IF(I53<>0, G53-I53, "") -> 0 | I53: 2 | K53: 56900017016 | L53: 내선전공 | M53: 0.036 | N53: 150 | O53: =IF(I53*M53=0, "", I53*M53*(N53/100)) -> 0.108 | Q53: =TRUNC(P53*M53*N53/100) -> 0 | S53: 전기5-29 | AA53: =O53 -> 0.108
B54: 800 | C54: L001010101000075 | D54: 노 무 비 | E54: 내선전공 | F54: 인 | G54: =IF(H54*I54/100+0.000005 <1, TRUNC(H54*I54/100+0.000005, 옵션!$E$13), TRUNC(H54*I54/100+0.000005, 옵션!$E$13)) -> 0.108 | H54: =옵션!$B$13 -> 100 | I54: =SUM(AA53:AA53) -> 0.108 | O54: =IF(I54*M54=0, "", I54*M54*(N54/100)) | Q54: =TRUNC(P54*M54*N54/100) -> 0 | Z54: 노임계 | AA54: =SUM(AA53:AA53) -> 0.108
B55: 공종줄 | D55: [ 제 18호 ] 벽관통 구멍(코어드릴) 36Φ [개소]
B56: 800 | C56: 391115ZZ701Z0001 | D56: 품셈 산출근거 | E56: 36Φ | F56: 식 | G56: 1 | H56: =IF(I56<>0, G56-I56, "") -> 0 | I56: 1 | K56: 56900017041 | L56: 보통인부 | M56: 0.266 | N56: 100 | O56: =IF(I56*M56=0, "", I56*M56*(N56/100)) -> 0.266 | Q56: =TRUNC(P56*M56*N56/100) -> 0 | S56: 전기5-29-1 | AC56: =O56 -> 0.266
B57: 800 | C57: 391115ZZ701Z0001 | G57: 1 | H57: =IF(I57<>0, G57-I57, "") -> 0 | I57: 1 | K57: 56900017098 | L57: 착암공 | M57: 0.266 | N57: 100 | O57: =IF(I57*M57=0, "", I57*M57*(N57/100)) -> 0.266 | Q57: =TRUNC(P57*M57*N57/100) -> 0 | S57: 전기5-29-1 | AD57: =O57 -> 0.266
B58: 800 | C58: L001010101000002 | D58: 노 무 비 | E58: 보통인부 | F58: 인 | G58: =IF(H58*I58/100+0.000005 <1, TRUNC(H58*I58/100+0.000005, 옵션!$E$13), TRUNC(H58*I58/100+0.000005, 옵션!$E$13)) -> 0.266 | H58: =옵션!$B$13 -> 100 | I58: =SUM(AC56:AC57) -> 0.266 | O58: =IF(I58*M58=0, "", I58*M58*(N58/100)) | Q58: =TRUNC(P58*M58*N58/100) -> 0 | Z58: 노임계 | AC58: =SUM(AC56:AC57) -> 0.266 | AD58: =SUM(AD56:AD57) -> 0.266
B59: 800 | C59: L001010101000015 | D59: 노 무 비 | E59: 착암공 | F59: 인 | G59: =IF(H59*I59/100+0.000005 <1, TRUNC(H59*I59/100+0.000005, 옵션!$E$13), TRUNC(H59*I59/100+0.000005, 옵션!$E$13)) -> 0.266 | H59: =옵션!$B$13 -> 100 | I59: =SUM(AD56:AD57) -> 0.266 | O59: =IF(I59*M59=0, "", I59*M59*(N59/100)) | Q59: =TRUNC(P59*M59*N59/100) -> 0
B60: 공종줄 | D60: [ 제 19호 ] 벽관통 구멍(코어드릴) 54Φ [개소]
B61: 800 | C61: 391115ZZ701Z0002 | D61: 품셈 산출근거 | E61: 54Φ | F61: 식 | G61: 1 | H61: =IF(I61<>0, G61-I61, "") -> 0 | I61: 1 | K61: 56900017041 | L61: 보통인부 | M61: 0.266 | N61: 100 | O61: =IF(I61*M61=0, "", I61*M61*(N61/100)) -> 0.266 | Q61: =TRUNC(P61*M61*N61/100) -> 0 | S61: 전기5-29-1 | AC61: =O61 -> 0.266
B62: 800 | C62: 391115ZZ701Z0002 | G62: 1 | H62: =IF(I62<>0, G62-I62, "") -> 0 | I62: 1 | K62: 56900017098 | L62: 착암공 | M62: 0.266 | N62: 100 | O62: =IF(I62*M62=0, "", I62*M62*(N62/100)) -> 0.266 | Q62: =TRUNC(P62*M62*N62/100) -> 0 | S62: 전기5-29-1 | AD62: =O62 -> 0.266
B63: 800 | C63: L001010101000002 | D63: 노 무 비 | E63: 보통인부 | F63: 인 | G63: =IF(H63*I63/100+0.000005 <1, TRUNC(H63*I63/100+0.000005, 옵션!$E$13), TRUNC(H63*I63/100+0.000005, 옵션!$E$13)) -> 0.266 | H63: =옵션!$B$13 -> 100 | I63: =SUM(AC61:AC62) -> 0.266 | O63: =IF(I63*M63=0, "", I63*M63*(N63/100)) | Q63: =TRUNC(P63*M63*N63/100) -> 0 | Z63: 노임계 | AC63: =SUM(AC61:AC62) -> 0.266 | AD63: =SUM(AD61:AD62) -> 0.266
B64: 800 | C64: L001010101000015 | D64: 노 무 비 | E64: 착암공 | F64: 인 | G64: =IF(H64*I64/100+0.000005 <1, TRUNC(H64*I64/100+0.000005, 옵션!$E$13), TRUNC(H64*I64/100+0.000005, 옵션!$E$13)) -> 0.266 | H64: =옵션!$B$13 -> 100 | I64: =SUM(AD61:AD62) -> 0.266 | O64: =IF(I64*M64=0, "", I64*M64*(N64/100)) | Q64: =TRUNC(P64*M64*N64/100) -> 0
B65: 공종줄 | D65: [ 제 20호 ] 아웃렛박스-ST 중형4각 54mm 노출 [개]
B66: 800 | C66: 3912130810035753 | D66: 아우트렛박스 | E66: 중형4각 54㎜ | F66: 개 | G66: 1 | H66: =IF(I66<>0, G66-I66, "") -> 0 | I66: 1 | K66: 56900017016 | L66: 내선전공 | M66: 0.12 | N66: 120 | O66: =IF(I66*M66=0, "", I66*M66*(N66/100)) -> 0.144 | Q66: =TRUNC(P66*M66*N66/100) -> 0 | S66: 전기5-3 | AA66: =O66 -> 0.144
B67: 800 | C67: L001010101000075 | D67: 노 무 비 | E67: 내선전공 | F67: 인 | G67: =IF(H67*I67/100+0.000005 <1, TRUNC(H67*I67/100+0.000005, 옵션!$E$13), TRUNC(H67*I67/100+0.000005, 옵션!$E$13)) -> 0.144 | H67: =옵션!$B$13 -> 100 | I67: =SUM(AA66:AA66) -> 0.144 | O67: =IF(I67*M67=0, "", I67*M67*(N67/100)) | Q67: =TRUNC(P67*M67*N67/100) -> 0 | Z67: 노임계 | AA67: =SUM(AA66:AA66) -> 0.144
B68: 공종줄 | D68: [ 제 21호 ] 배관용구멍뚫기(코어드릴기준) Φ150x100 [개소]
B69: 800 | C69: 391115ZZ701Z0003 | D69: 품셈 산출근거 | E69: Φ150x100 | F69: 식 | G69: 1 | H69: =IF(I69<>0, G69-I69, "") -> 0 | I69: 1 | K69: 56900017041 | L69: 보통인부 | M69: 0.268 | N69: 100 | O69: =IF(I69*M69=0, "", I69*M69*(N69/100)) -> 0.268 | Q69: =TRUNC(P69*M69*N69/100) -> 0 | S69: 전기5-29-1 | AC69: =O69 -> 0.268
B70: 800 | C70: 391115ZZ701Z0003 | G70: 1 | H70: =IF(I70<>0, G70-I70, "") -> 0 | I70: 1 | K70: 56900017098 | L70: 착암공 | M70: 0.268 | N70: 100 | O70: =IF(I70*M70=0, "", I70*M70*(N70/100)) -> 0.268 | Q70: =TRUNC(P70*M70*N70/100) -> 0 | S70: 전기5-29-1 | AD70: =O70 -> 0.268
B71: 800 | C71: L001010101000002 | D71: 노 무 비 | E71: 보통인부 | F71: 인 | G71: =IF(H71*I71/100+0.000005 <1, TRUNC(H71*I71/100+0.000005, 옵션!$E$13), TRUNC(H71*I71/100+0.000005, 옵션!$E$13)) -> 0.268 | H71: =옵션!$B$13 -> 100 | I71: =SUM(AC69:AC70) -> 0.268 | O71: =IF(I71*M71=0, "", I71*M71*(N71/100)) | Q71: =TRUNC(P71*M71*N71/100) -> 0 | Z71: 노임계 | AC71: =SUM(AC69:AC70) -> 0.268 | AD71: =SUM(AD69:AD70) -> 0.268
B72: 800 | C72: L001010101000015 | D72: 노 무 비 | E72: 착암공 | F72: 인 | G72: =IF(H72*I72/100+0.000005 <1, TRUNC(H72*I72/100+0.000005, 옵션!$E$13), TRUNC(H72*I72/100+0.000005, 옵션!$E$13)) -> 0.268 | H72: =옵션!$B$13 -> 100 | I72: =SUM(AD69:AD70) -> 0.268 | O72: =IF(I72*M72=0, "", I72*M72*(N72/100)) | Q72: =TRUNC(P72*M72*N72/100) -> 0

Sheet 단가조사
B1: 33 | D1: [ 보령가축분뇨 탈수케익 호퍼 설치공사(전기) ] - 단가조사서(2026년09월)
A2: 번호 | B2: 공종코드 | C2: 코드 | D2: 명 칭 | E2: 규 격 | F2: 단위 | G2: 적용단가 | H2: 시설단가 | J2: 거래가격 | L2: 물가정보 | N2: 물가자료 | P2: 조사단가1 | R2: 조사단가2 | T2: 비고
H3: 단가 | I3: 코드 | J3: 단가 | K3: PAGE | L3: 단가 | M3: PAGE | N3: 단가 | O3: PAGE | P3: 단가 | Q3: PAGE | R3: 단가 | S3: PAGE
C4: 3913170610034833 | D4: 강제전선관 | E4: 아연도 22 mm | F4: M | G4: =MIN(J4,L4,N4,P4) -> 0 | K4: 1029 | M4: 1-1201
C5: 3913170610034835 | D5: 강제전선관 | E5: 아연도 36 mm | F5: M | G5: =MIN(J5,L5,N5,P5) -> 0 | K5: 1029 | M5: 1-1201
C6: 3913170610034837 | D6: 강제전선관 | E6: 아연도 54 mm | F6: M | G6: =MIN(J6,L6,N6,P6) -> 0 | K6: 1029 | M6: 1-1201
C7: 3912130810035753 | D7: 아우트렛박스 | E7: 중형4각 54㎜ | F7: 개 | G7: =MIN(J7,L7,N7,P7) -> 0 | K7: 1028 | M7: 1-1206
C8: 3913170420174046 | D8: 케이블트레이 | E8: STRAIGHT,St W150x100Hx2.3t | F8: M | G8: =MIN(J8,L8,N8,P8) -> 0 | K8: 1035 | M8: 1-1215
C9: 3913170420171159 | D9: 케이블트레이 | E9: COVER,St W150 | F9: M | G9: =MIN(J9,L9,N9,P9) -> 0 | M9: 1-1215
C10: 3913170520175048 | D10: 케이블트레이부속품 | E10: H. ELBOW, St,W150x100Hx2.3t | F10: 개 | G10: =MIN(J10,L10,N10,P10) -> 0 | K10: 1035 | M10: 1-1215
C11: 3913170520175062 | D11: 케이블트레이부속품 | E11: V. ELBOW, St,W150x100Hx2.3t | F11: 개 | G11: =MIN(J11,L11,N11,P11) -> 0 | K11: 1035 | M11: 1-1215
C12: 3913170520175104 | D12: 케이블트레이부속품 | E12: REDUCER, St, W150x100Hx2.3t | F12: 개 | G12: =MIN(J12,L12,N12,P12) -> 0 | M12: 1-1215
C13: 3913170520935624 | D13: 케이블트레이부속품 | E13: RAIL CLAMP | F13: 개 | G13: =MIN(H13,J13,L13,N13,P13) -> 0
C14: 3913170520175128 | D14: 케이블트레이부속품 | E14: U CHANNEL, 41x41x2.6t | F14: M | G14: =MIN(H14,J14,L14,N14,P14) -> 0
C15: 3913171220173817 | D15: 전선덕트 | E15: 스텐 100x50 mm | F15: M | G15: =MIN(J15,L15,N15,P15) -> 0 | K15: 1031 | M15: 1-1205
C16: 3116210220135769 | D16: 스트롱앵커 | E16: 3/8 | F16: 개 | G16: =MIN(J16,L16,N16,P16) -> 0 | M16: 1-642
C17: 3116169820135160 | D17: 행거볼트 | E17: M10×1000㎜ | F17: 개 | G17: =MIN(J17,L17,N17,P17) -> 0 | M17: 1-43
C18: 2612152420683698 | D18: 접지용비닐절연전선(F-GV) | E18: 10㎟ | F18: M | G18: =MIN(J18,L18,N18,P18) -> 0 | K18: 994 | M18: 1-1165
C19: 2612162920683921 | D19: 폴리에틸렌 난연케이블 | E19: 0.6/1kv F-CV 3C×2.5㎟ | F19: M | G19: =MIN(J19,L19,N19,P19) -> 0 | K19: 993 | M19: 1-1168
C20: 2612162920683946 | D20: 폴리에틸렌 난연케이블 | E20: 0.6/1kv F-CV 4C×10㎟ | F20: M | G20: =MIN(J20,L20,N20,P20) -> 0 | K20: 993 | M20: 1-1168
C21: 2612160320684238 | D21: 난연제어케이블 | E21: F-CVV 5Cx1.5㎟ | F21: M | G21: =MIN(J21,L21,N21,P21) -> 0 | K21: 995 | M21: 1-1171
C22: 2612160320684254 | D22: 난연제어케이블 | E22: F-CVV 10Cx1.5㎟ | F22: M | G22: =MIN(J22,L22,N22,P22) -> 0 | K22: 995 | M22: 1-1171
C23: 2612160320684349 | D23: 난연제어케이블 | E23: F-CVV-S, 2Cx1.5㎟ | F23: M | G23: =MIN(J23,L23,N23,P23) -> 0 | K23: 995 | M23: 1-1171
C24: 3910160520280002 | D24: 조명기구 | E24: A-TYPE (LED 100W. 투광등-벽부) | F24: 개 | G24: =MIN(H24,J24,L24,N24,P24) -> 0
C25: 4619160120097010 | D25: 전동기제어반 개량 | E25: MCC 판넬개량 및 프로그램수정 | F25: 식 | G25: =MIN(H25,J25,L25,N25,P25) -> 13232000 | M25: ㈜나웅테크 | N25: 13232000 | O25: 대국테크놀로지㈜ | P25: 13587000 | Q25: ㈜혜승기술연구소 | T25: 도급자관급
C26: 3116172710023970 | D26: 6각너트 | E26: 3/8,M10 | F26: EA | G26: =MIN(J26,L26,N26,P26) -> 0 | M26: 1-39
C27: 3116181120136195 | D27: 스프링와샤 | E27: D10 | F27: EA | G27: =MIN(J27,L27,N27,P27) -> 0 | M27: 1-43
C28: ECA565826062 | D28: 코어드릴 | E28: 15.24cm | F28: 시간 | G28: 경비 | I28: 재료 | K28: 노무 | M28: 경비
C29: L001010101000075 | D29: 노 무 비 | E29: 내선전공 | F29: 인
C30: L001010101000078 | D30: 노 무 비 | E30: 저압케이블전공 | F30: 인
C31: L001010101000002 | D31: 노 무 비 | E31: 보통인부 | F31: 인
C32: L001010101000015 | D32: 노 무 비 | E32: 착암공 | F32: 인

Sheet 수량산출1
A2: 1.전기공사
A3: 품 명 | B3: 규 격 | C3: 단위 | D3: 자재 소계 | E3: 산 출 근 거 | N3: 비고
F4: ① | G4: ② | H4: ③ | I4: ④ | J4: ⑤ | K4: ⑥
A5: 케이블트레이 | B5: W=150. H=100 | C5: M | D5: =SUM(E5:M5) -> 34 | F5: 34
A6: 케이블트레이 COVER | B6: W=150 | C6: M | D6: =SUM(E6:M6) -> 34 | F6: 34
A7: 케이블트레이 부속품 | B7: 레듀샤 W=150 | C7: 개 | D7: =SUM(E7:M7) -> 1 | F7: 1
A8: 케이블트레이 부속품 | B8: 호리존탈 W=150 | C8: 개 | D8: =SUM(E8:M8) -> 3 | F8: 3
A9: 케이블트레이 부속품 | B9: 버티칼 W=150 | C9: 개 | D9: =SUM(E9:M9) -> 1 | F9: 1
A10: 케이블트레이 지지대 | B10: W=150 | C10: 식 | D10: =SUM(E10:M10) -> 23 | F10: 23
A11: 배관용 구멍뚫기 | B11: Φ150x100 | C11: 개소 | D11: =SUM(E11:M11) -> 3 | F11: 3
A12: 벽관통 구멍뚫기 | B12: 54Φ | C12: 개소 | D12: =SUM(E12:M12) -> 2 | H12: 1 | J12: 1
A13: 벽관통 구멍뚫기 | B13: 36Φ | C13: 개소 | D13: =SUM(E13:M13) -> 2 | G13: 1 | I13: 1
A14: 금속 DUCT | B14: 스텐 100x50 | C14: M | D14: =SUM(E14:M14) -> 10 | F14: 10
A15: 강제전선관 | B15: ST 54C | C15: M | D15: =SUM(E15:M15) -> 4 | H15: 2 | J15: 2
A16: 강제전선관 | B16: ST 36C | C16: M | D16: =SUM(E16:M16) -> 4 | G16: 2 | I16: 2
A17: 강제전선관 | B17: ST 22C | C17: M | D17: =SUM(E17:M17) -> 4 | K17: 4
A18: 전력케이블 | B18: F-CV 10㎟/4C | C18: M | D18: =SUM(E18:M18) -> 109 | G18: 50 | I18: 59
A19: 전력케이블 | B19: F-CV 2.5㎟/3C | C19: M | D19: =SUM(E19:M19) -> 76 | I19: 59 | K19: 17
A20: 난연제어케이블 | B20: F-CVV-S 1.5㎟/2C | C20: M | D20: =SUM(E20:M20) -> 118 | H20: 55 | I20: 63
A21: 난연제어케이블 | B21: F-CVV 1.5㎟/5C | C21: M | D21: =SUM(E21:M21) -> 118 | H21: 55 | I21: 63
A22: 난연제어케이블 | B22: F-CVV 1.5㎟/10C | C22: M | D22: =SUM(E22:M22) -> 118 | H22: 55 | I22: 63
A23: 접지용비닐절연전선 | B23: F-GV 10㎟ | C23: M | D23: =SUM(E23:M23) -> 59 | G23: 59
A24: 아웃렛박스 | B24: 중형 4각 54mm | C24: 개 | D24: =SUM(E24:M24) -> 2 | K24: 2
A25: 조명기구 | B25: A-TYPE (LED 100W.투광등-벽부) | C25: 개 | D25: =SUM(E25:M25) -> 2 | K25: 2
A26: 전동기제어반 개량 | B26: MCC 판넬개량및프로그램수정 | C26: 식 | D26: =SUM(E26:M26) -> 1 | F26: 1 | N26: 도급자관급

Sheet 수량산출2
A2: =[210]수량산출1!A2 -> 1.전기공사
A3: NO | B3: TO | C3: 품 명 규 격 | I3: 전 선 만 | J3: 산 출 내 용 | K3: 전선관 | L3: 전선
A4: ① | B4: 공용
A5: 기존 Tray | B5: 신설 Tray | C5: W=150. H=100 | J5: 14.5 + 10.8 + 6.5 + 2 = 33.8 | K5: 34
A6: 외부 | B6: 금속DUCT | C6: 100x50 | J6: 10 | K6: 10
A9: ② | B9: NM-101 | C9: (전기)
A10: MCC-2001 | B10: NM-101 | C10: F-CV 10㎟/4C | E10: (E) 10㎟ | G10: Tray 내 | I10: 10+34 = 44 | L10: 44 | M10: 44
G11: ST 36C | I11: (2x2) = 4 | J11: 2 | K11: 2 | L11: 6 | M11: 6
K12: 계 | L12: =SUM(L10:L11) -> 50 | M12: =SUM(M10:M11) -> 50
A15: ③ | B15: NM-101 | C15: (제어) | L15: F-CVV 1.5/2C | M15: F-CVV 1.5/10C | N15: F-CVV 1.5/5C
A16: RCS-2 | B16: NM-101 | C16: F-CVV-S 1.5㎟/2C | G16: Tray 내 | I16: 15+34 = 49
C17: F-CVV 1.5㎟/10C | G17: ST 54C | I17: (2x2) = 4 | J17: 2 | K17: 2 | L17: 55 | M17: 55 | N17: 55
C18: F-CVV 1.5㎟/5C
A21: ④ | B21: NM-201 | C21: (전기)
A22: MCC-2001 | B22: NM-201 | C22: F-CV 10㎟/4C | E22: (E) 10㎟ | G22: Tray 내 | I22: 10+34 = 44 | L22: 44 | M22: 44
G23: ST 36C | I23: (2x2) = 4 | J23: 2 | K23: 2 | L23: 6 | M23: 6
G24: DUCT 내 | I24: 9 | L24: 9 | M24: 9
K25: 계 | L25: =SUM(L22:L24) -> 59 | M25: =SUM(M22:M24) -> 59
A26: ⑤ | B26: NM-201 | C26: (제어) | L26: F-CVV 1.5/2C | M26: F-CVV 1.5/10C | N26: F-CVV 1.5/5C
A27: RCS-2 | B27: NM-101 | C27: F-CVV-S 1.5㎟/2C | G27: Tray 내 | I27: 15+34 = 49
C28: F-CVV 1.5㎟/10C | G28: ST 54C | I28: (2x2) = 4 | J28: 2 | K28: 2 | L28: 63 | M28: 63 | N28: 63
C29: F-CVV 1.5㎟/5C | I29: 8 = 8
A32: ⑥ | B32: 전등
A33: NM-101 | B33: 전등 | C33: F-CV 2.5㎟/3C | G33: DUCT 내 | I33: 10
G34: ST 22C | I34: (0.5x2)x2+1 = 3 | J34: 2+(1x2) = 4 | K34: 4 | L34: 17

Sheet 합산자재(출력X)
B1: 55 | C1: [ 보령가축분뇨 탈수케익 호퍼 설치공사(전기) ] - 합산자재목록
A2: 번호 | B2: … | C2: 코드 | D2: 명 칭 | E2: 규 격 | F2: 단위 | G2: 수량 | H2: 재료비 | I2: 노무비 | J2: 경비 | K2: 지급비 | L2: 계 | M2: 비고
B4: 59750337012 | C4: 3913170610034833 | D4: 강제전선관 | E4: 아연도 22 mm | F4: M | G4: 4.4 | H4: =ROUNDDOWN(단가조사!G4*옵션!$D$11, 0) -> 0 | L4: =SUM(H4,I4,J4) -> 0
B5: 59750337014 | C5: 3913170610034835 | D5: 강제전선관 | E5: 아연도 36 mm | F5: M | G5: 4.4 | H5: =ROUNDDOWN(단가조사!G5*옵션!$D$11, 0) -> 0 | L5: =SUM(H5,I5,J5) -> 0
B6: 59750337016 | C6: 3913170610034837 | D6: 강제전선관 | E6: 아연도 54 mm | F6: M | G6: 4.4 | H6: =ROUNDDOWN(단가조사!G6*옵션!$D$11, 0) -> 0 | L6: =SUM(H6,I6,J6) -> 0
B7: 59753767041 | C7: 3912130810035753 | D7: 아우트렛박스 | E7: 중형4각 54㎜ | F7: 개 | G7: 2 | H7: =ROUNDDOWN(단가조사!G7*옵션!$D$11, 0) -> 0 | L7: =SUM(H7,I7,J7) -> 0
B8: 59751817201 | C8: 3913170420174046 | D8: 케이블트레이 | E8: STRAIGHT,St W150x100Hx2.3t | F8: M | G8: 35.7 | H8: =ROUNDDOWN(단가조사!G8*옵션!$D$11, 0) -> 0 | L8: =SUM(H8,I8,J8) -> 0
B9: 59751817332 | C9: 3913170420171159 | D9: 케이블트레이 | E9: COVER,St W150 | F9: M | G9: 35.7 | H9: =ROUNDDOWN(단가조사!G9*옵션!$D$11, 0) -> 0 | L9: =SUM(H9,I9,J9) -> 0
B10: 59754967001 | C10: 3913170520175048 | D10: 케이블트레이부속품 | E10: H. ELBOW, St,W150x100Hx2.3t | F10: 개 | G10: 3 | H10: =ROUNDDOWN(단가조사!G10*옵션!$D$11, 0) -> 0 | L10: =SUM(H10,I10,J10) -> 0
B11: 59754967101 | C11: 3913170520175062 | D11: 케이블트레이부속품 | E11: V. ELBOW, St,W150x100Hx2.3t | F11: 개 | G11: 1 | H11: =ROUNDDOWN(단가조사!G11*옵션!$D$11, 0) -> 0 | L11: =SUM(H11,I11,J11) -> 0
B12: 59754967401 | C12: 3913170520175104 | D12: 케이블트레이부속품 | E12: REDUCER, St, W150x100Hx2.3t | F12: 개 | G12: 1 | H12: =ROUNDDOWN(단가조사!G12*옵션!$D$11, 0) -> 0 | L12: =SUM(H12,I12,J12) -> 0
B13: 59754967572 | C13: 3913170520935624 | D13: 케이블트레이부속품 | E13: RAIL CLAMP | F13: 개 | G13: 46 | H13: =ROUNDDOWN(단가조사!G13*옵션!$D$11, 0) -> 0 | L13: =SUM(H13,I13,J13) -> 0
B14: 59754967601 | C14: 3913170520175128 | D14: 케이블트레이부속품 | E14: U CHANNEL, 41x41x2.6t | F14: M | G14: 5.75 | H14: =ROUNDDOWN(단가조사!G14*옵션!$D$11, 0) -> 0 | L14: =SUM(H14,I14,J14) -> 0
B15: 59751477029 | C15: 3913171220173817 | D15: 전선덕트 | E15: 스텐 100x50 mm | F15: M | G15: 10.5 | H15: =ROUNDDOWN(단가조사!G15*옵션!$D$11, 0) -> 0 | L15: =SUM(H15,I15,J15) -> 0
... B23: E1450358401 | C23: 2612160320684349 | D23: 난연제어케이블 | E23: F-CVV-S, 2Cx1.5㎟ | F23: M | G23: 123.9 | H23: =ROUNDDOWN(단가조사!G23*옵션!$D$11, 0) -> 0 | L23: =SUM(H23,I23,J23) -> 0
B24: MM700094002 | D24: 조명기구 | E24: A-TYPE(LED 100W.투광등-벽부) | F24: 개 | G24: 2 | H24: =ROUNDDOWN(단가조사!G24*옵션!$D$11, 0) -> 0 | L24: =SUM(H24,I24,J24) -> 0
B25: MM631764001 | D25: 전동기제어반 개량 | E25: MCC판넬개량 및 프로그램수정 | F25: 식 | G25: 1 | H25: =ROUNDDOWN(단가조사!G25*옵션!$D$11, 0) -> 13232000 | L25: =SUM(H25,I25,J25) -> 13232000 | M25: 도급자관급
B26: 53100028501 | C26: 3116172710023970 | D26: 6각너트 | E26: 3/8,M10 | F26: EA | G26: 92 | H26: =ROUNDDOWN(단가조사!G26*옵션!$D$11, 0) -> 0 | L26: =SUM(H26,I26,J26) -> 0
B27: 52100327001 | C27: 3116181120136195 | D27: 스프링와샤 | E27: D10 | F27: EA | G27: 92 | H27: =ROUNDDOWN(단가조사!G27*옵션!$D$11, 0) -> 0 | L27: =SUM(H27,I27,J27) -> 0
B28: CA565826062 | C28: ECA565826062 | D28: 코어드릴 | E28: 15.24cm | F28: 시간 | G28: 8.36 | H28: =단가조사!H28 -> 0 | I28: =단가조사!J28 -> 0 | J28: =단가조사!L28 -> 0 | L28: =SUM(H28,I28,J28) -> 0 | M28: 종합적산701
B29: 56900017016 | C29: L001010101000075 | D29: 노 무 비 | E29: 내선전공 | F29: 인 | G29: 18.773 | I29: =ROUNDDOWN(단가조사!G29, 0) -> 0 | L29: =SUM(H29,I29,J29) -> 0
B30: 56900017076 | C30: L001010101000078 | D30: 노 무 비 | E30: 저압케이블전공 | F30: 인 | G30: 18.2074 | I30: =ROUNDDOWN(단가조사!G30, 0) -> 0 | L30: =SUM(H30,I30,J30) -> 0
B31: 56900017041 | C31: L001010101000002 | D31: 노 무 비 | E31: 보통인부 | F31: 인 | G31: 1.868 | I31: =ROUNDDOWN(단가조사!G31, 0) -> 0 | L31: =SUM(H31,I31,J31) -> 0
B32: 56900017098 | C32: L001010101000015 | D32: 노 무 비 | E32: 착암공 | F32: 인 | G32: 1.868 | I32: =ROUNDDOWN(단가조사!G32, 0) -> 0 | L32: =SUM(H32,I32,J32) -> 0

Sheet 옵션
B1: 재료비 | C1: 노무비 | D1: 경비 | F1: 계
A2: 총 급 액 | B2: =총괄표!I29 -> #VALUE! | C2: =총괄표!L29 -> 0 | D2: =총괄표!N29 -> 0 | F2: =SUM(B2,C2,D2) -> #VALUE!
A3: 관급 자재비 | F3: =SUM(B3,C3,D3) -> 0 | H3: 금액조정이 안되나요?
H6: 이지테크에서 변환할 때 2번 옵션을 지정하여 다시 해보세요
H9: 시트를 삭제할 때 에러가 뜨면 1번 옵션으로 하면 됩니다.
B10: 적용율(%) | C10: 끝자리 | D10: 적용율(%)/100 | E10: 일위대가소수
A11: 전체자재 적용율(%)(공종/일위대가) | B11: 100 | C11: 1000 | D11: =$B$11/100 -> 1
A12: 전체노임 적용율(%)(공종) | B12: 100 | C12: 1000 | D12: =$B$12/100 -> 1 | E12: 2 | H12: 2번 옵션으로 변환했을 때에는 결과값이 다를 수 있습니다.
A13: 전체노임 적용율(%)(일위대가) | B13: 100 | C13: 1 | D13: =$B$13/100 -> 1 | E13: 5
A20: *(그룹별 자재 단가 추가 할증)* | B20: 적용율(%) | D20: 적용율(%)/100
A21: Cable(CAB) 할증(%) | B21: =B11 -> 100 | D21: =$B$21/100 -> 1
A22: Wire (WIR) 할증(%) | B22: =B11 -> 100 | D22: =$B$22/100 -> 1
A23: Pipe (PIP) 할증(%) | B23: =B11 -> 100 | D23: =$B$23/100 -> 1
A24: 제 4그룹 할증(%) | B24: =B11 -> 100 | D24: =$B$24/100 -> 1
A25: 제 5그룹 할증(%) | B25: =B11 -> 100 | D25: =$B$25/100 -> 1
A30: *(그룹별 노임 추가 할증)* | B30: 적용율(%) | C30: 자동부속재(전기) | D30: 자동부속재(통신)
A31: 배관부속재(%) | B31: 15 | C31: 15 | D31: 20
A32: CD관부속재(%) | B32: 40 | C32: 40 | D32: 40
A33: 소모잡자재(%) | B33: 2 | H33: 본 파일은 이지테크에서 2번 옵션으로 만들었습니다.
A34: 방폭할증(%)
A35: 고소할증(%) | B35: 2
A36: 공구손료(%) | B36: 3
A40: *(공종별 노임 적용율(%))* | B40: 적용율(%) | C40: 소수자릿수
A41: 1.전기공사 | B41: 100 | C41: 5

Sheet 사용설명
B1: ** 반드시 다음 사항을 숙지하신 다음 수정 작업을 하십시오 **
A2: 1. | B2: 속성이 숫자인 셀을 삭제할 때는 반드시 'Delete' 키를 사용하십시오.
B3: **주의:'Space Bar' 로 지웠을 때는 '#Value' Error가 발생됩니다.
A4: 2. | B4: 일위대가(을지)는 소수점 처리 때문에 셀 속성을 '일반'으로 하였습니다.(소수점 능동 처리)
B5: **참고: (수량*단가)의 결과는 소수 한자리, 금액을 취합한 소계는 1원 이하 절사입니다.
A6: 3. | B6: 내역서에서는 수량에만 셀 속성을 '일반'으로 하였습니다.(소수점 능동 처리)
A7: 4. | B7: 단가수정은 '단가조사서'시트 에서 하십시오.
B8: a)표지와 원가 -> 총괄표 -> 내역서 ->일위대가와 합산자재 ->단가조사서 를 참조하고
B9: 있으므로 단가조사서의 결정단가를 수정하면 전체 금액이 갱신됩니다.
B10: **주의: 금액란은 공식이 걸려있으므로 조심하여 수정하십시오.
B11: b)전체 자재를 일정 요율(%)로 변경할 때는 옵션시트의 자재 적용율을 조정하면 됩니다.
A12: 5. | B12: 노임 단가는 '단가조사서'시트에서 품셈은 '노임근거'시트에서 수정하십시오.
B13: a)전체 노임을 일정 요율(%)로 변경할 때는 '옵션시트'의 전체노임 적용율을 조정하면 됩니다.
B14: b)공종별로 노임을 수정하려면 '옵션시트'의 공종별 노임 적용율을 조정하면 됩니다.
B15: c)케이블 및 전선 자재 단가를 추가로 조정하려면 그룹별 자재 적용율을 조정하면 됩니다.
B16: 그룹은 견적 프로그램에서 엑셀파일이 만들어질때 지정됩니다.
A17: 6. | B17: 겉표지의 모든 정보는 표지를 참조하였습니다.(정보 수정은 표지에서만 하시면 됩니다.)
A18: 7. | B18: 필수 :본 프로그램의 총 금액을 확인한 후 사용하십시오.
A19: 8. | B19: 본 파일의 내용을 인쇄할 경우, 미리보기를 통하여 페이지 절선을 확인 후 인쇄하십시오.
A20: 9. | B20: 관급자재 Sheet가 해당이 없을 경우엔 삭제하십시오.
A21: 10. | B21: 페이지 절선이 맞지 않으면 다음을 참고하십시오.
B33: a. 해당시트의 셀 전체를 선택합니다.
B34: b. 행높이를 적절히 가감하면 페이지 절선을 맞출 수 있습니다.
