Workbook

Sheet 공사기간
A1: 공사기간 산정근거
A3: ▣ 공사개요
A4: 공 사 명 | B4: 논공 삼리교 고속도로 교대 하부 경관개선사업
A5: 공사금액 | B5: 108070000
A6: 공사기간 | B6: ="착공일로부터 "&C7+E7+G7+I7&"일" -> 착공일로부터 60일 | K6: =J7/30 -> 2 | M6: 6
B7: 준비기간 | C7: =E12 -> 5 | D7: 비작업일수 | E7: =E15 -> 18 | F7: 작업일수 | G7: =E19 -> 33 | H7: 정리기간 | I7: =E23 -> 4 | J7: =I7+G7+E7+C7 -> 60 | M7: 개월 | N7: =8*30 -> 240
A10: ▣ 공사개요
A11: 구 분 | B11: 내 역 | E11: 일 수 | H11: 비 고
A12: 준비기간 | B12: 산정일수 | E12: =SUM(E13:E14) -> 5
B13: 도면 검토 및 현황측량 | E13: 3
B14: 건설자재조달 | E14: 2
A15: 비작업일수 | B15: 산정일수(A+B-C) | E15: =ROUND(E16+E17-E18,0) -> 18
B16: 해당월 작업 불가능 일수(A) | E16: ='비작일수산정(12개월)'!O5 -> 14
B17: 해당월 기상조건에 따른 비작업 일수(B) | E17: ='비작일수산정(12개월)'!O6 -> 5.7
B18: 월별 중복일수(C) | E18: ='비작일수산정(12개월)'!O7 -> 2
A19: 작업일수 | B19: 산정일수 | E19: =SUM(E20:G22) -> 33
B20: 작업준비 | E20: 10
B21: 1. 조형물 설치 | E21: 23
A23: 정리기간 | B23: 산정일수 | E23: =SUM(E24:G25) -> 4
B24: 준공검사 관련 행정절차 | E24: 2
B25: 청소 등 현장정리 | E25: 2
A26: ※ 국토교통부 고시 제2024-1021호 공공 건설공사의 공사기간 산정기준(2025. 1. 6. 시행)
A27: - 비작업일수(법정공휴일수 및 지역별 기상상태)는 국토교통부발간 적정 공사기간 확보를 위한 가이드라인 참고

Sheet 공사기간산정공식(비교)
A2: =공사기간!A4 -> 공 사 명 | B2: =공사기간!B4 -> 논공 삼리교 고속도로 교대 하부 경관개선사업
A3: 구분 | B3: Y공기 | C3: 산정공식 | E3: 변수 | J3: 공사기간(개월)
E4: C(총공사비) | F4: A(연면적(100㎡) | G4: G(지상층수) | H4: B(지하층수(층)) | I4: L(도로연장)
A5: 체육시설 | B5: -278.109+189.438*ln(C)
C6: =-278.109+189.438*LN(E6) -> 192.62675 | D6: 일 | E6: 12 | J6: =C6/30 -> 6.4208915 | K6: 개월
A8: 건축(공통) | B8: -68.550+18.1192*B+12.079*G-5.25*ln(A)+167.632*ln(C)
C9: =-68.55+(18.1192*H9)+(12.079*G9)+(-5.25*LN(F9))+(167.632*LN(E9)) -> 378.19807 | D9: 일 | E9: 12 | F9: 1 | G9: 1 | H9: 1 | J9: =C9/30 -> 12.606602 | K9: 개월
A11: 체육시설 | B11: -278.109+189.438*ln(C)
C12: =-278.109+189.438*LN(E12) -> 138.12883 | E12: 9 | J12: =C12/30 -> 4.6042943 | K12: 개월

Sheet 작업일수산출근거
A1: 구분 | F1: 산정기준
A2: 준비기간 | F2: 10억원 미만 : 최소 10일 10억원 이상 : 최소 20일 * 안전관리계획서 제출 대상 : 45일
A3: 토목공사기간 | D3: 터파기 | F3: 지하층 1개 층당 10일
D4: 흙막이 | F4: 자립식 : 지하층 1개 층당 10일 어스앵커식 : 지하층 1개 층당 20일
A5: 건축공사기간 | B5: 기초공사 | D5: 파일기초 | F5: 깊이 15m 이하 선굴착 말뚝공법 : 40일 깊이 15m 이상 선굴착 말뚝공법 : 80일
D6: 지지력시험 | F6: 11일
B7: 골조공사 | C7: 지하층 | D7: 지하층 | F7: 지하 1개 층당 31일
D8: 지하주차장 | F8: 1개층 주차대수 150대 미만 : 10일 1개층 주차대수 150대 이상 : 20일
C9: 지상층 | D9: 골조 | E9: 1층 | F9: 20일
E10: 2층 이상 | F10: 2층 : 10일 3층 이상 : 층당 9일
E11: 동절기 보정 | F11: * 동절기에는 층당 1일 추가
D12: 지붕 | F12: 콘크리트 경사지붕 : 15일 철골 경사지붕 : 10일
B13: 마감공사 | F13: 조적공사 : 5일/층 미장공사 : 8일/층 창호공사 : 6일/층 방수공사 : 3일/층 타일공사 : 2일/층
A14: 토목조경공사기간 | F14: 토목공사 : 건축공사 완료 후 15일 조경공사 : 토목공사 완료 후 15일
A15: 정리기간 | F15: 10억원 미만 : 최소 15일 10억원 이상 : 최소 30일
A18: ※ 적정공사기간 확보를 위한 가이드라인 P63, 일반건축공사 참조

Sheet 작업일수산출근거(포장공)
A1: 구분 | B1: 작업조건 | E1: 산출근거 | F1: 표준작업량
A2: 1. 아스팔트포장(기계시공/본선포장)
A3: 가. 작업준비 | B3: 스틱 설치간격 10m | E3: 인수인계/위치측량, 유도선 설치 등 포함 | F3: 1,900m/일 | G3: 5일
A4: (1단계) | B4: 스틱 설치간격 6m | F4: 1,600m/일
A5: 나. 동상방지층 | B5: - | E5: 대형 다짐장비를 사용한 본선 포장구간의 동상방지층 포설 | F5: 600㎥/일
A6: (선택)
A7: 다. 보조기층 | B7: - | E7: 대형 다짐장비를 사용한 본선 포장구간의 보조기층 포설 | F7: 550㎥/일
A8: 라. 배수로시공 | B8: - | E8: - | F8: 별도계상
A9: 마. 작업준비 | B9: 스틱 설치간격 10m | E9: 자재발주(검측), 유도선 설치 등 포함 | F9: 1,900m/일 | G9: 3일
A10: (2단계) | B10: 스틱 설치간격 6m | F10: 1,600m/일
A11: 라. 택코팅 | B11: - | E11: 역청재 살포작업을 기준 | F11: 20,000㎡/일
A12: 마. 프라임코팅 | B12: - | E12: 역청재 살포작업을 기준, | F12: 20,000㎡/일
E13: 양생기간으로 2일 별도 계상
A14: 바. 기층 | B14: 3m≤폭 | C14: 5∼7㎝ | E14: 아스팔트 기층 포설을 기준 | F14: 4,900㎡/일
C15: 8∼10㎝ | F15: 4,500㎡/일
A16: 사. 중간층/표층 | B16: 3m≤시공폭, 5∼7㎝ | E16: 아스팔트 표층 및 중간층을 포설 | F16: 4,800㎡/일
A17: 아. 부대공사 | B17: 준공 전 단계적 수행 | E17: 차선도색, 안전시설 설치 등 | F17: 3일/km
A18: 2. 콘크리트포장
A19: 가. 작업준비 | B19: 스틱 설치간격 10m | E19: 인수인계/위치측량, 유도선 설치 등 포함 | F19: 1,900m/일 | G19: 5일
A20: (1단계) | B20: 스틱 설치간격 6m | F20: 1,600m/일
A21: 나. 동상방지층 | B21: - | E21: 대형 다짐장비를 사용한 본선 포장구간의 동상방지층 포설 | F21: 600㎥/일
A22: (선택)
A23: 다. 린콘크리트 | E23: 린 콘크리트 기층 포설 기준 | F23: 550㎥/일
A24: 라. 배수로시공 | B24: - | E24: - | F24: 별도계상
A25: 마. 작업준비 | B25: 스틱 설치간격 10m | E25: 자재발주(검측), 유도선 설치 등 포함 | F25: 1,900m/일 | G25: 3일
A26: (2단계) | B26: 스틱 설치간격 6m | F26: 1,600m/일
A27: 라. 콘크리트표층 | B27: 일반구간 | D27: 1차로 | E27: 콘크리트 표층의 포설 기준, | F27: 300㎥/일
D28: 2차로 | E28: 단, 교량구간은 별도 계상 | F28: 700㎥/일
A29: 마. 포장절단 및 줄눈설치 | B29: - | E29: 표층 포설기간에 절대공기를 추가하여 산정 | F29: 3일
A30: 바. 부대공사 | B30: 준공 전 단계적 수행 | E30: 차선도색, 안전시설 설치 등 | F30: 3일/km
A32: 비고
A33: 아스팔트포장과 콘크리트 포장을 구분/적용하며 표준품셈의 생산성을 기준(일반국도 도로포장 기준으로 작업1조를 투입한 결과)으로 공사물량에 따른 공기를 산정한다.
A34: 도로포장은 배수시설 시공을 기준으로 1단계(하부), 2단계(아스팔트:기층-표층, 콘크리트: 슬래브)로 구분하여 시공하며, 배수시설의 공사기간은 현장 특성에 따라 별도 계상한다.
A35: 부대공사(차선도색, 안전시설 설치 등)는 도로포장 공사와 연속적으로 발생하지 않으며, 준공 전에 단계적으로 수행하며 1km당 3일을 반영한다.
A36: 동상방지층은 지역특성에 따라 선택적으로 적용한다.
A37: 각 단계별로 공사 준비를 위한 소요기간 5일을 반영한다.

Sheet 비작일수산정(12개월)
A1: 지역 : 대구광역시
A2: 구분 | C2: 2026 | O2: 소계
C3: 1 | D3: 2 | E3: 3 | F3: 4 | G3: 5 | H3: 6 | I3: 7 | J3: 8 | K3: 9 | L3: 10 | M3: 11 | N3: 12
A4: 달력일수 | K4: 30 | L4: 31
A5: 비작업일수 | B5: 법정공휴일(A) | K5: =비작업일수공휴일수!K3 -> 7 | L5: =비작업일수공휴일수!L3 -> 7 | O5: =SUM(C5:N5) -> 14 | P5: =O5+O6-O7 -> 17.7 | S5: =비작업일수공휴일수!Q3 -> 0 | T5: =비작업일수공휴일수!R3 -> 0 | U5: =비작업일수공휴일수!S3 -> 0 | V5: =비작업일수공휴일수!T3 -> 0
B6: 기후여건(B) | K6: ='기상조건에따른 월간비작업일수(철콘)'!K8 -> 3.3 | L6: ='기상조건에따른 월간비작업일수(철콘)'!L8 -> 2.4 | O6: =SUM(C6:N6) -> 5.7 | S6: ='기상조건에따른 월간비작업일수(철콘)'!Q8 -> 0 | T6: ='기상조건에따른 월간비작업일수(철콘)'!R8 -> 0 | U6: ='기상조건에따른 월간비작업일수(철콘)'!S8 -> 0 | V6: ='기상조건에따른 월간비작업일수(철콘)'!T8 -> 0
B7: 월별 중복일수(C=AxB/달력일수) | K7: =ROUND(K5*K6/K4,0) -> 1 | L7: =ROUND(L5*L6/L4,0) -> 1 | O7: =SUM(C7:N7) -> 2 | S7: =ROUND(S5*S6/S4,0) -> #DIV/0! | T7: =ROUND(T5*T6/T4,0) -> #DIV/0! | U7: =ROUND(U5*U6/U4,0) -> #DIV/0! | V7: =ROUND(V5*V6/V4,0) -> #DIV/0!
B8: 비작업일수 (A+B-C) | K8: =K5+K6-K7 -> 9.3 | L8: =L5+L6-L7 -> 8.4 | O8: =SUM(C8:N8) -> 17.7 | P8: =O5+O6-O7 -> 17.7 | S8: =S5+S6-S7 -> #DIV/0! | T8: =T5+T6-T7 -> #DIV/0! | U8: =U5+U6-U7 -> #DIV/0! | V8: =V5+V6-V7 -> #DIV/0!

Sheet 비작업일수공휴일수
A1: 번호 | B1: 구분 | C1: 월간법정공휴일 | O1: 소계
C2: 1월 | D2: 2월 | E2: 3월 | F2: 4월 | G2: 5월 | H2: 6월 | I2: 7월 | J2: 8월 | K2: 9월 | L2: 10월 | M2: 11월 | N2: 12월
A3: 1 | B3: 2026년 | C3: 5 | D3: 7 | E3: 6 | F3: 4 | G3: 7 | H3: 5 | I3: 4 | J3: 7 | K3: 7 | L3: 7 | M3: 5 | N3: 5 | O3: =SUM(C3:N3) -> 69
A4: 2 | B4: 2027년 | C4: 6 | D4: 7 | E4: 5 | F4: 4 | G4: 7 | H4: 4 | I4: 4 | J4: 6 | K4: 7 | L4: 8 | M4: 4 | N4: 6 | O4: =SUM(C4:N4) -> 68
A5: 3 | B5: 2028년 | C5: 9 | D5: 4 | E5: 5 | F5: 5 | G5: 6 | H5: 5 | I5: 5 | J5: 5 | K5: 4 | L5: 10 | M5: 4 | N5: 6 | O5: =SUM(C5:N5) -> 68
A6: 4 | B6: 2029년 | C6: 5 | D6: 7 | E6: 5 | F6: 5 | G6: 7 | H6: 5 | I6: 5 | J6: 5 | K6: 8 | L6: 6 | M6: 4 | N6: 6 | O6: =SUM(C6:N6) -> 68
A7: 5 | B7: 2030년 | C7: 5 | D7: 7 | E7: 6 | F7: 4 | G7: 6 | H7: 6 | I7: 4 | J7: 5 | K7: 8 | L7: 6 | M7: 4 | N7: 6 | O7: =SUM(C7:N7) -> 67
A8: 적용 | O8: =SUM(C8:N8) -> 0

Sheet 기상조건에따른 월간비작업일수(철콘)
A1: 구분 | B1: 조건 | C1: 2025 | O1: 소계
C2: 1 | D2: 2 | E2: 3 | F2: 4 | G2: 5 | H2: 6 | I2: 7 | J2: 8 | K2: 9 | L2: 10 | M2: 11 | N2: 12
A3: 동절기 | B3: 0℃이하 | C3: 2 | D3: 0.5 | N3: 1.6 | O3: =SUM(C3:N3) -> 4.1
A4: 강우 | B4: 10mm이상 | C4: 0.6 | D4: 0.6 | E4: 2.3 | F4: 2.8 | G4: 2.2 | H4: 3.1 | I4: 5.8 | J4: 5.8 | K4: 3 | L4: 2.2 | M4: 1.2 | N4: 0.9 | O4: =SUM(C4:N4) -> 30.5
A5: 바람 | B5: 15m/s이상 | C5: 0.8 | D5: 0.6 | E5: 0.4 | F5: 0.2 | G5: 0.5 | I5: 0.4 | J5: 0.4 | K5: 0.2 | L5: 0.2 | M5: 0.2 | N5: 0.9 | O5: =SUM(C5:N5) -> 4.8
A6: 적설 | B6: 5cm이상 | C6: 0.1 | E6: 0.1 | O6: =SUM(C6:N6) -> 0.2
A7: 혹서기 | B7: 33℃이상 | G7: 1.4 | H7: 4.3 | I7: 11.3 | J7: 13.2 | K7: 0.1 | O7: =SUM(C7:N7) -> 30.3
A8: 계 | C8: =SUM(C3:C7) -> 3.5 | D8: =SUM(D3:D7) -> 1.7 | E8: =SUM(E3:E7) -> 2.8 | F8: =SUM(F3:F7) -> 3 | G8: =SUM(G3:G7) -> 4.1 | H8: =SUM(H3:H7) -> 7.4 | I8: =SUM(I3:I7) -> 17.5 | J8: =SUM(J3:J7) -> 19.4 | ... O8: =SUM(O3:O7) -> 69.9
A10: ※ "적정공사기간 확보를 위한 가이드라인" P27, 기상상태에 따른 지역별 비작업일수(10년) 참조
