Workbook

Sheet 내역서총괄표
B1: 내역서총괄표
B3: 공종 | C3: 품 명 | D3: 규 격 | E3: 수 량 | F3: 단위 | G3: 합 계 | H3: 노무비 | I3: 재료비 | J3: 경 비 | K3: 비 고
C4: 관급자관급자재비 | G4: =#REF! -> #REF!

Sheet 내역서
B1: 내역서
B3: 공종 | C3: 품 명 | D3: 규 격 | E3: 수 량 | F3: 단위 | G3: 합 계 | I3: 노무비 | K3: 재료비 | M3: 경 비 | O3: 비 고
G4: 단 가 | H4: 금 액 | I4: 단 가 | J4: 금 액 | K4: 단 가 | L4: 금 액 | M4: 단 가 | N4: 금 액
C5: 관급자 관급자재비 | G5: =I5+K5+M5 -> 0 | H5: =J5+L5+N5 -> 0 | J5: =TEXT(SUM(J6:J7),"#,##0") -> 0 | L5: =TEXT(SUM(L6:L7),"#,##0") -> 0 | N5: =TEXT(SUM(N6:N7),"#,##0") -> 0
C6: 약품주입설비 구매설치비 | E6: 1 | F6: 식 | G6: =I6+K6+M6 -> 0 | H6: =J6+L6+N6 -> 0 | I6: =일위대가총괄표!G4 -> 0 | J6: =TRUNC(E6*I6,0) -> 0 | K6: =일위대가총괄표!H4 -> 0 | L6: =TRUNC(E6*K6,0) -> 0 | M6: =일위대가총괄표!I4 -> 0 | N6: =TRUNC(E6*M6,0) -> 0 | O6: 일위1참조
G7: =I7+K7+M7 -> 0 | H7: =J7+L7+N7 -> 0

Sheet 일위대가총괄표
B1: 일위대가총괄표
B3: 호 표 | C3: 품 명 | D3: 규 격 | E3: 단위 | F3: 합 계 | G3: 노무비 | H3: 재료비 | I3: 경 비 | J3: 비 고 | Z3: 당초합계 | AA3: 당초노무비 | AB3: 당초재료비 | AC3: 당초경비
B4: 제1호표 | C4: 약품주입설비 구매설치비 | E4: 식 | F4: =G4+H4+I4 -> 0 | G4: =일위대가!J5 -> 0 | H4: =일위대가!L5 -> 0 | I4: =일위대가!N5 -> 0 | Z4: 157066000 | AA4: 17065048 | AB4: 125722270 | AC4: 14278682
B5: 제2호표 | C5: 약품주입설비 구매설치비 | D5: 기자재 | E5: 식 | F5: =G5+H5+I5 -> 0 | G5: =일위대가!J14 -> 0 | H5: =일위대가!L14 -> 0 | I5: =일위대가!N14 -> 0 | Z5: 111100000 | AB5: 111100000
B6: 제3호표 | C6: 약품주입설비 구매설치비 | D6: 기자재 설치 | E6: 식 | F6: =G6+H6+I6 -> 0 | G6: =일위대가!J23 -> 0 | H6: =일위대가!L23 -> 0 | I6: =일위대가!N23 -> 0 | Z6: 7348421 | AA6: 7348421
B7: 제4호표 | C7: 일반기기 설치 | D7: 중량 0.5톤 미만 | E7: 대 | F7: =G7+H7+I7 -> 0 | G7: =일위대가!J28 -> 0 | H7: =일위대가!L28 -> 0 | I7: =일위대가!N28 -> 0 | Z7: 1519976 | AA7: 1519976
B8: 제5호표 | C8: 일반기기설치 | E8: Ton | F8: =G8+H8+I8 -> 0 | G8: =일위대가!J31 -> 0 | H8: =일위대가!L31 -> 0 | I8: =일위대가!N31 -> 0 | Z8: 5066589 | AA8: 5066589
B9: 제6호표 | C9: 계기반 설치 | D9: 1000×1800×600이하(현장) | E9: 면 | F9: =G9+H9+I9 -> 0 | G9: =일위대가!J40 -> 0 | H9: =일위대가!L40 -> 0 | I9: =일위대가!N40 -> 0 | Z9: 3829299 | AA9: 3829299
B10: 제7호표 | C10: 플랜트계기 | D10: 계기(일반각종) | E10: 대 | F10: =G10+H10+I10 -> 0 | G10: =일위대가!J44 -> 0 | H10: =일위대가!L44 -> 0 | I10: =일위대가!N44 -> 0 | Z10: 95834 | AA10: 95834
B11: 제8호표 | C11: 약품주입설비 구매설치비 | D11: 배관 설치 | E11: 식 | F11: =G11+H11+I11 -> 0 | G11: =일위대가!J47 -> 0 | H11: =일위대가!L47 -> 0 | I11: =일위대가!N47 -> 0 | Z11: 3940288 | AA11: 3168809 | AB11: 771479
B12: 제9호표 | C12: 경질관 접착제 접합(T.S식) 및 배관 | D12: 30mm | E12: M | F12: =G12+H12+I12 -> 0 | G12: =일위대가!J61 -> 0 | H12: =일위대가!L61 -> 0 | I12: =일위대가!N61 -> 0 | Z12: 20674 | AA12: 20269 | AB12: 405
B13: 제10호표 | C13: 밸브 및 콕류 설치 | D13: 15~25mm | E13: 개 | F13: =G13+H13+I13 -> 0 | G13: =일위대가!J66 -> 0 | H13: =일위대가!L66 -> 0 | I13: =일위대가!N66 -> 0 | Z13: 12641 | AA13: 12394 | AB13: 247
B14: 제11호표 | C14: 약품주입설비 구매설치비 | D14: 2차측 전기설치 | E14: 식 | F14: =G14+H14+I14 -> 0 | G14: =일위대가!J70 -> 0 | H14: =일위대가!L70 -> 0 | I14: =일위대가!N70 -> 0 | Z14: 8685609 | AA14: 6547818 | AB14: 2137791
B15: 제12호표 | C15: 제어용 케이블 설치(1C) | D15: 2.5㎟ | E15: M | F15: =G15+H15+I15 -> 0 | G15: =일위대가!J96 -> 0 | H15: =일위대가!L96 -> 0 | I15: =일위대가!N96 -> 0 | Z15: 3041 | AA15: 3041
B16: 제13호표 | C16: 제어용 케이블 설치(2C) | D16: 2.5㎟ | E16: M | F16: =G16+H16+I16 -> 0 | G16: =일위대가!J99 -> 0 | H16: =일위대가!L99 -> 0 | I16: =일위대가!N99 -> 0 | Z16: 4258 | AA16: 4258
B17: 제14호표 | C17: 제어용 케이블 설치(6C) | D17: 2.5㎟ | E17: M | F17: =G17+H17+I17 -> 0 | G17: =일위대가!J102 -> 0 | H17: =일위대가!L102 -> 0 | I17: =일위대가!N102 -> 0 | Z17: 10645 | AA17: 10645
B18: 제15호표 | C18: 금속덕트 설치 | D18: 100×100mm이하(100㎠) | E18: 개 | F18: =G18+H18+I18 -> 0 | G18: =일위대가!J105 -> 0 | H18: =일위대가!L105 -> 0 | I18: =일위대가!N105 -> 0 | Z18: 82102 | AA18: 82102
B19: 제16호표 | C19: 전선관 배관(후강전선관) | D19: 22mm이하 | E19: M | F19: =G19+H19+I19 -> 0 | G19: =일위대가!J108 -> 0 | H19: =일위대가!L108 -> 0 | I19: =일위대가!N108 -> 0 | Z19: 30104 | AA19: 30104
B20: 제17호표 | C20: 전선관 배관(후강전선관) | D20: 28mm이하 | E20: M | F20: =G20+H20+I20 -> 0 | G20: =일위대가!J111 -> 0 | H20: =일위대가!L111 -> 0 | I20: =일위대가!N111 -> 0 | Z20: 38314 | AA20: 38314
B21: 제18호표 | C21: 전선관 배관(합성수지전선관) | D21: 22mm이하 | E21: M | F21: =G21+H21+I21 -> 0 | G21: =일위대가!J114 -> 0 | H21: =일위대가!L114 -> 0 | I21: =일위대가!N114 -> 0 | Z21: 16420 | AA21: 16420
B22: 제19호표 | C22: 전선관 배관(합성수지전선관) | D22: 28mm이하 | E22: M | F22: =G22+H22+I22 -> 0 | G22: =일위대가!J117 -> 0 | H22: =일위대가!L117 -> 0 | I22: =일위대가!N117 -> 0 | Z22: 21894 | AA22: 21894
B23: 제20호표 | C23: 약품주입설비 구매설치비 | D23: 부대작업 | E23: 식 | F23: =G23+H23+I23 -> 0 | G23: =일위대가!J120 -> 0 | H23: =일위대가!L120 -> 0 | I23: =일위대가!N120 -> 0 | Z23: 11713000 | AB23: 11713000

Sheet 일위대가
B1: 일위대가
B3: 호 표 | C3: 품 명 | D3: 규 격 | E3: 수 량 | F3: 단위 | G3: 합 계 | I3: 노무비 | K3: 재료비 | M3: 경 비 | O3: 비 고
G4: 단 가 | H4: 금 액 | I4: 단 가 | J4: 금 액 | K4: 단 가 | L4: 금 액 | M4: 단 가 | N4: 금 액
B5: 제1호표 | C5: 약품주입설비 구매설치비 | F5: 식 | H5: =J5+L5+N5 -> 0 | J5: =TRUNC(J6+J7+J8+J9+J10+J11+J12) -> 0 | L5: =TRUNC(L6+L7+L8+L9+L10+L11+L12) -> 0 | N5: =TRUNC(N6+N7+N8+N9+N10+N11+N12) -> 0
C6: 약품주입설비 구매설치비 | D6: 기자재 | E6: 1 | F6: 식 | G6: =I6+K6+M6 -> 0 | H6: =J6+L6+N6 -> 0 | I6: =일위대가총괄표!G5 -> 0 | J6: =TRUNC(E6*I6,1) -> 0 | K6: =일위대가총괄표!H5 -> 0 | L6: =TRUNC(E6*K6,1) -> 0 | M6: =일위대가총괄표!I5 -> 0 | N6: =TRUNC(E6*M6,1) -> 0
C7: 약품주입설비 구매설치비 | D7: 기자재 설치 | E7: 1 | F7: 식 | G7: =I7+K7+M7 -> 0 | H7: =J7+L7+N7 -> 0 | I7: =일위대가총괄표!G6 -> 0 | J7: =TRUNC(E7*I7,1) -> 0 | K7: =일위대가총괄표!H6 -> 0 | L7: =TRUNC(E7*K7,1) -> 0 | M7: =일위대가총괄표!I6 -> 0 | N7: =TRUNC(E7*M7,1) -> 0
C8: 약품주입설비 구매설치비 | D8: 배관 설치 | E8: 1 | F8: 식 | G8: =I8+K8+M8 -> 0 | H8: =J8+L8+N8 -> 0 | I8: =일위대가총괄표!G11 -> 0 | J8: =TRUNC(E8*I8,1) -> 0 | K8: =일위대가총괄표!H11 -> 0 | L8: =TRUNC(E8*K8,1) -> 0 | M8: =일위대가총괄표!I11 -> 0 | N8: =TRUNC(E8*M8,1) -> 0
C9: 약품주입설비 구매설치비 | D9: 2차측 전기설치 | E9: 1 | F9: 식 | G9: =I9+K9+M9 -> 0 | H9: =J9+L9+N9 -> 0 | I9: =일위대가총괄표!G14 -> 0 | J9: =TRUNC(E9*I9,1) -> 0 | K9: =일위대가총괄표!H14 -> 0 | L9: =TRUNC(E9*K9,1) -> 0 | M9: =일위대가총괄표!I14 -> 0 | N9: =TRUNC(E9*M9,1) -> 0
C10: 약품주입설비 구매설치비 | D10: 부대작업 | E10: 1 | F10: 식 | G10: =I10+K10+M10 -> 0 | H10: =J10+L10+N10 -> 0 | I10: =일위대가총괄표!G23 -> 0 | J10: =TRUNC(E10*I10,1) -> 0 | K10: =일위대가총괄표!H23 -> 0 | L10: =TRUNC(E10*K10,1) -> 0 | M10: =일위대가총괄표!I23 -> 0 | N10: =TRUNC(E10*M10,1) -> 0
C11: 부가세 | D11: 합계의 | E11: 10 | F11: % | G11: =I11+K11+M11 -> 0 | H11: =J11+L11+N11 -> 0 | J11: =TRUNC(E11*1/100*I11,1) -> 0 | L11: =TRUNC(E11*1/100*K11,1) -> 0 | M11: =H10+H9+H8+H7+H6 -> 0 | N11: =TRUNC(E11*1/100*M11,1) -> 0
C12: 원단위절사 | E12: 1 | F12: 식 | G12: =I12+K12+M12 -> 0 | H12: =J12+L12+N12 -> 0 | J12: =TRUNC(E12*I12,1) -> 0 | L12: =TRUNC(E12*K12,1) -> 0 | M12: 0 | N12: =TRUNC(E12*M12,1) -> 0
J13: =TRUNC(E13*I13,1) -> 0 | L13: =TRUNC(E13*K13,1) -> 0 | N13: =TRUNC(E13*M13,1) -> 0
B14: 제2호표 | C14: 약품주입설비 구매설치비 | D14: 기자재 | F14: 식 | H14: =J14+L14+N14 -> 0 | J14: =TRUNC(J15+J16+J17+J18+J19+J20+J21) -> 0 | L14: =TRUNC(L15+L16+L17+L18+L19+L20+L21) -> 0 | N14: =TRUNC(N15+N16+N17+N18+N19+N20+N21) -> 0
C15: 응집제 주입펌프 | D15: 3.3ℓ/min * 20mH | E15: 2 | F15: 대 | G15: =I15+K15+M15 -> 0 | H15: =J15+L15+N15 -> 0 | I15: =자재단가!AA5 -> 0 | J15: =TRUNC(E15*I15,1) -> 0 | K15: =자재단가!R5 -> 0 | L15: =TRUNC(E15*K15,1) -> 0 | M15: =자재단가!AC5 -> 0 | N15: =TRUNC(E15*M15,1) -> 0
C16: 응집제 주입유량계 | D16: 전자식, Ti 전극 | E16: 1 | F16: 대 | G16: =I16+K16+M16 -> 0 | H16: =J16+L16+N16 -> 0 | I16: =자재단가!AA6 -> 0 | J16: =TRUNC(E16*I16,1) -> 0 | K16: =자재단가!R6 -> 0 | L16: =TRUNC(E16*K16,1) -> 0 | M16: =자재단가!AC6 -> 0 | N16: =TRUNC(E16*M16,1) -> 0
C17: pH조절제 주입펌프 | D17: 2.4ℓ/hr * 40mH | E17: 1 | F17: 대 | G17: =I17+K17+M17 -> 0 | H17: =J17+L17+N17 -> 0 | I17: =자재단가!AA7 -> 0 | J17: =TRUNC(E17*I17,1) -> 0 | K17: =자재단가!R7 -> 0 | L17: =TRUNC(E17*K17,1) -> 0 | M17: =자재단가!AC7 -> 0 | N17: =TRUNC(E17*M17,1) -> 0
C18: 응집보조제 주입펌프 | D18: 7ℓ/hr * 70mH | E18: 1 | F18: 대 | G18: =I18+K18+M18 -> 0 | H18: =J18+L18+N18 -> 0 | I18: =자재단가!AA8 -> 0 | J18: =TRUNC(E18*I18,1) -> 0 | K18: =자재단가!R8 -> 0 | L18: =TRUNC(E18*K18,1) -> 0 | M18: =자재단가!AC8 -> 0 | N18: =TRUNC(E18*M18,1) -> 0
C19: 펌프스키드장치 | D19: 자립형 | E19: 2 | F19: 대 | G19: =I19+K19+M19 -> 0 | H19: =J19+L19+N19 -> 0 | I19: =자재단가!AA9 -> 0 | J19: =TRUNC(E19*I19,1) -> 0 | K19: =자재단가!R9 -> 0 | L19: =TRUNC(E19*K19,1) -> 0 | M19: =자재단가!AC9 -> 0 | N19: =TRUNC(E19*M19,1) -> 0
C20: 약품주입설비 제어반 | D20: 옥내자립형 | E20: 1 | F20: 대 | G20: =I20+K20+M20 -> 0 | H20: =J20+L20+N20 -> 0 | I20: =자재단가!AA10 -> 0 | J20: =TRUNC(E20*I20,1) -> 0 | K20: =자재단가!R10 -> 0 | L20: =TRUNC(E20*K20,1) -> 0 | M20: =자재단가!AC10 -> 0 | N20: =TRUNC(E20*M20,1) -> 0
C21: 레이더수위계 | D21: 일체형, 10m이하 | E21: 5 | F21: 대 | G21: =I21+K21+M21 -> 0 | H21: =J21+L21+N21 -> 0 | I21: =자재단가!AA11 -> 0 | J21: =TRUNC(E21*I21,1) -> 0 | K21: =자재단가!R11 -> 0 | L21: =TRUNC(E21*K21,1) -> 0 | M21: =자재단가!AC11 -> 0 | N21: =TRUNC(E21*M21,1) -> 0
J22: =TRUNC(E22*I22,1) -> 0 | L22: =TRUNC(E22*K22,1) -> 0 | N22: =TRUNC(E22*M22,1) -> 0
B23: 제3호표 | C23: 약품주입설비 구매설치비 | D23: 기자재 설치 | F23: 식 | H23: =J23+L23+N23 -> 0 | J23: =TRUNC(J24+J25+J26) -> 0 | L23: =TRUNC(L24+L25+L26) -> 0 | N23: =TRUNC(N24+N25+N26) -> 0
C24: 일반기기 설치 | D24: 중량 0.5톤 미만 | E24: 2 | F24: 대 | G24: =I24+K24+M24 -> 0 | H24: =J24+L24+N24 -> 0 | I24: =일위대가총괄표!G7 -> 0 | J24: =TRUNC(E24*I24,1) -> 0 | K24: =일위대가총괄표!H7 -> 0 | L24: =TRUNC(E24*K24,1) -> 0 | M24: =일위대가총괄표!I7 -> 0 | N24: =TRUNC(E24*M24,1) -> 0
C25: 계기반 설치 | D25: 1000×1800×600이하(현장) | E25: 1 | F25: 면 | G25: =I25+K25+M25 -> 0 | H25: =J25+L25+N25 -> 0 | I25: =일위대가총괄표!G9 -> 0 | J25: =TRUNC(E25*I25,1) -> 0 | K25: =일위대가총괄표!H9 -> 0 | L25: =TRUNC(E25*K25,1) -> 0 | M25: =일위대가총괄표!I9 -> 0 | N25: =TRUNC(E25*M25,1) -> 0
C26: 플랜트계기 | D26: 계기(일반각종) | E26: 5 | F26: 대 | G26: =I26+K26+M26 -> 0 | H26: =J26+L26+N26 -> 0 | I26: =일위대가총괄표!G10 -> 0 | J26: =TRUNC(E26*I26,1) -> 0 | K26: =일위대가총괄표!H10 -> 0 | L26: =TRUNC(E26*K26,1) -> 0 | M26: =일위대가총괄표!I10 -> 0 | N26: =TRUNC(E26*M26,1) -> 0
J27: =TRUNC(E27*I27,1) -> 0 | L27: =TRUNC(E27*K27,1) -> 0 | N27: =TRUNC(E27*M27,1) -> 0
B28: 제4호표 | C28: 일반기기 설치 | D28: 중량 0.5톤 미만 | F28: 대 | H28: =J28+L28+N28 -> 0 | J28: =TRUNC(J29) -> 0 | L28: =TRUNC(L29) -> 0 | N28: =TRUNC(N29) -> 0
C29: 일반기기설치 | E29: 0.3 | F29: Ton | G29: =I29+K29+M29 -> 0 | H29: =J29+L29+N29 -> 0 | I29: =일위대가총괄표!G8 -> 0 | J29: =TRUNC(E29*I29,1) -> 0 | K29: =일위대가총괄표!H8 -> 0 | L29: =TRUNC(E29*K29,1) -> 0 | M29: =일위대가총괄표!I8 -> 0 | N29: =TRUNC(E29*M29,1) -> 0
J30: =TRUNC(E30*I30,1) -> 0 | L30: =TRUNC(E30*K30,1) -> 0 | N30: =TRUNC(E30*M30,1) -> 0
B31: 제5호표 | C31: 일반기기설치 | F31: Ton | H31: =J31+L31+N31 -> 0 | J31: =TRUNC(J32+J33+J34+J35+J36+J37+J38) -> 0 | L31: =TRUNC(L32+L33+L34+L35+L36+L37+L38) -> 0 | N31: =TRUNC(N32+N33+N34+N35+N36+N37+N38) -> 0
C32: 초급기술자 (기계/설비) | D32: 기술관리 | E32: 0.5 | F32: 인 | G32: =I32+K32+M32 -> 0 | H32: =J32+L32+N32 -> 0 | I32: =노임단가!F12 -> 0 | J32: =TRUNC(E32*I32,1) -> 0 | K32: =노임단가!AB12 -> 0 | L32: =TRUNC(E32*K32,1) -> 0 | M32: =노임단가!AC12 -> 0 | N32: =TRUNC(E32*M32,1) -> 0
C33: 기계설비공 | E33: 7.24 | F33: 인 | G33: =I33+K33+M33 -> 0 | H33: =J33+L33+N33 -> 0 | I33: =노임단가!F13 -> 0 | J33: =TRUNC(E33*I33,1) -> 0 | K33: =노임단가!AB13 -> 0 | L33: =TRUNC(E33*K33,1) -> 0 | M33: =노임단가!AC13 -> 0 | N33: =TRUNC(E33*M33,1) -> 0
C34: 비 계 공 | E34: 2.86 | F34: 인 | G34: =I34+K34+M34 -> 0 | H34: =J34+L34+N34 -> 0 | I34: =노임단가!F7 -> 0 | J34: =TRUNC(E34*I34,1) -> 0 | K34: =노임단가!AB7 -> 0 | L34: =TRUNC(E34*K34,1) -> 0 | M34: =노임단가!AC7 -> 0 | N34: =TRUNC(E34*M34,1) -> 0
C35: 용 접 공 | E35: 0.95 | F35: 인 | G35: =I35+K35+M35 -> 0 | H35: =J35+L35+N35 -> 0 | I35: =노임단가!F6 -> 0 | J35: =TRUNC(E35*I35,1) -> 0 | K35: =노임단가!AB6 -> 0 | L35: =TRUNC(E35*K35,1) -> 0 | M35: =노임단가!AC6 -> 0 | N35: =TRUNC(E35*M35,1) -> 0
C36: 특 별 인 부 | E36: 3.9 | F36: 인 | G36: =I36+K36+M36 -> 0 | H36: =J36+L36+N36 -> 0 | I36: =노임단가!F4 -> 0 | J36: =TRUNC(E36*I36,1) -> 0 | K36: =노임단가!AB4 -> 0 | L36: =TRUNC(E36*K36,1) -> 0 | M36: =노임단가!AC4 -> 0 | N36: =TRUNC(E36*M36,1) -> 0
C37: 시험및조정 | D37: 기술관리제외 | E37: 10 | F37: % | G37: =I37+K37+M37 -> 0 | H37: =J37+L37+N37 -> 0 | I37: =J36+J35+J34+J33+J32 -> 0 | J37: =TRUNC(E37*1/100*I37,1) -> 0 | L37: =TRUNC(E37*1/100*K37,1) -> 0 | N37: =TRUNC(E37*1/100*M37,1) -> 0
C38: 중량 0.5톤 미만 | D38: 노무비의 | E38: 20 | F38: % | G38: =I38+K38+M38 -> 0 | H38: =J38+L38+N38 -> 0 | I38: =J37+J36+J35+J34+J33+J32 -> 0 | J38: =TRUNC(E38*1/100*I38,1) -> 0 | L38: =TRUNC(E38*1/100*K38,1) -> 0 | N38: =TRUNC(E38*1/100*M38,1) -> 0
J39: =TRUNC(E39*I39,1) -> 0 | L39: =TRUNC(E39*K39,1) -> 0 | N39: =TRUNC(E39*M39,1) -> 0
B40: 제6호표 | C40: 계기반 설치 | D40: 1000×1800×600이하(현장) | F40: 면 | H40: =J40+L40+N40 -> 0 | J40: =TRUNC(J41+J42) -> 0 | L40: =TRUNC(L41+L42) -> 0 | N40: =TRUNC(N41+N42) -> 0
C41: 계 장 공 | E41: 8.82 | F41: 인 | G41: =I41+K41+M41 -> 0 | H41: =J41+L41+N41 -> 0 | I41: =노임단가!F14 -> 0 | J41: =TRUNC(E41*I41,1) -> 0 | K41: =노임단가!AB14 -> 0 | L41: =TRUNC(E41*K41,1) -> 0 | M41: =노임단가!AC14 -> 0 | N41: =TRUNC(E41*M41,1) -> 0
...

Sheet 자재단가
B1: 자재단가
B3: No | C3: 품 명 | D3: 규 격 | E3: 단위 | F3: 가격정보 | H3: 물가자료 | J3: 유통물가 | L3: 물가정보 | N3: 거래가격 | P3: 견적가1 | R3: 적용단가 | S3: 비 고 | Z3: 당초합계 | AA3: 당초노무비 | AB3: 당초재료비 | AC3: 당초경비
F4: 단 가 | G4: page | H4: 단 가 | I4: page | J4: 단 가 | K4: page | L4: 단 가 | M4: page | N4: 단 가 | O4: page | P4: 단 가 | Q4: page
B5: 1 | C5: 응집제 주입펌프 | D5: 3.3ℓ/min * 20mH | E5: 대
B6: 2 | C6: 응집제 주입유량계 | D6: 전자식, Ti 전극 | E6: 대
B7: 3 | C7: pH조절제 주입펌프 | D7: 2.4ℓ/hr * 40mH | E7: 대
B8: 4 | C8: 응집보조제 주입펌프 | D8: 7ℓ/hr * 70mH | E8: 대
B9: 5 | C9: 펌프스키드장치 | D9: 자립형 | E9: 대
B10: 6 | C10: 약품주입설비 제어반 | D10: 옥내자립형 | E10: 대
B11: 7 | C11: 레이더수위계 | D11: 일체형, 10m이하 | E11: 대
B12: 8 | C12: PVC PIPE | D12: 15A(SCH80) | E12: m
B13: 9 | C13: PVC PIPE | D13: 20A(SCH80) | E13: m
B14: 10 | C14: PVC PIPE | D14: 25A(SCH80) | E14: m
B15: 11 | C15: PVC ELBOW | D15: 15A(SCH80) | E15: 개
B16: 12 | C16: PVC ELBOW | D16: 20A(SCH80) | E16: 개
... B40: 36 | C40: 시스템 프로그래밍 | D40: DI/DO | E40: EA

Sheet 노임단가
B1: 노임단가
B3: No | C3: 품 명 | D3: 규 격 | E3: 단위 | F3: 적용단가 | G3: 비 고 | Z3: 당초합계 | AA3: 당초노무비 | AB3: 당초재료비 | AC3: 당초경비
B4: 1 | C4: 특별인부 | E4: 인 | G4: 2026년(상) | Z4: 226122
B5: 2 | C5: 보통인부 | E5: 인 | G5: 2026년(상) | Z5: 172068
B6: 3 | C6: 용 접 공 | E6: 인 | G6: 2026년(상) | Z6: 282536
B7: 4 | C7: 비 계 공 | E7: 인 | G7: 2026년(상) | Z7: 281939
B8: 5 | C8: 작업반장 | E8: 인 | G8: 2026년(상) | Z8: 215907
B9: 6 | C9: 철 골 공 | E9: 인 | G9: 2026년(상) | Z9: 252641
B10: 7 | C10: 철 공 | E10: 인 | G10: 2026년(상) | Z10: 239808
B11: 8 | C11: 방 수 공 | E11: 인 | G11: 2026년(상) | Z11: 228286
B12: 9 | C12: 초급기술자 (기계/설비) | E12: 인 | G12: 2026년(기계/설비) | Z12: 263602
B13: 10 | C13: 기계설비공 | E13: 인 | G13: 2026년(상) | Z13: 241698
B14: 11 | C14: 계 장 공 | E14: 인 | G14: 2026년(상) | Z14: 319449
B15: 12 | C15: 배 관 공 | E15: 인 | G15: 2026년(상) | Z15: 247897
B16: 13 | C16: 저압케이블전공 | E16: 인 | G16: 2026년(상) | Z16: 304156
B17: 14 | C17: 내선전공 | E17: 인 | G17: 2026년(상) | Z17: 273676
