Workbook

Sheet 내역서총괄표
B1: 내역서총괄표
B3: 공종 | C3: 품 명 | D3: 규 격 | E3: 수 량 | F3: 단위 | G3: 합 계 | H3: 노무비 | I3: 재료비 | J3: 경 비 | K3: 비 고
C4: 관급자관급자재비 | G4: =#REF! -> #REF!

Sheet 내역서
B1: 내역서
B3: 공종 | C3: 품 명 | D3: 규 격 | E3: 수 량 | F3: 단위 | G3: 합 계 | I3: 노무비 | K3: 재료비 | M3: 경 비 | O3: 비 고
G4: 단 가 | H4: 금 액 | I4: 단 가 | J4: 금 액 | K4: 단 가 | L4: 금 액 | M4: 단 가 | N4: 금 액
C5: 관급자 관급자재비 | G5: =I5+K5+M5 -> 0 | H5: =J5+L5+N5 -> 0 | J5: =TEXT(SUM(J6:J7),"#,##0") -> 0 | L5: =TEXT(SUM(L6:L7),"#,##0") -> 0 | N5: =TEXT(SUM(N6:N7),"#,##0") -> 0
C6: 약품주입설비 구매설치비 | E6: 1 | F6: 식 | G6: =I6+K6+M6 -> 0 | H6: =J6+L6+N6 -> 0 | I6: =일위대가총괄표!G4 -> 0 | J6: =TRUNC(E6*I6,0) -> 0 | K6: =일위대가총괄표!H4 -> 0 | L6: =TRUNC(E6*K6,0) -> 0 | M6: =일위대가총괄표!I4 -> 0 | N6: =TRUNC(E6*M6,0) -> 0 | O6: 일위1참조
G7: =I7+K7+M7 -> 0 | H7: =J7+L7+N7 -> 0

Sheet 일위대가총괄표
B1: 일위대가총괄표
B3: 호 표 | C3: 품 명 | D3: 규 격 | E3: 단위 | F3: 합 계 | G3: 노무비 | H3: 재료비 | I3: 경 비 | J3: 비 고 | Z3: 당초합계 | AA3: 당초노무비 | AB3: 당초재료비 | AC3: 당초경비
B4: 제1호표 | C4: 약품주입설비 구매설치비 | E4: 식 | F4: =G4+H4+I4 -> 0 | G4: =일위대가!J5 -> 0 | H4: =일위대가!L5 -> 0 | I4: =일위대가!N5 -> 0 | Z4: 157066000 | AA4: 17065048 | AB4: 125722270 | AC4: 14278682
B5: 제2호표 | C5: 약품주입설비 구매설치비 | D5: 기자재 | E5: 식 | F5: =G5+H5+I5 -> 0 | G5: =일위대가!J14 -> 0 | H5: =일위대가!L14 -> 0 | I5: =일위대가!N14 -> 0 | Z5: 111100000 | AB5: 111100000
B6: 제3호표 | C6: 약품주입설비 구매설치비 | D6: 기자재 설치 | E6: 식 | F6: =G6+H6+I6 -> 0 | G6: =일위대가!J23 -> 0 | H6: =일위대가!L23 -> 0 | I6: =일위대가!N23 -> 0 | Z6: 7348421 | AA6: 7348421
B7: 제4호표 | C7: 일반기기 설치 | D7: 중량 0.5톤 미만 | E7: 대 | F7: =G7+H7+I7 -> 0 | G7: =일위대가!J28 -> 0 | H7: =일위대가!L28 -> 0 | I7: =일위대가!N28 -> 0 | Z7: 1519976 | AA7: 1519976
B8: 제5호표 | C8: 일반기기설치 | E8: Ton | F8: =G8+H8+I8 -> 0 | G8: =일위대가!J31 -> 0 | H8: =일위대가!L31 -> 0 | I8: =일위대가!N31 -> 0 | Z8: 5066589 | AA8: 5066589
B9: 제6호표 | C9: 계기반 설치 | D9: 1000×1800×600이하(현장) | E9: 면 | F9: =G9+H9+I9 -> 0 | G9: =일위대가!J40 -> 0 | H9: =일위대가!L40 -> 0 | I9: =일위대가!N40 -> 0 | Z9: 3829299 | AA9: 3829299
B10: 제7호표 | C10: 플랜트계기 | D10: 계기(일반각종) | E10: 대 | F10: =G10+H10+I10 -> 0 | G10: =일위대가!J44 -> 0 | H10: =일위대가!L44 -> 0 | I10: =일위대가!N44 -> 0 | Z10: 95834 | AA10: 95834
B11: 제8호표 | C11: 약품주입설비 구매설치비 | D11: 배관 설치 | E11: 식 | F11: =G11+H11+I11 -> 0 | G11: =일위대가!J47 -> 0 | H11: =일위대가!L47 -> 0 | I11: =일위대가!N47 -> 0 | Z11: 3940288 | AA11: 3168809 | AB11: 771479
B12: 제9호표 | C12: 경질관 접착제 접합(T.S식) 및 배관 | D12: 30mm | E12: M | F12: =G12+H12+I12 -> 0 | G12: =일위대가!J61 -> 0 | H12: =일위대가!L61 -> 0 | I12: =일위대가!N61 -> 0 | Z12: 20674 | AA12: 20269 | AB12: 405
B13: 제10호표 | C13: 밸브 및 콕류 설치 | D13: 15~25mm | E13: 개 | F13: =G13+H13+I13 -> 0 | G13: =일위대가!J66 -> 0 | H13: =일위대가!L66 -> 0 | I13: =일위대가!N66 -> 0 | Z13: 12641 | AA13: 12394 | AB13: 247
B14: 제11호표 | C14: 약품주입설비 구매설치비 | D14: 2차측 전기설치 | E14: 식 | F14: =G14+H14+I14 -> 0 | G14: =일위대가!J70 -> 0 | H14: =일위대가!L70 -> 0 | I14: =일위대가!N70 -> 0 | Z14: 8685609 | AA14: 6547818 | AB14: 2137791
B15: 제12호표 | C15: 제어용 케이블 설치(1C) | D15: 2.5㎟ | E15: M | F15: =G15+H15+I15 -> 0 | G15: =일위대가!J96 -> 0 | H15: =일위대가!L96 -> 0 | I15: =일위대가!N96 -> 0 | Z15: 3041 | AA15: 3041
B16: 제13호표 | C16: 제어용 케이블 설치(2C) | D16: 2.5㎟ | E16: M | F16: =G16+H16+I16 -> 0 | G16: =일위대가!J99 -> 0 | H16: =일위대가!L99 -> 0 | I16: =일위대가!N99 -> 0 | Z16: 4258 | AA16: 4258
B17: 제14호표 | C17: 제어용 케이블 설치(6C) | D17: 2.5㎟ | E17: M | F17: =G17+H17+I17 -> 0 | G17: =일위대가!J102 -> 0 | H17: =일위대가!L102 -> 0 | I17: =일위대가!N102 -> 0 | Z17: 10645 | AA17: 10645
B18: 제15호표 | C18: 금속덕트 설치 | D18: 100×100mm이하(100㎠) | E18: 개 | F18: =G18+H18+I18 -> 0 | G18: =일위대가!J105 -> 0 | H18: =일위대가!L105 -> 0 | I18: =일위대가!N105 -> 0 | Z18: 82102 | AA18: 82102
B19: 제16호표 | C19: 전선관 배관(후강전선관) | D19: 22mm이하 | E19: M | F19: =G19+H19+I19 -> 0 | G19: =일위대가!J108 -> 0 | H19: =일위대가!L108 -> 0 | I19: =일위대가!N108 -> 0 | Z19: 30104 | AA19: 30104
B20: 제17호표 | C20: 전선관 배관(후강전선관) | D20: 28mm이하 | E20: M | F20: =G20+H20+I20 -> 0 | G20: =일위대가!J111 -> 0 | H20: =일위대가!L111 -> 0 | I20: =일위대가!N111 -> 0 | Z20: 38314 | AA20: 38314
B21: 제18호표 | C21: 전선관 배관(합성수지전선관) | D21: 22mm이하 | E21: M | F21: =G21+H21+I21 -> 0 | G21: =일위대가!J114 -> 0 | H21: =일위대가!L114 -> 0 | I21: =일위대가!N114 -> 0 | Z21: 16420 | AA21: 16420
B22: 제19호표 | C22: 전선관 배관(합성수지전선관) | D22: 28mm이하 | E22: M | F22: =G22+H22+I22 -> 0 | G22: =일위대가!J117 -> 0 | H22: =일위대가!L117 -> 0 | I22: =일위대가!N117 -> 0 | Z22: 21894 | AA22: 21894
B23: 제20호표 | C23: 약품주입설비 구매설치비 | D23: 부대작업 | E23: 식 | F23: =G23+H23+I23 -> 0 | G23: =일위대가!J120 -> 0 | H23: =일위대가!L120 -> 0 | I23: =일위대가!N120 -> 0 | Z23: 11713000 | AB23: 11713000

Sheet 일위대가
B1: 일위대가
B3: 호 표 | C3: 품 명 | D3: 규 격 | E3: 수 량 | F3: 단위 | G3: 합 계 | I3: 노무비 | K3: 재료비 | M3: 경 비 | O3: 비 고
G4: 단 가 | H4: 금 액 | I4: 단 가 | J4: 금 액 | K4: 단 가 | L4: 금 액 | M4: 단 가 | N4: 금 액
B5: 제1호표 | C5: 약품주입설비 구매설치비 | F5: 식 | H5: =J5+L5+N5 -> 0 | J5: =TRUNC(J6+J7+J8+J9+J10+J11+J12) -> 0 | L5: =TRUNC(L6+L7+L8+L9+L10+L11+L12) -> 0 | N5: =TRUNC(N6+N7+N8+N9+N10+N11+N12) -> 0
C6: 약품주입설비 구매설치비 | D6: 기자재 | E6: 1 | F6: 식 | G6: =I6+K6+M6 -> 0 | H6: =J6+L6+N6 -> 0 | I6: =일위대가총괄표!G5 -> 0 | J6: =TRUNC(E6*I6,1) -> 0 | K6: =일위대가총괄표!H5 -> 0 | L6: =TRUNC(E6*K6,1) -> 0 | M6: =일위대가총괄표!I5 -> 0 | N6: =TRUNC(E6*M6,1) -> 0
C7: 약품주입설비 구매설치비 | D7: 기자재 설치 | E7: 1 | F7: 식 | G7: =I7+K7+M7 -> 0 | H7: =J7+L7+N7 -> 0 | I7: =일위대가총괄표!G6 -> 0 | J7: =TRUNC(E7*I7,1) -> 0 | K7: =일위대가총괄표!H6 -> 0 | L7: =TRUNC(E7*K7,1) -> 0 | M7: =일위대가총괄표!I6 -> 0 | N7: =TRUNC(E7*M7,1) -> 0
C8: 약품주입설비 구매설치비 | D8: 배관 설치 | E8: 1 | F8: 식 | G8: =I8+K8+M8 -> 0 | H8: =J8+L8+N8 -> 0 | I8: =일위대가총괄표!G11 -> 0 | J8: =TRUNC(E8*I8,1) -> 0 | K8: =일위대가총괄표!H11 -> 0 | L8: =TRUNC(E8*K8,1) -> 0 | M8: =일위대가총괄표!I11 -> 0 | N8: =TRUNC(E8*M8,1) -> 0
C9: 약품주입설비 구매설치비 | D9: 2차측 전기설치 | E9: 1 | F9: 식 | G9: =I9+K9+M9 -> 0 | H9: =J9+L9+N9 -> 0 | I9: =일위대가총괄표!G14 -> 0 | J9: =TRUNC(E9*I9,1) -> 0 | K9: =일위대가총괄표!H14 -> 0 | L9: =TRUNC(E9*K9,1) -> 0 | M9: =일위대가총괄표!I14 -> 0 | N9: =TRUNC(E9*M9,1) -> 0
C10: 약품주입설비 구매설치비 | D10: 부대작업 | E10: 1 | F10: 식 | G10: =I10+K10+M10 -> 0 | H10: =J10+L10+N10 -> 0 | I10: =일위대가총괄표!G23 -> 0 | J10: =TRUNC(E10*I10,1) -> 0 | K10: =일위대가총괄표!H23 -> 0 | L10: =TRUNC(E10*K10,1) -> 0 | M10: =일위대가총괄표!I23 -> 0 | N10: =TRUNC(E10*M10,1) -> 0
C11: 부가세 | D11: 합계의 | E11: 10 | F11: % | G11: =I11+K11+M11 -> 0 | H11: =J11+L11+N11 -> 0 | J11: =TRUNC(E11*1/100*I11,1) -> 0 | L11: =TRUNC(E11*1/100*K11,1) -> 0 | M11: =H10+H9+H8+H7+H6 -> 0 | N11: =TRUNC(E11*1/100*M11,1) -> 0
C12: 원단위절사 | E12: 1 | F12: 식 | G12: =I12+K12+M12 -> 0 | H12: =J12+L12+N12 -> 0 | J12: =TRUNC(E12*I12,1) -> 0 | L12: =TRUNC(E12*K12,1) -> 0 | M12: 0 | N12: =TRUNC(E12*M12,1) -> 0
J13: =TRUNC(E13*I13,1) -> 0 | L13: =TRUNC(E13*K13,1) -> 0 | N13: =TRUNC(E13*M13,1) -> 0
B14: 제2호표 | C14: 약품주입설비 구매설치비 | D14: 기자재 | F14: 식 | H14: =J14+L14+N14 -> 0 | J14: =TRUNC(J15+J16+J17+J18+J19+J20+J21) -> 0 | L14: =TRUNC(L15+L16+L17+L18+L19+L20+L21) -> 0 | N14: =TRUNC(N15+N16+N17+N18+N19+N20+N21) -> 0
C15: 응집제 주입펌프 | D15: 3.3ℓ/min * 20mH | E15: 2 | F15: 대 | G15: =I15+K15+M15 -> 0 | H15: =J15+L15+N15 -> 0 | I15: =자재단가!AA5 -> 0 | J15: =TRUNC(E15*I15,1) -> 0 | K15: =자재단가!R5 -> 0 | L15: =TRUNC(E15*K15,1) -> 0 | M15: =자재단가!AC5 -> 0 | N15: =TRUNC(E15*M15,1) -> 0
C16: 응집제 주입유량계 | D16: 전자식, Ti 전극 | E16: 1 | F16: 대 | G16: =I16+K16+M16 -> 0 | H16: =J16+L16+N16 -> 0 | I16: =자재단가!AA6 -> 0 | J16: =TRUNC(E16*I16,1) -> 0 | K16: =자재단가!R6 -> 0 | L16: =TRUNC(E16*K16,1) -> 0 | M16: =자재단가!AC6 -> 0 | N16: =TRUNC(E16*M16,1) -> 0
C17: pH조절제 주입펌프 | D17: 2.4ℓ/hr * 40mH | E17: 1 | F17: 대 | G17: =I17+K17+M17 -> 0 | H17: =J17+L17+N17 -> 0 | I17: =자재단가!AA7 -> 0 | J17: =TRUNC(E17*I17,1) -> 0 | K17: =자재단가!R7 -> 0 | L17: =TRUNC(E17*K17,1) -> 0 | M17: =자재단가!AC7 -> 0 | N17: =TRUNC(E17*M17,1) -> 0
C18: 응집보조제 주입펌프 | D18: 7ℓ/hr * 70mH | E18: 1 | F18: 대 | G18: =I18+K18+M18 -> 0 | H18: =J18+L18+N18 -> 0 | I18: =자재단가!AA8 -> 0 | J18: =TRUNC(E18*I18,1) -> 0 | K18: =자재단가!R8 -> 0 | L18: =TRUNC(E18*K18,1) -> 0 | M18: =자재단가!AC8 -> 0 | N18: =TRUNC(E18*M18,1) -> 0
C19: 펌프스키드장치 | D19: 자립형 | E19: 2 | F19: 대 | G19: =I19+K19+M19 -> 0 | H19: =J19+L19+N19 -> 0 | I19: =자재단가!AA9 -> 0 | J19: =TRUNC(E19*I19,1) -> 0 | K19: =자재단가!R9 -> 0 | L19: =TRUNC(E19*K19,1) -> 0 | M19: =자재단가!AC9 -> 0 | N19: =TRUNC(E19*M19,1) -> 0
C20: 약품주입설비 제어반 | D20: 옥내자립형 | E20: 1 | F20: 대 | G20: =I20+K20+M20 -> 0 | H20: =J20+L20+N20 -> 0 | I20: =자재단가!AA10 -> 0 | J20: =TRUNC(E20*I20,1) -> 0 | K20: =자재단가!R10 -> 0 | L20: =TRUNC(E20*K20,1) -> 0 | M20: =자재단가!AC10 -> 0 | N20: =TRUNC(E20*M20,1) -> 0
C21: 레이더수위계 | D21: 일체형, 10m이하 | E21: 5 | F21: 대 | G21: =I21+K21+M21 -> 0 | H21: =J21+L21+N21 -> 0 | I21: =자재단가!AA11 -> 0 | J21: =TRUNC(E21*I21,1) -> 0 | K21: =자재단가!R11 -> 0 | L21: =TRUNC(E21*K21,1) -> 0 | M21: =자재단가!AC11 -> 0 | N21: =TRUNC(E21*M21,1) -> 0
J22: =TRUNC(E22*I22,1) -> 0 | L22: =TRUNC(E22*K22,1) -> 0 | N22: =TRUNC(E22*M22,1) -> 0
B23: 제3호표 | C23: 약품주입설비 구매설치비 | D23: 기자재 설치 | F23: 식 | H23: =J23+L23+N23 -> 0 | J23: =TRUNC(J24+J25+J26) -> 0 | L23: =TRUNC(L24+L25+L26) -> 0 | N23: =TRUNC(N24+N25+N26) -> 0
C24: 일반기기 설치 | D24: 중량 0.5톤 미만 | E24: 2 | F24: 대 | G24: =I24+K24+M24 -> 0 | H24: =J24+L24+N24 -> 0 | I24: =일위대가총괄표!G7 -> 0 | J24: =TRUNC(E24*I24,1) -> 0 | K24: =일위대가총괄표!H7 -> 0 | L24: =TRUNC(E24*K24,1) -> 0 | M24: =일위대가총괄표!I7 -> 0 | N24: =TRUNC(E24*M24,1) -> 0
C25: 계기반 설치 | D25: 1000×1800×600이하(현장) | E25: 1 | F25: 면 | G25: =I25+K25+M25 -> 0 | H25: =J25+L25+N25 -> 0 | I25: =일위대가총괄표!G9 -> 0 | J25: =TRUNC(E25*I25,1) -> 0 | K25: =일위대가총괄표!H9 -> 0 | L25: =TRUNC(E25*K25,1) -> 0 | M25: =일위대가총괄표!I9 -> 0 | N25: =TRUNC(E25*M25,1) -> 0
C26: 플랜트계기 | D26: 계기(일반각종) | E26: 5 | F26: 대 | G26: =I26+K26+M26 -> 0 | H26: =J26+L26+N26 -> 0 | I26: =일위대가총괄표!G10 -> 0 | J26: =TRUNC(E26*I26,1) -> 0 | K26: =일위대가총괄표!H10 -> 0 | L26: =TRUNC(E26*K26,1) -> 0 | M26: =일위대가총괄표!I10 -> 0 | N26: =TRUNC(E26*M26,1) -> 0
J27: =TRUNC(E27*I27,1) -> 0 | L27: =TRUNC(E27*K27,1) -> 0 | N27: =TRUNC(E27*M27,1) -> 0
B28: 제4호표 | C28: 일반기기 설치 | D28: 중량 0.5톤 미만 | F28: 대 | H28: =J28+L28+N28 -> 0 | J28: =TRUNC(J29) -> 0 | L28: =TRUNC(L29) -> 0 | N28: =TRUNC(N29) -> 0
C29: 일반기기설치 | E29: 0.3 | F29: Ton | G29: =I29+K29+M29 -> 0 | H29: =J29+L29+N29 -> 0 | I29: =일위대가총괄표!G8 -> 0 | J29: =TRUNC(E29*I29,1) -> 0 | K29: =일위대가총괄표!H8 -> 0 | L29: =TRUNC(E29*K29,1) -> 0 | M29: =일위대가총괄표!I8 -> 0 | N29: =TRUNC(E29*M29,1) -> 0
J30: =TRUNC(E30*I30,1) -> 0 | L30: =TRUNC(E30*K30,1) -> 0 | N30: =TRUNC(E30*M30,1) -> 0
B31: 제5호표 | C31: 일반기기설치 | F31: Ton | H31: =J31+L31+N31 -> 0 | J31: =TRUNC(J32+J33+J34+J35+J36+J37+J38) -> 0 | L31: =TRUNC(L32+L33+L34+L35+L36+L37+L38) -> 0 | N31: =TRUNC(N32+N33+N34+N35+N36+N37+N38) -> 0
C32: 초급기술자 (기계/설비) | D32: 기술관리 | E32: 0.5 | F32: 인 | G32: =I32+K32+M32 -> 0 | H32: =J32+L32+N32 -> 0 | I32: =노임단가!F12 -> 0 | J32: =TRUNC(E32*I32,1) -> 0 | K32: =노임단가!AB12 -> 0 | L32: =TRUNC(E32*K32,1) -> 0 | M32: =노임단가!AC12 -> 0 | N32: =TRUNC(E32*M32,1) -> 0
C33: 기계설비공 | E33: 7.24 | F33: 인 | G33: =I33+K33+M33 -> 0 | H33: =J33+L33+N33 -> 0 | I33: =노임단가!F13 -> 0 | J33: =TRUNC(E33*I33,1) -> 0 | K33: =노임단가!AB13 -> 0 | L33: =TRUNC(E33*K33,1) -> 0 | M33: =노임단가!AC13 -> 0 | N33: =TRUNC(E33*M33,1) -> 0
C34: 비 계 공 | E34: 2.86 | F34: 인 | G34: =I34+K34+M34 -> 0 | H34: =J34+L34+N34 -> 0 | I34: =노임단가!F7 -> 0 | J34: =TRUNC(E34*I34,1) -> 0 | K34: =노임단가!AB7 -> 0 | L34: =TRUNC(E34*K34,1) -> 0 | M34: =노임단가!AC7 -> 0 | N34: =TRUNC(E34*M34,1) -> 0
C35: 용 접 공 | E35: 0.95 | F35: 인 | G35: =I35+K35+M35 -> 0 | H35: =J35+L35+N35 -> 0 | I35: =노임단가!F6 -> 0 | J35: =TRUNC(E35*I35,1) -> 0 | K35: =노임단가!AB6 -> 0 | L35: =TRUNC(E35*K35,1) -> 0 | M35: =노임단가!AC6 -> 0 | N35: =TRUNC(E35*M35,1) -> 0
C36: 특 별 인 부 | E36: 3.9 | F36: 인 | G36: =I36+K36+M36 -> 0 | H36: =J36+L36+N36 -> 0 | I36: =노임단가!F4 -> 0 | J36: =TRUNC(E36*I36,1) -> 0 | K36: =노임단가!AB4 -> 0 | L36: =TRUNC(E36*K36,1) -> 0 | M36: =노임단가!AC4 -> 0 | N36: =TRUNC(E36*M36,1) -> 0
C37: 시험및조정 | D37: 기술관리제외 | E37: 10 | F37: % | G37: =I37+K37+M37 -> 0 | H37: =J37+L37+N37 -> 0 | I37: =J36+J35+J34+J33+J32 -> 0 | J37: =TRUNC(E37*1/100*I37,1) -> 0 | L37: =TRUNC(E37*1/100*K37,1) -> 0 | N37: =TRUNC(E37*1/100*M37,1) -> 0
C38: 중량 0.5톤 미만 | D38: 노무비의 | E38: 20 | F38: % | G38: =I38+K38+M38 -> 0 | H38: =J38+L38+N38 -> 0 | I38: =J37+J36+J35+J34+J33+J32 -> 0 | J38: =TRUNC(E38*1/100*I38,1) -> 0 | L38: =TRUNC(E38*1/100*K38,1) -> 0 | N38: =TRUNC(E38*1/100*M38,1) -> 0
J39: =TRUNC(E39*I39,1) -> 0 | L39: =TRUNC(E39*K39,1) -> 0 | N39: =TRUNC(E39*M39,1) -> 0
B40: 제6호표 | C40: 계기반 설치 | D40: 1000×1800×600이하(현장) | F40: 면 | H40: =J40+L40+N40 -> 0 | J40: =TRUNC(J41+J42) -> 0 | L40: =TRUNC(L41+L42) -> 0 | N40: =TRUNC(N41+N42) -> 0
C41: 계 장 공 | E41: 8.82 | F41: 인 | G41: =I41+K41+M41 -> 0 | H41: =J41+L41+N41 -> 0 | I41: =노임단가!F14 -> 0 | J41: =TRUNC(E41*I41,1) -> 0 | K41: =노임단가!AB14 -> 0 | L41: =TRUNC(E41*K41,1) -> 0 | M41: =노임단가!AC14 -> 0 | N41: =TRUNC(E41*M41,1) -> 0
C42: 보 통 인 부 | E42: 5.88 | F42: 인 | G42: =I42+K42+M42 -> 0 | H42: =J42+L42+N42 -> 0 | I42: =노임단가!F5 -> 0 | J42: =TRUNC(E42*I42,1) -> 0 | K42: =노임단가!AB5 -> 0 | L42: =TRUNC(E42*K42,1) -> 0 | M42: =노임단가!AC5 -> 0 | N42: =TRUNC(E42*M42,1) -> 0
J43: =TRUNC(E43*I43,1) -> 0 | L43: =TRUNC(E43*K43,1) -> 0 | N43: =TRUNC(E43*M43,1) -> 0
B44: 제7호표 | C44: 플랜트계기 | D44: 계기(일반각종) | F44: 대 | H44: =J44+L44+N44 -> 0 | J44: =TRUNC(J45) -> 0 | L44: =TRUNC(L45) -> 0 | N44: =TRUNC(N45) -> 0
C45: 계 장 공 | E45: 0.3 | F45: 인 | G45: =I45+K45+M45 -> 0 | H45: =J45+L45+N45 -> 0 | I45: =노임단가!F14 -> 0 | J45: =TRUNC(E45*I45,1) -> 0 | K45: =노임단가!AB14 -> 0 | L45: =TRUNC(E45*K45,1) -> 0 | M45: =노임단가!AC14 -> 0 | N45: =TRUNC(E45*M45,1) -> 0
J46: =TRUNC(E46*I46,1) -> 0 | L46: =TRUNC(E46*K46,1) -> 0 | N46: =TRUNC(E46*M46,1) -> 0
B47: 제8호표 | C47: 약품주입설비 구매설치비 | D47: 배관 설치 | F47: 식 | H47: =J47+L47+N47 -> 0 | J47: =TRUNC(J48+J49+J50+J51+J52+J53+J54+J55+J56+J57+J58+J59) -> 0 | L47: =TRUNC(L48+L49+L50+L51+L52+L53+L54+L55+L56+L57+L58+L59) -> 0 | N47: =TRUNC(N48+N49+N50+N51+N52+N53+N54+N55+N56+N57+N58+N59) -> 0
C48: PVC PIPE | D48: 15A(SCH80) | E48: 44 | F48: m | G48: =I48+K48+M48 -> 0 | H48: =J48+L48+N48 -> 0 | I48: =자재단가!AA12 -> 0 | J48: =TRUNC(E48*I48,1) -> 0 | K48: =자재단가!R12 -> 0 | L48: =TRUNC(E48*K48,1) -> 0 | M48: =자재단가!AC12 -> 0 | N48: =TRUNC(E48*M48,1) -> 0
C49: PVC PIPE | D49: 20A(SCH80) | E49: 21 | F49: m | G49: =I49+K49+M49 -> 0 | H49: =J49+L49+N49 -> 0 | I49: =자재단가!AA13 -> 0 | J49: =TRUNC(E49*I49,1) -> 0 | K49: =자재단가!R13 -> 0 | L49: =TRUNC(E49*K49,1) -> 0 | M49: =자재단가!AC13 -> 0 | N49: =TRUNC(E49*M49,1) -> 0
C50: PVC PIPE | D50: 25A(SCH80) | E50: 84 | F50: m | G50: =I50+K50+M50 -> 0 | H50: =J50+L50+N50 -> 0 | I50: =자재단가!AA14 -> 0 | J50: =TRUNC(E50*I50,1) -> 0 | K50: =자재단가!R14 -> 0 | L50: =TRUNC(E50*K50,1) -> 0 | M50: =자재단가!AC14 -> 0 | N50: =TRUNC(E50*M50,1) -> 0
C51: PVC ELBOW | D51: 15A(SCH80) | E51: 10 | F51: 개 | G51: =I51+K51+M51 -> 0 | H51: =J51+L51+N51 -> 0 | I51: =자재단가!AA15 -> 0 | J51: =TRUNC(E51*I51,1) -> 0 | K51: =자재단가!R15 -> 0 | L51: =TRUNC(E51*K51,1) -> 0 | M51: =자재단가!AC15 -> 0 | N51: =TRUNC(E51*M51,1) -> 0
C52: PVC ELBOW | D52: 20A(SCH80) | E52: 5 | F52: 개 | G52: =I52+K52+M52 -> 0 | H52: =J52+L52+N52 -> 0 | I52: =자재단가!AA16 -> 0 | J52: =TRUNC(E52*I52,1) -> 0 | K52: =자재단가!R16 -> 0 | L52: =TRUNC(E52*K52,1) -> 0 | M52: =자재단가!AC16 -> 0 | N52: =TRUNC(E52*M52,1) -> 0
C53: PVC ELBOW | D53: 25A(SCH80) | E53: 19 | F53: 개 | G53: =I53+K53+M53 -> 0 | H53: =J53+L53+N53 -> 0 | I53: =자재단가!AA17 -> 0 | J53: =TRUNC(E53*I53,1) -> 0 | K53: =자재단가!R17 -> 0 | L53: =TRUNC(E53*K53,1) -> 0 | M53: =자재단가!AC17 -> 0 | N53: =TRUNC(E53*M53,1) -> 0
C54: PVC TEE | D54: 25A(SCH80) | E54: 2 | F54: 개 | G54: =I54+K54+M54 -> 0 | H54: =J54+L54+N54 -> 0 | I54: =자재단가!AA18 -> 0 | J54: =TRUNC(E54*I54,1) -> 0 | K54: =자재단가!R18 -> 0 | L54: =TRUNC(E54*K54,1) -> 0 | M54: =자재단가!AC18 -> 0 | N54: =TRUNC(E54*M54,1) -> 0
C55: PVC BALL VALVE | D55: 15A(DOUBLE UNION) | E55: 5 | F55: 개 | G55: =I55+K55+M55 -> 0 | H55: =J55+L55+N55 -> 0 | I55: =자재단가!AA19 -> 0 | J55: =TRUNC(E55*I55,1) -> 0 | K55: =자재단가!R19 -> 0 | L55: =TRUNC(E55*K55,1) -> 0 | M55: =자재단가!AC19 -> 0 | N55: =TRUNC(E55*M55,1) -> 0
C56: PVC BALL VALVE | D56: 20A(DOUBLE UNION) | E56: 2 | F56: 개 | G56: =I56+K56+M56 -> 0 | H56: =J56+L56+N56 -> 0 | I56: =자재단가!AA20 -> 0 | J56: =TRUNC(E56*I56,1) -> 0 | K56: =자재단가!R20 -> 0 | L56: =TRUNC(E56*K56,1) -> 0 | M56: =자재단가!AC20 -> 0 | N56: =TRUNC(E56*M56,1) -> 0
C57: PVC BALL VALVE | D57: 25A(DOUBLE UNION) | E57: 5 | F57: 개 | G57: =I57+K57+M57 -> 0 | H57: =J57+L57+N57 -> 0 | I57: =자재단가!AA21 -> 0 | J57: =TRUNC(E57*I57,1) -> 0 | K57: =자재단가!R21 -> 0 | L57: =TRUNC(E57*K57,1) -> 0 | M57: =자재단가!AC21 -> 0 | N57: =TRUNC(E57*M57,1) -> 0
C58: 경질관 접착제 접합(T.S식) 및 배관 | D58: 30mm | E58: 149 | F58: M | G58: =I58+K58+M58 -> 0 | H58: =J58+L58+N58 -> 0 | I58: =일위대가총괄표!G12 -> 0 | J58: =TRUNC(E58*I58,1) -> 0 | K58: =일위대가총괄표!H12 -> 0 | L58: =TRUNC(E58*K58,1) -> 0 | M58: =일위대가총괄표!I12 -> 0 | N58: =TRUNC(E58*M58,1) -> 0
C59: 밸브 및 콕류 설치 | D59: 15~25mm | E59: 12 | F59: 개 | G59: =I59+K59+M59 -> 0 | H59: =J59+L59+N59 -> 0 | I59: =일위대가총괄표!G13 -> 0 | J59: =TRUNC(E59*I59,1) -> 0 | K59: =일위대가총괄표!H13 -> 0 | L59: =TRUNC(E59*K59,1) -> 0 | M59: =일위대가총괄표!I13 -> 0 | N59: =TRUNC(E59*M59,1) -> 0
J60: =TRUNC(E60*I60,1) -> 0 | L60: =TRUNC(E60*K60,1) -> 0 | N60: =TRUNC(E60*M60,1) -> 0
B61: 제9호표 | C61: 경질관 접착제 접합(T.S식) 및 배관 | D61: 30mm | F61: M | H61: =J61+L61+N61 -> 0 | J61: =TRUNC(J62+J63+J64) -> 0 | L61: =TRUNC(L62+L63+L64) -> 0 | N61: =TRUNC(N62+N63+N64) -> 0
C62: 배 관 공 | E62: 0.054 | F62: 인 | G62: =I62+K62+M62 -> 0 | H62: =J62+L62+N62 -> 0 | I62: =노임단가!F15 -> 0 | J62: =TRUNC(E62*I62,1) -> 0 | K62: =노임단가!AB15 -> 0 | L62: =TRUNC(E62*K62,1) -> 0 | M62: =노임단가!AC15 -> 0 | N62: =TRUNC(E62*M62,1) -> 0
C63: 보통인부 | E63: 0.04 | F63: 인 | G63: =I63+K63+M63 -> 0 | H63: =J63+L63+N63 -> 0 | I63: =노임단가!F5 -> 0 | J63: =TRUNC(E63*I63,1) -> 0 | K63: =노임단가!AB5 -> 0 | L63: =TRUNC(E63*K63,1) -> 0 | M63: =노임단가!AC5 -> 0 | N63: =TRUNC(E63*M63,1) -> 0
C64: 공구손료 | D64: 노무비의 | E64: 2 | F64: % | G64: =I64+K64+M64 -> 0 | H64: =J64+L64+N64 -> 0 | J64: =TRUNC(E64*1/100*I64,1) -> 0 | K64: =J63+J62 -> 0 | L64: =TRUNC(E64*1/100*K64,1) -> 0 | N64: =TRUNC(E64*1/100*M64,1) -> 0
J65: =TRUNC(E65*I65,1) -> 0 | L65: =TRUNC(E65*K65,1) -> 0 | N65: =TRUNC(E65*M65,1) -> 0
B66: 제10호표 | C66: 밸브 및 콕류 설치 | D66: 15~25mm | F66: 개 | H66: =J66+L66+N66 -> 0 | J66: =TRUNC(J67+J68) -> 0 | L66: =TRUNC(L67+L68) -> 0 | N66: =TRUNC(N67+N68) -> 0
C67: 배 관 공 | E67: 0.05 | F67: 인 | G67: =I67+K67+M67 -> 0 | H67: =J67+L67+N67 -> 0 | I67: =노임단가!F15 -> 0 | J67: =TRUNC(E67*I67,1) -> 0 | K67: =노임단가!AB15 -> 0 | L67: =TRUNC(E67*K67,1) -> 0 | M67: =노임단가!AC15 -> 0 | N67: =TRUNC(E67*M67,1) -> 0
C68: 공구손료 | D68: 인건비의 | E68: 2 | F68: % | G68: =I68+K68+M68 -> 0 | H68: =J68+L68+N68 -> 0 | J68: =TRUNC(E68*1/100*I68,1) -> 0 | K68: =J67 -> 0 | L68: =TRUNC(E68*1/100*K68,1) -> 0 | N68: =TRUNC(E68*1/100*M68,1) -> 0
J69: =TRUNC(E69*I69,1) -> 0 | L69: =TRUNC(E69*K69,1) -> 0 | N69: =TRUNC(E69*M69,1) -> 0
B70: 제11호표 | C70: 약품주입설비 구매설치비 | D70: 2차측 전기설치 | F70: 식 | H70: =J70+L70+N70 -> 0 | J70: =TRUNC(J71+J72+J73+J74+J75+J76+J77+J78+J79+J80+J81+J82+J83+J84+J85+J86+J87+J88+J89+J90+J91+J92+J93+J94) -> 0 | L70: =TRUNC(L71+L72+L73+L74+L75+L76+L77+L78+L79+L80+L81+L82+L83+L84+L85+L86+L87+L88+L89+L90+L91+L92+L93+L94) -> 0 | N70: =TRUNC(N71+N72+N73+N74+N75+N76+N77+N78+N79+N80+N81+N82+N83+N84+N85+N86+N87+N88+N89+N90+N91+N92+N93+N94) -> 0
C71: 전선 | D71: F-GV-2.5mm*1C | E71: 158 | F71: m | G71: =I71+K71+M71 -> 0 | H71: =J71+L71+N71 -> 0 | I71: =자재단가!AA22 -> 0 | J71: =TRUNC(E71*I71,1) -> 0 | K71: =자재단가!R22 -> 0 | L71: =TRUNC(E71*K71,1) -> 0 | M71: =자재단가!AC22 -> 0 | N71: =TRUNC(E71*M71,1) -> 0
C72: 제어용 케이블 설치(1C) | D72: 2.5㎟ | E72: 158 | F72: M | G72: =I72+K72+M72 -> 0 | H72: =J72+L72+N72 -> 0 | I72: =일위대가총괄표!G15 -> 0 | J72: =TRUNC(E72*I72,1) -> 0 | K72: =일위대가총괄표!H15 -> 0 | L72: =TRUNC(E72*K72,1) -> 0 | M72: =일위대가총괄표!I15 -> 0 | N72: =TRUNC(E72*M72,1) -> 0
C73: 전선 | D73: F-GV-2.5mm*2C | E73: 158 | F73: m | G73: =I73+K73+M73 -> 0 | H73: =J73+L73+N73 -> 0 | I73: =자재단가!AA23 -> 0 | J73: =TRUNC(E73*I73,1) -> 0 | K73: =자재단가!R23 -> 0 | L73: =TRUNC(E73*K73,1) -> 0 | M73: =자재단가!AC23 -> 0 | N73: =TRUNC(E73*M73,1) -> 0
C74: 제어용 케이블 설치(2C) | D74: 2.5㎟ | E74: 158 | F74: M | G74: =I74+K74+M74 -> 0 | H74: =J74+L74+N74 -> 0 | I74: =일위대가총괄표!G16 -> 0 | J74: =TRUNC(E74*I74,1) -> 0 | K74: =일위대가총괄표!H16 -> 0 | L74: =TRUNC(E74*K74,1) -> 0 | M74: =일위대가총괄표!I16 -> 0 | N74: =TRUNC(E74*M74,1) -> 0
C75: 전선 | D75: F-CVVS-2.5mm*2C | E75: 163 | F75: m | G75: =I75+K75+M75 -> 0 | H75: =J75+L75+N75 -> 0 | I75: =자재단가!AA24 -> 0 | J75: =TRUNC(E75*I75,1) -> 0 | K75: =자재단가!R24 -> 0 | L75: =TRUNC(E75*K75,1) -> 0 | M75: =자재단가!AC24 -> 0 | N75: =TRUNC(E75*M75,1) -> 0
C76: 제어용 케이블 설치(2C) | D76: 2.5㎟ | E76: 163 | F76: M | G76: =I76+K76+M76 -> 0 | H76: =J76+L76+N76 -> 0 | I76: =일위대가총괄표!G16 -> 0 | J76: =TRUNC(E76*I76,1) -> 0 | K76: =일위대가총괄표!H16 -> 0 | L76: =TRUNC(E76*K76,1) -> 0 | M76: =일위대가총괄표!I16 -> 0 | N76: =TRUNC(E76*M76,1) -> 0
C77: 전선 | D77: F-CVVS-2.5mm*6C | E77: 158 | F77: m | G77: =I77+K77+M77 -> 0 | H77: =J77+L77+N77 -> 0 | I77: =자재단가!AA25 -> 0 | J77: =TRUNC(E77*I77,1) -> 0 | K77: =자재단가!R25 -> 0 | L77: =TRUNC(E77*K77,1) -> 0 | M77: =자재단가!AC25 -> 0 | N77: =TRUNC(E77*M77,1) -> 0
C78: 제어용 케이블 설치(6C) | D78: 2.5㎟ | E78: 158 | F78: M | G78: =I78+K78+M78 -> 0 | H78: =J78+L78+N78 -> 0 | I78: =일위대가총괄표!G17 -> 0 | J78: =TRUNC(E78*I78,1) -> 0 | K78: =일위대가총괄표!H17 -> 0 | L78: =TRUNC(E78*K78,1) -> 0 | M78: =일위대가총괄표!I17 -> 0 | N78: =TRUNC(E78*M78,1) -> 0
C79: CABLE DUCT STRAIGHT | D79: W100*H100 | E79: 20 | F79: m | G79: =I79+K79+M79 -> 0 | H79: =J79+L79+N79 -> 0 | I79: =자재단가!AA26 -> 0 | J79: =TRUNC(E79*I79,1) -> 0 | K79: =자재단가!R26 -> 0 | L79: =TRUNC(E79*K79,1) -> 0 | M79: =자재단가!AC26 -> 0 | N79: =TRUNC(E79*M79,1) -> 0
C80: 금속덕트 설치 | D80: 100×100mm이하(100㎠) | E80: 20 | F80: 개 | G80: =I80+K80+M80 -> 0 | H80: =J80+L80+N80 -> 0 | I80: =일위대가총괄표!G18 -> 0 | J80: =TRUNC(E80*I80,1) -> 0 | K80: =일위대가총괄표!H18 -> 0 | L80: =TRUNC(E80*K80,1) -> 0 | M80: =일위대가총괄표!I18 -> 0 | N80: =TRUNC(E80*M80,1) -> 0
C81: HOR-TEE | D81: W100*H100 | E81: 1 | F81: 개 | G81: =I81+K81+M81 -> 0 | H81: =J81+L81+N81 -> 0 | I81: =자재단가!AA27 -> 0 | J81: =TRUNC(E81*I81,1) -> 0 | K81: =자재단가!R27 -> 0 | L81: =TRUNC(E81*K81,1) -> 0 | M81: =자재단가!AC27 -> 0 | N81: =TRUNC(E81*M81,1) -> 0
C82: 금속덕트 설치 | D82: 100×100mm이하(100㎠) | E82: 1 | F82: 개 | G82: =I82+K82+M82 -> 0 | H82: =J82+L82+N82 -> 0 | I82: =일위대가총괄표!G18 -> 0 | J82: =TRUNC(E82*I82,1) -> 0 | K82: =일위대가총괄표!H18 -> 0 | L82: =TRUNC(E82*K82,1) -> 0 | M82: =일위대가총괄표!I18 -> 0 | N82: =TRUNC(E82*M82,1) -> 0
C83: HOR-ELBOW | D83: W100*H100 | E83: 3 | F83: 개 | G83: =I83+K83+M83 -> 0 | H83: =J83+L83+N83 -> 0 | I83: =자재단가!AA28 -> 0 | J83: =TRUNC(E83*I83,1) -> 0 | K83: =자재단가!R28 -> 0 | L83: =TRUNC(E83*K83,1) -> 0 | M83: =자재단가!AC28 -> 0 | N83: =TRUNC(E83*M83,1) -> 0
C84: 금속덕트 설치 | D84: 100×100mm이하(100㎠) | E84: 3 | F84: 개 | G84: =I84+K84+M84 -> 0 | H84: =J84+L84+N84 -> 0 | I84: =일위대가총괄표!G18 -> 0 | J84: =TRUNC(E84*I84,1) -> 0 | K84: =일위대가총괄표!H18 -> 0 | L84: =TRUNC(E84*K84,1) -> 0 | M84: =일위대가총괄표!I18 -> 0 | N84: =TRUNC(E84*M84,1) -> 0
C85: VER-ELBOW | D85: W100*H100 | E85: 2 | F85: 개 | G85: =I85+K85+M85 -> 0 | H85: =J85+L85+N85 -> 0 | I85: =자재단가!AA29 -> 0 | J85: =TRUNC(E85*I85,1) -> 0 | K85: =자재단가!R29 -> 0 | L85: =TRUNC(E85*K85,1) -> 0 | M85: =자재단가!AC29 -> 0 | N85: =TRUNC(E85*M85,1) -> 0
C86: 금속덕트 설치 | D86: 100×100mm이하(100㎠) | E86: 2 | F86: 개 | G86: =I86+K86+M86 -> 0 | H86: =J86+L86+N86 -> 0 | I86: =일위대가총괄표!G18 -> 0 | J86: =TRUNC(E86*I86,1) -> 0 | K86: =일위대가총괄표!H18 -> 0 | L86: =TRUNC(E86*K86,1) -> 0 | M86: =일위대가총괄표!I18 -> 0 | N86: =TRUNC(E86*M86,1) -> 0
C87: STEEL 전선관 | D87: 22mm | E87: 15 | F87: m | G87: =I87+K87+M87 -> 0 | H87: =J87+L87+N87 -> 0 | I87: =자재단가!AA30 -> 0 | J87: =TRUNC(E87*I87,1) -> 0 | K87: =자재단가!R30 -> 0 | L87: =TRUNC(E87*K87,1) -> 0 | M87: =자재단가!AC30 -> 0 | N87: =TRUNC(E87*M87,1) -> 0
C88: 전선관 배관(후강전선관) | D88: 22mm이하 | E88: 15 | F88: M | G88: =I88+K88+M88 -> 0 | H88: =J88+L88+N88 -> 0 | I88: =일위대가총괄표!G19 -> 0 | J88: =TRUNC(E88*I88,1) -> 0 | K88: =일위대가총괄표!H19 -> 0 | L88: =TRUNC(E88*K88,1) -> 0 | M88: =일위대가총괄표!I19 -> 0 | N88: =TRUNC(E88*M88,1) -> 0
C89: STEEL 전선관 | D89: 28mm | E89: 7 | F89: m | G89: =I89+K89+M89 -> 0 | H89: =J89+L89+N89 -> 0 | I89: =자재단가!AA31 -> 0 | J89: =TRUNC(E89*I89,1) -> 0 | K89: =자재단가!R31 -> 0 | L89: =TRUNC(E89*K89,1) -> 0 | M89: =자재단가!AC31 -> 0 | N89: =TRUNC(E89*M89,1) -> 0
C90: 전선관 배관(후강전선관) | D90: 28mm이하 | E90: 7 | F90: M | G90: =I90+K90+M90 -> 0 | H90: =J90+L90+N90 -> 0 | I90: =일위대가총괄표!G20 -> 0 | J90: =TRUNC(E90*I90,1) -> 0 | K90: =일위대가총괄표!H20 -> 0 | L90: =TRUNC(E90*K90,1) -> 0 | M90: =일위대가총괄표!I20 -> 0 | N90: =TRUNC(E90*M90,1) -> 0
C91: 후렉시블 전선관 | D91: 22mm | E91: 6 | F91: m | G91: =I91+K91+M91 -> 0 | H91: =J91+L91+N91 -> 0 | I91: =자재단가!AA32 -> 0 | J91: =TRUNC(E91*I91,1) -> 0 | K91: =자재단가!R32 -> 0 | L91: =TRUNC(E91*K91,1) -> 0 | M91: =자재단가!AC32 -> 0 | N91: =TRUNC(E91*M91,1) -> 0
C92: 전선관 배관(합성수지전선관) | D92: 22mm이하 | E92: 6 | F92: M | G92: =I92+K92+M92 -> 0 | H92: =J92+L92+N92 -> 0 | I92: =일위대가총괄표!G21 -> 0 | J92: =TRUNC(E92*I92,1) -> 0 | K92: =일위대가총괄표!H21 -> 0 | L92: =TRUNC(E92*K92,1) -> 0 | M92: =일위대가총괄표!I21 -> 0 | N92: =TRUNC(E92*M92,1) -> 0
C93: 후렉시블 전선관 | D93: 28mm | E93: 3 | F93: m | G93: =I93+K93+M93 -> 0 | H93: =J93+L93+N93 -> 0 | I93: =자재단가!AA33 -> 0 | J93: =TRUNC(E93*I93,1) -> 0 | K93: =자재단가!R33 -> 0 | L93: =TRUNC(E93*K93,1) -> 0 | M93: =자재단가!AC33 -> 0 | N93: =TRUNC(E93*M93,1) -> 0
C94: 전선관 배관(합성수지전선관) | D94: 28mm이하 | E94: 3 | F94: M | G94: =I94+K94+M94 -> 0 | H94: =J94+L94+N94 -> 0 | I94: =일위대가총괄표!G22 -> 0 | J94: =TRUNC(E94*I94,1) -> 0 | K94: =일위대가총괄표!H22 -> 0 | L94: =TRUNC(E94*K94,1) -> 0 | M94: =일위대가총괄표!I22 -> 0 | N94: =TRUNC(E94*M94,1) -> 0
J95: =TRUNC(E95*I95,1) -> 0 | L95: =TRUNC(E95*K95,1) -> 0 | N95: =TRUNC(E95*M95,1) -> 0
B96: 제12호표 | C96: 제어용 케이블 설치(1C) | D96: 2.5㎟ | F96: M | H96: =J96+L96+N96 -> 0 | J96: =TRUNC(J97) -> 0 | L96: =TRUNC(L97) -> 0 | N96: =TRUNC(N97) -> 0
C97: 저압케이블전공 | E97: 0.01 | F97: 인 | G97: =I97+K97+M97 -> 0 | H97: =J97+L97+N97 -> 0 | I97: =노임단가!F16 -> 0 | J97: =TRUNC(E97*I97,1) -> 0 | K97: =노임단가!AB16 -> 0 | L97: =TRUNC(E97*K97,1) -> 0 | M97: =노임단가!AC16 -> 0 | N97: =TRUNC(E97*M97,1) -> 0
J98: =TRUNC(E98*I98,1) -> 0 | L98: =TRUNC(E98*K98,1) -> 0 | N98: =TRUNC(E98*M98,1) -> 0
B99: 제13호표 | C99: 제어용 케이블 설치(2C) | D99: 2.5㎟ | F99: M | H99: =J99+L99+N99 -> 0 | J99: =TRUNC(J100) -> 0 | L99: =TRUNC(L100) -> 0 | N99: =TRUNC(N100) -> 0
C100: 저압케이블전공 | E100: 0.014 | F100: 인 | G100: =I100+K100+M100 -> 0 | H100: =J100+L100+N100 -> 0 | I100: =노임단가!F16 -> 0 | J100: =TRUNC(E100*I100,1) -> 0 | K100: =노임단가!AB16 -> 0 | L100: =TRUNC(E100*K100,1) -> 0 | M100: =노임단가!AC16 -> 0 | N100: =TRUNC(E100*M100,1) -> 0
J101: =TRUNC(E101*I101,1) -> 0 | L101: =TRUNC(E101*K101,1) -> 0 | N101: =TRUNC(E101*M101,1) -> 0
...

Sheet 자재단가
B1: 자재단가
B3: No | C3: 품 명 | D3: 규 격 | E3: 단위 | F3: 가격정보 | H3: 물가자료 | J3: 유통물가 | L3: 물가정보 | N3: 거래가격 | P3: 견적가1 | R3: 적용단가 | S3: 비 고 | Z3: 당초합계 | AA3: 당초노무비 | AB3: 당초재료비 | AC3: 당초경비
F4: 단 가 | G4: page | H4: 단 가 | I4: page | J4: 단 가 | K4: page | L4: 단 가 | M4: page | N4: 단 가 | O4: page | P4: 단 가 | Q4: page
B5: 1 | C5: 응집제 주입펌프 | D5: 3.3ℓ/min * 20mH | E5: 대
B6: 2 | C6: 응집제 주입유량계 | D6: 전자식, Ti 전극 | E6: 대
B7: 3 | C7: pH조절제 주입펌프 | D7: 2.4ℓ/hr * 40mH | E7: 대
B8: 4 | C8: 응집보조제 주입펌프 | D8: 7ℓ/hr * 70mH | E8: 대
B9: 5 | C9: 펌프스키드장치 | D9: 자립형 | E9: 대
B10: 6 | C10: 약품주입설비 제어반 | D10: 옥내자립형 | E10: 대
B11: 7 | C11: 레이더수위계 | D11: 일체형, 10m이하 | E11: 대
B12: 8 | C12: PVC PIPE | D12: 15A(SCH80) | E12: m
B13: 9 | C13: PVC PIPE | D13: 20A(SCH80) | E13: m
B14: 10 | C14: PVC PIPE | D14: 25A(SCH80) | E14: m
B15: 11 | C15: PVC ELBOW | D15: 15A(SCH80) | E15: 개
B16: 12 | C16: PVC ELBOW | D16: 20A(SCH80) | E16: 개
... B40: 36 | C40: 시스템 프로그래밍 | D40: DI/DO | E40: EA

Sheet 노임단가
B1: 노임단가
B3: No | C3: 품 명 | D3: 규 격 | E3: 단위 | F3: 적용단가 | G3: 비 고 | Z3: 당초합계 | AA3: 당초노무비 | AB3: 당초재료비 | AC3: 당초경비
B4: 1 | C4: 특별인부 | E4: 인 | G4: 2026년(상) | Z4: 226122
B5: 2 | C5: 보통인부 | E5: 인 | G5: 2026년(상) | Z5: 172068
B6: 3 | C6: 용 접 공 | E6: 인 | G6: 2026년(상) | Z6: 282536
B7: 4 | C7: 비 계 공 | E7: 인 | G7: 2026년(상) | Z7: 281939
B8: 5 | C8: 작업반장 | E8: 인 | G8: 2026년(상) | Z8: 215907
B9: 6 | C9: 철 골 공 | E9: 인 | G9: 2026년(상) | Z9: 252641
B10: 7 | C10: 철 공 | E10: 인 | G10: 2026년(상) | Z10: 239808
B11: 8 | C11: 방 수 공 | E11: 인 | G11: 2026년(상) | Z11: 228286
B12: 9 | C12: 초급기술자 (기계/설비) | E12: 인 | G12: 2026년(기계/설비) | Z12: 263602
B13: 10 | C13: 기계설비공 | E13: 인 | G13: 2026년(상) | Z13: 241698
B14: 11 | C14: 계 장 공 | E14: 인 | G14: 2026년(상) | Z14: 319449
B15: 12 | C15: 배 관 공 | E15: 인 | G15: 2026년(상) | Z15: 247897
B16: 13 | C16: 저압케이블전공 | E16: 인 | G16: 2026년(상) | Z16: 304156
B17: 14 | C17: 내선전공 | E17: 인 | G17: 2026년(상) | Z17: 273676
