Workbook

Sheet 설계설명서
A1: 설 계 설 명 서
A3: 1. 공 사 명 : | B3: 인천 백석중학교 학교숲 조성사업
A5: 2. 위치 및 규모 : | B5: 인천 서구 백석동 65-3
A7: 3. 공사개요 :
B8: =[1]갑지!D19 -> 철거 및 이설 | D8: =[1]갑지!F19 -> 철거(앉음벽, 철제벤치, 잔디 등) / 이설 (바웨이트, 평행봉, 철봉)
B9: =[1]갑지!D20 -> 수목 제거 및 이식 | D9: =[1]갑지!F20 -> 교목 제거 (5주), 잡목제거 / 교목 이식(18주), 관목 이식(6주)
B10: =[1]갑지!D21 -> 식재기반 | D10: =[1]갑지!F21 -> 토양개량
B11: =[1]갑지!D22 -> 우배수 | D11: =[1]갑지!F22 -> 연결관, 집수정, 빗물받이
B12: =[1]갑지!D23 -> 식재 | D12: =[1]갑지!F23 -> 교관목 6종 / 지피및초화 13종/ 잔디
B13: =[1]갑지!D24 -> 멀칭 | D13: =[1]갑지!F24 -> 굵은마사(중립)멀칭, 바크(중립)멀칭
B14: =[1]갑지!D25 -> 포장 | D14: =[1]갑지!F25 -> 경화마사토포장, 쇄석 포설, 잔디보호매트 등
B15: =[1]갑지!D26 -> 시설물 | D15: =[1]갑지!F26 -> 파라솔, 테이블, 스툴벤치, 등벤치, 앉음시설 등
A20: 5. 공사기간 : 60일간
A21: 6. 설계기준 및 시공방법
A22: - 본 공사는 건설교통부 제정 조경표준시방서와 관련법규 및 규정, 건설공사 품질 시험기준, 한국산업규격, 건설산업기본법, 산업안전보건법,
A23: 해당구의 제규정, 과업지시서, 본 시방서와 설계도서에 의해 시행하며, 그 설계도서에 명기되지 않은 사항에 대하여는 감독관의 지시에 따른다.
A25: 7. 공사기간
A26: - 본 공사는 착공 일로부터 60일간(법정공휴일 포함)으로 한다, 단 아래의 경우에는 계약담당 공무원의 승인을 받거나 계약자와 합의하여 연장할 수 있다.
A27: 1) 공사기간 중 강우일수 또는 강우로 인한 작업불가능 일수가 평균 강우일수 보다 많을 때.
A28: 2) 천재지변으로 인하여 작업이 불가능 할 때
A29: 3) 계약담당 공무원의 지시에 의하여 작업이 중단되었을 때.
A30: 4) 편입용지 및 지장물의 보상지연으로 시공이 불가능 할 때.
A32: 9. 설계변경 조건
A33: 1) 설계서의 내용이 불분명하거나 누락, 오류 또는 상호 모순되는 점이 있을 경우.
... A44: 7) 설계당시 조사 불능하였던 부분에 대하여 시공 시 현장실정에 맞추어 변경하여야 하는 경우.

Sheet 원가계산서
B1: 원가계산서
B3: 비 목 | E3: 구분 | F3: 금 액 | G3: 요율 | H3: 산 출 근 거
C4: 재 | D4: 직 접 재 료 비 | E4: 1 | F4: =내역서!L118 -> 0
C5: 료 | D5: 간 접 재 료 비 | E5: 2
C6: 비 | D6: 작업설.부산물등(△) | E6: 3
D7: 소 계 | E7: A | F7: =TRUNC((F4+F5+F6),0) -> 0 | H7: (1 + 2 + 3 )
C8: 노 | D8: 직 접 노 무 비 | E8: 4 | F8: =내역서!J118 -> 0
B9: 순 | C9: 무 | D9: 간 접 노 무 비 | E9: 5 | F9: =TRUNC(F8*0.184,0) -> 0 | G9: 18.4% | H9: 4 × 0.184
C10: 비 | D10: 소 계 | E10: B | F10: =TRUNC((F8+F9),0) -> 0 | H10: ( 4 + 5 )
B11: 공 | D11: 산 출 경 비 | E11: 6 | F11: =내역서!N118 -> 0
D12: 산 재 보 험 료 | E12: 7 | F12: =TRUNC(F10*0.0356,0) -> 0 | G12: 3.56% | H12: B × 0.0356
B13: 사 | D13: 고 용 보 험 료 | E13: 8 | F13: =TRUNC(F10*0.0101,0) -> 0 | G13: 1.01% | H13: B × 0.0101
C14: 경 | D14: 건 강 보 험 료 | E14: 9 | F14: =TRUNC(F8*0.03595,0) -> 0 | G14: 3.595% | H14: 4 × 0.03595
B15: 원 | D15: 연 금 보 험 료 | E15: 10 | F15: =TRUNC(F8*0.0475,0) -> 0 | G15: 4.75% | H15: 4 × 0.0475
D16: 노인장기요양 보 험 료 | E16: 11 | F16: =TRUNC(F14*0.1314,0) -> 0 | G16: 13.14% | H16: 9 × 0.1314
B17: 가 | D17: 퇴 직 공 제 부 금 비 | E17: 12 | F17: =TRUNC(F8*0.023,0) -> 0 | G17: 2.3% | H17: 4 × 0.023
D18: 건설기계대여금지급보증서발급액 | E18: 13 | F18: =TRUNC((F7+F8+F11)*0.0018,0) -> 0 | G18: 0.18% | H18: (A + 4 + 6) × 0.0018
D19: 산 업 안 전 보건관리비 | E19: 14 | F19: =TRUNC(((F7+F8)+F35/1.1)*0.0207,0) -> 0 | G19: 2.07% | H19: ((A + 4) + K/1.1) × 0.0207
D20: 산 업 안 전 보건관리비 | F20: =TRUNC((F7+F8)*0.0207*1.2,0) -> 0 | G20: 2.07% | H20: (A + 4) × 0.0207 × 1.2
D21: 환 경 보 전 비 | E21: 15 | F21: =TRUNC((F7+F8+F11)*0.003,0) -> 0 | G21: 0.3% | H21: (A + 4 + 6) ×0.003
D22: 공 사 이 행 보증수수료 | E22: 16
C23: 비 | D23: 하도급대금지급보증수수료 | E23: 17 | F23: =TRUNC((F7+F8+F11)*0.00081,0) -> 0 | G23: 0.081% | H23: (A + 4 + 6) ×0.00081
D24: 석 면 분 담 금 | E24: 18 | F24: =TRUNC(F10*0.00006,0) -> 0 | G24: 0.006% | H24: B × 0.00006
D25: 임 금 채 권 부 담 금 | E25: 19 | F25: =TRUNC(F10*0.0009,0) -> 0 | G25: 0.09% | H25: B × 0.0009
D26: 기 타 경 비 | E26: 20 | F26: =TRUNC((F7+F10)*0.049,0) -> 0 | G26: 4.9% | H26: (A + B) × 0.049
D27: 소 계 | E27: C | F27: =TRUNC((F11+F12+F13+F14+F15+F16+F17+F18+F19+F21+F22+F23+F24+F25+F26),0) -> 0 | H27: (6:20)
D28: 순 공 사 원 가 | E28: D | F28: =TRUNC((F7+F10+F27),0) -> 0 | H28: (A + B + C)
D29: 일 반 관 리 비 | E29: E | F29: =TRUNC(F28*0.08,0) -> 0 | G29: 8% | H29: D × 0.08
D30: 이 윤 | E30: F | F30: =TRUNC((F10+F27+F29)*0.1499,0) -> 0 | G30: 14.99% | H30: (B + C + E) ×0.1499
D31: 폐기물처리비 | E31: G | F31: =내역서!H152 -> 0 | L31: =내역서!H152 -> 0
D32: 총 원 가 | E32: H | F32: =TRUNC((F28+F29+F30+F31),0) -> 0 | H32: (D + E + F+G)
D33: 부 가 가 치 세 | E33: I | F33: =IF(L52<> "0.9",TRUNC(F32*0.1,0),TRUNC(F32*0.1,0)+1) -> 0 | G33: 10% | H33: H × 0.1
D34: 도 급 액 | E34: J | F34: =TRUNC((F32+F33),0) -> 0 | H34: (H + I)
D35: 도급자관급자재 | E35: K | F35: =내역서!H161 -> 0 | L35: =내역서!H161 -> 0 | M35: =내역서!H171 -> 0
D36: 관급자관급자재 | E36: L | F36: =내역서!H173 -> 0 | L36: =내역서!H173 -> 0 | M36: =내역서!H171 -> 0
D37: 총 공 사 비 | E37: M | F37: =TRUNC((F34+F35+F36),5) -> 0 | H37: (J + K+L)
L52: =RIGHT(F32*0.1,3) -> 0

Sheet 내역서총괄표
B1: 내역서총괄표
B3: 공종 | C3: 품 명 | D3: 규 격 | E3: 수 량 | F3: 단위 | G3: 합 계 | H3: 노무비 | I3: 재료비 | J3: 경 비 | K3: 비 고
B4: 1. | C4: 철거 | G4: =H4+I4+J4 -> 0 | H4: =내역서!J5 -> 0 | I4: =내역서!L5 -> 0 | J4: =내역서!N5 -> 0
B5: 1-1. | C5: 철거 | G5: =H5+I5+J5 -> 0 | H5: =내역서!J6 -> 0 | I5: =내역서!L6 -> 0 | J5: =내역서!N6 -> 0
B6: 2. | C6: 수목제거 및 이식 | G6: =H6+I6+J6 -> 0 | H6: =내역서!J22 -> 0 | I6: =내역서!L22 -> 0 | J6: =내역서!N22 -> 0
B7: 2-1. | C7: 수목제거 | G7: =H7+I7+J7 -> 0 | H7: =내역서!J23 -> 0 | I7: =내역서!L23 -> 0 | J7: =내역서!N23 -> 0
B8: 2-2. | C8: 이식 | G8: =H8+I8+J8 -> 0 | H8: =내역서!J30 -> 0 | I8: =내역서!L30 -> 0 | J8: =내역서!N30 -> 0
B9: 3. | C9: 토공 | G9: =H9+I9+J9 -> 0 | H9: =내역서!J35 -> 0 | I9: =내역서!L35 -> 0 | J9: =내역서!N35 -> 0
B10: 4. | C10: 식재기반 | G10: =H10+I10+J10 -> 0 | H10: =내역서!J41 -> 0 | I10: =내역서!L41 -> 0 | J10: =내역서!N41 -> 0
B11: 5. | C11: 우배수 | G11: =H11+I11+J11 -> 0 | H11: =내역서!J47 -> 0 | I11: =내역서!L47 -> 0 | J11: =내역서!N47 -> 0
B12: 6. | C12: 관수 | G12: =H12+I12+J12 -> 0 | H12: =내역서!J53 -> 0 | I12: =내역서!L53 -> 0 | J12: =내역서!N53 -> 0
B13: 7. | C13: 식재 | G13: =H13+I13+J13 -> 0 | H13: =내역서!J60 -> 0 | I13: =내역서!L60 -> 0 | J13: =내역서!N60 -> 0
B14: 7-1. | C14: 교관목 | G14: =H14+I14+J14 -> 0 | H14: =내역서!J61 -> 0 | I14: =내역서!L61 -> 0 | J14: =내역서!N61 -> 0
B15: 7-2. | C15: 지피 및 초화 | G15: =H15+I15+J15 -> 0 | H15: =내역서!J67 -> 0 | I15: =내역서!L67 -> 0 | J15: =내역서!N67 -> 0
B16: 8. | C16: 멀칭 | G16: =H16+I16+J16 -> 0 | H16: =내역서!J84 -> 0 | I16: =내역서!L84 -> 0 | J16: =내역서!N84 -> 0
B17: 9. | C17: 포장 | G17: =H17+I17+J17 -> 0 | H17: =내역서!J88 -> 0 | I17: =내역서!L88 -> 0 | J17: =내역서!N88 -> 0
B18: 10. | C18: 시설물 | G18: =H18+I18+J18 -> 0 | H18: =내역서!J97 -> 0 | I18: =내역서!L97 -> 0 | J18: =내역서!N97 -> 0
B19: 11. | C19: 부대공사 | G19: =H19+I19+J19 -> 0 | H19: =내역서!J115 -> 0 | I19: =내역서!L115 -> 0 | J19: =내역서!N115 -> 0
C20: 순 공 사 비 | G20: =H20+I20+J20 -> 0 | H20: =내역서!J118 -> 0 | I20: =내역서!L118 -> 0 | J20: =내역서!N118 -> 0
C21: 직접재료비 | G21: =원가계산서!F4 -> 0
C22: 간접재료비 | G22: =원가계산서!F5 -> 0
C23: 작업설.부산물등(△) | G23: =원가계산서!F6 -> 0
C24: 소계 | G24: =원가계산서!F7 -> 0
C25: 직접노무비 | G25: =원가계산서!F8 -> 0
C26: 간접노무비 | E26: 18.4 | F26: % | G26: =원가계산서!F9 -> 0
C27: 소계 | G27: =원가계산서!F10 -> 0
C28: 산출경비 | G28: =원가계산서!F11 -> 0
C29: 산재보험료 | E29: 3.56 | F29: % | G29: =원가계산서!F12 -> 0
C30: 고용보험료 | E30: 1.01 | F30: % | G30: =원가계산서!F13 -> 0
C31: 건강보험료 | E31: 3.595 | F31: % | G31: =원가계산서!F14 -> 0
C32: 연금보험료 | E32: 4.75 | F32: % | G32: =원가계산서!F15 -> 0
C33: 노인장기요양보험료 | E33: 13.14 | F33: % | G33: =원가계산서!F16 -> 0
C34: 퇴직공제부금비 | E34: 2.3 | F34: % | G34: =원가계산서!F17 -> 0
C35: 건설기계대여금지급보증서발급액 | E35: 0.18 | F35: % | G35: =원가계산서!F18 -> 0
C36: 산업안전보건관리비 | E36: 2.07 | F36: % | G36: =원가계산서!F19 -> 0
C37: 환경보전비 | E37: 0.3 | F37: % | G37: =원가계산서!F21 -> 0
C38: 하도급대금지급보증수수료 | E38: 0.081 | F38: % | G38: =원가계산서!F23 -> 0
C39: 석면분담금 | E39: 0.006 | F39: % | G39: =원가계산서!F24 -> 0
C40: 임금채권부담금 | E40: 0.09 | F40: % | G40: =원가계산서!F25 -> 0
C41: 기타경비 | E41: 4.9 | F41: % | G41: =원가계산서!F26 -> 0
...

Sheet 내역서
B1: 내역서
B3: 공종 | C3: 품 명 | D3: 규 격 | E3: 수 량 | F3: 단위 | G3: 합 계 | I3: 노무비 | K3: 재료비 | M3: 경 비 | O3: 비 고
G4: 단 가 | H4: 금 액 | I4: 단 가 | J4: 금 액 | K4: 단 가 | L4: 금 액 | M4: 단 가 | N4: 금 액
B5: 1. | C5: 철거
B6: 1-1. | C6: 철거
C7: 철제벤치 철거 | D7: D1700*H400 | E7: 3 | F7: EA
C8: 잔디 철거 | D8: T30 | E8: 98.57 | F8: ㎡
C9: 잔디보호매트 철거 | D9: T29 | E9: 98.57 | F9: ㎡
C10: 인조화강석블럭 철거 | D10: T60 | E10: 89.2 | F10: ㎡
C11: 야자매트 철거 | D11: T35 | E11: 195.7 | F11: ㎡
C12: 경계석A 철거 | D12: W180 | E12: 24.4 | F12: M
C13: 경계석B 철거 | D13: W180*2단 | E13: 3.7 | F13: M
C14: 경계석C 철거 | D14: W150 | E14: 78.2 | F14: M
C15: 경계석D 철거 | D15: W150*2단 | E15: 36 | F15: M
C16: 고무경계블럭 철거 | D16: W150*H100*L1000 | E16: 34.2 | F16: M
C17: 앉음벽 철거 | D17: W330*L1000*H320 | E17: 49.3 | F17: M
C18: 바웨이트 철거 | D18: W550*L1100*H1600 | E18: 3 | F18: EA
... C20: 철봉 철거 | D20: D80*L4350*H2050 | E20: 1 | F20: EA
B22: 2. | C22: 수목제거 및 이식
B23: 2-1. | C23: 수목제거
C24: 교목 제거 (현장 내) | D24: B12 | E24: 1 | F24: 주
C25: 교목 제거 (현장 내) | D25: B14 | E25: 1 | F25: 주
C26: 교목 제거 (현장 내) | D26: B16 | E26: 1 | F26: 주
C27: 교목 제거 (현장 내) | D27: B20 | E27: 1 | F27: 주
C28: 교목 제거 (현장 내) | D28: B24 | E28: 1 | F28: 주
C29: 잡목제거 | D29: 벌개제근 벌목 준용 | E29: 88.6 | F29: ㎡
B30: 2-2. | C30: 이식
C31: 교목 이식 | D31: B8 | E31: 12 | F31: 주
C32: 교목 이식 | D32: B10 | E32: 6 | F32: 주
C33: 관목 이식 | D33: H1.6~2.0 | E33: 6 | F33: 주
B35: 3. | C35: 토공
C36: 되메우기 | D36: 백호0.7㎥(100%) | E36: 19.67 | F36: ㎥
C37: 터파기 | D37: 백호0.7㎥(100%) | E37: 30.87 | F37: ㎥
C38: 사토운반(토사) | D38: 덤프15톤+백호0.7㎥ | E38: 12.88 | F38: ㎥
C39: 절토면고르기 | D39: 모래,사질토,점토,점질토 | E39: 100 | F39: ㎡
B41: 4. | C41: 식재기반
C42: 토양개량A | D42: T400 | E42: 117.98 | F42: ㎡
C43: 토양개량B | D43: T450 | E43: 84.65 | F43: ㎡
C44: 토양개량C | D44: T260 | E44: 158.14 | F44: ㎡
C45: 토양개량D | D45: T150 | E45: 137.37 | F45: ㎡
...
