Workbook
Name 인쇄영역1: #REF!
Name 인쇄영역1: #REF!
Name 인쇄영역1: #REF!
Name 인쇄영역1: #REF!
Name 인쇄영역1: #REF!

Sheet 원가
C1: 공 사 원 가 계 산 서 | H1: 원가계산서
A2: [ 공 사 명 ] | C2: =#REF! -> #REF!
A3: [ 공사금액 ] | C3: ="일금"&NUMBERSTRING(D38,1)&"원정 "&TEXT( D38," (\#,###) " ) -> 일금이천칠백삼십구만구천원정 (₩27,399,000)
D4: 금 액 | E4: 구 성 비 | H4: 비 고
B5: 재 | C5: 직 접 재 료 비
B6: 료 | C6: 간 접 재 료 비
A7: 순 | B7: 비 | C7: 작 업 설.부 산 물 등(△)
C8: 소 계
B9: 노 | C9: 직 접 노 무 비
A10: 공 | B10: 무 | C10: =#REF! -> #REF! | E10: 직접노무비 의 | F10: =IF(#REF!=" "," ",#REF!) -> #REF! | G10: % | H10: =VLOOKUP(#REF!,#REF!,7,FALSE) -> #REF!
B11: 비 | C11: 소 계 | F11: 0
C12: =#REF! -> #REF! | F12: 0
A13: 사 | C13: =#REF! -> #REF! | E13: 노무비의 | F13: =IF(#REF!=" "," ",#REF!) -> #REF! | G13: %
B14: 경 | C14: =#REF! -> #REF! | E14: 노무비의 | F14: =IF(#REF!=" "," ",#REF!) -> #REF! | G14: %
C15: =#REF! -> #REF! | E15: =IF(#REF!=0,0,#REF!) -> #REF! | F15: =IF(#REF!=" "," ",#REF!) -> #REF! | G15: % | H15: 공사금액[도급+관급(도급자)]2천만원이상
A16: 원 | C16: =#REF! -> #REF! | E16: 직접노무비 의 | F16: =IF(#REF!=" "," ",#REF!) -> #REF! | G16: % | H16: 공사기간 : 1개월 이상 모든공사
C17: =#REF! -> #REF! | E17: 건강보험료 의 | F17: =IF(#REF!=" "," ",#REF!) -> #REF! | G17: %
B18: 비 | C18: =#REF! -> #REF! | E18: 직접노무비 의 | F18: =IF(#REF!=" "," ",#REF!) -> #REF! | G18: %
A19: 가 | C19: =#REF! -> #REF! | E19: 직접노무비 의 | F19: =IF(#REF!=" "," ",#REF!) -> #REF! | G19: % | H19: 추정금액 1억원이상 건설공사
C20: =#REF! -> #REF! | E20: (재료비+노무비)의 | F20: =IF(#REF!=" "," ",#REF!) -> #REF! | G20: % | H20: =VLOOKUP(#REF!,#REF!,7,FALSE) -> #REF!
C21: =#REF! -> #REF! | E21: 노무비의 | F21: =IF(#REF!=" "," ",#REF!) -> #REF! | G21: %
C22: =#REF! -> #REF! | E22: 노무비의 | F22: =IF(#REF!=" "," ",#REF!) -> #REF! | G22: %
C23: 소 계 | F23: 0
B24: 계(재료비+노무비+경비)
A25: 일 반 관 리 비 | E25: [(재료비+노무비+경비)]의 | F25: =IF(#REF!=" "," ",#REF!) -> #REF! | G25: %
A26: 이 윤 | E26: [(노무비+경비+일반관리비)]의 | F26: =IF(#REF!=" "," ",#REF!) -> #REF! | G26: %
A27: 고 자 재 처 리 비 | E27: 철거 자재 (케이블 등) | F27: 0
A28: 총 원 가 | F28: 0
A29: =#REF! -> #REF! | E29: =IF(D29=0,0,#REF!) -> 0
A30: 부 가 가 치 세 | E30: =IF(#REF!=3,"(총원가+소방배상책임공제) 의",IF(#REF!=1,"(총원가+손해배상공제료) 의","(총원가) 의")) -> #REF! | F30: =IF(#REF!=" "," ",#REF!) -> #REF! | G30: %
A31: 도 급 예 정 액 | H31: 계수정리
A32: 관 급 자 재 비 | C32: 관 급 자 관 급 | D32: =공종별집계표!F13 -> 14889000
C33: 도 급 자 관 급 | D33: =공종별집계표!F16 -> 12510000
C34: 소 계 | D34: =SUM(D32:D33) -> 27399000
A35: 대 관 수 수 료 | C35: =IF(#REF!=0,0,#REF!) -> #REF!
C36: =IF(#REF!=0,0,"재 해 예 방 기 술 지 도") -> #REF!
C37: 소 계 | D37: =D35+D36 -> 0
A38: 총 공 사 비 | D38: =INT(SUM(D31,D34,D37)) -> 27399000

Sheet 재해예방
A1: 재 해 예 방 기 술 지 도 | O1: 3억 미만 | P1: 20억원미만 | Q1: 40억원미만 | R1: 40억원 이상
A2: ="공사명 : "&원가!C2 -> #REF! | F2: (금액단위 : 원, VAT포함) | I2: 공사금액 | J2: =원가!D31+원가!D34 -> 27399000 | K2: =IF(J2=0,0,IF(J2<O2,2,IF(J2<P2,3,IF(J2<Q2,4,5)))) -> 2 | O2: 300000000 | P2: 2000000000 | Q2: 4000000000
A3: 공사기간 | B3: 항목 | C3: 기술지도 횟수 | D3: 적용단가 | E3: 적용단가 | F3: 비고 | I3: 공사기간 | J3: =원가!#REF! -> #REF! | K3: 기술지도횟수 | L3: =IF(J3<1,0,IF(B4=A9,2,IF(B4=A10,1,IF(B4=A11,0.1,"X")))) -> #REF!
A4: =J3 -> #REF! | B4: 월별단가 (2회 기준) | C4: =A4*L3 -> #REF! | D4: =IF(J2=0,0,VLOOKUP(B4,$A$9:$F$11,(K2),FALSE)) -> 484000 | E4: =C4*D4 -> #REF! | F4: 산업안전보건법 [시행 2022.8.18]
A5: ㅇ 계약금액의 산출 - 계약금액 = 기술지도 횟수(회) × 적용단가(1회 기준) - 기술지도 횟수(회) = 공사기간(일) / 15일 * 단, 소수점은 버림
A7: ㅇ 기술지도 1회당 단가("적정 계약금액에 관한 정책연구"적용) | F7: (금액단위 : 원, VAT포함)
A8: 항목 | B8: 3억 미만 | C8: 3억원이상 20억원미만 | D8: 20억원이상 40억원미만 | E8: 40억원 이상 | F8: 비고
A9: 적용단가 (1회 기준) | B9: =B45 -> 242000 | C9: =C45 -> 308000 | D9: =D45 -> 385000 | E9: =E45 -> 594000 | F9: 건설공사 재해예방기술지도 단가 산정표 참조
A10: 월별단가 (2회 기준) | B10: =B9*2 -> 484000 | C10: =C9*2 -> 616000 | D10: =D9*2 -> 770000 | E10: =E9*2 -> 1188000
A11: 연간단가 (24회 기준) | B11: =B9*24 -> 5808000 | C11: =C9*24 -> 7392000 | D11: =D9*24 -> 9240000 | E11: =E9*24 -> 14256000
A12: * 건설재해예방전문지도기관의 지도기준(제60조 관련) [산업안전보건법 시행령(별표18)]
A13: - 1.건설재해예방전문지도기관의 지도대상 (분야법 제73조제2항에 따라 건설공사도급인에 대하여 실시하는 지도는 공사의 종류에 따라 구분)
A14: 가.건설공사(「전기공사업법」, 「정보통신공사업법」 및 「소방시설공사업법」에 따른 전기공사, 정보통신공사 및 소방시설공사는 제외한다) 지도 분야
A15: 나. 「전기공사업법」, 「정보통신공사업법」 및 「소방시설공사업법」에 따른전기공사, 정보통신공사 및 소방시설공사 지도 분야
A16: - 기술지도 횟수 : 기술지도는 특별한 사유가 없으면 다음의 계산식에 따른 횟수로 하고, 공사시작 후 15일 이내마다 1회 실시하되, 공사금액이 40억원이상인 공사에대해서는
A17: 별표 19 제1호 및 제2호의 구분에 따른 분야 중 그 공사에 해당하는지도 분야의 같은 표 제1호나목 지도인력기준란
A18: 1) 및 같은 표 제2호나목지도인력기준란 1)에 해당하는 사람이 8회마다 한 번 이상 방문하여 기술지도
A19: * 재해예방 기술지도 대상(공사금액 및 기간) [산업안전보건법 시행령 제59조]
A20: - 공사금액 1억~120억 미만(토목공사는 150억) 및 「건축법」 제11조에 따른 건축허가의 대상이 되는 공사
A21: - 건설공사의 건설공사발주자 또는 건설공사도급인(건설공사도급인은 건설공사발주자로부터 건설공사를 최초로 도급받은 수급인은 제외한다)은 법 제73조제1항의 건설 산업재해
A22: 예방을 위한 지도계약(이하 “기술지도계약”이라 한다)을 해당 건설공사 착공일의 전날까지 체결해야 한다
A23: - 제외대상
... A29: 건설공사 재해예방기술지도 단가 산정표
A30: □ 기술지도 1인당 일 방문 현장 수 & 직접 인건비 | F30: (금액단위 : 원)
A31: 항목 | B31: 3억원 미만 | C31: 3억원 이상 ~ 20억원 미만 | D31: 20억원 이상 ~ 40억원 미만 | E31: 40억원 이상 | F31: 비고
B32: 중급 | C32: 중급 | D32: 고급 | E32: (특급3회 + 기술사1회)/4
A33: 기술자노임단가 | B33: 278628 | C33: 278902 | D33: 289628 | E33: 365662.75 | F33: (한국엔지니어링협회임금 실태조사,2022년)
A34: 일 기술지도 현장 수 | B34: 4 | C34: 3 | D34: 2.5 | E34: 2 | F34: 월 최대 : 80개소 일 최대 : 4개소
B35: (=80개소 / 20일) | C35: (=60개소 / 20일) | D35: (=50개소 / 20일) | E35: (=40개소 / 20일)
A36: 1회당 직접인건비 | B36: =B33/B34 -> 69657 | C36: =C33/C34 -> 92967.333 | D36: =D33/D34 -> 115851.2 | E36: =E33/E34 -> 182831.38
A37: □ 기술지도 1회당 단가 | F37: (금액단위 : 원)
A38: 항목 | B38: 3억원 미만 | C38: 3억원 이상 ~ 20억원 미만 | D38: 20억원 이상 ~ 40억원 미만 | E38: 40억원 이상 | F38: 비고
A39: ① 직접인건비 | B39: =B36 -> 69657 | C39: =C36 -> 92967.333 | D39: =D36 -> 115851.2 | E39: =E36 -> 182831.38
A40: ② 직접경비 | B40: 30000 | C40: 30000 | D40: 30000 | E40: 30000 | F40: 여비등
A41: ③ 제경비 (직접인건비의 110~120%) | B41: =B39*$I$41 -> 80105.55 | C41: =C39*$I$41 -> 106912.43 | D41: =D39*$I$41 -> 133228.88 | E41: =E39*$I$41 -> 210256.08 | F41: ="제경비 : "&I41*100&"%" -> 제경비 : 115% | H41: 제경비 | I41: 1.15
A42: ④ 기술료 (직접인건비+제경비합의 20~40%) | B42: =(B39+B41)*$I$42 -> 44928.765 | C42: =(C39+C41)*$I$42 -> 59963.93 | D42: =(D39+D41)*$I$42 -> 74724.024 | E42: =(E39+E41)*$I$42 -> 117926.24 | F42: ="기술료 : "&I42*100&"%" -> 기술료 : 30% | H42: 기술료 | I42: 0.3
A43: ⑤ 합계 ( ①+②+③+④ ) | B43: =ROUNDDOWN(SUM(B39:B42),-4) -> 220000 | C43: =ROUNDDOWN(SUM(C39:C42),-4) -> 280000 | D43: =ROUNDDOWN(SUM(D39:D42),-4) -> 350000 | E43: =ROUNDDOWN(SUM(E39:E42),-4) -> 540000 | F43: 만원이하 절삭
A44: ⑥ 부가가치세 ( ⑤*10% ) | B44: =B43*$I$44 -> 22000 | C44: =C43*$I$44 -> 28000 | D44: =D43*$I$44 -> 35000 | E44: =E43*$I$44 -> 54000 | H44: 부가가치세 | I44: 0.1
A45: 적용단가 ( ⑤ * ⑥ ) | B45: =B43+B44 -> 242000 | C45: =C43+C44 -> 308000 | D45: =D43+D44 -> 385000 | E45: =E43+E44 -> 594000

Sheet 한전
B1: 한국전력공사 표준공사비 단가표
B2: =원가!C2 -> #REF!
B3: 구 분 | C3: 계 약 종 별 | E3: 공급방식 | F3: 계약용량 | J3: 비 고
F4: =IF(A5=1,"신규","기존") -> 기존 | G4: =IF(A5=1,"","증설") -> 증설 | H4: 소계
A5: =IF(B5="신 규",1,2) -> 2 | B5: 증 설 | C5: 저 압 | D5: 3Φ 4선식 | E5: 가공공급 | F5: 1000 | G5: 50 | H5: =F5+G5 -> 1050 | M5: =IF(B5="증 설",(F4&":"&F5&"KW / "&G4&":"&G5&"KW"),F4&":"&F5&"KW") -> 기존:1000KW / 증설:50KW
K6: [ 단위 : 원]
B7: 구분 | F7: =IF(A5=1,"계약용량(신규)","계약용량(증설)") -> 계약용량(증설) | H7: 단 가 | I7: 금 액 | J7: 비고
A8: =IF(C5=B8,1,0) -> 1 | B8: 저 압 | C8: 매 1계약에 대하여 계약전력 5KW까지 | F8: =IF(A8=0,"",IF(A5=1,1,"")) | H8: =IF(F8="","",HLOOKUP($E$5,$H$16:$I$19,2,FALSE)) | I8: =IF(F8="","",H8*1) | J8: 부가가치세 별도
A9: =IF(C5=B8,1,0) -> 1 | C9: 계약전력 5KW초과분의 매 1KW에 대하여 | F9: =IF(A8=0,"",IF(A5=1,F5-5,IF(A5=2,G5,0))) -> 50 | H9: =IF(F9="","",HLOOKUP($E$5,$H$16:$I$19,3,FALSE)) -> 121000 | I9: =IF(F9="","",H9*F9) -> 6050000
A10: =IF(C5=B10,1,0) -> 0 | B10: 고 압 | C10: 신증설 계약전력 매 1KW에 대하여 | F10: =IF(A10=0,"",IF(A5=1,F5,IF(A5=2,G5,0))) | H10: =IF(F10="","",HLOOKUP($E$5,$H$16:$I$19,4,FALSE)) | I10: =IF(F10="","",H10*F10)
B11: [ 소 계 ] | H11: =SUM(I8:I10) -> 6050000
B12: [ 부가가치세 ] | H12: =H11*J12 -> 605000 | J12: 0.1
B13: [ 합 계 ] | H13: =ROUNDUP(SUM(H11:I12),-3) -> 6655000 | J13: =IF(H13=" "," ","부가가치세 포함") -> 부가가치세 포함
K14: [ 단위 : 원]
B15: 구 분 | H15: 금 액 | J15: 비 고
H16: 가공공급 | I16: 지중공급
A17: 1 | B17: 저 압 | C17: 매 1계약에 대하여 계약전력 5KW까지 | H17: 306000 | I17: 588000 | J17: 부가가치세 별도
C18: 계약전력 5KW초과분의 매 1KW에 대하여 | H18: 121000 | I18: 141000
A19: 2 | B19: 고 압 | C19: 신증설 계약전력 매 1KW에 대하여 | H19: 24000 | I19: 50000
B24: 한국전기안전공사 사용전검사 수수료 (수용설비 설치공사)
B25: =$B$2 -> #REF!
B26: 구 분 | C26: 계 약 종 별 | E26: 공급방식 | F26: 계약용량 | J26: 비 고
F27: =F4 -> 기존 | G27: =G4 -> 증설 | H27: 소계
B28: =$B$5 -> 증 설 | C28: =$C$5 -> 저 압 | D28: =$D$5 -> 3Φ 4선식 | E28: =$E$5 -> 가공공급 | F28: =IF($H$5<75,0,$F$5) -> 1000 | G28: 200 | H28: =$F$28+$G$28 -> 1200 | J28: 계약전력 75KW미만 사용전검사수수료 제외
J29: [ 단위 : 원]
B30: 구분 | E30: 계약용량 | G30: 요금 | H30: 단 가 | I30: 금 액 | J30: 비고
A31: =MAX(N38:N43) -> 1 | B31: =VLOOKUP(A31,A38:I43,2,FALSE) -> 저 압 | E31: =IF(B28="신 규",F28,G28) -> 200 | G31: 기본료 | H31: =VLOOKUP(A31,A38:I43,3,FALSE) -> 94000 | I31: =H31 -> 94000 | J31: 부가가치세 별도
G32: KW당 요금 | H32: =VLOOKUP(A31,A38:I43,9,FALSE) -> 391 | I32: =E31*H32 -> 78200
B33: [ 소 계 ] | H33: =SUM(I31:I32) -> 172200
B34: [ 부가가치세 ] | H34: =H33*J34 -> 17220 | J34: 0.1
B35: [ 합 계 ] | H35: =ROUNDUP(SUM(H33:I34),-3) -> 190000 | J35: 부가가치세 포함
K36: [ 단위 : 원]
B37: 구 분 | C37: 기 본 료 | E37: KW당 요금 | J37: 비 고 | M37: 종별 | O37: 구분
A38: 1 | B38: 저 압 | C38: 94000 | I38: 391 | M38: 저압 | N38: =IF(C28="저 압",1,"-") -> 1 | O38: 300 | P38: KW까지
A39: 2 | B39: 고압300KW까지 | C39: 298000 | I39: 660 | M39: 고압 | N39: =IF($C$28="고 압",IF($H$28<=O39,2,"-"),"-") -> - | O39: 300 | P39: KW까지
A40: 3 | B40: 고압300KW초과 | C40: 559000 | E40: 1,000KW미만 | I40: 315 | N40: =IF($C$28="고 압",IF(AND($H$28>O40,$H$28<Q40),3,"-"),"-") -> - | O40: 300 | P40: KW초과 | Q40: 1000 | R40: KW미만
A41: 4 | B41: 고압1,000KW이상 | C41: 678000 | E41: 1,000KW까지 | I41: 268 | N41: =IF($C$28="고 압",IF(AND($H$28>=O41,$H$28<=Q41),4,"-"),"-") -> - | O41: 1000 | P41: KW이상 | Q41: 1000 | R41: KW까지
A42: 5 | B42: =B41 -> 고압1,000KW이상 | C42: =C41 -> 678000 | E42: 1,001 ~ 100,000KW까지 | I42: 152 | N42: =IF($C$28="고 압",IF(AND($H$28>=O42,$H$28<=Q42),5,"-"),"-") -> - | O42: 1001 | P42: KW이상 | Q42: 100000 | R42: KW까지
A43: 6 | B43: =B41 -> 고압1,000KW이상 | C43: =C41 -> 678000 | E43: 100,000KW초과 | I43: 32 | N43: =IF($C$28="고 압",IF($H$28>O43,6,"-"),"-") -> - | O43: 100000 | P43: KW초과
B44: 구내배전설비 검사시는 기본료에 KW당 요금의 2배 합산적용
B45: 수용설비 용량이 200,000KW를 초과 시 200,000KW까지의 수수료 적용
B48: 한국전기안전공사 사용전검사 수수료 (내연력발전소 설치공사)
B49: =$B$2 -> #REF! | K49: [ 단위 : 원]
B50: 번호 | C50: 구분 | D50: 용량 | E50: 기본료 | F50: KW당 요금 | G50: 금액 | H50: 소계
A51: =IF(D51<=300,$A$61,IF(D51<=500,$A$62,IF(D51<=1000,$A$63,IF(D51<=5000,$A$64,IF(D51<=10000,$A$65,IF(D51>10000,$A$66)))))) -> 10,000KW초과 | B51: 1 | C51: =$D$5 -> 3Φ 4선식 | D51: 10001 | E51: =VLOOKUP(A51,$A$61:$K$68,3,FALSE) -> 293000 | F51: =VLOOKUP(A51,$A$61:$K$68,9,FALSE) -> 7 | G51: =F51*D51 -> 70007 | H51: =E51+G51 -> 363007 | J51: 부가가치세 별도
A52: =IF(D52<=300,$A$61,IF(D52<=500,$A$62,IF(D52<=1000,$A$63,IF(D52<=5000,$A$64,IF(D52<=10000,$A$65,IF(D52>10000,$A$66)))))) -> 5,000KW까지 | B52: 2 | C52: =$D$5 -> 3Φ 4선식 | D52: 1001 | E52: =VLOOKUP(A52,$A$61:$K$68,3,FALSE) -> 293000 | F52: =VLOOKUP(A52,$A$61:$K$68,9,FALSE) -> 86 | G52: =F52*D52 -> 86086 | H52: =E52+G52 -> 379086
A53: =IF(D53<=300,$A$61,IF(D53<=500,$A$62,IF(D53<=1000,$A$63,IF(D53<=5000,$A$64,IF(D53<=10000,$A$65,IF(D53>10000,$A$66)))))) -> 300KW까지 | B53: 3 | C53: =$D$5 -> 3Φ 4선식 | D53: 100 | E53: =VLOOKUP(A53,$A$61:$K$68,3,FALSE) -> 88000 | F53: =VLOOKUP(A53,$A$61:$K$68,9,FALSE) -> 203 | G53: =F53*D53 -> 20300 | H53: =E53+G53 -> 108300
A54: =IF(D54<=300,$A$61,IF(D54<=500,$A$62,IF(D54<=1000,$A$63,IF(D54<=5000,$A$64,IF(D54<=10000,$A$65,IF(D54>10000,$A$66)))))) -> 300KW까지 | B54: 4 | C54: =$D$5 -> 3Φ 4선식 | D54: 100 | E54: =VLOOKUP(A54,$A$61:$K$68,3,FALSE) -> 88000 | F54: =VLOOKUP(A54,$A$61:$K$68,9,FALSE) -> 203 | G54: =F54*D54 -> 20300 | H54: =E54+G54 -> 108300
H55: =E55+G55 -> 0
B56: [ 소 계 ] | H56: =SUM(H51:I54) -> 958693
B57: [ 부가가치세 ] | H57: =H56*J57 -> 95869.3 | J57: 0.1
B58: [ 합 계 ] | H58: =ROUNDUP((H56+H57),-3) -> 1055000
K59: [ 단위 : 원]
B60: 구 분 | C60: 기 본 료 | E60: KW당 요금 | J60: 비 고
A61: 300KW까지 | B61: 300KW까지 | C61: 88000 | I61: 203
A62: 500KW까지 | B62: 300KW초과 | C62: 293000 | E62: 500KW까지 | I62: 177
A63: 1,000KW까지 | B63: =$B$62 -> 300KW초과 | C63: =$C$62 -> 293000 | E63: 501 ~ 1,000KW까지 | I63: 109
A64: 5,000KW까지 | B64: =$B$62 -> 300KW초과 | C64: =$C$62 -> 293000 | E64: 1,001 ~ 5,000KW까지 | I64: 86
A65: 10,000KW까지 | B65: =$B$62 -> 300KW초과 | C65: =$C$62 -> 293000 | E65: 5,001 ~ 10,000KW까지 | I65: 47
A66: 10,000KW초과 | B66: =$B$62 -> 300KW초과 | C66: =$C$62 -> 293000 | E66: 10,000KW초과 | I66: 7
A67: 100,000KW까지 | B67: 50,000KW초과 | C67: 3804000 | E67: 100,000KW까지 | I67: 34
A68: 100,000KW초과 | C68: =C67 -> 3804000 | E68: 100,000KW초과 | I68: 18
B69: 발전기 대당 적용
B71: 한국전력공사 거리시설 부담금 | M71: 전압
B72: =B2 -> #REF!
B73: *구 분 | C73: =C4 -> 0 | E73: =E4 -> 0 | F73: 초과거리 | G73: 단위 | H73: 거리시설 부담금 | J73: 비 고
B74: =IF(#REF!=0,0,IF(#REF!=1,"저압","고압")) -> #REF! | C74: =IF(#REF!=0,0,"첨가거리를 초과하는 신설거리 매 1M당") -> #REF! | F74: =#REF! -> #REF! | G74: =IF(F74=0,0,"M") -> #REF! | H74: =IF(C74=0,0,VLOOKUP(#REF!,#REF!,2,0))*F74 -> #REF! | J74: =IF(#REF!=0,0,"부가가치세 별도") -> #REF! | M74: 인입방식
B75: =IF(#REF!=0,0,IF(#REF!=1,"저압","고압")) -> #REF! | C75: =IF(#REF!=0,0,"기본거리를 초과하는 신설거리 매 1M당") -> #REF! | F75: =#REF! -> #REF! | G75: =IF(F75=0,0,"M") -> #REF! | H75: =IF(C75=0,0,VLOOKUP(#REF!,#REF!,3,0))*F75 -> #REF! | J75: =IF(#REF!=0,0,"부가가치세 별도") -> #REF!
B77: [ 소 계 ] | F77: =F75 -> #REF! | G77: =IF(F77=0,0,IF($B$5=$B$19,"KW","식")) -> #REF! | H77: =SUM(H74:I75) -> #REF! | M77: 첨가초과거리
B78: [ 부가가치세 ] | F78: =IF(H77=0,0,10) -> #REF! | G78: =IF(F78=0,0,"%") -> #REF! | H78: =H77*F78% -> #REF! | M78: 신설초과거리
B79: [ 합 계 ] | H79: =SUM(G77:H78) -> #REF! | J79: 부가가치세 포함 | M79: 저압/고압
K80: [ 단위 : 원]
B81: 구 분 | F81: 공중공급 | I81: 지중공급 | J81: 비 고
F82: 단상 | H82: 삼상
B83: 신설 거리 | C83: 기본거리를 초과하는 | E83: 저압 | F83: 48000 | H83: 53000 | I83: 75000
B84: 시설부담금 | C84: 신설거리 매1M당 | E84: 고압및특별고압 | F84: 53000 | I84: 137000
B85: 첨가 거리 | C85: 기본거리를 초과하는 | E85: 저압 | F85: 7000 | I85: ="-" -> -
B86: 시설부담금 | C86: 첨가거리 매1M당 | E86: 고압및특별고압 | F86: 12000 | I86: ="-" -> -
B87: 한국전력 공급약관 세칙 제93조 【표준시설부담금의 산정】
B88: ③ 거리시설부담금은 제94조[표준시설부담금 산정거리의 측정]에 따라 산정한 거리가 공중 배전선로는 200m, 지중배전선로는 50m(이하 "기본거리"라 합니다)를 초과하는 경우에 적용하며, 신설거리시설부담금과 첨가거리시설부담금을 합한 금액으로 합니다. 다만, 신설거리와 첨가거리가 혼재하는 경우 및 공중 배전선로와 지중 배전선로가 혼재하는 경우의 거리시설부담금은 세칙에서 정하는 바에 따릅니다
B91: ㈜
B92: 1. 1m 미만의 끝자리수는 버립니다.
B93: 2. 삼상으로 공급하기위하여 기존 단성 배전선로에 첨가공사를 하는 경우에는 첨가거리시설부담금 단가를 적용합니다.
B94: 다만, 지중 배전선로인 경우에는 신설거리시설부담금 단가를 적용합니다.
B97: 전기안전관리대행 수수료
B98: =B25 -> #REF!
B99: *구 분 | C99: ="3상4선식 "&C100&"KW" -> 3상4선식 0KW | E99: 단위 | G99: 전 기 안 전 관 리 대 행 수 수 료 | J99: 비 고
B100: *계약용량 | C100: =C31 -> 0 | E100: KW | G100: =I112 -> 181100 | I100: 원 | J100: 저압
B101: [ 소 계 ] | G101: =G100 -> 181100 | I101: 원
B102: 부가가치세 | C102: 10 | E102: % | G102: =G101*0.1 -> 18110 | I102: 원
B103: [ 계 ] | H103: =SUM(G101:H102) -> 199210 | I103: 원
K104: [ 단위 : 원]
B105: 구 분 | I105: 수수료 | J105: 비 고
B106: 저압 | C106: 49KW까지 | I106: 64700 | J106: 부가가치세 별도
C107: 50KW ~ 99KW까지 | I107: 73900
C108: 100KW이상 | I108: 85400
B109: 고압 | C109: 99KW까지 | I109: 87800
C110: 100KW ~ 199KW까지 | I110: 112400
C111: 200KW ~ 299KW까지 | I111: 125200
C112: 300KW ~ 399KW까지 | I112: 181100
...

Sheet 전기자동차
A1: 한국전력공사 표준공사비 단가표(전기자동차충전용설비)
A2: =원가!C2 -> #REF! | M2: 입력사항
A3: *계약종별 | B3: 3Φ 4선식 | D3: 지중공급 | E3: 계약용량 | F3: 단위 | G3: 금액 | J3: 비 고 | M3: 전력용량 | N3: 28 | O3: 1 | P3: 3Φ 4선식 | AE3: 저압과 고압 수전용량 | AF3: 499 | AG3: KW
A4: * 저 압 | B4: =IF($A$4=$A$13,$B13,$B15) -> 매 1계약에 대하여 계약전력 5KW까지 | E4: =IF(A4=A13,1,N3) -> 1 | F4: =IF(A4=A13,"식","KW") -> 식 | G4: =IF(A4=A13,HLOOKUP($D$3,$G$12:$H$15,2,0),(HLOOKUP($D$3,$G$12:$H$15,4,0)*E4)) -> 472000 | I4: =IF(G4=" "," ","원") -> 원 | J4: =IF(G4=" "," ","부가가치세 별도") -> 부가가치세 별도 | O4: 2 | P4: 1Φ 2선식
B5: =IF($A$4=$A$13,$B14," ") -> 계약전력 5KW초과분의 매 1KW에 대하여 | E5: =IF(B5=" "," ",IF(N3<=5," ",N3-5)) -> 23 | F5: =IF(E5=" "," ","KW") -> KW | G5: =IF(E5=" "," ",HLOOKUP($D$3,$G$12:$H$15,3,0)*E5) -> 2622000 | I5: =IF(G5=" "," ","원") -> 원 | J5: =IF(G5=" "," ","부가가치세 별도") -> 부가가치세 별도
O6: 1 | P6: 지중공급
A7: [ 소 계 ] | E7: =N3 -> 28 | F7: =IF(E7=" "," ","KW") -> KW | G7: =SUM(G4:H5) -> 3094000 | I7: =IF(G7=" "," ","원") -> 원 | O7: 2 | P7: 가공공급
A8: [ 부가가치세 ] | E8: =IF(G7=0,0,10) -> 10 | F8: =IF(E8=0,0,"%") -> % | G8: =(G7*E8)% -> 309400 | I8: =IF(G8=" "," ","원") -> 원
A9: [ 합 계 ] | G9: =SUM(G7:G8) -> 3403400 | I9: =IF(G9=" "," ","원") -> 원 | J9: =IF(G9=" "," ","부가가치세 포함") -> 부가가치세 포함 | P9: =IF($N$9<$AF$3,1,2) -> 1 | AC9: KW
K10: [ 단위 : 원]
A11: 구 분 | G11: 금 액 | I11: 단위 | J11: 비 고 | M11: 첨가초과거리 | N11: 200
G12: 가공공급 | H12: 지중공급 | M12: 신설초과거리
A13: * 저 압 | B13: 매 1계약에 대하여 계약전력 5KW까지 | G13: 246000 | H13: 472000 | I13: 원 | J13: 부가가치세 별도
B14: 계약전력 5KW초과분의 매 1KW에 대하여 | G14: 98000 | H14: 114000 | I14: 원
A15: * 고 압 | B15: 신증설 계약전력 매 1KW에 대하여 | G15: 20000 | H15: 41000 | I15: 원
A16: *비고
A17: 제10조의3 [전기자동차 충전용설비에 대한 전기사용계약기준]
A18: ① 약관 제18조(전기사용장소)에 불구하고 고객이 희망할 경우에는 전기자동차 충전용설비에 대해서 충전사업자별 또는 충전설비별로 별도의 전기사용장소로 구분할 수 있다.
A19: ② 전기자동차 충전용설비에 대한 공급전압은 약관 제23조(전기공급방식, 공급전압 및 주파수)에 따라 결정한다.
A20: ③ 전기자동차 충전용설비에 대해서는 별표4(기본공급약관특례) 제4호에서정한 전기자동차 충전전력 전기요금을 적용할 수 있도록 적합한 전력량계를 설치한다.
A21: ④ 전기자동차 충전용설비의 시설부담금 등 기타 공급조건은 기본공급약관을 적용한다.
AB22: =#REF! -> #REF! | AC22: =#REF! -> #REF!
N23: 계약전력 75KW미만 사용전검사수수료 제외 | AC23: 2
A24: 한국전기안전공사 사용전검사 수수료 (다중이용시설-전기자동차충전시설)
A25: =$A$2 -> #REF!
A26: *구 분 | B26: =B3 -> 3Φ 4선식 | D26: =D3 -> 지중공급 | E26: 계약용량 | F26: 단위 | G26: 사용전검사 수수료 | J26: 비 고
A27: *기 본 료 | B27: 전기자동차충전시설 | E27: =IF(B27=0,0,"1") -> 1 | F27: =IF(E27=0,0,"식") -> 식 | G27: =D35 -> 44000 | I27: =IF(G27=" "," ","원") -> 원 | J27: 부가가치세 별도
A28: *KW당요금 | E28: =N3 -> 28 | F28: =IF(E28=0,0,"KW") -> KW | G28: =G35*E30 -> 29652 | I28: =IF(G28=" "," ","원") -> 원 | J28: 부가가치세 별도
A30: [ 소 계 ] | E30: =E28 -> 28 | F30: =IF(E30=0,0,"KW") -> KW | G30: =SUM(G27:H28) -> 73652 | I30: =IF(G30=" "," ","원") -> 원
A31: [ 부가가치세 ] | E31: =IF(G30=0,0,10) -> 10 | F31: =IF(E31=0,0,"%") -> % | G31: =G30*E31% -> 7365.2 | I31: =IF(G31=" "," ","원") -> 원
A32: [ 합 계 ] | G32: =SUM(F30:G31) -> 81017.2 | I32: =IF(G32=" "," ","원") -> 원 | J32: 부가가치세 포함
K33: [ 단위 : 원]
A34: 구 분 | D34: 기 본 료 | G34: KW당 요금 | J34: 비 고
A35: 전기 자동차 충전 시설 | D35: 44000 | F35: 원 | G35: 1059 | I35: 원
A36: *비고
A37: 2022년 여러 사람이 이용하는 시설 등에 대한 전기안전점검 수수료
M47: 지우지말것

Sheet 태양광
B1: 한국전기안전공사 사용전검사 수수료 (태양광발전소 설치공사)
B2: =원가!#REF! -> #REF!
B3: 구 분 | E3: 태양광 발전 용량 | I3: 비 고
B5: 신 규 | C5: 저압계통연계 | E5: 20
J6: [ 단위 : 원]
B7: 구분 | F7: 태양광 발전 용량 | H7: 단 가 | I7: 금 액 | J7: 비고
A8: =IF(C5="저압계통연계",IF(E5<=20,C15,IF(E5>20,C16)),0) -> 20KW까지 | B8: =C5 -> 저압계통연계 | D8: 기본료 | E8: =IF(C5="저압계통연계",A8,A9) -> 20KW까지 | F8: 1 | H8: =VLOOKUP(E8,$C$15:$H$18,3,FALSE) -> 81300 | I8: =IF(F8="","",H8*F8) -> 81300 | J8: 부가가치세 별도
A9: =IF(C5="특고압계통연계",IF(E5<=500,C17,IF(E5>500,C18)),0) -> 0 | D9: KW당 요금 | E9: =E8 -> 20KW까지 | F9: =E5 -> 20 | H9: =VLOOKUP(E9,$C$15:$H$18,5,FALSE) -> 292 | I9: =IF(F9="","",H9*F9) -> 5840
B10: [ 소 계 ] | H10: =SUM(I8:I9) -> 87140
B11: [ 부가가치세 ] | H11: =H10*J11 -> 8714 | J11: 0.1
B12: [ 합 계 ] | H12: =ROUNDUP(SUM(H10:I11),-3) -> 96000 | J12: 부가가치세 포함
K13: [ 단위 : 원]
B14: 구 분 | E14: 기 본 료 | G14: KW당 요금 | I14: 비 고
B15: 저압계통연계 | C15: 20KW까지 | E15: 81300 | G15: 292
C16: 20KW초과 | E16: 138000 | G16: 611
B17: 특고압계통연계 | C17: 500KW까지 | E17: 239600 | G17: 426
C18: 500KW초과 | E18: 351900 | G18: 349

Sheet 고자재
A1: 고자재 및 폐기물 처리
A2: =원가!#REF! -> #REF!
A3: 품 명 | B3: 단 위 | C3: 수 량 | E3: 재 료 비 | G3: 노 무 비 | I3: 경 비 | K3: 합 계 | M3: 비 고 | P3: F-CV | Q3: 1.5 | R3: 1
E4: 단 가 | F4: 금 액 | G4: 단 가 | H4: 금 액 | I4: 단 가 | J4: 금 액 | K4: 단 가 | L4: 금 액 | P4: F-FR8 | Q4: 2.5 | R4: 2
A5: ▣ 고자재 처리 (총괄) | B5: 식 | K5: =ROUNDDOWN((SUM(K6:K8)),3) -> -30558.72 | L5: =ROUNDDOWN((SUM(L6:L8)),3) -> -30558.72 | P5: F-CVV | Q5: 4 | R5: 3
A6: ▣ 고자재 처리 (동-케이블) | B6: kg | C6: =SUM(K10:L14) -> 3.3216 | E6: -9200 | F6: =C6*E6 -> -30558.72 | K6: =F6 -> -30558.72 | L6: =K6 -> -30558.72 | P6: F-CVV-S | Q6: 6 | R6: 4
P7: F-GV | Q7: 10 | R7: 5
Q8: 16 | R8: 6
A9: ▣ 고자재 처리 (동-케이블) | B9: 케이블 규격 | E9: 단 위 | F9: 수 량 | G9: 단위중량 환산근거 | I9: 단위중량(kg/m) | K9: 중량합계 | Q9: 25 | R9: 7
A10: 1. 케이블 철거 | B10: F-CV | C10: 4 | D10: 3 | E10: m | F10: 24 | G10: =IF(F10=0,0,C10&" X "&D10&" X (8.65/1000)") -> 4 X 3 X (8.65/1000) | I10: =IF(F10=0,0,C10*D10*(8.65/1000)) -> 0.1038 | K10: =F10*I10 -> 2.4912 | Q10: 35 | R10: 8
B11: F-GV | C11: 4 | D11: 1 | E11: m | F11: 24 | G11: =IF(F11=0,0,C11&" X "&D11&" X (8.65/1000)") -> 4 X 1 X (8.65/1000) | I11: =IF(F11=0,0,C11*D11*(8.65/1000)) -> 0.0346 | K11: =F11*I11 -> 0.8304 | Q11: 50 | R11: 9
G12: =IF(F12=0,0,C12&" X "&D12&" X (8.65/1000)") -> 0 | I12: =IF(F12=0,0,C12*D12*(8.65/1000)) -> 0 | K12: =F12*I12 -> 0 | Q12: 70 | R12: 10
G13: =IF(F13=0,0,C13&" X "&D13&" X (8.65/1000)") -> 0 | I13: =IF(F13=0,0,C13*D13*(8.65/1000)) -> 0 | K13: =F13*I13 -> 0 | Q13: 95
G14: =IF(F14=0,0,C14&" X "&D14&" X (8.65/1000)") -> 0 | I14: =IF(F14=0,0,C14*D14*(8.65/1000)) -> 0 | K14: =F14*I14 -> 0 | Q14: 120
A15: * 단위중량 환산 계산식 : [파이*(반지름)제곱]*비중/1,000 , 구리(동, 비중 8.65)] | Q15: 240
Q16: 300

Sheet 공종별집계표
A1: 공 종 별 집 계 표
A2: [ 잠사곤충시험장 잠실저온창고 환경개선 및 비상관리시스템 구축공사 (전기) ]
A3: 품 명 | B3: 규 격 | C3: 단위 | D3: 수량 | E3: 재 료 비 | G3: 노 무 비 | I3: 경 비 | K3: 합 계 | M3: 비 고 | N3: 공종코드 | O3: 변수 | P3: 상위공종 | Q3: 공종구분 | R3: 공종레벨 | S3: 공종소계 | T3: 원가계산서 연결금액
E4: 단 가 | F4: 금 액 | G4: 단 가 | H4: 금 액 | I4: 단 가 | J4: 금 액 | K4: 단 가 | L4: 금 액
A5: 01 잠사곤충시험장 잠실저온창고 환경개선 및 비상관리시스템 구축공사 (전기) | D5: 1 | N5: 01 | R5: 1
A6: 0101 전력간선공사 | D6: 1 | N6: 0101 | P6: 01 | R6: 2
A7: 0102 철거공사 | D7: 1 | N7: 0102 | P7: 01 | R7: 2
A8: 0103 전등설비공사 | D8: 1 | N8: 0103 | P8: 01 | R8: 2
A9: 0104 전열설비공사 | D9: 1 | N9: 0104 | P9: 01 | R9: 2
A10: 0105 동력설비공사 | D10: 1 | N10: 0105 | P10: 01 | R10: 2
A11: 0106 통신설비공사 | D11: 1 | N11: 0106 | P11: 01 | R11: 2
A13: 02 잠사곤충시험장 잠실저온창고 환경개선 및 비상관리시스템 구축공사 (전기)-관급자관급 | D13: 1 | E13: =F14 -> 14889000 | F13: =E13*D13 -> 14889000 | G13: =H14 -> 0 | H13: =G13*D13 -> 0 | I13: =J14 -> 0 | J13: =I13*D13 -> 0 | K13: =E13+G13+I13 -> 14889000 | L13: =F13+H13+J13 -> 14889000 | N13: 01 | R13: 1
A14: 0201 CCTV | D14: 1 | E14: 14889000 | F14: =E14*D14 -> 14889000 | H14: =G14*D14 -> 0 | J14: =I14*D14 -> 0 | K14: =E14+G14+I14 -> 14889000 | L14: =F14+H14+J14 -> 14889000 | N14: 0101 | P14: 01 | R14: 2
A16: 02 잠사곤충시험장 잠실저온창고 환경개선 및 비상관리시스템 구축공사 (전기)-도급자관급 | D16: 1 | E16: =F17+F18+F19+F20 -> 12510000 | F16: =E16*D16 -> 12510000 | G16: =H17+H18+H19+H20 -> 0 | H16: =G16*D16 -> 0 | I16: =J17+J18+J19+J20 -> 0 | J16: =I16*D16 -> 0 | K16: =E16+G16+I16 -> 12510000 | L16: =F16+H16+J16 -> 12510000 | N16: 01 | R16: 1
A17: 0201 분전반 | D17: 1 | E17: 5984000 | F17: =E17*D17 -> 5984000 | H17: =G17*D17 -> 0 | J17: =I17*D17 -> 0 | K17: =E17+G17+I17 -> 5984000 | L17: =F17+H17+J17 -> 5984000 | N17: 0101 | P17: 01 | R17: 2
A18: 0202 조명기구 | D18: 1 | E18: 3302000 | F18: =E18*D18 -> 3302000 | H18: =G18*D18 -> 0 | J18: =I18*D18 -> 0 | K18: =E18+G18+I18 -> 3302000 | L18: =F18+H18+J18 -> 3302000 | N18: 0102 | P18: 01 | R18: 2
A19: 0103 무정전전원장치 | D19: 1 | E19: 3224000 | F19: =E19*D19 -> 3224000 | H19: =G19*D19 -> 0 | J19: =I19*D19 -> 0 | K19: =E19+G19+I19 -> 3224000 | L19: =F19+H19+J19 -> 3224000 | N19: 0103 | P19: 01 | R19: 2
A27: [ 합 계 ] | F27: =F5 -> 0 | H27: =H5 -> 0 | J27: =J5 -> 0 | L27: =L5 -> 0

Sheet 공종별내역서
A1: [ 잠사곤충시험장 잠실저온창고 환경개선 및 비상관리시스템 구축공사 (전기) ]
A2: 품 명 | B2: 규 격 | C2: 단위 | D2: 수량 | E2: 재 료 비 | G2: 노 무 비 | I2: 경 비 | K2: 합 계 | M2: 비 고 | N2: 품목코드 | O2: 변수 | P2: 설정 | Q2: 공종코드 | R2: 일위 | S2: 단산 | T2: 자재 | U2: 손료적용 | V2: 손료저장 | W2: 적용율 | X2: JUK1 | Y2: JUK2 | Z2: JUK3 | AA2: JUK4 | AB2: JUK5 | AC2: JUK6 | AD2: JUK7 | AE2: JUK8 | AF2: JUK9 | AG2: JUK10 | AH2: JUK11 | AI2: JUK12 | AJ2: JUK13 | AK2: JUK14 | AL2: JUK15 | AM2: JUK16 | AN2: JUK17 | AO2: JUK18 | AP2: JUK19 | AQ2: JUK20 | AR2: 자재구분 | AS2: 공종구분 | AT2: 공종레벨 | AU2: 공종+자재 | AV2: 고유번호
E3: 단 가 | F3: 금 액 | G3: 단 가 | H3: 금 액 | I3: 단 가 | J3: 금 액 | K3: 단 가 | L3: 금 액
A4: 0101 전력간선공사 | Q4: 0101
A5: 절연전선및피복선 | B5: 접지용비닐절연전선, FGV, 6㎟ | C5: m | D5: 5 | N5: 455974957E22E9B688961709E5C09 | Q5: 0101 | R5: T | S5: F | T5: F | AU5: 0101455974957E22E9B688961709E5C09 | AV5: 3
A6: 전력케이블 | B6: 600V폴리에틸렌케이블, 0.6/1kV, FCV, 2C×6㎟ | C6: m | D6: 5 | N6: 455974957E22E9B688961709E5A5B | Q6: 0101 | R6: T | S6: F | T6: F | AU6: 0101455974957E22E9B688961709E5A5B | AV6: 4
A7: 무정전전원장치 | B7: 1Φ2W 3KW | C7: 식 | D7: 1 | N7: 455974957E22E9B688961709E5787 | Q7: 0101 | R7: T | S7: F | T7: F | AU7: 0101455974957E22E9B688961709E5787 | AV7: 5
A8: 분전반 | B8: L-U | C8: 면 | D8: 1 | N8: 455974957E22E9B688961709F6528 | Q8: 0101 | R8: T | S8: F | T8: F | AU8: 0101455974957E22E9B688961709F6528 | AV8: 6
A9: 분전반 | B9: L-F | C9: 면 | D9: 1 | N9: 455974957E22E9B688961709F6401 | Q9: 0101 | R9: T | S9: F | T9: F | AU9: 0101455974957E22E9B688961709F6401 | AV9: 7
A10: 나사없는 전선관 커플링 | B10: E 31 | C10: 개 | D10: 1 | N10: 42FA74526F826912C28BA70A66509760154A1 | Q10: 0101 | R10: F | S10: F | T10: T | AU10: 010142FA74526F826912C28BA70A66509760154A1 | AV10: 8
A11: 나사 없는 전선관 | B11: E31 | C11: M | D11: 5 | N11: 455974957E22E9B688961709F6D7E | Q11: 0101 | R11: T | S11: F | T11: F | AU11: 0101455974957E22E9B688961709F6D7E | AV11: 38
A12: 배관용 홈파기 | B12: Ø36mm 이하용 | C12: M | D12: 15 | N12: 45937CCF8F121921E1E6030324BA0 | Q12: 0101 | R12: T | S12: F | T12: F | AU12: 010145937CCF8F121921E1E6030324BA0 | AV12: 10
Q13: 0101
Q14: 0101
Q15: 0101
Q16: 0101
Q17: 0101
Q18: 0101
Q19: 0101
Q20: 0101
Q21: 0101
Q22: 0101
Q23: 0101
Q24: 0101
... Q26: 0101
A27: [ 합 계 ] | F27: =SUMIF(Q5:Q26,"0101",F5:F26) -> 0 | H27: =SUMIF(Q5:Q26,"0101",H5:H26) -> 0 | J27: =SUMIF(Q5:Q26,"0101",J5:J26) -> 0 | L27: =SUMIF(Q5:Q26,"0101",L5:L26) -> 0 | N27: TOTAL
A28: 0102 철거공사 | Q28: 0102
A29: 분전반 철거 | C29: 개 | D29: 1 | E29: =TRUNC(#REF!,0) -> #REF! | F29: =TRUNC(E29*D29, 0) -> #REF! | G29: =TRUNC(#REF!,0) -> #REF! | H29: =TRUNC(G29*D29, 0) -> #REF! | I29: =TRUNC(#REF!,0) -> #REF! | J29: =TRUNC(I29*D29, 0) -> #REF! | K29: =TRUNC(E29+G29+I29, 0) -> #REF! | L29: =TRUNC(F29+H29+J29, 0) -> #REF! | M29: 호표 8 | N29: 45937CCF83620918B7038F05C34D4 | Q29: 0102 | R29: T | S29: F | T29: F | AU29: 010245937CCF83620918B7038F05C34D4 | AV29: 12
A30: 형광등 철거 | B30: FL 32W/2 | C30: 개 | D30: 6 | E30: =TRUNC(#REF!,0) -> #REF! | F30: =TRUNC(E30*D30, 0) -> #REF! | G30: =TRUNC(#REF!,0) -> #REF! | H30: =TRUNC(G30*D30, 0) -> #REF! | I30: =TRUNC(#REF!,0) -> #REF! | J30: =TRUNC(I30*D30, 0) -> #REF! | K30: =TRUNC(E30+G30+I30, 0) -> #REF! | L30: =TRUNC(F30+H30+J30, 0) -> #REF! | M30: 호표 9 | N30: 45937CCF83620918B7038F05C34D6 | Q30: 0102 | R30: T | S30: F | T30: F | AU30: 010245937CCF83620918B7038F05C34D6 | AV30: 13
Q31: 0102
Q32: 0102
Q33: 0102
Q34: 0102
Q35: 0102
Q36: 0102
Q37: 0102
Q38: 0102
Q39: 0102
Q40: 0102
Q41: 0102
Q42: 0102
... Q50: 0102
A51: [ 합 계 ] | F51: =SUMIF(Q29:Q50,"0102",F29:F50) -> #REF! | H51: =SUMIF(Q29:Q50,"0102",H29:H50) -> #REF! | J51: =SUMIF(Q29:Q50,"0102",J29:J50) -> #REF! | L51: =SUMIF(Q29:Q50,"0102",L29:L50) -> #REF! | N51: TOTAL
A52: 0103 전등설비공사 | Q52: 0103
A53: 450/750V 저독성난연가교폴리올레핀절연전선 | B53: HFIX, 2.5 ㎟ | C53: m | D53: 333 | E53: =TRUNC(#REF!,0) -> #REF! | F53: =TRUNC(E53*D53, 0) -> #REF! | G53: =TRUNC(#REF!,0) -> #REF! | H53: =TRUNC(G53*D53, 0) -> #REF! | I53: =TRUNC(#REF!,0) -> #REF! | J53: =TRUNC(I53*D53, 0) -> #REF! | K53: =TRUNC(E53+G53+I53, 0) -> #REF! | L53: =TRUNC(F53+H53+J53, 0) -> #REF! | M53: 호표 10 | N53: 455974957E22E9B688961709E58AE | Q53: 0103 | R53: T | S53: F | T53: F | AU53: 0103455974957E22E9B688961709E58AE | AV53: 15
A54: LED 직부등 | B54: LED 40W | C54: 개 | D54: 54 | E54: =TRUNC(#REF!,0) -> #REF! | F54: =TRUNC(E54*D54, 0) -> #REF! | G54: =TRUNC(#REF!,0) -> #REF! | H54: =TRUNC(G54*D54, 0) -> #REF! | I54: =TRUNC(#REF!,0) -> #REF! | J54: =TRUNC(I54*D54, 0) -> #REF! | K54: =TRUNC(E54+G54+I54, 0) -> #REF! | L54: =TRUNC(F54+H54+J54, 0) -> #REF! | M54: 호표 11 | N54: 455974957E22E9B688961709E56E0 | Q54: 0103 | R54: T | S54: F | T54: F | AU54: 0103455974957E22E9B688961709E56E0 | AV54: 16
A55: 스위치박스 | B55: 스위치박스, 1개용, 54mm | C55: 개 | D55: 5 | E55: =TRUNC(#REF!,0) -> #REF! | F55: =TRUNC(E55*D55, 0) -> #REF! | G55: =TRUNC(#REF!,0) -> #REF! | H55: =TRUNC(G55*D55, 0) -> #REF! | I55: =TRUNC(#REF!,0) -> #REF! | J55: =TRUNC(I55*D55, 0) -> #REF! | K55: =TRUNC(E55+G55+I55, 0) -> #REF! | L55: =TRUNC(F55+H55+J55, 0) -> #REF! | M55: 호표 12 | N55: 455974957E22E9B688961709C9524 | Q55: 0103 | R55: T | S55: F | T55: F | AU55: 0103455974957E22E9B688961709C9524 | AV55: 56
A56: 아웃렛박스 | B56: 아웃렛박스, 8각, 54mm | C56: 개 | D56: 54 | E56: =TRUNC(#REF!,0) -> #REF! | F56: =TRUNC(E56*D56, 0) -> #REF! | G56: =TRUNC(#REF!,0) -> #REF! | H56: =TRUNC(G56*D56, 0) -> #REF! | I56: =TRUNC(#REF!,0) -> #REF! | J56: =TRUNC(I56*D56, 0) -> #REF! | K56: =TRUNC(E56+G56+I56, 0) -> #REF! | L56: =TRUNC(F56+H56+J56, 0) -> #REF! | M56: 호표 13 | N56: 455974957E22E9B688961709F60A6 | Q56: 0103 | R56: T | S56: F | T56: F | AU56: 0103455974957E22E9B688961709F60A6 | AV56: 17
A57: 아웃렛박스 | B57: 아웃렛박스, 커버, 8각, 평형 | C57: 개 | D57: 54 | E57: =TRUNC(#REF!,0) -> #REF! | F57: =TRUNC(E57*D57, 0) -> #REF! | G57: =TRUNC(#REF!,0) -> #REF! | H57: =TRUNC(G57*D57, 0) -> #REF! | I57: =TRUNC(#REF!,0) -> #REF! | J57: =TRUNC(I57*D57, 0) -> #REF! | K57: =TRUNC(E57+G57+I57, 0) -> #REF! | L57: =TRUNC(F57+H57+J57, 0) -> #REF! | N57: 42FA74526F826910145A1C095DA0E1327A629 | Q57: 0103 | R57: F | S57: F | T57: T | AU57: 010342FA74526F826910145A1C095DA0E1327A629 | AV57: 18
A58: 아웃렛박스 | B58: 아웃렛박스, 커버, 4각, 1개용S/W, 오목 | C58: 개 | D58: 5 | E58: =TRUNC(#REF!,0) -> #REF! | F58: =TRUNC(E58*D58, 0) -> #REF! | G58: =TRUNC(#REF!,0) -> #REF! | H58: =TRUNC(G58*D58, 0) -> #REF! | I58: =TRUNC(#REF!,0) -> #REF! | J58: =TRUNC(I58*D58, 0) -> #REF! | K58: =TRUNC(E58+G58+I58, 0) -> #REF! | L58: =TRUNC(F58+H58+J58, 0) -> #REF! | N58: 42FA74526F826910145A1C095DA0E1327A62F | Q58: 0103 | R58: F | S58: F | T58: T | AU58: 010342FA74526F826910145A1C095DA0E1327A62F | AV58: 57
A59: 전선관 | B59: 1종금속제가요전선관, 16mm, 비방수 | C59: M | D59: 111 | E59: =TRUNC(#REF!,0) -> #REF! | F59: =TRUNC(E59*D59, 0) -> #REF! | G59: =TRUNC(#REF!,0) -> #REF! | H59: =TRUNC(G59*D59, 0) -> #REF! | I59: =TRUNC(#REF!,0) -> #REF! | J59: =TRUNC(I59*D59, 0) -> #REF! | K59: =TRUNC(E59+G59+I59, 0) -> #REF! | L59: =TRUNC(F59+H59+J59, 0) -> #REF! | M59: 호표 14 | N59: 455974957E22E9B688961709F6253 | Q59: 0103 | R59: T | S59: F | T59: F | AU59: 0103455974957E22E9B688961709F6253 | AV59: 19
A60: 배관용 구멍뚫기(손파기)Con,c | B60: 두께15cm이하 Ø50mm | C60: 개소 | D60: 2 | E60: =TRUNC(#REF!,0) -> #REF! | F60: =TRUNC(E60*D60, 0) -> #REF! | G60: =TRUNC(#REF!,0) -> #REF! | H60: =TRUNC(G60*D60, 0) -> #REF! | I60: =TRUNC(#REF!,0) -> #REF! | J60: =TRUNC(I60*D60, 0) -> #REF! | K60: =TRUNC(E60+G60+I60, 0) -> #REF! | L60: =TRUNC(F60+H60+J60, 0) -> #REF! | M60: 호표 15 | N60: 45937CCF8F121921E1E9D7051A145 | Q60: 0103 | R60: T | S60: F | T60: F | AU60: 010345937CCF8F121921E1E9D7051A145 | AV60: 20
Q61: 0103
Q62: 0103
Q63: 0103
Q64: 0103
Q65: 0103
Q66: 0103
Q67: 0103
Q68: 0103
Q69: 0103
Q70: 0103
Q71: 0103
Q72: 0103
... Q74: 0103
A75: [ 합 계 ] | F75: =SUMIF(Q53:Q74,"0103",F53:F74) -> #REF! | H75: =SUMIF(Q53:Q74,"0103",H53:H74) -> #REF! | J75: =SUMIF(Q53:Q74,"0103",J53:J74) -> #REF! | L75: =SUMIF(Q53:Q74,"0103",L53:L74) -> #REF! | N75: TOTAL
A76: 0104 전열설비공사 | Q76: 0104
A77: 450/750V 저독성난연가교폴리올레핀절연전선 | B77: HFIX, 4 ㎟(전열) | C77: m | D77: 243 | E77: =TRUNC(#REF!,0) -> #REF! | F77: =TRUNC(E77*D77, 0) -> #REF! | G77: =TRUNC(#REF!,0) -> #REF! | H77: =TRUNC(G77*D77, 0) -> #REF! | I77: =TRUNC(#REF!,0) -> #REF! | J77: =TRUNC(I77*D77, 0) -> #REF! | K77: =TRUNC(E77+G77+I77, 0) -> #REF! | L77: =TRUNC(F77+H77+J77, 0) -> #REF! | M77: 호표 16 | N77: 455974957E22E9B688961709C90A2 | Q77: 0104 | R77: T | S77: F | T77: F | AU77: 0104455974957E22E9B688961709C90A2 | AV77: 42
A78: 스위치박스 | B78: 스위치박스, 1개용, 54mm | C78: 개 | D78: 4 | E78: =TRUNC(#REF!,0) -> #REF! | F78: =TRUNC(E78*D78, 0) -> #REF! | G78: =TRUNC(#REF!,0) -> #REF! | H78: =TRUNC(G78*D78, 0) -> #REF! | I78: =TRUNC(#REF!,0) -> #REF! | J78: =TRUNC(I78*D78, 0) -> #REF! | K78: =TRUNC(E78+G78+I78, 0) -> #REF! | L78: =TRUNC(F78+H78+J78, 0) -> #REF! | M78: 호표 17 | N78: 455974957E22E9B688961709F66CE | Q78: 0104 | R78: T | S78: F | T78: F | AU78: 0104455974957E22E9B688961709F66CE | AV78: 43
A79: 스위치박스 | B79: 스위치박스, 2개용, 54mm | C79: 개 | D79: 8 | E79: =TRUNC(#REF!,0) -> #REF! | F79: =TRUNC(E79*D79, 0) -> #REF! | G79: =TRUNC(#REF!,0) -> #REF! | H79: =TRUNC(G79*D79, 0) -> #REF! | I79: =TRUNC(#REF!,0) -> #REF! | J79: =TRUNC(I79*D79, 0) -> #REF! | K79: =TRUNC(E79+G79+I79, 0) -> #REF! | L79: =TRUNC(F79+H79+J79, 0) -> #REF! | M79: 호표 18 | N79: 455974957E22E9B688961709F614D | Q79: 0104 | R79: T | S79: F | T79: F | AU79: 0104455974957E22E9B688961709F614D | AV79: 44
A80: 아웃렛박스 | B80: 아웃렛박스, 커버, 4각, 1개용S/W, 오목 | C80: 개 | D80: 4 | E80: =TRUNC(#REF!,0) -> #REF! | F80: =TRUNC(E80*D80, 0) -> #REF! | G80: =TRUNC(#REF!,0) -> #REF! | H80: =TRUNC(G80*D80, 0) -> #REF! | I80: =TRUNC(#REF!,0) -> #REF! | J80: =TRUNC(I80*D80, 0) -> #REF! | K80: =TRUNC(E80+G80+I80, 0) -> #REF! | L80: =TRUNC(F80+H80+J80, 0) -> #REF! | N80: 42FA74526F826910145A1C095DA0E1327A62F | Q80: 0104 | R80: F | S80: F | T80: T | AU80: 010442FA74526F826910145A1C095DA0E1327A62F | AV80: 45
A81: 아웃렛박스 | B81: 아웃렛박스, 커버, 4각, 2개용S/W, 오목 | C81: 개 | D81: 8 | E81: =TRUNC(#REF!,0) -> #REF! | F81: =TRUNC(E81*D81, 0) -> #REF! | G81: =TRUNC(#REF!,0) -> #REF! | H81: =TRUNC(G81*D81, 0) -> #REF! | I81: =TRUNC(#REF!,0) -> #REF! | J81: =TRUNC(I81*D81, 0) -> #REF! | K81: =TRUNC(E81+G81+I81, 0) -> #REF! | L81: =TRUNC(F81+H81+J81, 0) -> #REF! | N81: 42FA74526F826910145A1C095DA0E1327A621 | Q81: 0104 | R81: F | S81: F | T81: T | AU81: 010442FA74526F826910145A1C095DA0E1327A621 | AV81: 46
A82: 리셉터클 | B82: 콘센트, 2구, 15A, 250V, 매입형, 접지 | C82: 개 | D82: 10 | E82: =TRUNC(#REF!,0) -> #REF! | F82: =TRUNC(E82*D82, 0) -> #REF! | G82: =TRUNC(#REF!,0) -> #REF! | H82: =TRUNC(G82*D82, 0) -> #REF! | I82: =TRUNC(#REF!,0) -> #REF! | J82: =TRUNC(I82*D82, 0) -> #REF! | K82: =TRUNC(E82+G82+I82, 0) -> #REF! | L82: =TRUNC(F82+H82+J82, 0) -> #REF! | M82: 호표 19 | N82: 455974957E22E9B688961709C9377 | Q82: 0104 | R82: T | S82: F | T82: F | AU82: 0104455974957E22E9B688961709C9377 | AV82: 47
A83: 전선관 | B83: 1종금속제가요전선관, 16mm, 비방수 | C83: M | D83: 81 | E83: =TRUNC(#REF!,0) -> #REF! | F83: =TRUNC(E83*D83, 0) -> #REF! | G83: =TRUNC(#REF!,0) -> #REF! | H83: =TRUNC(G83*D83, 0) -> #REF! | I83: =TRUNC(#REF!,0) -> #REF! | J83: =TRUNC(I83*D83, 0) -> #REF! | K83: =TRUNC(E83+G83+I83, 0) -> #REF! | L83: =TRUNC(F83+H83+J83, 0) -> #REF! | M83: 호표 14 | N83: 455974957E22E9B688961709F6253 | Q83: 0104 | R83: T | S83: F | T83: F | AU83: 0104455974957E22E9B688961709F6253 | AV83: 48
A84: 전선덕트 | B84: 전선덕트, 알루미늄, 70×40mm | C84: m | D84: 40 | E84: =TRUNC(#REF!,0) -> #REF! | F84: =TRUNC(E84*D84, 0) -> #REF! | G84: =TRUNC(#REF!,0) -> #REF! | H84: =TRUNC(G84*D84, 0) -> #REF! | I84: =TRUNC(#REF!,0) -> #REF! | J84: =TRUNC(I84*D84, 0) -> #REF! | K84: =TRUNC(E84+G84+I84, 0) -> #REF! | L84: =TRUNC(F84+H84+J84, 0) -> #REF! | M84: 호표 20 | N84: 455974957E22E9B688961709F6C57 | Q84: 0104 | R84: T | S84: F | T84: F | AU84: 0104455974957E22E9B688961709F6C57 | AV84: 49
A85: 배관용 구멍뚫기(손파기)Con,c | B85: 두께15cm이하 Ø50mm | C85: 개소 | D85: 5 | E85: =TRUNC(#REF!,0) -> #REF! | F85: =TRUNC(E85*D85, 0) -> #REF! | G85: =TRUNC(#REF!,0) -> #REF! | H85: =TRUNC(G85*D85, 0) -> #REF! | I85: =TRUNC(#REF!,0) -> #REF! | J85: =TRUNC(I85*D85, 0) -> #REF! | K85: =TRUNC(E85+G85+I85, 0) -> #REF! | L85: =TRUNC(F85+H85+J85, 0) -> #REF! | M85: 호표 15 | N85: 45937CCF8F121921E1E9D7051A145 | Q85: 0104 | R85: T | S85: F | T85: F | AU85: 010445937CCF8F121921E1E9D7051A145 | AV85: 50
Q86: 0104
Q87: 0104
Q88: 0104
Q89: 0104
Q90: 0104
Q91: 0104
Q92: 0104
Q93: 0104
Q94: 0104
Q95: 0104
Q96: 0104
Q97: 0104
Q98: 0104
A99: [ 합 계 ] | F99: =SUMIF(Q77:Q98,"0104",F77:F98) -> #REF! | H99: =SUMIF(Q77:Q98,"0104",H77:H98) -> #REF! | J99: =SUMIF(Q77:Q98,"0104",J77:J98) -> #REF! | L99: =SUMIF(Q77:Q98,"0104",L77:L98) -> #REF! | N99: TOTAL
A100: 0105 동력설비공사 | Q100: 0105
A101: 절연전선및피복선 | B101: 접지용비닐절연전선, FGV, 4㎟ | C101: m | D101: 139 | E101: =TRUNC(#REF!,0) -> #REF! | F101: =TRUNC(E101*D101, 0) -> #REF! | G101: =TRUNC(#REF!,0) -> #REF! | H101: =TRUNC(G101*D101, 0) -> #REF! | I101: =TRUNC(#REF!,0) -> #REF! | J101: =TRUNC(I101*D101, 0) -> #REF! | K101: =TRUNC(E101+G101+I101, 0) -> #REF! | L101: =TRUNC(F101+H101+J101, 0) -> #REF! | M101: 호표 21 | N101: 455974957E22E9B688961709E5FDD | Q101: 0105 | R101: T | S101: F | T101: F | AU101: 0105455974957E22E9B688961709E5FDD | AV101: 22
A102: 전력케이블 | B102: 600V폴리에틸렌케이블, 0.6/1kV, FCV, 2C×4㎟ | C102: m | D102: 96 | E102: =TRUNC(#REF!,0) -> #REF! | F102: =TRUNC(E102*D102, 0) -> #REF! | G102: =TRUNC(#REF!,0) -> #REF! | H102: =TRUNC(G102*D102, 0) -> #REF! | I102: =TRUNC(#REF!,0) -> #REF! | J102: =TRUNC(I102*D102, 0) -> #REF! | K102: =TRUNC(E102+G102+I102, 0) -> #REF! | L102: =TRUNC(F102+H102+J102, 0) -> #REF! | M102: 호표 22 | N102: 455974957E22E9B688961709E5D2F | Q102: 0105 | R102: T | S102: F | T102: F | AU102: 0105455974957E22E9B688961709E5D2F | AV102: 23
A103: 전력케이블 | B103: 600V폴리에틸렌케이블, 0.6/1kV, FCV, 4C×4㎟ | C103: m | D103: 43 | E103: =TRUNC(#REF!,0) -> #REF! | F103: =TRUNC(E103*D103, 0) -> #REF! | G103: =TRUNC(#REF!,0) -> #REF! | H103: =TRUNC(G103*D103, 0) -> #REF! | I103: =TRUNC(#REF!,0) -> #REF! | J103: =TRUNC(I103*D103, 0) -> #REF! | K103: =TRUNC(E103+G103+I103, 0) -> #REF! | L103: =TRUNC(F103+H103+J103, 0) -> #REF! | M103: 호표 23 | N103: 455974957E22E9B688961709E5B62 | Q103: 0105 | R103: T | S103: F | T103: F | AU103: 0105455974957E22E9B688961709E5B62 | AV103: 24
A104: 450/750V 저독성난연가교폴리올레핀절연전선 | B104: HFIX, 4 ㎟ | C104: m | D104: 90 | E104: =TRUNC(#REF!,0) -> #REF! | F104: =TRUNC(E104*D104, 0) -> #REF! | G104: =TRUNC(#REF!,0) -> #REF! | H104: =TRUNC(G104*D104, 0) -> #REF! | I104: =TRUNC(#REF!,0) -> #REF! | J104: =TRUNC(I104*D104, 0) -> #REF! | K104: =TRUNC(E104+G104+I104, 0) -> #REF! | L104: =TRUNC(F104+H104+J104, 0) -> #REF! | M104: 호표 24 | N104: 455974957E22E9B688961709E59B4 | Q104: 0105 | R104: T | S104: F | T104: F | AU104: 0105455974957E22E9B688961709E59B4 | AV104: 25
A105: 나사없는 전선관 커플링 | B105: E 31 | C105: 개 | D105: 25 | E105: =TRUNC(#REF!,0) -> #REF! | F105: =TRUNC(E105*D105, 0) -> #REF! | G105: =TRUNC(#REF!,0) -> #REF! | H105: =TRUNC(G105*D105, 0) -> #REF! | I105: =TRUNC(#REF!,0) -> #REF! | J105: =TRUNC(I105*D105, 0) -> #REF! | K105: =TRUNC(E105+G105+I105, 0) -> #REF! | L105: =TRUNC(F105+H105+J105, 0) -> #REF! | N105: 42FA74526F826912C28BA70A66509760154A1 | Q105: 0105 | R105: F | S105: F | T105: T | AU105: 010542FA74526F826912C28BA70A66509760154A1 | AV105: 26
A106: 전기함 | B106: 풀박스, HS2003, 100×100×100mm | C106: 개 | D106: 13 | E106: =TRUNC(#REF!,0) -> #REF! | F106: =TRUNC(E106*D106, 0) -> #REF! | G106: =TRUNC(#REF!,0) -> #REF! | H106: =TRUNC(G106*D106, 0) -> #REF! | I106: =TRUNC(#REF!,0) -> #REF! | J106: =TRUNC(I106*D106, 0) -> #REF! | K106: =TRUNC(E106+G106+I106, 0) -> #REF! | L106: =TRUNC(F106+H106+J106, 0) -> #REF! | M106: 호표 25 | N106: 455974957E22E9B688961709F67D5 | Q106: 0105 | R106: T | S106: F | T106: F | AU106: 0105455974957E22E9B688961709F67D5 | AV106: 27
A107: 스위치박스 | B107: 스위치박스, 1개용, 54mm | C107: 개 | D107: 2 | E107: =TRUNC(#REF!,0) -> #REF! | F107: =TRUNC(E107*D107, 0) -> #REF! | G107: =TRUNC(#REF!,0) -> #REF! | H107: =TRUNC(G107*D107, 0) -> #REF! | I107: =TRUNC(#REF!,0) -> #REF! | J107: =TRUNC(I107*D107, 0) -> #REF! | K107: =TRUNC(E107+G107+I107, 0) -> #REF! | L107: =TRUNC(F107+H107+J107, 0) -> #REF! | M107: 호표 17 | N107: 455974957E22E9B688961709F66CE | Q107: 0105 | R107: T | S107: F | T107: F | AU107: 0105455974957E22E9B688961709F66CE | AV107: 28
A108: 스위치박스 | B108: 스위치박스, 2개용, 54mm | C108: 개 | D108: 2 | E108: =TRUNC(#REF!,0) -> #REF! | F108: =TRUNC(E108*D108, 0) -> #REF! | G108: =TRUNC(#REF!,0) -> #REF! | H108: =TRUNC(G108*D108, 0) -> #REF! | I108: =TRUNC(#REF!,0) -> #REF! | J108: =TRUNC(I108*D108, 0) -> #REF! | K108: =TRUNC(E108+G108+I108, 0) -> #REF! | L108: =TRUNC(F108+H108+J108, 0) -> #REF! | M108: 호표 18 | N108: 455974957E22E9B688961709F614D | Q108: 0105 | R108: T | S108: F | T108: F | AU108: 0105455974957E22E9B688961709F614D | AV108: 29
A109: 아웃렛박스 | B109: 아웃렛박스, 커버, 4각, 1개용S/W, 오목 | C109: 개 | D109: 2 | E109: =TRUNC(#REF!,0) -> #REF! | F109: =TRUNC(E109*D109, 0) -> #REF! | G109: =TRUNC(#REF!,0) -> #REF! | H109: =TRUNC(G109*D109, 0) -> #REF! | I109: =TRUNC(#REF!,0) -> #REF! | J109: =TRUNC(I109*D109, 0) -> #REF! | K109: =TRUNC(E109+G109+I109, 0) -> #REF! | L109: =TRUNC(F109+H109+J109, 0) -> #REF! | N109: 42FA74526F826910145A1C095DA0E1327A62F | Q109: 0105 | R109: F | S109: F | T109: T | AU109: 010542FA74526F826910145A1C095DA0E1327A62F | AV109: 30
...

Sheet 공량산출근거서
A1: 공 량 산 출 근 거 서
A2: [ 잠사곤충시험장 잠실저장고 환경개선 및 비상관리시스템 구축공사 (전기) ]
A3: 코 드 | B3: 품 명 | C3: 규 격 | D3: 단위 | E3: 품 셈 목 록 | F3: 수 량 | G3: 할증 | H3: 노임할증-1 | I3: 노임할증-2 | J3: 노임할증-3 | K3: 내역수량 | L3: 직 종 명 | M3: 공 량 | N3: 계 | O3: 번 호 | P3: 비 고 | T3: 공종+자재
B4: 01 전력간선공사
B5: 02 철거공사
B6: 03 전등설비공사
B7: 04 전열설비공사
B8: 05 동력설비공사
B9: 06 통신설비공사

Sheet 공량설정
A1: 공종명 | B1: 적용율(%) | C1: 소수점이하자릿수 | D1: 공종코드
A2: 0101 전력간선공사 | B2: 100 | D2: 0101
A3: 0102 철거공사 | B3: 100 | D3: 0102
A4: 0103 전등설비공사 | B4: 100 | D4: 0103
A5: 0104 전열설비공사 | B5: 100 | D5: 0104
A6: 0105 동력설비공사 | B6: 100 | D6: 0105
A7: 0106 통신설비공사 | B7: 100 | D7: 0106

Sheet  공사설정 
A1: 이 Sheet는 수정하지 마십시요
A2: 공사구분 | B2: D | C2: 타이틀
A3: 확정내역 | B3: 원내역
A4: 자재단가적용 | B4: 5
A5: 경비단가적용 | B5: 5
A6: 품목코드형식 | B6: XXXX-XXXX-XXXXXXXXX
A7: 내역금액소수점처리 | B7: C | C7: 1
A8: 일위대가내역소수점처리 | B8: C | C8: 2
A9: 단가명 | B9: 조달청가격 | C9: 거래가격 | D9: 유통물가 | E9: 조사가격1 | F9: 조사가격2 | G9: TTTTT
A10: 환율 | B10: 1289 | C10: 0 | D10: 0
A11: 시간당작업량 | B11: R | C11: 4
A12: 1회 사이클시간 | B12: R | C12: 4
A13: 시간당 작업사이클 | B13: R | C13: 3
A14: 일반변수 | B14: R | C14: 5
A15: 시간당 노임산출 계수 | B15: A | C15: 1/8*16/12*25/20 | D15: 1/8*16/12*25/20 | E15: 1/8*16/12*25/20 | F15: 1
A16: 재료비 할증 계수 | B16: 1.11 | C16: 1.12
A17: 노무비 할증 계수 | B17: 1 | C17: 1.5 | D17: 1.16 | E17: 1.6 | F17: 1.6 | G17: 1.6 | H17: 1.94 | I17: 1.94 | J17: 1.94 | K17: 1 | L17: 1 | M17: 1
A18: 경비 할증 계수 | B18: 1.25 | C18: 1.071
A19: 내역,일위대가 품명,규격,단위 따로적용
A20: 내역단가 소수점처리 | B20: C | C20: 1
A21: 코드 | B21: 공종구분명 | C21: 원가비목코드
A22: 1 | B22: 작 업 부 산 물 | C22: A3
A23: 2 | B23: 운 반 비 | C23: C1
A24: 3 | B24: 관 급 자 재 비 | C24: DJ
A25: 4 | B25: 사 급 자 재 비 | C25: D3
A26: 5 | B26: 외 자 재
A27: 6 | B27: ...
A28: 7 | B28: ...
A29: 8 | B29: ...
A30: 9 | B30: ...
A31: A | B31: ....
A32: B | B32: .....
A33: C | B33: ....
A34: D | B34: ....
A35: E | B35: ....
A36: F | B36: ....
A37: G | B37: ....
A38: H | B38: ....
A39: I | B39: ....
A40: J | B40: ....
A43: 단가 순서 | B43: 1234

Sheet Sheet1
