Workbook

Sheet 총공사비집계표
A1: 총 공 사 비 집 계 표
A3: 공 종 | B3: 규 격 | C3: 수량 | D3: 단위 | E3: 합 계 | G3: 재 료 비 | I3: 노 무 비 | K3: 경 비 | M3: 비 고
E4: 단 가 | F4: 금 액 | G4: 단 가 | H4: 금 액 | I4: 단 가 | J4: 금 액 | K4: 단 가 | L4: 금 액
A5: 1. 금속공 | E5: =G5+I5+K5 -> 0 | F5: =H5+J5+L5 -> 0 | G5: 0 | H5: =내역서!H7 -> 0 | I5: 0 | J5: =내역서!J7 -> 0 | K5: 0 | L5: =내역서!L7 -> 0 | DM5: #B-3
A6: 2. 부대공 | E6: =G6+I6+K6 -> 0 | F6: =H6+J6+L6 -> 0 | G6: 0 | H6: =내역서!H55 -> 0 | I6: 0 | J6: =내역서!J55 -> 0 | K6: 0 | L6: =내역서!L55 -> 0 | DM6: #B-51
A7: 순공사비 | E7: =G7+I7+K7 -> 0 | F7: =H7+J7+L7 -> 0 | G7: 0 | H7: =SUM(H5:H6) -> 0 | I7: 0 | J7: =SUM(J5:J6) -> 0 | K7: 0 | L7: =SUM(L5:L6) -> 0 | DM7: %SUM | DN7: [1..2]
A8: 3. 간 접 노 무 비 | C8: 1 | D8: 식 | E8: =G8+I8+K8 -> 0 | F8: =#REF! -> #REF! | G8: 0 | H8: 0 | I8: 0 | J8: 0 | K8: 0 | L8: 0 | DM8: #W-5
A9: 4. 산 재 보 험 료 | C9: 1 | D9: 식 | E9: =G9+I9+K9 -> 0 | F9: =#REF! -> #REF! | G9: 0 | H9: 0 | I9: 0 | J9: 0 | K9: 0 | L9: 0 | DM9: #W-6
A10: 5. 고 용 보 험 료 | C10: 1 | D10: 식 | E10: =G10+I10+K10 -> 0 | F10: =#REF! -> #REF! | G10: 0 | H10: 0 | I10: 0 | J10: 0 | K10: 0 | L10: 0 | DM10: #W-7
A11: 6. 건 강 보 험 료 | C11: 1 | D11: 식 | E11: =G11+I11+K11 -> 0 | F11: =#REF! -> #REF! | G11: 0 | H11: 0 | I11: 0 | J11: 0 | K11: 0 | L11: 0 | DM11: #W-8
A12: 7. 연 금 보 험 료 | C12: 1 | D12: 식 | E12: =G12+I12+K12 -> 0 | F12: =#REF! -> #REF! | G12: 0 | H12: 0 | I12: 0 | J12: 0 | K12: 0 | L12: 0 | DM12: #W-9
A13: 8. 노인장기요양보험 | C13: 1 | D13: 식 | E13: =G13+I13+K13 -> 0 | F13: =#REF! -> #REF! | G13: 0 | H13: 0 | I13: 0 | J13: 0 | K13: 0 | L13: 0 | DM13: #W-10
A14: 9. 안 전 관 리 비 | C14: 1 | D14: 식 | E14: =G14+I14+K14 -> 0 | F14: =#REF! -> #REF! | G14: 0 | H14: 0 | I14: 0 | J14: 0 | K14: 0 | L14: 0 | DM14: #W-11
A15: 10. 환 경 보 전 비 | F15: =+#REF! -> #REF!
A16: 11. 기 타 경 비 | C16: 1 | D16: 식 | E16: =G16+I16+K16 -> 0 | F16: =#REF! -> #REF! | G16: 0 | H16: 0 | I16: 0 | J16: 0 | K16: 0 | L16: 0 | DM16: #W-12
A17: 12. 일 반 관 리 비 | C17: 1 | D17: 식 | E17: =G17+I17+K17 -> 0 | F17: =#REF! -> #REF! | G17: 0 | H17: 0 | I17: 0 | J17: 0 | K17: 0 | L17: 0 | DM17: #W-14
A18: 소 계 | E18: =G18+I18+K18 -> 0 | F18: =SUM(F7:F17) -> #REF! | G18: 0 | H18: 6187528 | I18: 0 | J18: 33452481 | K18: 0 | L18: 1147029 | DM18: %SUM-TOT | DN18: [3..12]
A19: 12. 이 윤 | C19: 1 | D19: 식 | E19: =G19+I19+K19 -> 0 | F19: =#REF! -> #REF! | G19: 0 | H19: 0 | I19: 0 | J19: 0 | K19: 0 | L19: 0 | DM19: #W-15
A20: 13. 사 급 자 재 대 | C20: 1 | D20: 식 | E20: =G20+I20+K20 -> 0 | F20: =#REF! -> #REF! | G20: 0 | H20: 0 | I20: 0 | J20: 0 | K20: 0 | L20: 0 | DM20: #W-16
A21: 14. 폐기물 처리비 | C21: 1 | D21: 식 | E21: =G21+I21+K21 -> 0 | F21: =#REF! -> #REF! | G21: 0 | H21: 0 | I21: 0 | J21: 0 | K21: 0 | L21: 0 | DM21: #W-17
A22: 총 원 가 | E22: =G22+I22+K22 -> 0 | F22: =SUM(F18:F21) -> #REF! | G22: 0 | H22: 6187528 | I22: 0 | J22: 33452481 | K22: 0 | L22: 1147029 | DM22: %SUM-TOT | DN22: [13..16]
A23: 15. 부 가 가 치 세 | C23: 1 | D23: 식 | E23: =G23+I23+K23 -> 0 | F23: =F22*0.1 -> #REF! | G23: 0 | H23: 6187528 | I23: 0 | J23: 33452481 | K23: 0 | L23: 1147029 | DM23: %SUM-TOT | DN23: [17] * 0.1
A24: 도 급 액 | C24: 1 | D24: 식 | E24: =G24+I24+K24 -> 0 | F24: =SUM(F22:F23) -> #REF! | G24: 0 | H24: 12375056 | I24: 0 | J24: 66904962 | K24: 0 | L24: 2294058 | DM24: %SUM-TOT | DN24: [17..18]

Sheet 설계설명서
A1: 설 계 설 명 서
A3: 1. 공 사 명 : | C3: 2026년 만안구 관내 도로시설물 보수공사(연간단가) 3차
A4: 2. 위 치 : | C4: 만안구 관내 일원
A5: 3. 목 적 : | C5: 도로부지 내 안전사고 예방을 위한 도로시설물(볼라드 및 시선유도봉 등) 신설과 기존 도로시설물인 난간 및 타일 등이 수시로 파손되어
C6: 도시미관을 저해할 뿐 아니라 각종 사고위험이 있어 도로시설물 연간단가 계약을 체결하여 신속한 정비를 하고자 함.
A8: 4. 공사개요
A9: 1) | B9: 볼라드 설치 및 철거, 정비 | F9: 200EA
A10: 2) | B10: 시선유도봉 설치 및 철거, 정비 | F10: 500EA
A11: 3) | B11: 휀스 설치 및 철거, 정비 | F11: 60경간
A12: 4) | B12: 석재판 및 타일 붙임 | F12: 20㎡
A14: 5. 본 공사는 본 설계도서 및 시방서에 의거 시공키로 한다.
A15: 6. 본 공사에 사용되는 관급자재는 없으며, 볼라드 등 정비는 지급자재를 사용한다.
A16: 7. 본 공사에 사용되는 주요사급자재는 설계도서를 참조 한다.
A17: 8. 본공사 공사기간은 착공일로부터 80일까지로 한다.
A18: 9. 본 공사는 차수별 작업지시서에 의해 작업을 시행하며, 긴급을 요하는 공사는 구두로 지시할 수 있다.
A19: 10. 본 공사는 작업지시 후 즉시 자재수급 후 공사를 착공하고, 지시일까지 작업완료하고 사진을 제출하여야 한다.
A20: 11. 설계변경조건
A21: 1) | B21: 본 공사는 조사 당시 수집된 자료에 의하여 추정한 것인바 조사가 불가능한 부분 및 조사 후 변경된 사항은 시공당시 현지에 맞추어 설계 변경한다.
A22: 2) | B22: 시공도중 발주청의 방침이 변경되었을 때
A23: 3) | B23: 만약 설계상 품셈적용 및 계산착오가 있을 때
A24: 12. 공사기간 변경조건
A25: 1) 공사기간 중의 강우일수가 과거 5개년 평균 강우일수보다 초과하였을 때
A26: 2) 천재지변으로 인하여 작업이 중단되었을 때
A27: 3) 발주청의 지시에 의하여 작업이 중단되었을 때
A28: 4) 기타 도급자의 책임에 의하지 않은 사유로 지체되었을 때
A29: 13. 만안구청 건설과에서는 현장 안전관리차원에서 개인보호안전장구 미착용시에는 현장 투입할 수 없도록 한다.
A30: ※ 안전관리비를 활용하여 안내현수막 제작(작업 현장 내 설치용)을 요함.
A31: 현수막 예시)
A32: " 우리시에서는 현장내 개인보호안전장구 미 착용자는 현장투입을 하지 않겠습니다."
I33: ○○회사 대표 ○○○.

Sheet 내역서
A1: 예 산 내 역 서
A3: 공 종 | B3: 규 격 | C3: 수 량 | D3: 단위 | E3: 합 계 | G3: 재 료 비 | I3: 노 무 비 | K3: 경 비 | M3: 낙찰율(%) | N3: 비 고
E4: 단 가 | F4: 금 액 | G4: 단 가 | H4: 금 액 | I4: 단 가 | J4: 금 액 | K4: 단 가 | L4: 금 액
A5: *.순공사비 | C5: 0
C6: 0
A7: 1.금속공 | C7: 0
A8: 볼라드 정비 | B8: Ø116×1050mm | C8: 100 | D8: EA
A9: 볼라드 설치 | B9: Ø116×1050mm | C9: 70 | D9: EA
A10: 볼라드 철거 | B10: Ø116×1050mm | C10: 30 | D10: EA
A11: 말굽형 차량진입 방지시설 설치 | B11: SUS Ø101.6×2T | C11: 5 | D11: EA
A12: 말굽형 차량진입 방지시설 정비 | B12: SUS Ø101.6×2T | C12: 5 | D12: EA
A13: 말굽형 차량진입 방지시설 철거 | B13: SUS Ø101.6×2T | C13: 2 | D13: EA
A14: 타일 붙임(벽면) | B14: 200×200mm | C14: 5 | D14: m²
A15: 타일 붙임(바닥) | B15: 200×200mm | C15: 5 | D15: m²
A16: 석재판 붙임(바닥) | B16: 화강석 | C16: 5 | D16: m²
A17: 석재판 붙임(계단부) | B17: 화강석 | C17: 5 | D17: m²
A18: 계단논슬립 설치 | B18: 1.2×0.059 | C18: 5 | D18: m
A19: 계단논슬립 제거 | C19: 5 | D19: m
A20: 메쉬휀스 보수 | B20: 1500×2000mm | C20: 1 | D20: 경간
A21: 디자인 휀스 설치 | C21: 5 | D21: 경간
A22: 디자인 휀스 철거 | C22: 3 | D22: 경간
A23: 핸드레일 보수 | B23: Ø31.8×1.5T | C23: 3 | D23: m
A24: 핸드레일 보수 | B24: Ø50.8×1.5T | C24: 3 | D24: m
A25: 전기 아크용접 | B25: 25mm | C25: 5 | D25: 개소
A26: 전기 아크용접 | B26: 50mm | C26: 5 | D26: 개소
A27: 교통안내표지 설치 | B27: Ø60.5~76.3×3.2×3000~3600mm | C27: 5 | D27: EA
A28: 교통안내표지 철거 | B28: Ø60.5~76.3×3.2×3000~3600mm | C28: 3 | D28: EA
A29: 안내표지판 교체 | B29: 1.2×450×450mm | C29: 3 | D29: EA
A30: 도로반사경 설치공(단면) | B30: Ø800~1000mm | C30: 10 | D30: EA
A31: 도로반사경 설치공(양면) | B31: Ø800~1000mm | C31: 5 | D31: EA
A32: 도로반사경 교체공 | C32: 8 | D32: EA
A33: 도로반사경 철거공(단면) | C33: 2 | D33: EA
A34: 도로반사경 철거공(양면) | C34: 1 | D34: EA
A35: 방음벽 앵커볼트 설치 | B35: 지주3m, 지주간격2m | C35: 1 | D35: 개소
A36: 방음벽 지주설치 및 해체 | B36: 지주3m, 지주간격2m | C36: 1 | D36: 개소
A37: 방음판 설치 및 해체 | B37: 지주3m, 지주간격2m | C37: 1 | D37: 개소
A38: 도로표지병 설치 | B38: 일반 분리대병 | C38: 1 | D38: EA
A39: 시선유도봉 설치 | C39: 100 | D39: EA
A40: 시선유도봉 철거 | C40: 100 | D40: EA
A41: 시선유도봉 정비 | C41: 300 | D41: EA
...
