Workbook

Sheet 원가계산서(총괄)
B1: 공 사 원 가 계 산 서
B2: 공사명 : 성저초 외 12교 교목전정공사[6권역] | F2: ="금액:"&NUMBERSTRING(E28,1)&"원" -> 금액:영원
B3: 비 목 | E3: 금 액 | F3: 구 성 비 | G3: 비 고
A4: A1 | B4: 순 공 사 원 가 | C4: 재 료 비 | D4: 직 접 재 료 비
A5: A2 | D5: 간 접 재 료 비
A6: A3 | D6: 작업설, 부산물(△)
A7: AS | D7: [ 소 계 ]
A8: B1 | C8: 노 무 비 | D8: 직 접 노 무 비
A9: B2 | D9: 간 접 노 무 비 | F9: 직접노무비 * 18.4%
A10: BS | D10: [ 소 계 ]
C11: 경 비 | D11: 폐 기 물 처 리 비
A12: C2 | D12: 기 계 경 비
A13: C4 | D13: 산 재 보 험 료 | F13: 노무비 * 3.56%
A14: C5 | D14: 고 용 보 험 료 | F14: 노무비 * 1.01%
D15: 산업안전보건관리비 | F15: (재+직노)*2.07%
D16: 환 경 보 전 비 | F16: (직접공사비) * 0.3%
A17: CH | D17: 기 타 경 비 | F17: (재료비+노무비) * 4.9%
D18: 하도급지급보증서발급수수료 | F18: (직접공사비) * 0.081%
D19: 건설기계대여금 지급보증서 발급수수료 | F19: (직접공사비)*0.16%
D20: 석면피해구제분담금 | F20: (노무비) * 0.006%
D21: 임 금 채 권 부 담 금 | F21: (노무비) * 0.09%
A22: CG | D22: [ 소 계 ]
A23: CK | B23: 계
A24: CL | B24: 일 반 관 리 비 | F24: 계 * 8%
A25: CS | B25: 이 윤 | F25: (노무비+경비+일반관리비) * 15%
A26: D1 | B26: 공 급 가 액
A27: D2 | B27: 부 가 가 치 세 | F27: 공급가액 * 10%
A28: D3 | B28: 도 급 액
A29: D9 | B29: 총 공 사 비

Sheet 공종별집계표
A1: 공 종 별 집 계 표
A2: ='원가계산서(총괄)'!B2 -> 공사명 : 성저초 외 12교 교목전정공사[6권역]
A3: 품 명 | B3: 규 격 | C3: 단위 | D3: 수량 | E3: 재 료 비 | G3: 노 무 비 | I3: 경 비 | K3: 합 계 | M3: 비 고 | N3: 공종코드 | O3: 변수 | P3: 상위공종 | Q3: 공종구분 | R3: 공종레벨 | S3: 공종소계 | T3: 원가계산서 연결금액
E4: 단 가 | F4: 금 액 | G4: 단 가 | H4: 금 액 | I4: 단 가 | J4: 금 액 | K4: 단 가 | L4: 금 액
A5: 01 수목전정 | N5: 01 | R5: 1
A6: 0101 조형전정 인력시공 | C6: 식 | D6: 1 | N6: 0102 | P6: 01 | R6: 2
A7: 0102 조형 전정 기계시공(낙엽수) | C7: 식 | D7: 1 | N7: 0103 | P7: 01 | R7: 2
A8: 0103 조형 전정 기계시공(상록수) | C8: 식 | D8: 1 | N8: 0104 | P8: 01 | R8: 2
A9: 0104 가로수 약전정 기계시공 | C9: 식 | D9: 1 | N9: 0105 | P9: 01 | R9: 2
A10: 0105 가로수 강전정 기계시공 | C10: 식 | D10: 1
A11: 0106 가로수 조형전정 기계시공 | C11: 식 | D11: 1
A12: 0107 나무베기 기계시공 | C12: 식 | D12: 1
A13: 0108 뿌리제거 기계시공 | C13: 식 | D13: 1
A14: 0109 소나무 조형전정 기계시공 | C14: 식 | D14: 1
A15: 0110 소나무 전정(반송) | C15: 식 | D15: 1
A16: 0111 등나무 전정 및 잡목제거 | C16: 식 | D16: 1
A17: 0112 신호수,교통정리,안전처리 | C17: 식 | D17: 1
A18: 0113 폐기물 처리비 | C18: 식 | D18: 1
A19: [ 합 계 ]

Sheet 공종별내역서
A1: 공 종 별 내 역 서
A2: 품 명 | B2: 규 격 흉고직경 | C2: 단위 | D2: 수량 | E2: 재 료 비 | G2: 노 무 비 | I2: 경 비 | K2: 합 계 | M2: 품목코드 | N2: 변수 | O2: 설정 | P2: 공종코드 | Q2: 일위 | R2: 단산 | S2: 자재 | T2: 손료적용 | U2: 손료저장 | V2: 적용율 | W2: JUK1 | X2: JUK2 | Y2: JUK3 | Z2: JUK4 | AA2: JUK5 | AB2: JUK6 | AC2: JUK7 | AD2: JUK8 | AE2: JUK9 | AF2: JUK10 | AG2: JUK11 | AH2: JUK12 | AI2: JUK13 | AJ2: JUK14 | AK2: JUK15 | AL2: JUK16 | AM2: JUK17 | AN2: JUK18 | AO2: JUK19 | AP2: JUK20 | AQ2: 자재구분 | AR2: 공종구분 | AS2: 공종레벨 | AT2: 공종+자재 | AU2: 고유번호
E3: 단 가 | F3: 금 액 | G3: 단 가 | H3: 금 액 | I3: 단 가 | J3: 금 액 | K3: 단 가 | L3: 금 액
A4: 0101 조형전정 인력시공 | P4: 0102
A5: 조형 전정 인력시공(낙엽수) | B5: 11cm 미만 | C5: 주 | D5: 0 | M5: 50B3D18B3B12AB5FA2A39D9B013E19 | P5: 0102 | Q5: T | R5: F | S5: F | AT5: 010250B3D18B3B12AB5FA2A39D9B013E19 | AU5: 50
A6: 조형 전정 인력시공(낙엽수) | B6: 11~21cm 미만 | C6: 주 | D6: 0 | M6: 50B3D18B3B12AB5FA2A39D9B001816 | P6: 0102 | Q6: T | R6: F | S6: F | AT6: 010250B3D18B3B12AB5FA2A39D9B001816 | AU6: 51
A7: 조형 전정 인력시공(낙엽수) | B7: 21~31cm 미만 | C7: 주 | D7: 0 | M7: 50B3D18B3B12AB5FA2A39D9B0747E5 | P7: 0102 | Q7: T | R7: F | S7: F | AT7: 010250B3D18B3B12AB5FA2A39D9B0747E5 | AU7: 52
A8: 조형 전정 인력시공(상록수) | B8: 11cm 미만 | C8: 주 | D8: 2 | M8: 50B3D18B3B12AB5FA2A39D9B06A07B | P8: 0102 | Q8: T | R8: F | S8: F | AT8: 010250B3D18B3B12AB5FA2A39D9B06A07B | AU8: 53
A9: 조형 전정 인력시공(상록수) | B9: 11~21cm 미만 | C9: 주 | D9: 2 | M9: 50B3D18B3B12AB5FA2A39D9B059909 | P9: 0102 | Q9: T | R9: F | S9: F | AT9: 010250B3D18B3B12AB5FA2A39D9B059909 | AU9: 54
A10: 조형 전정 인력시공(상록수) | B10: 21~31cm 미만 | C10: 주 | D10: 0 | M10: 50B3D18B3B12AB5FA2A3AF9AD6AD64 | P10: 0102 | Q10: T | R10: F | S10: F | AT10: 010250B3D18B3B12AB5FA2A3AF9AD6AD64 | AU10: 55
A11: [ 합 계 ] | D11: 4 | M11: TOTAL
A13: 0102 조형전정 기계시공 | P13: 0103
A14: 조형 전정 기계시공(낙엽수) | B14: 11~21cm 미만 | C14: 주 | D14: 10 | M14: 50B3D18B3B12AB5FA0F3A5978A3E91 | P14: 0103 | Q14: T | R14: F | S14: F | AT14: 010350B3D18B3B12AB5FA0F3A5978A3E91 | AU14: 61
A15: 조형 전정 기계시공(낙엽수) | B15: 21~31cm 미만 | C15: 주 | D15: 12 | M15: 50B3D18B3B12AB5FA0F3A594362088 | P15: 0103 | Q15: T | R15: F | S15: F | AT15: 010350B3D18B3B12AB5FA0F3A594362088 | AU15: 62
A16: 조형 전정 기계시공(낙엽수) | B16: 31~41cm 미만 | C16: 주 | D16: 1 | M16: 50B3D18B3B12AB5FA0F3A595DC42B1 | P16: 0103 | Q16: T | R16: F | S16: F | AT16: 010350B3D18B3B12AB5FA0F3A595DC42B1 | AU16: 63
A17: 조형 전정 기계시공(낙엽수) | B17: 41~51cm 미만 | C17: 주 | D17: 0 | M17: 50B3D18B3B12AB5FA0F3A59208250E | P17: 0103 | Q17: T | R17: F | S17: F | AT17: 010350B3D18B3B12AB5FA0F3A59208250E | AU17: 64
A18: 조형 전정 기계시공(낙엽수) | B18: 51~61cm 미만 | C18: 주 | D18: 0 | M18: 50B3D18B3B12AB5FA0F3A59311C45A | P18: 0103 | Q18: T | R18: F | S18: F | AT18: 010350B3D18B3B12AB5FA0F3A59311C45A | AU18: 65
A19: 조형 전정 기계시공(낙엽수) | B19: 61cm 초과 | C19: 주 | D19: 0 | M19: TOTAL
A20: [ 합 계 ] | D20: 23
A22: 조형 전정 기계시공(상록수) | B22: 11~21cm 미만 | C22: 주 | D22: 31 | M22: 50B3D18B3B12AB5FA0F3A596E5617B | P22: 0104 | Q22: T | R22: F | S22: F | AT22: 010450B3D18B3B12AB5FA0F3A596E5617B | AU22: 81
A23: 조형 전정 기계시공(상록수) | B23: 21~31cm 미만 | C23: 주 | D23: 30 | M23: 50B3D18B3B12AB5FA0F3A596E5617A | P23: 0104 | Q23: T | R23: F | S23: F | AT23: 010450B3D18B3B12AB5FA0F3A596E5617A | AU23: 82
A24: 조형 전정 기계시공(상록수) | B24: 31~41cm 미만 | C24: 주 | D24: 6 | M24: 50B3D18B3B12AB5FA0F3A596E56175 | P24: 0104 | Q24: T | R24: F | S24: F | AT24: 010450B3D18B3B12AB5FA0F3A596E56175 | AU24: 83
A25: 조형 전정 기계시공(상록수) | B25: 41~51cm 미만 | C25: 주 | D25: 0 | M25: 50B3D18B3B12AB5FA0F3A596E56174 | P25: 0104 | Q25: T | R25: F | S25: F | AT25: 010450B3D18B3B12AB5FA0F3A596E56174 | AU25: 84
A26: 조형 전정 기계시공(상록수) | B26: 51~61cm 미만 | C26: 주 | D26: 0 | M26: 50B3D18B3B12AB5FA0F3A596E56056 | P26: 0104 | Q26: T | R26: F | S26: F | AT26: 010450B3D18B3B12AB5FA0F3A596E56056 | AU26: 85
A27: 조형 전정 기계시공(상록수) | B27: 61cm 초과 | C27: 주 | D27: 0 | M27: TOTAL
A28: [ 합 계 ] | D28: 67
A30: 0103 가로수 전정
A31: 가로수전정 (약전정) 기계시공 | B31: 11cm 미만 | C31: 주 | D31: 107
A32: 가로수전정 (약전정) 기계시공 | B32: 11~21cm 미만 | C32: 주 | D32: 25
A33: 가로수전정 (약전정) 기계시공 | B33: 21~31cm 미만 | C33: 주 | D33: 0
A34: 가로수전정 (약전정) 기계시공 | B34: 31~41cm 미만 | C34: 주 | D34: 10
A35: 가로수전정 (약전정) 기계시공 | B35: 41~51cm 미만 | C35: 주 | D35: 4
A36: 가로수전정 (약전정) 기계시공 | B36: 51~61cm 미만 | C36: 주 | D36: 15
A37: 가로수전정 (약전정) 기계시공 | B37: 61cm 초과 | C37: 주 | D37: 0
A38: [ 합 계 ] | D38: 161
A40: 가로수전정 (강전정) 기계시공 | B40: 11cm 미만 | C40: 주 | D40: 8
A41: 가로수전정 (강전정) 기계시공 | B41: 11~21cm 미만 | C41: 주 | D41: 56
A42: 가로수전정 (강전정) 기계시공 | B42: 21~31cm 미만 | C42: 주 | D42: 38
A43: 가로수전정 (강전정) 기계시공 | B43: 31~41cm 미만 | C43: 주 | D43: 23
A44: 가로수전정 (강전정) 기계시공 | B44: 41~51cm 미만 | C44: 주 | D44: 3
A45: 가로수전정 (강전정) 기계시공 | B45: 51~61cm 미만 | C45: 주 | D45: 0
A46: 가로수전정 (강전정) 기계시공 | B46: 61cm 초과 | C46: 주 | D46: 1
A47: [ 합 계 ] | D47: 129
A49: 가로수전정 (조형전정) 기계시공 | B49: 11cm 미만 | C49: 주 | D49: 0
A50: 가로수전정 (조형전정) 기계시공 | B50: 11~21cm 미만 | C50: 주 | D50: 0
A51: 가로수전정 (조형전정) 기계시공 | B51: 21~31cm 미만 | C51: 주 | D51: 0
A52: 가로수전정 (조형전정) 기계시공 | B52: 31~41cm 미만 | C52: 주 | D52: 0
A53: 가로수전정 (조형전정) 기계시공 | B53: 41~51cm 미만 | C53: 주 | D53: 0
A54: 가로수전정 (조형전정) 기계시공 | B54: 51~61cm 미만 | C54: 주 | D54: 0
A55: 가로수전정 (조형전정) 기계시공 | B55: 61cm 초과 | C55: 주 | D55: 0
A56: [ 합 계 ] | D56: 0
A58: 0104 나무베기
A59: 나무베기 기계시공 | B59: 11cm 미만 | C59: 주 | D59: 6
A60: 나무베기 기계시공 | B60: 11~21cm 미만 | C60: 주 | D60: 1
A61: 나무베기 기계시공 | B61: 21~31cm 미만 | C61: 주 | D61: 0
A62: 나무베기 기계시공 | B62: 31~41cm 미만 | C62: 주 | D62: 4
A63: 나무베기 기계시공 | B63: 41~51cm 미만 | C63: 주 | D63: 0
A64: 나무베기 기계시공 | B64: 51~61cm 미만 | C64: 주 | D64: 0
A65: 나무베기 기계시공 | B65: 61cm 초과 | C65: 주 | D65: 0
A66: [ 합 계 ] | D66: 11
A68: 0105 뿌리제거
A69: 뿌리제거 기계시공 | B69: 11cm 미만 | C69: 주 | D69: 0
A70: 뿌리제거 기계시공 | B70: 11~21cm 미만 | C70: 주 | D70: 0
A71: 뿌리제거 기계시공 | B71: 21~31cm 미만 | C71: 주 | D71: 0
A72: 뿌리제거 기계시공 | B72: 31~41cm 미만 | C72: 주 | D72: 0
A73: 뿌리제거 기계시공 | B73: 41~51cm 미만 | C73: 주 | D73: 0
A74: 뿌리제거 기계시공 | B74: 51~61cm 미만 | C74: 주 | D74: 0
A75: 뿌리제거 기계시공 | B75: 61cm 초과 | C75: 주 | D75: 0
A76: [ 합 계 ] | D76: 0
A78: 0106 소나무 전정
A79: 소나무전정 (조형전정) 기계시공 | B79: 11cm 미만 | C79: 주 | D79: 16 | P79: 0105
A80: 소나무전정 (조형전정) 기계시공 | B80: 11~21cm 미만 | C80: 주 | D80: 37 | M80: 50B3D18B3B12AB5FA0F3A5978A3E92 | P80: 0105 | Q80: T | R80: F | S80: F | AT80: 010550B3D18B3B12AB5FA0F3A5978A3E92 | AU80: 87
A81: 소나무전정 (조형전정) 기계시공 | B81: 21~31cm 미만 | C81: 주 | D81: 31 | M81: 50B3D18B3B12AB5FA0F3A5943621AC | P81: 0105 | Q81: T | R81: F | S81: F | AT81: 010550B3D18B3B12AB5FA0F3A5943621AC | AU81: 88
A82: 소나무전정 (조형전정) 기계시공 | B82: 31~41cm 미만 | C82: 주 | D82: 11 | M82: 50B3D18B3B12AB5FA0F394996ABFA1 | P82: 0105 | Q82: T | R82: F | S82: F | AT82: 010550B3D18B3B12AB5FA0F394996ABFA1 | AU82: 91
A83: 소나무전정 (조형전정) 기계시공 | B83: 41~51cm 미만 | C83: 주 | D83: 5 | M83: 50B3D18B3B12AB5FA0F394996ABFA0 | P83: 0105 | Q83: T | R83: F | S83: F | AT83: 010550B3D18B3B12AB5FA0F394996ABFA0 | AU83: 89
A84: 소나무전정 (조형전정) 기계시공 | B84: 51~61cm 미만 | C84: 주 | D84: 0 | M84: 50B3D18B3B12AB5FA0F394996ABFAF | P84: 0105 | Q84: T | R84: F | S84: F | AT84: 010550B3D18B3B12AB5FA0F394996ABFAF | AU84: 90
A85: 소나무전정 (조형전정) 기계시공 | B85: 61cm 초과 | C85: 주 | D85: 0 | M85: TOTAL
A86: [ 합 계 ] | D86: 100
A88: 0107 소나무 전정(반송) | P88: 0107
A89: 소나무전정 (반송) | B89: 솎아내기 포함 (수관) 1.5m이하 | C89: 주 | D89: 5 | M89: 509ED18539C97C5005330B9408C7B3 | P89: 0107 | Q89: F | R89: F | S89: T | AT89: 0107509ED18539C97C5005330B9408C7B3 | AU89: 35
A90: 소나무전정 (반송) | B90: 솎아내기 포함 (작업량이 많음) (수관) 1.5m이하 | C90: 주 | D90: 6 | M90: TOTAL
A91: 소나무전정 (반송) | B91: 솎아내기 포함 (수관) 1.5m이상 | C91: 주 | D91: 15
A92: 소나무전정 (반송) | B92: 솎아내기 포함 (작업량이 많음) (수관) 1.5m이상 | C92: 주 | D92: 36
A93: [ 합 계 ] | D93: 62
A95: 0108 등나무 전정 및 잡목제거
A96: 등나무 전정 | B96: 1m2당 | C96: ㎡ | D96: 0
A97: 잡목제거 | B97: 1m2당 | C97: ㎡ | D97: 300
A98: [ 합 계 ]
A100: 0109 신호수, 교통정리, 안전처리
A101: 신호수, 교통정리, 안전처리 | B101: 보통인부2인 | C101: 1일 | D101: 0
A102: [ 합 계 ]
A104: 0110 폐기물 처리비
A105: 임목 폐기물 | B105: 운반+상차+처리 | C105: KG | D105: 32925.43
A106: 교목전정 | B106: 수량합계 | D106: 557

Sheet 1-1
A1: 공 종 별 내 역 서
A2: =#REF! -> #REF! | B2: 규 격 흉고직경 | C2: 단위 | D2: 수량 | E2: 재 료 비 | G2: 노 무 비 | I2: 경 비 | K2: 합 계 | M2: 품목코드 | N2: 변수 | O2: 설정 | P2: 공종코드 | Q2: 일위 | R2: 단산 | S2: 자재 | T2: 손료적용 | U2: 손료저장 | V2: 적용율 | W2: JUK1 | X2: JUK2 | Y2: JUK3 | Z2: JUK4 | AA2: JUK5 | AB2: JUK6 | AC2: JUK7 | AD2: JUK8 | AE2: JUK9 | AF2: JUK10 | AG2: JUK11 | AH2: JUK12 | AI2: JUK13 | AJ2: JUK14 | AK2: JUK15 | AL2: JUK16 | AM2: JUK17 | AN2: JUK18 | AO2: JUK19 | AP2: JUK20 | AQ2: 자재구분 | AR2: 공종구분 | AS2: 공종레벨 | AT2: 공종+자재 | AU2: 고유번호
A3: 품 명 | E3: 단 가 | F3: 금 액 | G3: 단 가 | H3: 금 액 | I3: 단 가 | J3: 금 액 | K3: 단 가 | L3: 금 액
A4: 0101 조형전정 인력시공 | P4: 0102
A5: 조형 전정 인력시공(낙엽수) | B5: 11cm 미만 | C5: 주 | D5: =#REF! -> #REF! | E5: =#REF! -> #REF! | F5: =TRUNC(D5*E5) -> #REF! | G5: =#REF! -> #REF! | H5: =TRUNC(D5*G5) -> #REF! | I5: =#REF! -> #REF! | J5: =TRUNC(D5*I5) -> #REF! | K5: =#REF! -> #REF! | L5: =SUM(F5+H5+J5) -> #REF! | M5: 50B3D18B3B12AB5FA2A39D9B013E19 | P5: 0102 | Q5: T | R5: F | S5: F | AT5: 010250B3D18B3B12AB5FA2A39D9B013E19 | AU5: 50
A6: 조형 전정 인력시공(낙엽수) | B6: 11~21cm 미만 | C6: 주 | D6: =#REF! -> #REF! | E6: =#REF! -> #REF! | F6: =TRUNC(D6*E6) -> #REF! | G6: =#REF! -> #REF! | H6: =TRUNC(D6*G6) -> #REF! | I6: =#REF! -> #REF! | J6: =TRUNC(D6*I6) -> #REF! | K6: =#REF! -> #REF! | L6: =SUM(F6+H6+J6) -> #REF! | M6: 50B3D18B3B12AB5FA2A39D9B001816 | P6: 0102 | Q6: T | R6: F | S6: F | AT6: 010250B3D18B3B12AB5FA2A39D9B001816 | AU6: 51
A7: 조형 전정 인력시공(낙엽수) | B7: 21~31cm 미만 | C7: 주 | D7: =#REF! -> #REF! | E7: =#REF! -> #REF! | F7: =TRUNC(D7*E7) -> #REF! | G7: =#REF! -> #REF! | H7: =TRUNC(D7*G7) -> #REF! | I7: =#REF! -> #REF! | J7: =TRUNC(D7*I7) -> #REF! | K7: =#REF! -> #REF! | L7: =SUM(F7+H7+J7) -> #REF! | M7: 50B3D18B3B12AB5FA2A39D9B0747E5 | P7: 0102 | Q7: T | R7: F | S7: F | AT7: 010250B3D18B3B12AB5FA2A39D9B0747E5 | AU7: 52
A8: 조형 전정 인력시공(상록수) | B8: 11cm 미만 | C8: 주 | D8: =#REF! -> #REF! | E8: =#REF! -> #REF! | F8: =TRUNC(D8*E8) -> #REF! | G8: =#REF! -> #REF! | H8: =TRUNC(D8*G8) -> #REF! | I8: =#REF! -> #REF! | J8: =TRUNC(D8*I8) -> #REF! | K8: =#REF! -> #REF! | L8: =SUM(F8+H8+J8) -> #REF! | M8: 50B3D18B3B12AB5FA2A39D9B06A07B | P8: 0102 | Q8: T | R8: F | S8: F | AT8: 010250B3D18B3B12AB5FA2A39D9B06A07B | AU8: 53
A9: 조형 전정 인력시공(상록수) | B9: 11~21cm 미만 | C9: 주 | D9: =#REF! -> #REF! | E9: =#REF! -> #REF! | F9: =TRUNC(D9*E9) -> #REF! | G9: =#REF! -> #REF! | H9: =TRUNC(D9*G9) -> #REF! | I9: =#REF! -> #REF! | J9: =TRUNC(D9*I9) -> #REF! | K9: =#REF! -> #REF! | L9: =SUM(F9+H9+J9) -> #REF! | M9: 50B3D18B3B12AB5FA2A39D9B059909 | P9: 0102 | Q9: T | R9: F | S9: F | AT9: 010250B3D18B3B12AB5FA2A39D9B059909 | AU9: 54
A10: 조형 전정 인력시공(상록수) | B10: 21~31cm 미만 | C10: 주 | D10: =#REF! -> #REF! | E10: =#REF! -> #REF! | F10: =TRUNC(D10*E10) -> #REF! | G10: =#REF! -> #REF! | H10: =TRUNC(D10*G10) -> #REF! | I10: =#REF! -> #REF! | J10: =TRUNC(D10*I10) -> #REF! | K10: =#REF! -> #REF! | L10: =SUM(F10+H10+J10) -> #REF! | M10: 50B3D18B3B12AB5FA2A3AF9AD6AD64 | P10: 0102 | Q10: T | R10: F | S10: F | AT10: 010250B3D18B3B12AB5FA2A3AF9AD6AD64 | AU10: 55
A11: [ 합 계 ] | D11: =SUM(D5:D10) -> #REF! | F11: =SUM(F5:F10) -> #REF! | H11: =SUM(H5:H10) -> #REF! | J11: =SUM(J5:J10) -> #REF! | L11: =SUM(L5:L10) -> #REF! | M11: TOTAL
A13: 0102 조형전정 기계시공 | P13: 0103
A14: 조형 전정 기계시공(낙엽수) | B14: 11~21cm 미만 | C14: 주 | D14: =#REF! -> #REF! | E14: =#REF! -> #REF! | F14: =TRUNC(D14*E14) -> #REF! | G14: =#REF! -> #REF! | H14: =TRUNC(D14*G14) -> #REF! | I14: =#REF! -> #REF! | J14: =TRUNC(D14*I14) -> #REF! | K14: =#REF! -> #REF! | L14: =SUM(F14+H14+J14) -> #REF! | M14: 50B3D18B3B12AB5FA0F3A5978A3E91 | P14: 0103 | Q14: T | R14: F | S14: F | AT14: 010350B3D18B3B12AB5FA0F3A5978A3E91 | AU14: 61
A15: 조형 전정 기계시공(낙엽수) | B15: 21~31cm 미만 | C15: 주 | D15: =#REF! -> #REF! | E15: =#REF! -> #REF! | F15: =TRUNC(D15*E15) -> #REF! | G15: =#REF! -> #REF! | H15: =TRUNC(D15*G15) -> #REF! | I15: =#REF! -> #REF! | J15: =TRUNC(D15*I15) -> #REF! | K15: =#REF! -> #REF! | L15: =IFERROR(TRUNC(F15+H15+J15,0),0) -> 0 | M15: 50B3D18B3B12AB5FA0F3A594362088 | P15: 0103 | Q15: T | R15: F | S15: F | AT15: 010350B3D18B3B12AB5FA0F3A594362088 | AU15: 62
A16: 조형 전정 기계시공(낙엽수) | B16: 31~41cm 미만 | C16: 주 | D16: =#REF! -> #REF! | E16: =#REF! -> #REF! | F16: =TRUNC(D16*E16) -> #REF! | G16: =#REF! -> #REF! | H16: =TRUNC(D16*G16) -> #REF! | I16: =#REF! -> #REF! | J16: =TRUNC(D16*I16) -> #REF! | K16: =#REF! -> #REF! | L16: =IFERROR(TRUNC(F16+H16+J16,0),0) -> 0 | M16: 50B3D18B3B12AB5FA0F3A595DC42B1 | P16: 0103 | Q16: T | R16: F | S16: F | AT16: 010350B3D18B3B12AB5FA0F3A595DC42B1 | AU16: 63
A17: 조형 전정 기계시공(낙엽수) | B17: 41~51cm 미만 | C17: 주 | D17: =#REF! -> #REF! | E17: =#REF! -> #REF! | F17: =TRUNC(D17*E17) -> #REF! | G17: =#REF! -> #REF! | H17: =TRUNC(D17*G17) -> #REF! | I17: =#REF! -> #REF! | J17: =TRUNC(D17*I17) -> #REF! | K17: =#REF! -> #REF! | L17: =IFERROR(TRUNC(F17+H17+J17,0),0) -> 0 | M17: 50B3D18B3B12AB5FA0F3A59208250E | P17: 0103 | Q17: T | R17: F | S17: F | AT17: 010350B3D18B3B12AB5FA0F3A59208250E | AU17: 64
A18: 조형 전정 기계시공(낙엽수) | B18: 51~61cm 미만 | C18: 주 | D18: =#REF! -> #REF! | E18: =#REF! -> #REF! | F18: =TRUNC(D18*E18) -> #REF! | G18: =#REF! -> #REF! | H18: =TRUNC(D18*G18) -> #REF! | I18: =#REF! -> #REF! | J18: =TRUNC(D18*I18) -> #REF! | K18: =#REF! -> #REF! | L18: =IFERROR(TRUNC(F18+H18+J18,0),0) -> 0 | M18: 50B3D18B3B12AB5FA0F3A59311C45A | P18: 0103 | Q18: T | R18: F | S18: F | AT18: 010350B3D18B3B12AB5FA0F3A59311C45A | AU18: 65
A19: 조형 전정 기계시공(낙엽수) | B19: 61cm 초과 | C19: 주 | D19: =#REF! -> #REF! | E19: =#REF! -> #REF! | F19: =TRUNC(D19*E19) -> #REF! | G19: =#REF! -> #REF! | H19: =TRUNC(D19*G19) -> #REF! | I19: =#REF! -> #REF! | J19: =TRUNC(D19*I19) -> #REF! | K19: =#REF! -> #REF! | L19: =SUM(L14:L18) -> #REF! | M19: TOTAL
A20: [ 합 계 ] | D20: =SUM(D14:D19) -> #REF! | F20: =SUM(F14:F19) -> #REF! | H20: =SUM(H14:H19) -> #REF! | J20: =SUM(J14:J19) -> #REF! | L20: =SUM(L14:L19) -> #REF!
A22: 조형 전정 기계시공(상록수) | B22: 11~21cm 미만 | C22: 주 | D22: =#REF! -> #REF! | E22: =#REF! -> #REF! | F22: =TRUNC(D22*E22) -> #REF! | G22: =#REF! -> #REF! | H22: =TRUNC(D22*G22) -> #REF! | I22: =#REF! -> #REF! | J22: =TRUNC(D22*I22) -> #REF! | K22: =#REF! -> #REF! | L22: =SUM(F22+H22+J22) -> #REF! | M22: 50B3D18B3B12AB5FA0F3A596E5617B | P22: 0104 | Q22: T | R22: F | S22: F | AT22: 010450B3D18B3B12AB5FA0F3A596E5617B | AU22: 81
A23: 조형 전정 기계시공(상록수) | B23: 21~31cm 미만 | C23: 주 | D23: =#REF! -> #REF! | E23: =#REF! -> #REF! | F23: =TRUNC(D23*E23) -> #REF! | G23: =#REF! -> #REF! | H23: =TRUNC(D23*G23) -> #REF! | I23: =#REF! -> #REF! | J23: =TRUNC(D23*I23) -> #REF! | K23: =#REF! -> #REF! | L23: =IFERROR(TRUNC(F23+H23+J23,0),0) -> 0 | M23: 50B3D18B3B12AB5FA0F3A596E5617A | P23: 0104 | Q23: T | R23: F | S23: F | AT23: 010450B3D18B3B12AB5FA0F3A596E5617A | AU23: 82
A24: 조형 전정 기계시공(상록수) | B24: 31~41cm 미만 | C24: 주 | D24: =#REF! -> #REF! | E24: =#REF! -> #REF! | F24: =TRUNC(D24*E24) -> #REF! | G24: =#REF! -> #REF! | H24: =TRUNC(D24*G24) -> #REF! | I24: =#REF! -> #REF! | J24: =TRUNC(D24*I24) -> #REF! | K24: =#REF! -> #REF! | L24: =IFERROR(TRUNC(F24+H24+J24,0),0) -> 0 | M24: 50B3D18B3B12AB5FA0F3A596E56175 | P24: 0104 | Q24: T | R24: F | S24: F | AT24: 010450B3D18B3B12AB5FA0F3A596E56175 | AU24: 83
A25: 조형 전정 기계시공(상록수) | B25: 41~51cm 미만 | C25: 주 | D25: =#REF! -> #REF! | E25: =#REF! -> #REF! | F25: =TRUNC(D25*E25) -> #REF! | G25: =#REF! -> #REF! | H25: =TRUNC(D25*G25) -> #REF! | I25: =#REF! -> #REF! | J25: =TRUNC(D25*I25) -> #REF! | K25: =#REF! -> #REF! | L25: =IFERROR(TRUNC(F25+H25+J25,0),0) -> 0 | M25: 50B3D18B3B12AB5FA0F3A596E56174 | P25: 0104 | Q25: T | R25: F | S25: F | AT25: 010450B3D18B3B12AB5FA0F3A596E56174 | AU25: 84
A26: 조형 전정 기계시공(상록수) | B26: 51~61cm 미만 | C26: 주 | D26: =#REF! -> #REF! | E26: =#REF! -> #REF! | F26: =TRUNC(D26*E26) -> #REF! | G26: =#REF! -> #REF! | H26: =TRUNC(D26*G26) -> #REF! | I26: =#REF! -> #REF! | J26: =TRUNC(D26*I26) -> #REF! | K26: =#REF! -> #REF! | L26: =IFERROR(TRUNC(F26+H26+J26,0),0) -> 0 | M26: 50B3D18B3B12AB5FA0F3A596E56056 | P26: 0104 | Q26: T | R26: F | S26: F | AT26: 010450B3D18B3B12AB5FA0F3A596E56056 | AU26: 85
A27: 조형 전정 기계시공(상록수) | B27: 61cm 초과 | C27: 주 | D27: =#REF! -> #REF! | E27: =#REF! -> #REF! | F27: =TRUNC(D27*E27) -> #REF! | G27: =#REF! -> #REF! | H27: =TRUNC(D27*G27) -> #REF! | I27: =#REF! -> #REF! | J27: =TRUNC(D27*I27) -> #REF! | K27: =#REF! -> #REF! | L27: =IFERROR(TRUNC(F27+H27+J27,0),0) -> 0 | M27: TOTAL
A28: [ 합 계 ] | D28: =SUM(D22:D27) -> #REF! | F28: =SUM(F22:F27) -> #REF! | H28: =SUM(H22:H27) -> #REF! | J28: =SUM(J22:J27) -> #REF! | L28: =SUM(L22:L27) -> #REF!
A30: 0103 가로수 전정
A31: 가로수전정 (약전정) 기계시공 | B31: 11cm 미만 | C31: 주 | D31: =#REF! -> #REF! | E31: =#REF! -> #REF! | F31: =TRUNC(D31*E31) -> #REF! | G31: =#REF! -> #REF! | H31: =TRUNC(D31*G31) -> #REF! | I31: =#REF! -> #REF! | J31: =TRUNC(D31*I31) -> #REF! | K31: =#REF! -> #REF! | L31: =SUM(F31+H31+J31) -> #REF!
A32: 가로수전정 (약전정) 기계시공 | B32: 11~21cm 미만 | C32: 주 | D32: =#REF! -> #REF! | E32: =#REF! -> #REF! | F32: =TRUNC(D32*E32) -> #REF! | G32: =#REF! -> #REF! | H32: =TRUNC(D32*G32) -> #REF! | I32: =#REF! -> #REF! | J32: =TRUNC(D32*I32) -> #REF! | K32: =#REF! -> #REF! | L32: =SUM(F32+H32+J32) -> #REF!
A33: 가로수전정 (약전정) 기계시공 | B33: 21~31cm 미만 | C33: 주 | D33: =#REF! -> #REF! | E33: =#REF! -> #REF! | F33: =TRUNC(D33*E33) -> #REF! | G33: =#REF! -> #REF! | H33: =TRUNC(D33*G33) -> #REF! | I33: =#REF! -> #REF! | J33: =TRUNC(D33*I33) -> #REF! | K33: =#REF! -> #REF! | L33: =SUM(F33+H33+J33) -> #REF!
A34: 가로수전정 (약전정) 기계시공 | B34: 31~41cm 미만 | C34: 주 | D34: =#REF! -> #REF! | E34: =#REF! -> #REF! | F34: =TRUNC(D34*E34) -> #REF! | G34: =#REF! -> #REF! | H34: =TRUNC(D34*G34) -> #REF! | I34: =#REF! -> #REF! | J34: =TRUNC(D34*I34) -> #REF! | K34: =#REF! -> #REF! | L34: =SUM(F34+H34+J34) -> #REF!
A35: 가로수전정 (약전정) 기계시공 | B35: 41~51cm 미만 | C35: 주 | D35: =#REF! -> #REF! | E35: =#REF! -> #REF! | F35: =TRUNC(D35*E35) -> #REF! | G35: =#REF! -> #REF! | H35: =TRUNC(D35*G35) -> #REF! | I35: =#REF! -> #REF! | J35: =TRUNC(D35*I35) -> #REF! | K35: =#REF! -> #REF! | L35: =SUM(F35+H35+J35) -> #REF!
A36: 가로수전정 (약전정) 기계시공 | B36: 51~61cm 미만 | C36: 주 | D36: =#REF! -> #REF! | E36: =#REF! -> #REF! | F36: =TRUNC(D36*E36) -> #REF! | G36: =#REF! -> #REF! | H36: =TRUNC(D36*G36) -> #REF! | I36: =#REF! -> #REF! | J36: =TRUNC(D36*I36) -> #REF! | K36: =#REF! -> #REF! | L36: =SUM(F36+H36+J36) -> #REF!
A37: 가로수전정 (약전정) 기계시공 | B37: 61cm 초과 | C37: 주 | D37: =#REF! -> #REF! | E37: =#REF! -> #REF! | F37: =TRUNC(D37*E37) -> #REF! | G37: =#REF! -> #REF! | H37: =TRUNC(D37*G37) -> #REF! | I37: =#REF! -> #REF! | J37: =TRUNC(D37*I37) -> #REF! | K37: =#REF! -> #REF! | L37: =SUM(F37+H37+J37) -> #REF!
A38: [ 합 계 ] | D38: =SUM(D32:D37) -> #REF! | F38: =SUM(F31:F37) -> #REF! | H38: =SUM(H31:H37) -> #REF! | J38: =SUM(J31:J37) -> #REF! | L38: =SUM(L31:L37) -> #REF!
A40: 가로수전정 (강전정) 기계시공 | B40: 11cm 미만 | C40: 주 | D40: =#REF! -> #REF! | E40: =#REF! -> #REF! | F40: =TRUNC(D40*E40) -> #REF! | G40: =#REF! -> #REF! | H40: =TRUNC(D40*G40) -> #REF! | I40: =#REF! -> #REF! | J40: =TRUNC(D40*I40) -> #REF! | K40: =#REF! -> #REF! | L40: =SUM(F40+H40+J40) -> #REF!
A41: 가로수전정 (강전정) 기계시공 | B41: 11~21cm 미만 | C41: 주 | D41: =#REF! -> #REF! | E41: =#REF! -> #REF! | F41: =TRUNC(D41*E41) -> #REF! | G41: =#REF! -> #REF! | H41: =TRUNC(D41*G41) -> #REF! | I41: =#REF! -> #REF! | J41: =TRUNC(D41*I41) -> #REF! | K41: =#REF! -> #REF! | L41: =SUM(F41+H41+J41) -> #REF!
A42: 가로수전정 (강전정) 기계시공 | B42: 21~31cm 미만 | C42: 주 | D42: =#REF! -> #REF! | E42: =#REF! -> #REF! | F42: =TRUNC(D42*E42) -> #REF! | G42: =#REF! -> #REF! | H42: =TRUNC(D42*G42) -> #REF! | I42: =#REF! -> #REF! | J42: =TRUNC(D42*I42) -> #REF! | K42: =#REF! -> #REF! | L42: =SUM(F42+H42+J42) -> #REF!
A43: 가로수전정 (강전정) 기계시공 | B43: 31~41cm 미만 | C43: 주 | D43: =#REF! -> #REF! | E43: =#REF! -> #REF! | F43: =TRUNC(D43*E43) -> #REF! | G43: =#REF! -> #REF! | H43: =TRUNC(D43*G43) -> #REF! | I43: =#REF! -> #REF! | J43: =TRUNC(D43*I43) -> #REF! | K43: =#REF! -> #REF! | L43: =SUM(F43+H43+J43) -> #REF!
A44: 가로수전정 (강전정) 기계시공 | B44: 41~51cm 미만 | C44: 주 | D44: =#REF! -> #REF! | E44: =#REF! -> #REF! | F44: =TRUNC(D44*E44) -> #REF! | G44: =#REF! -> #REF! | H44: =TRUNC(D44*G44) -> #REF! | I44: =#REF! -> #REF! | J44: =TRUNC(D44*I44) -> #REF! | K44: =#REF! -> #REF! | L44: =SUM(F44+H44+J44) -> #REF!
A45: 가로수전정 (강전정) 기계시공 | B45: 51~61cm 미만 | C45: 주 | D45: =#REF! -> #REF! | E45: =#REF! -> #REF! | F45: =TRUNC(D45*E45) -> #REF! | G45: =#REF! -> #REF! | H45: =TRUNC(D45*G45) -> #REF! | I45: =#REF! -> #REF! | J45: =TRUNC(D45*I45) -> #REF! | K45: =#REF! -> #REF! | L45: =SUM(F45+H45+J45) -> #REF!
A46: 가로수전정 (강전정) 기계시공 | B46: 61cm 초과 | C46: 주 | D46: =#REF! -> #REF! | E46: =#REF! -> #REF! | F46: =TRUNC(D46*E46) -> #REF! | G46: =#REF! -> #REF! | H46: =TRUNC(D46*G46) -> #REF! | I46: =#REF! -> #REF! | J46: =TRUNC(D46*I46) -> #REF! | K46: =#REF! -> #REF! | L46: =SUM(F46+H46+J46) -> #REF!
A47: [ 합 계 ] | D47: =SUM(D40:D46) -> #REF! | F47: =SUM(F40:F46) -> #REF! | H47: =SUM(H40:H46) -> #REF! | J47: =SUM(J40:J46) -> #REF! | L47: =SUM(L40:L46) -> #REF!
A49: 가로수전정 (조형전정) 기계시공 | B49: 11cm 미만 | C49: 주 | D49: =#REF! -> #REF! | E49: =#REF! -> #REF! | F49: =TRUNC(D49*E49) -> #REF! | G49: =#REF! -> #REF! | H49: =TRUNC(D49*G49) -> #REF! | I49: =#REF! -> #REF! | J49: =TRUNC(D49*I49) -> #REF! | K49: =#REF! -> #REF! | L49: =SUM(F49+H49+J49) -> #REF!
A50: 가로수전정 (조형전정) 기계시공 | B50: 11~21cm 미만 | C50: 주 | D50: =#REF! -> #REF! | E50: =#REF! -> #REF! | F50: =TRUNC(D50*E50) -> #REF! | G50: =#REF! -> #REF! | H50: =TRUNC(D50*G50) -> #REF! | I50: =#REF! -> #REF! | J50: =TRUNC(D50*I50) -> #REF! | K50: =#REF! -> #REF! | L50: =SUM(F50+H50+J50) -> #REF!
A51: 가로수전정 (조형전정) 기계시공 | B51: 21~31cm 미만 | C51: 주 | D51: =#REF! -> #REF! | E51: =#REF! -> #REF! | F51: =TRUNC(D51*E51) -> #REF! | G51: =#REF! -> #REF! | H51: =TRUNC(D51*G51) -> #REF! | I51: =#REF! -> #REF! | J51: =TRUNC(D51*I51) -> #REF! | K51: =#REF! -> #REF! | L51: =SUM(F51+H51+J51) -> #REF!
A52: 가로수전정 (조형전정) 기계시공 | B52: 31~41cm 미만 | C52: 주 | D52: =#REF! -> #REF! | E52: =#REF! -> #REF! | F52: =TRUNC(D52*E52) -> #REF! | G52: =#REF! -> #REF! | H52: =TRUNC(D52*G52) -> #REF! | I52: =#REF! -> #REF! | J52: =TRUNC(D52*I52) -> #REF! | K52: =#REF! -> #REF! | L52: =SUM(F52+H52+J52) -> #REF!
A53: 가로수전정 (조형전정) 기계시공 | B53: 41~51cm 미만 | C53: 주 | D53: =#REF! -> #REF! | E53: =#REF! -> #REF! | F53: =TRUNC(D53*E53) -> #REF! | G53: =#REF! -> #REF! | H53: =TRUNC(D53*G53) -> #REF! | I53: =#REF! -> #REF! | J53: =TRUNC(D53*I53) -> #REF! | K53: =#REF! -> #REF! | L53: =SUM(F53+H53+J53) -> #REF!
A54: 가로수전정 (조형전정) 기계시공 | B54: 51~61cm 미만 | C54: 주 | D54: =#REF! -> #REF! | E54: =#REF! -> #REF! | F54: =TRUNC(D54*E54) -> #REF! | G54: =#REF! -> #REF! | H54: =TRUNC(D54*G54) -> #REF! | I54: =#REF! -> #REF! | J54: =TRUNC(D54*I54) -> #REF! | K54: =#REF! -> #REF! | L54: =SUM(F54+H54+J54) -> #REF!
A55: 가로수전정 (조형전정) 기계시공 | B55: 61cm 초과 | C55: 주 | D55: =#REF! -> #REF! | E55: =#REF! -> #REF! | F55: =TRUNC(D55*E55) -> #REF! | G55: =#REF! -> #REF! | H55: =TRUNC(D55*G55) -> #REF! | I55: =#REF! -> #REF! | J55: =TRUNC(D55*I55) -> #REF! | K55: =#REF! -> #REF! | L55: =SUM(F55+H55+J55) -> #REF!
A56: [ 합 계 ] | D56: =SUM(D49:D55) -> #REF! | F56: =SUM(F49:F55) -> #REF! | H56: =SUM(H49:H55) -> #REF! | J56: =SUM(J49:J55) -> #REF! | L56: =SUM(L49:L55) -> #REF!
A58: 0104 나무베기
A59: 나무베기 기계시공 | B59: 11cm 미만 | C59: 주 | D59: =#REF! -> #REF! | E59: =#REF! -> #REF! | F59: =TRUNC(D59*E59) -> #REF! | G59: =#REF! -> #REF! | H59: =TRUNC(D59*G59) -> #REF! | I59: =#REF! -> #REF! | J59: =TRUNC(D59*I59) -> #REF! | K59: =#REF! -> #REF! | L59: =SUM(F59+H59+J59) -> #REF!
A60: 나무베기 기계시공 | B60: 11~21cm 미만 | C60: 주 | D60: =#REF! -> #REF! | E60: =#REF! -> #REF! | F60: =TRUNC(D60*E60) -> #REF! | G60: =#REF! -> #REF! | H60: =TRUNC(D60*G60) -> #REF! | I60: =#REF! -> #REF! | J60: =TRUNC(D60*I60) -> #REF! | K60: =#REF! -> #REF! | L60: =SUM(F60+H60+J60) -> #REF!
A61: 나무베기 기계시공 | B61: 21~31cm 미만 | C61: 주 | D61: =#REF! -> #REF! | E61: =#REF! -> #REF! | F61: =TRUNC(D61*E61) -> #REF! | G61: =#REF! -> #REF! | H61: =TRUNC(D61*G61) -> #REF! | I61: =#REF! -> #REF! | J61: =TRUNC(D61*I61) -> #REF! | K61: =#REF! -> #REF! | L61: =SUM(F61+H61+J61) -> #REF!
A62: 나무베기 기계시공 | B62: 31~41cm 미만 | C62: 주 | D62: =#REF! -> #REF! | E62: =#REF! -> #REF! | F62: =TRUNC(D62*E62) -> #REF! | G62: =#REF! -> #REF! | H62: =TRUNC(D62*G62) -> #REF! | I62: =#REF! -> #REF! | J62: =TRUNC(D62*I62) -> #REF! | K62: =#REF! -> #REF! | L62: =SUM(F62+H62+J62) -> #REF!
A63: 나무베기 기계시공 | B63: 41~51cm 미만 | C63: 주 | D63: =#REF! -> #REF! | E63: =#REF! -> #REF! | F63: =TRUNC(D63*E63) -> #REF! | G63: =#REF! -> #REF! | H63: =TRUNC(D63*G63) -> #REF! | I63: =#REF! -> #REF! | J63: =TRUNC(D63*I63) -> #REF! | K63: =#REF! -> #REF! | L63: =SUM(F63+H63+J63) -> #REF!
A64: 나무베기 기계시공 | B64: 51~61cm 미만 | C64: 주 | D64: =#REF! -> #REF! | E64: =#REF! -> #REF! | F64: =TRUNC(D64*E64) -> #REF! | G64: =#REF! -> #REF! | H64: =TRUNC(D64*G64) -> #REF! | I64: =#REF! -> #REF! | J64: =TRUNC(D64*I64) -> #REF! | K64: =#REF! -> #REF! | L64: =SUM(F64+H64+J64) -> #REF!
A65: 나무베기 기계시공 | B65: 61cm 초과 | C65: 주 | D65: =#REF! -> #REF! | E65: =#REF! -> #REF! | F65: =TRUNC(D65*E65) -> #REF! | G65: =#REF! -> #REF! | H65: =TRUNC(D65*G65) -> #REF! | I65: =#REF! -> #REF! | J65: =TRUNC(D65*I65) -> #REF! | K65: =#REF! -> #REF! | L65: =SUM(F65+H65+J65) -> #REF!
A66: [ 합 계 ] | D66: =SUM(D59:D65) -> #REF! | F66: =SUM(F59:F65) -> #REF! | H66: =SUM(H59:H65) -> #REF! | J66: =SUM(J59:J65) -> #REF! | L66: =SUM(L59:L65) -> #REF!
A68: 0105 뿌리제거
A69: 뿌리제거 기계시공 | B69: 11cm 미만 | C69: 주 | D69: =#REF! -> #REF! | E69: =#REF! -> #REF! | F69: =TRUNC(D69*E69) -> #REF! | G69: =#REF! -> #REF! | H69: =TRUNC(D69*G69) -> #REF! | I69: =#REF! -> #REF! | J69: =TRUNC(D69*I69) -> #REF! | K69: =#REF! -> #REF! | L69: =SUM(F69+H69+J69) -> #REF!
A70: 뿌리제거 기계시공 | B70: 11~21cm 미만 | C70: 주 | D70: =#REF! -> #REF! | E70: =#REF! -> #REF! | F70: =TRUNC(D70*E70) -> #REF! | G70: =#REF! -> #REF! | H70: =TRUNC(D70*G70) -> #REF! | I70: =#REF! -> #REF! | J70: =TRUNC(D70*I70) -> #REF! | K70: =#REF! -> #REF! | L70: =SUM(F70+H70+J70) -> #REF!
A71: 뿌리제거 기계시공 | B71: 21~31cm 미만 | C71: 주 | D71: =#REF! -> #REF! | E71: =#REF! -> #REF! | F71: =TRUNC(D71*E71) -> #REF! | G71: =#REF! -> #REF! | H71: =TRUNC(D71*G71) -> #REF! | I71: =#REF! -> #REF! | J71: =TRUNC(D71*I71) -> #REF! | K71: =#REF! -> #REF! | L71: =SUM(F71+H71+J71) -> #REF!
A72: 뿌리제거 기계시공 | B72: 31~41cm 미만 | C72: 주 | D72: =#REF! -> #REF! | E72: =#REF! -> #REF! | F72: =TRUNC(D72*E72) -> #REF! | G72: =#REF! -> #REF! | H72: =TRUNC(D72*G72) -> #REF! | I72: =#REF! -> #REF! | J72: =TRUNC(D72*I72) -> #REF! | K72: =#REF! -> #REF! | L72: =SUM(F72+H72+J72) -> #REF!
A73: 뿌리제거 기계시공 | B73: 41~51cm 미만 | C73: 주 | D73: =#REF! -> #REF! | E73: =#REF! -> #REF! | F73: =TRUNC(D73*E73) -> #REF! | G73: =#REF! -> #REF! | H73: =TRUNC(D73*G73) -> #REF! | I73: =#REF! -> #REF! | J73: =TRUNC(D73*I73) -> #REF! | K73: =#REF! -> #REF! | L73: =SUM(F73+H73+J73) -> #REF!
A74: 뿌리제거 기계시공 | B74: 51~61cm 미만 | C74: 주 | D74: =#REF! -> #REF! | E74: =#REF! -> #REF! | F74: =TRUNC(D74*E74) -> #REF! | G74: =#REF! -> #REF! | H74: =TRUNC(D74*G74) -> #REF! | I74: =#REF! -> #REF! | J74: =TRUNC(D74*I74) -> #REF! | K74: =#REF! -> #REF! | L74: =SUM(F74+H74+J74) -> #REF!
A75: 뿌리제거 기계시공 | B75: 61cm 초과 | C75: 주 | D75: =#REF! -> #REF! | E75: =#REF! -> #REF! | F75: =TRUNC(D75*E75) -> #REF! | G75: =#REF! -> #REF! | H75: =TRUNC(D75*G75) -> #REF! | I75: =#REF! -> #REF! | J75: =TRUNC(D75*I75) -> #REF! | K75: =#REF! -> #REF! | L75: =SUM(F75+H75+J75) -> #REF!
A76: [ 합 계 ] | D76: =SUM(D69:D75) -> #REF! | F76: =SUM(F69:F75) -> #REF! | H76: =SUM(H69:H75) -> #REF! | J76: =SUM(J69:J75) -> #REF! | L76: =SUM(L69:L75) -> #REF!
A78: 0106 소나무 전정
A79: 소나무전정 (조형전정) 기계시공 | B79: 11cm 미만 | C79: 주 | D79: =#REF! -> #REF! | E79: =#REF! -> #REF! | F79: =TRUNC(D79*E79) -> #REF! | G79: =#REF! -> #REF! | H79: =TRUNC(D79*G79) -> #REF! | I79: =#REF! -> #REF! | J79: =TRUNC(D79*I79) -> #REF! | K79: =#REF! -> #REF! | L79: =SUM(F79+H79+J79) -> #REF! | P79: 0105
A80: 소나무전정 (조형전정) 기계시공 | B80: 11~21cm 미만 | C80: 주 | D80: =#REF! -> #REF! | E80: =#REF! -> #REF! | F80: =TRUNC(D80*E80) -> #REF! | G80: =#REF! -> #REF! | H80: =TRUNC(D80*G80) -> #REF! | I80: =#REF! -> #REF! | J80: =TRUNC(D80*I80) -> #REF! | K80: =#REF! -> #REF! | L80: =SUM(F80+H80+J80) -> #REF! | M80: 50B3D18B3B12AB5FA0F3A5978A3E92 | P80: 0105 | Q80: T | R80: F | S80: F | AT80: 010550B3D18B3B12AB5FA0F3A5978A3E92 | AU80: 87
A81: 소나무전정 (조형전정) 기계시공 | B81: 21~31cm 미만 | C81: 주 | D81: =#REF! -> #REF! | E81: =#REF! -> #REF! | F81: =TRUNC(D81*E81) -> #REF! | G81: =#REF! -> #REF! | H81: =TRUNC(D81*G81) -> #REF! | I81: =#REF! -> #REF! | J81: =TRUNC(D81*I81) -> #REF! | K81: =#REF! -> #REF! | L81: =SUM(F81+H81+J81) -> #REF! | M81: 50B3D18B3B12AB5FA0F3A5943621AC | P81: 0105 | Q81: T | R81: F | S81: F | AT81: 010550B3D18B3B12AB5FA0F3A5943621AC | AU81: 88
A82: 소나무전정 (조형전정) 기계시공 | B82: 31~41cm 미만 | C82: 주 | D82: =#REF! -> #REF! | E82: =#REF! -> #REF! | F82: =TRUNC(D82*E82) -> #REF! | G82: =#REF! -> #REF! | H82: =TRUNC(D82*G82) -> #REF! | I82: =#REF! -> #REF! | J82: =TRUNC(D82*I82) -> #REF! | K82: =#REF! -> #REF! | L82: =SUM(F82+H82+J82) -> #REF! | M82: 50B3D18B3B12AB5FA0F394996ABFA1 | P82: 0105 | Q82: T | R82: F | S82: F | AT82: 010550B3D18B3B12AB5FA0F394996ABFA1 | AU82: 91
A83: 소나무전정 (조형전정) 기계시공 | B83: 41~51cm 미만 | C83: 주 | D83: =#REF! -> #REF! | E83: =#REF! -> #REF! | F83: =TRUNC(D83*E83) -> #REF! | G83: =#REF! -> #REF! | H83: =TRUNC(D83*G83) -> #REF! | I83: =#REF! -> #REF! | J83: =TRUNC(D83*I83) -> #REF! | K83: =#REF! -> #REF! | L83: =SUM(F83+H83+J83) -> #REF! | M83: 50B3D18B3B12AB5FA0F394996ABFA0 | P83: 0105 | Q83: T | R83: F | S83: F | AT83: 010550B3D18B3B12AB5FA0F394996ABFA0 | AU83: 89
A84: 소나무전정 (조형전정) 기계시공 | B84: 51~61cm 미만 | C84: 주 | D84: =#REF! -> #REF! | E84: =#REF! -> #REF! | F84: =TRUNC(D84*E84) -> #REF! | G84: =#REF! -> #REF! | H84: =TRUNC(D84*G84) -> #REF! | I84: =#REF! -> #REF! | J84: =TRUNC(D84*I84) -> #REF! | K84: =#REF! -> #REF! | L84: =SUM(F84+H84+J84) -> #REF! | M84: 50B3D18B3B12AB5FA0F394996ABFAF | P84: 0105 | Q84: T | R84: F | S84: F | AT84: 010550B3D18B3B12AB5FA0F394996ABFAF | AU84: 90
A85: 소나무전정 (조형전정) 기계시공 | B85: 61cm 초과 | C85: 주 | D85: =#REF! -> #REF! | E85: =#REF! -> #REF! | F85: =TRUNC(D85*E85) -> #REF! | G85: =#REF! -> #REF! | H85: =TRUNC(D85*G85) -> #REF! | I85: =#REF! -> #REF! | J85: =TRUNC(D85*I85) -> #REF! | K85: =#REF! -> #REF! | L85: =SUM(F85+H85+J85) -> #REF! | M85: TOTAL
A86: [ 합 계 ] | D86: =SUM(D79:D85) -> #REF! | F86: =SUM(F79:F85) -> #REF! | H86: =SUM(H79:H85) -> #REF! | J86: =SUM(J79:J85) -> #REF! | L86: =SUM(L79:L85) -> #REF!
A88: 0107 소나무 전정(반송) | P88: 0107
A89: 소나무전정 (반송) | B89: 솎아내기 포함 (수관) 1.5m이하 | C89: 주 | D89: =#REF! -> #REF! | G89: =#REF! -> #REF! | H89: =TRUNC(D89*G89) -> #REF! | I89: =#REF! -> #REF! | J89: =TRUNC(D89*I89) -> #REF! | K89: =#REF! -> #REF! | L89: =SUM(F89+H89+J89) -> #REF! | M89: 509ED18539C97C5005330B9408C7B3 | P89: 0107 | Q89: F | R89: F | S89: T | AT89: 0107509ED18539C97C5005330B9408C7B3 | AU89: 35
A90: 소나무전정 (반송) | B90: 솎아내기 포함 (작업량이 많음) (수관) 1.5m이하 | C90: 주 | D90: =#REF! -> #REF! | G90: =#REF! -> #REF! | H90: =TRUNC(D90*G90) -> #REF! | I90: =#REF! -> #REF! | J90: =TRUNC(D90*I90) -> #REF! | K90: =#REF! -> #REF! | L90: =SUM(F90+H90+J90) -> #REF! | M90: TOTAL
A91: 소나무전정 (반송) | B91: 솎아내기 포함 (수관) 1.5m이상 | C91: 주 | D91: =#REF! -> #REF! | G91: =#REF! -> #REF! | H91: =TRUNC(D91*G91) -> #REF! | I91: =#REF! -> #REF! | J91: =TRUNC(D91*I91) -> #REF! | K91: =#REF! -> #REF! | L91: =SUM(F91+H91+J91) -> #REF!
A92: 소나무전정 (반송) | B92: 솎아내기 포함 (작업량이 많음) (수관) 1.5m이상 | C92: 주 | D92: =#REF! -> #REF! | G92: =#REF! -> #REF! | H92: =TRUNC(D92*G92) -> #REF! | I92: =#REF! -> #REF! | J92: =TRUNC(D92*I92) -> #REF! | K92: =#REF! -> #REF! | L92: =SUM(F92+H92+J92) -> #REF!
A93: [ 합 계 ] | D93: =SUM(D89:D92) -> #REF! | F93: =SUM(F89:F92) -> 0 | H93: =SUM(H89:H92) -> #REF! | J93: =SUM(J89:J92) -> #REF! | L93: =SUM(L89:L92) -> #REF!
A95: 0108 등나무 전정 및 잡목제거
A96: 등나무 전정 | B96: 1m2당 | C96: ㎡ | D96: =#REF! -> #REF! | E96: =#REF! -> #REF! | F96: =TRUNC(D96*E96) -> #REF! | G96: =#REF! -> #REF! | H96: =TRUNC(D96*G96) -> #REF! | I96: =#REF! -> #REF! | J96: =TRUNC(D96*I96) -> #REF! | K96: =#REF! -> #REF! | L96: =SUM(F96+H96+J96) -> #REF!
A97: 잡목제거 | B97: 1m2당 | C97: ㎡ | D97: =#REF! -> #REF! | E97: =#REF! -> #REF! | F97: =TRUNC(D97*E97) -> #REF! | G97: =#REF! -> #REF! | H97: =TRUNC(D97*G97) -> #REF! | I97: =#REF! -> #REF! | J97: =TRUNC(D97*I97) -> #REF! | K97: =#REF! -> #REF! | L97: =SUM(F97+H97+J97) -> #REF!
A98: [ 합 계 ] | F98: =SUM(F96:F97) -> #REF! | H98: =SUM(H96:H97) -> #REF! | J98: =SUM(J96:J97) -> #REF! | L98: =SUM(L96:L97) -> #REF!
A100: 0109 신호수, 교통정리, 안전처리
A101: 신호수, 교통정리, 안전처리 | B101: 보통인부2인 | C101: 1일 | D101: =#REF! -> #REF! | G101: =#REF! -> #REF! | H101: =TRUNC(D101*G101) -> #REF! | L101: =SUM(F101+H101+J101) -> #REF!
A102: [ 합 계 ] | H102: =SUM(H100:H101) -> #REF! | L102: =SUM(L100:L101) -> #REF!
A103: 0110 폐기물 처리비
A104: 임목 폐기물 | B104: 운반+상차 | C104: KG | D104: ='1-1임목폐기물산출식'!CC59 -> #REF! | I104: =#REF! -> #REF! | J104: =(D104+D106)*I104 -> #REF!
B105: 처리 | C105: KG | D105: ='1-1임목폐기물산출식'!CC59 -> #REF! | I105: =#REF! -> #REF! | J105: =(D105+D107)*I105 -> #REF!
A106: 기존 폐기물 | B106: 운반+상차 | C106: KG | D106: =D104*0.05 -> #REF!
B107: 처리 | C107: KG | D107: =D105*0.05 -> #REF!
B108: 합 계 | C108: KG | D108: =D105+D107 -> #REF!
A109: 교목전정 | B109: 수량합계 | D109: =D11+D28+D38+D47+D56+D66+D76+D86+D93 -> #REF!

Sheet 1-1임목폐기물산출식
B2: ◈ 전지전정 폐기물(임목) 수량산출식 | BU2: 1㎡ 당 덩쿨류 및 목본류 폐기물(kg) 산출식
BU3: 품종 | BV3: 적용 수고 (m) | BX3: 전정율(%) A | BY3: 피복율(%) B | BZ3: 공극율(%) C | CA3: 부피㎥ D=(A*B*C) | CB3: 단위중량 (kg/㎥) | CC3: 전정중량(kg)
B4: ㅇ 수목 지상부 중량 계산공식 | BU4: 등나무(만경류) | BV4: 0.9 | BX4: 0.2 | BY4: 0.35 | BZ4: 0.85 | CA4: =(BX4*BV4)*BY4*(1-BZ4) -> 0.00945 | CB4: 0.5 | CC4: =CA4*CB4*1000 -> 4.725
F5: W = k × 3.14 × (B/2)²× h × w1 × (1+P) | AJ5: k : 수간형상계수 (0.5) | BU5: 관목류(0.9이하) | BV5: 0.45 | BX5: 0.15 | BY5: 0.2 | BZ5: 0.85 | CA5: =(BX5*BV5)*BY5*(1-BZ5) -> 0.002025 | CB5: 0.5 | CC5: =CA5*CB5*1000 -> 1.0125
AJ6: B : 흉고직경 | BU6: 관목류(0.9이상) | BV6: 0.9 | BX6: 0.2 | BY6: 0.2 | BZ6: 0.85 | CA6: =(BX6*BV6)*BY6*(1-BZ6) -> 0.0054 | CB6: 0.5 | CC6: =CA6*CB6*1000 -> 2.7
AJ7: h : 수고 | BU7: 잡목류 | BV7: 0.9 | BX7: 0.88 | BY7: 0.05 | BZ7: 0.95 | CA7: =(BX7*BV7)*BY7*(1-BZ7) -> 0.00198 | CB7: 0.5 | CC7: =CA7*CB7*1000 -> 0.99
AJ8: P : 지엽의 과다에 의한 보합률(임목:0.3, 고립목:1.0)
AJ9: w1 : 수간의 단위체적장 중량 (kg/㎥)
B11: ㅇ 수간의 단위체적당중량
B12: 수종 | AC12: 단위체적중량(kg/㎥) | AT12: 비고
B13: 가시나무류,상수리나무, 졸참나무등 | AC13: 1340이상
B14: 느티나무, 쪽동백, 느릅나무등 | AC14: 1300 - 1340 | BU14: 임목폐기물 산출수량
B15: 단풍나무, 벗나무, 은행나무, 향냐무등 | AC15: 1250 - 1300 | BU15: 구분 | BX15: 공종 | BZ15: 단위 | CA15: 수량 | CB15: 폐기물량(kg) | CC15: 합계(KG)
B16: 소나무, 편백, 플라타너스등 | AC16: 1210 - 1250 | BU16: 조형전정 | BV16: 인 력 전 정 | BW16: 낙 엽 수 | BX16: B11미만 | BZ16: 주 | CA16: ='1-1'!D5+'1-1'!D31+'1-1'!D40+'1-1'!D49+'1-1'!D79 -> #REF! | CB16: =Y32*CA16 -> #REF! | CC16: =SUM(CB16:CB57) -> #REF!
B17: 평균치 | AC17: =(1210+1340)/2 -> 1275 | AT17: (1210 + 1340) ÷ 2 | BX17: B11~21 | BZ17: 주 | CA17: ='1-1'!D6 -> #REF! | CB17: =Y33*CA17 -> #REF!
BG18: ※ 자료 : 조경설계요람 | BX18: B21~31 | BZ18: 주 | CA18: ='1-1'!D7 -> #REF! | CB18: =Y34*CA18 -> #REF!
BW19: 상 록 수 | BX19: B11미만 | BZ19: 주 | CA19: ='1-1'!D8 -> #REF! | CB19: =AC32*CA19 -> #REF!
B20: ㅇ 수목부위별 중량분배비 | BX20: B11~21 | BZ20: 주 | CA20: ='1-1'!D9 -> #REF! | CB20: =AC33*CA20 -> #REF!
B21: 구분 | P21: 지상부 | AR21: 뿌리 | AY21: 계 | BF21: 비고 | BX21: B21~31 | BZ21: 주 | CA21: ='1-1'!D10 -> #REF! | CB21: =AC34*CA21 -> #REF!
P22: 줄기 | W22: 가지 | AD22: 잎 | AK22: 소계 | BV22: 기 계 전 정 | BW22: 낙 엽 수 | BX22: B11~21미만 | BZ22: 주 | CA22: ='1-1'!D14+'1-1'!D50 -> #REF! | CB22: =AO33*CA22 -> #REF!
B23: 일반적배율(평균치) % | P23: 45 | W23: 15 | AD23: 25 | AK23: =SUM(P23:AJ23) -> 85 | AR23: 15 | AY23: =AR23+AK23 -> 100 | BX23: B21~31 | BZ23: 주 | CA23: ='1-1'!D15+'1-1'!D51 -> #REF! | CB23: =AO34*CA23 -> #REF!
BG24: ※ 자료 : 산림생태학(향문사) | BX24: B31~41 | BZ24: 주 | CA24: ='1-1'!D16+'1-1'!D52 -> #REF! | CB24: =AO35*CA24 -> #REF!
BX25: B41~51 | BZ25: 주 | CA25: ='1-1'!D17+'1-1'!D53 -> #REF! | CB25: =AO36*CA25 -> #REF!
BX26: B51이상 | BZ26: 주 | CA26: ='1-1'!D18+'1-1'!D19+'1-1'!D54+'1-1'!D55 -> #REF! | CB26: =AO37*CA26 -> #REF!
B27: ◈ 규격별 폐기물 물량산출 | BW27: 상 록 수 | BX27: B11~21미만 | BZ27: 주 | CA27: ='1-1'!D22 -> #REF! | CB27: =AS33*CA27 -> #REF!
BX28: B21~31 | BZ28: 주 | CA28: ='1-1'!D23 -> #REF! | CB28: =AS34*CA28 -> #REF!
B29: ㅇ 규격별 전지전정량 산출 | BX29: B31~41 | BZ29: 주 | CA29: ='1-1'!D24 -> #REF! | CB29: =AS35*CA29 -> #REF!
B30: 구분 | G30: 지상부중량 (kg) | L30: 전정부 중량 (50%) | Q30: 조형 인력전정 | AG30: 조형 기계전정 | AW30: 가로수 약·강전정 | BM30: 교목제거(kg) | BX30: B41~51 | BZ30: 주 | CA30: ='1-1'!D25 -> #REF! | CB30: =AS36*CA30 -> #REF!
Q31: 전전량(낙,상) | Y31: 전정중량(kg) | AG31: 전전량(낙,상) | AO31: 전정중량(kg) | AW31: 전전량(강,약) | BE31: 전정중량(kg) | BX31: B51이상 | BZ31: 주 | CA31: ='1-1'!D26+'1-1'!D27 -> #REF! | CB31: =AS37*CA31 -> #REF!
B32: 11이하 | G32: =AZ46 -> 42.79 | L32: =G32*0.5 -> 21.395 | Q32: 0.2 | U32: 0.15 | Y32: =L32*Q32 -> 4.279 | AC32: =L32*U32 -> 3.20925 | BM32: =G32 -> 42.79 | BU32: 가로수전정(약전정) | BX32: B11~21미만 | BZ32: 주 | CA32: ='1-1'!D32 -> #REF! | CB32: =BI33*CA32 -> #REF!
B33: 43790 | G33: =AZ47 -> 128.11 | L33: =G33*0.5 -> 64.055 | Q33: 0.2 | U33: 0.15 | Y33: =L33*Q33 -> 12.811 | AC33: =L33*U33 -> 9.60825 | AG33: 0.2 | AK33: 0.15 | AO33: =L33*AG33 -> 12.811 | AS33: =L33*AK33 -> 9.60825 | AW33: 0.4 | BA33: 0.3 | BE33: =L33*AW33 -> 25.622 | BI33: =L33*BA33 -> 19.2165 | BM33: =G33 -> 128.11 | BX33: B21~31 | BZ33: 주 | CA33: ='1-1'!D33 -> #REF! | CB33: =BI34*CA33 -> #REF!
B34: 21-31 | G34: =AZ48 -> 420.99 | L34: =G34*0.5 -> 210.495 | Q34: 0.2 | U34: 0.15 | Y34: =L34*Q34 -> 42.099 | AC34: =L34*U34 -> 31.57425 | AG34: 0.2 | AK34: 0.15 | AO34: =L34*AG34 -> 42.099 | AS34: =L34*AK34 -> 31.57425 | AW34: 0.4 | BA34: 0.3 | BE34: =L34*AW34 -> 84.198 | BI34: =L34*BA34 -> 63.1485 | BM34: =G34 -> 420.99 | BX34: B31~41 | BZ34: 주 | CA34: ='1-1'!D34 -> #REF! | CB34: =BI35*CA34 -> #REF!
B35: 31-41 | G35: =AZ49 -> 847.46 | L35: =G35*0.5 -> 423.73 | AG35: 0.2 | AK35: 0.15 | AO35: =L35*AG35 -> 84.746 | AS35: =L35*AK35 -> 63.5595 | AW35: 0.4 | BA35: 0.3 | BE35: =L35*AW35 -> 169.492 | BI35: =L35*BA35 -> 127.119 | BM35: =G35 -> 847.46 | BX35: B41~51 | BZ35: 주 | CA35: ='1-1'!D35 -> #REF! | CB35: =BI36*CA35 -> #REF!
B36: 41-51 | G36: =AZ50 -> 1534.26 | L36: =G36*0.5 -> 767.13 | AG36: 0.2 | AK36: 0.15 | AO36: =L36*AG36 -> 153.426 | AS36: =L36*AK36 -> 115.0695 | AW36: 0.4 | BA36: 0.3 | BE36: =L36*AW36 -> 306.852 | BI36: =L36*BA36 -> 230.139 | BM36: =G36 -> 1534.26 | BX36: B51이상 | BZ36: 주 | CA36: ='1-1'!D36+'1-1'!D37 -> #REF! | CB36: =BI37*CA36 -> #REF!
B37: 51-70 | G37: =AZ51 -> 2881.91 | L37: =G37*0.5 -> 1440.955 | AG37: 0.2 | AK37: 0.15 | AO37: =L37*AG37 -> 288.191 | AS37: =L37*AK37 -> 216.14325 | AW37: 0.4 | BA37: 0.3 | BE37: =L37*AW37 -> 576.382 | BI37: =L37*BA37 -> 432.2865 | BM37: =G37 -> 2881.91 | BU37: 가로수전정(강전정) | BX37: B11~21미만 | BZ37: 주 | CA37: ='1-1'!D41 -> #REF! | CB37: =BE33*CA37 -> #REF!
BX38: B21~31 | BZ38: 주 | CA38: ='1-1'!D42 -> #REF! | CB38: =BE34*CA38 -> #REF!
BX39: B31~41 | BZ39: 주 | CA39: ='1-1'!D43 -> #REF! | CB39: =BE35*CA39 -> #REF!
BX40: B41~51 | BZ40: 주 | CA40: ='1-1'!D44 -> #REF! | CB40: =BE36*CA40 -> #REF!
BX41: B51이상 | BZ41: 주 | CA41: ='1-1'!D45+'1-1'!D46 -> #REF! | CB41: =BE37*CA41 -> #REF!
BU42: 소나무 전정 | BX42: B11~21미만 | BZ42: 주 | CA42: ='1-1'!D80 -> #REF! | CB42: =BI33*CA42 -> #REF!
BX43: B21~31 | BZ43: 주 | CA43: ='1-1'!D81 -> #REF! | CB43: =BI34*CA43 -> #REF!
B44: ㅇ 규격별 수목지상부 중량산출 | BX44: B31~41 | BZ44: 주 | CA44: ='1-1'!D82 -> #REF! | CB44: =BI35*CA44 -> #REF!
B45: 흉고직경 | I45: 평균흉고직경 | P45: k | W45: B | AD45: h | AK45: P | AR45: w1 | AZ45: W | BH45: 비고 | BX45: B41~51 | BZ45: 주 | CA45: ='1-1'!D83 -> #REF! | CB45: =BI36*CA45 -> #REF!
B46: 11이하 | I46: 11 | P46: 0.5 | W46: =I46/100 -> 0.11 | AD46: =BP55 -> 3.5333333 | AK46: 1 | AR46: 1275 | AZ46: =ROUNDDOWN((P46*3.14*(W46/2)*(W46/2)*AD46*AR46*(1+AK46)),2) -> 42.79 | BX46: B51이상 | BZ46: 주 | CA46: ='1-1'!D84+'1-1'!D85 -> #REF! | CB46: =BI37*CA46 -> #REF!
B47: 43790 | I47: 16 | P47: 0.5 | W47: =I47/100 -> 0.16 | AD47: =BP56 -> 5 | AK47: 1 | AR47: 1275 | AZ47: =ROUNDDOWN((P47*3.14*(W47/2)*(W47/2)*AD47*AR47*(1+AK47)),2) -> 128.11 | BU47: 반송 | BX47: W(수관폭)1.5이하 | BZ47: 주 | CA47: ='1-1'!D89+'1-1'!D90 -> #REF! | CB47: =CA47*AC32 -> #REF!
B48: 21-31 | I48: =(21+31)/2 -> 26 | P48: 0.5 | W48: =I48/100 -> 0.26 | AD48: =BP57 -> 6.2222222 | AK48: 1 | AR48: 1275 | AZ48: =ROUNDDOWN((P48*3.14*(W48/2)*(W48/2)*AD48*AR48*(1+AK48)),2) -> 420.99 | BX48: W(수관폭)1.5이상 | BZ48: 주 | CA48: ='1-1'!D91+'1-1'!D92 -> #REF! | CB48: =CA48*AC33 -> #REF!
B49: 31-41 | I49: =(31+41)/2 -> 36 | P49: 0.5 | W49: =I49/100 -> 0.36 | AD49: =BP58 -> 6.5333333 | AK49: 1 | AR49: 1275 | AZ49: =ROUNDDOWN((P49*3.14*(W49/2)*(W49/2)*AD49*AR49*(1+AK49)),2) -> 847.46 | BU49: 관목류 | BX49: H(수고)0.9이하 | BZ49: ㎡ | CB49: =CA49*CC5 -> 0
B50: 41-51 | I50: =(41+51)/2 -> 46 | P50: 0.5 | W50: =I50/100 -> 0.46 | AD50: =BP59 -> 7.2444444 | AK50: 1 | AR50: 1275 | AZ50: =ROUNDDOWN((P50*3.14*(W50/2)*(W50/2)*AD50*AR50*(1+AK50)),2) -> 1534.26 | BX50: H(수고)0.9이상 | BZ50: ㎡ | CB50: =CA50*CC6 -> 0
B51: 51-70 | I51: =(51+70)/2 -> 60.5 | P51: 0.5 | W51: =I51/100 -> 0.605 | AD51: =BP60 -> 7.8666667 | AK51: 1 | AR51: 1275 | AZ51: =ROUNDDOWN((P51*3.14*(W51/2)*(W51/2)*AD51*AR51*(1+AK51)),2) -> 2881.91 | BU51: 등나무 | BX51: 만경류 | BZ51: ㎡ | CA51: ='1-1'!D96 -> #REF! | CB51: =CA51*CC4 -> #REF!
B52: ㅇ 규격별 평균수고산출 (h) | BU52: 잡목제거 | BZ52: ㎡ | CA52: ='1-1'!D97 -> #REF! | CB52: =CA52*CC7 -> #REF!
B53: 규격 | J53: 측정수고 | BC53: 소계 | BH53: 평균 | BL53: 3점평균 | BP53: 적용수고 | BU53: 교목제거 | BV53: 인력+크레인 | BX53: B11~21미만 | BZ53: 주 | CA53: ='1-1'!D60 -> #REF! | CB53: =CA53*BM33 -> #REF!
J54: 1 | M54: 2 | P54: 3 | S54: 4 | V54: 5 | Y54: 6 | AB54: 7 | AE54: 8 | AH54: 9 | AK54: 10 | AN54: 11 | AQ54: 12 | AT54: 13 | AW54: 14 | AZ54: 15 | BX54: B21~31 | BZ54: 주 | CA54: ='1-1'!D61 -> #REF! | CB54: =CA54*BM34 -> #REF!
B55: 11이하 | J55: 4 | M55: 3 | P55: 4 | S55: 4 | V55: 4 | Y55: 3 | AB55: 3 | AE55: 3 | AH55: 3 | AK55: 3 | AN55: 4 | AQ55: 3 | AT55: 4 | AW55: 4 | AZ55: 4 | BC55: =SUM(J55:BB55) -> 53 | BH55: =BC55/COUNT(J55:BB55) -> 3.5333333 | BL55: =BH55 -> 3.5333333 | BP55: =BL55 -> 3.5333333 | BX55: B31~41 | BZ55: 주 | CA55: ='1-1'!D62 -> #REF! | CB55: =CA55*BM35 -> #REF!
B56: 43790 | J56: 7 | M56: 6 | P56: 7 | S56: 4 | V56: 7 | Y56: 5 | AB56: 8 | AE56: 8 | AH56: 4 | AK56: 5 | AN56: 4 | AQ56: 5 | AT56: 5 | AW56: 5 | AZ56: 6 | BC56: =SUM(J56:BB56) -> 86 | BH56: =BC56/COUNT(J56:BB56) -> 5.7333333 | BL56: =(BH55+BH56+BH57)/3 -> 5 | BP56: =BL56 -> 5 | BX56: B41~51 | BZ56: 주 | CA56: ='1-1'!D63 -> #REF! | CB56: =CA56*BM36 -> #REF!
B57: 21-31 | J57: 8 | M57: 7 | P57: 7 | S57: 6 | V57: 8 | Y57: 7 | AB57: 6 | AE57: 3 | AH57: 4 | AK57: 4 | AN57: 4 | AQ57: 4 | AT57: 5 | AW57: 5 | AZ57: 8 | BC57: =SUM(J57:BB57) -> 86 | BH57: =BC57/COUNT(J57:BB57) -> 5.7333333 | BL57: =(BH56+BH57+BH58)/3 -> 6.2222222 | BP57: =BL57 -> 6.2222222 | BX57: B51이상 | BZ57: 주 | CA57: ='1-1'!D64+'1-1'!D65 -> #REF! | CB57: =CA57*BM37 -> #REF!
B58: 31-41 | J58: 9 | M58: 7 | P58: 7 | S58: 8 | V58: 8 | Y58: 8 | AB58: 7 | AE58: 7 | AH58: 8 | AK58: 7 | AN58: 7 | AQ58: 7 | AT58: 8 | AW58: 5 | AZ58: 5 | BC58: =SUM(J58:BB58) -> 108 | BH58: =BC58/COUNT(J58:BB58) -> 7.2 | BL58: =(BH57+BH58+BH59)/3 -> 6.5333333 | BP58: =BL58 -> 6.5333333 | BU58: 기존 임목 폐기물 | BZ58: ton | CB58: =CA58 -> 0 | CC58: =CB58 -> 0
B59: 41-51 | J59: 6 | M59: 6 | P59: 6 | S59: 7 | V59: 8 | Y59: 6 | AB59: 8 | AE59: 7 | AH59: 5 | AK59: 6 | AN59: 5 | AQ59: 7 | AT59: 8 | AW59: 7 | AZ59: 8 | BC59: =SUM(J59:BB59) -> 100 | BH59: =BC59/COUNT(J59:BB59) -> 6.6666667 | BL59: =(BH58+BH59+BH60)/3 -> 7.2444444 | BP59: =BL59 -> 7.2444444 | BU59: 폐기물 총 합계 (ton) | CC59: =CC16+CC58 -> #REF!
B60: 51-70 | J60: 8 | M60: 8 | P60: 8 | S60: 8 | V60: 9 | Y60: 8 | AB60: 8 | AE60: 7 | AH60: 8 | AK60: 8 | AN60: 8 | AQ60: 7 | AT60: 7 | AW60: 9 | AZ60: 7 | BC60: =SUM(J60:BB60) -> 118 | BH60: =BC60/COUNT(J60:BB60) -> 7.8666667 | BL60: =BH60 -> 7.8666667 | BP60: =BL60 -> 7.8666667

Sheet 1 (2)
A1: 공 종 별 집 계 표
A2: =#REF! -> #REF!
A3: 품 명 | B3: 규 격 | C3: 단위 | D3: 수량 | E3: 재 료 비 | G3: 노 무 비 | I3: 경 비 | K3: 합 계 | M3: 비 고 | N3: 공종코드 | O3: 변수 | P3: 상위공종 | Q3: 공종구분 | R3: 공종레벨 | S3: 공종소계 | T3: 원가계산서 연결금액
E4: 단 가 | F4: 금 액 | G4: 단 가 | H4: 금 액 | I4: 단 가 | J4: 금 액 | K4: 단 가 | L4: 금 액
A5: 01 수목전정 | E5: =F18 -> #REF! | F5: =E5 -> #REF! | G5: =H18 -> #REF! | H5: =G5 -> #REF! | I5: =J18 -> #REF! | J5: =I5 -> #REF! | K5: =L18 -> #REF! | L5: =K5 -> #REF! | N5: 01 | R5: 1
A6: 0101 조형전정 인력시공 | C6: 식 | D6: 1 | E6: ='1-1 (2)'!F11 -> #REF! | F6: =TRUNC(E6*D6) -> #REF! | G6: ='1-1 (2)'!H11 -> #REF! | H6: =TRUNC(G6*D6) -> #REF! | I6: ='1-1 (2)'!J11 -> #REF! | J6: =TRUNC(I6*D6) -> #REF! | K6: ='1-1 (2)'!L11 -> #REF! | L6: =TRUNC(D6*K6) -> #REF! | N6: 0102 | P6: 01 | R6: 2
A7: 0102 조형 전정 기계시공(낙엽수) | C7: 식 | D7: 1 | E7: ='1-1 (2)'!F20 -> #REF! | F7: =TRUNC(E7*D7) -> #REF! | G7: ='1-1 (2)'!H20 -> #REF! | H7: =TRUNC(G7*D7) -> #REF! | I7: ='1-1 (2)'!J20 -> #REF! | J7: =TRUNC(I7*D7) -> #REF! | K7: ='1-1 (2)'!L20 -> #REF! | L7: =TRUNC(D7*K7) -> #REF! | N7: 0103 | P7: 01 | R7: 2
A8: 0103 조형 전정 기계시공(상록수) | C8: 식 | D8: 1 | E8: ='1-1 (2)'!F28 -> #REF! | F8: =TRUNC(E8*D8) -> #REF! | G8: ='1-1 (2)'!H28 -> #REF! | H8: =TRUNC(G8*D8) -> #REF! | I8: ='1-1 (2)'!J28 -> #REF! | J8: =TRUNC(I8*D8) -> #REF! | K8: ='1-1 (2)'!L28 -> #REF! | L8: =TRUNC(D8*K8) -> #REF! | N8: 0104 | P8: 01 | R8: 2
A9: 0104 가로수 약전정 기계시공 | C9: 식 | D9: 1 | E9: ='1-1 (2)'!F38 -> #REF! | F9: =TRUNC(E9*D9) -> #REF! | G9: ='1-1 (2)'!H38 -> #REF! | H9: =TRUNC(G9*D9) -> #REF! | I9: ='1-1 (2)'!J38 -> #REF! | J9: =TRUNC(I9*D9) -> #REF! | K9: ='1-1 (2)'!L38 -> #REF! | L9: =TRUNC(D9*K9) -> #REF! | N9: 0105 | P9: 01 | R9: 2
A10: 0105 가로수 강전정 기계시공 | C10: 식 | D10: 1 | E10: ='1-1 (2)'!F47 -> #REF! | F10: =TRUNC(E10*D10) -> #REF! | G10: ='1-1 (2)'!H47 -> #REF! | H10: =TRUNC(G10*D10) -> #REF! | I10: ='1-1 (2)'!J47 -> #REF! | J10: =TRUNC(I10*D10) -> #REF! | K10: ='1-1 (2)'!L47 -> #REF! | L10: =TRUNC(D10*K10) -> #REF!
A11: 0106 가로수 조형전정 기계시공 | C11: 식 | D11: 1 | E11: ='1-1 (2)'!F56 -> #REF! | F11: =TRUNC(E11*D11) -> #REF! | G11: ='1-1 (2)'!H56 -> #REF! | H11: =TRUNC(G11*D11) -> #REF! | I11: ='1-1 (2)'!J56 -> #REF! | J11: =TRUNC(I11*D11) -> #REF! | K11: ='1-1 (2)'!L56 -> #REF! | L11: =TRUNC(D11*K11) -> #REF!
A12: 0107 나무베기 기계시공 | C12: 식 | D12: 1 | E12: ='1-1 (2)'!F66 -> #REF! | F12: =TRUNC(E12*D12) -> #REF! | G12: ='1-1 (2)'!H66 -> #REF! | H12: =TRUNC(G12*D12) -> #REF! | I12: ='1-1 (2)'!J66 -> #REF! | J12: =TRUNC(I12*D12) -> #REF! | K12: ='1-1 (2)'!L66 -> #REF! | L12: =TRUNC(D12*K12) -> #REF!
A13: 0108 뿌리제거 기계시공 | C13: 식 | D13: 1 | E13: ='1-1 (2)'!F76 -> #REF! | F13: =TRUNC(E13*D13) -> #REF! | G13: ='1-1 (2)'!H76 -> #REF! | H13: =TRUNC(G13*D13) -> #REF! | I13: ='1-1 (2)'!J76 -> #REF! | J13: =TRUNC(I13*D13) -> #REF! | K13: ='1-1 (2)'!L76 -> #REF! | L13: =TRUNC(D13*K13) -> #REF!
A14: 0109 소나무 조형전정 기계시공 | C14: 식 | D14: 1 | E14: ='1-1 (2)'!F86 -> #REF! | F14: =TRUNC(E14*D14) -> #REF! | G14: ='1-1 (2)'!H86 -> #REF! | H14: =TRUNC(G14*D14) -> #REF! | I14: ='1-1 (2)'!J86 -> #REF! | J14: =TRUNC(I14*D14) -> #REF! | K14: ='1-1 (2)'!L86 -> #REF! | L14: =TRUNC(D14*K14) -> #REF!
A15: 0110 소나무 전정(반송) | C15: 식 | D15: 1 | E15: ='1-1 (2)'!F93 -> 0 | F15: =TRUNC(E15*D15) -> 0 | G15: ='1-1 (2)'!H93 -> #REF! | H15: =TRUNC(G15*D15) -> #REF! | I15: ='1-1 (2)'!J93 -> #REF! | J15: =TRUNC(I15*D15) -> #REF! | K15: ='1-1 (2)'!L93 -> #REF! | L15: =TRUNC(D15*K15) -> #REF!
A16: 0111 등나무 전정 및 잡목제거 | C16: 식 | D16: 1 | E16: ='1-1 (2)'!F98 -> #REF! | F16: =TRUNC(E16*D16) -> #REF! | G16: ='1-1 (2)'!H98 -> #REF! | H16: =TRUNC(G16*D16) -> #REF! | I16: ='1-1 (2)'!J98 -> #REF! | J16: =TRUNC(I16*D16) -> #REF! | K16: ='1-1 (2)'!L98 -> #REF! | L16: =TRUNC(D16*K16) -> #REF!
A17: 0112 신호수,교통정리,안전처리 | C17: 식 | D17: 1 | E17: ='1-1 (2)'!F102 -> 0 | F17: =TRUNC(E17*D17) -> 0 | G17: ='1-1 (2)'!H102 -> #REF! | H17: =TRUNC(G17*D17) -> #REF! | I17: ='1-1 (2)'!J102 -> 0 | J17: =TRUNC(I17*D17) -> 0 | K17: ='1-1 (2)'!L102 -> #REF! | L17: =TRUNC(D17*K17) -> #REF!
A18: [ 합 계 ] | F18: =SUM(F6:F17) -> #REF! | H18: =SUM(H6:H17) -> #REF! | J18: =SUM(J6:J17) -> #REF! | L18: =SUM(L6:L17) -> #REF!

Sheet 1-1 (2)
A1: 공 종 별 내 역 서
A2: ='1 (2)'!A2 -> #REF! | B2: 규 격 흉고직경 | C2: 단위 | D2: 수량 | E2: 재 료 비 | G2: 노 무 비 | I2: 경 비 | K2: 합 계 | M2: 품목코드 | N2: 변수 | O2: 설정 | P2: 공종코드 | Q2: 일위 | R2: 단산 | S2: 자재 | T2: 손료적용 | U2: 손료저장 | V2: 적용율 | W2: JUK1 | X2: JUK2 | Y2: JUK3 | Z2: JUK4 | AA2: JUK5 | AB2: JUK6 | AC2: JUK7 | AD2: JUK8 | AE2: JUK9 | AF2: JUK10 | AG2: JUK11 | AH2: JUK12 | AI2: JUK13 | AJ2: JUK14 | AK2: JUK15 | AL2: JUK16 | AM2: JUK17 | AN2: JUK18 | AO2: JUK19 | AP2: JUK20 | AQ2: 자재구분 | AR2: 공종구분 | AS2: 공종레벨 | AT2: 공종+자재 | AU2: 고유번호
A3: 품 명 | E3: 단 가 | F3: 금 액 | G3: 단 가 | H3: 금 액 | I3: 단 가 | J3: 금 액 | K3: 단 가 | L3: 금 액
A4: 0101 조형전정 인력시공 | P4: 0102
A5: 조형 전정 인력시공(낙엽수) | B5: 11cm 미만 | C5: 주 | D5: =#REF! -> #REF! | E5: =#REF! -> #REF! | F5: =TRUNC(D5*E5) -> #REF! | G5: =#REF! -> #REF! | H5: =TRUNC(D5*G5) -> #REF! | I5: =#REF! -> #REF! | J5: =TRUNC(D5*I5) -> #REF! | K5: =#REF! -> #REF! | L5: =SUM(F5+H5+J5) -> #REF! | M5: 50B3D18B3B12AB5FA2A39D9B013E19 | P5: 0102 | Q5: T | R5: F | S5: F | AT5: 010250B3D18B3B12AB5FA2A39D9B013E19 | AU5: 50
A6: 조형 전정 인력시공(낙엽수) | B6: 11~21cm 미만 | C6: 주 | D6: =#REF! -> #REF! | E6: =#REF! -> #REF! | F6: =TRUNC(D6*E6) -> #REF! | G6: =#REF! -> #REF! | H6: =TRUNC(D6*G6) -> #REF! | I6: =#REF! -> #REF! | J6: =TRUNC(D6*I6) -> #REF! | K6: =#REF! -> #REF! | L6: =SUM(F6+H6+J6) -> #REF! | M6: 50B3D18B3B12AB5FA2A39D9B001816 | P6: 0102 | Q6: T | R6: F | S6: F | AT6: 010250B3D18B3B12AB5FA2A39D9B001816 | AU6: 51
A7: 조형 전정 인력시공(낙엽수) | B7: 21~31cm 미만 | C7: 주 | D7: =#REF! -> #REF! | E7: =#REF! -> #REF! | F7: =TRUNC(D7*E7) -> #REF! | G7: =#REF! -> #REF! | H7: =TRUNC(D7*G7) -> #REF! | I7: =#REF! -> #REF! | J7: =TRUNC(D7*I7) -> #REF! | K7: =#REF! -> #REF! | L7: =SUM(F7+H7+J7) -> #REF! | M7: 50B3D18B3B12AB5FA2A39D9B0747E5 | P7: 0102 | Q7: T | R7: F | S7: F | AT7: 010250B3D18B3B12AB5FA2A39D9B0747E5 | AU7: 52
A8: 조형 전정 인력시공(상록수) | B8: 11cm 미만 | C8: 주 | D8: =#REF! -> #REF! | E8: =#REF! -> #REF! | F8: =TRUNC(D8*E8) -> #REF! | G8: =#REF! -> #REF! | H8: =TRUNC(D8*G8) -> #REF! | I8: =#REF! -> #REF! | J8: =TRUNC(D8*I8) -> #REF! | K8: =#REF! -> #REF! | L8: =SUM(F8+H8+J8) -> #REF! | M8: 50B3D18B3B12AB5FA2A39D9B06A07B | P8: 0102 | Q8: T | R8: F | S8: F | AT8: 010250B3D18B3B12AB5FA2A39D9B06A07B | AU8: 53
A9: 조형 전정 인력시공(상록수) | B9: 11~21cm 미만 | C9: 주 | D9: =#REF! -> #REF! | E9: =#REF! -> #REF! | F9: =TRUNC(D9*E9) -> #REF! | G9: =#REF! -> #REF! | H9: =TRUNC(D9*G9) -> #REF! | I9: =#REF! -> #REF! | J9: =TRUNC(D9*I9) -> #REF! | K9: =#REF! -> #REF! | L9: =SUM(F9+H9+J9) -> #REF! | M9: 50B3D18B3B12AB5FA2A39D9B059909 | P9: 0102 | Q9: T | R9: F | S9: F | AT9: 010250B3D18B3B12AB5FA2A39D9B059909 | AU9: 54
A10: 조형 전정 인력시공(상록수) | B10: 21~31cm 미만 | C10: 주 | D10: =#REF! -> #REF! | E10: =#REF! -> #REF! | F10: =TRUNC(D10*E10) -> #REF! | G10: =#REF! -> #REF! | H10: =TRUNC(D10*G10) -> #REF! | I10: =#REF! -> #REF! | J10: =TRUNC(D10*I10) -> #REF! | K10: =#REF! -> #REF! | L10: =SUM(F10+H10+J10) -> #REF! | M10: 50B3D18B3B12AB5FA2A3AF9AD6AD64 | P10: 0102 | Q10: T | R10: F | S10: F | AT10: 010250B3D18B3B12AB5FA2A3AF9AD6AD64 | AU10: 55
A11: [ 합 계 ] | D11: =SUM(D5:D10) -> #REF! | F11: =SUM(F5:F10) -> #REF! | H11: =SUM(H5:H10) -> #REF! | J11: =SUM(J5:J10) -> #REF! | L11: =SUM(L5:L10) -> #REF! | M11: TOTAL
A13: 0102 조형전정 기계시공 | P13: 0103
A14: 조형 전정 기계시공(낙엽수) | B14: 11~21cm 미만 | C14: 주 | D14: =#REF! -> #REF! | E14: =#REF! -> #REF! | F14: =TRUNC(D14*E14) -> #REF! | G14: =#REF! -> #REF! | H14: =TRUNC(D14*G14) -> #REF! | I14: =#REF! -> #REF! | J14: =TRUNC(D14*I14) -> #REF! | K14: =#REF! -> #REF! | L14: =SUM(F14+H14+J14) -> #REF! | M14: 50B3D18B3B12AB5FA0F3A5978A3E91 | P14: 0103 | Q14: T | R14: F | S14: F | AT14: 010350B3D18B3B12AB5FA0F3A5978A3E91 | AU14: 61
A15: 조형 전정 기계시공(낙엽수) | B15: 21~31cm 미만 | C15: 주 | D15: =#REF! -> #REF! | E15: =#REF! -> #REF! | F15: =TRUNC(D15*E15) -> #REF! | G15: =#REF! -> #REF! | H15: =TRUNC(D15*G15) -> #REF! | I15: =#REF! -> #REF! | J15: =TRUNC(D15*I15) -> #REF! | K15: =#REF! -> #REF! | L15: =IFERROR(TRUNC(F15+H15+J15,0),0) -> 0 | M15: 50B3D18B3B12AB5FA0F3A594362088 | P15: 0103 | Q15: T | R15: F | S15: F | AT15: 010350B3D18B3B12AB5FA0F3A594362088 | AU15: 62
A16: 조형 전정 기계시공(낙엽수) | B16: 31~41cm 미만 | C16: 주 | D16: =#REF! -> #REF! | E16: =#REF! -> #REF! | F16: =TRUNC(D16*E16) -> #REF! | G16: =#REF! -> #REF! | H16: =TRUNC(D16*G16) -> #REF! | I16: =#REF! -> #REF! | J16: =TRUNC(D16*I16) -> #REF! | K16: =#REF! -> #REF! | L16: =IFERROR(TRUNC(F16+H16+J16,0),0) -> 0 | M16: 50B3D18B3B12AB5FA0F3A595DC42B1 | P16: 0103 | Q16: T | R16: F | S16: F | AT16: 010350B3D18B3B12AB5FA0F3A595DC42B1 | AU16: 63
A17: 조형 전정 기계시공(낙엽수) | B17: 41~51cm 미만 | C17: 주 | D17: =#REF! -> #REF! | E17: =#REF! -> #REF! | F17: =TRUNC(D17*E17) -> #REF! | G17: =#REF! -> #REF! | H17: =TRUNC(D17*G17) -> #REF! | I17: =#REF! -> #REF! | J17: =TRUNC(D17*I17) -> #REF! | K17: =#REF! -> #REF! | L17: =IFERROR(TRUNC(F17+H17+J17,0),0) -> 0 | M17: 50B3D18B3B12AB5FA0F3A59208250E | P17: 0103 | Q17: T | R17: F | S17: F | AT17: 010350B3D18B3B12AB5FA0F3A59208250E | AU17: 64
A18: 조형 전정 기계시공(낙엽수) | B18: 51~61cm 미만 | C18: 주 | D18: =#REF! -> #REF! | E18: =#REF! -> #REF! | F18: =TRUNC(D18*E18) -> #REF! | G18: =#REF! -> #REF! | H18: =TRUNC(D18*G18) -> #REF! | I18: =#REF! -> #REF! | J18: =TRUNC(D18*I18) -> #REF! | K18: =#REF! -> #REF! | L18: =IFERROR(TRUNC(F18+H18+J18,0),0) -> 0 | M18: 50B3D18B3B12AB5FA0F3A59311C45A | P18: 0103 | Q18: T | R18: F | S18: F | AT18: 010350B3D18B3B12AB5FA0F3A59311C45A | AU18: 65
A19: 조형 전정 기계시공(낙엽수) | B19: 61cm 초과 | C19: 주 | D19: =#REF! -> #REF! | E19: =#REF! -> #REF! | F19: =TRUNC(D19*E19) -> #REF! | G19: =#REF! -> #REF! | H19: =TRUNC(D19*G19) -> #REF! | I19: =#REF! -> #REF! | J19: =TRUNC(D19*I19) -> #REF! | K19: =#REF! -> #REF! | L19: =SUM(L14:L18) -> #REF! | M19: TOTAL
A20: [ 합 계 ] | D20: =SUM(D14:D19) -> #REF! | F20: =SUM(F14:F19) -> #REF! | H20: =SUM(H14:H19) -> #REF! | J20: =SUM(J14:J19) -> #REF! | L20: =SUM(L14:L19) -> #REF!
A22: 조형 전정 기계시공(상록수) | B22: 11~21cm 미만 | C22: 주 | D22: =#REF! -> #REF! | E22: =#REF! -> #REF! | F22: =TRUNC(D22*E22) -> #REF! | G22: =#REF! -> #REF! | H22: =TRUNC(D22*G22) -> #REF! | I22: =#REF! -> #REF! | J22: =TRUNC(D22*I22) -> #REF! | K22: =#REF! -> #REF! | L22: =SUM(F22+H22+J22) -> #REF! | M22: 50B3D18B3B12AB5FA0F3A596E5617B | P22: 0104 | Q22: T | R22: F | S22: F | AT22: 010450B3D18B3B12AB5FA0F3A596E5617B | AU22: 81
A23: 조형 전정 기계시공(상록수) | B23: 21~31cm 미만 | C23: 주 | D23: =#REF! -> #REF! | E23: =#REF! -> #REF! | F23: =TRUNC(D23*E23) -> #REF! | G23: =#REF! -> #REF! | H23: =TRUNC(D23*G23) -> #REF! | I23: =#REF! -> #REF! | J23: =TRUNC(D23*I23) -> #REF! | K23: =#REF! -> #REF! | L23: =IFERROR(TRUNC(F23+H23+J23,0),0) -> 0 | M23: 50B3D18B3B12AB5FA0F3A596E5617A | P23: 0104 | Q23: T | R23: F | S23: F | AT23: 010450B3D18B3B12AB5FA0F3A596E5617A | AU23: 82
A24: 조형 전정 기계시공(상록수) | B24: 31~41cm 미만 | C24: 주 | D24: =#REF! -> #REF! | E24: =#REF! -> #REF! | F24: =TRUNC(D24*E24) -> #REF! | G24: =#REF! -> #REF! | H24: =TRUNC(D24*G24) -> #REF! | I24: =#REF! -> #REF! | J24: =TRUNC(D24*I24) -> #REF! | K24: =#REF! -> #REF! | L24: =IFERROR(TRUNC(F24+H24+J24,0),0) -> 0 | M24: 50B3D18B3B12AB5FA0F3A596E56175 | P24: 0104 | Q24: T | R24: F | S24: F | AT24: 010450B3D18B3B12AB5FA0F3A596E56175 | AU24: 83
A25: 조형 전정 기계시공(상록수) | B25: 41~51cm 미만 | C25: 주 | D25: =#REF! -> #REF! | E25: =#REF! -> #REF! | F25: =TRUNC(D25*E25) -> #REF! | G25: =#REF! -> #REF! | H25: =TRUNC(D25*G25) -> #REF! | I25: =#REF! -> #REF! | J25: =TRUNC(D25*I25) -> #REF! | K25: =#REF! -> #REF! | L25: =IFERROR(TRUNC(F25+H25+J25,0),0) -> 0 | M25: 50B3D18B3B12AB5FA0F3A596E56174 | P25: 0104 | Q25: T | R25: F | S25: F | AT25: 010450B3D18B3B12AB5FA0F3A596E56174 | AU25: 84
A26: 조형 전정 기계시공(상록수) | B26: 51~61cm 미만 | C26: 주 | D26: =#REF! -> #REF! | E26: =#REF! -> #REF! | F26: =TRUNC(D26*E26) -> #REF! | G26: =#REF! -> #REF! | H26: =TRUNC(D26*G26) -> #REF! | I26: =#REF! -> #REF! | J26: =TRUNC(D26*I26) -> #REF! | K26: =#REF! -> #REF! | L26: =IFERROR(TRUNC(F26+H26+J26,0),0) -> 0 | M26: 50B3D18B3B12AB5FA0F3A596E56056 | P26: 0104 | Q26: T | R26: F | S26: F | AT26: 010450B3D18B3B12AB5FA0F3A596E56056 | AU26: 85
A27: 조형 전정 기계시공(상록수) | B27: 61cm 초과 | C27: 주 | D27: =#REF! -> #REF! | E27: =#REF! -> #REF! | F27: =TRUNC(D27*E27) -> #REF! | G27: =#REF! -> #REF! | H27: =TRUNC(D27*G27) -> #REF! | I27: =#REF! -> #REF! | J27: =TRUNC(D27*I27) -> #REF! | K27: =#REF! -> #REF! | L27: =IFERROR(TRUNC(F27+H27+J27,0),0) -> 0 | M27: TOTAL
A28: [ 합 계 ] | D28: =SUM(D22:D27) -> #REF! | F28: =SUM(F22:F27) -> #REF! | H28: =SUM(H22:H27) -> #REF! | J28: =SUM(J22:J27) -> #REF! | L28: =SUM(L22:L27) -> #REF!
A30: 0103 가로수 전정
A31: 가로수전정 (약전정) 기계시공 | B31: 11cm 미만 | C31: 주 | D31: =#REF! -> #REF! | E31: =#REF! -> #REF! | F31: =TRUNC(D31*E31) -> #REF! | G31: =#REF! -> #REF! | H31: =TRUNC(D31*G31) -> #REF! | I31: =#REF! -> #REF! | J31: =TRUNC(D31*I31) -> #REF! | K31: =#REF! -> #REF! | L31: =SUM(F31+H31+J31) -> #REF!
A32: 가로수전정 (약전정) 기계시공 | B32: 11~21cm 미만 | C32: 주 | D32: =#REF! -> #REF! | E32: =#REF! -> #REF! | F32: =TRUNC(D32*E32) -> #REF! | G32: =#REF! -> #REF! | H32: =TRUNC(D32*G32) -> #REF! | I32: =#REF! -> #REF! | J32: =TRUNC(D32*I32) -> #REF! | K32: =#REF! -> #REF! | L32: =SUM(F32+H32+J32) -> #REF!
A33: 가로수전정 (약전정) 기계시공 | B33: 21~31cm 미만 | C33: 주 | D33: =#REF! -> #REF! | E33: =#REF! -> #REF! | F33: =TRUNC(D33*E33) -> #REF! | G33: =#REF! -> #REF! | H33: =TRUNC(D33*G33) -> #REF! | I33: =#REF! -> #REF! | J33: =TRUNC(D33*I33) -> #REF! | K33: =#REF! -> #REF! | L33: =SUM(F33+H33+J33) -> #REF!
A34: 가로수전정 (약전정) 기계시공 | B34: 31~41cm 미만 | C34: 주 | D34: =#REF! -> #REF! | E34: =#REF! -> #REF! | F34: =TRUNC(D34*E34) -> #REF! | G34: =#REF! -> #REF! | H34: =TRUNC(D34*G34) -> #REF! | I34: =#REF! -> #REF! | J34: =TRUNC(D34*I34) -> #REF! | K34: =#REF! -> #REF! | L34: =SUM(F34+H34+J34) -> #REF!
A35: 가로수전정 (약전정) 기계시공 | B35: 41~51cm 미만 | C35: 주 | D35: =#REF! -> #REF! | E35: =#REF! -> #REF! | F35: =TRUNC(D35*E35) -> #REF! | G35: =#REF! -> #REF! | H35: =TRUNC(D35*G35) -> #REF! | I35: =#REF! -> #REF! | J35: =TRUNC(D35*I35) -> #REF! | K35: =#REF! -> #REF! | L35: =SUM(F35+H35+J35) -> #REF!
A36: 가로수전정 (약전정) 기계시공 | B36: 51~61cm 미만 | C36: 주 | D36: =#REF! -> #REF! | E36: =#REF! -> #REF! | F36: =TRUNC(D36*E36) -> #REF! | G36: =#REF! -> #REF! | H36: =TRUNC(D36*G36) -> #REF! | I36: =#REF! -> #REF! | J36: =TRUNC(D36*I36) -> #REF! | K36: =#REF! -> #REF! | L36: =SUM(F36+H36+J36) -> #REF!
A37: 가로수전정 (약전정) 기계시공 | B37: 61cm 초과 | C37: 주 | D37: =#REF! -> #REF! | E37: =#REF! -> #REF! | F37: =TRUNC(D37*E37) -> #REF! | G37: =#REF! -> #REF! | H37: =TRUNC(D37*G37) -> #REF! | I37: =#REF! -> #REF! | J37: =TRUNC(D37*I37) -> #REF! | K37: =#REF! -> #REF! | L37: =SUM(F37+H37+J37) -> #REF!
A38: [ 합 계 ] | D38: =SUM(D32:D37) -> #REF! | F38: =SUM(F31:F37) -> #REF! | H38: =SUM(H31:H37) -> #REF! | J38: =SUM(J31:J37) -> #REF! | L38: =SUM(L31:L37) -> #REF!
A40: 가로수전정 (강전정) 기계시공 | B40: 11cm 미만 | C40: 주 | D40: =#REF! -> #REF! | E40: =#REF! -> #REF! | F40: =TRUNC(D40*E40) -> #REF! | G40: =#REF! -> #REF! | H40: =TRUNC(D40*G40) -> #REF! | I40: =#REF! -> #REF! | J40: =TRUNC(D40*I40) -> #REF! | K40: =#REF! -> #REF! | L40: =SUM(F40+H40+J40) -> #REF!
A41: 가로수전정 (강전정) 기계시공 | B41: 11~21cm 미만 | C41: 주 | D41: =#REF! -> #REF! | E41: =#REF! -> #REF! | F41: =TRUNC(D41*E41) -> #REF! | G41: =#REF! -> #REF! | H41: =TRUNC(D41*G41) -> #REF! | I41: =#REF! -> #REF! | J41: =TRUNC(D41*I41) -> #REF! | K41: =#REF! -> #REF! | L41: =SUM(F41+H41+J41) -> #REF!
A42: 가로수전정 (강전정) 기계시공 | B42: 21~31cm 미만 | C42: 주 | D42: =#REF! -> #REF! | E42: =#REF! -> #REF! | F42: =TRUNC(D42*E42) -> #REF! | G42: =#REF! -> #REF! | H42: =TRUNC(D42*G42) -> #REF! | I42: =#REF! -> #REF! | J42: =TRUNC(D42*I42) -> #REF! | K42: =#REF! -> #REF! | L42: =SUM(F42+H42+J42) -> #REF!
A43: 가로수전정 (강전정) 기계시공 | B43: 31~41cm 미만 | C43: 주 | D43: =#REF! -> #REF! | E43: =#REF! -> #REF! | F43: =TRUNC(D43*E43) -> #REF! | G43: =#REF! -> #REF! | H43: =TRUNC(D43*G43) -> #REF! | I43: =#REF! -> #REF! | J43: =TRUNC(D43*I43) -> #REF! | K43: =#REF! -> #REF! | L43: =SUM(F43+H43+J43) -> #REF!
A44: 가로수전정 (강전정) 기계시공 | B44: 41~51cm 미만 | C44: 주 | D44: =#REF! -> #REF! | E44: =#REF! -> #REF! | F44: =TRUNC(D44*E44) -> #REF! | G44: =#REF! -> #REF! | H44: =TRUNC(D44*G44) -> #REF! | I44: =#REF! -> #REF! | J44: =TRUNC(D44*I44) -> #REF! | K44: =#REF! -> #REF! | L44: =SUM(F44+H44+J44) -> #REF!
A45: 가로수전정 (강전정) 기계시공 | B45: 51~61cm 미만 | C45: 주 | D45: =#REF! -> #REF! | E45: =#REF! -> #REF! | F45: =TRUNC(D45*E45) -> #REF! | G45: =#REF! -> #REF! | H45: =TRUNC(D45*G45) -> #REF! | I45: =#REF! -> #REF! | J45: =TRUNC(D45*I45) -> #REF! | K45: =#REF! -> #REF! | L45: =SUM(F45+H45+J45) -> #REF!
A46: 가로수전정 (강전정) 기계시공 | B46: 61cm 초과 | C46: 주 | D46: =#REF! -> #REF! | E46: =#REF! -> #REF! | F46: =TRUNC(D46*E46) -> #REF! | G46: =#REF! -> #REF! | H46: =TRUNC(D46*G46) -> #REF! | I46: =#REF! -> #REF! | J46: =TRUNC(D46*I46) -> #REF! | K46: =#REF! -> #REF! | L46: =SUM(F46+H46+J46) -> #REF!
A47: [ 합 계 ] | D47: =SUM(D40:D46) -> #REF! | F47: =SUM(F40:F46) -> #REF! | H47: =SUM(H40:H46) -> #REF! | J47: =SUM(J40:J46) -> #REF! | L47: =SUM(L40:L46) -> #REF!
A49: 가로수전정 (조형전정) 기계시공 | B49: 11cm 미만 | C49: 주 | D49: =#REF! -> #REF! | E49: =#REF! -> #REF! | F49: =TRUNC(D49*E49) -> #REF! | G49: =#REF! -> #REF! | H49: =TRUNC(D49*G49) -> #REF! | I49: =#REF! -> #REF! | J49: =TRUNC(D49*I49) -> #REF! | K49: =#REF! -> #REF! | L49: =SUM(F49+H49+J49) -> #REF!
A50: 가로수전정 (조형전정) 기계시공 | B50: 11~21cm 미만 | C50: 주 | D50: =#REF! -> #REF! | E50: =#REF! -> #REF! | F50: =TRUNC(D50*E50) -> #REF! | G50: =#REF! -> #REF! | H50: =TRUNC(D50*G50) -> #REF! | I50: =#REF! -> #REF! | J50: =TRUNC(D50*I50) -> #REF! | K50: =#REF! -> #REF! | L50: =SUM(F50+H50+J50) -> #REF!
A51: 가로수전정 (조형전정) 기계시공 | B51: 21~31cm 미만 | C51: 주 | D51: =#REF! -> #REF! | E51: =#REF! -> #REF! | F51: =TRUNC(D51*E51) -> #REF! | G51: =#REF! -> #REF! | H51: =TRUNC(D51*G51) -> #REF! | I51: =#REF! -> #REF! | J51: =TRUNC(D51*I51) -> #REF! | K51: =#REF! -> #REF! | L51: =SUM(F51+H51+J51) -> #REF!
A52: 가로수전정 (조형전정) 기계시공 | B52: 31~41cm 미만 | C52: 주 | D52: =#REF! -> #REF! | E52: =#REF! -> #REF! | F52: =TRUNC(D52*E52) -> #REF! | G52: =#REF! -> #REF! | H52: =TRUNC(D52*G52) -> #REF! | I52: =#REF! -> #REF! | J52: =TRUNC(D52*I52) -> #REF! | K52: =#REF! -> #REF! | L52: =SUM(F52+H52+J52) -> #REF!
A53: 가로수전정 (조형전정) 기계시공 | B53: 41~51cm 미만 | C53: 주 | D53: =#REF! -> #REF! | E53: =#REF! -> #REF! | F53: =TRUNC(D53*E53) -> #REF! | G53: =#REF! -> #REF! | H53: =TRUNC(D53*G53) -> #REF! | I53: =#REF! -> #REF! | J53: =TRUNC(D53*I53) -> #REF! | K53: =#REF! -> #REF! | L53: =SUM(F53+H53+J53) -> #REF!
A54: 가로수전정 (조형전정) 기계시공 | B54: 51~61cm 미만 | C54: 주 | D54: =#REF! -> #REF! | E54: =#REF! -> #REF! | F54: =TRUNC(D54*E54) -> #REF! | G54: =#REF! -> #REF! | H54: =TRUNC(D54*G54) -> #REF! | I54: =#REF! -> #REF! | J54: =TRUNC(D54*I54) -> #REF! | K54: =#REF! -> #REF! | L54: =SUM(F54+H54+J54) -> #REF!
A55: 가로수전정 (조형전정) 기계시공 | B55: 61cm 초과 | C55: 주 | D55: =#REF! -> #REF! | E55: =#REF! -> #REF! | F55: =TRUNC(D55*E55) -> #REF! | G55: =#REF! -> #REF! | H55: =TRUNC(D55*G55) -> #REF! | I55: =#REF! -> #REF! | J55: =TRUNC(D55*I55) -> #REF! | K55: =#REF! -> #REF! | L55: =SUM(F55+H55+J55) -> #REF!
A56: [ 합 계 ] | D56: =SUM(D49:D55) -> #REF! | F56: =SUM(F49:F55) -> #REF! | H56: =SUM(H49:H55) -> #REF! | J56: =SUM(J49:J55) -> #REF! | L56: =SUM(L49:L55) -> #REF!
A58: 0104 나무베기
A59: 나무베기 기계시공 | B59: 11cm 미만 | C59: 주 | D59: =#REF! -> #REF! | E59: =#REF! -> #REF! | F59: =TRUNC(D59*E59) -> #REF! | G59: =#REF! -> #REF! | H59: =TRUNC(D59*G59) -> #REF! | I59: =#REF! -> #REF! | J59: =TRUNC(D59*I59) -> #REF! | K59: =#REF! -> #REF! | L59: =SUM(F59+H59+J59) -> #REF!
A60: 나무베기 기계시공 | B60: 11~21cm 미만 | C60: 주 | D60: =#REF! -> #REF! | E60: =#REF! -> #REF! | F60: =TRUNC(D60*E60) -> #REF! | G60: =#REF! -> #REF! | H60: =TRUNC(D60*G60) -> #REF! | I60: =#REF! -> #REF! | J60: =TRUNC(D60*I60) -> #REF! | K60: =#REF! -> #REF! | L60: =SUM(F60+H60+J60) -> #REF!
A61: 나무베기 기계시공 | B61: 21~31cm 미만 | C61: 주 | D61: =#REF! -> #REF! | E61: =#REF! -> #REF! | F61: =TRUNC(D61*E61) -> #REF! | G61: =#REF! -> #REF! | H61: =TRUNC(D61*G61) -> #REF! | I61: =#REF! -> #REF! | J61: =TRUNC(D61*I61) -> #REF! | K61: =#REF! -> #REF! | L61: =SUM(F61+H61+J61) -> #REF!
A62: 나무베기 기계시공 | B62: 31~41cm 미만 | C62: 주 | D62: =#REF! -> #REF! | E62: =#REF! -> #REF! | F62: =TRUNC(D62*E62) -> #REF! | G62: =#REF! -> #REF! | H62: =TRUNC(D62*G62) -> #REF! | I62: =#REF! -> #REF! | J62: =TRUNC(D62*I62) -> #REF! | K62: =#REF! -> #REF! | L62: =SUM(F62+H62+J62) -> #REF!
A63: 나무베기 기계시공 | B63: 41~51cm 미만 | C63: 주 | D63: =#REF! -> #REF! | E63: =#REF! -> #REF! | F63: =TRUNC(D63*E63) -> #REF! | G63: =#REF! -> #REF! | H63: =TRUNC(D63*G63) -> #REF! | I63: =#REF! -> #REF! | J63: =TRUNC(D63*I63) -> #REF! | K63: =#REF! -> #REF! | L63: =SUM(F63+H63+J63) -> #REF!
A64: 나무베기 기계시공 | B64: 51~61cm 미만 | C64: 주 | D64: =#REF! -> #REF! | E64: =#REF! -> #REF! | F64: =TRUNC(D64*E64) -> #REF! | G64: =#REF! -> #REF! | H64: =TRUNC(D64*G64) -> #REF! | I64: =#REF! -> #REF! | J64: =TRUNC(D64*I64) -> #REF! | K64: =#REF! -> #REF! | L64: =SUM(F64+H64+J64) -> #REF!
A65: 나무베기 기계시공 | B65: 61cm 초과 | C65: 주 | D65: =#REF! -> #REF! | E65: =#REF! -> #REF! | F65: =TRUNC(D65*E65) -> #REF! | G65: =#REF! -> #REF! | H65: =TRUNC(D65*G65) -> #REF! | I65: =#REF! -> #REF! | J65: =TRUNC(D65*I65) -> #REF! | K65: =#REF! -> #REF! | L65: =SUM(F65+H65+J65) -> #REF!
A66: [ 합 계 ] | D66: =SUM(D59:D65) -> #REF! | F66: =SUM(F59:F65) -> #REF! | H66: =SUM(H59:H65) -> #REF! | J66: =SUM(J59:J65) -> #REF! | L66: =SUM(L59:L65) -> #REF!
A68: 0105 뿌리제거
A69: 뿌리제거 기계시공 | B69: 11cm 미만 | C69: 주 | D69: =#REF! -> #REF! | E69: =#REF! -> #REF! | F69: =TRUNC(D69*E69) -> #REF! | G69: =#REF! -> #REF! | H69: =TRUNC(D69*G69) -> #REF! | I69: =#REF! -> #REF! | J69: =TRUNC(D69*I69) -> #REF! | K69: =#REF! -> #REF! | L69: =SUM(F69+H69+J69) -> #REF!
A70: 뿌리제거 기계시공 | B70: 11~21cm 미만 | C70: 주 | D70: =#REF! -> #REF! | E70: =#REF! -> #REF! | F70: =TRUNC(D70*E70) -> #REF! | G70: =#REF! -> #REF! | H70: =TRUNC(D70*G70) -> #REF! | I70: =#REF! -> #REF! | J70: =TRUNC(D70*I70) -> #REF! | K70: =#REF! -> #REF! | L70: =SUM(F70+H70+J70) -> #REF!
A71: 뿌리제거 기계시공 | B71: 21~31cm 미만 | C71: 주 | D71: =#REF! -> #REF! | E71: =#REF! -> #REF! | F71: =TRUNC(D71*E71) -> #REF! | G71: =#REF! -> #REF! | H71: =TRUNC(D71*G71) -> #REF! | I71: =#REF! -> #REF! | J71: =TRUNC(D71*I71) -> #REF! | K71: =#REF! -> #REF! | L71: =SUM(F71+H71+J71) -> #REF!
A72: 뿌리제거 기계시공 | B72: 31~41cm 미만 | C72: 주 | D72: =#REF! -> #REF! | E72: =#REF! -> #REF! | F72: =TRUNC(D72*E72) -> #REF! | G72: =#REF! -> #REF! | H72: =TRUNC(D72*G72) -> #REF! | I72: =#REF! -> #REF! | J72: =TRUNC(D72*I72) -> #REF! | K72: =#REF! -> #REF! | L72: =SUM(F72+H72+J72) -> #REF!
A73: 뿌리제거 기계시공 | B73: 41~51cm 미만 | C73: 주 | D73: =#REF! -> #REF! | E73: =#REF! -> #REF! | F73: =TRUNC(D73*E73) -> #REF! | G73: =#REF! -> #REF! | H73: =TRUNC(D73*G73) -> #REF! | I73: =#REF! -> #REF! | J73: =TRUNC(D73*I73) -> #REF! | K73: =#REF! -> #REF! | L73: =SUM(F73+H73+J73) -> #REF!
A74: 뿌리제거 기계시공 | B74: 51~61cm 미만 | C74: 주 | D74: =#REF! -> #REF! | E74: =#REF! -> #REF! | F74: =TRUNC(D74*E74) -> #REF! | G74: =#REF! -> #REF! | H74: =TRUNC(D74*G74) -> #REF! | I74: =#REF! -> #REF! | J74: =TRUNC(D74*I74) -> #REF! | K74: =#REF! -> #REF! | L74: =SUM(F74+H74+J74) -> #REF!
A75: 뿌리제거 기계시공 | B75: 61cm 초과 | C75: 주 | D75: =#REF! -> #REF! | E75: =#REF! -> #REF! | F75: =TRUNC(D75*E75) -> #REF! | G75: =#REF! -> #REF! | H75: =TRUNC(D75*G75) -> #REF! | I75: =#REF! -> #REF! | J75: =TRUNC(D75*I75) -> #REF! | K75: =#REF! -> #REF! | L75: =SUM(F75+H75+J75) -> #REF!
A76: [ 합 계 ] | D76: =SUM(D69:D75) -> #REF! | F76: =SUM(F69:F75) -> #REF! | H76: =SUM(H69:H75) -> #REF! | J76: =SUM(J69:J75) -> #REF! | L76: =SUM(L69:L75) -> #REF!
A78: 0106 소나무 전정
A79: 소나무전정 (조형전정) 기계시공 | B79: 11cm 미만 | C79: 주 | D79: =#REF! -> #REF! | E79: =#REF! -> #REF! | F79: =TRUNC(D79*E79) -> #REF! | G79: =#REF! -> #REF! | H79: =TRUNC(D79*G79) -> #REF! | I79: =#REF! -> #REF! | J79: =TRUNC(D79*I79) -> #REF! | K79: =#REF! -> #REF! | L79: =SUM(F79+H79+J79) -> #REF! | P79: 0105
A80: 소나무전정 (조형전정) 기계시공 | B80: 11~21cm 미만 | C80: 주 | D80: =#REF! -> #REF! | E80: =#REF! -> #REF! | F80: =TRUNC(D80*E80) -> #REF! | G80: =#REF! -> #REF! | H80: =TRUNC(D80*G80) -> #REF! | I80: =#REF! -> #REF! | J80: =TRUNC(D80*I80) -> #REF! | K80: =#REF! -> #REF! | L80: =SUM(F80+H80+J80) -> #REF! | M80: 50B3D18B3B12AB5FA0F3A5978A3E92 | P80: 0105 | Q80: T | R80: F | S80: F | AT80: 010550B3D18B3B12AB5FA0F3A5978A3E92 | AU80: 87
A81: 소나무전정 (조형전정) 기계시공 | B81: 21~31cm 미만 | C81: 주 | D81: =#REF! -> #REF! | E81: =#REF! -> #REF! | F81: =TRUNC(D81*E81) -> #REF! | G81: =#REF! -> #REF! | H81: =TRUNC(D81*G81) -> #REF! | I81: =#REF! -> #REF! | J81: =TRUNC(D81*I81) -> #REF! | K81: =#REF! -> #REF! | L81: =SUM(F81+H81+J81) -> #REF! | M81: 50B3D18B3B12AB5FA0F3A5943621AC | P81: 0105 | Q81: T | R81: F | S81: F | AT81: 010550B3D18B3B12AB5FA0F3A5943621AC | AU81: 88
A82: 소나무전정 (조형전정) 기계시공 | B82: 31~41cm 미만 | C82: 주 | D82: =#REF! -> #REF! | E82: =#REF! -> #REF! | F82: =TRUNC(D82*E82) -> #REF! | G82: =#REF! -> #REF! | H82: =TRUNC(D82*G82) -> #REF! | I82: =#REF! -> #REF! | J82: =TRUNC(D82*I82) -> #REF! | K82: =#REF! -> #REF! | L82: =SUM(F82+H82+J82) -> #REF! | M82: 50B3D18B3B12AB5FA0F394996ABFA1 | P82: 0105 | Q82: T | R82: F | S82: F | AT82: 010550B3D18B3B12AB5FA0F394996ABFA1 | AU82: 91
A83: 소나무전정 (조형전정) 기계시공 | B83: 41~51cm 미만 | C83: 주 | D83: =#REF! -> #REF! | E83: =#REF! -> #REF! | F83: =TRUNC(D83*E83) -> #REF! | G83: =#REF! -> #REF! | H83: =TRUNC(D83*G83) -> #REF! | I83: =#REF! -> #REF! | J83: =TRUNC(D83*I83) -> #REF! | K83: =#REF! -> #REF! | L83: =SUM(F83+H83+J83) -> #REF! | M83: 50B3D18B3B12AB5FA0F394996ABFA0 | P83: 0105 | Q83: T | R83: F | S83: F | AT83: 010550B3D18B3B12AB5FA0F394996ABFA0 | AU83: 89
A84: 소나무전정 (조형전정) 기계시공 | B84: 51~61cm 미만 | C84: 주 | D84: =#REF! -> #REF! | E84: =#REF! -> #REF! | F84: =TRUNC(D84*E84) -> #REF! | G84: =#REF! -> #REF! | H84: =TRUNC(D84*G84) -> #REF! | I84: =#REF! -> #REF! | J84: =TRUNC(D84*I84) -> #REF! | K84: =#REF! -> #REF! | L84: =SUM(F84+H84+J84) -> #REF! | M84: 50B3D18B3B12AB5FA0F394996ABFAF | P84: 0105 | Q84: T | R84: F | S84: F | AT84: 010550B3D18B3B12AB5FA0F394996ABFAF | AU84: 90
A85: 소나무전정 (조형전정) 기계시공 | B85: 61cm 초과 | C85: 주 | D85: =#REF! -> #REF! | E85: =#REF! -> #REF! | F85: =TRUNC(D85*E85) -> #REF! | G85: =#REF! -> #REF! | H85: =TRUNC(D85*G85) -> #REF! | I85: =#REF! -> #REF! | J85: =TRUNC(D85*I85) -> #REF! | K85: =#REF! -> #REF! | L85: =SUM(F85+H85+J85) -> #REF! | M85: TOTAL
A86: [ 합 계 ] | D86: =SUM(D79:D85) -> #REF! | F86: =SUM(F79:F85) -> #REF! | H86: =SUM(H79:H85) -> #REF! | J86: =SUM(J79:J85) -> #REF! | L86: =SUM(L79:L85) -> #REF!
A88: 0107 소나무 전정(반송) | P88: 0107
A89: 소나무전정 (반송) | B89: 솎아내기 포함 (수관) 1.5m이하 | C89: 주 | D89: =#REF! -> #REF! | G89: =#REF! -> #REF! | H89: =TRUNC(D89*G89) -> #REF! | I89: =#REF! -> #REF! | J89: =TRUNC(D89*I89) -> #REF! | K89: =#REF! -> #REF! | L89: =SUM(F89+H89+J89) -> #REF! | M89: 509ED18539C97C5005330B9408C7B3 | P89: 0107 | Q89: F | R89: F | S89: T | AT89: 0107509ED18539C97C5005330B9408C7B3 | AU89: 35
A90: 소나무전정 (반송) | B90: 솎아내기 포함 (작업량이 많음) (수관) 1.5m이하 | C90: 주 | D90: =#REF! -> #REF! | G90: =#REF! -> #REF! | H90: =TRUNC(D90*G90) -> #REF! | I90: =#REF! -> #REF! | J90: =TRUNC(D90*I90) -> #REF! | K90: =#REF! -> #REF! | L90: =SUM(F90+H90+J90) -> #REF! | M90: TOTAL
A91: 소나무전정 (반송) | B91: 솎아내기 포함 (수관) 1.5m이상 | C91: 주 | D91: =#REF! -> #REF! | G91: =#REF! -> #REF! | H91: =TRUNC(D91*G91) -> #REF! | I91: =#REF! -> #REF! | J91: =TRUNC(D91*I91) -> #REF! | K91: =#REF! -> #REF! | L91: =SUM(F91+H91+J91) -> #REF!
A92: 소나무전정 (반송) | B92: 솎아내기 포함 (작업량이 많음) (수관) 1.5m이상 | C92: 주 | D92: =#REF! -> #REF! | G92: =#REF! -> #REF! | H92: =TRUNC(D92*G92) -> #REF! | I92: =#REF! -> #REF! | J92: =TRUNC(D92*I92) -> #REF! | K92: =#REF! -> #REF! | L92: =SUM(F92+H92+J92) -> #REF!
A93: [ 합 계 ] | D93: =SUM(D89:D92) -> #REF! | F93: =SUM(F89:F92) -> 0 | H93: =SUM(H89:H92) -> #REF! | J93: =SUM(J89:J92) -> #REF! | L93: =SUM(L89:L92) -> #REF!
A95: 0108 등나무 전정 및 잡목제거
A96: 등나무 전정 | B96: 1m2당 | C96: ㎡ | D96: =#REF! -> #REF! | E96: =#REF! -> #REF! | F96: =TRUNC(D96*E96) -> #REF! | G96: =#REF! -> #REF! | H96: =TRUNC(D96*G96) -> #REF! | I96: =#REF! -> #REF! | J96: =TRUNC(D96*I96) -> #REF! | K96: =#REF! -> #REF! | L96: =SUM(F96+H96+J96) -> #REF!
A97: 잡목제거 | B97: 1m2당 | C97: ㎡ | D97: =#REF! -> #REF! | E97: =#REF! -> #REF! | F97: =TRUNC(D97*E97) -> #REF! | G97: =#REF! -> #REF! | H97: =TRUNC(D97*G97) -> #REF! | I97: =#REF! -> #REF! | J97: =TRUNC(D97*I97) -> #REF! | K97: =#REF! -> #REF! | L97: =SUM(F97+H97+J97) -> #REF!
A98: [ 합 계 ] | F98: =SUM(F96:F97) -> #REF! | H98: =SUM(H96:H97) -> #REF! | J98: =SUM(J96:J97) -> #REF! | L98: =SUM(L96:L97) -> #REF!
A100: 0109 신호수, 교통정리, 안전처리
A101: 신호수, 교통정리, 안전처리 | B101: 보통인부2인 | C101: 1일 | D101: =#REF! -> #REF! | G101: =#REF! -> #REF! | H101: =TRUNC(D101*G101) -> #REF! | L101: =SUM(F101+H101+J101) -> #REF!
A102: [ 합 계 ] | H102: =SUM(H100:H101) -> #REF! | L102: =SUM(L100:L101) -> #REF!
A103: 0110 폐기물 처리비
A104: 임목 폐기물 | B104: 운반+상차 | C104: KG | D104: ='1-1임목폐기물산출식 (2)'!CC59 -> #REF! | I104: =#REF! -> #REF! | J104: =(D104+D106)*I104 -> #REF!
B105: 처리 | C105: KG | D105: ='1-1임목폐기물산출식 (2)'!CC59 -> #REF! | I105: =#REF! -> #REF! | J105: =(D105+D107)*I105 -> #REF!
A106: 기존 폐기물 | B106: 운반+상차 | C106: KG | D106: =D104*0.05 -> #REF!
B107: 처리 | C107: KG | D107: =D105*0.05 -> #REF!
B108: 합 계 | C108: KG | D108: =D105+D107 -> #REF!
A110: 교목전정 | B110: 수량합계 | D110: =D11+D28+D38+D47+D56+D66+D76+D86+D93 -> #REF!

Sheet 1-1임목폐기물산출식 (2)
B2: ◈ 전지전정 폐기물(임목) 수량산출식 | BU2: 1㎡ 당 덩쿨류 및 목본류 폐기물(kg) 산출식
BU3: 품종 | BV3: 적용 수고 (m) | BX3: 전정율(%) A | BY3: 피복율(%) B | BZ3: 공극율(%) C | CA3: 부피㎥ D=(A*B*C) | CB3: 단위중량 (kg/㎥) | CC3: 전정중량(kg)
B4: ㅇ 수목 지상부 중량 계산공식 | BU4: 등나무(만경류) | BV4: 0.9 | BX4: 0.2 | BY4: 0.35 | BZ4: 0.85 | CA4: =(BX4*BV4)*BY4*(1-BZ4) -> 0.00945 | CB4: 0.5 | CC4: =CA4*CB4*1000 -> 4.725
F5: W = k × 3.14 × (B/2)²× h × w1 × (1+P) | AJ5: k : 수간형상계수 (0.5) | BU5: 관목류(0.9이하) | BV5: 0.45 | BX5: 0.15 | BY5: 0.2 | BZ5: 0.85 | CA5: =(BX5*BV5)*BY5*(1-BZ5) -> 0.002025 | CB5: 0.5 | CC5: =CA5*CB5*1000 -> 1.0125
AJ6: B : 흉고직경 | BU6: 관목류(0.9이상) | BV6: 0.9 | BX6: 0.2 | BY6: 0.2 | BZ6: 0.85 | CA6: =(BX6*BV6)*BY6*(1-BZ6) -> 0.0054 | CB6: 0.5 | CC6: =CA6*CB6*1000 -> 2.7
AJ7: h : 수고 | BU7: 잡목류 | BV7: 0.9 | BX7: 0.88 | BY7: 0.05 | BZ7: 0.95 | CA7: =(BX7*BV7)*BY7*(1-BZ7) -> 0.00198 | CB7: 0.5 | CC7: =CA7*CB7*1000 -> 0.99
AJ8: P : 지엽의 과다에 의한 보합률(임목:0.3, 고립목:1.0)
AJ9: w1 : 수간의 단위체적장 중량 (kg/㎥)
B11: ㅇ 수간의 단위체적당중량
B12: 수종 | AC12: 단위체적중량(kg/㎥) | AT12: 비고
B13: 가시나무류,상수리나무, 졸참나무등 | AC13: 1340이상
B14: 느티나무, 쪽동백, 느릅나무등 | AC14: 1300 - 1340 | BU14: 임목폐기물 산출수량
B15: 단풍나무, 벗나무, 은행나무, 향냐무등 | AC15: 1250 - 1300 | BU15: 구분 | BX15: 공종 | BZ15: 단위 | CA15: 수량 | CB15: 폐기물량(kg) | CC15: 합계(KG)
B16: 소나무, 편백, 플라타너스등 | AC16: 1210 - 1250 | BU16: 조형전정 | BV16: 인 력 전 정 | BW16: 낙 엽 수 | BX16: B11미만 | BZ16: 주 | CA16: ='1-1 (2)'!D5+'1-1 (2)'!D31+'1-1 (2)'!D40+'1-1 (2)'!D49+'1-1 (2)'!D79 -> #REF! | CB16: =Y32*CA16 -> #REF! | CC16: =SUM(CB16:CB57) -> #REF!
B17: 평균치 | AC17: =(1210+1340)/2 -> 1275 | AT17: (1210 + 1340) ÷ 2 | BX17: B11~21 | BZ17: 주 | CA17: ='1-1 (2)'!D6 -> #REF! | CB17: =Y33*CA17 -> #REF!
BG18: ※ 자료 : 조경설계요람 | BX18: B21~31 | BZ18: 주 | CA18: ='1-1 (2)'!D7 -> #REF! | CB18: =Y34*CA18 -> #REF!
BW19: 상 록 수 | BX19: B11미만 | BZ19: 주 | CA19: ='1-1 (2)'!D8 -> #REF! | CB19: =AC32*CA19 -> #REF!
B20: ㅇ 수목부위별 중량분배비 | BX20: B11~21 | BZ20: 주 | CA20: ='1-1 (2)'!D9 -> #REF! | CB20: =AC33*CA20 -> #REF!
B21: 구분 | P21: 지상부 | AR21: 뿌리 | AY21: 계 | BF21: 비고 | BX21: B21~31 | BZ21: 주 | CA21: ='1-1 (2)'!D10 -> #REF! | CB21: =AC34*CA21 -> #REF!
P22: 줄기 | W22: 가지 | AD22: 잎 | AK22: 소계 | BV22: 기 계 전 정 | BW22: 낙 엽 수 | BX22: B11~21미만 | BZ22: 주 | CA22: ='1-1 (2)'!D14+'1-1 (2)'!D50 -> #REF! | CB22: =AO33*CA22 -> #REF!
B23: 일반적배율(평균치) % | P23: 45 | W23: 15 | AD23: 25 | AK23: =SUM(P23:AJ23) -> 85 | AR23: 15 | AY23: =AR23+AK23 -> 100 | BX23: B21~31 | BZ23: 주 | CA23: ='1-1 (2)'!D15+'1-1 (2)'!D51 -> #REF! | CB23: =AO34*CA23 -> #REF!
BG24: ※ 자료 : 산림생태학(향문사) | BX24: B31~41 | BZ24: 주 | CA24: ='1-1 (2)'!D16+'1-1 (2)'!D52 -> #REF! | CB24: =AO35*CA24 -> #REF!
BX25: B41~51 | BZ25: 주 | CA25: ='1-1 (2)'!D17+'1-1 (2)'!D53 -> #REF! | CB25: =AO36*CA25 -> #REF!
BX26: B51이상 | BZ26: 주 | CA26: ='1-1 (2)'!D18+'1-1 (2)'!D19+'1-1 (2)'!D54+'1-1 (2)'!D55 -> #REF! | CB26: =AO37*CA26 -> #REF!
B27: ◈ 규격별 폐기물 물량산출 | BW27: 상 록 수 | BX27: B11~21미만 | BZ27: 주 | CA27: ='1-1 (2)'!D22 -> #REF! | CB27: =AS33*CA27 -> #REF!
BX28: B21~31 | BZ28: 주 | CA28: ='1-1 (2)'!D23 -> #REF! | CB28: =AS34*CA28 -> #REF!
B29: ㅇ 규격별 전지전정량 산출 | BX29: B31~41 | BZ29: 주 | CA29: ='1-1 (2)'!D24 -> #REF! | CB29: =AS35*CA29 -> #REF!
B30: 구분 | G30: 지상부중량 (kg) | L30: 전정부 중량 (50%) | Q30: 조형 인력전정 | AG30: 조형 기계전정 | AW30: 가로수 약·강전정 | BM30: 교목제거(kg) | BX30: B41~51 | BZ30: 주 | CA30: ='1-1 (2)'!D25 -> #REF! | CB30: =AS36*CA30 -> #REF!
Q31: 전전량(낙,상) | Y31: 전정중량(kg) | AG31: 전전량(낙,상) | AO31: 전정중량(kg) | AW31: 전전량(강,약) | BE31: 전정중량(kg) | BX31: B51이상 | BZ31: 주 | CA31: =+'1-1 (2)'!D27+'1-1 (2)'!D26 -> #REF! | CB31: =AS37*CA31 -> #REF!
B32: 11이하 | G32: =AZ46 -> 42.79 | L32: =G32*0.5 -> 21.395 | Q32: 0.2 | U32: 0.15 | Y32: =L32*Q32 -> 4.279 | AC32: =L32*U32 -> 3.20925 | BM32: =G32 -> 42.79 | BU32: 가로수전정(약전정) | BX32: B11~21미만 | BZ32: 주 | CA32: ='1-1 (2)'!D32 -> #REF! | CB32: =BI33*CA32 -> #REF!
B33: 43790 | G33: =AZ47 -> 128.11 | L33: =G33*0.5 -> 64.055 | Q33: 0.2 | U33: 0.15 | Y33: =L33*Q33 -> 12.811 | AC33: =L33*U33 -> 9.60825 | AG33: 0.2 | AK33: 0.15 | AO33: =L33*AG33 -> 12.811 | AS33: =L33*AK33 -> 9.60825 | AW33: 0.4 | BA33: 0.3 | BE33: =L33*AW33 -> 25.622 | BI33: =L33*BA33 -> 19.2165 | BM33: =G33 -> 128.11 | BX33: B21~31 | BZ33: 주 | CA33: ='1-1 (2)'!D33 -> #REF! | CB33: =BI34*CA33 -> #REF!
B34: 21-31 | G34: =AZ48 -> 420.99 | L34: =G34*0.5 -> 210.495 | Q34: 0.2 | U34: 0.15 | Y34: =L34*Q34 -> 42.099 | AC34: =L34*U34 -> 31.57425 | AG34: 0.2 | AK34: 0.15 | AO34: =L34*AG34 -> 42.099 | AS34: =L34*AK34 -> 31.57425 | AW34: 0.4 | BA34: 0.3 | BE34: =L34*AW34 -> 84.198 | BI34: =L34*BA34 -> 63.1485 | BM34: =G34 -> 420.99 | BX34: B31~41 | BZ34: 주 | CA34: ='1-1 (2)'!D34 -> #REF! | CB34: =BI35*CA34 -> #REF!
B35: 31-41 | G35: =AZ49 -> 847.46 | L35: =G35*0.5 -> 423.73 | AG35: 0.2 | AK35: 0.15 | AO35: =L35*AG35 -> 84.746 | AS35: =L35*AK35 -> 63.5595 | AW35: 0.4 | BA35: 0.3 | BE35: =L35*AW35 -> 169.492 | BI35: =L35*BA35 -> 127.119 | BM35: =G35 -> 847.46 | BX35: B41~51 | BZ35: 주 | CA35: ='1-1 (2)'!D35 -> #REF! | CB35: =BI36*CA35 -> #REF!
B36: 41-51 | G36: =AZ50 -> 1534.26 | L36: =G36*0.5 -> 767.13 | AG36: 0.2 | AK36: 0.15 | AO36: =L36*AG36 -> 153.426 | AS36: =L36*AK36 -> 115.0695 | AW36: 0.4 | BA36: 0.3 | BE36: =L36*AW36 -> 306.852 | BI36: =L36*BA36 -> 230.139 | BM36: =G36 -> 1534.26 | BX36: B51이상 | BZ36: 주 | CA36: ='1-1 (2)'!D36+'1-1 (2)'!D37 -> #REF! | CB36: =BI37*CA36 -> #REF!
B37: 51-70 | G37: =AZ51 -> 2881.91 | L37: =G37*0.5 -> 1440.955 | AG37: 0.2 | AK37: 0.15 | AO37: =L37*AG37 -> 288.191 | AS37: =L37*AK37 -> 216.14325 | AW37: 0.4 | BA37: 0.3 | BE37: =L37*AW37 -> 576.382 | BI37: =L37*BA37 -> 432.2865 | BM37: =G37 -> 2881.91 | BU37: 가로수전정(강전정) | BX37: B11~21미만 | BZ37: 주 | CA37: ='1-1 (2)'!D41 -> #REF! | CB37: =BE33*CA37 -> #REF!
BX38: B21~31 | BZ38: 주 | CA38: ='1-1 (2)'!D42 -> #REF! | CB38: =BE34*CA38 -> #REF!
BX39: B31~41 | BZ39: 주 | CA39: ='1-1 (2)'!D43 -> #REF! | CB39: =BE35*CA39 -> #REF!
BX40: B41~51 | BZ40: 주 | CA40: ='1-1 (2)'!D44 -> #REF! | CB40: =BE36*CA40 -> #REF!
BX41: B51이상 | BZ41: 주 | CA41: ='1-1 (2)'!D45+'1-1 (2)'!D46 -> #REF! | CB41: =BE37*CA41 -> #REF!
BU42: 소나무 전정 | BX42: B11~21미만 | BZ42: 주 | CA42: ='1-1 (2)'!D80 -> #REF! | CB42: =BI33*CA42 -> #REF!
BX43: B21~31 | BZ43: 주 | CA43: ='1-1 (2)'!D81 -> #REF! | CB43: =BI34*CA43 -> #REF!
B44: ㅇ 규격별 수목지상부 중량산출 | BX44: B31~41 | BZ44: 주 | CA44: ='1-1 (2)'!D82 -> #REF! | CB44: =BI35*CA44 -> #REF!
B45: 흉고직경 | I45: 평균흉고직경 | P45: k | W45: B | AD45: h | AK45: P | AR45: w1 | AZ45: W | BH45: 비고 | BX45: B41~51 | BZ45: 주 | CA45: ='1-1 (2)'!D83 -> #REF! | CB45: =BI36*CA45 -> #REF!
B46: 11이하 | I46: 11 | P46: 0.5 | W46: =I46/100 -> 0.11 | AD46: =BP55 -> 3.5333333 | AK46: 1 | AR46: 1275 | AZ46: =ROUNDDOWN((P46*3.14*(W46/2)*(W46/2)*AD46*AR46*(1+AK46)),2) -> 42.79 | BX46: B51이상 | BZ46: 주 | CA46: ='1-1 (2)'!D84+'1-1 (2)'!D85 -> #REF! | CB46: =BI37*CA46 -> #REF!
B47: 43790 | I47: 16 | P47: 0.5 | W47: =I47/100 -> 0.16 | AD47: =BP56 -> 5 | AK47: 1 | AR47: 1275 | AZ47: =ROUNDDOWN((P47*3.14*(W47/2)*(W47/2)*AD47*AR47*(1+AK47)),2) -> 128.11 | BU47: 반송 | BX47: W(수관폭)1.5이하 | BZ47: 주 | CA47: ='1-1 (2)'!D89+'1-1 (2)'!D90 -> #REF! | CB47: =CA47*AC32 -> #REF!
B48: 21-31 | I48: =(21+31)/2 -> 26 | P48: 0.5 | W48: =I48/100 -> 0.26 | AD48: =BP57 -> 6.2222222 | AK48: 1 | AR48: 1275 | AZ48: =ROUNDDOWN((P48*3.14*(W48/2)*(W48/2)*AD48*AR48*(1+AK48)),2) -> 420.99 | BX48: W(수관폭)1.5이상 | BZ48: 주 | CA48: ='1-1 (2)'!D91+'1-1 (2)'!D92 -> #REF! | CB48: =CA48*AC33 -> #REF!
B49: 31-41 | I49: =(31+41)/2 -> 36 | P49: 0.5 | W49: =I49/100 -> 0.36 | AD49: =BP58 -> 6.5333333 | AK49: 1 | AR49: 1275 | AZ49: =ROUNDDOWN((P49*3.14*(W49/2)*(W49/2)*AD49*AR49*(1+AK49)),2) -> 847.46 | BU49: 관목류 | BX49: H(수고)0.9이하 | BZ49: ㎡ | CB49: =CA49*CC5 -> 0
B50: 41-51 | I50: =(41+51)/2 -> 46 | P50: 0.5 | W50: =I50/100 -> 0.46 | AD50: =BP59 -> 7.2444444 | AK50: 1 | AR50: 1275 | AZ50: =ROUNDDOWN((P50*3.14*(W50/2)*(W50/2)*AD50*AR50*(1+AK50)),2) -> 1534.26 | BX50: H(수고)0.9이상 | BZ50: ㎡ | CB50: =CA50*CC6 -> 0
B51: 51-70 | I51: =(51+70)/2 -> 60.5 | P51: 0.5 | W51: =I51/100 -> 0.605 | AD51: =BP60 -> 7.8666667 | AK51: 1 | AR51: 1275 | AZ51: =ROUNDDOWN((P51*3.14*(W51/2)*(W51/2)*AD51*AR51*(1+AK51)),2) -> 2881.91 | BU51: 등나무 | BX51: 만경류 | BZ51: ㎡ | CA51: ='1-1 (2)'!D96 -> #REF! | CB51: =CA51*CC4 -> #REF!
B52: ㅇ 규격별 평균수고산출 (h) | BU52: 잡목제거 | BZ52: ㎡ | CA52: ='1-1 (2)'!D97 -> #REF! | CB52: =CA52*CC7 -> #REF!
B53: 규격 | J53: 측정수고 | BC53: 소계 | BH53: 평균 | BL53: 3점평균 | BP53: 적용수고 | BU53: 교목제거 | BV53: 인력+크레인 | BX53: B11~21미만 | BZ53: 주 | CA53: ='1-1 (2)'!D60 -> #REF! | CB53: =CA53*BM33 -> #REF!
J54: 1 | M54: 2 | P54: 3 | S54: 4 | V54: 5 | Y54: 6 | AB54: 7 | AE54: 8 | AH54: 9 | AK54: 10 | AN54: 11 | AQ54: 12 | AT54: 13 | AW54: 14 | AZ54: 15 | BX54: B21~31 | BZ54: 주 | CA54: ='1-1 (2)'!D61 -> #REF! | CB54: =CA54*BM34 -> #REF!
B55: 11이하 | J55: 4 | M55: 3 | P55: 4 | S55: 4 | V55: 4 | Y55: 3 | AB55: 3 | AE55: 3 | AH55: 3 | AK55: 3 | AN55: 4 | AQ55: 3 | AT55: 4 | AW55: 4 | AZ55: 4 | BC55: =SUM(J55:BB55) -> 53 | BH55: =BC55/COUNT(J55:BB55) -> 3.5333333 | BL55: =BH55 -> 3.5333333 | BP55: =BL55 -> 3.5333333 | BX55: B31~41 | BZ55: 주 | CA55: ='1-1 (2)'!D62 -> #REF! | CB55: =CA55*BM35 -> #REF!
B56: 43790 | J56: 7 | M56: 6 | P56: 7 | S56: 4 | V56: 7 | Y56: 5 | AB56: 8 | AE56: 8 | AH56: 4 | AK56: 5 | AN56: 4 | AQ56: 5 | AT56: 5 | AW56: 5 | AZ56: 6 | BC56: =SUM(J56:BB56) -> 86 | BH56: =BC56/COUNT(J56:BB56) -> 5.7333333 | BL56: =(BH55+BH56+BH57)/3 -> 5 | BP56: =BL56 -> 5 | BX56: B41~51 | BZ56: 주 | CA56: ='1-1 (2)'!D63 -> #REF! | CB56: =CA56*BM36 -> #REF!
B57: 21-31 | J57: 8 | M57: 7 | P57: 7 | S57: 6 | V57: 8 | Y57: 7 | AB57: 6 | AE57: 3 | AH57: 4 | AK57: 4 | AN57: 4 | AQ57: 4 | AT57: 5 | AW57: 5 | AZ57: 8 | BC57: =SUM(J57:BB57) -> 86 | BH57: =BC57/COUNT(J57:BB57) -> 5.7333333 | BL57: =(BH56+BH57+BH58)/3 -> 6.2222222 | BP57: =BL57 -> 6.2222222 | BX57: B51이상 | BZ57: 주 | CA57: ='1-1 (2)'!D64+'1-1 (2)'!D65 -> #REF! | CB57: =CA57*BM37 -> #REF!
B58: 31-41 | J58: 9 | M58: 7 | P58: 7 | S58: 8 | V58: 8 | Y58: 8 | AB58: 7 | AE58: 7 | AH58: 8 | AK58: 7 | AN58: 7 | AQ58: 7 | AT58: 8 | AW58: 5 | AZ58: 5 | BC58: =SUM(J58:BB58) -> 108 | BH58: =BC58/COUNT(J58:BB58) -> 7.2 | BL58: =(BH57+BH58+BH59)/3 -> 6.5333333 | BP58: =BL58 -> 6.5333333 | BU58: 기존 임목 폐기물 | BZ58: ton | CB58: =CA58 -> 0 | CC58: =CB58 -> 0
B59: 41-51 | J59: 6 | M59: 6 | P59: 6 | S59: 7 | V59: 8 | Y59: 6 | AB59: 8 | AE59: 7 | AH59: 5 | AK59: 6 | AN59: 5 | AQ59: 7 | AT59: 8 | AW59: 7 | AZ59: 8 | BC59: =SUM(J59:BB59) -> 100 | BH59: =BC59/COUNT(J59:BB59) -> 6.6666667 | BL59: =(BH58+BH59+BH60)/3 -> 7.2444444 | BP59: =BL59 -> 7.2444444 | BU59: 폐기물 총 합계 (ton) | CC59: =CC16+CC58 -> #REF!
B60: 51-70 | J60: 8 | M60: 8 | P60: 8 | S60: 8 | V60: 9 | Y60: 8 | AB60: 8 | AE60: 7 | AH60: 8 | AK60: 8 | AN60: 8 | AQ60: 7 | AT60: 7 | AW60: 9 | AZ60: 7 | BC60: =SUM(J60:BB60) -> 118 | BH60: =BC60/COUNT(J60:BB60) -> 7.8666667 | BL60: =BH60 -> 7.8666667 | BP60: =BL60 -> 7.8666667

Sheet 1 (3)
A1: 공 종 별 집 계 표
A2: =#REF! -> #REF!
A3: 품 명 | B3: 규 격 | C3: 단위 | D3: 수량 | E3: 재 료 비 | G3: 노 무 비 | I3: 경 비 | K3: 합 계 | M3: 비 고 | N3: 공종코드 | O3: 변수 | P3: 상위공종 | Q3: 공종구분 | R3: 공종레벨 | S3: 공종소계 | T3: 원가계산서 연결금액
E4: 단 가 | F4: 금 액 | G4: 단 가 | H4: 금 액 | I4: 단 가 | J4: 금 액 | K4: 단 가 | L4: 금 액
A5: 01 수목전정 | E5: =F18 -> #REF! | F5: =E5 -> #REF! | G5: =H18 -> #REF! | H5: =G5 -> #REF! | I5: =J18 -> #REF! | J5: =I5 -> #REF! | K5: =L18 -> #REF! | L5: =K5 -> #REF! | N5: 01 | R5: 1
A6: 0101 조형전정 인력시공 | C6: 식 | D6: 1 | E6: ='1-1 (3)'!F11 -> #REF! | F6: =TRUNC(E6*D6) -> #REF! | G6: ='1-1 (3)'!H11 -> #REF! | H6: =TRUNC(G6*D6) -> #REF! | I6: ='1-1 (3)'!J11 -> #REF! | J6: =TRUNC(I6*D6) -> #REF! | K6: ='1-1 (3)'!L11 -> #REF! | L6: =TRUNC(D6*K6) -> #REF! | N6: 0102 | P6: 01 | R6: 2
A7: 0102 조형 전정 기계시공(낙엽수) | C7: 식 | D7: 1 | E7: ='1-1 (3)'!F20 -> #REF! | F7: =TRUNC(E7*D7) -> #REF! | G7: ='1-1 (3)'!H20 -> #REF! | H7: =TRUNC(G7*D7) -> #REF! | I7: ='1-1 (3)'!J20 -> #REF! | J7: =TRUNC(I7*D7) -> #REF! | K7: ='1-1 (3)'!L20 -> #REF! | L7: =TRUNC(D7*K7) -> #REF! | N7: 0103 | P7: 01 | R7: 2
A8: 0103 조형 전정 기계시공(상록수) | C8: 식 | D8: 1 | E8: ='1-1 (3)'!F28 -> #REF! | F8: =TRUNC(E8*D8) -> #REF! | G8: ='1-1 (3)'!H28 -> #REF! | H8: =TRUNC(G8*D8) -> #REF! | I8: ='1-1 (3)'!J28 -> #REF! | J8: =TRUNC(I8*D8) -> #REF! | K8: ='1-1 (3)'!L28 -> #REF! | L8: =TRUNC(D8*K8) -> #REF! | N8: 0104 | P8: 01 | R8: 2
A9: 0104 가로수 약전정 기계시공 | C9: 식 | D9: 1 | E9: ='1-1 (3)'!F38 -> #REF! | F9: =TRUNC(E9*D9) -> #REF! | G9: ='1-1 (3)'!H38 -> #REF! | H9: =TRUNC(G9*D9) -> #REF! | I9: ='1-1 (3)'!J38 -> #REF! | J9: =TRUNC(I9*D9) -> #REF! | K9: ='1-1 (3)'!L38 -> #REF! | L9: =TRUNC(D9*K9) -> #REF! | N9: 0105 | P9: 01 | R9: 2
A10: 0105 가로수 강전정 기계시공 | C10: 식 | D10: 1 | E10: ='1-1 (3)'!F47 -> #REF! | F10: =TRUNC(E10*D10) -> #REF! | G10: ='1-1 (3)'!H47 -> #REF! | H10: =TRUNC(G10*D10) -> #REF! | I10: ='1-1 (3)'!J47 -> #REF! | J10: =TRUNC(I10*D10) -> #REF! | K10: ='1-1 (3)'!L47 -> #REF! | L10: =TRUNC(D10*K10) -> #REF!
A11: 0106 가로수 조형전정 기계시공 | C11: 식 | D11: 1 | E11: ='1-1 (3)'!F56 -> #REF! | F11: =TRUNC(E11*D11) -> #REF! | G11: ='1-1 (3)'!H56 -> #REF! | H11: =TRUNC(G11*D11) -> #REF! | I11: ='1-1 (3)'!J56 -> #REF! | J11: =TRUNC(I11*D11) -> #REF! | K11: ='1-1 (3)'!L56 -> #REF! | L11: =TRUNC(D11*K11) -> #REF!
A12: 0107 나무베기 기계시공 | C12: 식 | D12: 1 | E12: ='1-1 (3)'!F66 -> #REF! | F12: =TRUNC(E12*D12) -> #REF! | G12: ='1-1 (3)'!H66 -> #REF! | H12: =TRUNC(G12*D12) -> #REF! | I12: ='1-1 (3)'!J66 -> #REF! | J12: =TRUNC(I12*D12) -> #REF! | K12: ='1-1 (3)'!L66 -> #REF! | L12: =TRUNC(D12*K12) -> #REF!
A13: 0108 뿌리제거 기계시공 | C13: 식 | D13: 1 | E13: ='1-1 (3)'!F76 -> #REF! | F13: =TRUNC(E13*D13) -> #REF! | G13: ='1-1 (3)'!H76 -> #REF! | H13: =TRUNC(G13*D13) -> #REF! | I13: ='1-1 (3)'!J76 -> #REF! | J13: =TRUNC(I13*D13) -> #REF! | K13: ='1-1 (3)'!L76 -> #REF! | L13: =TRUNC(D13*K13) -> #REF!
A14: 0109 소나무 조형전정 기계시공 | C14: 식 | D14: 1 | E14: ='1-1 (3)'!F86 -> #REF! | F14: =TRUNC(E14*D14) -> #REF! | G14: ='1-1 (3)'!H86 -> #REF! | H14: =TRUNC(G14*D14) -> #REF! | I14: ='1-1 (3)'!J86 -> #REF! | J14: =TRUNC(I14*D14) -> #REF! | K14: ='1-1 (3)'!L86 -> #REF! | L14: =TRUNC(D14*K14) -> #REF!
A15: 0110 소나무 전정(반송) | C15: 식 | D15: 1 | E15: ='1-1 (3)'!F93 -> 0 | F15: =TRUNC(E15*D15) -> 0 | G15: ='1-1 (3)'!H93 -> #REF! | H15: =TRUNC(G15*D15) -> #REF! | I15: ='1-1 (3)'!J93 -> #REF! | J15: =TRUNC(I15*D15) -> #REF! | K15: ='1-1 (3)'!L93 -> #REF! | L15: =TRUNC(D15*K15) -> #REF!
A16: 0111 등나무 전정 및 잡목제거 | C16: 식 | D16: 1 | E16: ='1-1 (3)'!F98 -> #REF! | F16: =TRUNC(E16*D16) -> #REF! | G16: ='1-1 (3)'!H98 -> #REF! | H16: =TRUNC(G16*D16) -> #REF! | I16: ='1-1 (3)'!J98 -> #REF! | J16: =TRUNC(I16*D16) -> #REF! | K16: ='1-1 (3)'!L98 -> #REF! | L16: =TRUNC(D16*K16) -> #REF!
A17: 0112 신호수,교통정리,안전처리 | C17: 식 | D17: 1 | E17: ='1-1 (3)'!F102 -> 0 | F17: =TRUNC(E17*D17) -> 0 | G17: ='1-1 (3)'!H102 -> #REF! | H17: =TRUNC(G17*D17) -> #REF! | I17: ='1-1 (3)'!J102 -> 0 | J17: =TRUNC(I17*D17) -> 0 | K17: ='1-1 (3)'!L102 -> #REF! | L17: =TRUNC(D17*K17) -> #REF!
A18: [ 합 계 ] | F18: =SUM(F6:F17) -> #REF! | H18: =SUM(H6:H17) -> #REF! | J18: =SUM(J6:J17) -> #REF! | L18: =SUM(L6:L17) -> #REF!

Sheet 1-1 (3)
A1: 공 종 별 내 역 서
A2: ='1 (3)'!A2 -> #REF! | B2: 규 격 흉고직경 | C2: 단위 | D2: 수량 | E2: 재 료 비 | G2: 노 무 비 | I2: 경 비 | K2: 합 계 | M2: 품목코드 | N2: 변수 | O2: 설정 | P2: 공종코드 | Q2: 일위 | R2: 단산 | S2: 자재 | T2: 손료적용 | U2: 손료저장 | V2: 적용율 | W2: JUK1 | X2: JUK2 | Y2: JUK3 | Z2: JUK4 | AA2: JUK5 | AB2: JUK6 | AC2: JUK7 | AD2: JUK8 | AE2: JUK9 | AF2: JUK10 | AG2: JUK11 | AH2: JUK12 | AI2: JUK13 | AJ2: JUK14 | AK2: JUK15 | AL2: JUK16 | AM2: JUK17 | AN2: JUK18 | AO2: JUK19 | AP2: JUK20 | AQ2: 자재구분 | AR2: 공종구분 | AS2: 공종레벨 | AT2: 공종+자재 | AU2: 고유번호
A3: 품 명 | E3: 단 가 | F3: 금 액 | G3: 단 가 | H3: 금 액 | I3: 단 가 | J3: 금 액 | K3: 단 가 | L3: 금 액
A4: 0101 조형전정 인력시공 | P4: 0102
A5: 조형 전정 인력시공(낙엽수) | B5: 11cm 미만 | C5: 주 | D5: =#REF! -> #REF! | E5: =#REF! -> #REF! | F5: =TRUNC(D5*E5) -> #REF! | G5: =#REF! -> #REF! | H5: =TRUNC(D5*G5) -> #REF! | I5: =#REF! -> #REF! | J5: =TRUNC(D5*I5) -> #REF! | K5: =#REF! -> #REF! | L5: =SUM(F5+H5+J5) -> #REF! | M5: 50B3D18B3B12AB5FA2A39D9B013E19 | P5: 0102 | Q5: T | R5: F | S5: F | AT5: 010250B3D18B3B12AB5FA2A39D9B013E19 | AU5: 50
A6: 조형 전정 인력시공(낙엽수) | B6: 11~21cm 미만 | C6: 주 | D6: =#REF! -> #REF! | E6: =#REF! -> #REF! | F6: =TRUNC(D6*E6) -> #REF! | G6: =#REF! -> #REF! | H6: =TRUNC(D6*G6) -> #REF! | I6: =#REF! -> #REF! | J6: =TRUNC(D6*I6) -> #REF! | K6: =#REF! -> #REF! | L6: =SUM(F6+H6+J6) -> #REF! | M6: 50B3D18B3B12AB5FA2A39D9B001816 | P6: 0102 | Q6: T | R6: F | S6: F | AT6: 010250B3D18B3B12AB5FA2A39D9B001816 | AU6: 51
A7: 조형 전정 인력시공(낙엽수) | B7: 21~31cm 미만 | C7: 주 | D7: =#REF! -> #REF! | E7: =#REF! -> #REF! | F7: =TRUNC(D7*E7) -> #REF! | G7: =#REF! -> #REF! | H7: =TRUNC(D7*G7) -> #REF! | I7: =#REF! -> #REF! | J7: =TRUNC(D7*I7) -> #REF! | K7: =#REF! -> #REF! | L7: =SUM(F7+H7+J7) -> #REF! | M7: 50B3D18B3B12AB5FA2A39D9B0747E5 | P7: 0102 | Q7: T | R7: F | S7: F | AT7: 010250B3D18B3B12AB5FA2A39D9B0747E5 | AU7: 52
A8: 조형 전정 인력시공(상록수) | B8: 11cm 미만 | C8: 주 | D8: =#REF! -> #REF! | E8: =#REF! -> #REF! | F8: =TRUNC(D8*E8) -> #REF! | G8: =#REF! -> #REF! | H8: =TRUNC(D8*G8) -> #REF! | I8: =#REF! -> #REF! | J8: =TRUNC(D8*I8) -> #REF! | K8: =#REF! -> #REF! | L8: =SUM(F8+H8+J8) -> #REF! | M8: 50B3D18B3B12AB5FA2A39D9B06A07B | P8: 0102 | Q8: T | R8: F | S8: F | AT8: 010250B3D18B3B12AB5FA2A39D9B06A07B | AU8: 53
A9: 조형 전정 인력시공(상록수) | B9: 11~21cm 미만 | C9: 주 | D9: =#REF! -> #REF! | E9: =#REF! -> #REF! | F9: =TRUNC(D9*E9) -> #REF! | G9: =#REF! -> #REF! | H9: =TRUNC(D9*G9) -> #REF! | I9: =#REF! -> #REF! | J9: =TRUNC(D9*I9) -> #REF! | K9: =#REF! -> #REF! | L9: =SUM(F9+H9+J9) -> #REF! | M9: 50B3D18B3B12AB5FA2A39D9B059909 | P9: 0102 | Q9: T | R9: F | S9: F | AT9: 010250B3D18B3B12AB5FA2A39D9B059909 | AU9: 54
A10: 조형 전정 인력시공(상록수) | B10: 21~31cm 미만 | C10: 주 | D10: =#REF! -> #REF! | E10: =#REF! -> #REF! | F10: =TRUNC(D10*E10) -> #REF! | G10: =#REF! -> #REF! | H10: =TRUNC(D10*G10) -> #REF! | I10: =#REF! -> #REF! | J10: =TRUNC(D10*I10) -> #REF! | K10: =#REF! -> #REF! | L10: =SUM(F10+H10+J10) -> #REF! | M10: 50B3D18B3B12AB5FA2A3AF9AD6AD64 | P10: 0102 | Q10: T | R10: F | S10: F | AT10: 010250B3D18B3B12AB5FA2A3AF9AD6AD64 | AU10: 55
A11: [ 합 계 ] | D11: =SUM(D5:D10) -> #REF! | F11: =SUM(F5:F10) -> #REF! | H11: =SUM(H5:H10) -> #REF! | J11: =SUM(J5:J10) -> #REF! | L11: =SUM(L5:L10) -> #REF! | M11: TOTAL
A13: 0102 조형전정 기계시공 | P13: 0103
A14: 조형 전정 기계시공(낙엽수) | B14: 11~21cm 미만 | C14: 주 | D14: =#REF! -> #REF! | E14: =#REF! -> #REF! | F14: =TRUNC(D14*E14) -> #REF! | G14: =#REF! -> #REF! | H14: =TRUNC(D14*G14) -> #REF! | I14: =#REF! -> #REF! | J14: =TRUNC(D14*I14) -> #REF! | K14: =#REF! -> #REF! | L14: =SUM(F14+H14+J14) -> #REF! | M14: 50B3D18B3B12AB5FA0F3A5978A3E91 | P14: 0103 | Q14: T | R14: F | S14: F | AT14: 010350B3D18B3B12AB5FA0F3A5978A3E91 | AU14: 61
A15: 조형 전정 기계시공(낙엽수) | B15: 21~31cm 미만 | C15: 주 | D15: =#REF! -> #REF! | E15: =#REF! -> #REF! | F15: =TRUNC(D15*E15) -> #REF! | G15: =#REF! -> #REF! | H15: =TRUNC(D15*G15) -> #REF! | I15: =#REF! -> #REF! | J15: =TRUNC(D15*I15) -> #REF! | K15: =#REF! -> #REF! | L15: =IFERROR(TRUNC(F15+H15+J15,0),0) -> 0 | M15: 50B3D18B3B12AB5FA0F3A594362088 | P15: 0103 | Q15: T | R15: F | S15: F | AT15: 010350B3D18B3B12AB5FA0F3A594362088 | AU15: 62
A16: 조형 전정 기계시공(낙엽수) | B16: 31~41cm 미만 | C16: 주 | D16: =#REF! -> #REF! | E16: =#REF! -> #REF! | F16: =TRUNC(D16*E16) -> #REF! | G16: =#REF! -> #REF! | H16: =TRUNC(D16*G16) -> #REF! | I16: =#REF! -> #REF! | J16: =TRUNC(D16*I16) -> #REF! | K16: =#REF! -> #REF! | L16: =IFERROR(TRUNC(F16+H16+J16,0),0) -> 0 | M16: 50B3D18B3B12AB5FA0F3A595DC42B1 | P16: 0103 | Q16: T | R16: F | S16: F | AT16: 010350B3D18B3B12AB5FA0F3A595DC42B1 | AU16: 63
A17: 조형 전정 기계시공(낙엽수) | B17: 41~51cm 미만 | C17: 주 | D17: =#REF! -> #REF! | E17: =#REF! -> #REF! | F17: =TRUNC(D17*E17) -> #REF! | G17: =#REF! -> #REF! | H17: =TRUNC(D17*G17) -> #REF! | I17: =#REF! -> #REF! | J17: =TRUNC(D17*I17) -> #REF! | K17: =#REF! -> #REF! | L17: =IFERROR(TRUNC(F17+H17+J17,0),0) -> 0 | M17: 50B3D18B3B12AB5FA0F3A59208250E | P17: 0103 | Q17: T | R17: F | S17: F | AT17: 010350B3D18B3B12AB5FA0F3A59208250E | AU17: 64
A18: 조형 전정 기계시공(낙엽수) | B18: 51~61cm 미만 | C18: 주 | D18: =#REF! -> #REF! | E18: =#REF! -> #REF! | F18: =TRUNC(D18*E18) -> #REF! | G18: =#REF! -> #REF! | H18: =TRUNC(D18*G18) -> #REF! | I18: =#REF! -> #REF! | J18: =TRUNC(D18*I18) -> #REF! | K18: =#REF! -> #REF! | L18: =IFERROR(TRUNC(F18+H18+J18,0),0) -> 0 | M18: 50B3D18B3B12AB5FA0F3A59311C45A | P18: 0103 | Q18: T | R18: F | S18: F | AT18: 010350B3D18B3B12AB5FA0F3A59311C45A | AU18: 65
A19: 조형 전정 기계시공(낙엽수) | B19: 61cm 초과 | C19: 주 | D19: =#REF! -> #REF! | E19: =#REF! -> #REF! | F19: =TRUNC(D19*E19) -> #REF! | G19: =#REF! -> #REF! | H19: =TRUNC(D19*G19) -> #REF! | I19: =#REF! -> #REF! | J19: =TRUNC(D19*I19) -> #REF! | K19: =#REF! -> #REF! | L19: =SUM(L14:L18) -> #REF! | M19: TOTAL
A20: [ 합 계 ] | D20: =SUM(D14:D19) -> #REF! | F20: =SUM(F14:F19) -> #REF! | H20: =SUM(H14:H19) -> #REF! | J20: =SUM(J14:J19) -> #REF! | L20: =SUM(L14:L19) -> #REF!
A22: 조형 전정 기계시공(상록수) | B22: 11~21cm 미만 | C22: 주 | D22: =#REF! -> #REF! | E22: =#REF! -> #REF! | F22: =TRUNC(D22*E22) -> #REF! | G22: =#REF! -> #REF! | H22: =TRUNC(D22*G22) -> #REF! | I22: =#REF! -> #REF! | J22: =TRUNC(D22*I22) -> #REF! | K22: =#REF! -> #REF! | L22: =SUM(F22+H22+J22) -> #REF! | M22: 50B3D18B3B12AB5FA0F3A596E5617B | P22: 0104 | Q22: T | R22: F | S22: F | AT22: 010450B3D18B3B12AB5FA0F3A596E5617B | AU22: 81
A23: 조형 전정 기계시공(상록수) | B23: 21~31cm 미만 | C23: 주 | D23: =#REF! -> #REF! | E23: =#REF! -> #REF! | F23: =TRUNC(D23*E23) -> #REF! | G23: =#REF! -> #REF! | H23: =TRUNC(D23*G23) -> #REF! | I23: =#REF! -> #REF! | J23: =TRUNC(D23*I23) -> #REF! | K23: =#REF! -> #REF! | L23: =IFERROR(TRUNC(F23+H23+J23,0),0) -> 0 | M23: 50B3D18B3B12AB5FA0F3A596E5617A | P23: 0104 | Q23: T | R23: F | S23: F | AT23: 010450B3D18B3B12AB5FA0F3A596E5617A | AU23: 82
A24: 조형 전정 기계시공(상록수) | B24: 31~41cm 미만 | C24: 주 | D24: =#REF! -> #REF! | E24: =#REF! -> #REF! | F24: =TRUNC(D24*E24) -> #REF! | G24: =#REF! -> #REF! | H24: =TRUNC(D24*G24) -> #REF! | I24: =#REF! -> #REF! | J24: =TRUNC(D24*I24) -> #REF! | K24: =#REF! -> #REF! | L24: =IFERROR(TRUNC(F24+H24+J24,0),0) -> 0 | M24: 50B3D18B3B12AB5FA0F3A596E56175 | P24: 0104 | Q24: T | R24: F | S24: F | AT24: 010450B3D18B3B12AB5FA0F3A596E56175 | AU24: 83
A25: 조형 전정 기계시공(상록수) | B25: 41~51cm 미만 | C25: 주 | D25: =#REF! -> #REF! | E25: =#REF! -> #REF! | F25: =TRUNC(D25*E25) -> #REF! | G25: =#REF! -> #REF! | H25: =TRUNC(D25*G25) -> #REF! | I25: =#REF! -> #REF! | J25: =TRUNC(D25*I25) -> #REF! | K25: =#REF! -> #REF! | L25: =IFERROR(TRUNC(F25+H25+J25,0),0) -> 0 | M25: 50B3D18B3B12AB5FA0F3A596E56174 | P25: 0104 | Q25: T | R25: F | S25: F | AT25: 010450B3D18B3B12AB5FA0F3A596E56174 | AU25: 84
A26: 조형 전정 기계시공(상록수) | B26: 51~61cm 미만 | C26: 주 | D26: =#REF! -> #REF! | E26: =#REF! -> #REF! | F26: =TRUNC(D26*E26) -> #REF! | G26: =#REF! -> #REF! | H26: =TRUNC(D26*G26) -> #REF! | I26: =#REF! -> #REF! | J26: =TRUNC(D26*I26) -> #REF! | K26: =#REF! -> #REF! | L26: =IFERROR(TRUNC(F26+H26+J26,0),0) -> 0 | M26: 50B3D18B3B12AB5FA0F3A596E56056 | P26: 0104 | Q26: T | R26: F | S26: F | AT26: 010450B3D18B3B12AB5FA0F3A596E56056 | AU26: 85
A27: 조형 전정 기계시공(상록수) | B27: 61cm 초과 | C27: 주 | D27: =#REF! -> #REF! | E27: =#REF! -> #REF! | F27: =TRUNC(D27*E27) -> #REF! | G27: =#REF! -> #REF! | H27: =TRUNC(D27*G27) -> #REF! | I27: =#REF! -> #REF! | J27: =TRUNC(D27*I27) -> #REF! | K27: =#REF! -> #REF! | L27: =IFERROR(TRUNC(F27+H27+J27,0),0) -> 0 | M27: TOTAL
A28: [ 합 계 ] | D28: =SUM(D22:D27) -> #REF! | F28: =SUM(F22:F27) -> #REF! | H28: =SUM(H22:H27) -> #REF! | J28: =SUM(J22:J27) -> #REF! | L28: =SUM(L22:L27) -> #REF!
A30: 0103 가로수 전정
A31: 가로수전정 (약전정) 기계시공 | B31: 11cm 미만 | C31: 주 | D31: =#REF! -> #REF! | E31: =#REF! -> #REF! | F31: =TRUNC(D31*E31) -> #REF! | G31: =#REF! -> #REF! | H31: =TRUNC(D31*G31) -> #REF! | I31: =#REF! -> #REF! | J31: =TRUNC(D31*I31) -> #REF! | K31: =#REF! -> #REF! | L31: =SUM(F31+H31+J31) -> #REF!
A32: 가로수전정 (약전정) 기계시공 | B32: 11~21cm 미만 | C32: 주 | D32: =#REF! -> #REF! | E32: =#REF! -> #REF! | F32: =TRUNC(D32*E32) -> #REF! | G32: =#REF! -> #REF! | H32: =TRUNC(D32*G32) -> #REF! | I32: =#REF! -> #REF! | J32: =TRUNC(D32*I32) -> #REF! | K32: =#REF! -> #REF! | L32: =SUM(F32+H32+J32) -> #REF!
A33: 가로수전정 (약전정) 기계시공 | B33: 21~31cm 미만 | C33: 주 | D33: =#REF! -> #REF! | E33: =#REF! -> #REF! | F33: =TRUNC(D33*E33) -> #REF! | G33: =#REF! -> #REF! | H33: =TRUNC(D33*G33) -> #REF! | I33: =#REF! -> #REF! | J33: =TRUNC(D33*I33) -> #REF! | K33: =#REF! -> #REF! | L33: =SUM(F33+H33+J33) -> #REF!
A34: 가로수전정 (약전정) 기계시공 | B34: 31~41cm 미만 | C34: 주 | D34: =#REF! -> #REF! | E34: =#REF! -> #REF! | F34: =TRUNC(D34*E34) -> #REF! | G34: =#REF! -> #REF! | H34: =TRUNC(D34*G34) -> #REF! | I34: =#REF! -> #REF! | J34: =TRUNC(D34*I34) -> #REF! | K34: =#REF! -> #REF! | L34: =SUM(F34+H34+J34) -> #REF!
A35: 가로수전정 (약전정) 기계시공 | B35: 41~51cm 미만 | C35: 주 | D35: =#REF! -> #REF! | E35: =#REF! -> #REF! | F35: =TRUNC(D35*E35) -> #REF! | G35: =#REF! -> #REF! | H35: =TRUNC(D35*G35) -> #REF! | I35: =#REF! -> #REF! | J35: =TRUNC(D35*I35) -> #REF! | K35: =#REF! -> #REF! | L35: =SUM(F35+H35+J35) -> #REF!
A36: 가로수전정 (약전정) 기계시공 | B36: 51~61cm 미만 | C36: 주 | D36: =#REF! -> #REF! | E36: =#REF! -> #REF! | F36: =TRUNC(D36*E36) -> #REF! | G36: =#REF! -> #REF! | H36: =TRUNC(D36*G36) -> #REF! | I36: =#REF! -> #REF! | J36: =TRUNC(D36*I36) -> #REF! | K36: =#REF! -> #REF! | L36: =SUM(F36+H36+J36) -> #REF!
A37: 가로수전정 (약전정) 기계시공 | B37: 61cm 초과 | C37: 주 | D37: =#REF! -> #REF! | E37: =#REF! -> #REF! | F37: =TRUNC(D37*E37) -> #REF! | G37: =#REF! -> #REF! | H37: =TRUNC(D37*G37) -> #REF! | I37: =#REF! -> #REF! | J37: =TRUNC(D37*I37) -> #REF! | K37: =#REF! -> #REF! | L37: =SUM(F37+H37+J37) -> #REF!
A38: [ 합 계 ] | D38: =SUM(D32:D37) -> #REF! | F38: =SUM(F31:F37) -> #REF! | H38: =SUM(H31:H37) -> #REF! | J38: =SUM(J31:J37) -> #REF! | L38: =SUM(L31:L37) -> #REF!
A40: 가로수전정 (강전정) 기계시공 | B40: 11cm 미만 | C40: 주 | D40: =#REF! -> #REF! | E40: =#REF! -> #REF! | F40: =TRUNC(D40*E40) -> #REF! | G40: =#REF! -> #REF! | H40: =TRUNC(D40*G40) -> #REF! | I40: =#REF! -> #REF! | J40: =TRUNC(D40*I40) -> #REF! | K40: =#REF! -> #REF! | L40: =SUM(F40+H40+J40) -> #REF!
A41: 가로수전정 (강전정) 기계시공 | B41: 11~21cm 미만 | C41: 주 | D41: =#REF! -> #REF! | E41: =#REF! -> #REF! | F41: =TRUNC(D41*E41) -> #REF! | G41: =#REF! -> #REF! | H41: =TRUNC(D41*G41) -> #REF! | I41: =#REF! -> #REF! | J41: =TRUNC(D41*I41) -> #REF! | K41: =#REF! -> #REF! | L41: =SUM(F41+H41+J41) -> #REF!
A42: 가로수전정 (강전정) 기계시공 | B42: 21~31cm 미만 | C42: 주 | D42: =#REF! -> #REF! | E42: =#REF! -> #REF! | F42: =TRUNC(D42*E42) -> #REF! | G42: =#REF! -> #REF! | H42: =TRUNC(D42*G42) -> #REF! | I42: =#REF! -> #REF! | J42: =TRUNC(D42*I42) -> #REF! | K42: =#REF! -> #REF! | L42: =SUM(F42+H42+J42) -> #REF!
A43: 가로수전정 (강전정) 기계시공 | B43: 31~41cm 미만 | C43: 주 | D43: =#REF! -> #REF! | E43: =#REF! -> #REF! | F43: =TRUNC(D43*E43) -> #REF! | G43: =#REF! -> #REF! | H43: =TRUNC(D43*G43) -> #REF! | I43: =#REF! -> #REF! | J43: =TRUNC(D43*I43) -> #REF! | K43: =#REF! -> #REF! | L43: =SUM(F43+H43+J43) -> #REF!
A44: 가로수전정 (강전정) 기계시공 | B44: 41~51cm 미만 | C44: 주 | D44: =#REF! -> #REF! | E44: =#REF! -> #REF! | F44: =TRUNC(D44*E44) -> #REF! | G44: =#REF! -> #REF! | H44: =TRUNC(D44*G44) -> #REF! | I44: =#REF! -> #REF! | J44: =TRUNC(D44*I44) -> #REF! | K44: =#REF! -> #REF! | L44: =SUM(F44+H44+J44) -> #REF!
A45: 가로수전정 (강전정) 기계시공 | B45: 51~61cm 미만 | C45: 주 | D45: =#REF! -> #REF! | E45: =#REF! -> #REF! | F45: =TRUNC(D45*E45) -> #REF! | G45: =#REF! -> #REF! | H45: =TRUNC(D45*G45) -> #REF! | I45: =#REF! -> #REF! | J45: =TRUNC(D45*I45) -> #REF! | K45: =#REF! -> #REF! | L45: =SUM(F45+H45+J45) -> #REF!
A46: 가로수전정 (강전정) 기계시공 | B46: 61cm 초과 | C46: 주 | D46: =#REF! -> #REF! | E46: =#REF! -> #REF! | F46: =TRUNC(D46*E46) -> #REF! | G46: =#REF! -> #REF! | H46: =TRUNC(D46*G46) -> #REF! | I46: =#REF! -> #REF! | J46: =TRUNC(D46*I46) -> #REF! | K46: =#REF! -> #REF! | L46: =SUM(F46+H46+J46) -> #REF!
A47: [ 합 계 ] | D47: =SUM(D40:D46) -> #REF! | F47: =SUM(F40:F46) -> #REF! | H47: =SUM(H40:H46) -> #REF! | J47: =SUM(J40:J46) -> #REF! | L47: =SUM(L40:L46) -> #REF!
A49: 가로수전정 (조형전정) 기계시공 | B49: 11cm 미만 | C49: 주 | D49: =#REF! -> #REF! | E49: =#REF! -> #REF! | F49: =TRUNC(D49*E49) -> #REF! | G49: =#REF! -> #REF! | H49: =TRUNC(D49*G49) -> #REF! | I49: =#REF! -> #REF! | J49: =TRUNC(D49*I49) -> #REF! | K49: =#REF! -> #REF! | L49: =SUM(F49+H49+J49) -> #REF!
A50: 가로수전정 (조형전정) 기계시공 | B50: 11~21cm 미만 | C50: 주 | D50: =#REF! -> #REF! | E50: =#REF! -> #REF! | F50: =TRUNC(D50*E50) -> #REF! | G50: =#REF! -> #REF! | H50: =TRUNC(D50*G50) -> #REF! | I50: =#REF! -> #REF! | J50: =TRUNC(D50*I50) -> #REF! | K50: =#REF! -> #REF! | L50: =SUM(F50+H50+J50) -> #REF!
A51: 가로수전정 (조형전정) 기계시공 | B51: 21~31cm 미만 | C51: 주 | D51: =#REF! -> #REF! | E51: =#REF! -> #REF! | F51: =TRUNC(D51*E51) -> #REF! | G51: =#REF! -> #REF! | H51: =TRUNC(D51*G51) -> #REF! | I51: =#REF! -> #REF! | J51: =TRUNC(D51*I51) -> #REF! | K51: =#REF! -> #REF! | L51: =SUM(F51+H51+J51) -> #REF!
A52: 가로수전정 (조형전정) 기계시공 | B52: 31~41cm 미만 | C52: 주 | D52: =#REF! -> #REF! | E52: =#REF! -> #REF! | F52: =TRUNC(D52*E52) -> #REF! | G52: =#REF! -> #REF! | H52: =TRUNC(D52*G52) -> #REF! | I52: =#REF! -> #REF! | J52: =TRUNC(D52*I52) -> #REF! | K52: =#REF! -> #REF! | L52: =SUM(F52+H52+J52) -> #REF!
A53: 가로수전정 (조형전정) 기계시공 | B53: 41~51cm 미만 | C53: 주 | D53: =#REF! -> #REF! | E53: =#REF! -> #REF! | F53: =TRUNC(D53*E53) -> #REF! | G53: =#REF! -> #REF! | H53: =TRUNC(D53*G53) -> #REF! | I53: =#REF! -> #REF! | J53: =TRUNC(D53*I53) -> #REF! | K53: =#REF! -> #REF! | L53: =SUM(F53+H53+J53) -> #REF!
A54: 가로수전정 (조형전정) 기계시공 | B54: 51~61cm 미만 | C54: 주 | D54: =#REF! -> #REF! | E54: =#REF! -> #REF! | F54: =TRUNC(D54*E54) -> #REF! | G54: =#REF! -> #REF! | H54: =TRUNC(D54*G54) -> #REF! | I54: =#REF! -> #REF! | J54: =TRUNC(D54*I54) -> #REF! | K54: =#REF! -> #REF! | L54: =SUM(F54+H54+J54) -> #REF!
A55: 가로수전정 (조형전정) 기계시공 | B55: 61cm 초과 | C55: 주 | D55: =#REF! -> #REF! | E55: =#REF! -> #REF! | F55: =TRUNC(D55*E55) -> #REF! | G55: =#REF! -> #REF! | H55: =TRUNC(D55*G55) -> #REF! | I55: =#REF! -> #REF! | J55: =TRUNC(D55*I55) -> #REF! | K55: =#REF! -> #REF! | L55: =SUM(F55+H55+J55) -> #REF!
A56: [ 합 계 ] | D56: =SUM(D49:D55) -> #REF! | F56: =SUM(F49:F55) -> #REF! | H56: =SUM(H49:H55) -> #REF! | J56: =SUM(J49:J55) -> #REF! | L56: =SUM(L49:L55) -> #REF!
A58: 0104 나무베기
A59: 나무베기 기계시공 | B59: 11cm 미만 | C59: 주 | D59: =#REF! -> #REF! | E59: =#REF! -> #REF! | F59: =TRUNC(D59*E59) -> #REF! | G59: =#REF! -> #REF! | H59: =TRUNC(D59*G59) -> #REF! | I59: =#REF! -> #REF! | J59: =TRUNC(D59*I59) -> #REF! | K59: =#REF! -> #REF! | L59: =SUM(F59+H59+J59) -> #REF!
A60: 나무베기 기계시공 | B60: 11~21cm 미만 | C60: 주 | D60: =#REF! -> #REF! | E60: =#REF! -> #REF! | F60: =TRUNC(D60*E60) -> #REF! | G60: =#REF! -> #REF! | H60: =TRUNC(D60*G60) -> #REF! | I60: =#REF! -> #REF! | J60: =TRUNC(D60*I60) -> #REF! | K60: =#REF! -> #REF! | L60: =SUM(F60+H60+J60) -> #REF!
A61: 나무베기 기계시공 | B61: 21~31cm 미만 | C61: 주 | D61: =#REF! -> #REF! | E61: =#REF! -> #REF! | F61: =TRUNC(D61*E61) -> #REF! | G61: =#REF! -> #REF! | H61: =TRUNC(D61*G61) -> #REF! | I61: =#REF! -> #REF! | J61: =TRUNC(D61*I61) -> #REF! | K61: =#REF! -> #REF! | L61: =SUM(F61+H61+J61) -> #REF!
A62: 나무베기 기계시공 | B62: 31~41cm 미만 | C62: 주 | D62: =#REF! -> #REF! | E62: =#REF! -> #REF! | F62: =TRUNC(D62*E62) -> #REF! | G62: =#REF! -> #REF! | H62: =TRUNC(D62*G62) -> #REF! | I62: =#REF! -> #REF! | J62: =TRUNC(D62*I62) -> #REF! | K62: =#REF! -> #REF! | L62: =SUM(F62+H62+J62) -> #REF!
A63: 나무베기 기계시공 | B63: 41~51cm 미만 | C63: 주 | D63: =#REF! -> #REF! | E63: =#REF! -> #REF! | F63: =TRUNC(D63*E63) -> #REF! | G63: =#REF! -> #REF! | H63: =TRUNC(D63*G63) -> #REF! | I63: =#REF! -> #REF! | J63: =TRUNC(D63*I63) -> #REF! | K63: =#REF! -> #REF! | L63: =SUM(F63+H63+J63) -> #REF!
A64: 나무베기 기계시공 | B64: 51~61cm 미만 | C64: 주 | D64: =#REF! -> #REF! | E64: =#REF! -> #REF! | F64: =TRUNC(D64*E64) -> #REF! | G64: =#REF! -> #REF! | H64: =TRUNC(D64*G64) -> #REF! | I64: =#REF! -> #REF! | J64: =TRUNC(D64*I64) -> #REF! | K64: =#REF! -> #REF! | L64: =SUM(F64+H64+J64) -> #REF!
A65: 나무베기 기계시공 | B65: 61cm 초과 | C65: 주 | D65: =#REF! -> #REF! | E65: =#REF! -> #REF! | F65: =TRUNC(D65*E65) -> #REF! | G65: =#REF! -> #REF! | H65: =TRUNC(D65*G65) -> #REF! | I65: =#REF! -> #REF! | J65: =TRUNC(D65*I65) -> #REF! | K65: =#REF! -> #REF! | L65: =SUM(F65+H65+J65) -> #REF!
A66: [ 합 계 ] | D66: =SUM(D59:D65) -> #REF! | F66: =SUM(F59:F65) -> #REF! | H66: =SUM(H59:H65) -> #REF! | J66: =SUM(J59:J65) -> #REF! | L66: =SUM(L59:L65) -> #REF!
A68: 0105 뿌리제거
A69: 뿌리제거 기계시공 | B69: 11cm 미만 | C69: 주 | D69: =#REF! -> #REF! | E69: =#REF! -> #REF! | F69: =TRUNC(D69*E69) -> #REF! | G69: =#REF! -> #REF! | H69: =TRUNC(D69*G69) -> #REF! | I69: =#REF! -> #REF! | J69: =TRUNC(D69*I69) -> #REF! | K69: =#REF! -> #REF! | L69: =SUM(F69+H69+J69) -> #REF!
A70: 뿌리제거 기계시공 | B70: 11~21cm 미만 | C70: 주 | D70: =#REF! -> #REF! | E70: =#REF! -> #REF! | F70: =TRUNC(D70*E70) -> #REF! | G70: =#REF! -> #REF! | H70: =TRUNC(D70*G70) -> #REF! | I70: =#REF! -> #REF! | J70: =TRUNC(D70*I70) -> #REF! | K70: =#REF! -> #REF! | L70: =SUM(F70+H70+J70) -> #REF!
A71: 뿌리제거 기계시공 | B71: 21~31cm 미만 | C71: 주 | D71: =#REF! -> #REF! | E71: =#REF! -> #REF! | F71: =TRUNC(D71*E71) -> #REF! | G71: =#REF! -> #REF! | H71: =TRUNC(D71*G71) -> #REF! | I71: =#REF! -> #REF! | J71: =TRUNC(D71*I71) -> #REF! | K71: =#REF! -> #REF! | L71: =SUM(F71+H71+J71) -> #REF!
A72: 뿌리제거 기계시공 | B72: 31~41cm 미만 | C72: 주 | D72: =#REF! -> #REF! | E72: =#REF! -> #REF! | F72: =TRUNC(D72*E72) -> #REF! | G72: =#REF! -> #REF! | H72: =TRUNC(D72*G72) -> #REF! | I72: =#REF! -> #REF! | J72: =TRUNC(D72*I72) -> #REF! | K72: =#REF! -> #REF! | L72: =SUM(F72+H72+J72) -> #REF!
A73: 뿌리제거 기계시공 | B73: 41~51cm 미만 | C73: 주 | D73: =#REF! -> #REF! | E73: =#REF! -> #REF! | F73: =TRUNC(D73*E73) -> #REF! | G73: =#REF! -> #REF! | H73: =TRUNC(D73*G73) -> #REF! | I73: =#REF! -> #REF! | J73: =TRUNC(D73*I73) -> #REF! | K73: =#REF! -> #REF! | L73: =SUM(F73+H73+J73) -> #REF!
A74: 뿌리제거 기계시공 | B74: 51~61cm 미만 | C74: 주 | D74: =#REF! -> #REF! | E74: =#REF! -> #REF! | F74: =TRUNC(D74*E74) -> #REF! | G74: =#REF! -> #REF! | H74: =TRUNC(D74*G74) -> #REF! | I74: =#REF! -> #REF! | J74: =TRUNC(D74*I74) -> #REF! | K74: =#REF! -> #REF! | L74: =SUM(F74+H74+J74) -> #REF!
A75: 뿌리제거 기계시공 | B75: 61cm 초과 | C75: 주 | D75: =#REF! -> #REF! | E75: =#REF! -> #REF! | F75: =TRUNC(D75*E75) -> #REF! | G75: =#REF! -> #REF! | H75: =TRUNC(D75*G75) -> #REF! | I75: =#REF! -> #REF! | J75: =TRUNC(D75*I75) -> #REF! | K75: =#REF! -> #REF! | L75: =SUM(F75+H75+J75) -> #REF!
A76: [ 합 계 ] | D76: =SUM(D69:D75) -> #REF! | F76: =SUM(F69:F75) -> #REF! | H76: =SUM(H69:H75) -> #REF! | J76: =SUM(J69:J75) -> #REF! | L76: =SUM(L69:L75) -> #REF!
A78: 0106 소나무 전정
A79: 소나무전정 (조형전정) 기계시공 | B79: 11cm 미만 | C79: 주 | D79: =#REF! -> #REF! | E79: =#REF! -> #REF! | F79: =TRUNC(D79*E79) -> #REF! | G79: =#REF! -> #REF! | H79: =TRUNC(D79*G79) -> #REF! | I79: =#REF! -> #REF! | J79: =TRUNC(D79*I79) -> #REF! | K79: =#REF! -> #REF! | L79: =SUM(F79+H79+J79) -> #REF! | P79: 0105
A80: 소나무전정 (조형전정) 기계시공 | B80: 11~21cm 미만 | C80: 주 | D80: =#REF! -> #REF! | E80: =#REF! -> #REF! | F80: =TRUNC(D80*E80) -> #REF! | G80: =#REF! -> #REF! | H80: =TRUNC(D80*G80) -> #REF! | I80: =#REF! -> #REF! | J80: =TRUNC(D80*I80) -> #REF! | K80: =#REF! -> #REF! | L80: =SUM(F80+H80+J80) -> #REF! | M80: 50B3D18B3B12AB5FA0F3A5978A3E92 | P80: 0105 | Q80: T | R80: F | S80: F | AT80: 010550B3D18B3B12AB5FA0F3A5978A3E92 | AU80: 87
A81: 소나무전정 (조형전정) 기계시공 | B81: 21~31cm 미만 | C81: 주 | D81: =#REF! -> #REF! | E81: =#REF! -> #REF! | F81: =TRUNC(D81*E81) -> #REF! | G81: =#REF! -> #REF! | H81: =TRUNC(D81*G81) -> #REF! | I81: =#REF! -> #REF! | J81: =TRUNC(D81*I81) -> #REF! | K81: =#REF! -> #REF! | L81: =SUM(F81+H81+J81) -> #REF! | M81: 50B3D18B3B12AB5FA0F3A5943621AC | P81: 0105 | Q81: T | R81: F | S81: F | AT81: 010550B3D18B3B12AB5FA0F3A5943621AC | AU81: 88
A82: 소나무전정 (조형전정) 기계시공 | B82: 31~41cm 미만 | C82: 주 | D82: =#REF! -> #REF! | E82: =#REF! -> #REF! | F82: =TRUNC(D82*E82) -> #REF! | G82: =#REF! -> #REF! | H82: =TRUNC(D82*G82) -> #REF! | I82: =#REF! -> #REF! | J82: =TRUNC(D82*I82) -> #REF! | K82: =#REF! -> #REF! | L82: =SUM(F82+H82+J82) -> #REF! | M82: 50B3D18B3B12AB5FA0F394996ABFA1 | P82: 0105 | Q82: T | R82: F | S82: F | AT82: 010550B3D18B3B12AB5FA0F394996ABFA1 | AU82: 91
A83: 소나무전정 (조형전정) 기계시공 | B83: 41~51cm 미만 | C83: 주 | D83: =#REF! -> #REF! | E83: =#REF! -> #REF! | F83: =TRUNC(D83*E83) -> #REF! | G83: =#REF! -> #REF! | H83: =TRUNC(D83*G83) -> #REF! | I83: =#REF! -> #REF! | J83: =TRUNC(D83*I83) -> #REF! | K83: =#REF! -> #REF! | L83: =SUM(F83+H83+J83) -> #REF! | M83: 50B3D18B3B12AB5FA0F394996ABFA0 | P83: 0105 | Q83: T | R83: F | S83: F | AT83: 010550B3D18B3B12AB5FA0F394996ABFA0 | AU83: 89
A84: 소나무전정 (조형전정) 기계시공 | B84: 51~61cm 미만 | C84: 주 | D84: =#REF! -> #REF! | E84: =#REF! -> #REF! | F84: =TRUNC(D84*E84) -> #REF! | G84: =#REF! -> #REF! | H84: =TRUNC(D84*G84) -> #REF! | I84: =#REF! -> #REF! | J84: =TRUNC(D84*I84) -> #REF! | K84: =#REF! -> #REF! | L84: =SUM(F84+H84+J84) -> #REF! | M84: 50B3D18B3B12AB5FA0F394996ABFAF | P84: 0105 | Q84: T | R84: F | S84: F | AT84: 010550B3D18B3B12AB5FA0F394996ABFAF | AU84: 90
A85: 소나무전정 (조형전정) 기계시공 | B85: 61cm 초과 | C85: 주 | D85: =#REF! -> #REF! | E85: =#REF! -> #REF! | F85: =TRUNC(D85*E85) -> #REF! | G85: =#REF! -> #REF! | H85: =TRUNC(D85*G85) -> #REF! | I85: =#REF! -> #REF! | J85: =TRUNC(D85*I85) -> #REF! | K85: =#REF! -> #REF! | L85: =SUM(F85+H85+J85) -> #REF! | M85: TOTAL
A86: [ 합 계 ] | D86: =SUM(D79:D85) -> #REF! | F86: =SUM(F79:F85) -> #REF! | H86: =SUM(H79:H85) -> #REF! | J86: =SUM(J79:J85) -> #REF! | L86: =SUM(L79:L85) -> #REF!
A88: 0107 소나무 전정(반송) | P88: 0107
A89: 소나무전정 (반송) | B89: 솎아내기 포함 (수관) 1.5m이하 | C89: 주 | D89: =#REF! -> #REF! | G89: =#REF! -> #REF! | H89: =TRUNC(D89*G89) -> #REF! | I89: =#REF! -> #REF! | J89: =TRUNC(D89*I89) -> #REF! | K89: =#REF! -> #REF! | L89: =SUM(F89+H89+J89) -> #REF! | M89: 509ED18539C97C5005330B9408C7B3 | P89: 0107 | Q89: F | R89: F | S89: T | AT89: 0107509ED18539C97C5005330B9408C7B3 | AU89: 35
A90: 소나무전정 (반송) | B90: 솎아내기 포함 (작업량이 많음) (수관) 1.5m이하 | C90: 주 | D90: =#REF! -> #REF! | G90: =#REF! -> #REF! | H90: =TRUNC(D90*G90) -> #REF! | I90: =#REF! -> #REF! | J90: =TRUNC(D90*I90) -> #REF! | K90: =#REF! -> #REF! | L90: =SUM(F90+H90+J90) -> #REF! | M90: TOTAL
A91: 소나무전정 (반송) | B91: 솎아내기 포함 (수관) 1.5m이상 | C91: 주 | D91: =#REF! -> #REF! | G91: =#REF! -> #REF! | H91: =TRUNC(D91*G91) -> #REF! | I91: =#REF! -> #REF! | J91: =TRUNC(D91*I91) -> #REF! | K91: =#REF! -> #REF! | L91: =SUM(F91+H91+J91) -> #REF!
A92: 소나무전정 (반송) | B92: 솎아내기 포함 (작업량이 많음) (수관) 1.5m이상 | C92: 주 | D92: =#REF! -> #REF! | G92: =#REF! -> #REF! | H92: =TRUNC(D92*G92) -> #REF! | I92: =#REF! -> #REF! | J92: =TRUNC(D92*I92) -> #REF! | K92: =#REF! -> #REF! | L92: =SUM(F92+H92+J92) -> #REF!
A93: [ 합 계 ] | D93: =SUM(D89:D92) -> #REF! | F93: =SUM(F89:F92) -> 0 | H93: =SUM(H89:H92) -> #REF! | J93: =SUM(J89:J92) -> #REF! | L93: =SUM(L89:L92) -> #REF!
A95: 0108 등나무 전정 및 잡목제거
A96: 등나무 전정 | B96: 1m2당 | C96: ㎡ | D96: =#REF! -> #REF! | E96: =#REF! -> #REF! | F96: =TRUNC(D96*E96) -> #REF! | G96: =#REF! -> #REF! | H96: =TRUNC(D96*G96) -> #REF! | I96: =#REF! -> #REF! | J96: =TRUNC(D96*I96) -> #REF! | K96: =#REF! -> #REF! | L96: =SUM(F96+H96+J96) -> #REF!
A97: 잡목제거 | B97: 1m2당 | C97: ㎡ | D97: =#REF! -> #REF! | E97: =#REF! -> #REF! | F97: =TRUNC(D97*E97) -> #REF! | G97: =#REF! -> #REF! | H97: =TRUNC(D97*G97) -> #REF! | I97: =#REF! -> #REF! | J97: =TRUNC(D97*I97) -> #REF! | K97: =#REF! -> #REF! | L97: =SUM(F97+H97+J97) -> #REF!
A98: [ 합 계 ] | F98: =SUM(F96:F97) -> #REF! | H98: =SUM(H96:H97) -> #REF! | J98: =SUM(J96:J97) -> #REF! | L98: =SUM(L96:L97) -> #REF!
A100: 0109 신호수, 교통정리, 안전처리
A101: 신호수, 교통정리, 안전처리 | B101: 보통인부2인 | C101: 1일 | D101: =#REF! -> #REF! | G101: =#REF! -> #REF! | H101: =TRUNC(D101*G101) -> #REF! | L101: =SUM(F101+H101+J101) -> #REF!
A102: [ 합 계 ] | H102: =SUM(H100:H101) -> #REF! | L102: =SUM(L100:L101) -> #REF!
A103: 0110 폐기물 처리비
A104: 임목 폐기물 | B104: 운반+상차 | C104: KG | D104: ='1-1임목폐기물산출식 (3)'!CC59 -> #REF! | I104: =#REF! -> #REF! | J104: =(D104+D106)*I104 -> #REF!
B105: 처리 | C105: KG | D105: ='1-1임목폐기물산출식 (3)'!CC59 -> #REF! | I105: =#REF! -> #REF! | J105: =(D105+D107)*I105 -> #REF!
A106: 기존 폐기물 | B106: 운반+상차 | C106: KG | D106: =D104*0.05 -> #REF!
B107: 처리 | C107: KG | D107: =D105*0.05 -> #REF!
B108: 합 계 | C108: KG | D108: =D105+D107 -> #REF!
A110: 교목전정 | B110: 수량합계 | D110: =D11+D28+D38+D47+D56+D66+D76+D86+D93 -> #REF!

Sheet 1-1임목폐기물산출식 (3)
B2: ◈ 전지전정 폐기물(임목) 수량산출식 | BU2: 1㎡ 당 덩쿨류 및 목본류 폐기물(kg) 산출식
BU3: 품종 | BV3: 적용 수고 (m) | BX3: 전정율(%) A | BY3: 피복율(%) B | BZ3: 공극율(%) C | CA3: 부피㎥ D=(A*B*C) | CB3: 단위중량 (kg/㎥) | CC3: 전정중량(kg)
B4: ㅇ 수목 지상부 중량 계산공식 | BU4: 등나무(만경류) | BV4: 0.9 | BX4: 0.2 | BY4: 0.35 | BZ4: 0.85 | CA4: =(BX4*BV4)*BY4*(1-BZ4) -> 0.00945 | CB4: 0.5 | CC4: =CA4*CB4*1000 -> 4.725
F5: W = k × 3.14 × (B/2)²× h × w1 × (1+P) | AJ5: k : 수간형상계수 (0.5) | BU5: 관목류(0.9이하) | BV5: 0.45 | BX5: 0.15 | BY5: 0.2 | BZ5: 0.85 | CA5: =(BX5*BV5)*BY5*(1-BZ5) -> 0.002025 | CB5: 0.5 | CC5: =CA5*CB5*1000 -> 1.0125
AJ6: B : 흉고직경 | BU6: 관목류(0.9이상) | BV6: 0.9 | BX6: 0.2 | BY6: 0.2 | BZ6: 0.85 | CA6: =(BX6*BV6)*BY6*(1-BZ6) -> 0.0054 | CB6: 0.5 | CC6: =CA6*CB6*1000 -> 2.7
AJ7: h : 수고 | BU7: 잡목류 | BV7: 0.9 | BX7: 0.88 | BY7: 0.05 | BZ7: 0.95 | CA7: =(BX7*BV7)*BY7*(1-BZ7) -> 0.00198 | CB7: 0.5 | CC7: =CA7*CB7*1000 -> 0.99
AJ8: P : 지엽의 과다에 의한 보합률(임목:0.3, 고립목:1.0)
AJ9: w1 : 수간의 단위체적장 중량 (kg/㎥)
B11: ㅇ 수간의 단위체적당중량
B12: 수종 | AC12: 단위체적중량(kg/㎥) | AT12: 비고
B13: 가시나무류,상수리나무, 졸참나무등 | AC13: 1340이상
B14: 느티나무, 쪽동백, 느릅나무등 | AC14: 1300 - 1340 | BU14: 임목폐기물 산출수량
B15: 단풍나무, 벗나무, 은행나무, 향냐무등 | AC15: 1250 - 1300 | BU15: 구분 | BX15: 공종 | BZ15: 단위 | CA15: 수량 | CB15: 폐기물량(kg) | CC15: 합계(KG)
B16: 소나무, 편백, 플라타너스등 | AC16: 1210 - 1250 | BU16: 조형전정 | BV16: 인 력 전 정 | BW16: 낙 엽 수 | BX16: B11미만 | BZ16: 주 | CA16: ='1-1 (3)'!D5+'1-1 (3)'!D31+'1-1 (3)'!D40+'1-1 (3)'!D49+'1-1 (3)'!D79 -> #REF! | CB16: =Y32*CA16 -> #REF! | CC16: =SUM(CB16:CB57) -> #REF!
B17: 평균치 | AC17: =(1210+1340)/2 -> 1275 | AT17: (1210 + 1340) ÷ 2 | BX17: B11~21 | BZ17: 주 | CA17: ='1-1 (3)'!D6 -> #REF! | CB17: =Y33*CA17 -> #REF!
BG18: ※ 자료 : 조경설계요람 | BX18: B21~31 | BZ18: 주 | CA18: ='1-1 (3)'!D7 -> #REF! | CB18: =Y34*CA18 -> #REF!
BW19: 상 록 수 | BX19: B11미만 | BZ19: 주 | CA19: ='1-1 (3)'!D8 -> #REF! | CB19: =AC32*CA19 -> #REF!
B20: ㅇ 수목부위별 중량분배비 | BX20: B11~21 | BZ20: 주 | CA20: ='1-1 (3)'!D9 -> #REF! | CB20: =AC33*CA20 -> #REF!
B21: 구분 | P21: 지상부 | AR21: 뿌리 | AY21: 계 | BF21: 비고 | BX21: B21~31 | BZ21: 주 | CA21: ='1-1 (3)'!D10 -> #REF! | CB21: =AC34*CA21 -> #REF!
P22: 줄기 | W22: 가지 | AD22: 잎 | AK22: 소계 | BV22: 기 계 전 정 | BW22: 낙 엽 수 | BX22: B11~21미만 | BZ22: 주 | CA22: ='1-1 (3)'!D14+'1-1 (3)'!D50 -> #REF! | CB22: =AO33*CA22 -> #REF!
B23: 일반적배율(평균치) % | P23: 45 | W23: 15 | AD23: 25 | AK23: =SUM(P23:AJ23) -> 85 | AR23: 15 | AY23: =AR23+AK23 -> 100 | BX23: B21~31 | BZ23: 주 | CA23: ='1-1 (3)'!D15+'1-1 (3)'!D51 -> #REF! | CB23: =AO34*CA23 -> #REF!
BG24: ※ 자료 : 산림생태학(향문사) | BX24: B31~41 | BZ24: 주 | CA24: ='1-1 (3)'!D16+'1-1 (3)'!D52 -> #REF! | CB24: =AO35*CA24 -> #REF!
BX25: B41~51 | BZ25: 주 | CA25: ='1-1 (3)'!D17+'1-1 (3)'!D53 -> #REF! | CB25: =AO36*CA25 -> #REF!
BX26: B51이상 | BZ26: 주 | CA26: ='1-1 (3)'!D18+'1-1 (3)'!D19+'1-1 (3)'!D54+'1-1 (3)'!D55 -> #REF! | CB26: =AO37*CA26 -> #REF!
B27: ◈ 규격별 폐기물 물량산출 | BW27: 상 록 수 | BX27: B11~21미만 | BZ27: 주 | CA27: ='1-1 (3)'!D22 -> #REF! | CB27: =AS33*CA27 -> #REF!
BX28: B21~31 | BZ28: 주 | CA28: ='1-1 (3)'!D23 -> #REF! | CB28: =AS34*CA28 -> #REF!
B29: ㅇ 규격별 전지전정량 산출 | BX29: B31~41 | BZ29: 주 | CA29: ='1-1 (3)'!D24 -> #REF! | CB29: =AS35*CA29 -> #REF!
B30: 구분 | G30: 지상부중량 (kg) | L30: 전정부 중량 (50%) | Q30: 조형 인력전정 | AG30: 조형 기계전정 | AW30: 가로수 약·강전정 | BM30: 교목제거(kg) | BX30: B41~51 | BZ30: 주 | CA30: ='1-1 (3)'!D25 -> #REF! | CB30: =AS36*CA30 -> #REF!
Q31: 전전량(낙,상) | Y31: 전정중량(kg) | AG31: 전전량(낙,상) | AO31: 전정중량(kg) | AW31: 전전량(강,약) | BE31: 전정중량(kg) | BX31: B51이상 | BZ31: 주 | CA31: ='1-1 (3)'!D26+'1-1 (3)'!D27 -> #REF! | CB31: =AS37*CA31 -> #REF!
B32: 11이하 | G32: =AZ46 -> 42.79 | L32: =G32*0.5 -> 21.395 | Q32: 0.2 | U32: 0.15 | Y32: =L32*Q32 -> 4.279 | AC32: =L32*U32 -> 3.20925 | BM32: =G32 -> 42.79 | BU32: 가로수전정(약전정) | BX32: B11~21미만 | BZ32: 주 | CA32: ='1-1 (3)'!D32 -> #REF! | CB32: =BI33*CA32 -> #REF!
B33: 43790 | G33: =AZ47 -> 128.11 | L33: =G33*0.5 -> 64.055 | Q33: 0.2 | U33: 0.15 | Y33: =L33*Q33 -> 12.811 | AC33: =L33*U33 -> 9.60825 | AG33: 0.2 | AK33: 0.15 | AO33: =L33*AG33 -> 12.811 | AS33: =L33*AK33 -> 9.60825 | AW33: 0.4 | BA33: 0.3 | BE33: =L33*AW33 -> 25.622 | BI33: =L33*BA33 -> 19.2165 | BM33: =G33 -> 128.11 | BX33: B21~31 | BZ33: 주 | CA33: ='1-1 (3)'!D33 -> #REF! | CB33: =BI34*CA33 -> #REF!
B34: 21-31 | G34: =AZ48 -> 420.99 | L34: =G34*0.5 -> 210.495 | Q34: 0.2 | U34: 0.15 | Y34: =L34*Q34 -> 42.099 | AC34: =L34*U34 -> 31.57425 | AG34: 0.2 | AK34: 0.15 | AO34: =L34*AG34 -> 42.099 | AS34: =L34*AK34 -> 31.57425 | AW34: 0.4 | BA34: 0.3 | BE34: =L34*AW34 -> 84.198 | BI34: =L34*BA34 -> 63.1485 | BM34: =G34 -> 420.99 | BX34: B31~41 | BZ34: 주 | CA34: ='1-1 (3)'!D34 -> #REF! | CB34: =BI35*CA34 -> #REF!
B35: 31-41 | G35: =AZ49 -> 847.46 | L35: =G35*0.5 -> 423.73 | AG35: 0.2 | AK35: 0.15 | AO35: =L35*AG35 -> 84.746 | AS35: =L35*AK35 -> 63.5595 | AW35: 0.4 | BA35: 0.3 | BE35: =L35*AW35 -> 169.492 | BI35: =L35*BA35 -> 127.119 | BM35: =G35 -> 847.46 | BX35: B41~51 | BZ35: 주 | CA35: ='1-1 (3)'!D35 -> #REF! | CB35: =BI36*CA35 -> #REF!
B36: 41-51 | G36: =AZ50 -> 1534.26 | L36: =G36*0.5 -> 767.13 | AG36: 0.2 | AK36: 0.15 | AO36: =L36*AG36 -> 153.426 | AS36: =L36*AK36 -> 115.0695 | AW36: 0.4 | BA36: 0.3 | BE36: =L36*AW36 -> 306.852 | BI36: =L36*BA36 -> 230.139 | BM36: =G36 -> 1534.26 | BX36: B51이상 | BZ36: 주 | CA36: ='1-1 (3)'!D36+'1-1 (3)'!D37 -> #REF! | CB36: =BI37*CA36 -> #REF!
B37: 51-70 | G37: =AZ51 -> 2881.91 | L37: =G37*0.5 -> 1440.955 | AG37: 0.2 | AK37: 0.15 | AO37: =L37*AG37 -> 288.191 | AS37: =L37*AK37 -> 216.14325 | AW37: 0.4 | BA37: 0.3 | BE37: =L37*AW37 -> 576.382 | BI37: =L37*BA37 -> 432.2865 | BM37: =G37 -> 2881.91 | BU37: 가로수전정(강전정) | BX37: B11~21미만 | BZ37: 주 | CA37: ='1-1 (3)'!D41 -> #REF! | CB37: =BE33*CA37 -> #REF!
BX38: B21~31 | BZ38: 주 | CA38: ='1-1 (3)'!D42 -> #REF! | CB38: =BE34*CA38 -> #REF!
BX39: B31~41 | BZ39: 주 | CA39: ='1-1 (3)'!D43 -> #REF! | CB39: =BE35*CA39 -> #REF!
BX40: B41~51 | BZ40: 주 | CA40: ='1-1 (3)'!D44 -> #REF! | CB40: =BE36*CA40 -> #REF!
BX41: B51이상 | BZ41: 주 | CA41: ='1-1 (3)'!D45+'1-1 (3)'!D46 -> #REF! | CB41: =BE37*CA41 -> #REF!
BU42: 소나무 전정 | BX42: B11~21미만 | BZ42: 주 | CA42: ='1-1 (3)'!D80 -> #REF! | CB42: =BI33*CA42 -> #REF!
BX43: B21~31 | BZ43: 주 | CA43: ='1-1 (3)'!D81 -> #REF! | CB43: =BI34*CA43 -> #REF!
B44: ㅇ 규격별 수목지상부 중량산출 | BX44: B31~41 | BZ44: 주 | CA44: ='1-1 (3)'!D82 -> #REF! | CB44: =BI35*CA44 -> #REF!
B45: 흉고직경 | I45: 평균흉고직경 | P45: k | W45: B | AD45: h | AK45: P | AR45: w1 | AZ45: W | BH45: 비고 | BX45: B41~51 | BZ45: 주 | CA45: ='1-1 (3)'!D83 -> #REF! | CB45: =BI36*CA45 -> #REF!
B46: 11이하 | I46: 11 | P46: 0.5 | W46: =I46/100 -> 0.11 | AD46: =BP55 -> 3.5333333 | AK46: 1 | AR46: 1275 | AZ46: =ROUNDDOWN((P46*3.14*(W46/2)*(W46/2)*AD46*AR46*(1+AK46)),2) -> 42.79 | BX46: B51이상 | BZ46: 주 | CA46: ='1-1 (3)'!D84+'1-1 (3)'!D85 -> #REF! | CB46: =BI37*CA46 -> #REF!
B47: 43790 | I47: 16 | P47: 0.5 | W47: =I47/100 -> 0.16 | AD47: =BP56 -> 5 | AK47: 1 | AR47: 1275 | AZ47: =ROUNDDOWN((P47*3.14*(W47/2)*(W47/2)*AD47*AR47*(1+AK47)),2) -> 128.11 | BU47: 반송 | BX47: W(수관폭)1.5이하 | BZ47: 주 | CA47: ='1-1 (3)'!D89+'1-1 (3)'!D90 -> #REF! | CB47: =CA47*AC32 -> #REF!
B48: 21-31 | I48: =(21+31)/2 -> 26 | P48: 0.5 | W48: =I48/100 -> 0.26 | AD48: =BP57 -> 6.2222222 | AK48: 1 | AR48: 1275 | AZ48: =ROUNDDOWN((P48*3.14*(W48/2)*(W48/2)*AD48*AR48*(1+AK48)),2) -> 420.99 | BX48: W(수관폭)1.5이상 | BZ48: 주 | CA48: ='1-1 (3)'!D91+'1-1 (3)'!D92 -> #REF! | CB48: =CA48*AC33 -> #REF!
B49: 31-41 | I49: =(31+41)/2 -> 36 | P49: 0.5 | W49: =I49/100 -> 0.36 | AD49: =BP58 -> 6.5333333 | AK49: 1 | AR49: 1275 | AZ49: =ROUNDDOWN((P49*3.14*(W49/2)*(W49/2)*AD49*AR49*(1+AK49)),2) -> 847.46 | BU49: 관목류 | BX49: H(수고)0.9이하 | BZ49: ㎡ | CB49: =CA49*CC5 -> 0
B50: 41-51 | I50: =(41+51)/2 -> 46 | P50: 0.5 | W50: =I50/100 -> 0.46 | AD50: =BP59 -> 7.2444444 | AK50: 1 | AR50: 1275 | AZ50: =ROUNDDOWN((P50*3.14*(W50/2)*(W50/2)*AD50*AR50*(1+AK50)),2) -> 1534.26 | BX50: H(수고)0.9이상 | BZ50: ㎡ | CB50: =CA50*CC6 -> 0
B51: 51-70 | I51: =(51+70)/2 -> 60.5 | P51: 0.5 | W51: =I51/100 -> 0.605 | AD51: =BP60 -> 7.8666667 | AK51: 1 | AR51: 1275 | AZ51: =ROUNDDOWN((P51*3.14*(W51/2)*(W51/2)*AD51*AR51*(1+AK51)),2) -> 2881.91 | BU51: 등나무 | BX51: 만경류 | BZ51: ㎡ | CA51: ='1-1 (3)'!D96 -> #REF! | CB51: =CA51*CC4 -> #REF!
B52: ㅇ 규격별 평균수고산출 (h) | BU52: 잡목제거 | BZ52: ㎡ | CA52: ='1-1 (3)'!D97 -> #REF! | CB52: =CA52*CC7 -> #REF!
B53: 규격 | J53: 측정수고 | BC53: 소계 | BH53: 평균 | BL53: 3점평균 | BP53: 적용수고 | BU53: 교목제거 | BV53: 인력+크레인 | BX53: B11~21미만 | BZ53: 주 | CA53: ='1-1 (3)'!D60 -> #REF! | CB53: =CA53*BM33 -> #REF!
J54: 1 | M54: 2 | P54: 3 | S54: 4 | V54: 5 | Y54: 6 | AB54: 7 | AE54: 8 | AH54: 9 | AK54: 10 | AN54: 11 | AQ54: 12 | AT54: 13 | AW54: 14 | AZ54: 15 | BX54: B21~31 | BZ54: 주 | CA54: ='1-1 (3)'!D61 -> #REF! | CB54: =CA54*BM34 -> #REF!
B55: 11이하 | J55: 4 | M55: 3 | P55: 4 | S55: 4 | V55: 4 | Y55: 3 | AB55: 3 | AE55: 3 | AH55: 3 | AK55: 3 | AN55: 4 | AQ55: 3 | AT55: 4 | AW55: 4 | AZ55: 4 | BC55: =SUM(J55:BB55) -> 53 | BH55: =BC55/COUNT(J55:BB55) -> 3.5333333 | BL55: =BH55 -> 3.5333333 | BP55: =BL55 -> 3.5333333 | BX55: B31~41 | BZ55: 주 | CA55: ='1-1 (3)'!D62 -> #REF! | CB55: =CA55*BM35 -> #REF!
B56: 43790 | J56: 7 | M56: 6 | P56: 7 | S56: 4 | V56: 7 | Y56: 5 | AB56: 8 | AE56: 8 | AH56: 4 | AK56: 5 | AN56: 4 | AQ56: 5 | AT56: 5 | AW56: 5 | AZ56: 6 | BC56: =SUM(J56:BB56) -> 86 | BH56: =BC56/COUNT(J56:BB56) -> 5.7333333 | BL56: =(BH55+BH56+BH57)/3 -> 5 | BP56: =BL56 -> 5 | BX56: B41~51 | BZ56: 주 | CA56: ='1-1 (3)'!D63 -> #REF! | CB56: =CA56*BM36 -> #REF!
B57: 21-31 | J57: 8 | M57: 7 | P57: 7 | S57: 6 | V57: 8 | Y57: 7 | AB57: 6 | AE57: 3 | AH57: 4 | AK57: 4 | AN57: 4 | AQ57: 4 | AT57: 5 | AW57: 5 | AZ57: 8 | BC57: =SUM(J57:BB57) -> 86 | BH57: =BC57/COUNT(J57:BB57) -> 5.7333333 | BL57: =(BH56+BH57+BH58)/3 -> 6.2222222 | BP57: =BL57 -> 6.2222222 | BX57: B51이상 | BZ57: 주 | CA57: ='1-1 (3)'!D64+'1-1 (3)'!D65 -> #REF! | CB57: =CA57*BM37 -> #REF!
B58: 31-41 | J58: 9 | M58: 7 | P58: 7 | S58: 8 | V58: 8 | Y58: 8 | AB58: 7 | AE58: 7 | AH58: 8 | AK58: 7 | AN58: 7 | AQ58: 7 | AT58: 8 | AW58: 5 | AZ58: 5 | BC58: =SUM(J58:BB58) -> 108 | BH58: =BC58/COUNT(J58:BB58) -> 7.2 | BL58: =(BH57+BH58+BH59)/3 -> 6.5333333 | BP58: =BL58 -> 6.5333333 | BU58: 기존 임목 폐기물 | BZ58: ton | CB58: =CA58 -> 0 | CC58: =CB58 -> 0
B59: 41-51 | J59: 6 | M59: 6 | P59: 6 | S59: 7 | V59: 8 | Y59: 6 | AB59: 8 | AE59: 7 | AH59: 5 | AK59: 6 | AN59: 5 | AQ59: 7 | AT59: 8 | AW59: 7 | AZ59: 8 | BC59: =SUM(J59:BB59) -> 100 | BH59: =BC59/COUNT(J59:BB59) -> 6.6666667 | BL59: =(BH58+BH59+BH60)/3 -> 7.2444444 | BP59: =BL59 -> 7.2444444 | BU59: 폐기물 총 합계 (ton) | CC59: =CC16+CC58 -> #REF!
B60: 51-70 | J60: 8 | M60: 8 | P60: 8 | S60: 8 | V60: 9 | Y60: 8 | AB60: 8 | AE60: 7 | AH60: 8 | AK60: 8 | AN60: 8 | AQ60: 7 | AT60: 7 | AW60: 9 | AZ60: 7 | BC60: =SUM(J60:BB60) -> 118 | BH60: =BC60/COUNT(J60:BB60) -> 7.8666667 | BL60: =BH60 -> 7.8666667 | BP60: =BL60 -> 7.8666667

Sheet 1 (4)
A1: 공 종 별 집 계 표
A2: =#REF! -> #REF!
A3: 품 명 | B3: 규 격 | C3: 단위 | D3: 수량 | E3: 재 료 비 | G3: 노 무 비 | I3: 경 비 | K3: 합 계 | M3: 비 고 | N3: 공종코드 | O3: 변수 | P3: 상위공종 | Q3: 공종구분 | R3: 공종레벨 | S3: 공종소계 | T3: 원가계산서 연결금액
E4: 단 가 | F4: 금 액 | G4: 단 가 | H4: 금 액 | I4: 단 가 | J4: 금 액 | K4: 단 가 | L4: 금 액
A5: 01 수목전정 | E5: =F18 -> #REF! | F5: =E5 -> #REF! | G5: =H18 -> #REF! | H5: =G5 -> #REF! | I5: =J18 -> #REF! | J5: =I5 -> #REF! | K5: =L18 -> #REF! | L5: =K5 -> #REF! | N5: 01 | R5: 1
A6: 0101 조형전정 인력시공 | C6: 식 | D6: 1 | E6: ='1-1 (4)'!F11 -> #REF! | F6: =TRUNC(E6*D6) -> #REF! | G6: ='1-1 (4)'!H11 -> #REF! | H6: =TRUNC(G6*D6) -> #REF! | I6: ='1-1 (4)'!J11 -> #REF! | J6: =TRUNC(I6*D6) -> #REF! | K6: ='1-1 (4)'!L11 -> #REF! | L6: =TRUNC(D6*K6) -> #REF! | N6: 0102 | P6: 01 | R6: 2
A7: 0102 조형 전정 기계시공(낙엽수) | C7: 식 | D7: 1 | E7: ='1-1 (4)'!F20 -> #REF! | F7: =TRUNC(E7*D7) -> #REF! | G7: ='1-1 (4)'!H20 -> #REF! | H7: =TRUNC(G7*D7) -> #REF! | I7: ='1-1 (4)'!J20 -> #REF! | J7: =TRUNC(I7*D7) -> #REF! | K7: ='1-1 (4)'!L20 -> #REF! | L7: =TRUNC(D7*K7) -> #REF! | N7: 0103 | P7: 01 | R7: 2
A8: 0103 조형 전정 기계시공(상록수) | C8: 식 | D8: 1 | E8: ='1-1 (4)'!F28 -> #REF! | F8: =TRUNC(E8*D8) -> #REF! | G8: ='1-1 (4)'!H28 -> #REF! | H8: =TRUNC(G8*D8) -> #REF! | I8: ='1-1 (4)'!J28 -> #REF! | J8: =TRUNC(I8*D8) -> #REF! | K8: ='1-1 (4)'!L28 -> #REF! | L8: =TRUNC(D8*K8) -> #REF! | N8: 0104 | P8: 01 | R8: 2
A9: 0104 가로수 약전정 기계시공 | C9: 식 | D9: 1 | E9: ='1-1 (4)'!F38 -> #REF! | F9: =TRUNC(E9*D9) -> #REF! | G9: ='1-1 (4)'!H38 -> #REF! | H9: =TRUNC(G9*D9) -> #REF! | I9: ='1-1 (4)'!J38 -> #REF! | J9: =TRUNC(I9*D9) -> #REF! | K9: ='1-1 (4)'!L38 -> #REF! | L9: =TRUNC(D9*K9) -> #REF! | N9: 0105 | P9: 01 | R9: 2
A10: 0105 가로수 강전정 기계시공 | C10: 식 | D10: 1 | E10: ='1-1 (4)'!F47 -> #REF! | F10: =TRUNC(E10*D10) -> #REF! | G10: ='1-1 (4)'!H47 -> #REF! | H10: =TRUNC(G10*D10) -> #REF! | I10: ='1-1 (4)'!J47 -> #REF! | J10: =TRUNC(I10*D10) -> #REF! | K10: ='1-1 (4)'!L47 -> #REF! | L10: =TRUNC(D10*K10) -> #REF!
A11: 0106 가로수 조형전정 기계시공 | C11: 식 | D11: 1 | E11: ='1-1 (4)'!F56 -> #REF! | F11: =TRUNC(E11*D11) -> #REF! | G11: ='1-1 (4)'!H56 -> #REF! | H11: =TRUNC(G11*D11) -> #REF! | I11: ='1-1 (4)'!J56 -> #REF! | J11: =TRUNC(I11*D11) -> #REF! | K11: ='1-1 (4)'!L56 -> #REF! | L11: =TRUNC(D11*K11) -> #REF!
A12: 0107 나무베기 기계시공 | C12: 식 | D12: 1 | E12: ='1-1 (4)'!F66 -> #REF! | F12: =TRUNC(E12*D12) -> #REF! | G12: ='1-1 (4)'!H66 -> #REF! | H12: =TRUNC(G12*D12) -> #REF! | I12: ='1-1 (4)'!J66 -> #REF! | J12: =TRUNC(I12*D12) -> #REF! | K12: ='1-1 (4)'!L66 -> #REF! | L12: =TRUNC(D12*K12) -> #REF!
A13: 0108 뿌리제거 기계시공 | C13: 식 | D13: 1 | E13: ='1-1 (4)'!F76 -> #REF! | F13: =TRUNC(E13*D13) -> #REF! | G13: ='1-1 (4)'!H76 -> #REF! | H13: =TRUNC(G13*D13) -> #REF! | I13: ='1-1 (4)'!J76 -> #REF! | J13: =TRUNC(I13*D13) -> #REF! | K13: ='1-1 (4)'!L76 -> #REF! | L13: =TRUNC(D13*K13) -> #REF!
A14: 0109 소나무 조형전정 기계시공 | C14: 식 | D14: 1 | E14: ='1-1 (4)'!F86 -> #REF! | F14: =TRUNC(E14*D14) -> #REF! | G14: ='1-1 (4)'!H86 -> #REF! | H14: =TRUNC(G14*D14) -> #REF! | I14: ='1-1 (4)'!J86 -> #REF! | J14: =TRUNC(I14*D14) -> #REF! | K14: ='1-1 (4)'!L86 -> #REF! | L14: =TRUNC(D14*K14) -> #REF!
A15: 0110 소나무 전정(반송) | C15: 식 | D15: 1 | E15: ='1-1 (4)'!F93 -> 0 | F15: =TRUNC(E15*D15) -> 0 | G15: ='1-1 (4)'!H93 -> #REF! | H15: =TRUNC(G15*D15) -> #REF! | I15: ='1-1 (4)'!J93 -> #REF! | J15: =TRUNC(I15*D15) -> #REF! | K15: ='1-1 (4)'!L93 -> #REF! | L15: =TRUNC(D15*K15) -> #REF!
A16: 0111 등나무 전정 및 잡목제거 | C16: 식 | D16: 1 | E16: ='1-1 (4)'!F98 -> #REF! | F16: =TRUNC(E16*D16) -> #REF! | G16: ='1-1 (4)'!H98 -> #REF! | H16: =TRUNC(G16*D16) -> #REF! | I16: ='1-1 (4)'!J98 -> #REF! | J16: =TRUNC(I16*D16) -> #REF! | K16: ='1-1 (4)'!L98 -> #REF! | L16: =TRUNC(D16*K16) -> #REF!
A17: 0112 신호수,교통정리,안전처리 | C17: 식 | D17: 1 | E17: ='1-1 (4)'!F102 -> 0 | F17: =TRUNC(E17*D17) -> 0 | G17: ='1-1 (4)'!H102 -> #REF! | H17: =TRUNC(G17*D17) -> #REF! | I17: ='1-1 (4)'!J102 -> 0 | J17: =TRUNC(I17*D17) -> 0 | K17: ='1-1 (4)'!L102 -> #REF! | L17: =TRUNC(D17*K17) -> #REF!
A18: [ 합 계 ] | F18: =SUM(F6:F17) -> #REF! | H18: =SUM(H6:H17) -> #REF! | J18: =SUM(J6:J17) -> #REF! | L18: =SUM(L6:L17) -> #REF!

Sheet 1-1 (4)
A1: 공 종 별 내 역 서
A2: ='1 (4)'!A2 -> #REF! | B2: 규 격 흉고직경 | C2: 단위 | D2: 수량 | E2: 재 료 비 | G2: 노 무 비 | I2: 경 비 | K2: 합 계 | M2: 품목코드 | N2: 변수 | O2: 설정 | P2: 공종코드 | Q2: 일위 | R2: 단산 | S2: 자재 | T2: 손료적용 | U2: 손료저장 | V2: 적용율 | W2: JUK1 | X2: JUK2 | Y2: JUK3 | Z2: JUK4 | AA2: JUK5 | AB2: JUK6 | AC2: JUK7 | AD2: JUK8 | AE2: JUK9 | AF2: JUK10 | AG2: JUK11 | AH2: JUK12 | AI2: JUK13 | AJ2: JUK14 | AK2: JUK15 | AL2: JUK16 | AM2: JUK17 | AN2: JUK18 | AO2: JUK19 | AP2: JUK20 | AQ2: 자재구분 | AR2: 공종구분 | AS2: 공종레벨 | AT2: 공종+자재 | AU2: 고유번호
A3: 품 명 | E3: 단 가 | F3: 금 액 | G3: 단 가 | H3: 금 액 | I3: 단 가 | J3: 금 액 | K3: 단 가 | L3: 금 액
A4: 0101 조형전정 인력시공 | P4: 0102
A5: 조형 전정 인력시공(낙엽수) | B5: 11cm 미만 | C5: 주 | D5: =#REF! -> #REF! | E5: =#REF! -> #REF! | F5: =TRUNC(D5*E5) -> #REF! | G5: =#REF! -> #REF! | H5: =TRUNC(D5*G5) -> #REF! | I5: =#REF! -> #REF! | J5: =TRUNC(D5*I5) -> #REF! | K5: =#REF! -> #REF! | L5: =SUM(F5+H5+J5) -> #REF! | M5: 50B3D18B3B12AB5FA2A39D9B013E19 | P5: 0102 | Q5: T | R5: F | S5: F | AT5: 010250B3D18B3B12AB5FA2A39D9B013E19 | AU5: 50
A6: 조형 전정 인력시공(낙엽수) | B6: 11~21cm 미만 | C6: 주 | D6: =#REF! -> #REF! | E6: =#REF! -> #REF! | F6: =TRUNC(D6*E6) -> #REF! | G6: =#REF! -> #REF! | H6: =TRUNC(D6*G6) -> #REF! | I6: =#REF! -> #REF! | J6: =TRUNC(D6*I6) -> #REF! | K6: =#REF! -> #REF! | L6: =SUM(F6+H6+J6) -> #REF! | M6: 50B3D18B3B12AB5FA2A39D9B001816 | P6: 0102 | Q6: T | R6: F | S6: F | AT6: 010250B3D18B3B12AB5FA2A39D9B001816 | AU6: 51
A7: 조형 전정 인력시공(낙엽수) | B7: 21~31cm 미만 | C7: 주 | D7: =#REF! -> #REF! | E7: =#REF! -> #REF! | F7: =TRUNC(D7*E7) -> #REF! | G7: =#REF! -> #REF! | H7: =TRUNC(D7*G7) -> #REF! | I7: =#REF! -> #REF! | J7: =TRUNC(D7*I7) -> #REF! | K7: =#REF! -> #REF! | L7: =SUM(F7+H7+J7) -> #REF! | M7: 50B3D18B3B12AB5FA2A39D9B0747E5 | P7: 0102 | Q7: T | R7: F | S7: F | AT7: 010250B3D18B3B12AB5FA2A39D9B0747E5 | AU7: 52
A8: 조형 전정 인력시공(상록수) | B8: 11cm 미만 | C8: 주 | D8: =#REF! -> #REF! | E8: =#REF! -> #REF! | F8: =TRUNC(D8*E8) -> #REF! | G8: =#REF! -> #REF! | H8: =TRUNC(D8*G8) -> #REF! | I8: =#REF! -> #REF! | J8: =TRUNC(D8*I8) -> #REF! | K8: =#REF! -> #REF! | L8: =SUM(F8+H8+J8) -> #REF! | M8: 50B3D18B3B12AB5FA2A39D9B06A07B | P8: 0102 | Q8: T | R8: F | S8: F | AT8: 010250B3D18B3B12AB5FA2A39D9B06A07B | AU8: 53
A9: 조형 전정 인력시공(상록수) | B9: 11~21cm 미만 | C9: 주 | D9: =#REF! -> #REF! | E9: =#REF! -> #REF! | F9: =TRUNC(D9*E9) -> #REF! | G9: =#REF! -> #REF! | H9: =TRUNC(D9*G9) -> #REF! | I9: =#REF! -> #REF! | J9: =TRUNC(D9*I9) -> #REF! | K9: =#REF! -> #REF! | L9: =SUM(F9+H9+J9) -> #REF! | M9: 50B3D18B3B12AB5FA2A39D9B059909 | P9: 0102 | Q9: T | R9: F | S9: F | AT9: 010250B3D18B3B12AB5FA2A39D9B059909 | AU9: 54
A10: 조형 전정 인력시공(상록수) | B10: 21~31cm 미만 | C10: 주 | D10: =#REF! -> #REF! | E10: =#REF! -> #REF! | F10: =TRUNC(D10*E10) -> #REF! | G10: =#REF! -> #REF! | H10: =TRUNC(D10*G10) -> #REF! | I10: =#REF! -> #REF! | J10: =TRUNC(D10*I10) -> #REF! | K10: =#REF! -> #REF! | L10: =SUM(F10+H10+J10) -> #REF! | M10: 50B3D18B3B12AB5FA2A3AF9AD6AD64 | P10: 0102 | Q10: T | R10: F | S10: F | AT10: 010250B3D18B3B12AB5FA2A3AF9AD6AD64 | AU10: 55
A11: [ 합 계 ] | D11: =SUM(D5:D10) -> #REF! | F11: =SUM(F5:F10) -> #REF! | H11: =SUM(H5:H10) -> #REF! | J11: =SUM(J5:J10) -> #REF! | L11: =SUM(L5:L10) -> #REF! | M11: TOTAL
A13: 0102 조형전정 기계시공 | P13: 0103
A14: 조형 전정 기계시공(낙엽수) | B14: 11~21cm 미만 | C14: 주 | D14: =#REF! -> #REF! | E14: =#REF! -> #REF! | F14: =TRUNC(D14*E14) -> #REF! | G14: =#REF! -> #REF! | H14: =TRUNC(D14*G14) -> #REF! | I14: =#REF! -> #REF! | J14: =TRUNC(D14*I14) -> #REF! | K14: =#REF! -> #REF! | L14: =SUM(F14+H14+J14) -> #REF! | M14: 50B3D18B3B12AB5FA0F3A5978A3E91 | P14: 0103 | Q14: T | R14: F | S14: F | AT14: 010350B3D18B3B12AB5FA0F3A5978A3E91 | AU14: 61
A15: 조형 전정 기계시공(낙엽수) | B15: 21~31cm 미만 | C15: 주 | D15: =#REF! -> #REF! | E15: =#REF! -> #REF! | F15: =TRUNC(D15*E15) -> #REF! | G15: =#REF! -> #REF! | H15: =TRUNC(D15*G15) -> #REF! | I15: =#REF! -> #REF! | J15: =TRUNC(D15*I15) -> #REF! | K15: =#REF! -> #REF! | L15: =IFERROR(TRUNC(F15+H15+J15,0),0) -> 0 | M15: 50B3D18B3B12AB5FA0F3A594362088 | P15: 0103 | Q15: T | R15: F | S15: F | AT15: 010350B3D18B3B12AB5FA0F3A594362088 | AU15: 62
A16: 조형 전정 기계시공(낙엽수) | B16: 31~41cm 미만 | C16: 주 | D16: =#REF! -> #REF! | E16: =#REF! -> #REF! | F16: =TRUNC(D16*E16) -> #REF! | G16: =#REF! -> #REF! | H16: =TRUNC(D16*G16) -> #REF! | I16: =#REF! -> #REF! | J16: =TRUNC(D16*I16) -> #REF! | K16: =#REF! -> #REF! | L16: =IFERROR(TRUNC(F16+H16+J16,0),0) -> 0 | M16: 50B3D18B3B12AB5FA0F3A595DC42B1 | P16: 0103 | Q16: T | R16: F | S16: F | AT16: 010350B3D18B3B12AB5FA0F3A595DC42B1 | AU16: 63
A17: 조형 전정 기계시공(낙엽수) | B17: 41~51cm 미만 | C17: 주 | D17: =#REF! -> #REF! | E17: =#REF! -> #REF! | F17: =TRUNC(D17*E17) -> #REF! | G17: =#REF! -> #REF! | H17: =TRUNC(D17*G17) -> #REF! | I17: =#REF! -> #REF! | J17: =TRUNC(D17*I17) -> #REF! | K17: =#REF! -> #REF! | L17: =IFERROR(TRUNC(F17+H17+J17,0),0) -> 0 | M17: 50B3D18B3B12AB5FA0F3A59208250E | P17: 0103 | Q17: T | R17: F | S17: F | AT17: 010350B3D18B3B12AB5FA0F3A59208250E | AU17: 64
A18: 조형 전정 기계시공(낙엽수) | B18: 51~61cm 미만 | C18: 주 | D18: =#REF! -> #REF! | E18: =#REF! -> #REF! | F18: =TRUNC(D18*E18) -> #REF! | G18: =#REF! -> #REF! | H18: =TRUNC(D18*G18) -> #REF! | I18: =#REF! -> #REF! | J18: =TRUNC(D18*I18) -> #REF! | K18: =#REF! -> #REF! | L18: =IFERROR(TRUNC(F18+H18+J18,0),0) -> 0 | M18: 50B3D18B3B12AB5FA0F3A59311C45A | P18: 0103 | Q18: T | R18: F | S18: F | AT18: 010350B3D18B3B12AB5FA0F3A59311C45A | AU18: 65
A19: 조형 전정 기계시공(낙엽수) | B19: 61cm 초과 | C19: 주 | D19: =#REF! -> #REF! | E19: =#REF! -> #REF! | F19: =TRUNC(D19*E19) -> #REF! | G19: =#REF! -> #REF! | H19: =TRUNC(D19*G19) -> #REF! | I19: =#REF! -> #REF! | J19: =TRUNC(D19*I19) -> #REF! | K19: =#REF! -> #REF! | L19: =SUM(L14:L18) -> #REF! | M19: TOTAL
A20: [ 합 계 ] | D20: =SUM(D14:D19) -> #REF! | F20: =SUM(F14:F19) -> #REF! | H20: =SUM(H14:H19) -> #REF! | J20: =SUM(J14:J19) -> #REF! | L20: =SUM(L14:L19) -> #REF!
A22: 조형 전정 기계시공(상록수) | B22: 11~21cm 미만 | C22: 주 | D22: =#REF! -> #REF! | E22: =#REF! -> #REF! | F22: =TRUNC(D22*E22) -> #REF! | G22: =#REF! -> #REF! | H22: =TRUNC(D22*G22) -> #REF! | I22: =#REF! -> #REF! | J22: =TRUNC(D22*I22) -> #REF! | K22: =#REF! -> #REF! | L22: =SUM(F22+H22+J22) -> #REF! | M22: 50B3D18B3B12AB5FA0F3A596E5617B | P22: 0104 | Q22: T | R22: F | S22: F | AT22: 010450B3D18B3B12AB5FA0F3A596E5617B | AU22: 81
A23: 조형 전정 기계시공(상록수) | B23: 21~31cm 미만 | C23: 주 | D23: =#REF! -> #REF! | E23: =#REF! -> #REF! | F23: =TRUNC(D23*E23) -> #REF! | G23: =#REF! -> #REF! | H23: =TRUNC(D23*G23) -> #REF! | I23: =#REF! -> #REF! | J23: =TRUNC(D23*I23) -> #REF! | K23: =#REF! -> #REF! | L23: =IFERROR(TRUNC(F23+H23+J23,0),0) -> 0 | M23: 50B3D18B3B12AB5FA0F3A596E5617A | P23: 0104 | Q23: T | R23: F | S23: F | AT23: 010450B3D18B3B12AB5FA0F3A596E5617A | AU23: 82
A24: 조형 전정 기계시공(상록수) | B24: 31~41cm 미만 | C24: 주 | D24: =#REF! -> #REF! | E24: =#REF! -> #REF! | F24: =TRUNC(D24*E24) -> #REF! | G24: =#REF! -> #REF! | H24: =TRUNC(D24*G24) -> #REF! | I24: =#REF! -> #REF! | J24: =TRUNC(D24*I24) -> #REF! | K24: =#REF! -> #REF! | L24: =IFERROR(TRUNC(F24+H24+J24,0),0) -> 0 | M24: 50B3D18B3B12AB5FA0F3A596E56175 | P24: 0104 | Q24: T | R24: F | S24: F | AT24: 010450B3D18B3B12AB5FA0F3A596E56175 | AU24: 83
A25: 조형 전정 기계시공(상록수) | B25: 41~51cm 미만 | C25: 주 | D25: =#REF! -> #REF! | E25: =#REF! -> #REF! | F25: =TRUNC(D25*E25) -> #REF! | G25: =#REF! -> #REF! | H25: =TRUNC(D25*G25) -> #REF! | I25: =#REF! -> #REF! | J25: =TRUNC(D25*I25) -> #REF! | K25: =#REF! -> #REF! | L25: =IFERROR(TRUNC(F25+H25+J25,0),0) -> 0 | M25: 50B3D18B3B12AB5FA0F3A596E56174 | P25: 0104 | Q25: T | R25: F | S25: F | AT25: 010450B3D18B3B12AB5FA0F3A596E56174 | AU25: 84
A26: 조형 전정 기계시공(상록수) | B26: 51~61cm 미만 | C26: 주 | D26: =#REF! -> #REF! | E26: =#REF! -> #REF! | F26: =TRUNC(D26*E26) -> #REF! | G26: =#REF! -> #REF! | H26: =TRUNC(D26*G26) -> #REF! | I26: =#REF! -> #REF! | J26: =TRUNC(D26*I26) -> #REF! | K26: =#REF! -> #REF! | L26: =IFERROR(TRUNC(F26+H26+J26,0),0) -> 0 | M26: 50B3D18B3B12AB5FA0F3A596E56056 | P26: 0104 | Q26: T | R26: F | S26: F | AT26: 010450B3D18B3B12AB5FA0F3A596E56056 | AU26: 85
A27: 조형 전정 기계시공(상록수) | B27: 61cm 초과 | C27: 주 | D27: =#REF! -> #REF! | E27: =#REF! -> #REF! | F27: =TRUNC(D27*E27) -> #REF! | G27: =#REF! -> #REF! | H27: =TRUNC(D27*G27) -> #REF! | I27: =#REF! -> #REF! | J27: =TRUNC(D27*I27) -> #REF! | K27: =#REF! -> #REF! | L27: =IFERROR(TRUNC(F27+H27+J27,0),0) -> 0 | M27: TOTAL
A28: [ 합 계 ] | D28: =SUM(D22:D27) -> #REF! | F28: =SUM(F22:F27) -> #REF! | H28: =SUM(H22:H27) -> #REF! | J28: =SUM(J22:J27) -> #REF! | L28: =SUM(L22:L27) -> #REF!
A30: 0103 가로수 전정
A31: 가로수전정 (약전정) 기계시공 | B31: 11cm 미만 | C31: 주 | D31: =#REF! -> #REF! | E31: =#REF! -> #REF! | F31: =TRUNC(D31*E31) -> #REF! | G31: =#REF! -> #REF! | H31: =TRUNC(D31*G31) -> #REF! | I31: =#REF! -> #REF! | J31: =TRUNC(D31*I31) -> #REF! | K31: =#REF! -> #REF! | L31: =SUM(F31+H31+J31) -> #REF!
A32: 가로수전정 (약전정) 기계시공 | B32: 11~21cm 미만 | C32: 주 | D32: =#REF! -> #REF! | E32: =#REF! -> #REF! | F32: =TRUNC(D32*E32) -> #REF! | G32: =#REF! -> #REF! | H32: =TRUNC(D32*G32) -> #REF! | I32: =#REF! -> #REF! | J32: =TRUNC(D32*I32) -> #REF! | K32: =#REF! -> #REF! | L32: =SUM(F32+H32+J32) -> #REF!
A33: 가로수전정 (약전정) 기계시공 | B33: 21~31cm 미만 | C33: 주 | D33: =#REF! -> #REF! | E33: =#REF! -> #REF! | F33: =TRUNC(D33*E33) -> #REF! | G33: =#REF! -> #REF! | H33: =TRUNC(D33*G33) -> #REF! | I33: =#REF! -> #REF! | J33: =TRUNC(D33*I33) -> #REF! | K33: =#REF! -> #REF! | L33: =SUM(F33+H33+J33) -> #REF!
A34: 가로수전정 (약전정) 기계시공 | B34: 31~41cm 미만 | C34: 주 | D34: =#REF! -> #REF! | E34: =#REF! -> #REF! | F34: =TRUNC(D34*E34) -> #REF! | G34: =#REF! -> #REF! | H34: =TRUNC(D34*G34) -> #REF! | I34: =#REF! -> #REF! | J34: =TRUNC(D34*I34) -> #REF! | K34: =#REF! -> #REF! | L34: =SUM(F34+H34+J34) -> #REF!
A35: 가로수전정 (약전정) 기계시공 | B35: 41~51cm 미만 | C35: 주 | D35: =#REF! -> #REF! | E35: =#REF! -> #REF! | F35: =TRUNC(D35*E35) -> #REF! | G35: =#REF! -> #REF! | H35: =TRUNC(D35*G35) -> #REF! | I35: =#REF! -> #REF! | J35: =TRUNC(D35*I35) -> #REF! | K35: =#REF! -> #REF! | L35: =SUM(F35+H35+J35) -> #REF!
A36: 가로수전정 (약전정) 기계시공 | B36: 51~61cm 미만 | C36: 주 | D36: =#REF! -> #REF! | E36: =#REF! -> #REF! | F36: =TRUNC(D36*E36) -> #REF! | G36: =#REF! -> #REF! | H36: =TRUNC(D36*G36) -> #REF! | I36: =#REF! -> #REF! | J36: =TRUNC(D36*I36) -> #REF! | K36: =#REF! -> #REF! | L36: =SUM(F36+H36+J36) -> #REF!
A37: 가로수전정 (약전정) 기계시공 | B37: 61cm 초과 | C37: 주 | D37: =#REF! -> #REF! | E37: =#REF! -> #REF! | F37: =TRUNC(D37*E37) -> #REF! | G37: =#REF! -> #REF! | H37: =TRUNC(D37*G37) -> #REF! | I37: =#REF! -> #REF! | J37: =TRUNC(D37*I37) -> #REF! | K37: =#REF! -> #REF! | L37: =SUM(F37+H37+J37) -> #REF!
A38: [ 합 계 ] | D38: =SUM(D32:D37) -> #REF! | F38: =SUM(F31:F37) -> #REF! | H38: =SUM(H31:H37) -> #REF! | J38: =SUM(J31:J37) -> #REF! | L38: =SUM(L31:L37) -> #REF!
A40: 가로수전정 (강전정) 기계시공 | B40: 11cm 미만 | C40: 주 | D40: =#REF! -> #REF! | E40: =#REF! -> #REF! | F40: =TRUNC(D40*E40) -> #REF! | G40: =#REF! -> #REF! | H40: =TRUNC(D40*G40) -> #REF! | I40: =#REF! -> #REF! | J40: =TRUNC(D40*I40) -> #REF! | K40: =#REF! -> #REF! | L40: =SUM(F40+H40+J40) -> #REF!
A41: 가로수전정 (강전정) 기계시공 | B41: 11~21cm 미만 | C41: 주 | D41: =#REF! -> #REF! | E41: =#REF! -> #REF! | F41: =TRUNC(D41*E41) -> #REF! | G41: =#REF! -> #REF! | H41: =TRUNC(D41*G41) -> #REF! | I41: =#REF! -> #REF! | J41: =TRUNC(D41*I41) -> #REF! | K41: =#REF! -> #REF! | L41: =SUM(F41+H41+J41) -> #REF!
A42: 가로수전정 (강전정) 기계시공 | B42: 21~31cm 미만 | C42: 주 | D42: =#REF! -> #REF! | E42: =#REF! -> #REF! | F42: =TRUNC(D42*E42) -> #REF! | G42: =#REF! -> #REF! | H42: =TRUNC(D42*G42) -> #REF! | I42: =#REF! -> #REF! | J42: =TRUNC(D42*I42) -> #REF! | K42: =#REF! -> #REF! | L42: =SUM(F42+H42+J42) -> #REF!
A43: 가로수전정 (강전정) 기계시공 | B43: 31~41cm 미만 | C43: 주 | D43: =#REF! -> #REF! | E43: =#REF! -> #REF! | F43: =TRUNC(D43*E43) -> #REF! | G43: =#REF! -> #REF! | H43: =TRUNC(D43*G43) -> #REF! | I43: =#REF! -> #REF! | J43: =TRUNC(D43*I43) -> #REF! | K43: =#REF! -> #REF! | L43: =SUM(F43+H43+J43) -> #REF!
A44: 가로수전정 (강전정) 기계시공 | B44: 41~51cm 미만 | C44: 주 | D44: =#REF! -> #REF! | E44: =#REF! -> #REF! | F44: =TRUNC(D44*E44) -> #REF! | G44: =#REF! -> #REF! | H44: =TRUNC(D44*G44) -> #REF! | I44: =#REF! -> #REF! | J44: =TRUNC(D44*I44) -> #REF! | K44: =#REF! -> #REF! | L44: =SUM(F44+H44+J44) -> #REF!
A45: 가로수전정 (강전정) 기계시공 | B45: 51~61cm 미만 | C45: 주 | D45: =#REF! -> #REF! | E45: =#REF! -> #REF! | F45: =TRUNC(D45*E45) -> #REF! | G45: =#REF! -> #REF! | H45: =TRUNC(D45*G45) -> #REF! | I45: =#REF! -> #REF! | J45: =TRUNC(D45*I45) -> #REF! | K45: =#REF! -> #REF! | L45: =SUM(F45+H45+J45) -> #REF!
A46: 가로수전정 (강전정) 기계시공 | B46: 61cm 초과 | C46: 주 | D46: =#REF! -> #REF! | E46: =#REF! -> #REF! | F46: =TRUNC(D46*E46) -> #REF! | G46: =#REF! -> #REF! | H46: =TRUNC(D46*G46) -> #REF! | I46: =#REF! -> #REF! | J46: =TRUNC(D46*I46) -> #REF! | K46: =#REF! -> #REF! | L46: =SUM(F46+H46+J46) -> #REF!
A47: [ 합 계 ] | D47: =SUM(D40:D46) -> #REF! | F47: =SUM(F40:F46) -> #REF! | H47: =SUM(H40:H46) -> #REF! | J47: =SUM(J40:J46) -> #REF! | L47: =SUM(L40:L46) -> #REF!
A49: 가로수전정 (조형전정) 기계시공 | B49: 11cm 미만 | C49: 주 | D49: =#REF! -> #REF! | E49: =#REF! -> #REF! | F49: =TRUNC(D49*E49) -> #REF! | G49: =#REF! -> #REF! | H49: =TRUNC(D49*G49) -> #REF! | I49: =#REF! -> #REF! | J49: =TRUNC(D49*I49) -> #REF! | K49: =#REF! -> #REF! | L49: =SUM(F49+H49+J49) -> #REF!
A50: 가로수전정 (조형전정) 기계시공 | B50: 11~21cm 미만 | C50: 주 | D50: =#REF! -> #REF! | E50: =#REF! -> #REF! | F50: =TRUNC(D50*E50) -> #REF! | G50: =#REF! -> #REF! | H50: =TRUNC(D50*G50) -> #REF! | I50: =#REF! -> #REF! | J50: =TRUNC(D50*I50) -> #REF! | K50: =#REF! -> #REF! | L50: =SUM(F50+H50+J50) -> #REF!
A51: 가로수전정 (조형전정) 기계시공 | B51: 21~31cm 미만 | C51: 주 | D51: =#REF! -> #REF! | E51: =#REF! -> #REF! | F51: =TRUNC(D51*E51) -> #REF! | G51: =#REF! -> #REF! | H51: =TRUNC(D51*G51) -> #REF! | I51: =#REF! -> #REF! | J51: =TRUNC(D51*I51) -> #REF! | K51: =#REF! -> #REF! | L51: =SUM(F51+H51+J51) -> #REF!
A52: 가로수전정 (조형전정) 기계시공 | B52: 31~41cm 미만 | C52: 주 | D52: =#REF! -> #REF! | E52: =#REF! -> #REF! | F52: =TRUNC(D52*E52) -> #REF! | G52: =#REF! -> #REF! | H52: =TRUNC(D52*G52) -> #REF! | I52: =#REF! -> #REF! | J52: =TRUNC(D52*I52) -> #REF! | K52: =#REF! -> #REF! | L52: =SUM(F52+H52+J52) -> #REF!
A53: 가로수전정 (조형전정) 기계시공 | B53: 41~51cm 미만 | C53: 주 | D53: =#REF! -> #REF! | E53: =#REF! -> #REF! | F53: =TRUNC(D53*E53) -> #REF! | G53: =#REF! -> #REF! | H53: =TRUNC(D53*G53) -> #REF! | I53: =#REF! -> #REF! | J53: =TRUNC(D53*I53) -> #REF! | K53: =#REF! -> #REF! | L53: =SUM(F53+H53+J53) -> #REF!
A54: 가로수전정 (조형전정) 기계시공 | B54: 51~61cm 미만 | C54: 주 | D54: =#REF! -> #REF! | E54: =#REF! -> #REF! | F54: =TRUNC(D54*E54) -> #REF! | G54: =#REF! -> #REF! | H54: =TRUNC(D54*G54) -> #REF! | I54: =#REF! -> #REF! | J54: =TRUNC(D54*I54) -> #REF! | K54: =#REF! -> #REF! | L54: =SUM(F54+H54+J54) -> #REF!
A55: 가로수전정 (조형전정) 기계시공 | B55: 61cm 초과 | C55: 주 | D55: =#REF! -> #REF! | E55: =#REF! -> #REF! | F55: =TRUNC(D55*E55) -> #REF! | G55: =#REF! -> #REF! | H55: =TRUNC(D55*G55) -> #REF! | I55: =#REF! -> #REF! | J55: =TRUNC(D55*I55) -> #REF! | K55: =#REF! -> #REF! | L55: =SUM(F55+H55+J55) -> #REF!
A56: [ 합 계 ] | D56: =SUM(D49:D55) -> #REF! | F56: =SUM(F49:F55) -> #REF! | H56: =SUM(H49:H55) -> #REF! | J56: =SUM(J49:J55) -> #REF! | L56: =SUM(L49:L55) -> #REF!
A58: 0104 나무베기
A59: 나무베기 기계시공 | B59: 11cm 미만 | C59: 주 | D59: =#REF! -> #REF! | E59: =#REF! -> #REF! | F59: =TRUNC(D59*E59) -> #REF! | G59: =#REF! -> #REF! | H59: =TRUNC(D59*G59) -> #REF! | I59: =#REF! -> #REF! | J59: =TRUNC(D59*I59) -> #REF! | K59: =#REF! -> #REF! | L59: =SUM(F59+H59+J59) -> #REF!
A60: 나무베기 기계시공 | B60: 11~21cm 미만 | C60: 주 | D60: =#REF! -> #REF! | E60: =#REF! -> #REF! | F60: =TRUNC(D60*E60) -> #REF! | G60: =#REF! -> #REF! | H60: =TRUNC(D60*G60) -> #REF! | I60: =#REF! -> #REF! | J60: =TRUNC(D60*I60) -> #REF! | K60: =#REF! -> #REF! | L60: =SUM(F60+H60+J60) -> #REF!
A61: 나무베기 기계시공 | B61: 21~31cm 미만 | C61: 주 | D61: =#REF! -> #REF! | E61: =#REF! -> #REF! | F61: =TRUNC(D61*E61) -> #REF! | G61: =#REF! -> #REF! | H61: =TRUNC(D61*G61) -> #REF! | I61: =#REF! -> #REF! | J61: =TRUNC(D61*I61) -> #REF! | K61: =#REF! -> #REF! | L61: =SUM(F61+H61+J61) -> #REF!
A62: 나무베기 기계시공 | B62: 31~41cm 미만 | C62: 주 | D62: =#REF! -> #REF! | E62: =#REF! -> #REF! | F62: =TRUNC(D62*E62) -> #REF! | G62: =#REF! -> #REF! | H62: =TRUNC(D62*G62) -> #REF! | I62: =#REF! -> #REF! | J62: =TRUNC(D62*I62) -> #REF! | K62: =#REF! -> #REF! | L62: =SUM(F62+H62+J62) -> #REF!
A63: 나무베기 기계시공 | B63: 41~51cm 미만 | C63: 주 | D63: =#REF! -> #REF! | E63: =#REF! -> #REF! | F63: =TRUNC(D63*E63) -> #REF! | G63: =#REF! -> #REF! | H63: =TRUNC(D63*G63) -> #REF! | I63: =#REF! -> #REF! | J63: =TRUNC(D63*I63) -> #REF! | K63: =#REF! -> #REF! | L63: =SUM(F63+H63+J63) -> #REF!
A64: 나무베기 기계시공 | B64: 51~61cm 미만 | C64: 주 | D64: =#REF! -> #REF! | E64: =#REF! -> #REF! | F64: =TRUNC(D64*E64) -> #REF! | G64: =#REF! -> #REF! | H64: =TRUNC(D64*G64) -> #REF! | I64: =#REF! -> #REF! | J64: =TRUNC(D64*I64) -> #REF! | K64: =#REF! -> #REF! | L64: =SUM(F64+H64+J64) -> #REF!
A65: 나무베기 기계시공 | B65: 61cm 초과 | C65: 주 | D65: =#REF! -> #REF! | E65: =#REF! -> #REF! | F65: =TRUNC(D65*E65) -> #REF! | G65: =#REF! -> #REF! | H65: =TRUNC(D65*G65) -> #REF! | I65: =#REF! -> #REF! | J65: =TRUNC(D65*I65) -> #REF! | K65: =#REF! -> #REF! | L65: =SUM(F65+H65+J65) -> #REF!
A66: [ 합 계 ] | D66: =SUM(D59:D65) -> #REF! | F66: =SUM(F59:F65) -> #REF! | H66: =SUM(H59:H65) -> #REF! | J66: =SUM(J59:J65) -> #REF! | L66: =SUM(L59:L65) -> #REF!
A68: 0105 뿌리제거
A69: 뿌리제거 기계시공 | B69: 11cm 미만 | C69: 주 | D69: =#REF! -> #REF! | E69: =#REF! -> #REF! | F69: =TRUNC(D69*E69) -> #REF! | G69: =#REF! -> #REF! | H69: =TRUNC(D69*G69) -> #REF! | I69: =#REF! -> #REF! | J69: =TRUNC(D69*I69) -> #REF! | K69: =#REF! -> #REF! | L69: =SUM(F69+H69+J69) -> #REF!
A70: 뿌리제거 기계시공 | B70: 11~21cm 미만 | C70: 주 | D70: =#REF! -> #REF! | E70: =#REF! -> #REF! | F70: =TRUNC(D70*E70) -> #REF! | G70: =#REF! -> #REF! | H70: =TRUNC(D70*G70) -> #REF! | I70: =#REF! -> #REF! | J70: =TRUNC(D70*I70) -> #REF! | K70: =#REF! -> #REF! | L70: =SUM(F70+H70+J70) -> #REF!
A71: 뿌리제거 기계시공 | B71: 21~31cm 미만 | C71: 주 | D71: =#REF! -> #REF! | E71: =#REF! -> #REF! | F71: =TRUNC(D71*E71) -> #REF! | G71: =#REF! -> #REF! | H71: =TRUNC(D71*G71) -> #REF! | I71: =#REF! -> #REF! | J71: =TRUNC(D71*I71) -> #REF! | K71: =#REF! -> #REF! | L71: =SUM(F71+H71+J71) -> #REF!
A72: 뿌리제거 기계시공 | B72: 31~41cm 미만 | C72: 주 | D72: =#REF! -> #REF! | E72: =#REF! -> #REF! | F72: =TRUNC(D72*E72) -> #REF! | G72: =#REF! -> #REF! | H72: =TRUNC(D72*G72) -> #REF! | I72: =#REF! -> #REF! | J72: =TRUNC(D72*I72) -> #REF! | K72: =#REF! -> #REF! | L72: =SUM(F72+H72+J72) -> #REF!
A73: 뿌리제거 기계시공 | B73: 41~51cm 미만 | C73: 주 | D73: =#REF! -> #REF! | E73: =#REF! -> #REF! | F73: =TRUNC(D73*E73) -> #REF! | G73: =#REF! -> #REF! | H73: =TRUNC(D73*G73) -> #REF! | I73: =#REF! -> #REF! | J73: =TRUNC(D73*I73) -> #REF! | K73: =#REF! -> #REF! | L73: =SUM(F73+H73+J73) -> #REF!
A74: 뿌리제거 기계시공 | B74: 51~61cm 미만 | C74: 주 | D74: =#REF! -> #REF! | E74: =#REF! -> #REF! | F74: =TRUNC(D74*E74) -> #REF! | G74: =#REF! -> #REF! | H74: =TRUNC(D74*G74) -> #REF! | I74: =#REF! -> #REF! | J74: =TRUNC(D74*I74) -> #REF! | K74: =#REF! -> #REF! | L74: =SUM(F74+H74+J74) -> #REF!
A75: 뿌리제거 기계시공 | B75: 61cm 초과 | C75: 주 | D75: =#REF! -> #REF! | E75: =#REF! -> #REF! | F75: =TRUNC(D75*E75) -> #REF! | G75: =#REF! -> #REF! | H75: =TRUNC(D75*G75) -> #REF! | I75: =#REF! -> #REF! | J75: =TRUNC(D75*I75) -> #REF! | K75: =#REF! -> #REF! | L75: =SUM(F75+H75+J75) -> #REF!
A76: [ 합 계 ] | D76: =SUM(D69:D75) -> #REF! | F76: =SUM(F69:F75) -> #REF! | H76: =SUM(H69:H75) -> #REF! | J76: =SUM(J69:J75) -> #REF! | L76: =SUM(L69:L75) -> #REF!
A78: 0106 소나무 전정
A79: 소나무전정 (조형전정) 기계시공 | B79: 11cm 미만 | C79: 주 | D79: =#REF! -> #REF! | E79: =#REF! -> #REF! | F79: =TRUNC(D79*E79) -> #REF! | G79: =#REF! -> #REF! | H79: =TRUNC(D79*G79) -> #REF! | I79: =#REF! -> #REF! | J79: =TRUNC(D79*I79) -> #REF! | K79: =#REF! -> #REF! | L79: =SUM(F79+H79+J79) -> #REF! | P79: 0105
A80: 소나무전정 (조형전정) 기계시공 | B80: 11~21cm 미만 | C80: 주 | D80: =#REF! -> #REF! | E80: =#REF! -> #REF! | F80: =TRUNC(D80*E80) -> #REF! | G80: =#REF! -> #REF! | H80: =TRUNC(D80*G80) -> #REF! | I80: =#REF! -> #REF! | J80: =TRUNC(D80*I80) -> #REF! | K80: =#REF! -> #REF! | L80: =SUM(F80+H80+J80) -> #REF! | M80: 50B3D18B3B12AB5FA0F3A5978A3E92 | P80: 0105 | Q80: T | R80: F | S80: F | AT80: 010550B3D18B3B12AB5FA0F3A5978A3E92 | AU80: 87
A81: 소나무전정 (조형전정) 기계시공 | B81: 21~31cm 미만 | C81: 주 | D81: =#REF! -> #REF! | E81: =#REF! -> #REF! | F81: =TRUNC(D81*E81) -> #REF! | G81: =#REF! -> #REF! | H81: =TRUNC(D81*G81) -> #REF! | I81: =#REF! -> #REF! | J81: =TRUNC(D81*I81) -> #REF! | K81: =#REF! -> #REF! | L81: =SUM(F81+H81+J81) -> #REF! | M81: 50B3D18B3B12AB5FA0F3A5943621AC | P81: 0105 | Q81: T | R81: F | S81: F | AT81: 010550B3D18B3B12AB5FA0F3A5943621AC | AU81: 88
A82: 소나무전정 (조형전정) 기계시공 | B82: 31~41cm 미만 | C82: 주 | D82: =#REF! -> #REF! | E82: =#REF! -> #REF! | F82: =TRUNC(D82*E82) -> #REF! | G82: =#REF! -> #REF! | H82: =TRUNC(D82*G82) -> #REF! | I82: =#REF! -> #REF! | J82: =TRUNC(D82*I82) -> #REF! | K82: =#REF! -> #REF! | L82: =SUM(F82+H82+J82) -> #REF! | M82: 50B3D18B3B12AB5FA0F394996ABFA1 | P82: 0105 | Q82: T | R82: F | S82: F | AT82: 010550B3D18B3B12AB5FA0F394996ABFA1 | AU82: 91
A83: 소나무전정 (조형전정) 기계시공 | B83: 41~51cm 미만 | C83: 주 | D83: =#REF! -> #REF! | E83: =#REF! -> #REF! | F83: =TRUNC(D83*E83) -> #REF! | G83: =#REF! -> #REF! | H83: =TRUNC(D83*G83) -> #REF! | I83: =#REF! -> #REF! | J83: =TRUNC(D83*I83) -> #REF! | K83: =#REF! -> #REF! | L83: =SUM(F83+H83+J83) -> #REF! | M83: 50B3D18B3B12AB5FA0F394996ABFA0 | P83: 0105 | Q83: T | R83: F | S83: F | AT83: 010550B3D18B3B12AB5FA0F394996ABFA0 | AU83: 89
A84: 소나무전정 (조형전정) 기계시공 | B84: 51~61cm 미만 | C84: 주 | D84: =#REF! -> #REF! | E84: =#REF! -> #REF! | F84: =TRUNC(D84*E84) -> #REF! | G84: =#REF! -> #REF! | H84: =TRUNC(D84*G84) -> #REF! | I84: =#REF! -> #REF! | J84: =TRUNC(D84*I84) -> #REF! | K84: =#REF! -> #REF! | L84: =SUM(F84+H84+J84) -> #REF! | M84: 50B3D18B3B12AB5FA0F394996ABFAF | P84: 0105 | Q84: T | R84: F | S84: F | AT84: 010550B3D18B3B12AB5FA0F394996ABFAF | AU84: 90
A85: 소나무전정 (조형전정) 기계시공 | B85: 61cm 초과 | C85: 주 | D85: =#REF! -> #REF! | E85: =#REF! -> #REF! | F85: =TRUNC(D85*E85) -> #REF! | G85: =#REF! -> #REF! | H85: =TRUNC(D85*G85) -> #REF! | I85: =#REF! -> #REF! | J85: =TRUNC(D85*I85) -> #REF! | K85: =#REF! -> #REF! | L85: =SUM(F85+H85+J85) -> #REF! | M85: TOTAL
A86: [ 합 계 ] | D86: =SUM(D79:D85) -> #REF! | F86: =SUM(F79:F85) -> #REF! | H86: =SUM(H79:H85) -> #REF! | J86: =SUM(J79:J85) -> #REF! | L86: =SUM(L79:L85) -> #REF!
A88: 0107 소나무 전정(반송) | P88: 0107
A89: 소나무전정 (반송) | B89: 솎아내기 포함 (수관) 1.5m이하 | C89: 주 | D89: =#REF! -> #REF! | G89: =#REF! -> #REF! | H89: =TRUNC(D89*G89) -> #REF! | I89: =#REF! -> #REF! | J89: =TRUNC(D89*I89) -> #REF! | K89: =#REF! -> #REF! | L89: =SUM(F89+H89+J89) -> #REF! | M89: 509ED18539C97C5005330B9408C7B3 | P89: 0107 | Q89: F | R89: F | S89: T | AT89: 0107509ED18539C97C5005330B9408C7B3 | AU89: 35
A90: 소나무전정 (반송) | B90: 솎아내기 포함 (작업량이 많음) (수관) 1.5m이하 | C90: 주 | D90: =#REF! -> #REF! | G90: =#REF! -> #REF! | H90: =TRUNC(D90*G90) -> #REF! | I90: =#REF! -> #REF! | J90: =TRUNC(D90*I90) -> #REF! | K90: =#REF! -> #REF! | L90: =SUM(F90+H90+J90) -> #REF! | M90: TOTAL
A91: 소나무전정 (반송) | B91: 솎아내기 포함 (수관) 1.5m이상 | C91: 주 | D91: =#REF! -> #REF! | G91: =#REF! -> #REF! | H91: =TRUNC(D91*G91) -> #REF! | I91: =#REF! -> #REF! | J91: =TRUNC(D91*I91) -> #REF! | K91: =#REF! -> #REF! | L91: =SUM(F91+H91+J91) -> #REF!
A92: 소나무전정 (반송) | B92: 솎아내기 포함 (작업량이 많음) (수관) 1.5m이상 | C92: 주 | D92: =#REF! -> #REF! | G92: =#REF! -> #REF! | H92: =TRUNC(D92*G92) -> #REF! | I92: =#REF! -> #REF! | J92: =TRUNC(D92*I92) -> #REF! | K92: =#REF! -> #REF! | L92: =SUM(F92+H92+J92) -> #REF!
A93: [ 합 계 ] | D93: =SUM(D89:D92) -> #REF! | F93: =SUM(F89:F92) -> 0 | H93: =SUM(H89:H92) -> #REF! | J93: =SUM(J89:J92) -> #REF! | L93: =SUM(L89:L92) -> #REF!
A95: 0108 등나무 전정 및 잡목제거
A96: 등나무 전정 | B96: 1m2당 | C96: ㎡ | D96: =#REF! -> #REF! | E96: =#REF! -> #REF! | F96: =TRUNC(D96*E96) -> #REF! | G96: =#REF! -> #REF! | H96: =TRUNC(D96*G96) -> #REF! | I96: =#REF! -> #REF! | J96: =TRUNC(D96*I96) -> #REF! | K96: =#REF! -> #REF! | L96: =SUM(F96+H96+J96) -> #REF!
A97: 잡목제거 | B97: 1m2당 | C97: ㎡ | D97: =#REF! -> #REF! | E97: =#REF! -> #REF! | F97: =TRUNC(D97*E97) -> #REF! | G97: =#REF! -> #REF! | H97: =TRUNC(D97*G97) -> #REF! | I97: =#REF! -> #REF! | J97: =TRUNC(D97*I97) -> #REF! | K97: =#REF! -> #REF! | L97: =SUM(F97+H97+J97) -> #REF!
A98: [ 합 계 ] | F98: =SUM(F96:F97) -> #REF! | H98: =SUM(H96:H97) -> #REF! | J98: =SUM(J96:J97) -> #REF! | L98: =SUM(L96:L97) -> #REF!
A100: 0109 신호수, 교통정리, 안전처리
A101: 신호수, 교통정리, 안전처리 | B101: 보통인부2인 | C101: 1일 | D101: =#REF! -> #REF! | G101: =#REF! -> #REF! | H101: =TRUNC(D101*G101) -> #REF! | L101: =SUM(F101+H101+J101) -> #REF!
A102: [ 합 계 ] | H102: =SUM(H100:H101) -> #REF! | L102: =SUM(L100:L101) -> #REF!
A103: 0110 폐기물 처리비
A104: 임목 폐기물 | B104: 운반+상차 | C104: KG | D104: ='1-1임목폐기물산출식 (4)'!CC59 -> #REF! | I104: =#REF! -> #REF! | J104: =(D104+D106)*I104 -> #REF!
B105: 처리 | C105: KG | D105: ='1-1임목폐기물산출식 (4)'!CC59 -> #REF! | I105: =#REF! -> #REF! | J105: =(D105+D107)*I105 -> #REF!
A106: 기존 폐기물 | B106: 운반+상차 | C106: KG | D106: =D104*0.05 -> #REF!
B107: 처리 | C107: KG | D107: =D105*0.05 -> #REF!
B108: 합 계 | C108: KG | D108: =D105+D107 -> #REF!
A110: 교목전정 | B110: 수량합계 | D110: =D11+D28+D38+D47+D56+D66+D76+D86+D93 -> #REF!

Sheet 1-1임목폐기물산출식 (4)
B2: ◈ 전지전정 폐기물(임목) 수량산출식 | BU2: 1㎡ 당 덩쿨류 및 목본류 폐기물(kg) 산출식
BU3: 품종 | BV3: 적용 수고 (m) | BX3: 전정율(%) A | BY3: 피복율(%) B | BZ3: 공극율(%) C | CA3: 부피㎥ D=(A*B*C) | CB3: 단위중량 (kg/㎥) | CC3: 전정중량(kg)
B4: ㅇ 수목 지상부 중량 계산공식 | BU4: 등나무(만경류) | BV4: 0.9 | BX4: 0.2 | BY4: 0.35 | BZ4: 0.85 | CA4: =(BX4*BV4)*BY4*(1-BZ4) -> 0.00945 | CB4: 0.5 | CC4: =CA4*CB4*1000 -> 4.725
F5: W = k × 3.14 × (B/2)²× h × w1 × (1+P) | AJ5: k : 수간형상계수 (0.5) | BU5: 관목류(0.9이하) | BV5: 0.45 | BX5: 0.15 | BY5: 0.2 | BZ5: 0.85 | CA5: =(BX5*BV5)*BY5*(1-BZ5) -> 0.002025 | CB5: 0.5 | CC5: =CA5*CB5*1000 -> 1.0125
AJ6: B : 흉고직경 | BU6: 관목류(0.9이상) | BV6: 0.9 | BX6: 0.2 | BY6: 0.2 | BZ6: 0.85 | CA6: =(BX6*BV6)*BY6*(1-BZ6) -> 0.0054 | CB6: 0.5 | CC6: =CA6*CB6*1000 -> 2.7
AJ7: h : 수고 | BU7: 잡목류 | BV7: 0.9 | BX7: 0.88 | BY7: 0.05 | BZ7: 0.95 | CA7: =(BX7*BV7)*BY7*(1-BZ7) -> 0.00198 | CB7: 0.5 | CC7: =CA7*CB7*1000 -> 0.99
AJ8: P : 지엽의 과다에 의한 보합률(임목:0.3, 고립목:1.0)
AJ9: w1 : 수간의 단위체적장 중량 (kg/㎥)
B11: ㅇ 수간의 단위체적당중량
B12: 수종 | AC12: 단위체적중량(kg/㎥) | AT12: 비고
B13: 가시나무류,상수리나무, 졸참나무등 | AC13: 1340이상
B14: 느티나무, 쪽동백, 느릅나무등 | AC14: 1300 - 1340 | BU14: 임목폐기물 산출수량
B15: 단풍나무, 벗나무, 은행나무, 향냐무등 | AC15: 1250 - 1300 | BU15: 구분 | BX15: 공종 | BZ15: 단위 | CA15: 수량 | CB15: 폐기물량(kg) | CC15: 합계(KG)
B16: 소나무, 편백, 플라타너스등 | AC16: 1210 - 1250 | BU16: 조형전정 | BV16: 인 력 전 정 | BW16: 낙 엽 수 | BX16: B11미만 | BZ16: 주 | CA16: ='1-1 (4)'!D5+'1-1 (4)'!D31+'1-1 (4)'!D40+'1-1 (4)'!D49+'1-1 (4)'!D79 -> #REF! | CB16: =Y32*CA16 -> #REF! | CC16: =SUM(CB16:CB57) -> #REF!
B17: 평균치 | AC17: =(1210+1340)/2 -> 1275 | AT17: (1210 + 1340) ÷ 2 | BX17: B11~21 | BZ17: 주 | CA17: ='1-1 (4)'!D6 -> #REF! | CB17: =Y33*CA17 -> #REF!
BG18: ※ 자료 : 조경설계요람 | BX18: B21~31 | BZ18: 주 | CA18: ='1-1 (4)'!D7 -> #REF! | CB18: =Y34*CA18 -> #REF!
BW19: 상 록 수 | BX19: B11미만 | BZ19: 주 | CA19: ='1-1 (4)'!D8 -> #REF! | CB19: =AC32*CA19 -> #REF!
B20: ㅇ 수목부위별 중량분배비 | BX20: B11~21 | BZ20: 주 | CA20: ='1-1 (4)'!D9 -> #REF! | CB20: =AC33*CA20 -> #REF!
B21: 구분 | P21: 지상부 | AR21: 뿌리 | AY21: 계 | BF21: 비고 | BX21: B21~31 | BZ21: 주 | CA21: ='1-1 (4)'!D10 -> #REF! | CB21: =AC34*CA21 -> #REF!
P22: 줄기 | W22: 가지 | AD22: 잎 | AK22: 소계 | BV22: 기 계 전 정 | BW22: 낙 엽 수 | BX22: B11~21미만 | BZ22: 주 | CA22: ='1-1 (4)'!D14+'1-1 (4)'!D50 -> #REF! | CB22: =AO33*CA22 -> #REF!
B23: 일반적배율(평균치) % | P23: 45 | W23: 15 | AD23: 25 | AK23: =SUM(P23:AJ23) -> 85 | AR23: 15 | AY23: =AR23+AK23 -> 100 | BX23: B21~31 | BZ23: 주 | CA23: ='1-1 (4)'!D15+'1-1 (4)'!D51 -> #REF! | CB23: =AO34*CA23 -> #REF!
BG24: ※ 자료 : 산림생태학(향문사) | BX24: B31~41 | BZ24: 주 | CA24: ='1-1 (4)'!D16+'1-1 (4)'!D52 -> #REF! | CB24: =AO35*CA24 -> #REF!
BX25: B41~51 | BZ25: 주 | CA25: ='1-1 (4)'!D17+'1-1 (4)'!D53 -> #REF! | CB25: =AO36*CA25 -> #REF!
BX26: B51이상 | BZ26: 주 | CA26: ='1-1 (4)'!D18+'1-1 (4)'!D19+'1-1 (4)'!D54+'1-1 (4)'!D55 -> #REF! | CB26: =AO37*CA26 -> #REF!
B27: ◈ 규격별 폐기물 물량산출 | BW27: 상 록 수 | BX27: B11~21미만 | BZ27: 주 | CA27: ='1-1 (4)'!D22 -> #REF! | CB27: =AS33*CA27 -> #REF!
BX28: B21~31 | BZ28: 주 | CA28: ='1-1 (4)'!D23 -> #REF! | CB28: =AS34*CA28 -> #REF!
B29: ㅇ 규격별 전지전정량 산출 | BX29: B31~41 | BZ29: 주 | CA29: ='1-1 (4)'!D24 -> #REF! | CB29: =AS35*CA29 -> #REF!
B30: 구분 | G30: 지상부중량 (kg) | L30: 전정부 중량 (50%) | Q30: 조형 인력전정 | AG30: 조형 기계전정 | AW30: 가로수 약·강전정 | BM30: 교목제거(kg) | BX30: B41~51 | BZ30: 주 | CA30: ='1-1 (4)'!D25 -> #REF! | CB30: =AS36*CA30 -> #REF!
Q31: 전전량(낙,상) | Y31: 전정중량(kg) | AG31: 전전량(낙,상) | AO31: 전정중량(kg) | AW31: 전전량(강,약) | BE31: 전정중량(kg) | BX31: B51이상 | BZ31: 주 | CA31: ='1-1 (4)'!D26+'1-1 (4)'!D27 -> #REF! | CB31: =AS37*CA31 -> #REF!
B32: 11이하 | G32: =AZ46 -> 42.79 | L32: =G32*0.5 -> 21.395 | Q32: 0.2 | U32: 0.15 | Y32: =L32*Q32 -> 4.279 | AC32: =L32*U32 -> 3.20925 | BM32: =G32 -> 42.79 | BU32: 가로수전정(약전정) | BX32: B11~21미만 | BZ32: 주 | CA32: ='1-1 (4)'!D32 -> #REF! | CB32: =BI33*CA32 -> #REF!
B33: 43790 | G33: =AZ47 -> 128.11 | L33: =G33*0.5 -> 64.055 | Q33: 0.2 | U33: 0.15 | Y33: =L33*Q33 -> 12.811 | AC33: =L33*U33 -> 9.60825 | AG33: 0.2 | AK33: 0.15 | AO33: =L33*AG33 -> 12.811 | AS33: =L33*AK33 -> 9.60825 | AW33: 0.4 | BA33: 0.3 | BE33: =L33*AW33 -> 25.622 | BI33: =L33*BA33 -> 19.2165 | BM33: =G33 -> 128.11 | BX33: B21~31 | BZ33: 주 | CA33: ='1-1 (4)'!D33 -> #REF! | CB33: =BI34*CA33 -> #REF!
B34: 21-31 | G34: =AZ48 -> 420.99 | L34: =G34*0.5 -> 210.495 | Q34: 0.2 | U34: 0.15 | Y34: =L34*Q34 -> 42.099 | AC34: =L34*U34 -> 31.57425 | AG34: 0.2 | AK34: 0.15 | AO34: =L34*AG34 -> 42.099 | AS34: =L34*AK34 -> 31.57425 | AW34: 0.4 | BA34: 0.3 | BE34: =L34*AW34 -> 84.198 | BI34: =L34*BA34 -> 63.1485 | BM34: =G34 -> 420.99 | BX34: B31~41 | BZ34: 주 | CA34: ='1-1 (4)'!D34 -> #REF! | CB34: =BI35*CA34 -> #REF!
B35: 31-41 | G35: =AZ49 -> 847.46 | L35: =G35*0.5 -> 423.73 | AG35: 0.2 | AK35: 0.15 | AO35: =L35*AG35 -> 84.746 | AS35: =L35*AK35 -> 63.5595 | AW35: 0.4 | BA35: 0.3 | BE35: =L35*AW35 -> 169.492 | BI35: =L35*BA35 -> 127.119 | BM35: =G35 -> 847.46 | BX35: B41~51 | BZ35: 주 | CA35: ='1-1 (4)'!D35 -> #REF! | CB35: =BI36*CA35 -> #REF!
B36: 41-51 | G36: =AZ50 -> 1534.26 | L36: =G36*0.5 -> 767.13 | AG36: 0.2 | AK36: 0.15 | AO36: =L36*AG36 -> 153.426 | AS36: =L36*AK36 -> 115.0695 | AW36: 0.4 | BA36: 0.3 | BE36: =L36*AW36 -> 306.852 | BI36: =L36*BA36 -> 230.139 | BM36: =G36 -> 1534.26 | BX36: B51이상 | BZ36: 주 | CA36: ='1-1 (4)'!D36+'1-1 (4)'!D37 -> #REF! | CB36: =BI37*CA36 -> #REF!
B37: 51-70 | G37: =AZ51 -> 2881.91 | L37: =G37*0.5 -> 1440.955 | AG37: 0.2 | AK37: 0.15 | AO37: =L37*AG37 -> 288.191 | AS37: =L37*AK37 -> 216.14325 | AW37: 0.4 | BA37: 0.3 | BE37: =L37*AW37 -> 576.382 | BI37: =L37*BA37 -> 432.2865 | BM37: =G37 -> 2881.91 | BU37: 가로수전정(강전정) | BX37: B11~21미만 | BZ37: 주 | CA37: ='1-1 (4)'!D41 -> #REF! | CB37: =BE33*CA37 -> #REF!
BX38: B21~31 | BZ38: 주 | CA38: ='1-1 (4)'!D42 -> #REF! | CB38: =BE34*CA38 -> #REF!
BX39: B31~41 | BZ39: 주 | CA39: ='1-1 (4)'!D43 -> #REF! | CB39: =BE35*CA39 -> #REF!
BX40: B41~51 | BZ40: 주 | CA40: ='1-1 (4)'!D44 -> #REF! | CB40: =BE36*CA40 -> #REF!
BX41: B51이상 | BZ41: 주 | CA41: ='1-1 (4)'!D45+'1-1 (4)'!D46 -> #REF! | CB41: =BE37*CA41 -> #REF!
BU42: 소나무 전정 | BX42: B11~21미만 | BZ42: 주 | CA42: ='1-1 (4)'!D80 -> #REF! | CB42: =BI33*CA42 -> #REF!
BX43: B21~31 | BZ43: 주 | CA43: ='1-1 (4)'!D81 -> #REF! | CB43: =BI34*CA43 -> #REF!
B44: ㅇ 규격별 수목지상부 중량산출 | BX44: B31~41 | BZ44: 주 | CA44: ='1-1 (4)'!D82 -> #REF! | CB44: =BI35*CA44 -> #REF!
B45: 흉고직경 | I45: 평균흉고직경 | P45: k | W45: B | AD45: h | AK45: P | AR45: w1 | AZ45: W | BH45: 비고 | BX45: B41~51 | BZ45: 주 | CA45: ='1-1 (4)'!D83 -> #REF! | CB45: =BI36*CA45 -> #REF!
B46: 11이하 | I46: 11 | P46: 0.5 | W46: =I46/100 -> 0.11 | AD46: =BP55 -> 3.5333333 | AK46: 1 | AR46: 1275 | AZ46: =ROUNDDOWN((P46*3.14*(W46/2)*(W46/2)*AD46*AR46*(1+AK46)),2) -> 42.79 | BX46: B51이상 | BZ46: 주 | CA46: ='1-1 (4)'!D84+'1-1 (4)'!D85 -> #REF! | CB46: =BI37*CA46 -> #REF!
B47: 43790 | I47: 16 | P47: 0.5 | W47: =I47/100 -> 0.16 | AD47: =BP56 -> 5 | AK47: 1 | AR47: 1275 | AZ47: =ROUNDDOWN((P47*3.14*(W47/2)*(W47/2)*AD47*AR47*(1+AK47)),2) -> 128.11 | BU47: 반송 | BX47: W(수관폭)1.5이하 | BZ47: 주 | CA47: ='1-1 (4)'!D89+'1-1 (4)'!D90 -> #REF! | CB47: =CA47*AC32 -> #REF!
B48: 21-31 | I48: =(21+31)/2 -> 26 | P48: 0.5 | W48: =I48/100 -> 0.26 | AD48: =BP57 -> 6.2222222 | AK48: 1 | AR48: 1275 | AZ48: =ROUNDDOWN((P48*3.14*(W48/2)*(W48/2)*AD48*AR48*(1+AK48)),2) -> 420.99 | BX48: W(수관폭)1.5이상 | BZ48: 주 | CA48: ='1-1 (4)'!D91+'1-1 (4)'!D92 -> #REF! | CB48: =CA48*AC33 -> #REF!
B49: 31-41 | I49: =(31+41)/2 -> 36 | P49: 0.5 | W49: =I49/100 -> 0.36 | AD49: =BP58 -> 6.5333333 | AK49: 1 | AR49: 1275 | AZ49: =ROUNDDOWN((P49*3.14*(W49/2)*(W49/2)*AD49*AR49*(1+AK49)),2) -> 847.46 | BU49: 관목류 | BX49: H(수고)0.9이하 | BZ49: ㎡ | CB49: =CA49*CC5 -> 0
B50: 41-51 | I50: =(41+51)/2 -> 46 | P50: 0.5 | W50: =I50/100 -> 0.46 | AD50: =BP59 -> 7.2444444 | AK50: 1 | AR50: 1275 | AZ50: =ROUNDDOWN((P50*3.14*(W50/2)*(W50/2)*AD50*AR50*(1+AK50)),2) -> 1534.26 | BX50: H(수고)0.9이상 | BZ50: ㎡ | CB50: =CA50*CC6 -> 0
B51: 51-70 | I51: =(51+70)/2 -> 60.5 | P51: 0.5 | W51: =I51/100 -> 0.605 | AD51: =BP60 -> 7.8666667 | AK51: 1 | AR51: 1275 | AZ51: =ROUNDDOWN((P51*3.14*(W51/2)*(W51/2)*AD51*AR51*(1+AK51)),2) -> 2881.91 | BU51: 등나무 | BX51: 만경류 | BZ51: ㎡ | CA51: ='1-1 (4)'!D96 -> #REF! | CB51: =CA51*CC4 -> #REF!
B52: ㅇ 규격별 평균수고산출 (h) | BU52: 잡목제거 | BZ52: ㎡ | CA52: ='1-1 (4)'!D97 -> #REF! | CB52: =CA52*CC7 -> #REF!
B53: 규격 | J53: 측정수고 | BC53: 소계 | BH53: 평균 | BL53: 3점평균 | BP53: 적용수고 | BU53: 교목제거 | BV53: 인력+크레인 | BX53: B11~21미만 | BZ53: 주 | CA53: ='1-1 (4)'!D60 -> #REF! | CB53: =CA53*BM33 -> #REF!
J54: 1 | M54: 2 | P54: 3 | S54: 4 | V54: 5 | Y54: 6 | AB54: 7 | AE54: 8 | AH54: 9 | AK54: 10 | AN54: 11 | AQ54: 12 | AT54: 13 | AW54: 14 | AZ54: 15 | BX54: B21~31 | BZ54: 주 | CA54: ='1-1 (4)'!D61 -> #REF! | CB54: =CA54*BM34 -> #REF!
B55: 11이하 | J55: 4 | M55: 3 | P55: 4 | S55: 4 | V55: 4 | Y55: 3 | AB55: 3 | AE55: 3 | AH55: 3 | AK55: 3 | AN55: 4 | AQ55: 3 | AT55: 4 | AW55: 4 | AZ55: 4 | BC55: =SUM(J55:BB55) -> 53 | BH55: =BC55/COUNT(J55:BB55) -> 3.5333333 | BL55: =BH55 -> 3.5333333 | BP55: =BL55 -> 3.5333333 | BX55: B31~41 | BZ55: 주 | CA55: ='1-1 (4)'!D62 -> #REF! | CB55: =CA55*BM35 -> #REF!
B56: 43790 | J56: 7 | M56: 6 | P56: 7 | S56: 4 | V56: 7 | Y56: 5 | AB56: 8 | AE56: 8 | AH56: 4 | AK56: 5 | AN56: 4 | AQ56: 5 | AT56: 5 | AW56: 5 | AZ56: 6 | BC56: =SUM(J56:BB56) -> 86 | BH56: =BC56/COUNT(J56:BB56) -> 5.7333333 | BL56: =(BH55+BH56+BH57)/3 -> 5 | BP56: =BL56 -> 5 | BX56: B41~51 | BZ56: 주 | CA56: ='1-1 (4)'!D63 -> #REF! | CB56: =CA56*BM36 -> #REF!
B57: 21-31 | J57: 8 | M57: 7 | P57: 7 | S57: 6 | V57: 8 | Y57: 7 | AB57: 6 | AE57: 3 | AH57: 4 | AK57: 4 | AN57: 4 | AQ57: 4 | AT57: 5 | AW57: 5 | AZ57: 8 | BC57: =SUM(J57:BB57) -> 86 | BH57: =BC57/COUNT(J57:BB57) -> 5.7333333 | BL57: =(BH56+BH57+BH58)/3 -> 6.2222222 | BP57: =BL57 -> 6.2222222 | BX57: B51이상 | BZ57: 주 | CA57: ='1-1 (4)'!D64+'1-1 (4)'!D65 -> #REF! | CB57: =CA57*BM37 -> #REF!
B58: 31-41 | J58: 9 | M58: 7 | P58: 7 | S58: 8 | V58: 8 | Y58: 8 | AB58: 7 | AE58: 7 | AH58: 8 | AK58: 7 | AN58: 7 | AQ58: 7 | AT58: 8 | AW58: 5 | AZ58: 5 | BC58: =SUM(J58:BB58) -> 108 | BH58: =BC58/COUNT(J58:BB58) -> 7.2 | BL58: =(BH57+BH58+BH59)/3 -> 6.5333333 | BP58: =BL58 -> 6.5333333 | BU58: 기존 임목 폐기물 | BZ58: ton | CB58: =CA58 -> 0 | CC58: =CB58 -> 0
B59: 41-51 | J59: 6 | M59: 6 | P59: 6 | S59: 7 | V59: 8 | Y59: 6 | AB59: 8 | AE59: 7 | AH59: 5 | AK59: 6 | AN59: 5 | AQ59: 7 | AT59: 8 | AW59: 7 | AZ59: 8 | BC59: =SUM(J59:BB59) -> 100 | BH59: =BC59/COUNT(J59:BB59) -> 6.6666667 | BL59: =(BH58+BH59+BH60)/3 -> 7.2444444 | BP59: =BL59 -> 7.2444444 | BU59: 폐기물 총 합계 (ton) | CC59: =CC16+CC58 -> #REF!
B60: 51-70 | J60: 8 | M60: 8 | P60: 8 | S60: 8 | V60: 9 | Y60: 8 | AB60: 8 | AE60: 7 | AH60: 8 | AK60: 8 | AN60: 8 | AQ60: 7 | AT60: 7 | AW60: 9 | AZ60: 7 | BC60: =SUM(J60:BB60) -> 118 | BH60: =BC60/COUNT(J60:BB60) -> 7.8666667 | BL60: =BH60 -> 7.8666667 | BP60: =BL60 -> 7.8666667

Sheet 1 (5)
A1: 공 종 별 집 계 표
A2: =#REF! -> #REF!
A3: 품 명 | B3: 규 격 | C3: 단위 | D3: 수량 | E3: 재 료 비 | G3: 노 무 비 | I3: 경 비 | K3: 합 계 | M3: 비 고 | N3: 공종코드 | O3: 변수 | P3: 상위공종 | Q3: 공종구분 | R3: 공종레벨 | S3: 공종소계 | T3: 원가계산서 연결금액
E4: 단 가 | F4: 금 액 | G4: 단 가 | H4: 금 액 | I4: 단 가 | J4: 금 액 | K4: 단 가 | L4: 금 액
A5: 01 수목전정 | E5: =F18 -> #REF! | F5: =E5 -> #REF! | G5: =H18 -> #REF! | H5: =G5 -> #REF! | I5: =J18 -> #REF! | J5: =I5 -> #REF! | K5: =L18 -> #REF! | L5: =K5 -> #REF! | N5: 01 | R5: 1
A6: 0101 조형전정 인력시공 | C6: 식 | D6: 1 | E6: ='1-1 (5)'!F11 -> #REF! | F6: =TRUNC(E6*D6) -> #REF! | G6: ='1-1 (5)'!H11 -> #REF! | H6: =TRUNC(G6*D6) -> #REF! | I6: ='1-1 (5)'!J11 -> #REF! | J6: =TRUNC(I6*D6) -> #REF! | K6: ='1-1 (5)'!L11 -> #REF! | L6: =TRUNC(D6*K6) -> #REF! | N6: 0102 | P6: 01 | R6: 2
A7: 0102 조형 전정 기계시공(낙엽수) | C7: 식 | D7: 1 | E7: ='1-1 (5)'!F20 -> #REF! | F7: =TRUNC(E7*D7) -> #REF! | G7: ='1-1 (5)'!H20 -> #REF! | H7: =TRUNC(G7*D7) -> #REF! | I7: ='1-1 (5)'!J20 -> #REF! | J7: =TRUNC(I7*D7) -> #REF! | K7: ='1-1 (5)'!L20 -> #REF! | L7: =TRUNC(D7*K7) -> #REF! | N7: 0103 | P7: 01 | R7: 2
A8: 0103 조형 전정 기계시공(상록수) | C8: 식 | D8: 1 | E8: ='1-1 (5)'!F28 -> #REF! | F8: =TRUNC(E8*D8) -> #REF! | G8: ='1-1 (5)'!H28 -> #REF! | H8: =TRUNC(G8*D8) -> #REF! | I8: ='1-1 (5)'!J28 -> #REF! | J8: =TRUNC(I8*D8) -> #REF! | K8: ='1-1 (5)'!L28 -> #REF! | L8: =TRUNC(D8*K8) -> #REF! | N8: 0104 | P8: 01 | R8: 2
A9: 0104 가로수 약전정 기계시공 | C9: 식 | D9: 1 | E9: ='1-1 (5)'!F38 -> #REF! | F9: =TRUNC(E9*D9) -> #REF! | G9: ='1-1 (5)'!H38 -> #REF! | H9: =TRUNC(G9*D9) -> #REF! | I9: ='1-1 (5)'!J38 -> #REF! | J9: =TRUNC(I9*D9) -> #REF! | K9: ='1-1 (5)'!L38 -> #REF! | L9: =TRUNC(D9*K9) -> #REF! | N9: 0105 | P9: 01 | R9: 2
A10: 0105 가로수 강전정 기계시공 | C10: 식 | D10: 1 | E10: ='1-1 (5)'!F47 -> #REF! | F10: =TRUNC(E10*D10) -> #REF! | G10: ='1-1 (5)'!H47 -> #REF! | H10: =TRUNC(G10*D10) -> #REF! | I10: ='1-1 (5)'!J47 -> #REF! | J10: =TRUNC(I10*D10) -> #REF! | K10: ='1-1 (5)'!L47 -> #REF! | L10: =TRUNC(D10*K10) -> #REF!
A11: 0106 가로수 조형전정 기계시공 | C11: 식 | D11: 1 | E11: ='1-1 (5)'!F56 -> #REF! | F11: =TRUNC(E11*D11) -> #REF! | G11: ='1-1 (5)'!H56 -> #REF! | H11: =TRUNC(G11*D11) -> #REF! | I11: ='1-1 (5)'!J56 -> #REF! | J11: =TRUNC(I11*D11) -> #REF! | K11: ='1-1 (5)'!L56 -> #REF! | L11: =TRUNC(D11*K11) -> #REF!
A12: 0107 나무베기 기계시공 | C12: 식 | D12: 1 | E12: ='1-1 (5)'!F66 -> #REF! | F12: =TRUNC(E12*D12) -> #REF! | G12: ='1-1 (5)'!H66 -> #REF! | H12: =TRUNC(G12*D12) -> #REF! | I12: ='1-1 (5)'!J66 -> #REF! | J12: =TRUNC(I12*D12) -> #REF! | K12: ='1-1 (5)'!L66 -> #REF! | L12: =TRUNC(D12*K12) -> #REF!
A13: 0108 뿌리제거 기계시공 | C13: 식 | D13: 1 | E13: ='1-1 (5)'!F76 -> #REF! | F13: =TRUNC(E13*D13) -> #REF! | G13: ='1-1 (5)'!H76 -> #REF! | H13: =TRUNC(G13*D13) -> #REF! | I13: ='1-1 (5)'!J76 -> #REF! | J13: =TRUNC(I13*D13) -> #REF! | K13: ='1-1 (5)'!L76 -> #REF! | L13: =TRUNC(D13*K13) -> #REF!
A14: 0109 소나무 조형전정 기계시공 | C14: 식 | D14: 1 | E14: ='1-1 (5)'!F86 -> #REF! | F14: =TRUNC(E14*D14) -> #REF! | G14: ='1-1 (5)'!H86 -> #REF! | H14: =TRUNC(G14*D14) -> #REF! | I14: ='1-1 (5)'!J86 -> #REF! | J14: =TRUNC(I14*D14) -> #REF! | K14: ='1-1 (5)'!L86 -> #REF! | L14: =TRUNC(D14*K14) -> #REF!
A15: 0110 소나무 전정(반송) | C15: 식 | D15: 1 | E15: ='1-1 (5)'!F93 -> 0 | F15: =TRUNC(E15*D15) -> 0 | G15: ='1-1 (5)'!H93 -> #REF! | H15: =TRUNC(G15*D15) -> #REF! | I15: ='1-1 (5)'!J93 -> #REF! | J15: =TRUNC(I15*D15) -> #REF! | K15: ='1-1 (5)'!L93 -> #REF! | L15: =TRUNC(D15*K15) -> #REF!
A16: 0111 등나무 전정 및 잡목제거 | C16: 식 | D16: 1 | E16: ='1-1 (5)'!F98 -> #REF! | F16: =TRUNC(E16*D16) -> #REF! | G16: ='1-1 (5)'!H98 -> #REF! | H16: =TRUNC(G16*D16) -> #REF! | I16: ='1-1 (5)'!J98 -> #REF! | J16: =TRUNC(I16*D16) -> #REF! | K16: ='1-1 (5)'!L98 -> #REF! | L16: =TRUNC(D16*K16) -> #REF!
A17: 0112 신호수,교통정리,안전처리 | C17: 식 | D17: 1 | E17: ='1-1 (5)'!F102 -> 0 | F17: =TRUNC(E17*D17) -> 0 | G17: ='1-1 (5)'!H102 -> #REF! | H17: =TRUNC(G17*D17) -> #REF! | I17: ='1-1 (5)'!J102 -> 0 | J17: =TRUNC(I17*D17) -> 0 | K17: ='1-1 (5)'!L102 -> #REF! | L17: =TRUNC(D17*K17) -> #REF!
A18: [ 합 계 ] | F18: =SUM(F6:F17) -> #REF! | H18: =SUM(H6:H17) -> #REF! | J18: =SUM(J6:J17) -> #REF! | L18: =SUM(L6:L17) -> #REF!

Sheet 1-1 (5)
A1: 공 종 별 내 역 서
A2: ='1 (5)'!A2 -> #REF! | B2: 규 격 흉고직경 | C2: 단위 | D2: 수량 | E2: 재 료 비 | G2: 노 무 비 | I2: 경 비 | K2: 합 계 | M2: 품목코드 | N2: 변수 | O2: 설정 | P2: 공종코드 | Q2: 일위 | R2: 단산 | S2: 자재 | T2: 손료적용 | U2: 손료저장 | V2: 적용율 | W2: JUK1 | X2: JUK2 | Y2: JUK3 | Z2: JUK4 | AA2: JUK5 | AB2: JUK6 | AC2: JUK7 | AD2: JUK8 | AE2: JUK9 | AF2: JUK10 | AG2: JUK11 | AH2: JUK12 | AI2: JUK13 | AJ2: JUK14 | AK2: JUK15 | AL2: JUK16 | AM2: JUK17 | AN2: JUK18 | AO2: JUK19 | AP2: JUK20 | AQ2: 자재구분 | AR2: 공종구분 | AS2: 공종레벨 | AT2: 공종+자재 | AU2: 고유번호
A3: 품 명 | E3: 단 가 | F3: 금 액 | G3: 단 가 | H3: 금 액 | I3: 단 가 | J3: 금 액 | K3: 단 가 | L3: 금 액
A4: 0101 조형전정 인력시공 | P4: 0102
A5: 조형 전정 인력시공(낙엽수) | B5: 11cm 미만 | C5: 주 | D5: =#REF! -> #REF! | E5: =#REF! -> #REF! | F5: =TRUNC(D5*E5) -> #REF! | G5: =#REF! -> #REF! | H5: =TRUNC(D5*G5) -> #REF! | I5: =#REF! -> #REF! | J5: =TRUNC(D5*I5) -> #REF! | K5: =#REF! -> #REF! | L5: =SUM(F5+H5+J5) -> #REF! | M5: 50B3D18B3B12AB5FA2A39D9B013E19 | P5: 0102 | Q5: T | R5: F | S5: F | AT5: 010250B3D18B3B12AB5FA2A39D9B013E19 | AU5: 50
A6: 조형 전정 인력시공(낙엽수) | B6: 11~21cm 미만 | C6: 주 | D6: =#REF! -> #REF! | E6: =#REF! -> #REF! | F6: =TRUNC(D6*E6) -> #REF! | G6: =#REF! -> #REF! | H6: =TRUNC(D6*G6) -> #REF! | I6: =#REF! -> #REF! | J6: =TRUNC(D6*I6) -> #REF! | K6: =#REF! -> #REF! | L6: =SUM(F6+H6+J6) -> #REF! | M6: 50B3D18B3B12AB5FA2A39D9B001816 | P6: 0102 | Q6: T | R6: F | S6: F | AT6: 010250B3D18B3B12AB5FA2A39D9B001816 | AU6: 51
A7: 조형 전정 인력시공(낙엽수) | B7: 21~31cm 미만 | C7: 주 | D7: =#REF! -> #REF! | E7: =#REF! -> #REF! | F7: =TRUNC(D7*E7) -> #REF! | G7: =#REF! -> #REF! | H7: =TRUNC(D7*G7) -> #REF! | I7: =#REF! -> #REF! | J7: =TRUNC(D7*I7) -> #REF! | K7: =#REF! -> #REF! | L7: =SUM(F7+H7+J7) -> #REF! | M7: 50B3D18B3B12AB5FA2A39D9B0747E5 | P7: 0102 | Q7: T | R7: F | S7: F | AT7: 010250B3D18B3B12AB5FA2A39D9B0747E5 | AU7: 52
A8: 조형 전정 인력시공(상록수) | B8: 11cm 미만 | C8: 주 | D8: =#REF! -> #REF! | E8: =#REF! -> #REF! | F8: =TRUNC(D8*E8) -> #REF! | G8: =#REF! -> #REF! | H8: =TRUNC(D8*G8) -> #REF! | I8: =#REF! -> #REF! | J8: =TRUNC(D8*I8) -> #REF! | K8: =#REF! -> #REF! | L8: =SUM(F8+H8+J8) -> #REF! | M8: 50B3D18B3B12AB5FA2A39D9B06A07B | P8: 0102 | Q8: T | R8: F | S8: F | AT8: 010250B3D18B3B12AB5FA2A39D9B06A07B | AU8: 53
A9: 조형 전정 인력시공(상록수) | B9: 11~21cm 미만 | C9: 주 | D9: =#REF! -> #REF! | E9: =#REF! -> #REF! | F9: =TRUNC(D9*E9) -> #REF! | G9: =#REF! -> #REF! | H9: =TRUNC(D9*G9) -> #REF! | I9: =#REF! -> #REF! | J9: =TRUNC(D9*I9) -> #REF! | K9: =#REF! -> #REF! | L9: =SUM(F9+H9+J9) -> #REF! | M9: 50B3D18B3B12AB5FA2A39D9B059909 | P9: 0102 | Q9: T | R9: F | S9: F | AT9: 010250B3D18B3B12AB5FA2A39D9B059909 | AU9: 54
A10: 조형 전정 인력시공(상록수) | B10: 21~31cm 미만 | C10: 주 | D10: =#REF! -> #REF! | E10: =#REF! -> #REF! | F10: =TRUNC(D10*E10) -> #REF! | G10: =#REF! -> #REF! | H10: =TRUNC(D10*G10) -> #REF! | I10: =#REF! -> #REF! | J10: =TRUNC(D10*I10) -> #REF! | K10: =#REF! -> #REF! | L10: =SUM(F10+H10+J10) -> #REF! | M10: 50B3D18B3B12AB5FA2A3AF9AD6AD64 | P10: 0102 | Q10: T | R10: F | S10: F | AT10: 010250B3D18B3B12AB5FA2A3AF9AD6AD64 | AU10: 55
A11: [ 합 계 ] | D11: =SUM(D5:D10) -> #REF! | F11: =SUM(F5:F10) -> #REF! | H11: =SUM(H5:H10) -> #REF! | J11: =SUM(J5:J10) -> #REF! | L11: =SUM(L5:L10) -> #REF! | M11: TOTAL
A13: 0102 조형전정 기계시공 | P13: 0103
A14: 조형 전정 기계시공(낙엽수) | B14: 11~21cm 미만 | C14: 주 | D14: =#REF! -> #REF! | E14: =#REF! -> #REF! | F14: =TRUNC(D14*E14) -> #REF! | G14: =#REF! -> #REF! | H14: =TRUNC(D14*G14) -> #REF! | I14: =#REF! -> #REF! | J14: =TRUNC(D14*I14) -> #REF! | K14: =#REF! -> #REF! | L14: =SUM(F14+H14+J14) -> #REF! | M14: 50B3D18B3B12AB5FA0F3A5978A3E91 | P14: 0103 | Q14: T | R14: F | S14: F | AT14: 010350B3D18B3B12AB5FA0F3A5978A3E91 | AU14: 61
A15: 조형 전정 기계시공(낙엽수) | B15: 21~31cm 미만 | C15: 주 | D15: =#REF! -> #REF! | E15: =#REF! -> #REF! | F15: =TRUNC(D15*E15) -> #REF! | G15: =#REF! -> #REF! | H15: =TRUNC(D15*G15) -> #REF! | I15: =#REF! -> #REF! | J15: =TRUNC(D15*I15) -> #REF! | K15: =#REF! -> #REF! | L15: =IFERROR(TRUNC(F15+H15+J15,0),0) -> 0 | M15: 50B3D18B3B12AB5FA0F3A594362088 | P15: 0103 | Q15: T | R15: F | S15: F | AT15: 010350B3D18B3B12AB5FA0F3A594362088 | AU15: 62
A16: 조형 전정 기계시공(낙엽수) | B16: 31~41cm 미만 | C16: 주 | D16: =#REF! -> #REF! | E16: =#REF! -> #REF! | F16: =TRUNC(D16*E16) -> #REF! | G16: =#REF! -> #REF! | H16: =TRUNC(D16*G16) -> #REF! | I16: =#REF! -> #REF! | J16: =TRUNC(D16*I16) -> #REF! | K16: =#REF! -> #REF! | L16: =IFERROR(TRUNC(F16+H16+J16,0),0) -> 0 | M16: 50B3D18B3B12AB5FA0F3A595DC42B1 | P16: 0103 | Q16: T | R16: F | S16: F | AT16: 010350B3D18B3B12AB5FA0F3A595DC42B1 | AU16: 63
A17: 조형 전정 기계시공(낙엽수) | B17: 41~51cm 미만 | C17: 주 | D17: =#REF! -> #REF! | E17: =#REF! -> #REF! | F17: =TRUNC(D17*E17) -> #REF! | G17: =#REF! -> #REF! | H17: =TRUNC(D17*G17) -> #REF! | I17: =#REF! -> #REF! | J17: =TRUNC(D17*I17) -> #REF! | K17: =#REF! -> #REF! | L17: =IFERROR(TRUNC(F17+H17+J17,0),0) -> 0 | M17: 50B3D18B3B12AB5FA0F3A59208250E | P17: 0103 | Q17: T | R17: F | S17: F | AT17: 010350B3D18B3B12AB5FA0F3A59208250E | AU17: 64
A18: 조형 전정 기계시공(낙엽수) | B18: 51~61cm 미만 | C18: 주 | D18: =#REF! -> #REF! | E18: =#REF! -> #REF! | F18: =TRUNC(D18*E18) -> #REF! | G18: =#REF! -> #REF! | H18: =TRUNC(D18*G18) -> #REF! | I18: =#REF! -> #REF! | J18: =TRUNC(D18*I18) -> #REF! | K18: =#REF! -> #REF! | L18: =IFERROR(TRUNC(F18+H18+J18,0),0) -> 0 | M18: 50B3D18B3B12AB5FA0F3A59311C45A | P18: 0103 | Q18: T | R18: F | S18: F | AT18: 010350B3D18B3B12AB5FA0F3A59311C45A | AU18: 65
A19: 조형 전정 기계시공(낙엽수) | B19: 61cm 초과 | C19: 주 | D19: =#REF! -> #REF! | E19: =#REF! -> #REF! | F19: =TRUNC(D19*E19) -> #REF! | G19: =#REF! -> #REF! | H19: =TRUNC(D19*G19) -> #REF! | I19: =#REF! -> #REF! | J19: =TRUNC(D19*I19) -> #REF! | K19: =#REF! -> #REF! | L19: =SUM(L14:L18) -> #REF! | M19: TOTAL
A20: [ 합 계 ] | D20: =SUM(D14:D19) -> #REF! | F20: =SUM(F14:F19) -> #REF! | H20: =SUM(H14:H19) -> #REF! | J20: =SUM(J14:J19) -> #REF! | L20: =SUM(L14:L19) -> #REF!
A22: 조형 전정 기계시공(상록수) | B22: 11~21cm 미만 | C22: 주 | D22: =#REF! -> #REF! | E22: =#REF! -> #REF! | F22: =TRUNC(D22*E22) -> #REF! | G22: =#REF! -> #REF! | H22: =TRUNC(D22*G22) -> #REF! | I22: =#REF! -> #REF! | J22: =TRUNC(D22*I22) -> #REF! | K22: =#REF! -> #REF! | L22: =SUM(F22+H22+J22) -> #REF! | M22: 50B3D18B3B12AB5FA0F3A596E5617B | P22: 0104 | Q22: T | R22: F | S22: F | AT22: 010450B3D18B3B12AB5FA0F3A596E5617B | AU22: 81
A23: 조형 전정 기계시공(상록수) | B23: 21~31cm 미만 | C23: 주 | D23: =#REF! -> #REF! | E23: =#REF! -> #REF! | F23: =TRUNC(D23*E23) -> #REF! | G23: =#REF! -> #REF! | H23: =TRUNC(D23*G23) -> #REF! | I23: =#REF! -> #REF! | J23: =TRUNC(D23*I23) -> #REF! | K23: =#REF! -> #REF! | L23: =IFERROR(TRUNC(F23+H23+J23,0),0) -> 0 | M23: 50B3D18B3B12AB5FA0F3A596E5617A | P23: 0104 | Q23: T | R23: F | S23: F | AT23: 010450B3D18B3B12AB5FA0F3A596E5617A | AU23: 82
A24: 조형 전정 기계시공(상록수) | B24: 31~41cm 미만 | C24: 주 | D24: =#REF! -> #REF! | E24: =#REF! -> #REF! | F24: =TRUNC(D24*E24) -> #REF! | G24: =#REF! -> #REF! | H24: =TRUNC(D24*G24) -> #REF! | I24: =#REF! -> #REF! | J24: =TRUNC(D24*I24) -> #REF! | K24: =#REF! -> #REF! | L24: =IFERROR(TRUNC(F24+H24+J24,0),0) -> 0 | M24: 50B3D18B3B12AB5FA0F3A596E56175 | P24: 0104 | Q24: T | R24: F | S24: F | AT24: 010450B3D18B3B12AB5FA0F3A596E56175 | AU24: 83
A25: 조형 전정 기계시공(상록수) | B25: 41~51cm 미만 | C25: 주 | D25: =#REF! -> #REF! | E25: =#REF! -> #REF! | F25: =TRUNC(D25*E25) -> #REF! | G25: =#REF! -> #REF! | H25: =TRUNC(D25*G25) -> #REF! | I25: =#REF! -> #REF! | J25: =TRUNC(D25*I25) -> #REF! | K25: =#REF! -> #REF! | L25: =IFERROR(TRUNC(F25+H25+J25,0),0) -> 0 | M25: 50B3D18B3B12AB5FA0F3A596E56174 | P25: 0104 | Q25: T | R25: F | S25: F | AT25: 010450B3D18B3B12AB5FA0F3A596E56174 | AU25: 84
A26: 조형 전정 기계시공(상록수) | B26: 51~61cm 미만 | C26: 주 | D26: =#REF! -> #REF! | E26: =#REF! -> #REF! | F26: =TRUNC(D26*E26) -> #REF! | G26: =#REF! -> #REF! | H26: =TRUNC(D26*G26) -> #REF! | I26: =#REF! -> #REF! | J26: =TRUNC(D26*I26) -> #REF! | K26: =#REF! -> #REF! | L26: =IFERROR(TRUNC(F26+H26+J26,0),0) -> 0 | M26: 50B3D18B3B12AB5FA0F3A596E56056 | P26: 0104 | Q26: T | R26: F | S26: F | AT26: 010450B3D18B3B12AB5FA0F3A596E56056 | AU26: 85
A27: 조형 전정 기계시공(상록수) | B27: 61cm 초과 | C27: 주 | D27: =#REF! -> #REF! | E27: =#REF! -> #REF! | F27: =TRUNC(D27*E27) -> #REF! | G27: =#REF! -> #REF! | H27: =TRUNC(D27*G27) -> #REF! | I27: =#REF! -> #REF! | J27: =TRUNC(D27*I27) -> #REF! | K27: =#REF! -> #REF! | L27: =IFERROR(TRUNC(F27+H27+J27,0),0) -> 0 | M27: TOTAL
A28: [ 합 계 ] | D28: =SUM(D22:D27) -> #REF! | F28: =SUM(F22:F27) -> #REF! | H28: =SUM(H22:H27) -> #REF! | J28: =SUM(J22:J27) -> #REF! | L28: =SUM(L22:L27) -> #REF!
A30: 0103 가로수 전정
A31: 가로수전정 (약전정) 기계시공 | B31: 11cm 미만 | C31: 주 | D31: =#REF! -> #REF! | E31: =#REF! -> #REF! | F31: =TRUNC(D31*E31) -> #REF! | G31: =#REF! -> #REF! | H31: =TRUNC(D31*G31) -> #REF! | I31: =#REF! -> #REF! | J31: =TRUNC(D31*I31) -> #REF! | K31: =#REF! -> #REF! | L31: =SUM(F31+H31+J31) -> #REF!
A32: 가로수전정 (약전정) 기계시공 | B32: 11~21cm 미만 | C32: 주 | D32: =#REF! -> #REF! | E32: =#REF! -> #REF! | F32: =TRUNC(D32*E32) -> #REF! | G32: =#REF! -> #REF! | H32: =TRUNC(D32*G32) -> #REF! | I32: =#REF! -> #REF! | J32: =TRUNC(D32*I32) -> #REF! | K32: =#REF! -> #REF! | L32: =SUM(F32+H32+J32) -> #REF!
A33: 가로수전정 (약전정) 기계시공 | B33: 21~31cm 미만 | C33: 주 | D33: =#REF! -> #REF! | E33: =#REF! -> #REF! | F33: =TRUNC(D33*E33) -> #REF! | G33: =#REF! -> #REF! | H33: =TRUNC(D33*G33) -> #REF! | I33: =#REF! -> #REF! | J33: =TRUNC(D33*I33) -> #REF! | K33: =#REF! -> #REF! | L33: =SUM(F33+H33+J33) -> #REF!
A34: 가로수전정 (약전정) 기계시공 | B34: 31~41cm 미만 | C34: 주 | D34: =#REF! -> #REF! | E34: =#REF! -> #REF! | F34: =TRUNC(D34*E34) -> #REF! | G34: =#REF! -> #REF! | H34: =TRUNC(D34*G34) -> #REF! | I34: =#REF! -> #REF! | J34: =TRUNC(D34*I34) -> #REF! | K34: =#REF! -> #REF! | L34: =SUM(F34+H34+J34) -> #REF!
A35: 가로수전정 (약전정) 기계시공 | B35: 41~51cm 미만 | C35: 주 | D35: =#REF! -> #REF! | E35: =#REF! -> #REF! | F35: =TRUNC(D35*E35) -> #REF! | G35: =#REF! -> #REF! | H35: =TRUNC(D35*G35) -> #REF! | I35: =#REF! -> #REF! | J35: =TRUNC(D35*I35) -> #REF! | K35: =#REF! -> #REF! | L35: =SUM(F35+H35+J35) -> #REF!
A36: 가로수전정 (약전정) 기계시공 | B36: 51~61cm 미만 | C36: 주 | D36: =#REF! -> #REF! | E36: =#REF! -> #REF! | F36: =TRUNC(D36*E36) -> #REF! | G36: =#REF! -> #REF! | H36: =TRUNC(D36*G36) -> #REF! | I36: =#REF! -> #REF! | J36: =TRUNC(D36*I36) -> #REF! | K36: =#REF! -> #REF! | L36: =SUM(F36+H36+J36) -> #REF!
A37: 가로수전정 (약전정) 기계시공 | B37: 61cm 초과 | C37: 주 | D37: =#REF! -> #REF! | E37: =#REF! -> #REF! | F37: =TRUNC(D37*E37) -> #REF! | G37: =#REF! -> #REF! | H37: =TRUNC(D37*G37) -> #REF! | I37: =#REF! -> #REF! | J37: =TRUNC(D37*I37) -> #REF! | K37: =#REF! -> #REF! | L37: =SUM(F37+H37+J37) -> #REF!
A38: [ 합 계 ] | D38: =SUM(D32:D37) -> #REF! | F38: =SUM(F31:F37) -> #REF! | H38: =SUM(H31:H37) -> #REF! | J38: =SUM(J31:J37) -> #REF! | L38: =SUM(L31:L37) -> #REF!
A40: 가로수전정 (강전정) 기계시공 | B40: 11cm 미만 | C40: 주 | D40: =#REF! -> #REF! | E40: =#REF! -> #REF! | F40: =TRUNC(D40*E40) -> #REF! | G40: =#REF! -> #REF! | H40: =TRUNC(D40*G40) -> #REF! | I40: =#REF! -> #REF! | J40: =TRUNC(D40*I40) -> #REF! | K40: =#REF! -> #REF! | L40: =SUM(F40+H40+J40) -> #REF!
A41: 가로수전정 (강전정) 기계시공 | B41: 11~21cm 미만 | C41: 주 | D41: =#REF! -> #REF! | E41: =#REF! -> #REF! | F41: =TRUNC(D41*E41) -> #REF! | G41: =#REF! -> #REF! | H41: =TRUNC(D41*G41) -> #REF! | I41: =#REF! -> #REF! | J41: =TRUNC(D41*I41) -> #REF! | K41: =#REF! -> #REF! | L41: =SUM(F41+H41+J41) -> #REF!
A42: 가로수전정 (강전정) 기계시공 | B42: 21~31cm 미만 | C42: 주 | D42: =#REF! -> #REF! | E42: =#REF! -> #REF! | F42: =TRUNC(D42*E42) -> #REF! | G42: =#REF! -> #REF! | H42: =TRUNC(D42*G42) -> #REF! | I42: =#REF! -> #REF! | J42: =TRUNC(D42*I42) -> #REF! | K42: =#REF! -> #REF! | L42: =SUM(F42+H42+J42) -> #REF!
A43: 가로수전정 (강전정) 기계시공 | B43: 31~41cm 미만 | C43: 주 | D43: =#REF! -> #REF! | E43: =#REF! -> #REF! | F43: =TRUNC(D43*E43) -> #REF! | G43: =#REF! -> #REF! | H43: =TRUNC(D43*G43) -> #REF! | I43: =#REF! -> #REF! | J43: =TRUNC(D43*I43) -> #REF! | K43: =#REF! -> #REF! | L43: =SUM(F43+H43+J43) -> #REF!
A44: 가로수전정 (강전정) 기계시공 | B44: 41~51cm 미만 | C44: 주 | D44: =#REF! -> #REF! | E44: =#REF! -> #REF! | F44: =TRUNC(D44*E44) -> #REF! | G44: =#REF! -> #REF! | H44: =TRUNC(D44*G44) -> #REF! | I44: =#REF! -> #REF! | J44: =TRUNC(D44*I44) -> #REF! | K44: =#REF! -> #REF! | L44: =SUM(F44+H44+J44) -> #REF!
A45: 가로수전정 (강전정) 기계시공 | B45: 51~61cm 미만 | C45: 주 | D45: =#REF! -> #REF! | E45: =#REF! -> #REF! | F45: =TRUNC(D45*E45) -> #REF! | G45: =#REF! -> #REF! | H45: =TRUNC(D45*G45) -> #REF! | I45: =#REF! -> #REF! | J45: =TRUNC(D45*I45) -> #REF! | K45: =#REF! -> #REF! | L45: =SUM(F45+H45+J45) -> #REF!
A46: 가로수전정 (강전정) 기계시공 | B46: 61cm 초과 | C46: 주 | D46: =#REF! -> #REF! | E46: =#REF! -> #REF! | F46: =TRUNC(D46*E46) -> #REF! | G46: =#REF! -> #REF! | H46: =TRUNC(D46*G46) -> #REF! | I46: =#REF! -> #REF! | J46: =TRUNC(D46*I46) -> #REF! | K46: =#REF! -> #REF! | L46: =SUM(F46+H46+J46) -> #REF!
A47: [ 합 계 ] | D47: =SUM(D40:D46) -> #REF! | F47: =SUM(F40:F46) -> #REF! | H47: =SUM(H40:H46) -> #REF! | J47: =SUM(J40:J46) -> #REF! | L47: =SUM(L40:L46) -> #REF!
A49: 가로수전정 (조형전정) 기계시공 | B49: 11cm 미만 | C49: 주 | D49: =#REF! -> #REF! | E49: =#REF! -> #REF! | F49: =TRUNC(D49*E49) -> #REF! | G49: =#REF! -> #REF! | H49: =TRUNC(D49*G49) -> #REF! | I49: =#REF! -> #REF! | J49: =TRUNC(D49*I49) -> #REF! | K49: =#REF! -> #REF! | L49: =SUM(F49+H49+J49) -> #REF!
A50: 가로수전정 (조형전정) 기계시공 | B50: 11~21cm 미만 | C50: 주 | D50: =#REF! -> #REF! | E50: =#REF! -> #REF! | F50: =TRUNC(D50*E50) -> #REF! | G50: =#REF! -> #REF! | H50: =TRUNC(D50*G50) -> #REF! | I50: =#REF! -> #REF! | J50: =TRUNC(D50*I50) -> #REF! | K50: =#REF! -> #REF! | L50: =SUM(F50+H50+J50) -> #REF!
A51: 가로수전정 (조형전정) 기계시공 | B51: 21~31cm 미만 | C51: 주 | D51: =#REF! -> #REF! | E51: =#REF! -> #REF! | F51: =TRUNC(D51*E51) -> #REF! | G51: =#REF! -> #REF! | H51: =TRUNC(D51*G51) -> #REF! | I51: =#REF! -> #REF! | J51: =TRUNC(D51*I51) -> #REF! | K51: =#REF! -> #REF! | L51: =SUM(F51+H51+J51) -> #REF!
A52: 가로수전정 (조형전정) 기계시공 | B52: 31~41cm 미만 | C52: 주 | D52: =#REF! -> #REF! | E52: =#REF! -> #REF! | F52: =TRUNC(D52*E52) -> #REF! | G52: =#REF! -> #REF! | H52: =TRUNC(D52*G52) -> #REF! | I52: =#REF! -> #REF! | J52: =TRUNC(D52*I52) -> #REF! | K52: =#REF! -> #REF! | L52: =SUM(F52+H52+J52) -> #REF!
A53: 가로수전정 (조형전정) 기계시공 | B53: 41~51cm 미만 | C53: 주 | D53: =#REF! -> #REF! | E53: =#REF! -> #REF! | F53: =TRUNC(D53*E53) -> #REF! | G53: =#REF! -> #REF! | H53: =TRUNC(D53*G53) -> #REF! | I53: =#REF! -> #REF! | J53: =TRUNC(D53*I53) -> #REF! | K53: =#REF! -> #REF! | L53: =SUM(F53+H53+J53) -> #REF!
A54: 가로수전정 (조형전정) 기계시공 | B54: 51~61cm 미만 | C54: 주 | D54: =#REF! -> #REF! | E54: =#REF! -> #REF! | F54: =TRUNC(D54*E54) -> #REF! | G54: =#REF! -> #REF! | H54: =TRUNC(D54*G54) -> #REF! | I54: =#REF! -> #REF! | J54: =TRUNC(D54*I54) -> #REF! | K54: =#REF! -> #REF! | L54: =SUM(F54+H54+J54) -> #REF!
A55: 가로수전정 (조형전정) 기계시공 | B55: 61cm 초과 | C55: 주 | D55: =#REF! -> #REF! | E55: =#REF! -> #REF! | F55: =TRUNC(D55*E55) -> #REF! | G55: =#REF! -> #REF! | H55: =TRUNC(D55*G55) -> #REF! | I55: =#REF! -> #REF! | J55: =TRUNC(D55*I55) -> #REF! | K55: =#REF! -> #REF! | L55: =SUM(F55+H55+J55) -> #REF!
A56: [ 합 계 ] | D56: =SUM(D49:D55) -> #REF! | F56: =SUM(F49:F55) -> #REF! | H56: =SUM(H49:H55) -> #REF! | J56: =SUM(J49:J55) -> #REF! | L56: =SUM(L49:L55) -> #REF!
A58: 0104 나무베기
A59: 나무베기 기계시공 | B59: 11cm 미만 | C59: 주 | D59: =#REF! -> #REF! | E59: =#REF! -> #REF! | F59: =TRUNC(D59*E59) -> #REF! | G59: =#REF! -> #REF! | H59: =TRUNC(D59*G59) -> #REF! | I59: =#REF! -> #REF! | J59: =TRUNC(D59*I59) -> #REF! | K59: =#REF! -> #REF! | L59: =SUM(F59+H59+J59) -> #REF!
A60: 나무베기 기계시공 | B60: 11~21cm 미만 | C60: 주 | D60: =#REF! -> #REF! | E60: =#REF! -> #REF! | F60: =TRUNC(D60*E60) -> #REF! | G60: =#REF! -> #REF! | H60: =TRUNC(D60*G60) -> #REF! | I60: =#REF! -> #REF! | J60: =TRUNC(D60*I60) -> #REF! | K60: =#REF! -> #REF! | L60: =SUM(F60+H60+J60) -> #REF!
A61: 나무베기 기계시공 | B61: 21~31cm 미만 | C61: 주 | D61: =#REF! -> #REF! | E61: =#REF! -> #REF! | F61: =TRUNC(D61*E61) -> #REF! | G61: =#REF! -> #REF! | H61: =TRUNC(D61*G61) -> #REF! | I61: =#REF! -> #REF! | J61: =TRUNC(D61*I61) -> #REF! | K61: =#REF! -> #REF! | L61: =SUM(F61+H61+J61) -> #REF!
A62: 나무베기 기계시공 | B62: 31~41cm 미만 | C62: 주 | D62: =#REF! -> #REF! | E62: =#REF! -> #REF! | F62: =TRUNC(D62*E62) -> #REF! | G62: =#REF! -> #REF! | H62: =TRUNC(D62*G62) -> #REF! | I62: =#REF! -> #REF! | J62: =TRUNC(D62*I62) -> #REF! | K62: =#REF! -> #REF! | L62: =SUM(F62+H62+J62) -> #REF!
A63: 나무베기 기계시공 | B63: 41~51cm 미만 | C63: 주 | D63: =#REF! -> #REF! | E63: =#REF! -> #REF! | F63: =TRUNC(D63*E63) -> #REF! | G63: =#REF! -> #REF! | H63: =TRUNC(D63*G63) -> #REF! | I63: =#REF! -> #REF! | J63: =TRUNC(D63*I63) -> #REF! | K63: =#REF! -> #REF! | L63: =SUM(F63+H63+J63) -> #REF!
A64: 나무베기 기계시공 | B64: 51~61cm 미만 | C64: 주 | D64: =#REF! -> #REF! | E64: =#REF! -> #REF! | F64: =TRUNC(D64*E64) -> #REF! | G64: =#REF! -> #REF! | H64: =TRUNC(D64*G64) -> #REF! | I64: =#REF! -> #REF! | J64: =TRUNC(D64*I64) -> #REF! | K64: =#REF! -> #REF! | L64: =SUM(F64+H64+J64) -> #REF!
A65: 나무베기 기계시공 | B65: 61cm 초과 | C65: 주 | D65: =#REF! -> #REF! | E65: =#REF! -> #REF! | F65: =TRUNC(D65*E65) -> #REF! | G65: =#REF! -> #REF! | H65: =TRUNC(D65*G65) -> #REF! | I65: =#REF! -> #REF! | J65: =TRUNC(D65*I65) -> #REF! | K65: =#REF! -> #REF! | L65: =SUM(F65+H65+J65) -> #REF!
A66: [ 합 계 ] | D66: =SUM(D59:D65) -> #REF! | F66: =SUM(F59:F65) -> #REF! | H66: =SUM(H59:H65) -> #REF! | J66: =SUM(J59:J65) -> #REF! | L66: =SUM(L59:L65) -> #REF!
A68: 0105 뿌리제거
A69: 뿌리제거 기계시공 | B69: 11cm 미만 | C69: 주 | D69: =#REF! -> #REF! | E69: =#REF! -> #REF! | F69: =TRUNC(D69*E69) -> #REF! | G69: =#REF! -> #REF! | H69: =TRUNC(D69*G69) -> #REF! | I69: =#REF! -> #REF! | J69: =TRUNC(D69*I69) -> #REF! | K69: =#REF! -> #REF! | L69: =SUM(F69+H69+J69) -> #REF!
A70: 뿌리제거 기계시공 | B70: 11~21cm 미만 | C70: 주 | D70: =#REF! -> #REF! | E70: =#REF! -> #REF! | F70: =TRUNC(D70*E70) -> #REF! | G70: =#REF! -> #REF! | H70: =TRUNC(D70*G70) -> #REF! | I70: =#REF! -> #REF! | J70: =TRUNC(D70*I70) -> #REF! | K70: =#REF! -> #REF! | L70: =SUM(F70+H70+J70) -> #REF!
A71: 뿌리제거 기계시공 | B71: 21~31cm 미만 | C71: 주 | D71: =#REF! -> #REF! | E71: =#REF! -> #REF! | F71: =TRUNC(D71*E71) -> #REF! | G71: =#REF! -> #REF! | H71: =TRUNC(D71*G71) -> #REF! | I71: =#REF! -> #REF! | J71: =TRUNC(D71*I71) -> #REF! | K71: =#REF! -> #REF! | L71: =SUM(F71+H71+J71) -> #REF!
A72: 뿌리제거 기계시공 | B72: 31~41cm 미만 | C72: 주 | D72: =#REF! -> #REF! | E72: =#REF! -> #REF! | F72: =TRUNC(D72*E72) -> #REF! | G72: =#REF! -> #REF! | H72: =TRUNC(D72*G72) -> #REF! | I72: =#REF! -> #REF! | J72: =TRUNC(D72*I72) -> #REF! | K72: =#REF! -> #REF! | L72: =SUM(F72+H72+J72) -> #REF!
A73: 뿌리제거 기계시공 | B73: 41~51cm 미만 | C73: 주 | D73: =#REF! -> #REF! | E73: =#REF! -> #REF! | F73: =TRUNC(D73*E73) -> #REF! | G73: =#REF! -> #REF! | H73: =TRUNC(D73*G73) -> #REF! | I73: =#REF! -> #REF! | J73: =TRUNC(D73*I73) -> #REF! | K73: =#REF! -> #REF! | L73: =SUM(F73+H73+J73) -> #REF!
A74: 뿌리제거 기계시공 | B74: 51~61cm 미만 | C74: 주 | D74: =#REF! -> #REF! | E74: =#REF! -> #REF! | F74: =TRUNC(D74*E74) -> #REF! | G74: =#REF! -> #REF! | H74: =TRUNC(D74*G74) -> #REF! | I74: =#REF! -> #REF! | J74: =TRUNC(D74*I74) -> #REF! | K74: =#REF! -> #REF! | L74: =SUM(F74+H74+J74) -> #REF!
A75: 뿌리제거 기계시공 | B75: 61cm 초과 | C75: 주 | D75: =#REF! -> #REF! | E75: =#REF! -> #REF! | F75: =TRUNC(D75*E75) -> #REF! | G75: =#REF! -> #REF! | H75: =TRUNC(D75*G75) -> #REF! | I75: =#REF! -> #REF! | J75: =TRUNC(D75*I75) -> #REF! | K75: =#REF! -> #REF! | L75: =SUM(F75+H75+J75) -> #REF!
A76: [ 합 계 ] | D76: =SUM(D69:D75) -> #REF! | F76: =SUM(F69:F75) -> #REF! | H76: =SUM(H69:H75) -> #REF! | J76: =SUM(J69:J75) -> #REF! | L76: =SUM(L69:L75) -> #REF!
A78: 0106 소나무 전정
A79: 소나무전정 (조형전정) 기계시공 | B79: 11cm 미만 | C79: 주 | D79: =#REF! -> #REF! | E79: =#REF! -> #REF! | F79: =TRUNC(D79*E79) -> #REF! | G79: =#REF! -> #REF! | H79: =TRUNC(D79*G79) -> #REF! | I79: =#REF! -> #REF! | J79: =TRUNC(D79*I79) -> #REF! | K79: =#REF! -> #REF! | L79: =SUM(F79+H79+J79) -> #REF! | P79: 0105
A80: 소나무전정 (조형전정) 기계시공 | B80: 11~21cm 미만 | C80: 주 | D80: =#REF! -> #REF! | E80: =#REF! -> #REF! | F80: =TRUNC(D80*E80) -> #REF! | G80: =#REF! -> #REF! | H80: =TRUNC(D80*G80) -> #REF! | I80: =#REF! -> #REF! | J80: =TRUNC(D80*I80) -> #REF! | K80: =#REF! -> #REF! | L80: =SUM(F80+H80+J80) -> #REF! | M80: 50B3D18B3B12AB5FA0F3A5978A3E92 | P80: 0105 | Q80: T | R80: F | S80: F | AT80: 010550B3D18B3B12AB5FA0F3A5978A3E92 | AU80: 87
A81: 소나무전정 (조형전정) 기계시공 | B81: 21~31cm 미만 | C81: 주 | D81: =#REF! -> #REF! | E81: =#REF! -> #REF! | F81: =TRUNC(D81*E81) -> #REF! | G81: =#REF! -> #REF! | H81: =TRUNC(D81*G81) -> #REF! | I81: =#REF! -> #REF! | J81: =TRUNC(D81*I81) -> #REF! | K81: =#REF! -> #REF! | L81: =SUM(F81+H81+J81) -> #REF! | M81: 50B3D18B3B12AB5FA0F3A5943621AC | P81: 0105 | Q81: T | R81: F | S81: F | AT81: 010550B3D18B3B12AB5FA0F3A5943621AC | AU81: 88
A82: 소나무전정 (조형전정) 기계시공 | B82: 31~41cm 미만 | C82: 주 | D82: =#REF! -> #REF! | E82: =#REF! -> #REF! | F82: =TRUNC(D82*E82) -> #REF! | G82: =#REF! -> #REF! | H82: =TRUNC(D82*G82) -> #REF! | I82: =#REF! -> #REF! | J82: =TRUNC(D82*I82) -> #REF! | K82: =#REF! -> #REF! | L82: =SUM(F82+H82+J82) -> #REF! | M82: 50B3D18B3B12AB5FA0F394996ABFA1 | P82: 0105 | Q82: T | R82: F | S82: F | AT82: 010550B3D18B3B12AB5FA0F394996ABFA1 | AU82: 91
A83: 소나무전정 (조형전정) 기계시공 | B83: 41~51cm 미만 | C83: 주 | D83: =#REF! -> #REF! | E83: =#REF! -> #REF! | F83: =TRUNC(D83*E83) -> #REF! | G83: =#REF! -> #REF! | H83: =TRUNC(D83*G83) -> #REF! | I83: =#REF! -> #REF! | J83: =TRUNC(D83*I83) -> #REF! | K83: =#REF! -> #REF! | L83: =SUM(F83+H83+J83) -> #REF! | M83: 50B3D18B3B12AB5FA0F394996ABFA0 | P83: 0105 | Q83: T | R83: F | S83: F | AT83: 010550B3D18B3B12AB5FA0F394996ABFA0 | AU83: 89
A84: 소나무전정 (조형전정) 기계시공 | B84: 51~61cm 미만 | C84: 주 | D84: =#REF! -> #REF! | E84: =#REF! -> #REF! | F84: =TRUNC(D84*E84) -> #REF! | G84: =#REF! -> #REF! | H84: =TRUNC(D84*G84) -> #REF! | I84: =#REF! -> #REF! | J84: =TRUNC(D84*I84) -> #REF! | K84: =#REF! -> #REF! | L84: =SUM(F84+H84+J84) -> #REF! | M84: 50B3D18B3B12AB5FA0F394996ABFAF | P84: 0105 | Q84: T | R84: F | S84: F | AT84: 010550B3D18B3B12AB5FA0F394996ABFAF | AU84: 90
A85: 소나무전정 (조형전정) 기계시공 | B85: 61cm 초과 | C85: 주 | D85: =#REF! -> #REF! | E85: =#REF! -> #REF! | F85: =TRUNC(D85*E85) -> #REF! | G85: =#REF! -> #REF! | H85: =TRUNC(D85*G85) -> #REF! | I85: =#REF! -> #REF! | J85: =TRUNC(D85*I85) -> #REF! | K85: =#REF! -> #REF! | L85: =SUM(F85+H85+J85) -> #REF! | M85: TOTAL
A86: [ 합 계 ] | D86: =SUM(D79:D85) -> #REF! | F86: =SUM(F79:F85) -> #REF! | H86: =SUM(H79:H85) -> #REF! | J86: =SUM(J79:J85) -> #REF! | L86: =SUM(L79:L85) -> #REF!
A88: 0107 소나무 전정(반송) | P88: 0107
A89: 소나무전정 (반송) | B89: 솎아내기 포함 (수관) 1.5m이하 | C89: 주 | D89: =#REF! -> #REF! | G89: =#REF! -> #REF! | H89: =TRUNC(D89*G89) -> #REF! | I89: =#REF! -> #REF! | J89: =TRUNC(D89*I89) -> #REF! | K89: =#REF! -> #REF! | L89: =SUM(F89+H89+J89) -> #REF! | M89: 509ED18539C97C5005330B9408C7B3 | P89: 0107 | Q89: F | R89: F | S89: T | AT89: 0107509ED18539C97C5005330B9408C7B3 | AU89: 35
A90: 소나무전정 (반송) | B90: 솎아내기 포함 (작업량이 많음) (수관) 1.5m이하 | C90: 주 | D90: =#REF! -> #REF! | G90: =#REF! -> #REF! | H90: =TRUNC(D90*G90) -> #REF! | I90: =#REF! -> #REF! | J90: =TRUNC(D90*I90) -> #REF! | K90: =#REF! -> #REF! | L90: =SUM(F90+H90+J90) -> #REF! | M90: TOTAL
A91: 소나무전정 (반송) | B91: 솎아내기 포함 (수관) 1.5m이상 | C91: 주 | D91: =#REF! -> #REF! | G91: =#REF! -> #REF! | H91: =TRUNC(D91*G91) -> #REF! | I91: =#REF! -> #REF! | J91: =TRUNC(D91*I91) -> #REF! | K91: =#REF! -> #REF! | L91: =SUM(F91+H91+J91) -> #REF!
A92: 소나무전정 (반송) | B92: 솎아내기 포함 (작업량이 많음) (수관) 1.5m이상 | C92: 주 | D92: =#REF! -> #REF! | G92: =#REF! -> #REF! | H92: =TRUNC(D92*G92) -> #REF! | I92: =#REF! -> #REF! | J92: =TRUNC(D92*I92) -> #REF! | K92: =#REF! -> #REF! | L92: =SUM(F92+H92+J92) -> #REF!
A93: [ 합 계 ] | D93: =SUM(D89:D92) -> #REF! | F93: =SUM(F89:F92) -> 0 | H93: =SUM(H89:H92) -> #REF! | J93: =SUM(J89:J92) -> #REF! | L93: =SUM(L89:L92) -> #REF!
A95: 0108 등나무 전정 및 잡목제거
A96: 등나무 전정 | B96: 1m2당 | C96: ㎡ | D96: =#REF! -> #REF! | E96: =#REF! -> #REF! | F96: =TRUNC(D96*E96) -> #REF! | G96: =#REF! -> #REF! | H96: =TRUNC(D96*G96) -> #REF! | I96: =#REF! -> #REF! | J96: =TRUNC(D96*I96) -> #REF! | K96: =#REF! -> #REF! | L96: =SUM(F96+H96+J96) -> #REF!
A97: 잡목제거 | B97: 1m2당 | C97: ㎡ | D97: =#REF! -> #REF! | E97: =#REF! -> #REF! | F97: =TRUNC(D97*E97) -> #REF! | G97: =#REF! -> #REF! | H97: =TRUNC(D97*G97) -> #REF! | I97: =#REF! -> #REF! | J97: =TRUNC(D97*I97) -> #REF! | K97: =#REF! -> #REF! | L97: =SUM(F97+H97+J97) -> #REF!
A98: [ 합 계 ] | F98: =SUM(F96:F97) -> #REF! | H98: =SUM(H96:H97) -> #REF! | J98: =SUM(J96:J97) -> #REF! | L98: =SUM(L96:L97) -> #REF!
A100: 0109 신호수, 교통정리, 안전처리
A101: 신호수, 교통정리, 안전처리 | B101: 보통인부2인 | C101: 1일 | D101: =#REF! -> #REF! | G101: =#REF! -> #REF! | H101: =TRUNC(D101*G101) -> #REF! | L101: =SUM(F101+H101+J101) -> #REF!
A102: [ 합 계 ] | H102: =SUM(H100:H101) -> #REF! | L102: =SUM(L100:L101) -> #REF!
A103: 0110 폐기물 처리비
A104: 임목 폐기물 | B104: 운반+상차 | C104: KG | D104: ='1-1임목폐기물산출식 (5)'!CC59 -> #REF! | I104: =#REF! -> #REF! | J104: =(D104+D106)*I104 -> #REF!
B105: 처리 | C105: KG | D105: ='1-1임목폐기물산출식 (5)'!CC59 -> #REF! | I105: =#REF! -> #REF! | J105: =(D105+D107)*I105 -> #REF!
A106: 기존 폐기물 | B106: 운반+상차 | C106: KG | D106: =D104*0.05 -> #REF!
B107: 처리 | C107: KG | D107: =D105*0.05 -> #REF!
B108: 합 계 | C108: KG | D108: =D105+D107 -> #REF!
A110: 교목전정 | B110: 수량합계 | D110: =D11+D28+D38+D47+D56+D66+D76+D86+D93 -> #REF!

Sheet 1-1임목폐기물산출식 (5)
B2: ◈ 전지전정 폐기물(임목) 수량산출식 | BU2: 1㎡ 당 덩쿨류 및 목본류 폐기물(kg) 산출식
BU3: 품종 | BV3: 적용 수고 (m) | BX3: 전정율(%) A | BY3: 피복율(%) B | BZ3: 공극율(%) C | CA3: 부피㎥ D=(A*B*C) | CB3: 단위중량 (kg/㎥) | CC3: 전정중량(kg)
B4: ㅇ 수목 지상부 중량 계산공식 | BU4: 등나무(만경류) | BV4: 0.9 | BX4: 0.2 | BY4: 0.35 | BZ4: 0.85 | CA4: =(BX4*BV4)*BY4*(1-BZ4) -> 0.00945 | CB4: 0.5 | CC4: =CA4*CB4*1000 -> 4.725
F5: W = k × 3.14 × (B/2)²× h × w1 × (1+P) | AJ5: k : 수간형상계수 (0.5) | BU5: 관목류(0.9이하) | BV5: 0.45 | BX5: 0.15 | BY5: 0.2 | BZ5: 0.85 | CA5: =(BX5*BV5)*BY5*(1-BZ5) -> 0.002025 | CB5: 0.5 | CC5: =CA5*CB5*1000 -> 1.0125
AJ6: B : 흉고직경 | BU6: 관목류(0.9이상) | BV6: 0.9 | BX6: 0.2 | BY6: 0.2 | BZ6: 0.85 | CA6: =(BX6*BV6)*BY6*(1-BZ6) -> 0.0054 | CB6: 0.5 | CC6: =CA6*CB6*1000 -> 2.7
AJ7: h : 수고 | BU7: 잡목류 | BV7: 0.9 | BX7: 0.88 | BY7: 0.05 | BZ7: 0.95 | CA7: =(BX7*BV7)*BY7*(1-BZ7) -> 0.00198 | CB7: 0.5 | CC7: =CA7*CB7*1000 -> 0.99
AJ8: P : 지엽의 과다에 의한 보합률(임목:0.3, 고립목:1.0)
AJ9: w1 : 수간의 단위체적장 중량 (kg/㎥)
B11: ㅇ 수간의 단위체적당중량
B12: 수종 | AC12: 단위체적중량(kg/㎥) | AT12: 비고
B13: 가시나무류,상수리나무, 졸참나무등 | AC13: 1340이상
B14: 느티나무, 쪽동백, 느릅나무등 | AC14: 1300 - 1340 | BU14: 임목폐기물 산출수량
B15: 단풍나무, 벗나무, 은행나무, 향냐무등 | AC15: 1250 - 1300 | BU15: 구분 | BX15: 공종 | BZ15: 단위 | CA15: 수량 | CB15: 폐기물량(kg) | CC15: 합계(KG)
B16: 소나무, 편백, 플라타너스등 | AC16: 1210 - 1250 | BU16: 조형전정 | BV16: 인 력 전 정 | BW16: 낙 엽 수 | BX16: B11미만 | BZ16: 주 | CA16: ='1-1 (5)'!D5+'1-1 (5)'!D31+'1-1 (5)'!D40+'1-1 (5)'!D49+'1-1 (5)'!D79 -> #REF! | CB16: =Y32*CA16 -> #REF! | CC16: =SUM(CB16:CB57) -> #REF!
B17: 평균치 | AC17: =(1210+1340)/2 -> 1275 | AT17: (1210 + 1340) ÷ 2 | BX17: B11~21 | BZ17: 주 | CA17: ='1-1 (5)'!D6 -> #REF! | CB17: =Y33*CA17 -> #REF!
BG18: ※ 자료 : 조경설계요람 | BX18: B21~31 | BZ18: 주 | CA18: ='1-1 (5)'!D7 -> #REF! | CB18: =Y34*CA18 -> #REF!
BW19: 상 록 수 | BX19: B11미만 | BZ19: 주 | CA19: ='1-1 (5)'!D8 -> #REF! | CB19: =AC32*CA19 -> #REF!
B20: ㅇ 수목부위별 중량분배비 | BX20: B11~21 | BZ20: 주 | CA20: ='1-1 (5)'!D9 -> #REF! | CB20: =AC33*CA20 -> #REF!
B21: 구분 | P21: 지상부 | AR21: 뿌리 | AY21: 계 | BF21: 비고 | BX21: B21~31 | BZ21: 주 | CA21: ='1-1 (5)'!D10 -> #REF! | CB21: =AC34*CA21 -> #REF!
P22: 줄기 | W22: 가지 | AD22: 잎 | AK22: 소계 | BV22: 기 계 전 정 | BW22: 낙 엽 수 | BX22: B11~21미만 | BZ22: 주 | CA22: ='1-1 (5)'!D14+'1-1 (5)'!D50 -> #REF! | CB22: =AO33*CA22 -> #REF!
B23: 일반적배율(평균치) % | P23: 45 | W23: 15 | AD23: 25 | AK23: =SUM(P23:AJ23) -> 85 | AR23: 15 | AY23: =AR23+AK23 -> 100 | BX23: B21~31 | BZ23: 주 | CA23: ='1-1 (5)'!D15+'1-1 (5)'!D51 -> #REF! | CB23: =AO34*CA23 -> #REF!
BG24: ※ 자료 : 산림생태학(향문사) | BX24: B31~41 | BZ24: 주 | CA24: ='1-1 (5)'!D16+'1-1 (5)'!D52 -> #REF! | CB24: =AO35*CA24 -> #REF!
BX25: B41~51 | BZ25: 주 | CA25: ='1-1 (5)'!D17+'1-1 (5)'!D53 -> #REF! | CB25: =AO36*CA25 -> #REF!
BX26: B51이상 | BZ26: 주 | CA26: ='1-1 (5)'!D18+'1-1 (5)'!D19+'1-1 (5)'!D54+'1-1 (5)'!D55 -> #REF! | CB26: =AO37*CA26 -> #REF!
B27: ◈ 규격별 폐기물 물량산출 | BW27: 상 록 수 | BX27: B11~21미만 | BZ27: 주 | CA27: ='1-1 (5)'!D22 -> #REF! | CB27: =AS33*CA27 -> #REF!
BX28: B21~31 | BZ28: 주 | CA28: ='1-1 (5)'!D23 -> #REF! | CB28: =AS34*CA28 -> #REF!
B29: ㅇ 규격별 전지전정량 산출 | BX29: B31~41 | BZ29: 주 | CA29: ='1-1 (5)'!D24 -> #REF! | CB29: =AS35*CA29 -> #REF!
B30: 구분 | G30: 지상부중량 (kg) | L30: 전정부 중량 (50%) | Q30: 조형 인력전정 | AG30: 조형 기계전정 | AW30: 가로수 약·강전정 | BM30: 교목제거(kg) | BX30: B41~51 | BZ30: 주 | CA30: ='1-1 (5)'!D25 -> #REF! | CB30: =AS36*CA30 -> #REF!
Q31: 전전량(낙,상) | Y31: 전정중량(kg) | AG31: 전전량(낙,상) | AO31: 전정중량(kg) | AW31: 전전량(강,약) | BE31: 전정중량(kg) | BX31: B51이상 | BZ31: 주 | CA31: ='1-1 (5)'!D26+'1-1 (5)'!D27 -> #REF! | CB31: =AS37*CA31 -> #REF!
B32: 11이하 | G32: =AZ46 -> 42.79 | L32: =G32*0.5 -> 21.395 | Q32: 0.2 | U32: 0.15 | Y32: =L32*Q32 -> 4.279 | AC32: =L32*U32 -> 3.20925 | BM32: =G32 -> 42.79 | BU32: 가로수전정(약전정) | BX32: B11~21미만 | BZ32: 주 | CA32: ='1-1 (5)'!D32 -> #REF! | CB32: =BI33*CA32 -> #REF!
B33: 43790 | G33: =AZ47 -> 128.11 | L33: =G33*0.5 -> 64.055 | Q33: 0.2 | U33: 0.15 | Y33: =L33*Q33 -> 12.811 | AC33: =L33*U33 -> 9.60825 | AG33: 0.2 | AK33: 0.15 | AO33: =L33*AG33 -> 12.811 | AS33: =L33*AK33 -> 9.60825 | AW33: 0.4 | BA33: 0.3 | BE33: =L33*AW33 -> 25.622 | BI33: =L33*BA33 -> 19.2165 | BM33: =G33 -> 128.11 | BX33: B21~31 | BZ33: 주 | CA33: ='1-1 (5)'!D33 -> #REF! | CB33: =BI34*CA33 -> #REF!
