Workbook

Sheet 총괄표
B1: 2026년 제천남부도서관 제3차 구입예정 도서 총괄표
B3: ○ 구입 총괄 내역
B4: 구 분 | D4: 수 량 (권) | E4: 구입예정금액(원) | F4: 비 고
B5: 총 계 | E5: =SUM(E6+E7) -> 32311700
B6: 1차 도서 | D6: =E11 -> 1848 | E6: =F11 -> 31018100
B7: 1차 마크 | D7: =E16 -> 1848 | E7: =F16 -> 1293600 | F7: 단가: 700원
C8: 158763707차
B9: ○ 자료실별 구입 내역
B10: 구 분 | E10: 책 수 (권) | F10: 구입금액(원)
B11: 도서 구입 총계 | E11: =SUM(E12+E14) -> 1848 | F11: =SUM(F12+F14) -> 31018100
B12: 도서 | C12: 일반 소계 | E12: =SUM(E13:E13) -> 821 | F12: =SUM(F13:F13) -> 15933500
C13: 종합자료실 | E13: =일반도서!G3 -> 821 | F13: =일반도서!H3 -> 15933500
C14: 어린이 소계 | E14: =SUM(E15:E15) -> 1027 | F14: =SUM(F15:F15) -> 15084600
C15: 어린이열람실 | E15: =어린이도서!G3 -> 1027 | F15: =어린이도서!H3 -> 15084600
B16: 마크비 총계 | E16: =SUM(E17+E20) -> 1848 | F16: =SUM(F17+F20) -> 1293600
B17: 마크 | C17: 마크 소계 | E17: =SUM(E18:E19) -> 1848 | F17: =SUM(F18:F19) -> 1293600
C18: 종합자료실(일반) | E18: =E13 -> 821 | F18: =E18*700 -> 574700
C19: 어린이열람실(어린이) | E19: =어린이도서!G3 -> 1027 | F19: =E19*700 -> 718900

Sheet 일반도서
B1: 2026년 3차 남부도서관(일반도서) 구입 예정 목록
B2: 연번 | C2: 서명 | D2: 저자 | E2: 발행자 | F2: 발행년 | G2: 책수 | H2: 가격 | I2: 비고
C3: 일반도서 총계 | G3: =SUM(G4:G824) -> 821 | H3: =SUM(H4:H824) -> 15933500
B4: =ROW(A4)-3 -> 1 | C4: 나만 아는 단어 - 늘 따라오는 것, 쫓아오는 것, 나를 숨게 하지 않는 것, 무자비한 것, 그러나 모두에게 공평한 것 | D4: 김화진,황유원,정용준,임선우,권누리,김선형,김복희,유선혜,정수윤,김서해 (지은이) | E4: 휴머니스트 | F4: 2026 | G4: 1 | H4: 29000 | I4: 큰글자 | J4: 9791170875444
B5: =ROW(A5)-3 -> 2 | C5: 당신의 독자가 될게요 - 혼란을 끌어안는 쓰기에 대하여 | D5: 정세랑 (지은이) | E5: 마음산책 | F5: 2026 | G5: 1 | H5: 29000 | I5: 큰글자 | J5: 9788960901759
B6: =ROW(A6)-3 -> 3 | C6: 세 개의 푸른 돌 | D6: 은모든 (지은이) | E6: 안온북스 | F6: 2026 | G6: 1 | H6: 31000 | I6: 큰글자 | J6: 9791192638928
B7: =ROW(A7)-3 -> 4 | C7: 인비인 - 성해나 기담집 | D7: 성해나 (지은이) | E7: 한겨레출판 | F7: 2026 | G7: 1 | H7: 35000 | I7: 큰글자 | J7: 9791172134525
B8: 5 | C8: 해파리 만개 | D8: 김초엽 (지은이),박지숙 (그림) | E8: 마음산책 | F8: 2026 | G8: 1 | H8: 34000 | I8: 큰글자 | J8: 9788960901711
B9: =ROW(A9)-3 -> 6 | C9: 100년의 질문 - 당신의 '가르시아'는 무엇인가? | D9: 엘버트 허버드 (지은이),충희 (엮은이) | E9: 여린풀 | F9: 2026 | G9: 1 | H9: 16800 | I9: 일반 | J9: 9791199885028
B10: =ROW(A10)-3 -> 7 | C10: 100번째 자소서 이렇게 쓰고 합격했습니다 - 내 경험을 직무 언어로 리빌딩하라 | D10: 신동일 (지은이) | E10: 애플씨드 | F10: 2026 | G10: 1 | H10: 21000 | I10: 일반 | J10: 9791124121146
B11: =ROW(A11)-3 -> 8 | C11: 17cm 시폰 틀로 만드는 특별한 시폰케이크 | D11: 에구치 카즈아키 (지은이),최선아 (옮긴이) | E11: 시그마북스 | F11: 2026 | G11: 1 | H11: 19000 | I11: 일반 | J11: 9791168625099
B12: =ROW(A12)-3 -> 9 | C12: 1812개의 믿을 수 있는 영어 문장 | D12: Richard A. Spears,McGraw-Hill/NTC (지은이) | E12: 넥서스 | F12: 2026 | G12: 1 | H12: 28000 | I12: 일반 | J12: 9791124028780
B13: =ROW(A13)-3 -> 10 | C13: 2027 대한민국 트렌드 - 과연 그 트렌드는 진짜 트렌드가 됐을까? AI와 인간이 함께 읽어낸 사람·소비·일의 8가지 키워드 | D13: 조성호 (지은이) | E13: 길벗 | F13: 2026 | G13: 1 | H13: 20000 | I13: 일반 | J13: 9791140720316
B14: =ROW(A14)-3 -> 11 | C14: 2049 : AI가 만드는 25년 후 세상 | D14: 케빈 켈리 (지은이),우천 (엮은이),김도인 (옮긴이) | E14: 알에이치코리아(RHK) | F14: 2026 | G14: 1 | H14: 20000 | I14: 일반 | J14: 9788925568409
B15: =ROW(A15)-3 -> 12 | C15: 20대의 돈 공부가 당신을 평생 부자로 만든다 | D15: 한진수 (지은이) | E15: 북오션 | F15: 2026 | G15: 1 | H15: 22000 | I15: 일반 | J15: 9788967999674
B16: =ROW(A16)-3 -> 13 | C16: A+를 부르는 요즘 대학생의 AI 공부법 - 수업, 시험, 과제, 스펙까지 제미나이, 제미나이 노트북, 퍼플렉시티, 안티그래비티 올인원 가이드 | D16: 고영민 (지은이) | E16: 제이펍 | F16: 2026 | G16: 1 | H16: 22000 | I16: 일반 | J16: 9791124205815
B17: =ROW(A17)-3 -> 14 | C17: ADHD 아이 학교에서 살아남기 - 특수교사이자 ADHD 아이 엄마가 밝히는 현실 학교 생존법 | D17: 박정은 (지은이) | E17: 소울하우스 | F17: 2026 | G17: 1 | H17: 21000 | I17: 일반 | J17: 9791188915804
B18: =ROW(A18)-3 -> 15 | C18: AI 시대 어떻게 일할 것인가 | D18: 최동원 (지은이) | E18: 상상스퀘어 | F18: 2026 | G18: 1 | H18: 22000 | I18: 일반 | J18: 9791124248522
B19: =ROW(A19)-3 -> 16 | C19: AI 시대, 부모로 살아가기 - AI 교수 아빠와 유아교육 전문가 엄마가 합의한 우리 집 AI 원칙 | 궤도, 김경일 교수 강력 추천 | D19: 김덕진,임한나 (지은이) | E19: 한빛미디어 | F19: 2026 | G19: 1 | H19: 19800 | I19: 일반 | J19: 9791175790889
B20: =ROW(A20)-3 -> 17 | C20: AI 시대, 질문 잘하는 아이가 미래를 바꾼다 - 카이스트 연구진의 29가지 질문 교육 처방전 | D20: 이성혜,박민서,김범석 (지은이),조에스더 (그림) | E20: 김영사 | F20: 2026 | G20: 1 | H20: 18500 | I20: 일반 | J20: 9791173327292
... B824: =ROW(A824)-3 -> 821 | C824: 희망을 처방한 대한의 낭만 닥터들 - 한국 의학의 첫걸음이 된 의사 7인 | D824: 김형민 (지은이) | E824: 다른 | F824: 2026 | G824: 1 | H824: 16000 | I824: 청소년 | J824: 9791156338000

Sheet 어린이도서
B1: 2026년 3차 남부도서관(어린이도서) 구입 예정 목록
B2: 연번 | C2: 서명 | D2: 저자 | E2: 발행자 | F2: 발행년 | G2: 책수 | H2: 가격 | I2: 비고
C3: 어린이도서 총계 | G3: =SUM(G4:G978) -> 1027 | H3: =SUM(H4:H978) -> 15084600
B4: =ROW(A4)-3 -> 1 | C4: [전집]이야기 마법사 | D4: 그레이트북스 편집부 | E4: 그레이트북스 | F4: 2025 | G4: 53 | H4: 400000 | I4: 그림책 | J4: 세계명작 전집
B5: =ROW(A5)-3 -> 2 | C5: 100층짜리 집 : 미니 보드북 | D5: 이와이 도시오 (지은이),김숙 (옮긴이) | E5: 북뱅크 | F5: 2021 | G5: 1 | H5: 13000 | I5: 그림책 | J5: 9788966351336
B6: =ROW(A6)-3 -> 3 | C6: 1795년, 정조의 행복한 행차 - 화성원행도를 따라가 보다 | D6: 윤민용 (지은이),이화 (그림) | E6: 봄볕 | F6: 2023 | G6: 1 | H6: 26000 | I6: 그림책 | J6: 9791193150184
B7: =ROW(A7)-3 -> 4 | C7: 999번째 용이 되는 법 | D7: 재희 (지은이) | E7: 웅진주니어 | F7: 2026 | G7: 1 | H7: 17000 | I7: 그림책 | J7: 9788901300245
B8: =ROW(A8)-3 -> 5 | C8: X-RAY 필름북 들여다보는 우리 몸 | D8: 애플비북스 편집부 (지은이),신유진 (그림),박윤경 (감수) | E8: 애플비 | F8: 2026 | G8: 1 | H8: 20000 | I8: 그림책 | J8: 9791171182381
B9: =ROW(A9)-3 -> 6 | C9: 가랑잎이 참 좋다 | D9: 오나리 유코 (지은이),하타 고시로 (그림),황진희 (옮긴이) | E9: 나는별 | F9: 2025 | G9: 1 | H9: 16000 | I9: 그림책 | J9: 9791188574704
B10: =ROW(A10)-3 -> 7 | C10: 가을 호텔 | D10: 다비드 칼리 (지은이),안나 아파리시오 카탈라 (그림),박재연 (옮긴이) | E10: 노는날 | F10: 2026 | G10: 1 | H10: 17000 | I10: 그림책 | J10: 9791194722366
B11: =ROW(A11)-3 -> 8 | C11: 가장자리 | D11: 신순재 (지은이),이영채 (그림) | E11: 위즈덤하우스 | F11: 2025 | G11: 1 | H11: 17000 | I11: 그림책 | J11: 9791194770114
B12: =ROW(A12)-3 -> 9 | C12: 감자 감자 뿅 | D12: 재희 (지은이) | E12: 킨더랜드 | F12: 2024 | G12: 1 | H12: 15000 | I12: 그림책 | J12: 9791170820659
B13: =ROW(A13)-3 -> 10 | C13: 같이 놀까? - 2024 북스타트 선정도서, 2023 북스타트 선정도서 | D13: 이예숙 (지은이) | E13: 천개의바람 | F13: 2022 | G13: 1 | H13: 11000 | I13: 그림책 | J13: 9791165732554
B14: =ROW(A14)-3 -> 11 | C14: 거짓말 | D14: 나카가와 히로타카 (지은이),미로코 마치코 (그림),이기웅 (옮긴이) | E14: 길벗어린이 | F14: 2016 | G14: 1 | H14: 13000 | I14: 그림책 | J14: 9788955823493
B15: =ROW(A15)-3 -> 12 | C15: 걱정을 없애는 방법 | D15: 안수민 (지은이),김현주 (그림) | E15: 가문비(어린이가문비) | F15: 2025 | G15: 1 | H15: 14000 | I15: 그림책 | J15: 9788969027757
... B348: =ROW(A348)-3 -> 345 | C348: 활옥동굴과 아이 | D348: 김경구 (지은이),신소담 (그림) | E348: 가문비(어린이가문비) | F348: 2023 | G348: 1 | H348: 14000 | I348: 그림책 | J348: 9788969025616
B349: =ROW(A349)-348 -> 1 | C349: 100일 신문 100점 독해 : 국내편 - 문해력 키우고 어휘력 높이는 초등 신문 읽기 | D349: 뉴스쿨 (지은이),불키드 (그림) | E349: 미래엔아이세움 | F349: 2025 | G349: 1 | H349: 19800 | I349: 아동 | J349: 9791175481718
B350: =ROW(A350)-348 -> 2 | C350: 10층 큰 나무 아파트에 가을 소리가 들려와요 - 동물 아파트의 사계절 이야기 6 | D350: 부시카 에쓰코 (지은이),스에자키 시게키 (그림),김정화 (옮긴이) | E350: 미래엔아이세움 | F350: 2026 | G350: 1 | H350: 15000 | I350: 아동 | J350: 9791175488632
B351: =ROW(A351)-348 -> 3 | C351: 111년 후 이 자리에는 커다란 삼나무가 자랄 거야 - 2025 화이트 레이븐스 선정작, 2024 IBBY 벨기에 그림책상 수상작 | D351: 쥘리 두인 (지은이),노에미 파바르 (그림),이세진 (옮긴이) | E351: 아이스크림미디어 | F351: 2026 | G351: 1 | H351: 16800 | I351: 아동 | J351: 9791159295492
B352: =ROW(A352)-348 -> 4 | C352: 2023 아홉 살에 시작하는 똑똑한 초등신문 - 초등학생이 꼭 알아야 하는 최신 뉴스 | D352: 신효원 (지은이) | E352: 책장속북스 | F352: 2023 | G352: 1 | H352: 17500 | I352: 아동 | J352: 9791191836219
B353: =ROW(A353)-348 -> 5 | C353: 2024 세상을 보는 눈을 넓히는 똑똑한 초등신문 2 - 초등학생이 꼭 알아야 하는 최신 뉴스 | D353: 신효원 (지은이) | E353: 책장속북스 | F353: 2024 | G353: 1 | H353: 19500 | I353: 아동 | J353: 9791198721419
B354: =ROW(A354)-348 -> 6 | C354: 2025 아홉 살에 시작하는 똑똑한 초등신문 3 - 초등학생이 꼭 알아야 하는 최신 뉴스 | D354: 신효원 (지은이) | E354: 책장속북스 | F354: 2025 | G354: 1 | H354: 19500 | I354: 아동 | J354: 9791198721488
B355: =ROW(A355)-348 -> 7 | C355: 2026 아홉 살에 시작하는 똑똑한 초등신문 4 - 초등학생이 꼭 알아야 하는 최신 뉴스 | D355: 신효원 (지은이) | E355: 책장속북스 | F355: 2026 | G355: 1 | H355: 19500 | I355: 아동 | J355: 9791199777521
B356: =ROW(A356)-348 -> 8 | C356: 5시 고양이 | D356: 이향안 (지은이),김주경 (그림) | E356: 아이음북스 | F356: 2024 | G356: 1 | H356: 13000 | I356: 아동 | J356: 9791198573100
B357: =ROW(A357)-348 -> 9 | C357: AI가 다 해 주는데 공부를 해야 하나요? - 문해력·수리력·표현력을 잡아라! | D357: 김도현 (지은이),정진희 (그림) | E357: 토토북 | F357: 2026 | G357: 1 | H357: 16000 | I357: 아동 | J357: 9788964965627
B358: =ROW(A358)-348 -> 10 | C358: AI와 똑똑하게 대화하는 질문 사전 | D358: 김지훈 (지은이),소윤 (그림) | E358: 크래커 | F358: 2026 | G358: 1 | H358: 16800 | I358: 아동 | J358: 9791175773660
B359: =ROW(A359)-348 -> 11 | C359: Go Go 카카오프렌즈 자연탐사 16 : 폴리네시아 제도 - 지구 자연 생태 탐사 학습만화 | D359: 조주희 (지은이),김정한 (그림),김미영 (기획) | E359: 아울북 | F359: 2026 | G359: 1 | H359: 16900 | I359: 아동 | J359: 9791173575655
B360: =ROW(A360)-348 -> 12 | C360: No. 1만 살아남는 최강 동물 빅매치 라운드 1 - 내셔널지오그래픽 키즈 | D360: 에밀리 크리거 (지은이),송지혜 (옮긴이) | E360: 비룡소 | F360: 2026 | G360: 1 | H360: 16800 | I360: 아동 | J360: 9788949132662
... B978: =ROW(A978)-348 -> 630 | C978: 히틀러가 분홍 토끼를 훔치던 날 | D978: 주디스 커 (지은이),김선희 (옮긴이) | E978: 북극곰 | F978: 2023 | G978: 1 | H978: 15000 | I978: 아동 | J978: 9791165882792
