Workbook
Name _Order1: 255
Name _Order2: 255

Sheet 세네카
B1: =표지!B5 -> 지방도 730호선 남원 주천 장안 외 1개소 덧씌우기공사 폐기물처리용역
B3: 설 계 서
B5: 2 0 2 6 . 2
B8: 전북특별자치도 도로관리사업소

Sheet 표지
A2: 관 리 번 호 | N2: 사 본 번 호
B5: ='설계설명서(폐기물)'!C8 -> 지방도 730호선 남원 주천 장안 외 1개소 덧씌우기공사 폐기물처리용역
B6: 설계서
B12: 2026. 2.
B20: 전북특별자치도 도로관리사업소

Sheet 전체목차(폐기물) 
C7: 1. | D7: . . . . . . . . . . . . . . . . . . . . . . . . . . . . . . | H7: 설 계 설 명 서
C8: 2. | D8: . . . . . . . . . . . . . . . . . . . . . . . . . . . . . . | H8: 폐기물시방서
C9: 3. | D9: . . . . . . . . . . . . . . . . . . . . . . . . . . . . . . | H9: 예정공정표
C10: 4. | D10: . . . . . . . . . . . . . . . . . . . . . . . . . . . . . . | H10: 설 계 예 산 서
C11: 5. | D11: . . . . . . . . . . . . . . . . . . . . . . . . . . . . . . | H11: 단 가 산 출 서
C12: 6. | D12: . . . . . . . . . . . . . . . . . . . . . . . . . . . . . . | H12: 수 량 산 출 서

Sheet 간지(폐기물)
F6: 1.설계설명서
F19: 2.폐기물시방서
F33: 3.예정공정표
F48: 4.설계예산서
F62: 5.단가산출서
F76: 6.수량산출서

Sheet 단가표지
A7: 목 차 | K7: =C11&D11 -> 1.노임.자재.경비 | U7: =C14&D14 -> 2.중기사용료 | AE7: =C17&D17 -> 3.단가산출서 | AO7: =C20&D20 -> 4.운반거리조견표 | AY7: =C23&D23 | BA7: =M20 -> 0 | BB7: =N20 -> 0 | BI7: =C26&D26
C11: 1. | D11: 노임.자재.경비
C14: 2. | D14: 중기사용료
C17: 3. | D17: 단가산출서
C20: 4. | D20: 운반거리조견표
K40: =C44&D44

Sheet 운반거리조견표
A1: 운 반 거 리 조 견 표
C3: ▨ | E3: 공 사 명 : | J3: ='원가계산서(폐기물)'!C2 -> 지방도 730호선 남원 주천 장안 외 1개소 덧씌우기공사 폐기물처리용역
D5: 1. | F5: 폐 기 물 운 반
F8: 공 사 현 장 | T8: L | U8: = | V8: 12 | Z8: Km | AH8: 폐기물처리장

Sheet 예정공정표
A1: 예 정 공 정 표
A2: 공 사 명 : | C2: ='원가계산서(폐기물)'!C2 -> 지방도 730호선 남원 주천 장안 외 1개소 덧씌우기공사 폐기물처리용역
B3: 월별 | C3: 보할(%) | E3: 착 수 일 | S3: 비 고
A4: 공종 | E4: 4 | G4: 8 | I4: 12 | K4: 16 | M4: 20 | O4: 24 | Q4: 28
A5: 건설폐기물처리 | C5: 100 | E5: =ROUND($C5/7,1) -> 14.3 | G5: =ROUND($C5/7,1) -> 14.3 | I5: =ROUND($C5/7,1) -> 14.3 | K5: =ROUND($C5/7,1) -> 14.3 | M5: =ROUND($C5/7,1) -> 14.3 | O5: =ROUND($C5/7,1) -> 14.3 | Q5: =ROUND($C5/7,1)-0.1 -> 14.2
A7: 계 | C7: =SUM(C5:C6) -> 100 | E7: =SUM(E5:F6) -> 14.3 | G7: =SUM(G5:H6) -> 14.3 | I7: =SUM(I5:J6) -> 14.3 | K7: =SUM(K5:L6) -> 14.3 | M7: =SUM(M5:N6) -> 14.3 | O7: =SUM(O5:P6) -> 14.3 | Q7: =SUM(Q5:R6) -> 14.2
A8: 누 계 | E8: =E7 -> 14.3 | G8: =E8+G7 -> 28.6 | I8: =G8+I7 -> 42.9 | K8: =I8+K7 -> 57.2 | M8: =K8+M7 -> 71.5 | O8: =M8+O7 -> 85.8 | Q8: =O8+Q7 -> 100

Sheet 설계설명서(폐기물)
A1: 설 계 설 명 서
A3: 1. 목 적
B4: 본 공사는 현장내에서 발생하는 폐기물을 시공회사가 폐기한 시설물에 대하여 운반, 폐기물처리 까지를 말하며,
B5: 건설폐기물을 폐기물관리법에 따라 적법하게 처리하는데 그 목적이 있음
A7: 2. 사업명 및 위치
A8: 1) 사 업 명 : | C8: 지방도 730호선 남원 주천 장안 외 1개소 덧씌우기공사 폐기물처리용역
A9: 2) 위 치 : | C9: 전라북도 남원시 주천면 장안리 191-6번지 일원
A11: 3. 사업개요
A12: 1) 폐기물 운반량 : | D12: =SUM(D13:D14) -> 472 | E12: Ton
A13: - 폐아스콘(1공구) : | D13: 384 | E13: Ton
A14: - 폐아스콘(2공구) : | D14: 88 | E14: Ton
A16: 2) 폐기물 처리량 : | D16: =SUM(D17:D19) -> 472 | E16: Ton
A17: - 폐아스콘(1공구) : | D17: 384 | E17: Ton
A18: - 폐아스콘(2공구) : | D18: 88 | E18: Ton
E19: Ton
A25: 4. 공사기간
A26: 본 공사의 공사기간은 착공일로부터 28일로 하고, 다음의 경우에 한하여 발주처의 승인을 받아 그 기간을 연장 할 수 있다.
A27: 1) 공사기간 중 강우일수가 최근 년평균 강우일수보다 많을 때
A28: 2) 천재지변등으로 인하여 작업이 불가능 할 때
A29: 3) 시행청의 지시에 의하여 작업이 중단 되었을 때
A30: 4) 지장물 철거 및 편입용지 기공승락 지연등으로 공기연장이 불가피할 때
A31: 5) 선보상 완료후 시공할 경우도 선 보상 기간만큼 별도 연장 할 수 있다
A32: 6) 기타 불가피한 상황이 발생 되었을 때
A34: 5. 설계변경 조건
A35: 1) 폐기물 처리장 위치 및 운반거리가 변경될 경우
A36: 2) 폐기물 물량은 정산 처리한다.
A38: 6. 기타 주의사항
... A41: 3) 폐기물 운반시 적재한 폐기물이 낙하하여 생긴 사고 등으로 인한 손해는 도급자가 부담한다.

Sheet 갑지(폐기물)
A1: 설 계 2026년 2월 일 | N1: 결 재 | O1: 설 계 자 | T1: 담 당 자 | Y1: 계 장 | AD1: 과 장
AH5: ="위 치 : "&'설계설명서(폐기물)'!C9 -> 위 치 : 전라북도 남원시 주천면 장안리 191-6번지 일원
B7: ='원가계산서(폐기물)'!C2 -> 지방도 730호선 남원 주천 장안 외 1개소 덧씌우기공사 폐기물처리용역
B8: 설계예산서
B10: ◈ 사 업 개 요 | T10: ◎총사업비: | Y10: =" 금"&NUMBERSTRING(Y11,1)&"원" -> 금일천사백육십만팔천원
B11: ※ 폐기물 운반 | Y11: =Y14 -> 14608000
D12: ='설계설명서(폐기물)'!A13 -> - 폐아스콘(1공구) : | K12: ='설계설명서(폐기물)'!D13 -> 384 | M12: Ton
D13: ='설계설명서(폐기물)'!A14 -> - 폐아스콘(2공구) : | K13: ='설계설명서(폐기물)'!D14 -> 88 | M13: Ton | T13: ○도급예정액: | Y13: =" 금"&NUMBERSTRING(Y14,1)&"원" -> 금일천사백육십만팔천원
Y14: =Y16+Y18 -> 14608000
B15: ※ 폐기물 처리 | U15: -공급가액: | Y15: =" 금"&NUMBERSTRING(Y16,1)&"원" -> 금일천삼백이십팔만원
D16: ='설계설명서(폐기물)'!A17 -> - 폐아스콘(1공구) : | K16: ='설계설명서(폐기물)'!D17 -> 384 | M16: Ton | Y16: ='원가계산서(폐기물)'!D27 -> 13280000
D17: ='설계설명서(폐기물)'!A18 -> - 폐아스콘(2공구) : | K17: ='설계설명서(폐기물)'!D18 -> 88 | M17: Ton | U17: -부가가치세: | Y17: =" 금"&NUMBERSTRING(Y18,1)&"원" -> 금일백삼십이만팔천원
D18: ='설계설명서(폐기물)'!A19 -> 0 | Y18: ='원가계산서(폐기물)'!D28 -> 1328000
A21: 전북특별자치도 도로관리사업소

Sheet 원가계산서(폐기물)
A1: 원 가 계 산 서
A2: 공 사 명 : | C2: ='설계설명서(폐기물)'!C8 -> 지방도 730호선 남원 주천 장안 외 1개소 덧씌우기공사 폐기물처리용역
A3: 비 목 | C3: 구 분 | D3: 금 액 | E3: 구 성 비(%) | J3: 비 고
A4: 순 공 사 비 원 가 | B4: 재 | C4: 직접재료비
B5: 료 | C5: 간접재료비
B6: 비 | C6: 소 계 | D6: =SUM(D4:D5) -> 0
B7: 노 | C7: 직접노무비
B8: 무 | C8: 간접노무비
B9: 비 | C9: 소 계 | D9: =SUM(D7:D8) -> 0
C10: 기계(직접) 경비 | D10: =M12 -> 13280000 | M10: 입력란
B11: 경 | C11: 산재보험료
C12: 고용보험료 | M12: =ROUND(내역서총괄표!G4,0) -> 13280000
C13: 건강보험료
C14: 연금보험료
C15: 노인장기요양보험료
C16: 퇴직공제부금비
C17: 건설기계대여대금발급금액
C18: 산업안전보건관리비
C20: 환경관리비
B21: 비 | C21: 기 타 경 비
C22: 소 계 | D22: =SUM(D10:D21) -> 13280000
B23: 순 공 사 비 계 | D23: =D22+D9+D6 -> 13280000
A24: 일 반 관 리 비 | G24: 0
A25: 총 계 | D25: =D24+D23 -> 13280000 | E25: [계+일반관리비]
A26: 이 윤 | H26: =IF(D23=0,0,ROUND(((D26/(D23+D24+#REF!-D6)))*100,1)) -> #REF!
A27: 공 급 가 액 | D27: =ROUNDDOWN(D25+D26,0) -> 13280000 | E27: [총계+이윤]
A28: 부 가 가 치 세 | D28: =ROUNDDOWN(D27*10%,0) -> 1328000 | E28: [공급가액] x 10 %
A29: 도 급 예 정 액 | D29: =(D27+D28) -> 14608000 | E29: [공급가액+부가가치세]
A30: 총 공 사 비 | D30: =SUM(D29:D29) -> 14608000 | E30: [도급액]

Sheet 내역서총괄표
B1: 내역서총괄표
B3: 공종 | C3: 품 명 | D3: 규 격 | E3: 수 량 | F3: 단위 | G3: 합 계 | H3: 재료비 | I3: 노무비 | J3: 경 비 | K3: 비 고
C4: 순 공 사 비 | G4: =TEXT(I4+H4+J4,"#,##0") -> 13,280,000 | H4: =내역서!J5 -> 0 | I4: =내역서!L5 -> 0 | J4: =내역서!N5 -> 13,280,000
B5: 01. | C5: 폐기물운반 | G5: =TEXT(I5+H5+J5,"#,##0") -> 3,849,808 | H5: =내역서!J7 -> 0 | I5: =내역서!L7 -> 0 | J5: =내역서!N7 -> 3,849,808
B6: 02. | C6: 폐기물처리 | G6: =TEXT(I6+H6+J6,"#,##0") -> 9,430,192 | H6: =내역서!J13 -> 0 | I6: =내역서!L13 -> 0 | J6: =내역서!N13 -> 9,430,192

Sheet 내역서
B1: 내역서
B3: 공종 | C3: 품 명 | D3: 규 격 | E3: 수 량 | F3: 단위 | G3: 합 계 | I3: 재료비 | K3: 노무비 | M3: 경 비 | O3: 비 고
G4: 단 가 | H4: 금 액 | I4: 단 가 | J4: 금 액 | K4: 단 가 | L4: 금 액 | M4: 단 가 | N4: 금 액
C5: 순 공 사 비 | H5: =TEXT(L5+J5+N5,"#,##0") -> 13,280,000 | J5: =TEXT(J7+J13,"#,##0") -> 0 | L5: =TEXT(L7+L13,"#,##0") -> 0 | N5: =TEXT(N7+N13,"#,##0") -> 13,280,000
B7: 01. | C7: 폐기물운반 | H7: =TEXT(L7+J7+N7,"#,##0") -> 3,849,808 | J7: =TEXT(J8+J10,"#,##0") -> 0 | L7: =TEXT(L8+L10,"#,##0") -> 0 | N7: =TEXT(N8+N10,"#,##0") -> 3,849,808
B8: 1) | C8: 1공구 | H8: =TEXT(L8+J8+N8,"#,##0") -> 3,060,096 | J8: =TEXT(J9,"#,##0") -> 0 | L8: =TEXT(L9,"#,##0") -> 0 | N8: =TEXT(N9,"#,##0") -> 3,060,096
C9: 폐기물운반(아스콘) | D9: 덤프15톤, L=10km | E9: 384 | F9: Ton | G9: =K9+I9+M9 -> 7969 | H9: =TEXT(L9+J9+N9,"#,##0") -> 3,060,096 | J9: =TRUNC(E9*I9,0) -> 0 | L9: =TRUNC(E9*K9,0) -> 0 | M9: =단가산출총괄표!H4+단가산출총괄표!G4+단가산출총괄표!I4 -> 7969 | N9: =TRUNC(E9*M9,0) -> 3060096 | O9: 단산1참조
B10: 2) | C10: 2공구 | H10: =TEXT(L10+J10+N10,"#,##0") -> 789,712 | J10: =TEXT(J11+J12,"#,##0") -> 0 | L10: =TEXT(L11+L12,"#,##0") -> 0 | N10: =TEXT(N11+N12,"#,##0") -> 789,712
C11: 폐기물운반(아스콘) | D11: 덤프15톤, L=12km | E11: 88 | F11: Ton | G11: =K11+I11+M11 -> 8974 | H11: =TEXT(L11+J11+N11,"#,##0") -> 789,712 | J11: =TRUNC(E11*I11,0) -> 0 | L11: =TRUNC(E11*K11,0) -> 0 | M11: =단가산출총괄표!H5+단가산출총괄표!G5+단가산출총괄표!I5 -> 8974 | N11: =TRUNC(E11*M11,0) -> 789712 | O11: 단산2참조
B13: 02. | C13: 폐기물처리 | H13: =TEXT(L13+J13+N13,"#,##0") -> 9,430,192 | J13: =TEXT(J14+J16,"#,##0") -> 0 | L13: =TEXT(L14+L16,"#,##0") -> 0 | N13: =TEXT(N14+N16,"#,##0") -> 9,430,192
B14: 1) | C14: 1공구 | H14: =TEXT(L14+J14+N14,"#,##0") -> 7,680,000 | J14: =TEXT(J15,"#,##0") -> 0 | L14: =TEXT(L15,"#,##0") -> 0 | N14: =TEXT(N15,"#,##0") -> 7,680,000
C15: 폐기물처리비 | D15: 폐아스콘 | E15: 384 | F15: Ton | G15: =K15+I15+M15 -> 20000 | H15: =TEXT(L15+J15+N15,"#,##0") -> 7,680,000 | J15: =TRUNC(E15*I15,0) -> 0 | L15: =TRUNC(E15*K15,0) -> 0 | M15: =자재단가!R6 -> 20000 | N15: =TRUNC(E15*M15,0) -> 7680000
B16: 2) | C16: 2공구 | H16: =TEXT(L16+J16+N16,"#,##0") -> 1,750,192 | J16: =TEXT(J17+J18+J19+J20+J21+J22+J23+J24+J25+J26+J27+J28+J29+J30+J31+J32+J33+J34+J35+J36+J37+J38+J39+J40+J41+J42+J43+J44+J45+J46+J47+J48,"#,##0") -> 0 | L16: =TEXT(L17+L18+L19+L20+L21+L22+L23+L24+L25+L26+L27+L28+L29+L30+L31+L32+L33+L34+L35+L36+L37+L38+L39+L40+L41+L42+L43+L44+L45+L46+L47+L48,"#,##0") -> 0 | N16: =TEXT(N17+N18+N19+N20+N21+N22+N23+N24+N25+N26+N27+N28+N29+N30+N31+N32+N33+N34+N35+N36+N37+N38+N39+N40+N41+N42+N43+N44+N45+N46+N47+N48,"#,##0") -> 1,750,192
C17: 폐기물처리비 | D17: 폐아스콘 | E17: 88 | F17: Ton | G17: =K17+I17+M17 -> 20000 | H17: =TEXT(L17+J17+N17,"#,##0") -> 1,760,000 | J17: =TRUNC(E17*I17,0) -> 0 | L17: =TRUNC(E17*K17,0) -> 0 | M17: =자재단가!R6 -> 20000 | N17: =TRUNC(E17*M17,0) -> 1760000
C19: 우수리정리 | E19: 1 | F19: 식 | G19: =K19+I19+M19 -> -9808 | H19: =TEXT(L19+J19+N19,"#,##0") -> -9,808 | J19: =TRUNC(E19*I19,0) -> 0 | L19: =TRUNC(E19*K19,0) -> 0 | M19: -9808 | N19: =TRUNC(E19*M19,0) -> -9808

Sheet 단가산출총괄표
B1: 단가산출총괄표
B3: No | C3: 품 명 | D3: 규 격 | E3: 단위 | F3: 합 계 | G3: 재료비 | H3: 노무비 | I3: 경 비 | J3: 비 고 | Z3: 당초합계 | AA3: 당초노무비 | AB3: 당초재료비 | AC3: 당초경비
B4: 1 | C4: 폐기물운반(아스콘) | D4: 덤프15톤, L=10km | E4: Ton | F4: =TEXT(H4+G4+I4,"#,##0") -> 7,969 | G4: =단가산출!EM4 -> 2,181 | H4: =단가산출!EN4 -> 4,264 | I4: =단가산출!EO4 -> 1,524 | J4: 경비성단가 | Z4: 7969 | AA4: 4264 | AB4: 2181 | AC4: 1524
B5: 2 | C5: 폐기물운반(아스콘) | D5: 덤프15톤, L=12km | E5: Ton | F5: =TEXT(H5+G5+I5,"#,##0") -> 8,974 | G5: =단가산출!EM57 -> 2,456 | H5: =단가산출!EN57 -> 4,802 | I5: =단가산출!EO57 -> 1,716 | J5: 경비성단가 | Z5: 8974 | AA5: 4802 | AB5: 2456 | AC5: 1716

Sheet 단가산출
B1: 단가산출
B3: 산 출 근 거 | C3: 합 계 | D3: 재료비 | E3: 노무비 | F3: 경 비 | EL3: 합 계 | EM3: 재료비 | EN3: 노무비 | EO3: 경 비
B4: 1.폐기물운반(아스콘) (덤프15톤, L=10km) [Ton] | EL4: =EL55 -> 7969 | EM4: =EM55 -> 2,181 | EN4: =EN55 -> 4,264 | EO4: =EO55 -> 1,524
D6: 1. | G6: 상 | J6: 차 | M6: : | O6: 굴착기(무한궤도) | AH6: (0.7㎥)
G8: qs | J8: = | L8: =TEXT(0.7,"#,##0.#######") -> 0.7 | T8: f | V8: = | X8: =TEXT(1,"#,##0.#######") -> 1. | Z8: / | AB8: =TEXT(1.5,"#,##0.#######") -> 1.5 | AF8: = | AH8: =TEXT(ROUND(X8/AB8,2),"#,##0.#######") -> 0.67 | AS8: K | AU8: = | AW8: =TEXT(0.55,"#,##0.#######") -> 0.55
G10: Es | J10: = | L10: =TEXT(0.45,"#,##0.#######") -> 0.45 | U10: Cms | Y10: = | AA10: =TEXT(20,"#,##0.#######") -> 20. | AC10: sec | AF10: ( | AG10: 135 | AJ10: ˚ | AL10: )
L12: =TEXT(3600,"#,##0.#######") -> 3,600. | Q12: × | S12: qs | U12: × | W12: K | X12: × | Z12: f | AA12: × | AC12: Es | AK12: =TEXT(L12,"#,##0.#######") -> 3,600. | AP12: × | AR12: =TEXT(L8,"#,##0.#######") -> 0.7 | AU12: × | AW12: =TEXT(AW8,"#,##0.#######") -> 0.55 | BA12: × | BC12: =TEXT(AH8,"#,##0.#######") -> 0.67 | BG12: × | BI12: =TEXT(L10,"#,##0.#######") -> 0.45
G13: Q | I13: = | K13: ─ | M13: ─ | O13: ─ | Q13: ─ | S13: ─ | U13: ─ | W13: ─ | Y13: ─ | AA13: ─ | AC13: ─ | AE13: ─ | AH13: = | AJ13: ─ | AL13: ─ | AN13: ─ | AP13: ─ | AR13: ─ | AT13: ─ | AV13: ─ | AX13: ─ | AZ13: ─ | BB13: ─ | BD13: ─ | BF13: ─ | BH13: ─ | BJ13: ─ | BL13: ─ | BO13: = | BQ13: =TEXT(ROUND((3600*L8*AW8*AH8*L10)/(AA10),2),"#,##0.#######") -> 20.89 | BY13: ㎥ | CA13: / | CB13: hr
T14: Cms | AX14: =TEXT(AA10,"#,##0.#######") -> 20.
F16: ※ | I16: 상차비는 | R16: 깨기시 | Y16: 적용
D19: 2. | G19: 운 | J19: 반 | M19: : | O19: 덤프트럭(자동덮개) | AI19: (15Ton)
G21: L | I21: = | K21: =TEXT(10,"#,##0.#######") -> 10. | M21: km | S21: V1 | V21: = | X21: =TEXT(30,"#,##0.#######") -> 30. | Z21: km | AB21: / | AC21: hr | AJ21: V2 | AM21: = | AO21: =TEXT(35,"#,##0.#######") -> 35. | AQ21: km | AS21: / | AT21: hr
G23: T | I23: = | K23: =TEXT(15,"#,##0.#######") -> 15. | M23: ton | S23: rt | V23: = | X23: =TEXT(2.35,"#,##0.#######") -> 2.35 | AB23: ton | AE23: / | AF23: ㎥ | AJ23: Lo | AM23: = | AO23: =TEXT(1.5,"#,##0.#######") -> 1.5 | AV23: E | AX23: = | AZ23: =TEXT(0.9,"#,##0.#######") -> 0.9
G25: q | I25: = | K25: T | L25: / | M25: rt | O25: × | Q25: Lo | T25: = | V25: =TEXT(K23,"#,##0.#######") -> 15. | X25: / | Y25: =TEXT(X23,"#,##0.#######") -> 2.35 | AC25: × | AE25: =TEXT(AO23,"#,##0.#######") -> 1.5 | AI25: = | AK25: =TEXT(ROUND(K23/X23*AO23,2),"#,##0.#######") -> 9.57 | AQ25: ㎥
G27: n | I27: = | K27: q | M27: / | O27: ( | Q27: qs | T27: × | W27: K | Y27: ) | AA27: = | AC27: =TEXT(AK25,"#,##0.#######") -> 9.57 | AH27: / | AJ27: ( | AL27: =TEXT(L8,"#,##0.#######") -> 0.7 | AP27: × | AS27: =TEXT(AW8,"#,##0.#######") -> 0.55 | AX27: ) | AZ27: = | BB27: =TEXT(ROUND(AK25/(L8*AW8),2),"#,##0.#######") -> 24.86 | BI27: 회
G29: t1 | J29: = | L29: Cms | P29: × | S29: n | U29: / | W29: ( | Y29: =TEXT(60,"#,##0.#######") -> 60. | AB29: × | AE29: Es | AH29: ) | AJ29: = | AL29: =TEXT(AA10,"#,##0.#######") -> 20. | AO29: × | AR29: =TEXT(BB27,"#,##0.#######") -> 24.86 | AX29: / | AZ29: ( | BB29: =TEXT(Y29,"#,##0.#######") -> 60. | BE29: × | BH29: =TEXT(L10,"#,##0.#######") -> 0.45 | BM29: ) | BO29: = | BQ29: =TEXT(ROUND(AA10*BB27/(Y29*L10),2),"#,##0.#######") -> 18.41
N31: L | U31: L | AH31: =TEXT(K21,"#,##0.#######") -> 10. | AO31: =TEXT(K21,"#,##0.#######") -> 10.
G32: t2 | J32: = | L32: ( | M32: ─ | O32: ─ | R32: + | T32: ─ | V32: ─ | X32: ) | Y32: × | AA32: =TEXT(60,"#,##0.#######") -> 60. | AD32: = | AF32: ( | AG32: ─ | AI32: ─ | AL32: + | AN32: ─ | AP32: ─ | AR32: ) | AS32: × | AU32: =TEXT(60,"#,##0.#######") -> 60. | AX32: = | AZ32: =TEXT(ROUND(((K21)/(X21)+(K21)/(AO21))*AA32,2),"#,##0.#######") -> 37.14
N33: V1 | U33: V2 | AH33: =TEXT(X21,"#,##0.#######") -> 30. | AO33: =TEXT(AO21,"#,##0.#######") -> 35.
G35: t3 | J35: = | L35: =TEXT(0.8,"#,##0.#######") -> 0.8 | S35: t4 | V35: = | X35: =TEXT(0.42,"#,##0.#######") -> 0.42 | AF35: t5 | AI35: = | AK35: =TEXT(0.5,"#,##0.#######") -> 0.5 | AR35: t6 | AU35: = | AW35: =TEXT(1.5,"#,##0.#######") -> 1.5
G37: Cm | J37: = | L37: t1 | O37: + | Q37: t2 | T37: + | V37: t3 | Y37: + | AA37: t4 | AD37: + | AF37: t5 | AI37: + | AK37: t6 | AN37: = | AP37: =TEXT(BQ29,"#,##0.#######") -> 18.41 | AV37: + | AX37: =TEXT(AZ32,"#,##0.#######") -> 37.14 | BD37: + | BF37: =TEXT(L35,"#,##0.#######") -> 0.8 | BJ37: + | BL37: =TEXT(X35,"#,##0.#######") -> 0.42 | BQ37: + | BS37: =TEXT(AK35,"#,##0.#######") -> 0.5 | BW37: + | BY37: =TEXT(AW35,"#,##0.#######") -> 1.5 | CC37: = | CE37: =TEXT(ROUND(BQ29+AZ32+L35+X35+AK35+AW35,2),"#,##0.#######") -> 58.77
L39: =TEXT(60,"#,##0.#######") -> 60. | N39: × | P39: q | Q39: × | S39: f | T39: × | V39: E | AD39: =TEXT(L39,"#,##0.#######") -> 60. | AF39: × | AH39: =TEXT(AK25,"#,##0.#######") -> 9.57 | AL39: × | AN39: =TEXT(AH8,"#,##0.#######") -> 0.67 | AR39: × | AT39: =TEXT(AZ23,"#,##0.#######") -> 0.9
G40: Q1 | J40: = | L40: ─ | N40: ─ | P40: ─ | R40: ─ | T40: ─ | V40: ─ | X40: ─ | AB40: = | AD40: ─ | AF40: ─ | AH40: ─ | AJ40: ─ | AL40: ─ | AN40: ─ | AP40: ─ | AR40: ─ | AT40: ─ | AV40: ─ | AX40: = | AZ40: =TEXT(ROUND((60*AK25*AH8*AZ23)/(CE37),2),"#,##0.#######") -> 5.89 | BG40: ㎥ | BI40: / | BJ40: hr
Q41: Cm | AK41: =TEXT(CE37,"#,##0.#######") -> 58.77
G43: Q | I43: = | K43: Q1 | N43: × | P43: rt | S43: = | U43: =TEXT(AZ40,"#,##0.#######") -> 5.89 | Z43: × | AB43: =TEXT(X23,"#,##0.#######") -> 2.35 | AG43: = | AI43: =TEXT(ROUND(AZ40*X23,2),"#,##0.#######") -> 13.84 | AQ43: Ton | AT43: / | AU43: hr
G45: 노무비 | N45: : | P45: =TEXT(기계경비총괄표!H5,"#,##0") -> 59,020 | Y45: ÷ | AB45: =TEXT(AI43,"#,##0.#######") -> 13.84 | AJ45: = | AL45: =TEXT(TRUNC(P45/AI43,1),"#,##0.#") -> 4,264.4
G46: 재료비 | N46: : | P46: =TEXT(기계경비총괄표!G5,"#,##0") -> 30,192 | Y46: ÷ | AB46: =TEXT(AI43,"#,##0.#######") -> 13.84 | AJ46: = | AL46: =TEXT(TRUNC(P46/AI43,1),"#,##0.#") -> 2,181.5
G47: 경 | K47: 비 | N47: : | P47: =TEXT(기계경비총괄표!I5,"#,##0") -> 21,098 | Y47: ÷ | AB47: =TEXT(AI43,"#,##0.#######") -> 13.84 | AJ47: = | AL47: =TEXT(TRUNC(P47/AI43,1),"#,##0.#") -> 1,524.4
G48: 소 | K48: 계 | N48: : | AF48: =TEXT(AL45+AL46+AL47,"#,##0.#######") -> 7,970.3 | EL48: =EN48+EM48+EO48 -> 7970.3 | EM48: =TEXT(AL46,"#,###.0") -> 2,181.5 | EN48: =TEXT(AL45,"#,###.0") -> 4,264.4 | EO48: =TEXT(AL47,"#,###.0") -> 1,524.4
D50: 3. | G50: 합 | K50: 계
I52: 노무비 | P52: : | R52: =TEXT(TRUNC(EN48,0),"#,##0") -> 4,264
I53: 재료비 | P53: : | R53: =TEXT(TRUNC(EM48,0),"#,##0") -> 2,181
I54: 경 | M54: 비 | P54: : | R54: =TEXT(TRUNC(EO48,0),"#,##0") -> 1,524
K55: 계 | P55: : | S55: =TEXT(R52+R53+R54,"#,##0") -> 7,969 | EL55: =EN55+EM55+EO55 -> 7969 | EM55: =TEXT(R53,"#,##0") -> 2,181 | EN55: =TEXT(R52,"#,##0") -> 4,264 | EO55: =TEXT(R54,"#,##0") -> 1,524
B57: 2.폐기물운반(아스콘) (덤프15톤, L=12km) [Ton] | EL57: =EL108 -> 8974 | EM57: =EM108 -> 2,456 | EN57: =EN108 -> 4,802 | EO57: =EO108 -> 1,716
D59: 1. | G59: 상 | J59: 차 | M59: : | O59: 굴착기(무한궤도) | AH59: (0.7㎥)
G61: qs | J61: = | L61: =TEXT(0.7,"#,##0.#######") -> 0.7 | T61: f | V61: = | X61: =TEXT(1,"#,##0.#######") -> 1. | Z61: / | AB61: =TEXT(1.5,"#,##0.#######") -> 1.5 | AF61: = | AH61: =TEXT(ROUND(X61/AB61,2),"#,##0.#######") -> 0.67 | AS61: K | AU61: = | AW61: =TEXT(0.55,"#,##0.#######") -> 0.55
G63: Es | J63: = | L63: =TEXT(0.45,"#,##0.#######") -> 0.45 | U63: Cms | Y63: = | AA63: =TEXT(20,"#,##0.#######") -> 20. | AC63: sec | AF63: ( | AG63: 135 | AJ63: ˚ | AL63: )
L65: =TEXT(3600,"#,##0.#######") -> 3,600. | Q65: × | S65: qs | U65: × | W65: K | X65: × | Z65: f | AA65: × | AC65: Es | AK65: =TEXT(L65,"#,##0.#######") -> 3,600. | AP65: × | AR65: =TEXT(L61,"#,##0.#######") -> 0.7 | AU65: × | AW65: =TEXT(AW61,"#,##0.#######") -> 0.55 | BA65: × | BC65: =TEXT(AH61,"#,##0.#######") -> 0.67 | BG65: × | BI65: =TEXT(L63,"#,##0.#######") -> 0.45
G66: Q | I66: = | K66: ─ | M66: ─ | O66: ─ | Q66: ─ | S66: ─ | U66: ─ | W66: ─ | Y66: ─ | AA66: ─ | AC66: ─ | AE66: ─ | AH66: = | AJ66: ─ | AL66: ─ | AN66: ─ | AP66: ─ | AR66: ─ | AT66: ─ | AV66: ─ | AX66: ─ | AZ66: ─ | BB66: ─ | BD66: ─ | BF66: ─ | BH66: ─ | BJ66: ─ | BL66: ─ | BO66: = | BQ66: =TEXT(ROUND((3600*L61*AW61*AH61*L63)/(AA63),2),"#,##0.#######") -> 20.89 | BY66: ㎥ | CA66: / | CB66: hr
T67: Cms | AX67: =TEXT(AA63,"#,##0.#######") -> 20.
F69: ※ | I69: 상차비는 | R69: 깨기시 | Y69: 적용
D72: 2. | G72: 운 | J72: 반 | M72: : | O72: 덤프트럭(자동덮개) | AI72: (15Ton)
G74: L | I74: = | K74: =TEXT(12,"#,##0.#######") -> 12. | M74: km | S74: V1 | V74: = | X74: =TEXT(30,"#,##0.#######") -> 30. | Z74: km | AB74: / | AC74: hr | AJ74: V2 | AM74: = | AO74: =TEXT(35,"#,##0.#######") -> 35. | AQ74: km | AS74: / | AT74: hr
G76: T | I76: = | K76: =TEXT(15,"#,##0.#######") -> 15. | M76: ton | S76: rt | V76: = | X76: =TEXT(2.35,"#,##0.#######") -> 2.35 | AB76: ton | AE76: / | AF76: ㎥ | AJ76: Lo | AM76: = | AO76: =TEXT(1.5,"#,##0.#######") -> 1.5 | AV76: E | AX76: = | AZ76: =TEXT(0.9,"#,##0.#######") -> 0.9
G78: q | I78: = | K78: T | L78: / | M78: rt | O78: × | Q78: Lo | T78: = | V78: =TEXT(K76,"#,##0.#######") -> 15. | X78: / | Y78: =TEXT(X76,"#,##0.#######") -> 2.35 | AC78: × | AE78: =TEXT(AO76,"#,##0.#######") -> 1.5 | AI78: = | AK78: =TEXT(ROUND(K76/X76*AO76,2),"#,##0.#######") -> 9.57 | AQ78: ㎥
G80: n | I80: = | K80: q | M80: / | O80: ( | Q80: qs | T80: × | W80: K | Y80: ) | AA80: = | AC80: =TEXT(AK78,"#,##0.#######") -> 9.57 | AH80: / | AJ80: ( | AL80: =TEXT(L61,"#,##0.#######") -> 0.7 | AP80: × | AS80: =TEXT(AW61,"#,##0.#######") -> 0.55 | AX80: ) | AZ80: = | BB80: =TEXT(ROUND(AK78/(L61*AW61),2),"#,##0.#######") -> 24.86 | BI80: 회
G82: t1 | J82: = | L82: Cms | P82: × | S82: n | U82: / | W82: ( | Y82: =TEXT(60,"#,##0.#######") -> 60. | AB82: × | AE82: Es | AH82: ) | AJ82: = | AL82: =TEXT(AA63,"#,##0.#######") -> 20. | AO82: × | AR82: =TEXT(BB80,"#,##0.#######") -> 24.86 | AX82: / | AZ82: ( | BB82: =TEXT(Y82,"#,##0.#######") -> 60. | BE82: × | BH82: =TEXT(L63,"#,##0.#######") -> 0.45 | BM82: ) | BO82: = | BQ82: =TEXT(ROUND(AA63*BB80/(Y82*L63),2),"#,##0.#######") -> 18.41
N84: L | U84: L | AH84: =TEXT(K74,"#,##0.#######") -> 12. | AO84: =TEXT(K74,"#,##0.#######") -> 12.
G85: t2 | J85: = | L85: ( | M85: ─ | O85: ─ | R85: + | T85: ─ | V85: ─ | X85: ) | Y85: × | AA85: =TEXT(60,"#,##0.#######") -> 60. | AD85: = | AF85: ( | AG85: ─ | AI85: ─ | AL85: + | AN85: ─ | AP85: ─ | AR85: ) | AS85: × | AU85: =TEXT(60,"#,##0.#######") -> 60. | AX85: = | AZ85: =TEXT(ROUND(((K74)/(X74)+(K74)/(AO74))*AA85,2),"#,##0.#######") -> 44.57
N86: V1 | U86: V2 | AH86: =TEXT(X74,"#,##0.#######") -> 30. | AO86: =TEXT(AO74,"#,##0.#######") -> 35.
G88: t3 | J88: = | L88: =TEXT(0.8,"#,##0.#######") -> 0.8 | S88: t4 | V88: = | X88: =TEXT(0.42,"#,##0.#######") -> 0.42 | AF88: t5 | AI88: = | AK88: =TEXT(0.5,"#,##0.#######") -> 0.5 | AR88: t6 | AU88: = | AW88: =TEXT(1.5,"#,##0.#######") -> 1.5
G90: Cm | J90: = | L90: t1 | O90: + | Q90: t2 | T90: + | V90: t3 | Y90: + | AA90: t4 | AD90: + | AF90: t5 | AI90: + | AK90: t6 | AN90: = | AP90: =TEXT(BQ82,"#,##0.#######") -> 18.41 | AV90: + | AX90: =TEXT(AZ85,"#,##0.#######") -> 44.57 | BD90: + | BF90: =TEXT(L88,"#,##0.#######") -> 0.8 | BJ90: + | BL90: =TEXT(X88,"#,##0.#######") -> 0.42 | BQ90: + | BS90: =TEXT(AK88,"#,##0.#######") -> 0.5 | BW90: + | BY90: =TEXT(AW88,"#,##0.#######") -> 1.5 | CC90: = | CE90: =TEXT(ROUND(BQ82+AZ85+L88+X88+AK88+AW88,2),"#,##0.#######") -> 66.2
L92: =TEXT(60,"#,##0.#######") -> 60. | N92: × | P92: q | Q92: × | S92: f | T92: × | V92: E | AD92: =TEXT(L92,"#,##0.#######") -> 60. | AF92: × | AH92: =TEXT(AK78,"#,##0.#######") -> 9.57 | AL92: × | AN92: =TEXT(AH61,"#,##0.#######") -> 0.67 | AR92: × | AT92: =TEXT(AZ76,"#,##0.#######") -> 0.9
G93: Q1 | J93: = | L93: ─ | N93: ─ | P93: ─ | R93: ─ | T93: ─ | V93: ─ | X93: ─ | AB93: = | AD93: ─ | AF93: ─ | AH93: ─ | AJ93: ─ | AL93: ─ | AN93: ─ | AP93: ─ | AR93: ─ | AT93: ─ | AV93: ─ | AX93: = | AZ93: =TEXT(ROUND((60*AK78*AH61*AZ76)/(CE90),2),"#,##0.#######") -> 5.23 | BG93: ㎥ | BI93: / | BJ93: hr
Q94: Cm | AL94: =TEXT(CE90,"#,##0.#######") -> 66.2
G96: Q | I96: = | K96: Q1 | N96: × | P96: rt | S96: = | U96: =TEXT(AZ93,"#,##0.#######") -> 5.23 | Z96: × | AB96: =TEXT(X76,"#,##0.#######") -> 2.35 | AG96: = | AI96: =TEXT(ROUND(AZ93*X76,2),"#,##0.#######") -> 12.29 | AQ96: Ton | AT96: / | AU96: hr
G98: 노무비 | N98: : | P98: =TEXT(기계경비총괄표!H5,"#,##0") -> 59,020 | Y98: ÷ | AB98: =TEXT(AI96,"#,##0.#######") -> 12.29 | AJ98: = | AL98: =TEXT(TRUNC(P98/AI96,1),"#,##0.#") -> 4,802.2
G99: 재료비 | N99: : | P99: =TEXT(기계경비총괄표!G5,"#,##0") -> 30,192 | Y99: ÷ | AB99: =TEXT(AI96,"#,##0.#######") -> 12.29 | AJ99: = | AL99: =TEXT(TRUNC(P99/AI96,1),"#,##0.#") -> 2,456.6
G100: 경 | K100: 비 | N100: : | P100: =TEXT(기계경비총괄표!I5,"#,##0") -> 21,098 | Y100: ÷ | AB100: =TEXT(AI96,"#,##0.#######") -> 12.29 | AJ100: = | AL100: =TEXT(TRUNC(P100/AI96,1),"#,##0.#") -> 1,716.6
G101: 소 | K101: 계 | N101: : | AF101: =TEXT(AL98+AL99+AL100,"#,##0.#######") -> 8,975.4 | EL101: =EN101+EM101+EO101 -> 8975.4 | EM101: =TEXT(AL99,"#,###.0") -> 2,456.6 | EN101: =TEXT(AL98,"#,###.0") -> 4,802.2 | EO101: =TEXT(AL100,"#,###.0") -> 1,716.6
D103: 3. | G103: 합 | K103: 계
I105: 노무비 | P105: : | R105: =TEXT(TRUNC(EN101,0),"#,##0") -> 4,802
I106: 재료비 | P106: : | R106: =TEXT(TRUNC(EM101,0),"#,##0") -> 2,456
I107: 경 | M107: 비 | P107: : | R107: =TEXT(TRUNC(EO101,0),"#,##0") -> 1,716
K108: 계 | P108: : | S108: =TEXT(R105+R106+R107,"#,##0") -> 8,974 | EL108: =EN108+EM108+EO108 -> 8974 | EM108: =TEXT(R106,"#,##0") -> 2,456 | EN108: =TEXT(R105,"#,##0") -> 4,802 | EO108: =TEXT(R107,"#,##0") -> 1,716

Sheet 기계경비총괄표
B1: 기계경비총괄표
B3: No | C3: 품 명 | D3: 규 격 | E3: 단위 | F3: 합 계 | G3: 재료비 | H3: 노무비 | I3: 경 비 | Z3: 당초합계 | AA3: 당초노무비 | AB3: 당초재료비 | AC3: 당초경비
B4: 1 | C4: 굴착기(무한궤도) | D4: 0.7㎥ | E4: hr | F4: =TEXT(H4+G4+I4,"#,##0") -> 103,047 | G4: =기계경비!AA4 -> 19473 | H4: =기계경비!AB4 -> 59020 | I4: =기계경비!AC4 -> 24554 | Z4: 103047 | AA4: 59020 | AB4: 19473 | AC4: 24554
B5: 2 | C5: 덤프트럭(자동덮개) | D5: 15Ton | E5: hr | F5: =TEXT(H5+G5+I5,"#,##0") -> 110,310 | G5: =기계경비!AA10 -> 30192 | H5: =기계경비!AB10 -> 59020 | I5: =기계경비!AC10 -> 21098 | Z5: 110310 | AA5: 59020 | AB5: 30192 | AC5: 21098

Sheet 기계경비
B1: 기계경비
B3: 명 칭 | C3: 규 격 | D3: 산 출 근 거 | Z3: 합 계 | AA3: 재료비 | AB3: 노무비 | AC3: 경 비 | AD3: 비 고
B4: 1. 굴착기(무한궤도) | C4: 0.7㎥ | Z4: =TEXT(AB4+AA4+AC4,"#,##0") -> 103,047 | AA4: =TRUNC(AA5+AA6+AA7+AA8) -> 19473 | AB4: =TRUNC(AB5+AB6+AB7+AB8) -> 59020 | AC4: =TRUNC(AC5+AC6+AC7+AC8) -> 24554
B5: 손 료 | D5: 117766000 | I5: ￦× | K5: 2085 | N5: × | O5: 10(-7) | AC5: =TRUNC(D5*K5*0.0000001,1) -> 24554.2 | AD5: '26年 개정
B6: 주연료 | C6: 경유 | D6: 11.6 | H6: ℓ | I6: × | J6: =자재단가!R5 -> 1376 | AA6: =TRUNC(D6*J6,1) -> 15961.6
B7: 잡 품 | C7: 주연료의 | D7: 22 | H7: % | I7: × | J7: =AA6 -> 15961.6 | AA7: =TRUNC(D7/100*J7,1) -> 3511.5
B8: 건설기계운전사 | D8: 1 | G8: 인 | H8: × | I8: =노임단가!L4 -> 283297 | M8: × | N8: 1/8*16/12*25/20 | AB8: =TRUNC(D8*I8*기계경비적용기준!E18,1) -> 59020.2
B10: 2. 덤프트럭(자동덮개) | C10: 15Ton | Z10: =TEXT(AB10+AA10+AC10,"#,##0") -> 110,310 | AA10: =TRUNC(AA11+AA12+AA13+AA14+AA15) -> 30192 | AB10: =TRUNC(AB11+AB12+AB13+AB14+AB15) -> 59020 | AC10: =TRUNC(AC11+AC12+AC13+AC14+AC15) -> 21098
B11: 손 료 | D11: 90653000 | I11: ￦× | K11: 2279 | N11: × | O11: 10(-7) | AC11: =TRUNC(D11*K11*0.0000001,1) -> 20659.8 | AD11: '26年 개정
B12: 덮개손료 | D12: 1634000 | I12: ￦× | K12: 2684 | N12: × | O12: 10(-7) | AC12: =TRUNC(D12*K12*0.0000001,1) -> 438.5 | AD12: '26年 개정
B13: 주연료 | C13: 경유 | D13: 15.9 | H13: ℓ | I13: × | J13: =자재단가!R5 -> 1376 | AA13: =TRUNC(D13*J13,1) -> 21878.4
B14: 잡 품 | C14: 주연료의 | D14: 38 | H14: % | I14: × | J14: =AA13 -> 21878.4 | AA14: =TRUNC(D14/100*J14,1) -> 8313.7
B15: 건설기계운전사 | D15: 1 | G15: 인 | H15: × | I15: =노임단가!L4 -> 283297 | M15: × | N15: 1/8*16/12*25/20 | AB15: =TRUNC(D15*I15*기계경비적용기준!E18,1) -> 59020.2

Sheet 기계경비적용기준
B1: 기계경비적용기준
C4: 환 율 (/￦) | G4: 기본재료비
C6: 화 폐 | D6: 환 율 | E6: 비 고 | G6: No | H6: 품 명 | I6: 규 격 | J6: 단위 | K6: 단 가
C7: 달러($) | D7: 1289 | E7: 2024.1.3 조달청 | G7: 1 | H7: 경 유 | J7: ℓ | K7: =자재단가!R5 -> 1376
C8: 엔(100￥) | D8: 930 | E8: 2024.1.3 조달청
C9: 유로(E) | D9: 1423.63 | E9: 2024.1.2. 매매기준율
C10: 마르크(M)
C11: 파운드(L) | D11: 1641.92 | E11: 2024.1.2. 매매기준율
G15: 계산결과값 자리수
C17: No | D17: 노임계수 | E17: 계산값
C18: 1 | D18: 1/8*16/12*25/20 | E18: =1/8*16/12*25/20 -> 0.20833333
C19: 2 | D19: 1/8*16/12*25/20*24/15 | E19: =1/8*16/12*25/20*24/15 -> 0.33333333 | G19: 경 비 소수 1 미만 절하
C20: 3 | D20: 1/8*16/12*25/20*12/10 | E20: =1/8*16/12*25/20*12/10 -> 0.25
C21: 4 | D21: 1/8*16/12*25/20*14/12 | E21: =1/8*16/12*25/20*14/12 -> 0.24305556 | G21: 재료비 소수 1 미만 절하
C22: 5 | D22: 1/8*16/12*25/20*24/5 | E22: =1/8*16/12*25/20*24/5 -> 1
G23: 노무비 소수 1 미만 절하

Sheet 자재단가
B1: 자재단가
B3: No | C3: 품 명 | D3: 규 격 | E3: 단위 | F3: 가격정보 | H3: 물가자료 | J3: 유통물가 | L3: 물가정보 | N3: 거래가격 | P3: 견적가1 | R3: 적용단가 | S3: 비 고 | T3: 구분 | U3: 적용방법 | V3: 적용일자 | Z3: 당초합계 | AA3: 당초노무비 | AB3: 당초재료비 | AC3: 당초경비
F4: 단 가 | G4: page | H4: 단 가 | I4: page | J4: 단 가 | K4: page | L4: 단 가 | M4: page | N4: 단 가 | O4: page | P4: 단 가 | Q4: page
B5: 1 | C5: 경 유 | E5: ℓ | F5: 1376 | G5: 26.1.6 | R5: =MIN(F5,H5,J5,L5,N5,P5) -> 1376 | S5: 조달청 | T5: 일반 | U5: 최저단가 | V5: 2026-01-06 | Z5: 1376
B6: 2 | C6: 폐기물처리비 | D6: 폐아스콘 | E6: Ton | P6: 20000 | R6: =MIN(F6,H6,J6,L6,N6,P6) -> 20000 | S6: VAT별도(경비) | T6: 일반 | U6: 최저단가 | V6: 2025-07-01 | Z6: 20000

Sheet 노임단가
B1: 노임단가
B3: No | C3: 품 명 | D3: 규 격 | E3: 단위 | F3: 단가1 | G3: 단가2 | H3: 단가3 | I3: 단가4 | J3: 단가5 | K3: 단가6 | L3: 적용단가 | M3: 비 고 | N3: 적용방법 | O3: 적용일자 | Z3: 당초합계 | AA3: 당초노무비 | AB3: 당초재료비 | AC3: 당초경비
B4: 1 | C4: 건설기계운전사 | E4: 인 | F4: 283297 | L4: 283297 | M4: 2026년(상) | N4: 최저단가 | O4: 2026-01-01 | Z4: 283297
