Workbook

Sheet 표지
F7: 2026년도
H15: 하반기 | Y15: 남구 | AK15: 노후차선 | BG15: 정비공사 | CC15: 단가계약 | CZ15: 2차
AU31: 포항시 | BC31: 건설교통사업소

Sheet 갑지
BS3: 담 | CI3: 팀 | CY3: 과
C5: 2026년 09월 일 설계 | BS5: 당
BS7: 자 | CI7: 장 | CY7: 장
F10: 2026년도
CM12: 포항시 | CU12: 남구 | CZ12: 일원
M16: 하반기 | AD16: 남구 | AO16: 노후차선 | BK16: 정비공사 | CF16: 단가계약 | DB16: 2차
F20: 공사개요 | O20: : | Q20: 노후차선정비 | AA20: A=2,020㎡
F24: 공사금액 | O24: : | Q24: 총공사비: | Z24: 금 | AC24: 구천구백만원 | AP24: (:￦99,000,000)
Q25: 도급액 | X25: : | Z25: 금 | AC25: 구천구백만원 | AP25: (:￦99,000,000)
AX30: 포항시 | BG30: 건설교통사업소

Sheet 원가계산서
B1: 원가계산서
B3: 비 목 | E3: 구분 | F3: 금 액 | G3: 요율 | H3: 산 출 근 거
C4: 재 | D4: 직 접 재 료 비 | E4: 1
C5: 료 | D5: 간 접 재 료 비 | E5: 2
C6: 비 | D6: 작업설.부산물등(△) | E6: 3
D7: 소 계 | E7: A | H7: (1 + 2 + 3 )
C8: 노 | D8: 직 접 노 무 비 | E8: 4
B9: 순 | C9: 무 | D9: 간 접 노 무 비 | E9: 5 | G9: 19.1% | H9: 4 × 0.191
C10: 비 | D10: 소 계 | E10: B | H10: ( 4 + 5 )
B11: 공 | D11: 산 출 경 비 | E11: 6
D12: 산 재 보 험 료 | E12: 7 | G12: 3.56% | H12: B × 0.0356
B13: 사 | D13: 고 용 보 험 료 | E13: 8 | G13: 1.01% | H13: B × 0.0101
C14: 경 | D14: 건 강 보 험 료 | E14: 9 | G14: 3.595% | H14: 4 × 0.03595
B15: 원 | D15: 연 금 보 험 료 | E15: 10 | G15: 4.75% | H15: 4 × 0.0475
D16: 노인장기요양 보 험 료 | E16: 11 | G16: 13.14% | H16: 9 × 0.1314
B17: 가 | D17: 퇴 직 공 제 부 금 비 | E17: 12
D18: 건설기계대여금지급보증서발급액 | E18: 13 | G18: 0.16% | H18: (A + 4 + 6) × 0.0016
D19: 산 업 안 전 보건관리비 | E19: 14 | G19: 3.15% | H19: (A + 4 + J/1.1) × 0.0315
D20: 환 경 보 전 비 | E20: 15 | G20: 0.8% | H20: (A + 4 + 6) ×0.008
D21: 공 사 이 행 보증수수료 | E21: 16
C22: 비 | D22: 하도급대금지급보증수수료 | E22: 17 | G22: 0% | H22: (A + 4 + 6) ×0.0
D23: 석 면 분 담 금 | E23: 18 | G23: 0.006% | H23: B × 0.00006
D24: 임 금 채 권 부 담 금 | E24: 19 | G24: 0.09% | H24: B × 0.0009
D25: 기 타 경 비 | E25: 20 | G25: 5.5% | H25: (A + B) × 0.055
D26: 소 계 | E26: C | H26: (6:20)
D27: 순 공 사 원 가 | E27: D | H27: (A + B + C)
D28: 일 반 관 리 비 | E28: E | G28: 8% | H28: D × 0.08
D29: 이 윤 | E29: F | G29: 11.7% | H29: (B + C + E) ×0.117
D30: 총 원 가 | E30: G | H30: (D + E + F)
D31: 부 가 가 치 세 | E31: H | G31: 10% | H31: G × 0.1
D32: 도 급 액 | E32: I | H32: (G + H)
D33: 관 급 자 재 대 | E33: J
D34: 폐 기 물 처 리 비 | E34: K
D35: 총 공 사 비 | E35: L | H35: (I + J + K)

Sheet 내역서총괄표
B1: 내역서총괄표
B3: 공종 | C3: 품 명 | D3: 규 격 | E3: 수 량 | F3: 단위 | G3: 합 계 | H3: 노무비 | I3: 재료비 | J3: 경 비 | K3: 비 고
B4: 1. | C4: 차선도색
C5: 순 공 사 비
C6: 간접노무비 | E6: 19.1 | F6: %
C7: 산재보험료 | E7: 3.56 | F7: %
C8: 고용보험료 | E8: 1.01 | F8: %
C9: 건강보험료 | E9: 3.595 | F9: %
C10: 연금보험료 | E10: 4.75 | F10: %
C11: 노인장기요양보험료 | E11: 13.14 | F11: %
C12: 건설기계대여금지급보증서발급액 | E12: 0.16 | F12: %
C13: 산업안전보건관리비 | E13: 3.15 | F13: %
C14: 환경보전비 | E14: 0.8 | F14: %
C15: 하도급대금지급보증수수료 | F15: %
C16: 석면분담금 | E16: 0.006 | F16: %
C17: 임금채권부담금 | E17: 0.09 | F17: %
C18: 기타경비 | E18: 5.5 | F18: %
C19: 순공사원가
C20: 일반관리비 | E20: 8 | F20: %
C21: 이윤 | E21: 11.7 | F21: %
C22: 총원가
C23: 부가가치세 | E23: 10 | F23: %
C24: 도급액
C25: 총공사비

Sheet 내역서
B1: 내역서
B3: 공종 | C3: 품 명 | D3: 규 격 | E3: 수 량 | F3: 단위 | G3: 합 계 | I3: 노무비 | K3: 재료비 | M3: 경 비 | O3: 비 고
G4: 단 가 | H4: 금 액 | I4: 단 가 | J4: 금 액 | K4: 단 가 | L4: 금 액 | M4: 단 가 | N4: 금 액
B5: 1. | C5: 차선도색
C6: 차선도색(융착식,일반형)-운행도로,차량부분통제 | D6: 수동식,황색실선 | E6: 300 | F6: ㎡
C7: 차선도색(융착식,일반형)-운행도로,차량부분통제 | D7: 수동식,황색파선 | E7: 300 | F7: ㎡
C8: 차선도색(융착식,일반형)-운행도로,차량부분통제 | D8: 수동식,백색실선 | E8: 300 | F8: ㎡
C9: 차선도색(융착식,일반형)-운행도로,차량부분통제 | D9: 수동식,백색파선 | E9: 300 | F9: ㎡
C10: 차선도색(융착식,일반형)-운행도로,차량부분통제 | D10: 수동식,횡단보도.주차장 | E10: 300 | F10: ㎡
C11: 차선도색(융착식,일반형)-운행도로,차량부분통제 | D11: 수동식,문자.기호 | E11: 200 | F11: ㎡
C12: 차선도색제거 | E12: 100 | F12: ㎡
C13: 차선도색(수용성,일반형)-운행도로,차량부분통제 | D13: 수동식,황색실선 | E13: 30 | F13: ㎡
C14: 차선도색(수용성,일반형)-운행도로,차량부분통제 | D14: 수동식,황색파선 | E14: 30 | F14: ㎡
C15: 차선도색(수용성,일반형)-운행도로,차량부분통제 | D15: 수동식,백색실선 | E15: 30 | F15: ㎡
C16: 차선도색(수용성,일반형)-운행도로,차량부분통제 | D16: 수동식,백색파선 | E16: 30 | F16: ㎡
C17: 차선도색(수용성,일반형)-운행도로,차량부분통제 | D17: 수동식,횡단보도,주차장 | E17: 50 | F17: ㎡
C18: 차선도색(수용성,일반형)-운행도로,차량부분통제 | D18: 수동식-문자,기호 | E18: 50 | F18: ㎡
C20: 순 공 사 비
C21: 간접노무비 | E21: 19.1 | F21: %
C22: 산재보험료 | E22: 3.56 | F22: %
C23: 고용보험료 | E23: 1.01 | F23: %
C24: 건강보험료 | E24: 3.595 | F24: %
C25: 연금보험료 | E25: 4.75 | F25: %
C26: 노인장기요양보험료 | E26: 13.14 | F26: %
C27: 건설기계대여금지급보증서발급액 | E27: 0.16 | F27: %
C28: 산업안전보건관리비 | E28: 3.15 | F28: %
C29: 환경보전비 | E29: 0.8 | F29: %
C30: 하도급대금지급보증수수료 | F30: %
C31: 석면분담금 | E31: 0.006 | F31: %
C32: 임금채권부담금 | E32: 0.09 | F32: %
C33: 기타경비 | E33: 5.5 | F33: %
C34: 순공사원가
C35: 일반관리비 | E35: 8 | F35: %
C36: 이윤 | E36: 11.7 | F36: %
C37: 총원가
C38: 부가가치세 | E38: 10 | F38: %
C39: 도급액
C40: 총공사비

Sheet 단가산출총괄표
B1: 단가산출총괄표
B3: No | C3: 품 명 | D3: 규 격 | E3: 단위 | F3: 합 계 | G3: 노무비 | H3: 재료비 | I3: 경 비 | J3: 비 고 | Z3: 당초합계 | AA3: 당초노무비 | AB3: 당초재료비 | AC3: 당초경비
B4: 1 | C4: 차선도색(융착식,일반형)-운행도로,차량부분통제 | D4: 수동식,황색실선 | E4: ㎡ | F4: 31507 | G4: =단가산출!D4 -> 3105 | H4: =단가산출!E4 -> 28034 | I4: =단가산출!F4 -> 368 | Z4: 31507 | AA4: 3105 | AB4: 28034 | AC4: 368
B5: 2 | C5: 차선도색(융착식,일반형)-운행도로,차량부분통제 | D5: 수동식,황색파선 | E5: ㎡ | F5: 35214 | G5: =단가산출!D71 -> 6210 | H5: =단가산출!E71 -> 28268 | I5: =단가산출!F71 -> 736 | Z5: 35214 | AA5: 6210 | AB5: 28268 | AC5: 736
B6: 3 | C6: 차선도색(융착식,일반형)-운행도로,차량부분통제 | D6: 수동식,백색실선 | E6: ㎡ | F6: 31507 | G6: =단가산출!D138 -> 3105 | H6: =단가산출!E138 -> 28034 | I6: =단가산출!F138 -> 368 | Z6: 31507 | AA6: 3105 | AB6: 28034 | AC6: 368
B7: 4 | C7: 차선도색(융착식,일반형)-운행도로,차량부분통제 | D7: 수동식,백색파선 | E7: ㎡ | F7: 35214 | G7: =단가산출!D205 -> 6210 | H7: =단가산출!E205 -> 28268 | I7: =단가산출!F205 -> 736 | Z7: 35214 | AA7: 6210 | AB7: 28268 | AC7: 736
B8: 5 | C8: 차선도색(융착식,일반형)-운행도로,차량부분통제 | D8: 수동식,횡단보도.주차장 | E8: ㎡ | F8: 37556 | G8: =단가산출!D272 -> 8171 | H8: =단가산출!E272 -> 28416 | I8: =단가산출!F272 -> 969 | Z8: 37556 | AA8: 8171 | AB8: 28416 | AC8: 969
B9: 6 | C9: 차선도색(융착식,일반형)-운행도로,차량부분통제 | D9: 수동식,문자.기호 | E9: ㎡ | F9: 48398 | G9: =단가산출!D340 -> 17251 | H9: =단가산출!E340 -> 29100 | I9: =단가산출!F340 -> 2047 | Z9: 48398 | AA9: 17251 | AB9: 29100 | AC9: 2047
B10: 7 | C10: 차선도색(수용성,일반형)-운행도로,차량부분통제 | D10: 수동식,백색실선 | E10: ㎡ | F10: 7493 | G10: =단가산출!D408 -> 1937 | H10: =단가산출!E408 -> 5460 | I10: =단가산출!F408 -> 96 | Z10: 7493 | AA10: 1937 | AB10: 5460 | AC10: 96
B11: 8 | C11: 차선도색(수용성,일반형)-운행도로,차량부분통제 | D11: 수동식,황색실선 | E11: ㎡ | F11: 7854 | G11: =단가산출!D455 -> 1937 | H11: =단가산출!E455 -> 5821 | I11: =단가산출!F455 -> 96 | Z11: 7854 | AA11: 1937 | AB11: 5821 | AC11: 96
B12: 9 | C12: 차선도색(수용성,일반형)-운행도로,차량부분통제 | D12: 수동식,백색파선 | E12: ㎡ | F12: 9689 | G12: =단가산출!D502 -> 3875 | H12: =단가산출!E502 -> 5622 | I12: =단가산출!F502 -> 192 | Z12: 9689 | AA12: 3875 | AB12: 5622 | AC12: 192
B13: 10 | C13: 차선도색(수용성,일반형)-운행도로,차량부분통제 | D13: 수동식,황색파선 | E13: ㎡ | F13: 10050 | G13: =단가산출!D549 -> 3875 | H13: =단가산출!E549 -> 5983 | I13: =단가산출!F549 -> 192 | Z13: 10050 | AA13: 3875 | AB13: 5983 | AC13: 192
B14: 11 | C14: 차선도색(수용성,일반형)-운행도로,차량부분통제 | D14: 수동식,횡단보도,주차장 | E14: ㎡ | F14: 11075 | G14: =단가산출!D596 -> 5099 | H14: =단가산출!E596 -> 5724 | I14: =단가산출!F596 -> 252 | Z14: 11075 | AA14: 5099 | AB14: 5724 | AC14: 252
B15: 12 | C15: 차선도색(수용성,일반형)-운행도로,차량부분통제 | D15: 수동식-문자,기호 | E15: ㎡ | F15: 17496 | G15: =단가산출!D644 -> 10765 | H15: =단가산출!E644 -> 6198 | I15: =단가산출!F644 -> 533 | Z15: 17496 | AA15: 10765 | AB15: 6198 | AC15: 533
B16: 13 | C16: 차선도색제거 | E16: ㎡ | F16: 40591 | G16: =단가산출!D692 -> 34887 | H16: =단가산출!E692 -> 3481 | I16: =단가산출!F692 -> 2223 | Z16: 40591 | AA16: 34887 | AB16: 3481 | AC16: 2223

Sheet 단가산출
B1: 단가산출
B3: 산 출 근 거 | C3: 합 계 | D3: 노무비 | E3: 재료비 | F3: 경 비
B4: 1.차선도색(융착식,일반형)-운행도로,차량부분통제(수동식,황색실선) [㎡] | C4: 31507 | D4: 3105 | E4: 28034 | F4: 368
B6: ※ 2020年 개정품셈 : 토목 1-11-8 차선도색(유지보수)
B7: (본품은 운행도로 또는 확장공사등의 노면표시 공사에서 차량 부분통제시 적용한다.)
B9: 실선 일당시공량 : Qd = 500㎡/일
B11: 1. 재료비 < 유리알 살포량은 '교통노면표시 설치관리매뉴얼(경찰청)' 기준 >
B13: 도로표지용페인트(융착식)(KSM-6080(황색,P7,R4) 4,900 × 4.53kg = 22,197
B15: 유리알 (2호,고굴절(1.7) 13,000 × 0.31kg = 4,030
B17: 융착식프라이머 (도로용접착제) 4,500 × 0.20kg = 900
B19: 프로판가스(일반용) 1,990 × 0.20kg = 398
B21: 자재소계 : 27,525 | C21: 27525 | E21: 27525
B23: 2. 인건비
B25: 특별인부 : 219,321 × 2인 ÷ Qd = 219,321 × 2 ÷ 500 = 877.2
B27: 보통인부 : 167,081 × 2인 ÷ Qd = 167,081 × 2 ÷ 500 = 668.3
B29: 인부소계 : 1,545.5 | C29: 1545.5 | D29: 1545.5
B31: 3. 잡재료비(주재료비의 1%)
B33: 27,525 × 1% = 275.2 | C33: 275.2 | E33: 275.2
B35: 4. 공구손료 및 경장비(라인마커,용해기)의 기계경비-(인력품의 10%)
B37: 1,545.5 × 10% = 154.5 | C37: 154.5 | F37: 154.5
B39: 5. 기계경비
B41: 가. 덤프트럭 (4.5Ton) : 용해기 운반
B43: Q = Qd ÷ 8hr = 500 ÷ 8 = 62.5㎡/hr
B45: 노무비 : 48,741 ÷ 62.5 = 779.8
B46: 재료비 : 9,259 ÷ 62.5 = 148.1
B47: 경 비 : 7,202 ÷ 62.5 = 115.2
B48: 소 계 : 1,043.1 | C48: 1043.1 | D48: 779.8 | E48: 148.1 | F48: 115.2
B50: 나. 덤프트럭 (2.5Ton) : 자재,공구및 경장비 운반
B52: 노무비 : 48,741 ÷ 62.5 = 779.8
B53: 재료비 : 5,370 ÷ 62.5 = 85.9
B54: 경 비 : 6,169 ÷ 62.5 = 98.7
B55: 소 계 : 964.4 | C55: 964.4 | D55: 779.8 | E55: 85.9 | F55: 98.7
B57: 다. 소 계
B59: 노무비 : 779.8 + 779.8 = 1,559.6
B60: 재료비 : 148.1 + 85.9 = 234
B61: 경 비 : 115.2 + 98.7 = 213.9
B62: 계 : 2,007.5 | C62: 2007.5 | D62: 1559.6 | E62: 234 | F62: 213.9
B64: 6. 합 계
B66: 노무비 : 1,545.5 + 1,559.6 = 3,105
B67: 재료비 : 27,525 + 275.2 + 234 = 28,034
...

Sheet 기계경비총괄표
B1: 기계경비총괄표
B3: No | C3: 품 명 | D3: 규 격 | E3: 단위 | F3: 합 계 | G3: 노무비 | H3: 재료비 | I3: 경 비 | Z3: 당초합계 | AA3: 당초노무비 | AB3: 당초재료비 | AC3: 당초경비
B4: 1 | C4: 덤프트럭 | D4: 4.5Ton | E4: hr | F4: 65202 | G4: =기계경비!AA4 -> 48741 | H4: =기계경비!AB4 -> 9259 | I4: =기계경비!AC4 -> 7202 | Z4: 65202 | AA4: 48741 | AB4: 9259 | AC4: 7202
B5: 2 | C5: 덤프트럭 | D5: 2.5Ton | E5: hr | F5: 60280 | G5: =기계경비!AA10 -> 48741 | H5: =기계경비!AB10 -> 5370 | I5: =기계경비!AC10 -> 6169 | Z5: 60280 | AA5: 48741 | AB5: 5370 | AC5: 6169
B6: 3 | C6: 차선제거기 | D6: 6.71kW | E6: hr | F6: 48251 | G6: =기계경비!AA16 -> 34803 | H6: =기계경비!AB16 -> 9880 | I6: =기계경비!AC16 -> 3568 | Z6: 48251 | AA6: 34803 | AB6: 9880 | AC6: 3568

Sheet 기계경비
B1: 기계경비
B3: 명 칭 | C3: 규 격 | D3: 산 출 근 거 | Z3: 합 계 | AA3: 노무비 | AB3: 재료비 | AC3: 경 비 | AD3: 비 고
B4: 1. 덤프트럭 | C4: 4.5Ton | Z4: =AA4+AB4+AC4 -> 65202 | AA4: 48741 | AB4: 9259 | AC4: 7202
B5: 손 료 | D5: 24274000 | I5: ￦× | K5: 2967 | N5: × | O5: 10(-7) | AC5: 7202 | AD5: '24年 개정
B6: 주연료 | C6: 경 유 | D6: 5 | H6: ℓ | I6: × | J6: 1342 | AB6: 6710
B7: 잡 품 | C7: 주연료의 | D7: 38 | H7: % | I7: × | J7: 6710 | AB7: 2549.8
B8: 화물차운전사 | D8: 1 | G8: 인 | H8: × | I8: 233960 | M8: × | N8: 1/8*16/12*25/20 | AA8: 48741.6
B10: 2. 덤프트럭 | C10: 2.5Ton | Z10: =AA10+AB10+AC10 -> 60280 | AA10: 48741 | AB10: 5370 | AC10: 6169
B11: 손 료 | D11: 20793000 | I11: ￦× | K11: 2967 | N11: × | O11: 10(-7) | AC11: 6169.2 | AD11: '24年 개정
B12: 주연료 | C12: 경 유 | D12: 2.9 | H12: ℓ | I12: × | J12: 1342 | AB12: 3891.8
B13: 잡 품 | C13: 주연료의 | D13: 38 | H13: % | I13: × | J13: 3891.8 | AB13: 1478.8
B14: 화물차운전사 | D14: 1 | G14: 인 | H14: × | I14: 233960 | M14: × | N14: 1/8*16/12*25/20 | AA14: 48741.6
B16: 3. 차선제거기 | C16: 6.71kW | Z16: =AA16+AB16+AC16 -> 48251 | AA16: 34803 | AB16: 9880 | AC16: 3568
B17: 손 료 | D17: 12749000 | I17: ￦× | K17: 2799 | N17: × | O17: 10(-7) | AC17: 3568.4 | AD17: '24年 개정
B18: 주연료 | C18: 휘발유 | D18: 5.53 | H18: ℓ | I18: × | J18: 1489 | AB18: 8234.1
B19: 잡 품 | C19: 주연료의 | D19: 20 | H19: % | I19: × | J19: 8234.1 | AB19: 1646.8
B20: 일반기계운전사 | D20: 1 | G20: 인 | H20: × | I20: 167059 | M20: × | N20: 1/8*16/12*25/20 | AA20: 34803.9

Sheet 기계경비적용기준
B1: 기계경비적용기준
C4: 환 율 (/￦) | G4: 기본재료비
C6: 화 폐 | D6: 환 율 | E6: 비 고 | G6: No | H6: 품 명 | I6: 규 격 | J6: 단위 | K6: 단 가
C7: 달러($) | D7: 1395.1 | E7: 2024.12.2. 매매기준율 | G7: 4 | H7: 경 유 | J7: ℓ | K7: 1342
C8: 엔(100￥) | D8: 931.46 | E8: 2024.12.2. 매매기준율 | G8: 6 | H8: 휘 발 유 | J8: ℓ | K8: 1489
C9: 유로(E) | D9: 1471.9 | E9: 2024.12.2. 매매기준율
C10: 마르크(M)
C11: 파운드(L) | D11: 1773.1 | E11: 2024.12.2. 매매기준율
C18: 노임계수 | G18: 계산결과값 자리수
C20: No | D20: 노임계수 | E20: 계산값
C21: 1 | D21: 1/8*16/12*25/20 | E21: =1/8*16/12*25/20 -> 0.20833333
C22: 2 | D22: 1/8*16/12*25/20*24/15 | E22: =1/8*16/12*25/20*24/15 -> 0.33333333 | G22: 경 비 소수 1 미만 절하
C23: 3 | D23: 1/8*16/12*25/20*12/10 | E23: =1/8*16/12*25/20*12/10 -> 0.25
C24: 4 | D24: 1/8*16/12*25/20*14/12 | E24: =1/8*16/12*25/20*14/12 -> 0.24305556 | G24: 재료비 소수 1 미만 절하
C25: 5 | D25: 1/8*16/12*25/20*24/5 | E25: =1/8*16/12*25/20*24/5 -> 1
G26: 노무비 소수 1 미만 절하

Sheet 자재단가
B1: 자재단가
B3: No | C3: 품 명 | D3: 규 격 | E3: 단위 | F3: 가격정보 | H3: 물가자료 | J3: 유통물가 | L3: 물가정보 | N3: 거래가격 | P3: 견적가1 | R3: 적용단가 | S3: 비 고 | Z3: 당초합계 | AA3: 당초노무비 | AB3: 당초재료비 | AC3: 당초경비
F4: 단 가 | G4: page | H4: 단 가 | I4: page | J4: 단 가 | K4: page | L4: 단 가 | M4: page | N4: 단 가 | O4: page | P4: 단 가 | Q4: page
B5: 1 | C5: 유리알 | D5: 1호,고휘도 | E5: kg | H5: 5000 | I5: 166(24.12) | J5: 5000 | K5: 228(24.12) | L5: 5000 | M5: 230(24.12) | N5: 5000 | O5: 244(24.12) | R5: 5000 | Z5: 5000
B6: 2 | C6: 융착식 프라이머 | D6: 도로용 접착제 | E6: ℓ | H6: 4500 | I6: 597(24.12) | J6: 4500 | K6: 471(24.12) | L6: 4500 | M6: 230(24.12) | N6: 4550 | O6: 244(24.12) | R6: 4500 | Z6: 4500
B7: 3 | C7: 프로판가스 | D7: 일반용 | E7: kg | H7: 2251 | I7: 하32(24.12) | J7: 2249 | K7: 1189(24.12) | L7: 2351.2 | M7: 1430(24.12) | N7: 1990 | O7: 1451(24.12) | R7: 1990 | Z7: 1990
B8: 4 | C8: 경 유 | E8: ℓ | F8: 1342 | G8: 2024.12 | R8: 1342 | S8: 석유공사 | Z8: 1342
B9: 5 | C9: 도로표지용페인트(수용성) | D9: KSM-6080(백색,R5) | E9: ℓ | H9: 9244 | I9: 597(24.12) | J9: 9244 | K9: 471(24.12) | L9: 8900 | M9: 230(24.12) | N9: 8800 | O9: 244(24.12) | R9: 8800 | Z9: 8800
B10: 6 | C10: 휘 발 유 | E10: ℓ | F10: 1489 | G10: 2024.12 | R10: 1489 | S10: 석유공사 | Z10: 1489
B11: 7 | C11: 도로표지용페인트(수용성) | D11: KSM-6080(황색,R4) | E11: ℓ | H11: 10033 | I11: 597(24.12) | J11: 10033 | K11: 471(24.12) | L11: 9700 | M11: 230(24.12) | N11: 9650 | O11: 244(24.12) | R11: 9650 | Z11: 9650
B12: 8 | C12: 도로표지용페인트(융착식) | D12: KSM-6080(백색,P7,R5) | E12: kg | L12: 4900 | M12: 231(24.7) | R12: 4900 | Z12: 4900
B13: 9 | C13: 도로표지용페인트(융착식) | D13: KSM-6080(황색,P7,R4) | E13: kg | L13: 4900 | M13: 231(24.7) | R13: 4900 | Z13: 4900
B14: 10 | C14: 유리알 | D14: 2호,고굴절(1.7) | E14: kg | L14: 13000 | M14: 231(24.7) | R14: 13000 | Z14: 13000
B15: 11
B16: 12
B17: 13
B18: 14
B19: 15
B20: 16
B21: 17
B22: 18
B23: 19
B24: 20
B25: 21
B26: 22
... B34: 30

Sheet 노임단가
B1: 노임단가
B3: No | C3: 품 명 | D3: 규 격 | E3: 단위 | F3: 적용단가 | G3: 비 고 | Z3: 당초합계 | AA3: 당초노무비 | AB3: 당초재료비 | AC3: 당초경비
B4: 1 | C4: 특별인부 | E4: 인 | F4: 219321 | G4: 2024년(하) | Z4: 219321
B5: 2 | C5: 보통인부 | E5: 인 | F5: 167081 | G5: 2024년(하) | Z5: 167081
B6: 3 | C6: 화물차운전사 | E6: 인 | F6: 233960 | G6: 2024년(하) | Z6: 233960
B7: 4 | C7: 일반기계운전사 | E7: 인 | F7: 167059 | G7: 2024년(하) | Z7: 167059
B8: 5
B9: 6
B10: 7
B11: 8
B12: 9
B13: 10
B14: 11
B15: 12
B16: 13
B17: 14
B18: 15
B19: 16
... B33: 30
