Workbook
Name _1: '[1]2000시행총괄'!#REF!
Name _1: '[1]2000시행총괄'!#REF!
Name _12: #REF!
Name _13: [1]청하배수!#REF!
Name _13: [1]청하배수!#REF!
Name _A: #REF!
Name _A: #REF!
Name _lkm12435: #N/A
Name _NO81: [2]단가!$A$3:$H$65536
Name _NO81: [2]단가!$A$3:$H$65536
Name ¸Þ´º: #N/A
Name \0: #REF!
Name \a: #REF!
Name \a: #N/A
Name \b: #REF!
Name \c: #REF!
Name \c: #N/A
Name \d: #N/A
Name \e: #REF!
Name \f: #REF!
Name \m: #N/A
Name \n: #N/A
Name \p: #REF!
Name \q: #REF!
Name \q: #REF!
Name \s: #REF!
Name \s: #REF!
Name \w: #REF!
Name \w: #REF!
Name \x: #REF!
Name \x: #REF!
Name \z: #REF!
Name \z: #REF!
Name ¾_½_: #N/A
Name A: #REF!
Name AB: #N/A
Name as: #REF!
Name B: #REF!
Name B: #REF!
Name BGF: [3]시험물량!#REF!
Name BGF: [3]시험물량!#REF!
Name BLT: #REF!
Name BV: #REF!
Name CR: #REF!
Name DATA: #N/A
Name DEW: [4]단가일람!#REF!
Name DEW: [4]단가일람!#REF!
Name dfdkjf: #REF!
Name dlsqndla: #REF!
Name dlsqndla: #REF!
Name DSVP: #REF!
Name HAF: #REF!
Name HBV: #REF!
Name HCR: #REF!
Name HDATA: #N/A
Name HDSVP: #REF!
Name HHAF: #REF!
Name HHMF: #REF!
Name HMF: #REF!
Name HMOTOR: #REF!

Sheet 표지 
A2: 충청남도 당진시 | K2: 2026. 09.
A7: =사업계획개요서!F39&" 시행계획서" -> 2026년 당산유지 제2차 제초 및 잡초목 제거작업 시행계획서
A13: 한국농어촌공사 당진지사

Sheet 설계설명서
B1: 설 계 설 명 서
C4: 우리지사에서 관리하고 있는 당산지구 자연환경보전이용시설(당산저수지) 제방 및 산책로,
C7: 휴게쉼터 등에 대한 제초 및 예초(잡초목 제거작업)을 시행하여 시설물의 선량한 관리에
C10: 만전을 기하고자 함.
E23: 2025년 | G23: 6월 | J23: 일
C26: 설계자 | D26: 소속 : 유지관리과 | E26: 수자원관리부 | G26: 직급 : 토목4급 | J26: 성명 : 육 현 욱(인)

Sheet 사업계획개요서
B17: 사 업 계 획 개 요 서
B38: 사 업 계 획 개 요 서
C39: 사업명 | F39: 2026년 당산유지 제2차 제초 및 잡초목 제거작업
C40: 지구명 | F40: 당 산
C41: 목적 | F41: 시설물관리 원활
C42: 대상시설 | F42: 당산유지
C43: 작 업 량 | F43: ○ 제초 : 3,200㎡ ○ 예초(잡초목제거) : 7,195㎡
C44: 공사개요 | F44: 시설명 | H44: 사 업 량 | L44: 비 고
F45: 당산저수지 | H45: 제당 잡초목제거 L = 450.0 m, A = 4,595 ㎡
H46: 산책로 잡초목제거 L = 1,300.0 m, A = 2,600 ㎡
H47: 광장 및 휴게쉼터 제초 A = 3,200 ㎡
C55: 공사기간 | F55: 착공일로부터 10일
C56: 사업주체 | F56: 한 국 농 어 촌 공 사 | H56: 당 진 지 사

Sheet 동원인원계획표
B17: 동 원 인 원 계 획 표
B38: 동 원 인 원 계 획 표
B39: 공종 공사기간 | E39: 착 공 1 월 | H39: 착 공 2 월 | K39: 착 공 3 월 | N39: 계 | O39: 비 고
E40: 상 | F40: 중 | G40: 하 | H40: 상 | I40: 중 | J40: 하 | K40: 상 | L40: 중 | M40: 하
B41: =사업계획개요서!F39 -> 2026년 당산유지 제2차 제초 및 잡초목 제거작업 | E41: 1 | N41: 1
E42: 1 | N42: 1
B49: 계 | N49: 1
N50: 1
M52: (상단 : 보통인부. 하단 : 특수인부)

Sheet 수지예산서
B18: 사 업 비 수 지 예 산 서
B38: 사 업 비 수 지 예 산 서
B39: ="작 업 명 : "&사업계획개요서!F39 -> 작 업 명 : 2026년 당산유지 제2차 제초 및 잡초목 제거작업
B40: [ 수 입 ] | I40: (단위 : 천원)
B41: 구 분 | C41: 사 업 비 | F41: 년 도 별 내 역 | I41: 비 고
C42: 신 청 액 | D42: 인 가 액 | E42: 증(△)감 | F42: 2022년도
B43: 유지관리수탁 | C43: =C59 -> 9240 | D43: =C43 -> 9240 | F43: =C43 -> 9240
B46: 계 | C46: =SUM(C43:C45) -> 9240 | D46: =SUM(D43:D45) -> 9240 | F46: =SUM(F43:F45) -> 9240
B48: [ 지 출 ] | I48: (단위 : 천원)
B49: 구 분 | C49: 사 업 비 | F49: 년 도 별 내 역 | I49: 비 고
C50: 신 청 액 | D50: 인 가 액 | E50: 증(△)감 | F50: =F42 -> 2022년도
B51: 순 공 사 비 | C51: =원가계산서!H68/1000 -> 9240 | D51: =C51 -> 9240 | F51: =C51 -> 9240
B52: 자 재 대
B53: 소 계 | C53: =SUM(C51:C52) -> 9240 | D53: =SUM(D51:D52) -> 9240 | F53: =C53 -> 9240
B54: 측 량 설 계 비 | F54: =C54 -> 0
B55: 공 사 감 독 비 | F55: =C55 -> 0
B56: 관 리 비 | F56: =C56 -> 0
B57: 잡 지 출 | F57: =C57 -> 0
B58: 소 계 | C58: =SUM(C54:C57) -> 0 | D58: =SUM(D54:D57) -> 0 | F58: =C58 -> 0
B59: 계 | C59: =C53+C58 -> 9240 | D59: =D53+D58 -> 9240 | F59: =C59 -> 9240

Sheet 예정공정표
B17: 예 정 공 정 표
B36: 예 정 공 정 표
B37: ="작업명 : "&사업계획개요서!F39 -> 작업명 : 2026년 당산유지 제2차 제초 및 잡초목 제거작업
B38: 위 치 : 당진시 송산면 당산리 일원
B39: 공종 공사기간 | E39: 착 공 1 월 | H39: 착 공 2 월 | K39: 착 공 3 월 | N39: 계 | O39: 비 고
E40: 상 | F40: 중 | G40: 하 | H40: 상 | I40: 중 | J40: 하 | K40: 상 | L40: 중 | M40: 하
B41: =사업계획개요서!F39 -> 2026년 당산유지 제2차 제초 및 잡초목 제거작업 | E41: 1 | N41: 1
B48: 계 | N48: 1

Sheet 원가계산서
B21: 공 사 원 가 계 산 서
B43: 공 사 원 가 계 산 서
B45: 공사명 : | F45: =사업계획개요서!F39 -> 2026년 당산유지 제2차 제초 및 잡초목 제거작업
B47: 구 분 비 목 | H47: =사업계획개요서!F39 -> 2026년 당산유지 제2차 제초 및 잡초목 제거작업 | N47: 비 고
D48: 재 | F48: 직접재료비 | H48: =공사비명세서!K13 -> 0
D49: 료 | F49: 간접재료비
B50: 순 | D50: 비 | F50: 소계 | H50: =H48 -> 0
D51: 노 | F51: 직접노무비 | H51: =공사비명세서!I13 -> 5120000
B52: 공 | D52: 무 | F52: 간접노무비(14.3%) | H52: =ROUNDDOWN(H51*14.3%,-3) -> 732000 | N52: 직접노무비 × 14.3%(조경분야적용)
D53: 비 | F53: 소계 | H53: =SUM(H51:H52) -> 5852000
B54: 사 | F54: 기계경비 | H54: =공사비명세서!M13 -> 159000
D55: 경 | F55: 고용보험료(1.01%) | H55: =ROUNDDOWN(H53*1.01/100,-3) -> 59000 | N55: 노무비계 × 1.01%
B56: 원 | F56: 기타경비(5.5%) | H56: =ROUNDDOWN((H50+H53)*5.5/100,-3) -> 321000 | N56: (재료비계 + 노무비계) × 5.5%
F57: 산재보험료(3.56%) | H57: =ROUNDDOWN(H53*3.56/100,-3) -> 208000 | N57: 노무비계 × 3.56%
B58: 가 | D58: 비 | F58: 산업안전보건관리비(2.93%) | H58: =O58 -> 161000 | O58: =ROUNDDOWN((H50+H51+H67)*3.15%,-3) -> 161000 | P58: =ROUNDDOWN((H50+H51)*3.15%*1.2,-3) -> 193000
B59: 가 | D59: 비 | F59: 환경보전비(0.00%) | H59: =ROUNDDOWN((H48+H51+H54)*0,0) -> 0
F60: 소계 | H60: =SUM(H54:H59) -> 908000
D61: 계 | H61: =H50+H53+H60 -> 6760000
C62: 일반관리비(8.0%) | H62: =ROUNDDOWN(H61*8%,-3) -> 540000 | N62: 계 × 8.0%
C63: 이윤(15.00%) | H63: =ROUNDDOWN((H61+H62+H50)*15%,-3)+5000 -> 1100000 | N63: (계+일반관리비+재료비계)×15%
C64: 계 | H64: =SUM(H61:H63) -> 8400000
C65: 부가가치세(10.00%) | H65: =ROUNDDOWN(H64*10%,-3) -> 840000 | N65: 총원가 × 10.00%
C66: 합계 | H66: =SUM(H64:H65) -> 9240000
C67: 자재대
C68: 총원가 | H68: =SUM(H66:H67) -> 9240000

Sheet 공사비명세서
B1: =사업계획개요서!F39&" 공사비 명세서" -> 2026년 당산유지 제2차 제초 및 잡초목 제거작업 공사비 명세서
B4: 일 금 원정 | C4: =G13 -> 5279000 | H4: 양회 | J4: 대(40Kg드리) | L4: 철근 kg
B5: 종 별 | C5: 재료또는 치 수 | D5: 원 수 | E5: 단위 | F5: 총 액 | H5: 노 무 비 | J5: 재 료 비 | L5: 경 비 | N5: 비 고
F6: 단 가 | G6: 금 액 | H6: 단 가 | I6: 금 액 | J6: 단 가 | K6: 금 액 | L6: 단 가 | M6: 금 액
B7: 예초작업 | C7: 기계사용 | D7: =재료계산서!G5 -> 4550 | E7: ㎡ | F7: =H7+J7+L7 -> 353 | G7: =I7+K7+M7 -> 1606150 | H7: =공사일람표!I8 -> 333 | I7: =INT($D7*H7) -> 1515150 | L7: =공사일람표!M8 -> 20 | M7: =INT($D7*L7) -> 91000
B8: 예초작업(경사구간) | C8: 기계사용 | D8: =재료계산서!F5 -> 3120 | E8: ㎡ | F8: =H8+J8+L8 -> 392 | G8: =I8+K8+M8 -> 1223040 | H8: =공사일람표!I9 -> 370 | I8: =INT($D8*H8) -> 1154400 | L8: =공사일람표!M9 -> 22 | M8: =INT($D8*L8) -> 68640
B9: 제초 | C9: 인력 | D9: =재료계산서!H5 -> 3200 | E9: ㎡ | F9: =H9+J9+L9 -> 766 | G9: =I9+K9+M9 -> 2451200 | H9: =공사일람표!I10 -> 766 | I9: =INT($D9*H9) -> 2451200 | L9: =공사일람표!M10 -> 0 | M9: =INT($D9*L9) -> 0
B12: 계 | G12: =I12+K12+M12 -> 5280390 | I12: =SUM(I7:I10) -> 5120750 | K12: =SUM(K7:K10) -> 0 | M12: =SUM(M7:M10) -> 159640
B13: ≒ | G13: =I13+K13+M13 -> 5279000 | I13: =ROUNDDOWN(I12,-3) -> 5120000 | K13: =ROUNDDOWN(K12,-3) -> 0 | M13: =ROUNDDOWN(M12,-3) -> 159000

Sheet 공사일람표
B3: 공 사 일 위 대 가 일 람 표
B5: 일 금 원정 | H5: 양회 | J5: 대(40Kg드리) | L5: 철근 kg
B6: 종 별 | C6: 재료또는 치 수 | D6: 원 수 | E6: 단위 | F6: 총 액 | H6: 노 무 비 | J6: 재 료 비 | L6: 경 비 | N6: 비 고
F7: 단 가 | G7: 금 액 | H7: 단 가 | I7: 금 액 | J7: 단 가 | K7: 금 액 | L7: 단 가 | M7: 금 액
B8: 예초 | C8: 기계사용 | D8: 1 | E8: ㎡ | G8: =I8+K8+M8 -> 353 | I8: =공사대가표!I12 -> 333 | K8: =공사대가표!K12 -> 0 | M8: =공사대가표!M12 -> 20 | N8: 제1호표
B9: 예초(경사구간) | C9: 기계사용 | D9: 1 | E9: ㎡ | G9: =I9+K9+M9 -> 392 | I9: =공사대가표!I19 -> 370 | K9: =공사대가표!K19 -> 0 | M9: =공사대가표!M19 -> 22 | N9: 제2호표
B10: 제초 | C10: 인력 | D10: 1 | E10: ㎡ | G10: =I10+K10+M10 -> 766 | I10: =공사대가표!I25 -> 766 | K10: =공사대가표!K25 -> 0 | M10: =공사대가표!M25 -> 0 | N10: 제3호표

Sheet 공사대가표
B1: 공 사 일 위 대 가 표
B4: 일 금 원정 | H4: 양회 | J4: 대(40Kg드리) | L4: 철근 kg
B5: 종 별 | C5: 재료또는 치 수 | D5: 원 수 | E5: 단위 | F5: 총 액 | H5: 노 무 비 | J5: 재 료 비 | L5: 경 비 | N5: 비 고
F6: 단 가 | G6: 금 액 | H6: 단 가 | I6: 금 액 | J6: 단 가 | K6: 금 액 | L6: 단 가 | M6: 금 액
B7: 제 1 호표 예초(1㎡당) 2025년 건설공사 표준품셈 유지관리 공토 1-2-12 예초 적용 | Q7: =노임단가표!C5 -> 보통인부 | R7: =노임단가표!D5 -> 169804
B8: 특별인부 | C8: 기계사용 | D8: 3 | E8: 인 | F8: =H8+J8+L8 -> 221506 | G8: =I8+K8+M8 -> 664518 | H8: =노임단가표!D6 -> 221506 | I8: =INT($D$8*H8) -> 664518 | Q8: =노임단가표!C6 -> 특별인부 | R8: =노임단가표!D6 -> 221506
B9: 보통인부 | C9: 풀모으기 및 제거 | D9: 1 | E9: 인 | F9: =H9+J9+L9 -> 169804 | G9: =I9+K9+M9 -> 169804 | H9: =노임단가표!D5 -> 169804 | I9: =INT($D$9*H9) -> 169804
B10: 공구손료 및 기계경비 | C10: 인력품의6% | D10: 0.06 | F10: =H10+J10+L10 -> 834322 | G10: =I10+K10+M10 -> 50059 | L10: =G8+G9 -> 834322 | M10: =INT($D10*L10) -> 50059
B11: 계 | C11: 2500㎡당 | G11: =I11+K11+M11 -> 884381 | I11: =SUM(I8:I10) -> 834322 | K11: =SUM(K8:K10) -> 0 | M11: =SUM(M8:M10) -> 50059
B12: 1㎡당 | G12: =I12+K12+M12 -> 353 | I12: =ROUNDDOWN(I11/2500,0) -> 333 | M12: =ROUNDDOWN(M11/2500,0) -> 20
B14: 제 2 호표 예초(1㎡당) 2025년 건설공사 표준품셈 유지관리 공토 1-2-12 예초 적용, 경사구간 25º이상 10%할증 적용
B15: 특별인부 | C15: 기계사용 | D15: 3 | E15: 인 | F15: =H15+J15+L15 -> 221506 | G15: =I15+K15+M15 -> 664518 | H15: =H8 -> 221506 | I15: =INT($D$15*H15) -> 664518
B16: 보통인부 | C16: 풀모으기 및 제거 | D16: 1 | E16: 인 | F16: =H16+J16+L16 -> 169804 | G16: =I16+K16+M16 -> 169804 | H16: =H9 -> 169804 | I16: =INT($D$16*H16) -> 169804
B17: 공구손료 및 기계경비 | C17: 인력품의6% | D17: 0.06 | F17: =H17+J17+L17 -> 834322 | G17: =I17+K17+M17 -> 50059 | L17: =G15+G16 -> 834322 | M17: =INT($D17*L17) -> 50059
B18: 계 | C18: 2,250㎡당 | G18: =I18+K18+M18 -> 884381 | I18: =SUM(I15:I17) -> 834322 | K18: =SUM(K15:K17) -> 0 | M18: =SUM(M15:M17) -> 50059
B19: 1㎡당 | G19: =I19+K19+M19 -> 392 | I19: =ROUNDDOWN(I18/2250,0) -> 370 | M19: =ROUNDDOWN(M18/2250,0) -> 22
B21: 제 3 호표 제초(1㎡당) 2025년 건설공사 표준품셈 유지관리 공토 1-2-10 제초 적용
B22: 제초(일반잔디지역) | C22: 조경공 | D22: 1 | E22: 인 | F22: =H22+J22+L22 -> 224132 | G22: =I22+K22+M22 -> 224132 | H22: =노임단가표!D41 -> 224132 | I22: =INT($D$22*H22) -> 224132 | M22: =INT(L22*0.1) -> 0
B23: 제초(일반잔디지역) | C23: 보통인부 | D23: 5 | E23: 인 | F23: =H23+J23+L23 -> 169804 | G23: =I23+K23+M23 -> 849020 | H23: =노임단가표!D5 -> 169804 | I23: =INT($D$23*H23) -> 849020
B24: 계 | C24: 1400㎡당 | G24: =SUM(G22:G23) -> 1073152 | I24: =SUM(I22:I23) -> 1073152 | M24: =SUM(M22:M22) -> 0
B25: 1㎡당 | G25: =I25+K25+M25 -> 766 | I25: =ROUNDDOWN(I24/1400,0) -> 766 | M25: =ROUNDDOWN(M24/100,0) -> 0

Sheet 노임단가표
D1: 2025년 상반기 공사부문 노임단가
B2: (2025년 1월 1일부터 적용)
B3: 번호 | C3: 직종명 | D3: 2025.01 | E3: 번호 | F3: 직종명 | G3: =D3 -> 2025.01 | H3: 번호 | I3: 직종명 | J3: =G3 -> 2025.01
B4: 1001 | C4: 작업반장 | D4: 213033 | E4: *1050 | F4: 일반기계운전사 | G4: 170920 | H4: *3005 | I4: 한식석공 | J4: 398051
B5: 1002 | C5: 보통인부 | D5: 169804 | E5: 1051 | F5: 기계설비공 | G5: 237652 | H5: *3006 | I5: 한식미장공 | J5: 342548
B6: 1003 | C6: 특별인부 | D6: 221506 | E6: **1052 | F6: 준설선선장 | G6: 0 | H6: *3007 | I6: 한식와공 | J6: 353051
B7: 1004 | C7: 조력공 | D7: 180331 | E7: **1053 | F7: 준설선기관사 | G7: 0 | H7: *3008 | I7: 한식와공조공 | J7: 268333
B8: *1005 | C8: 제도사 | D8: 232099 | E8: **1054 | F8: 준설선운전사 | G8: 0 | H8: **3009 | I8: 목조각공 | J8: 0
B9: 1006 | C9: 비계공 | D9: 279433 | E9: **1055 | F9: 선원 | G9: 0 | H9: **3010 | I9: 석조각공 | J9: 0
B10: 1007 | C10: 형틀목공 | D10: 272831 | E10: 1056 | F10: 플랜트배관공 | G10: 324130 | H10: **3011 | I10: 특수화공 | J10: 0
B11: 1008 | C11: 철근공 | D11: 264104 | E11: *1057 | F11: 플랜트제관공 | G11: 259128 | H11: *3012 | I11: 화공 | J11: 311263
B12: 1009 | C12: 철공 | D12: 237754 | E12: 1058 | F12: 플랜트 용접공 | G12: 299776 | H12: **3013 | I12: 드잡이공편수 | J12: 0
B13: 1010 | C13: 철판공 | D13: 219236 | E13: **1059 | F13: 플랜트특수용접공 | G13: 0 | H13: **3014 | I13: 한식미장공편수 | J13: 0
B14: 1011 | C14: 철골공 | D14: 250239 | E14: 1060 | F14: 플랜트기계설치공 | G14: 236640 | H14: *3015 | I14: 한식와공편수 | J14: 457143
B15: 1012 | C15: 용접공 | D15: 278326 | E15: 1061 | F15: 플랜트특별인부 | G15: 218614 | H15: **3016 | I15: 한식단천공편수 | J15: 0
B16: 1013 | C16: 콘크리트공 | D16: 266361 | E16: 1062 | F16: 플랜트케이블전공 | G16: 261587 | H16: *3017 | I16: 한식석공조공 | J16: 311114
B17: 1014 | C17: 보링공 | D17: 225273 | E17: *1063 | F17: 플랜트계장공 | G17: 202712 | H17: *3018 | I17: 한식미장공조공 | J17: 249266
B18: 1015 | C18: 착암공 | D18: 220081 | E18: **1064 | F18: 플랜트덕트공 | G18: 0 | H18: 4001 | I18: 원자력플랜트전공 | J18: 226275
B19: 1016 | C19: 화약취급공 | D19: 258751 | E19: *1065 | F19: 플랜트보온공 | G19: 247028 | H19: 4002 | I19: 원자력용접공 | J19: 215662
B20: 1017 | C20: 할석공 | D20: 236986 | E20: **1066 | F20: 제철축로공 | G20: 0 | H20: 4003 | I20: 원자력기계설치공 | J20: 227074
B21: *1018 | C21: 포설공 | D21: 216121 | E21: 1067 | F21: 비파괴시험공 | G21: 217619 | H21: 4004 | I21: 원자력품질관리사 | J21: 270376
B22: 1019 | C22: 포장공 | D22: 267989 | E22: **1068 | F22: 특급품질관리원 | G22: 0 | H22: *5001 | I22: 통신관련기사 | J22: 316183
B23: 1020 | C23: 잠수부 | D23: 388892 | E23: **1069 | F23: 고급품질관리원 | G23: 0 | H23: *5002 | I23: 통신관련산업기사 | J23: 297137
B24: 1021 | C24: 조적공 | D24: 266624 | E24: *1070 | F24: 중급품질관리원 | G24: 172227 | H24: *5003 | I24: 통신관련기능사 | J24: 244717
B25: 1022 | C25: 견출공 | D25: 243075 | E25: *1071 | F25: 초급품질관리원 | G25: 144810 | H25: 5004 | I25: 전기공사기사 | J25: 327381
B26: 1023 | C26: 건축목공 | D26: 277894 | E26: 1072 | F26: 지적기사 | G26: 263991 | H26: 5005 | I26: 전기공사산업기사 | J26: 289211
B27: 1024 | C27: 창호공 | D27: 248350 | E27: 1073 | F27: 지적산업기사 | G27: 236718 | H27: 5006 | I27: 변전전공 | J27: 477832
B28: 1025 | C28: 유리공 | D28: 248139 | E28: 1074 | F28: 지적기능사 | G28: 181822 | H28: 5007 | I28: 코킹공 | J28: 206732
B29: 1026 | C29: 방수공 | D29: 220722 | E29: 1075 | F29: 내선전공 | G29: 268915 | H29: *5008 | I29: 특급품질관리기술인 | J29: 261200
B30: 1027 | C30: 미장공 | D30: 272354 | E30: 1076 | F30: 특고압케이블전공 | G30: 436458 | H30: 5009 | I30: 고급품질관리기술인 | J30: 212471
B31: 1028 | C31: 타일공 | D31: 284337 | E31: 1077 | F31: 고압케이블전공 | G31: 370529 | H31: *5010 | I31: 중급품질관리기술인 | J31: 183944
B32: 1029 | C32: 도장공 | D32: 253409 | E32: 1078 | F32: 저압케이블전공 | G32: 300337 | H32: 5011 | I32: 초급품질관리기술인 | J32: 159901
B33: 1030 | C33: 내장공 | D33: 252249 | E33: 1079 | F33: 송전전공 | G33: 627960 | H33: 5012 | I33: 플로어링마루시공공 | J33: 253241
B34: 1031 | C34: 도배공 | D34: 222618 | E34: 1080 | F34: 송전활선전공 | G34: 662709 | H34: 5013 | I34: 교통정리원 | J34: 170990
B35: **1032 | C35: 연마공 | D35: 0 | E35: 1081 | F35: 배전전공 | G35: 408559 | H35: 5014 | I35: 철거공 | J35: 264828
B36: 1033 | C36: 석공 | D36: 266246 | E36: 1082 | F36: 배전활선전공 | G36: 557881 | H36: 5015 | I36: 흙막이공 | J36: 278476
B37: *1034 | C37: 줄눈공 | D37: 202696 | E37: 1083 | F37: 플랜트전공 | G37: 266062 | H37: 5016 | I37: 전철전공 | J37: 411319
B38: 1035 | C38: 판넬조립공 | D38: 237854 | E38: 1084 | F38: 계장공 | G38: 315484
B39: *1036 | C39: 지붕잇기공 | D39: 224113 | E39: 1085 | F39: 철도신호공 | G39: 297049
B40: *1037 | C40: 벌목부 | D40: 248681 | E40: 1086 | F40: 통신내선공 | G40: 278565
B41: 1038 | C41: 조경공 | D41: 224132 | E41: 1087 | F41: 통신설비공 | G41: 308930
B42: 1039 | C42: 배관공 | D42: 238145 | E42: 1088 | F42: 통신외선공 | G42: 405235
B43: 1040 | C43: 배관공(수도) | D43: 250572 | E43: 1089 | F43: 통신케이블공 | G43: 433400
B44: *1041 | C44: 보일러공 | D44: 233255 | E44: *1090 | F44: 무선안테나공 | G44: 350908
B45: 1042 | C45: 위생공 | D45: 219040 | E45: *1091 | F45: 석면해체공 | G45: 203923
B46: 1043 | C46: 덕트공 | D46: 201482 | E46: 2001 | F46: 광케이블설치사 | G46: 460429
B47: 1044 | C47: 보온공 | D47: 213722 | E47: *2002 | F47: H/W시험사 | G47: 384609
B48: *1045 | C48: 인력운반공 | D48: 180404 | E48: *2003 | F48: S/W시험사 | G48: 445000
B49: **+1046 | C49: 궤도공 | D49: 0 | E49: **3001 | F49: 도편수 | G49: 0
B50: *1047 | C50: 건설기계조장 | D50: 202954 | E50: **3002 | F50: 드잡이공 | G50: 0
B51: 1048 | C51: 건설기계운전사 | D51: 273971 | E51: *3003 | F51: 한식목공 | G51: 351481
B52: *1049 | C52: 화물차운전사 | D52: 237500 | E52: *3004 | F52: 한식목공조공 | G52: 246154
B53: 주1) * 표시 직종은 조사현장수가 5개 미만 직종, * * 표시 직종은 조사되지 않은 직종이므로 그 적용시 주의바람

Sheet 재료계산서
A1: =사업계획개요서!F39&" 재료계산서" -> 2026년 당산유지 제2차 제초 및 잡초목 제거작업 재료계산서
A3: 시설명 | B3: 위 치 | C3: 연장(m) | D3: 제 당 폭 | F3: 경사면 물량(㎡) | G3: 평면 물량(㎡) | H3: 제초물량(㎡) | I3: 계 | J3: 비고
D4: 경사면 | E4: 평면
A5: 계 | C5: =SUM(C6:C8) -> 1690 | F5: =SUM(F6:F14) -> 3120 | G5: =SUM(G6:G14) -> 4550 | H5: =SUM(H6:H14) -> 3200 | I5: =SUM(I6:I14) -> 10870
A6: 당산저수지 | B6: 제당 | C6: 390 | D6: 8 | E6: 5 | F6: =C6*D6 -> 3120 | G6: =$C$6*E6 -> 1950 | I6: =F6+G6+H6 -> 5070 | N6: 1350 | P6: =N7-N6 -> 3245
B7: 산책로 | C7: 1300 | E7: 2 | G7: =C7*E7 -> 2600 | I7: =F7+G7+H7 -> 2600 | N7: 4595
B8: 광장 및 휴계쉼터 | H8: 3200 | I8: =F8+G8+H8 -> 3200
