Workbook
Name __: #REF!
Name ___: #REF!
Name ____: #REF!
Name _____: #REF!
Name ______: #REF!
Name _______: #REF!
Name __________: #REF!
Name _____________0: #REF!
Name _____________11: #REF!
Name _____________12: #REF!
Name ___________DOG1: #REF!
Name ___________DOG2: #REF!
Name ___________DOG3: #REF!
Name ___________DOG4: #REF!
Name ___________PI48: #REF!
Name ___________PI60: #REF!
Name ___________RO110: #REF!
Name ___________RO22: #REF!
Name ___________RO35: #REF!
Name ___________RO60: #REF!
Name ___________RO80: #REF!
Name ___________TON1: #REF!
Name ___________TON2: #REF!
Name ___________WW2: #REF!
Name ___________WW6: #REF!
Name __________0: #REF!
Name __________11: #REF!
Name __________12: #REF!
Name _________0: #REF!
Name _________10: #REF!
Name _________11: #REF!
Name _________12: #REF!
Name _________DOG1: #REF!
Name _________DOG2: #REF!
Name _________DOG3: #REF!
Name _________DOG4: #REF!
Name _________PI48: #REF!
Name _________PI60: #REF!
Name _________RO110: #REF!
Name _________RO22: #REF!
Name _________RO35: #REF!
Name _________RO60: #REF!
Name _________RO80: #REF!
Name _________TON1: #REF!
Name _________TON2: #REF!
Name _________WW2: #REF!
Name _________WW6: #REF!
Name ________0: #REF!
Name ________10: #REF!
Name ________11: #REF!
Name ________12: #REF!
Name _______0: #REF!
Name _______DOG1: #REF!
Name _______DOG2: #REF!
Name _______DOG3: #REF!
Name _______DOG4: #REF!
Name _______PI48: #REF!
Name _______PI60: #REF!
Name _______RO110: #REF!
Name _______RO22: #REF!

Sheet 견갑(하나)가로갑
K5: 제출일자:2026년 09월 일
A6: 제출처:㈜ 벡스코 | K6: 견적번호:HNST 2026-097010
A9: 건명:벡스코 오디토리움 무대기계장치 교체
K11: TEL : 051 - 582 - 3600
A12: ="금액:일금"&NUMBERSTRING(J23,1)&" 원정 " -> 금액:일금일억팔천삼백사십칠만구천구백오십 원정 | D12: =J23 -> 1.8347995e+08 | G12: 부가가치세 포함 | K12: FAX : 051 - 583 - 5988
A13: NO | B13: 품 명 | C13: 규 격 | D13: 단위 | E13: 수량 | F13: 재 료 비 | H13: 노 무 비 | J13: 금 액 | K13: 비 고
F14: 단 가 | G14: 금 액 | H14: 단 가 | I14: 금 액
A15: 1 | B15: 직 접 비 | G15: =원가계산서!D4 -> 112341979 | I15: =원가계산서!D5 -> 23123014 | J15: =I15+G15 -> 135464993
A16: 2 | B16: 보험료 대상 | G16: =원가계산서!D8 -> 14918294 | I16: =원가계산서!D9 -> 14801728 | J16: =I16+G16 -> 29720022
A17: 3 | B17: 경 비 | J17: =원가계산서!D20 -> 1614939.7
B18: 소 계 | J18: =SUM(J15:J17) -> 1.6679995e+08
B19: 부가가치세 | C19: 상기금액의 | D19: % | E19: 10 | J19: =J18*0.1 -> 16679995
B23: 합 계 | J23: =SUM(J18:J19) -> 1.8347995e+08
A24: 특기사항 | B24: 1) 부가 가치세 포함
B25: 2) 경비 포함
B26: 3) 철거비 포함

Sheet 원가계산서
A1: 벡스코 오디토리움 무대기계장치 교체 원가계산서
G2: 일금일억팔천삼백사십칠만구천구백오십원정(183,479,950)
A3: 비 목 | D3: 금 액 | E3: 구 성 비 | G3: 비 고
A4: 순 공 사 원 가 | B4: 직접비 | C4: 재 료 비 | D4: =내역!G9 -> 112341979
C5: 노 무 비 | D5: =내역!I9 -> 23123014
C6: 작업설 부산물 | D6: =내역!G11 -> 1404815
C7: [ 소 계 ] | D7: =SUM(D4:D5) -> 135464993
B8: 보험료대상 | C8: 재 료 비 | D8: =내역!G10 -> 14918294
C9: 노 무 비 | D9: =내역!I10 -> 14801728
C10: [ 소 계 ] | D10: =SUM(D8:D9) -> 29720022
B11: 경 비 | C11: 산 재 보 험 료 | D11: =INT(D9*0.0356) -> 526941 | E11: 노무비의 | F11: 0.0356
C12: 고 용 보 험 료 | D12: =INT(D9*0.0101) -> 149497 | E12: 노무비의 | F12: 0.0101
C13: 국민 연금 보험료 | G13: 1개월 미만공사 제외
C14: 국민 건강 보험료 | G14: 1개월 미만공사 제외
C15: 노인장기요양보험료 | G15: 1개월 미만공사 제외
C16: 근로자퇴직공제부금비 | G16: 1억원 미만공사 제외
C17: 산업안전보건관리비 | D17: =D10*0.0311 -> 924292.68 | E17: 재료비+노무비 | F17: 0.0311
C18: 석면 분담금 | D18: =INT(D9*0.00006) -> 888 | E18: 노무비의 | F18: 6e-05
C19: 임금채권부담금 | D19: =INT(D9*0.0009) -> 13321 | E19: 노무비의 | F19: 0.0009
C20: [ 소 계 ] | D20: =SUM(D11:D19) -> 1614939.7
A21: 계 | D21: =D7+D10+D20 -> 1.6679995e+08
A22: 부 가 가 치 세 | D22: =INT(D21*0.1) -> 16679995 | E22: 공급가액의 | F22: 0.1
A23: 소 계 | D23: =D21+D22 -> 1.8347995e+08
A24: 총 공 사 비 | D24: =D23 -> 1.8347995e+08 | E24: 천단위절사

Sheet 내역
A1: 내역. 벡스코 오디토리움 무대기계장치 교체
A2: NO | B2: 품 명 | C2: 규 격 | D2: 단위 | E2: 수량 | F2: 재 료 비 | H2: 노 무 비 | J2: 합 계 | K2: 비 고
F3: 단 가 | G3: 금 액 | H3: 단 가 | I3: 금 액
A4: 01 | B4: NO.4 조명걸이대 (NO.4 LIGHT BATTEN) | C4: 30,000L 15Kw x 4P | D4: SET | E4: 1 | F4: =OFFSET($G$1,ROW(G3)*25-1,0) -> 24795630 | G4: =INT(E4*F4) -> 24795630 | H4: =OFFSET($I$1,ROW(I3)*25-1,0) -> 4796929 | I4: =INT(H4*E4) -> 4796929 | J4: =SUM(G4,I4) -> 29592559 | K4: 내역Ⅰ-01호표
A5: 02 | B5: NO.5 조명걸이대 (NO.5 LIGHT BATTEN) | C5: 30,000L 15Kw x 4P | D5: SET | E5: 1 | F5: =OFFSET($G$1,ROW(G4)*25-1,0) -> 24795630 | G5: =INT(E5*F5) -> 24795630 | H5: =OFFSET($I$1,ROW(I4)*25-1,0) -> 4796929 | I5: =INT(H5*E5) -> 4796929 | J5: =SUM(G5,I5) -> 29592559 | K5: 내역Ⅰ-02호표
A6: 03 | B6: 스크린 걸이대 (SCREEN BATTEN) | C6: 30,000L 15Kw x 4P | D6: SET | E6: 1 | F6: =G100 -> 24795630 | G6: =INT(E6*F6) -> 24795630 | H6: =I100 -> 4796929 | I6: =INT(H6*E6) -> 4796929 | J6: =SUM(G6,I6) -> 29592559 | K6: 내역Ⅰ-03호표
A7: 04 | B7: 제어시스템(CONTROL SYSTEM) | D7: SET | E7: 1 | F7: =G175 -> 37955089 | G7: =INT(E7*F7) -> 37955089 | H7: =I175 -> 8732227 | I7: =INT(H7*E7) -> 8732227 | J7: =SUM(G7,I7) -> 46687316 | K7: 내역Ⅰ-04호표
A8: 05 | B8: 배관 및 배선(PIPING & WIRING) | D8: SET | E8: 1 | F8: =G225 -> 14918294 | G8: =INT(E8*F8) -> 14918294 | H8: =I225 -> 14801728 | I8: =INT(H8*E8) -> 14801728 | J8: =SUM(G8,I8) -> 29720022 | K8: 내역Ⅰ-05호표
B9: 제조부문 | C9: 01 ~ 04 | G9: =SUM(G4:G7) -> 112341979 | I9: =SUM(I4:I7) -> 23123014 | J9: =I9+G9 -> 135464993
B10: 설치부문 | C10: 05 | G10: =G8 -> 14918294 | I10: =I8 -> 14801728 | J10: =I10+G10 -> 29720022
B11: 작업설 부산물 | D11: Kg | E11: =(E33+E58+E83)*1000 -> 3426.3782 | F11: 410 | G11: =INT(E11*F11) -> 1404815
B25: 소 계 | G25: =SUM(G9:G10) -> 127260273 | I25: =SUM(I9:I10) -> 37924742 | J25: =SUM(J9:J10) -> 165185015
A26: ="내역 "&내역!A4&". "&내역!B4&" : "&내역!C4 -> 내역 01. NO.4 조명걸이대 (NO.4 LIGHT BATTEN) : 30,000L 15Kw x 4P
A27: NO | B27: 품 명 | C27: 규 격 | D27: 단위 | E27: 수 량 | F27: 재 료 비 | H27: 노 무 비 | J27: 합 계 | K27: 비 고
F28: 단 가 | G28: 금 액 | H28: 단 가 | I28: 금 액
A29: 1) | B29: ='[41]산출(기계)'!B5 -> DRIVE M/C ASS'Y | C29: ='[41]산출(기계)'!C5 -> 15KW x 4P | D29: ='[41]산출(기계)'!E5 -> SET | E29: ='[41]산출(기계)'!G5 -> 1 | F29: 20000000 | G29: =INT(E29*F29) -> 20000000 | J29: =SUM(G29,I29) -> 20000000
A30: 2) | B30: ='[41]산출(기계)'!B8 -> WIRE FIXED DEVICE | C30: ='[41]산출(기계)'!C8 -> Ø6 용 | D30: ='[41]산출(기계)'!E8 -> SET | E30: ='[41]산출(기계)'!G8 -> 11 | F30: 35000 | G30: =INT(E30*F30) -> 385000 | J30: =SUM(G30,I30) -> 385000
A31: 3) | B31: ='[41]산출(기계)'!B9 -> WIRE ROPE | C31: ='[41]산출(기계)'!C9 -> 19 x 7, Ø6 | D31: ='[41]산출(기계)'!E9 -> m | E31: ='[41]산출(기계)'!G9 -> 450.45 | F31: 1400 | G31: =INT(E31*F31) -> 630630 | J31: =SUM(G31,I31) -> 630630
A32: 4) | B32: ='[41]산출(기계)'!B12 -> TRUSS BATTEN | C32: ='[41]산출(기계)'!C12 -> 30,000L x 300H | D32: ='[41]산출(기계)'!E13 -> M | E32: 31.5 | F32: 120000 | G32: =INT(E32*F32) -> 3780000 | I32: =INT(H32*E32) -> 0 | J32: =SUM(G32,I32) -> 3780000
A33: 5) | B33: 설치 인건비 | C33: =[41]일위대가!$B$4 -> 일반기기 설치공사 | D33: TON | E33: ='[41]산출(기계)'!K25/1000 -> 1.1421261 | H33: 4200000 | I33: =INT(H33*E33) -> 4796929 | J33: =SUM(G33,I33) -> 4796929
B50: 소 계 | G50: =SUM(G29:G49) -> 24795630 | I50: =SUM(I29:I49) -> 4796929 | J50: =SUM(J29:J49) -> 29592559
A51: ="내역 "&내역!A5&". "&내역!B5&" : "&내역!C5 -> 내역 02. NO.5 조명걸이대 (NO.5 LIGHT BATTEN) : 30,000L 15Kw x 4P
A52: NO | B52: 품 명 | C52: 규 격 | D52: 단위 | E52: 수 량 | F52: 재 료 비 | H52: 노 무 비 | J52: 합 계 | K52: 비 고
F53: 단 가 | G53: 금 액 | H53: 단 가 | I53: 금 액
A54: 1) | B54: ='[41]산출(기계)'!B30 -> DRIVE M/C ASS'Y | C54: ='[41]산출(기계)'!C30 -> 15KW x 4P | D54: ='[41]산출(기계)'!E30 -> SET | E54: ='[41]산출(기계)'!G30 -> 1 | F54: 20000000 | G54: =INT(E54*F54) -> 20000000 | J54: =SUM(G54,I54) -> 20000000
A55: 2) | B55: ='[41]산출(기계)'!B33 -> WIRE FIXED DEVICE | C55: ='[41]산출(기계)'!C33 -> Ø6 용 | D55: ='[41]산출(기계)'!E33 -> SET | E55: ='[41]산출(기계)'!G33 -> 11 | F55: 35000 | G55: =INT(E55*F55) -> 385000 | J55: =SUM(G55,I55) -> 385000
A56: 3) | B56: ='[41]산출(기계)'!B34 -> WIRE ROPE | C56: ='[41]산출(기계)'!C34 -> 19 x 7, Ø6 | D56: ='[41]산출(기계)'!E34 -> m | E56: ='[41]산출(기계)'!G34 -> 450.45 | F56: 1400 | G56: =INT(E56*F56) -> 630630 | J56: =SUM(G56,I56) -> 630630
A57: 4) | B57: ='[41]산출(기계)'!B37 -> TRUSS BATTEN | C57: ='[41]산출(기계)'!C37 -> 30,000L x 300H | D57: ='[41]산출(기계)'!E38 -> M | E57: 31.5 | F57: 120000 | G57: =INT(E57*F57) -> 3780000 | I57: =INT(H57*E57) -> 0 | J57: =SUM(G57,I57) -> 3780000
A58: 5) | B58: 설치 인건비 | C58: =[41]일위대가!$B$4 -> 일반기기 설치공사 | D58: TON | E58: ='[41]산출(기계)'!K50/1000 -> 1.1421261 | H58: 4200000 | I58: =INT(H58*E58) -> 4796929 | J58: =SUM(G58,I58) -> 4796929
B75: 소 계 | G75: =SUM(G54:G74) -> 24795630 | I75: =SUM(I54:I74) -> 4796929 | J75: =SUM(J54:J74) -> 29592559
A76: ="내역 "&내역!A6&". "&내역!B6&" : "&내역!C6 -> 내역 03. 스크린 걸이대 (SCREEN BATTEN) : 30,000L 15Kw x 4P
A77: NO | B77: 품 명 | C77: 규 격 | D77: 단위 | E77: 수 량 | F77: 재 료 비 | H77: 노 무 비 | J77: 합 계 | K77: 비 고
F78: 단 가 | G78: 금 액 | H78: 단 가 | I78: 금 액
A79: 1) | B79: ='[41]산출(기계)'!B55 -> DRIVE M/C ASS'Y | C79: ='[41]산출(기계)'!C55 -> 15KW x 4P | D79: ='[41]산출(기계)'!E55 -> SET | E79: ='[41]산출(기계)'!G55 -> 1 | F79: 20000000 | G79: =INT(E79*F79) -> 20000000 | J79: =SUM(G79,I79) -> 20000000
A80: 2) | B80: ='[41]산출(기계)'!B58 -> WIRE FIXED DEVICE | C80: ='[41]산출(기계)'!C58 -> Ø6 용 | D80: ='[41]산출(기계)'!E58 -> SET | E80: ='[41]산출(기계)'!G58 -> 11 | F80: 35000 | G80: =INT(E80*F80) -> 385000 | J80: =SUM(G80,I80) -> 385000
A81: 3) | B81: ='[41]산출(기계)'!B59 -> WIRE ROPE | C81: ='[41]산출(기계)'!C59 -> 19 x 7, Ø6 | D81: ='[41]산출(기계)'!E59 -> m | E81: ='[41]산출(기계)'!G59 -> 450.45 | F81: 1400 | G81: =INT(E81*F81) -> 630630 | J81: =SUM(G81,I81) -> 630630
A82: 4) | B82: ='[41]산출(기계)'!B62 -> TRUSS BATTEN | C82: ='[41]산출(기계)'!C62 -> 30,000L x 300H | D82: ='[41]산출(기계)'!E63 -> M | E82: 31.5 | F82: 120000 | G82: =INT(E82*F82) -> 3780000 | I82: =INT(H82*E82) -> 0 | J82: =SUM(G82,I82) -> 3780000
A83: 5) | B83: 설치 인건비 | C83: =[41]일위대가!$B$4 -> 일반기기 설치공사 | D83: TON | E83: ='[41]산출(기계)'!K75/1000 -> 1.1421261 | H83: 4200000 | I83: =INT(H83*E83) -> 4796929 | J83: =SUM(G83,I83) -> 4796929
B100: 소 계 | G100: =SUM(G79:G99) -> 24795630 | I100: =SUM(I79:I99) -> 4796929 | J100: =SUM(J79:J99) -> 29592559
A101: ="내역 "&내역!A7&". "&내역!B7&" : "&내역!C7 -> 내역 04. 제어시스템(CONTROL SYSTEM) :
A102: NO | B102: 품 명 | C102: 규 격 | D102: 단위 | E102: 수 량 | F102: 재 료 비 | H102: 노 무 비 | J102: 합 계 | K102: 비 고
F103: 단 가 | G103: 금 액 | H103: 단 가 | I103: 금 액
A104: 1) | B104: ='[41]산출(전기)'!B5 -> PANEL 속판 | C104: ='[41]산출(전기)'!C5 -> 900x2000 | D104: ='[41]산출(전기)'!E5 -> 면 | E104: ='[41]산출(전기)'!F5 -> 1 | F104: 550000 | G104: =E104*F104 -> 550000 | J104: =SUM(G104,I104) -> 550000
A105: 2) | B105: ='[41]산출(전기)'!B6 -> MCCB | C105: ='[41]산출(전기)'!C6 -> ABS 103c | D105: ='[41]산출(전기)'!E6 -> EA | E105: ='[41]산출(전기)'!F6 -> 3 | F105: 100000 | G105: =E105*F105 -> 300000 | J105: =SUM(G105,I105) -> 300000
A106: 3) | B106: ='[41]산출(전기)'!B7 -> MC | C106: ='[41]산출(전기)'!C7 -> MC-40a | D106: ='[41]산출(전기)'!E7 -> EA | E106: ='[41]산출(전기)'!F7 -> 6 | F106: 53000 | G106: =E106*F106 -> 318000 | J106: =SUM(G106,I106) -> 318000
A107: 4) | B107: ='[41]산출(전기)'!B8 -> MC | C107: ='[41]산출(전기)'!C8 -> MC-9b | D107: ='[41]산출(전기)'!E8 -> EA | E107: ='[41]산출(전기)'!F8 -> 3 | F107: 14000 | G107: =E107*F107 -> 42000 | J107: =SUM(G107,I107) -> 42000
A108: 5) | B108: ='[41]산출(전기)'!B9 -> VECTOR INVERTER | C108: ='[41]산출(전기)'!C9 -> FC-302 15KW | D108: ='[41]산출(전기)'!E9 -> EA | E108: ='[41]산출(전기)'!F9 -> 3 | F108: 3450000 | G108: =E108*F108 -> 10350000 | J108: =SUM(G108,I108) -> 10350000
A109: 6) | B109: ='[41]산출(전기)'!B10 -> INVERTER OPTION | C109: ='[41]산출(전기)'!C10 -> 15KW BRAKE | D109: ='[41]산출(전기)'!E10 -> EA | E109: ='[41]산출(전기)'!F10 -> 3 | F109: 489000 | G109: =E109*F109 -> 1467000 | J109: =SUM(G109,I109) -> 1467000
A110: 7) | B110: ='[41]산출(전기)'!B11 -> INVERTER OPTION | C110: ='[41]산출(전기)'!C11 -> GRAPHIC LOADER | D110: ='[41]산출(전기)'!E11 -> EA | E110: ='[41]산출(전기)'!F11 -> 3 | F110: 210000 | G110: =E110*F110 -> 630000 | J110: =SUM(G110,I110) -> 630000
A111: 8) | B111: ='[41]산출(전기)'!B12 -> INVERTER OPTION | C111: ='[41]산출(전기)'!C12 -> MCA-101 | D111: ='[41]산출(전기)'!E12 -> EA | E111: ='[41]산출(전기)'!F12 -> 3 | F111: 450000 | G111: =E111*F111 -> 1350000 | J111: =SUM(G111,I111) -> 1350000
A112: 9) | B112: ='[41]산출(전기)'!B13 -> INVERTER OPTION | C112: ='[41]산출(전기)'!C13 -> MCB-102 | D112: ='[41]산출(전기)'!E13 -> EA | E112: ='[41]산출(전기)'!F13 -> 3 | F112: 600000 | G112: =E112*F112 -> 1800000 | J112: =SUM(G112,I112) -> 1800000
A113: 10) | B113: ='[41]산출(전기)'!B14 -> INVERTER OPTION | C113: ='[41]산출(전기)'!C14 -> MCB-107 | D113: ='[41]산출(전기)'!E14 -> EA | E113: ='[41]산출(전기)'!F14 -> 3 | F113: 155000 | G113: =E113*F113 -> 465000 | J113: =SUM(G113,I113) -> 465000
A114: 11) | B114: ='[41]산출(전기)'!B15 -> INVERTER 제동저항 | C114: ='[41]산출(전기)'!C15 -> 15KW 용 | D114: ='[41]산출(전기)'!E15 -> EA | E114: ='[41]산출(전기)'!F15 -> 3 | F114: 250000 | G114: =E114*F114 -> 750000 | J114: =SUM(G114,I114) -> 750000
A115: 12) | B115: ='[41]산출(전기)'!B16 -> 제동저항 박스 | C115: ='[41]산출(전기)'!C16 -> 720W x 200H x 420D | D115: ='[41]산출(전기)'!E16 -> EA | E115: ='[41]산출(전기)'!F16 -> 1 | F115: 520000 | G115: =E115*F115 -> 520000 | J115: =SUM(G115,I115) -> 520000
... A124: 21) | B124: ='[41]산출(전기)'!B25 -> PVC DUCT & COVER | C124: ='[41]산출(전기)'!C25 -> 40*80*2000 | D124: ='[41]산출(전기)'!E25 -> EA | E124: ='[41]산출(전기)'!F25 -> 8 | F124: 15760 | G124: =E124*F124 -> 126080 | J124: =SUM(G124,I124) -> 126080
A125: 22) | B125: ='[41]산출(전기)'!B26 -> PVC DUCT & COVER | C125: ='[41]산출(전기)'!C26 -> 60*80*2000 | D125: ='[41]산출(전기)'!E26 -> EA | E125: ='[41]산출(전기)'!F26 -> 8 | F125: 19909 | G125: =INT(E125*F125) -> 159272 | J125: =SUM(G125,I125) -> 159272
A127: NO | B127: 품 명 | C127: 규 격 | D127: 단위 | E127: 수 량 | F127: 재 료 비 | H127: 노 무 비 | J127: 합 계 | K127: 비 고
F128: 단 가 | G128: 금 액 | H128: 단 가 | I128: 금 액
A129: 23) | B129: ='[41]산출(전기)'!B27 -> CABLE | C129: ='[41]산출(전기)'!C27 -> KIV 1.5SQ | D129: ='[41]산출(전기)'!E30 -> M | E129: ='[41]산출(전기)'!F27 -> 500 | F129: 437 | G129: =E129*F129 -> 218500 | J129: =SUM(G129,I129) -> 218500
A130: 24) | B130: ='[41]산출(전기)'!B28 -> CABLE | C130: ='[41]산출(전기)'!C28 -> KIV 10SQ | D130: ='[41]산출(전기)'!E31 -> EA | E130: ='[41]산출(전기)'!F28 -> 150 | F130: 2876 | G130: =E130*F130 -> 431400 | J130: =SUM(G130,I130) -> 431400
A131: 25) | B131: ='[41]산출(전기)'!B29 -> CABLE | C131: ='[41]산출(전기)'!C29 -> KIV 25SQ | D131: ='[41]산출(전기)'!E32 -> EA | E131: ='[41]산출(전기)'!F29 -> 40 | F131: 7012 | G131: =E131*F131 -> 280480 | J131: =SUM(G131,I131) -> 280480
A132: 26) | B132: ='[41]산출(전기)'!B30 -> CABLE | C132: ='[41]산출(전기)'!C30 -> PROFIBUS | D132: ='[41]산출(전기)'!E33 -> EA | E132: ='[41]산출(전기)'!F30 -> 20 | F132: 5122 | G132: =E132*F132 -> 102440 | J132: =SUM(G132,I132) -> 102440
A133: 27) | B133: ='[41]산출(전기)'!B31 -> POWER SUPPLY | C133: ='[41]산출(전기)'!C31 -> DC 24V 5A | D133: ='[41]산출(전기)'!E34 -> EA | E133: ='[41]산출(전기)'!F31 -> 1 | F133: 150000 | G133: =E133*F133 -> 150000 | J133: =SUM(G133,I133) -> 150000
A134: 28) | B134: ='[41]산출(전기)'!B32 -> BKM | C134: ='[41]산출(전기)'!C32 -> 2P 5A | D134: ='[41]산출(전기)'!E35 -> EA | E134: ='[41]산출(전기)'!F32 -> 2 | F134: 1140 | G134: =E134*F134 -> 2280 | J134: =SUM(G134,I134) -> 2280
A135: 29) | B135: ='[41]산출(전기)'!B33 -> 고속카운터 모듈 | C135: ='[41]산출(전기)'!C33 -> QD 62D | D135: ='[41]산출(전기)'!E36 -> EA | E135: ='[41]산출(전기)'!F33 -> 2 | F135: 551000 | G135: =E135*F135 -> 1102000 | J135: =SUM(G135,I135) -> 1102000
A136: 30) | B136: ='[41]산출(전기)'!B34 -> I/O 케이블 | C136: ='[41]산출(전기)'!C34 -> 2M | D136: ='[41]산출(전기)'!E37 -> EA | E136: ='[41]산출(전기)'!F34 -> 2 | F136: 28000 | G136: =E136*F136 -> 56000 | J136: =SUM(G136,I136) -> 56000
A137: 31) | B137: ='[41]산출(전기)'!B35 -> I/O 단자대 | D137: ='[41]산출(전기)'!E38 -> EA | E137: ='[41]산출(전기)'!F35 -> 2 | F137: 15000 | G137: =E137*F137 -> 30000 | J137: =SUM(G137,I137) -> 30000
A138: 32) | B138: ='[41]산출(전기)'!B36 -> REMOTE I/O | C138: ='[41]산출(전기)'!C36 -> 32D | D138: ='[41]산출(전기)'!E39 -> EA | E138: ='[41]산출(전기)'!F36 -> 1 | F138: 320000 | G138: =E138*F138 -> 320000 | J138: =SUM(G138,I138) -> 320000
A139: 33) | B139: ='[41]산출(전기)'!B37 -> REMOTE I/O | C139: ='[41]산출(전기)'!C37 -> 16R | D139: ='[41]산출(전기)'!E40 -> PAGE | E139: ='[41]산출(전기)'!F37 -> 1 | F139: 291000 | G139: =E139*F139 -> 291000 | J139: =SUM(G139,I139) -> 291000
A140: 34) | B140: ='[41]산출(전기)'!B38 -> PROGRAMMING | C140: ='[41]산출(전기)'!C38 -> DIGITAL | D140: ='[41]산출(전기)'!E38 -> EA | E140: ='[41]산출(전기)'!F38 -> 18 | F140: 63000 | G140: =E140*F140 -> 1134000 | J140: =SUM(G140,I140) -> 1134000
A141: 35) | B141: ='[41]산출(전기)'!B39 -> PROGRAMMING | C141: ='[41]산출(전기)'!C39 -> ANALOG | D141: ='[41]산출(전기)'!E39 -> EA | E141: ='[41]산출(전기)'!F39 -> 9 | F141: 126000 | G141: =E141*F141 -> 1134000 | J141: =SUM(G141,I141) -> 1134000
A142: 36) | B142: ='[41]산출(전기)'!B40 -> 작화 수정(stage-pro) | C142: ='[41]산출(전기)'!C40 -> 표준화면 | D142: ='[41]산출(전기)'!E40 -> PAGE | E142: ='[41]산출(전기)'!F40 -> 10 | F142: 1138000 | G142: =E142*F142 -> 11380000 | J142: =SUM(G142,I142) -> 11380000
A143: 37) | B143: 조립 인건비 | C143: 내선전공 | D143: 인 | E143: ='[41]산출(전기)'!J42 -> 15.665 | H143: 170000 | I143: =INT(H143*E143) -> 2663050 | J143: =SUM(G143,I143) -> 2663050
A144: 38) | B144: 조립 인건비 | C144: 플렌트전공 | D144: 인 | E144: ='[41]산출(전기)'!L42 -> 9 | H144: 260000 | I144: =INT(H144*E144) -> 2340000 | J144: =SUM(G144,I144) -> 2340000
A145: 39) | B145: 조립 인건비 | C145: 계장공 | D145: 인 | E145: ='[41]산출(전기)'!N42 -> 3.814 | H145: 321645 | I145: =INT(H145*E145) -> 1226754 | J145: =SUM(G145,I145) -> 1226754
A146: 40) | B146: 조립 인건비 | C146: 변전전공 | D146: 인 | E146: ='[41]산출(전기)'!P42 -> 0.27 | H146: 485593 | I146: =INT(H146*E146) -> 131110 | J146: =SUM(G146,I146) -> 131110
A147: 41) | B147: 조립 인건비 | C147: 저압케이블전공 | D147: 인 | E147: ='[41]산출(전기)'!R42 -> 0.84 | H147: 300000 | I147: =INT(H147*E147) -> 252000 | J147: =SUM(G147,I147) -> 252000
A148: 42) | B148: 조립 인건비 | C148: 보통인부 | D148: 인 | E148: ='[41]산출(전기)'!T42 -> 0.216 | H148: 172698 | I148: =INT(H148*E148) -> 37302 | J148: =SUM(G148,I148) -> 37302
A149: 43) | B149: 조립 인건비 | C149: H/W시험사 | D149: 인 | E149: ='[41]산출(전기)'!V42 -> 4 | H149: 398279 | I149: =INT(H149*E149) -> 1593116 | J149: =SUM(G149,I149) -> 1593116
A150: 44) | B150: 조립 인건비 | C150: 전기공사기사 | D150: 인 | E150: ='[41]산출(전기)'!Z42 -> 1.458 | H150: 335319 | I150: =INT(H150*E150) -> 488895 | J150: =SUM(G150,I150) -> 488895
A152: NO | B152: 품 명 | C152: 규 격 | D152: 단위 | E152: 수 량 | F152: 재 료 비 | H152: 노 무 비 | J152: 합 계 | K152: 비 고
F153: 단 가 | G153: 금 액 | H153: 단 가 | I153: 금 액
A154: 45) | B154: 잡자재비 | D154: % | E154: 5 | F154: =SUM(G104:G125,G129:G142) -> 35898213 | G154: =INT(E154*F154%) -> 1794910 | J154: =I154+G154 -> 1794910
A155: 46) | B155: 공구손료 | D155: % | E155: 3 | F155: =SUM(I143:I150) -> 8732227 | G155: =INT(E155*F155%) -> 261966 | J155: =I155+G155 -> 261966
B175: 소 계 | G175: =SUM(G104:G125,G129:G150,G154:G174) -> 37955089 | I175: =SUM(I104:I125,I129:I150,I154:I174) -> 8732227 | J175: =SUM(J104:J125,J129:J150,J154:J174) -> 46687316
A176: ="내역 "&내역!A8&". "&내역!B8&" : "&내역!C8 -> 내역 05. 배관 및 배선(PIPING & WIRING) :
A177: NO | B177: 품 명 | C177: 규 격 | D177: 단위 | E177: 수 량 | F177: 재 료 비 | H177: 노 무 비 | J177: 합 계 | K177: 비 고
F178: 단 가 | G178: 금 액 | H178: 단 가 | I178: 금 액
A179: 1) | B179: ='[41]산출(전기)'!B47 -> U CANNEL | C179: ='[41]산출(전기)'!C47 -> 42 x 42 | D179: ='[41]산출(전기)'!E47 -> M | E179: ='[41]산출(전기)'!H47 -> 4.8 | F179: 10730 | G179: =ROUNDDOWN(E179*F179,0) -> 51504 | J179: =SUM(G179,I179) -> 51504
A180: 2) | B180: ='[41]산출(전기)'!B48 -> STEEL PIPE | C180: ='[41]산출(전기)'!C48 -> 22C | D180: ='[41]산출(전기)'!E48 -> M | E180: ='[41]산출(전기)'!H48 -> 9.45 | F180: 4200 | G180: =ROUNDDOWN(E180*F180,0) -> 39690 | J180: =SUM(G180,I180) -> 39690
A181: 3) | B181: ='[41]산출(전기)'!B49 -> STEEL PIPE | C181: ='[41]산출(전기)'!C49 -> 28C | D181: ='[41]산출(전기)'!E49 -> M | E181: ='[41]산출(전기)'!H49 -> 9.45 | F181: 5500 | G181: =ROUNDDOWN(E181*F181,0) -> 51975 | J181: =SUM(G181,I181) -> 51975
A182: 4) | B182: ='[41]산출(전기)'!B50 -> STEEL PIPE | C182: ='[41]산출(전기)'!C50 -> 36C | D182: ='[41]산출(전기)'!E50 -> M | E182: ='[41]산출(전기)'!H50 -> 9.45 | F182: 6900 | G182: =ROUNDDOWN(E182*F182,0) -> 65205 | J182: =SUM(G182,I182) -> 65205
A183: 5) | B183: ='[41]산출(전기)'!B51 -> KOFLEX | C183: ='[41]산출(전기)'!C51 -> GW22 | D183: ='[41]산출(전기)'!E51 -> M | E183: ='[41]산출(전기)'!H51 -> 6.3 | F183: 2880 | G183: =ROUNDDOWN(E183*F183,0) -> 18144 | J183: =SUM(G183,I183) -> 18144
A184: 6) | B184: ='[41]산출(전기)'!B52 -> KOFLEX | C184: ='[41]산출(전기)'!C52 -> GW28 | D184: ='[41]산출(전기)'!E52 -> M | E184: ='[41]산출(전기)'!H52 -> 6.3 | F184: 3470 | G184: =ROUNDDOWN(E184*F184,0) -> 21861 | J184: =SUM(G184,I184) -> 21861
A185: 7) | B185: ='[41]산출(전기)'!B53 -> KOFLEX | C185: ='[41]산출(전기)'!C53 -> GW36 | D185: ='[41]산출(전기)'!E53 -> M | E185: ='[41]산출(전기)'!H53 -> 6.3 | F185: 5280 | G185: =ROUNDDOWN(E185*F185,0) -> 33264 | J185: =SUM(G185,I185) -> 33264
A186: 8) | B186: ='[41]산출(전기)'!B54 -> KOFLEX CONNECTOR | C186: ='[41]산출(전기)'!C54 -> GWCZ-22 | D186: ='[41]산출(전기)'!E54 -> EA | E186: ='[41]산출(전기)'!H54 -> 6 | F186: 3300 | G186: =ROUNDDOWN(E186*F186,0) -> 19800 | J186: =SUM(G186,I186) -> 19800
A187: 9) | B187: ='[41]산출(전기)'!B55 -> KOFLEX CONNECTOR | C187: ='[41]산출(전기)'!C55 -> GWCZ-28 | D187: ='[41]산출(전기)'!E55 -> EA | E187: ='[41]산출(전기)'!H55 -> 6 | F187: 3980 | G187: =ROUNDDOWN(E187*F187,0) -> 23880 | J187: =SUM(G187,I187) -> 23880
A188: 10) | B188: ='[41]산출(전기)'!B56 -> KOFLEX CONNECTOR | C188: ='[41]산출(전기)'!C56 -> GWCZ-36 | D188: ='[41]산출(전기)'!E56 -> EA | E188: ='[41]산출(전기)'!H56 -> 6 | F188: 5290 | G188: =ROUNDDOWN(E188*F188,0) -> 31740 | J188: =SUM(G188,I188) -> 31740
A189: 11) | B189: ='[41]산출(전기)'!B57 -> CABLE F-CV | C189: ='[41]산출(전기)'!C57 -> 10.0SQ x 4C | D189: ='[41]산출(전기)'!E57 -> M | E189: ='[41]산출(전기)'!H57 -> 267.75 | F189: 3319 | G189: =ROUNDDOWN(E189*F189,0) -> 888662 | J189: =SUM(G189,I189) -> 888662
A190: 12) | B190: ='[41]산출(전기)'!B58 -> DATE CABLE | C190: ='[41]산출(전기)'!C58 -> 0.5SQ x 8C | D190: ='[41]산출(전기)'!E58 -> M | E190: ='[41]산출(전기)'!H58 -> 267.75 | F190: 4762 | G190: =ROUNDDOWN(E190*F190,0) -> 1275025 | J190: =SUM(G190,I190) -> 1275025
...
