Workbook
Name __: #REF!
Name ___: #REF!
Name ____: #REF!
Name _____: #REF!
Name ______: #REF!
Name _______: #REF!
Name __________: #REF!
Name _____________0: #REF!
Name _____________11: #REF!
Name _____________12: #REF!
Name ___________DOG1: #REF!
Name ___________DOG2: #REF!
Name ___________DOG3: #REF!
Name ___________DOG4: #REF!
Name ___________PI48: #REF!
Name ___________PI60: #REF!
Name ___________RO110: #REF!
Name ___________RO22: #REF!
Name ___________RO35: #REF!
Name ___________RO60: #REF!
Name ___________RO80: #REF!
Name ___________TON1: #REF!
Name ___________TON2: #REF!
Name ___________WW2: #REF!
Name ___________WW6: #REF!
Name __________0: #REF!
Name __________11: #REF!
Name __________12: #REF!
Name _________0: #REF!
Name _________10: #REF!
Name _________11: #REF!
Name _________12: #REF!
Name _________DOG1: #REF!
Name _________DOG2: #REF!
Name _________DOG3: #REF!
Name _________DOG4: #REF!
Name _________PI48: #REF!
Name _________PI60: #REF!
Name _________RO110: #REF!
Name _________RO22: #REF!
Name _________RO35: #REF!
Name _________RO60: #REF!
Name _________RO80: #REF!
Name _________TON1: #REF!
Name _________TON2: #REF!
Name _________WW2: #REF!
Name _________WW6: #REF!
Name ________0: #REF!
Name ________10: #REF!
Name ________11: #REF!
Name ________12: #REF!
Name _______0: #REF!
Name _______DOG1: #REF!
Name _______DOG2: #REF!
Name _______DOG3: #REF!
Name _______DOG4: #REF!
Name _______PI48: #REF!
Name _______PI60: #REF!
Name _______RO110: #REF!
Name _______RO22: #REF!

Sheet 견갑(하나)가로갑
K5: 제출일자:2026년 09월 일
A6: 제출처:㈜ 벡스코 | K6: 견적번호:HNST 2026-097010
A9: 건명:벡스코 오디토리움 무대기계장치 교체
K11: TEL : 051 - 582 - 3600
A12: ="금액:일금"&NUMBERSTRING(J23,1)&" 원정 " -> 금액:일금일억팔천삼백사십칠만구천구백오십 원정 | D12: =J23 -> 1.8347995e+08 | G12: 부가가치세 포함 | K12: FAX : 051 - 583 - 5988
A13: NO | B13: 품 명 | C13: 규 격 | D13: 단위 | E13: 수량 | F13: 재 료 비 | H13: 노 무 비 | J13: 금 액 | K13: 비 고
F14: 단 가 | G14: 금 액 | H14: 단 가 | I14: 금 액
A15: 1 | B15: 직 접 비 | G15: =원가계산서!D4 -> 112341979 | I15: =원가계산서!D5 -> 23123014 | J15: =I15+G15 -> 135464993
A16: 2 | B16: 보험료 대상 | G16: =원가계산서!D8 -> 14918294 | I16: =원가계산서!D9 -> 14801728 | J16: =I16+G16 -> 29720022
A17: 3 | B17: 경 비 | J17: =원가계산서!D20 -> 1614939.7
B18: 소 계 | J18: =SUM(J15:J17) -> 1.6679995e+08
B19: 부가가치세 | C19: 상기금액의 | D19: % | E19: 10 | J19: =J18*0.1 -> 16679995
B23: 합 계 | J23: =SUM(J18:J19) -> 1.8347995e+08
A24: 특기사항 | B24: 1) 부가 가치세 포함
B25: 2) 경비 포함
B26: 3) 철거비 포함

Sheet 원가계산서
A1: 벡스코 오디토리움 무대기계장치 교체 원가계산서
G2: 일금일억팔천삼백사십칠만구천구백오십원정(183,479,950)
A3: 비 목 | D3: 금 액 | E3: 구 성 비 | G3: 비 고
A4: 순 공 사 원 가 | B4: 직접비 | C4: 재 료 비 | D4: =내역!G9 -> 112341979
C5: 노 무 비 | D5: =내역!I9 -> 23123014
C6: 작업설 부산물 | D6: =내역!G11 -> 1404815
C7: [ 소 계 ] | D7: =SUM(D4:D5) -> 135464993
B8: 보험료대상 | C8: 재 료 비 | D8: =내역!G10 -> 14918294
C9: 노 무 비 | D9: =내역!I10 -> 14801728
C10: [ 소 계 ] | D10: =SUM(D8:D9) -> 29720022
B11: 경 비 | C11: 산 재 보 험 료 | D11: =INT(D9*0.0356) -> 526941 | E11: 노무비의 | F11: 0.0356
C12: 고 용 보 험 료 | D12: =INT(D9*0.0101) -> 149497 | E12: 노무비의 | F12: 0.0101
C13: 국민 연금 보험료 | G13: 1개월 미만공사 제외
C14: 국민 건강 보험료 | G14: 1개월 미만공사 제외
C15: 노인장기요양보험료 | G15: 1개월 미만공사 제외
C16: 근로자퇴직공제부금비 | G16: 1억원 미만공사 제외
C17: 산업안전보건관리비 | D17: =D10*0.0311 -> 924292.68 | E17: 재료비+노무비 | F17: 0.0311
C18: 석면 분담금 | D18: =INT(D9*0.00006) -> 888 | E18: 노무비의 | F18: 6e-05
C19: 임금채권부담금 | D19: =INT(D9*0.0009) -> 13321 | E19: 노무비의 | F19: 0.0009
C20: [ 소 계 ] | D20: =SUM(D11:D19) -> 1614939.7
A21: 계 | D21: =D7+D10+D20 -> 1.6679995e+08
A22: 부 가 가 치 세 | D22: =INT(D21*0.1) -> 16679995 | E22: 공급가액의 | F22: 0.1
A23: 소 계 | D23: =D21+D22 -> 1.8347995e+08
A24: 총 공 사 비 | D24: =D23 -> 1.8347995e+08 | E24: 천단위절사

Sheet 내역
A1: 내역. 벡스코 오디토리움 무대기계장치 교체
A2: NO | B2: 품 명 | C2: 규 격 | D2: 단위 | E2: 수량 | F2: 재 료 비 | H2: 노 무 비 | J2: 합 계 | K2: 비 고
F3: 단 가 | G3: 금 액 | H3: 단 가 | I3: 금 액
A4: 01 | B4: NO.4 조명걸이대 (NO.4 LIGHT BATTEN) | C4: 30,000L 15Kw x 4P | D4: SET | E4: 1 | F4: =OFFSET($G$1,ROW(G3)*25-1,0) -> 24795630 | G4: =INT(E4*F4) -> 24795630 | H4: =OFFSET($I$1,ROW(I3)*25-1,0) -> 4796929 | I4: =INT(H4*E4) -> 4796929 | J4: =SUM(G4,I4) -> 29592559 | K4: 내역Ⅰ-01호표
A5: 02 | B5: NO.5 조명걸이대 (NO.5 LIGHT BATTEN) | C5: 30,000L 15Kw x 4P | D5: SET | E5: 1 | F5: =OFFSET($G$1,ROW(G4)*25-1,0) -> 24795630 | G5: =INT(E5*F5) -> 24795630 | H5: =OFFSET($I$1,ROW(I4)*25-1,0) -> 4796929 | I5: =INT(H5*E5) -> 4796929 | J5: =SUM(G5,I5) -> 29592559 | K5: 내역Ⅰ-02호표
A6: 03 | B6: 스크린 걸이대 (SCREEN BATTEN) | C6: 30,000L 15Kw x 4P | D6: SET | E6: 1 | F6: =G100 -> 24795630 | G6: =INT(E6*F6) -> 24795630 | H6: =I100 -> 4796929 | I6: =INT(H6*E6) -> 4796929 | J6: =SUM(G6,I6) -> 29592559 | K6: 내역Ⅰ-03호표
A7: 04 | B7: 제어시스템(CONTROL SYSTEM) | D7: SET | E7: 1 | F7: =G175 -> 37955089 | G7: =INT(E7*F7) -> 37955089 | H7: =I175 -> 8732227 | I7: =INT(H7*E7) -> 8732227 | J7: =SUM(G7,I7) -> 46687316 | K7: 내역Ⅰ-04호표
A8: 05 | B8: 배관 및 배선(PIPING & WIRING) | D8: SET | E8: 1 | F8: =G225 -> 14918294 | G8: =INT(E8*F8) -> 14918294 | H8: =I225 -> 14801728 | I8: =INT(H8*E8) -> 14801728 | J8: =SUM(G8,I8) -> 29720022 | K8: 내역Ⅰ-05호표
B9: 제조부문 | C9: 01 ~ 04 | G9: =SUM(G4:G7) -> 112341979 | I9: =SUM(I4:I7) -> 23123014 | J9: =I9+G9 -> 135464993
B10: 설치부문 | C10: 05 | G10: =G8 -> 14918294 | I10: =I8 -> 14801728 | J10: =I10+G10 -> 29720022
B11: 작업설 부산물 | D11: Kg | E11: =(E33+E58+E83)*1000 -> 3426.3782 | F11: 410 | G11: =INT(E11*F11) -> 1404815
B25: 소 계 | G25: =SUM(G9:G10) -> 127260273 | I25: =SUM(I9:I10) -> 37924742 | J25: =SUM(J9:J10) -> 165185015
A26: ="내역 "&내역!A4&". "&내역!B4&" : "&내역!C4 -> 내역 01. NO.4 조명걸이대 (NO.4 LIGHT BATTEN) : 30,000L 15Kw x 4P
A27: NO | B27: 품 명 | C27: 규 격 | D27: 단위 | E27: 수 량 | F27: 재 료 비 | H27: 노 무 비 | J27: 합 계 | K27: 비 고
F28: 단 가 | G28: 금 액 | H28: 단 가 | I28: 금 액
A29: 1) | B29: ='[41]산출(기계)'!B5 -> DRIVE M/C ASS'Y | C29: ='[41]산출(기계)'!C5 -> 15KW x 4P | D29: ='[41]산출(기계)'!E5 -> SET | E29: ='[41]산출(기계)'!G5 -> 1 | F29: 20000000 | G29: =INT(E29*F29) -> 20000000 | J29: =SUM(G29,I29) -> 20000000
A30: 2) | B30: ='[41]산출(기계)'!B8 -> WIRE FIXED DEVICE | C30: ='[41]산출(기계)'!C8 -> Ø6 용 | D30: ='[41]산출(기계)'!E8 -> SET | E30: ='[41]산출(기계)'!G8 -> 11 | F30: 35000 | G30: =INT(E30*F30) -> 385000 | J30: =SUM(G30,I30) -> 385000
A31: 3) | B31: ='[41]산출(기계)'!B9 -> WIRE ROPE | C31: ='[41]산출(기계)'!C9 -> 19 x 7, Ø6 | D31: ='[41]산출(기계)'!E9 -> m | E31: ='[41]산출(기계)'!G9 -> 450.45 | F31: 1400 | G31: =INT(E31*F31) -> 630630 | J31: =SUM(G31,I31) -> 630630
A32: 4) | B32: ='[41]산출(기계)'!B12 -> TRUSS BATTEN | C32: ='[41]산출(기계)'!C12 -> 30,000L x 300H | D32: ='[41]산출(기계)'!E13 -> M | E32: 31.5 | F32: 120000 | G32: =INT(E32*F32) -> 3780000 | I32: =INT(H32*E32) -> 0 | J32: =SUM(G32,I32) -> 3780000
A33: 5) | B33: 설치 인건비 | C33: =[41]일위대가!$B$4 -> 일반기기 설치공사 | D33: TON | E33: ='[41]산출(기계)'!K25/1000 -> 1.1421261 | H33: 4200000 | I33: =INT(H33*E33) -> 4796929 | J33: =SUM(G33,I33) -> 4796929
B50: 소 계 | G50: =SUM(G29:G49) -> 24795630 | I50: =SUM(I29:I49) -> 4796929 | J50: =SUM(J29:J49) -> 29592559
A51: ="내역 "&내역!A5&". "&내역!B5&" : "&내역!C5 -> 내역 02. NO.5 조명걸이대 (NO.5 LIGHT BATTEN) : 30,000L 15Kw x 4P
A52: NO | B52: 품 명 | C52: 규 격 | D52: 단위 | E52: 수 량 | F52: 재 료 비 | H52: 노 무 비 | J52: 합 계 | K52: 비 고
F53: 단 가 | G53: 금 액 | H53: 단 가 | I53: 금 액
A54: 1) | B54: ='[41]산출(기계)'!B30 -> DRIVE M/C ASS'Y | C54: ='[41]산출(기계)'!C30 -> 15KW x 4P | D54: ='[41]산출(기계)'!E30 -> SET | E54: ='[41]산출(기계)'!G30 -> 1 | F54: 20000000 | G54: =INT(E54*F54) -> 20000000 | J54: =SUM(G54,I54) -> 20000000
A55: 2) | B55: ='[41]산출(기계)'!B33 -> WIRE FIXED DEVICE | C55: ='[41]산출(기계)'!C33 -> Ø6 용 | D55: ='[41]산출(기계)'!E33 -> SET | E55: ='[41]산출(기계)'!G33 -> 11 | F55: 35000 | G55: =INT(E55*F55) -> 385000 | J55: =SUM(G55,I55) -> 385000
A56: 3) | B56: ='[41]산출(기계)'!B34 -> WIRE ROPE | C56: ='[41]산출(기계)'!C34 -> 19 x 7, Ø6 | D56: ='[41]산출(기계)'!E34 -> m | E56: ='[41]산출(기계)'!G34 -> 450.45 | F56: 1400 | G56: =INT(E56*F56) -> 630630 | J56: =SUM(G56,I56) -> 630630
A57: 4) | B57: ='[41]산출(기계)'!B37 -> TRUSS BATTEN | C57: ='[41]산출(기계)'!C37 -> 30,000L x 300H | D57: ='[41]산출(기계)'!E38 -> M | E57: 31.5 | F57: 120000 | G57: =INT(E57*F57) -> 3780000 | I57: =INT(H57*E57) -> 0 | J57: =SUM(G57,I57) -> 3780000
A58: 5) | B58: 설치 인건비 | C58: =[41]일위대가!$B$4 -> 일반기기 설치공사 | D58: TON | E58: ='[41]산출(기계)'!K50/1000 -> 1.1421261 | H58: 4200000 | I58: =INT(H58*E58) -> 4796929 | J58: =SUM(G58,I58) -> 4796929
B75: 소 계 | G75: =SUM(G54:G74) -> 24795630 | I75: =SUM(I54:I74) -> 4796929 | J75: =SUM(J54:J74) -> 29592559
A76: ="내역 "&내역!A6&". "&내역!B6&" : "&내역!C6 -> 내역 03. 스크린 걸이대 (SCREEN BATTEN) : 30,000L 15Kw x 4P
A77: NO | B77: 품 명 | C77: 규 격 | D77: 단위 | E77: 수 량 | F77: 재 료 비 | H77: 노 무 비 | J77: 합 계 | K77: 비 고
F78: 단 가 | G78: 금 액 | H78: 단 가 | I78: 금 액
A79: 1) | B79: ='[41]산출(기계)'!B55 -> DRIVE M/C ASS'Y | C79: ='[41]산출(기계)'!C55 -> 15KW x 4P | D79: ='[41]산출(기계)'!E55 -> SET | E79: ='[41]산출(기계)'!G55 -> 1 | F79: 20000000 | G79: =INT(E79*F79) -> 20000000 | J79: =SUM(G79,I79) -> 20000000
A80: 2) | B80: ='[41]산출(기계)'!B58 -> WIRE FIXED DEVICE | C80: ='[41]산출(기계)'!C58 -> Ø6 용 | D80: ='[41]산출(기계)'!E58 -> SET | E80: ='[41]산출(기계)'!G58 -> 11 | F80: 35000 | G80: =INT(E80*F80) -> 385000 | J80: =SUM(G80,I80) -> 385000
A81: 3) | B81: ='[41]산출(기계)'!B59 -> WIRE ROPE | C81: ='[41]산출(기계)'!C59 -> 19 x 7, Ø6 | D81: ='[41]산출(기계)'!E59 -> m | E81: ='[41]산출(기계)'!G59 -> 450.45 | F81: 1400 | G81: =INT(E81*F81) -> 630630 | J81: =SUM(G81,I81) -> 630630
A82: 4) | B82: ='[41]산출(기계)'!B62 -> TRUSS BATTEN | C82: ='[41]산출(기계)'!C62 -> 30,000L x 300H | D82: ='[41]산출(기계)'!E63 -> M | E82: 31.5 | F82: 120000 | G82: =INT(E82*F82) -> 3780000 | I82: =INT(H82*E82) -> 0 | J82: =SUM(G82,I82) -> 3780000
A83: 5) | B83: 설치 인건비 | C83: =[41]일위대가!$B$4 -> 일반기기 설치공사 | D83: TON | E83: ='[41]산출(기계)'!K75/1000 -> 1.1421261 | H83: 4200000 | I83: =INT(H83*E83) -> 4796929 | J83: =SUM(G83,I83) -> 4796929
B100: 소 계 | G100: =SUM(G79:G99) -> 24795630 | I100: =SUM(I79:I99) -> 4796929 | J100: =SUM(J79:J99) -> 29592559
A101: ="내역 "&내역!A7&". "&내역!B7&" : "&내역!C7 -> 내역 04. 제어시스템(CONTROL SYSTEM) :
...
