Workbook
Name _: #REF!
Name ____A1: #REF!
Name ____av1: '[1]공사비예산서(토목분)'!#REF!
Name ____b2: #REF!
Name ____DOG1: #REF!
Name ____DOG2: #REF!
Name ____DOG3: #REF!
Name ____DOG4: #REF!
Name ____LP1: '[2]부하(성남)'!#REF!
Name ____LP2: #REF!
Name ____LPB1: [3]부하계산서!#REF!
Name ____LPK1: [3]부하계산서!#REF!
Name ____LU1: '[2]부하(성남)'!#REF!
Name ____LU2: '[2]부하(성남)'!#REF!
Name ____LV01: '[2]부하(성남)'!#REF!
Name ____PI48: #REF!
Name ____PI60: #REF!
Name ____px1: #REF!
Name ____px2: #REF!
Name ____RO110: #REF!
Name ____RO22: #REF!
Name ____RO35: #REF!
Name ____RO60: #REF!
Name ____RO80: #REF!
Name ____SM400: [4]물가시세!#REF!
Name ____stp1: #REF!
Name ____stp10: #REF!
Name ____stp11: #REF!
Name ____stp12: #REF!
Name ____stp13: #REF!
Name ____stp14: #REF!
Name ____stp15: #REF!
Name ____stp16: #REF!
Name ____stp17: #REF!
Name ____stp18: #REF!
Name ____stp19: #REF!
Name ____stp2: #REF!
Name ____stp20: #REF!
Name ____stp21: #REF!
Name ____stp22: #REF!
Name ____stp23: #REF!
Name ____stp24: #REF!
Name ____stp25: #REF!
Name ____stp26: #REF!
Name ____stp27: #REF!
Name ____stp28: #REF!
Name ____stp29: #REF!
Name ____stp3: #REF!
Name ____stp30: #REF!
Name ____stp31: #REF!
Name ____stp32: #REF!
Name ____stp33: #REF!
Name ____stp34: #REF!
Name ____stp35: #REF!
Name ____stp36: #REF!
Name ____stp37: #REF!
Name ____stp38: #REF!
Name ____stp39: #REF!
Name ____stp4: #REF!
Name ____stp40: #REF!

Sheet 원가계산서 
B1: 공 사 원 가 계 산 서
B2: 공사명 : 아우내 주차장 태양광설비 설치 전기공사
B3: 비 목 | E3: 금 액 | F3: 구 성 비 | G3: 비 고
A4: A1 | B4: 순 공 사 원 가 | C4: 재 료 비 | D4: 직 접 재 료 비 | E4: =공종별집계표!F27 -> 0
A5: A2 | D5: 간 접 재 료 비
A6: A3 | D6: 작업설, 부산물(△)
A7: AS | D7: [ 소 계 ] | E7: =SUM(E4:E6) -> 0
A8: B1 | C8: 노 무 비 | D8: 직 접 노 무 비 | E8: =공종별집계표!H27 -> 0
A9: B2 | D9: 간 접 노 무 비 | E9: =TRUNC(E8*0.175, 0) -> 0 | F9: 직접노무비 * 17.5%
A10: BS | D10: [ 소 계 ] | E10: =TRUNC(E8+E9, 0) -> 0
A11: C2 | C11: 경 비 | D11: 기 계 경 비 | E11: =공종별집계표!J27 -> 0
A12: C4 | D12: 산 재 보 험 료 | E12: =TRUNC(E10*0.0356, 0) -> 0 | F12: 노무비 * 3.56%
A13: C5 | D13: 고 용 보 험 료 | E13: =TRUNC(E10*0.0101, 0) -> 0 | F13: 노무비 * 1.01%
A14: C6 | D14: 국민 건강 보험료 | E14: =TRUNC(E8*0.03595, 0) -> 0 | F14: 직접노무비 * 3.595%
A15: C7 | D15: 국민 연금 보험료 | E15: =TRUNC(E8*0.0475, 0) -> 0 | F15: 직접노무비 * 4.75%
A16: CB | D16: 노인장기요양보험료 | E16: =TRUNC(E14*0.1314, 0) -> 0 | F16: 건강보험료 * 13.14%
D17: 퇴 직 공 제 부 금 비 | E17: =ROUNDDOWN(E8*2.3%,0) -> 0 | F17: 직접노무비 * 2.3%
A18: CA | D18: 산업안전보건관리비 | E18: =G18 -> 0 | F18: (재료비+직노+도관/1.1) * 3.11% | G18: =ROUNDDOWN((E7+E8+E34/1.1)*3.11%,0) -> 0
A19: CA | F19: ((재료비+직노) *3.11%)* 1.2 | G19: =ROUNDDOWN((E7+E8)*3.11%*1.2,0) -> 0
A20: CG | D20: 석 면 분 담 금 | E20: =ROUNDDOWN(E10*0.006%,0) -> 0 | F20: 노무비 * 0.006%
A21: CG | D21: 임 금 채 권 부 담 금 | E21: =ROUNDDOWN(E10*0.09%,0) -> 0 | F21: 노무비 * 0.09%
A22: CG | D22: 기 타 경 비 | E22: =TRUNC((E7+E10)*0.05, 0) -> 0 | F22: (재료비+노무비) * 5%
A23: CS | D23: [ 소 계 ] | E23: =SUM(E11:E22) -> 0
A24: S1 | B24: 계 | E24: =TRUNC(E7+E10+E23, 0) -> 0
A25: D1 | B25: 일 반 관 리 비 | E25: =TRUNC(E24*0.08, 0) -> 0 | F25: 계 * 8%
A26: D2 | B26: 이 윤 | E26: =TRUNC((E10+E23+E25)*0.15, 0) -> 0 | F26: (노무비+경비+일반관리비) * 15%
A27: D2 | B27: 폐 기 물 처 리 비 | E27: =공종별집계표!L10 -> 0
B28: 공사 손해배상책임보험 | E28: =TRUNC((E24+E25+E26+E27+G34)*0.0026477, -2) -> 0 | F28: 순계약금액 * 공제[보험)]율 0.26477%)
A29: D9 | B29: 공 급 가 액 | E29: =SUM(E24:E28) -> 0
A30: DB | B30: 부 가 가 치 세 | E30: =TRUNC(E29*0.1, 0) -> 0 | F30: 공급가액 * 10%
A31: DH | B31: 공 사 비 합 계 | E31: =SUM(E29:E30) -> 0
A32: DH | B32: 도 급 액 | E32: =ROUNDDOWN(E31,0) -> 0 | G32: 천원미만절사
B33: 관급자 관급자재 | E33: =공종별집계표!L11 -> 0
B34: 도급자 관급자재 | E34: =공종별집계표!L13 -> 0 | F34: 공사 손해배상책임보험 산정 대상금액 | G34: =ROUNDDOWN(공종별내역서!L149/1.1,0) -> 0
B35: 사 용 전 검 사 비 | E35: =공종별집계표!L15 -> 0
A36: S2 | B36: 총 공 사 비 | E36: =SUM(E32:E35) -> 0

Sheet 공종별집계표
A1: 공 종 별 집 계 표
A2: [ 아우내 주차장 태양광설비 설치 전기공사 ]
A3: 품 명 | B3: 규 격 | C3: 단위 | D3: 수량 | E3: 재 료 비 | G3: 노 무 비 | I3: 경 비 | K3: 합 계 | M3: 비 고 | N3: 공종코드 | O3: 변수 | P3: 상위공종 | Q3: 공종구분 | R3: 공종레벨 | S3: 공종소계 | T3: 원가계산서 연결금액
E4: 단 가 | F4: 금 액 | G4: 단 가 | H4: 금 액 | I4: 단 가 | J4: 금 액 | K4: 단 가 | L4: 금 액
A5: 01 아우내 주차장 태양광설비 설치 전기공사 | D5: 1 | E5: =F6 -> 0 | F5: =E5*D5 -> 0 | G5: =H6 -> 0 | H5: =G5*D5 -> 0 | I5: =J6 -> 0 | J5: =I5*D5 -> 0 | K5: =E5+G5+I5 -> 0 | L5: =F5+H5+J5 -> 0 | N5: 01 | R5: 1
A6: 0101 도급공사 | D6: 1 | E6: =F7+F8+F9 -> 0 | F6: =E6*D6 -> 0 | G6: =H7+H8+H9 -> 0 | H6: =G6*D6 -> 0 | I6: =J7+J8+J9 -> 0 | J6: =I6*D6 -> 0 | K6: =E6+G6+I6 -> 0 | L6: =F6+H6+J6 -> 0 | N6: 0101 | P6: 01 | R6: 2
A7: 010101 태양광설비 설치공사 | D7: 1 | E7: =공종별내역서!F51 -> 0 | F7: =E7*D7 -> 0 | G7: =공종별내역서!H51 -> 0 | H7: =G7*D7 -> 0 | I7: =공종별내역서!J51 -> 0 | J7: =I7*D7 -> 0 | K7: =E7+G7+I7 -> 0 | L7: =F7+H7+J7 -> 0 | N7: 010101 | P7: 0101 | R7: 3
A8: 010102 전등설비공사 | D8: 1 | E8: =공종별내역서!F75 -> 0 | F8: =E8*D8 -> 0 | G8: =공종별내역서!H75 -> 0 | H8: =G8*D8 -> 0 | I8: =공종별내역서!J75 -> 0 | J8: =I8*D8 -> 0 | K8: =E8+G8+I8 -> 0 | L8: =F8+H8+J8 -> 0 | N8: 010102 | P8: 0101 | R8: 3
A9: 010103 보안등설비공사 | D9: 1 | E9: =공종별내역서!F99 -> 0 | F9: =E9*D9 -> 0 | G9: =공종별내역서!H99 -> 0 | H9: =G9*D9 -> 0 | I9: =공종별내역서!J99 -> 0 | J9: =I9*D9 -> 0 | K9: =E9+G9+I9 -> 0 | L9: =F9+H9+J9 -> 0 | N9: 010103 | P9: 0101 | R9: 3
A10: 0102 폐기물처리비 | D10: 1 | E10: =공종별내역서!F123 -> 0 | F10: =E10*D10 -> 0 | G10: =공종별내역서!H123 -> 0 | H10: =G10*D10 -> 0 | I10: =공종별내역서!J123 -> 0 | J10: =I10*D10 -> 0 | K10: =E10+G10+I10 -> 0 | L10: =F10+H10+J10 -> 0 | N10: 0102 | Q10: 5 | R10: 2 | T10: =L10*1 -> 0
A11: 0103 관급자 관급자재 | D11: 1 | E11: =F12 -> 0 | F11: =E11*D11 -> 0 | G11: =H12 -> 0 | H11: =G11*D11 -> 0 | I11: =J12 -> 0 | J11: =I11*D11 -> 0 | K11: =E11+G11+I11 -> 0 | L11: =F11+H11+J11 -> 0 | N11: 0103 | Q11: 3 | R11: 2 | T11: =L11*1 -> 0
A12: 010301 태양광발전설비 | D12: 1 | E12: =공종별내역서!F147 -> 0 | F12: =E12*D12 -> 0 | G12: =공종별내역서!H147 -> 0 | H12: =G12*D12 -> 0 | I12: =공종별내역서!J147 -> 0 | J12: =I12*D12 -> 0 | K12: =E12+G12+I12 -> 0 | L12: =F12+H12+J12 -> 0 | N12: 010301 | P12: 0103 | R12: 3
A13: 0104 도급자 관급자재 | D13: 1 | E13: =F14 -> 0 | F13: =E13*D13 -> 0 | G13: =H14 -> 0 | H13: =G13*D13 -> 0 | I13: =J14 -> 0 | J13: =I13*D13 -> 0 | K13: =E13+G13+I13 -> 0 | L13: =F13+H13+J13 -> 0 | N13: 0104 | Q13: 3 | R13: 2 | T13: =L13*1 -> 0
A14: 010401 조명기구 | D14: 1 | E14: =공종별내역서!F171 -> 0 | F14: =E14*D14 -> 0 | G14: =공종별내역서!H171 -> 0 | H14: =G14*D14 -> 0 | I14: =공종별내역서!J171 -> 0 | J14: =I14*D14 -> 0 | K14: =E14+G14+I14 -> 0 | L14: =F14+H14+J14 -> 0 | N14: 010401 | P14: 0104 | R14: 3
A15: 0105 사용전검사비 | B15: 태양광발전 35.2KW | D15: 1 | E15: =공종별내역서!F195 -> 0 | F15: =E15*D15 -> 0 | G15: =공종별내역서!H195 -> 0 | H15: =G15*D15 -> 0 | I15: =공종별내역서!J195 -> 0 | J15: =I15*D15 -> 0 | K15: =E15+G15+I15 -> 0 | L15: =F15+H15+J15 -> 0 | N15: 0105 | Q15: 5 | R15: 2 | T15: =L15*1 -> 0
A27: [ 합 계 ] | F27: =F5 -> 0 | H27: =H5 -> 0 | J27: =J5 -> 0 | L27: =L5 -> 0

Sheet 공종별내역서
A1: [ 아우내 주차장 태양광설비 설치 전기공사 ]
A2: 품 명 | B2: 규 격 | C2: 단위 | D2: 수량 | E2: 재 료 비 | G2: 노 무 비 | I2: 경 비 | K2: 합 계 | M2: 비 고 | N2: 품목코드 | O2: 변수 | P2: 설정 | Q2: 공종코드 | R2: 일위 | S2: 단산 | T2: 자재 | U2: 손료적용 | V2: 손료저장 | W2: 적용율 | X2: JUK1 | Y2: JUK2 | Z2: JUK3 | AA2: JUK4 | AB2: JUK5 | AC2: JUK6 | AD2: JUK7 | AE2: JUK8 | AF2: JUK9 | AG2: JUK10 | AH2: JUK11 | AI2: JUK12 | AJ2: JUK13 | AK2: JUK14 | AL2: JUK15 | AM2: JUK16 | AN2: JUK17 | AO2: JUK18 | AP2: JUK19 | AQ2: JUK20 | AR2: 자재구분 | AS2: 공종구분 | AT2: 공종레벨 | AU2: 공종+자재 | AV2: 고유번호
E3: 단 가 | F3: 금 액 | G3: 단 가 | H3: 금 액 | I3: 단 가 | J3: 금 액 | K3: 단 가 | L3: 금 액
A4: 010101 태양광설비 설치공사 | Q4: 010101
A5: 접지용비닐절연전선 | B5: 접지용비닐절연전선, F-GV, 16㎟ | C5: m | D5: 80 | F5: =TRUNC(E5*D5, 0) -> 0 | H5: =TRUNC(G5*D5, 0) -> 0 | J5: =TRUNC(I5*D5, 0) -> 0 | K5: =TRUNC(E5+G5+I5, 0) -> 0 | L5: =TRUNC(F5+H5+J5, 0) -> 0 | N5: 51FC311762723502365A566C2193F36193730D | Q5: 010101 | R5: F | S5: F | T5: T | Y5: 2 | AU5: 01010151FC311762723502365A566C2193F36193730D | AV5: 4
A6: 접지용비닐절연전선 | B6: 접지용비닐절연전선, F-GV, 35㎟ | C6: m | D6: 9 | F6: =TRUNC(E6*D6, 0) -> 0 | H6: =TRUNC(G6*D6, 0) -> 0 | J6: =TRUNC(I6*D6, 0) -> 0 | K6: =TRUNC(E6+G6+I6, 0) -> 0 | L6: =TRUNC(F6+H6+J6, 0) -> 0 | N6: 51FC311762723502365A566C2193F3619254B0 | Q6: 010101 | R6: F | S6: F | T6: T | Y6: 2 | AU6: 01010151FC311762723502365A566C2193F3619254B0 | AV6: 326
A7: 600V폴리에틸렌케이블 | B7: 600V폴리에틸렌케이블, 0.6/1kV, F-CV, 2C*4㎟ | C7: m | D7: 82 | F7: =TRUNC(E7*D7, 0) -> 0 | H7: =TRUNC(G7*D7, 0) -> 0 | J7: =TRUNC(I7*D7, 0) -> 0 | K7: =TRUNC(E7+G7+I7, 0) -> 0 | L7: =TRUNC(F7+H7+J7, 0) -> 0 | N7: 51FC31176272350235B3E170CD97A9747FBC2F | Q7: 010101 | R7: F | S7: F | T7: T | Y7: 2 | AU7: 01010151FC31176272350235B3E170CD97A9747FBC2F | AV7: 119
A8: 600V폴리에틸렌케이블 | B8: 600V폴리에틸렌케이블, 0.6/1kV, F-CV, 4C*25㎟ | C8: m | D8: 76 | F8: =TRUNC(E8*D8, 0) -> 0 | H8: =TRUNC(G8*D8, 0) -> 0 | J8: =TRUNC(I8*D8, 0) -> 0 | K8: =TRUNC(E8+G8+I8, 0) -> 0 | L8: =TRUNC(F8+H8+J8, 0) -> 0 | N8: 51FC31176272350235B3E170CD97A9736F6D82 | Q8: 010101 | R8: F | S8: F | T8: T | Y8: 2 | AU8: 01010151FC31176272350235B3E170CD97A9736F6D82 | AV8: 277
A9: 600V폴리에틸렌케이블 | B9: 600V폴리에틸렌케이블, 0.6/1kV, F-CV, 1C*70㎟ | C9: m | D9: 18 | F9: =TRUNC(E9*D9, 0) -> 0 | H9: =TRUNC(G9*D9, 0) -> 0 | J9: =TRUNC(I9*D9, 0) -> 0 | K9: =TRUNC(E9+G9+I9, 0) -> 0 | L9: =TRUNC(F9+H9+J9, 0) -> 0 | N9: 51FC31176272350235B3E170CD97A9736F6A32 | Q9: 010101 | R9: F | S9: F | T9: T | Y9: 2 | AU9: 01010151FC31176272350235B3E170CD97A9736F6A32 | AV9: 327
A10: STP 케이블 | B10: STP Cat.6, 4P | C10: m | D10: 169 | F10: =TRUNC(E10*D10, 0) -> 0 | H10: =TRUNC(G10*D10, 0) -> 0 | J10: =TRUNC(I10*D10, 0) -> 0 | K10: =TRUNC(E10+G10+I10, 0) -> 0 | L10: =TRUNC(F10+H10+J10, 0) -> 0 | N10: 51FC31176272350235B13233321472788EEFFF | Q10: 010101 | R10: F | S10: F | T10: T | Y10: 2 | AU10: 01010151FC31176272350235B13233321472788EEFFF | AV10: 122
A11: 경질비닐전선관 | B11: 경질비닐전선관, HI, 54mm | C11: m | D11: 7 | F11: =TRUNC(E11*D11, 0) -> 0 | H11: =TRUNC(G11*D11, 0) -> 0 | J11: =TRUNC(I11*D11, 0) -> 0 | K11: =TRUNC(E11+G11+I11, 0) -> 0 | L11: =TRUNC(F11+H11+J11, 0) -> 0 | N11: 51E3711751B82B027E7D89B6C451D0FF5FC607 | Q11: 010101 | R11: F | S11: F | T11: T | X11: 1 | Y11: 2 | AU11: 01010151E3711751B82B027E7D89B6C451D0FF5FC607 | AV11: 124
A12: 강제전선관(재사용) | B12: 강제전선관, 후강전선관, 아연도, 22mm | C12: m | D12: 23 | F12: =TRUNC(E12*D12, 0) -> 0 | H12: =TRUNC(G12*D12, 0) -> 0 | J12: =TRUNC(I12*D12, 0) -> 0 | K12: =TRUNC(E12+G12+I12, 0) -> 0 | L12: =TRUNC(F12+H12+J12, 0) -> 0 | N12: 51E3711751B82B027E7D89B6C451D0FF5E3FF7 | Q12: 010101 | R12: F | S12: F | T12: T | X12: 1 | Y12: 2 | AU12: 01010151E3711751B82B027E7D89B6C451D0FF5E3FF7 | AV12: 232
A13: 강제전선관 | B13: 강제전선관, 후강전선관, 아연도, 54mm | C13: m | D13: 6 | F13: =TRUNC(E13*D13, 0) -> 0 | H13: =TRUNC(G13*D13, 0) -> 0 | J13: =TRUNC(I13*D13, 0) -> 0 | K13: =TRUNC(E13+G13+I13, 0) -> 0 | L13: =TRUNC(F13+H13+J13, 0) -> 0 | N13: 51E3711751B82B027E7D89B6C451D0FF5E396A | Q13: 010101 | R13: F | S13: F | T13: T | X13: 1 | Y13: 2 | AU13: 01010151E3711751B82B027E7D89B6C451D0FF5E396A | AV13: 252
A14: 파상형경질폴리에틸렌전선관 | B14: 파상형경질폴리에틸렌전선관, 30mm | C14: m | D14: 136 | F14: =TRUNC(E14*D14, 0) -> 0 | H14: =TRUNC(G14*D14, 0) -> 0 | J14: =TRUNC(I14*D14, 0) -> 0 | K14: =TRUNC(E14+G14+I14, 0) -> 0 | L14: =TRUNC(F14+H14+J14, 0) -> 0 | N14: 51E3711751B82B027E7D89B6C451D0FE496999 | Q14: 010101 | R14: F | S14: F | T14: T | X14: 1 | Y14: 2 | AU14: 01010151E3711751B82B027E7D89B6C451D0FE496999 | AV14: 11
A15: 파상형경질폴리에틸렌전선관 | B15: 파상형경질폴리에틸렌전선관, 50mm | C15: m | D15: 65 | F15: =TRUNC(E15*D15, 0) -> 0 | H15: =TRUNC(G15*D15, 0) -> 0 | J15: =TRUNC(I15*D15, 0) -> 0 | K15: =TRUNC(E15+G15+I15, 0) -> 0 | L15: =TRUNC(F15+H15+J15, 0) -> 0 | N15: 51E3711751B82B027E7D89B6C451D0FE49699B | Q15: 010101 | R15: F | S15: F | T15: T | X15: 1 | Y15: 2 | AU15: 01010151E3711751B82B027E7D89B6C451D0FE49699B | AV15: 279
A16: 파상형경질폴리에틸렌전선관 | B16: 파상형경질폴리에틸렌전선관, 80mm | C16: m | D16: 17 | F16: =TRUNC(E16*D16, 0) -> 0 | H16: =TRUNC(G16*D16, 0) -> 0 | J16: =TRUNC(I16*D16, 0) -> 0 | K16: =TRUNC(E16+G16+I16, 0) -> 0 | L16: =TRUNC(F16+H16+J16, 0) -> 0 | N16: 51E3711751B82B027E7D89B6C451D0FE49699D | Q16: 010101 | R16: F | S16: F | T16: T | X16: 1 | Y16: 2 | AU16: 01010151E3711751B82B027E7D89B6C451D0FE49699D | AV16: 12
A17: 전선관부속품비 | B17: 전선관의 15% | C17: 식 | D17: 1 | F17: =TRUNC(E17*D17, 0) -> 0 | H17: =TRUNC(G17*D17, 0) -> 0 | J17: =TRUNC(I17*D17, 0) -> 0 | K17: =TRUNC(E17+G17+I17, 0) -> 0 | L17: =TRUNC(F17+H17+J17, 0) -> 0 | N17: 57DFF117804023026C6380543602001 | Q17: 010101 | R17: F | S17: F | T17: F | U17: 0 | V17: 0 | W17: 0.15 | AU17: 01010157DFF117804023026C6380543600003 | AV17: 360
A18: 잡재료비 | B18: 배관배선의 2% | C18: 식 | D18: 1 | F18: =TRUNC(E18*D18, 0) -> 0 | H18: =TRUNC(G18*D18, 0) -> 0 | J18: =TRUNC(I18*D18, 0) -> 0 | K18: =TRUNC(E18+G18+I18, 0) -> 0 | L18: =TRUNC(F18+H18+J18, 0) -> 0 | N18: 57DFF117804023026C6380543601002 | Q18: 010101 | R18: F | S18: F | T18: F | U18: 0 | V18: 0 | W18: 0.02 | AU18: 01010157DFF117804023026C6380543602001 | AV18: 358
A19: 경질비닐전선관용부품 | B19: 경질비닐전선관용부품, 노말밴드, PVC, 54C | C19: 개 | D19: 2 | F19: =TRUNC(E19*D19, 0) -> 0 | H19: =TRUNC(G19*D19, 0) -> 0 | J19: =TRUNC(I19*D19, 0) -> 0 | K19: =TRUNC(E19+G19+I19, 0) -> 0 | L19: =TRUNC(F19+H19+J19, 0) -> 0 | N19: 51E3711751B82B027E7D8788C9DE491CFF37F6 | Q19: 010101 | R19: F | S19: F | T19: T | AU19: 01010151E3711751B82B027E7D8788C9DE491CFF37F6 | AV19: 126
A20: 강재전선관용부품 | B20: 강재전선관용부품, 노말밴드후강전선관용, 아연도, 54mm | C20: 개 | D20: 1 | F20: =TRUNC(E20*D20, 0) -> 0 | H20: =TRUNC(G20*D20, 0) -> 0 | J20: =TRUNC(I20*D20, 0) -> 0 | K20: =TRUNC(E20+G20+I20, 0) -> 0 | L20: =TRUNC(F20+H20+J20, 0) -> 0 | N20: 51E3711751B82B027E7D8788C9D673C6FF8E7F | Q20: 010101 | R20: F | S20: F | T20: T | AU20: 01010151E3711751B82B027E7D8788C9D673C6FF8E7F | AV20: 15
A21: 경고테이프 | B21: 300×250 | C21: M | D21: 73 | F21: =TRUNC(E21*D21, 0) -> 0 | H21: =TRUNC(G21*D21, 0) -> 0 | J21: =TRUNC(I21*D21, 0) -> 0 | K21: =TRUNC(E21+G21+I21, 0) -> 0 | L21: =TRUNC(F21+H21+J21, 0) -> 0 | N21: 51E3711751B93002BEF445437C9B4FC4D4B3CE | Q21: 010101 | R21: F | S21: F | T21: T | AU21: 01010151E3711751B93002BEF445437C9B4FC4D4B3CE | AV21: 127
A22: 덕트형케이블트레이 | B22: 덕트형케이블트레이, Duct, 100mm | C22: m | D22: 70 | F22: =TRUNC(E22*D22, 0) -> 0 | H22: =TRUNC(G22*D22, 0) -> 0 | J22: =TRUNC(I22*D22, 0) -> 0 | K22: =TRUNC(E22+G22+I22, 0) -> 0 | L22: =TRUNC(F22+H22+J22, 0) -> 0 | N22: 51E3711751B82B027E7D8B677479543A2EC639 | Q22: 010101 | R22: F | S22: F | T22: T | AU22: 01010151E3711751B82B027E7D8B677479543A2EC639 | AV22: 248
A23: 덕트형케이블트레이부속품 | B23: 덕트형케이블트레이부속품, Horizontal elbow, 100mm | C23: 개 | D23: 1 | F23: =TRUNC(E23*D23, 0) -> 0 | H23: =TRUNC(G23*D23, 0) -> 0 | J23: =TRUNC(I23*D23, 0) -> 0 | K23: =TRUNC(E23+G23+I23, 0) -> 0 | L23: =TRUNC(F23+H23+J23, 0) -> 0 | N23: 51E3711751B82B027E7D8A5CA8F6AA25D7C8E0 | Q23: 010101 | R23: F | S23: F | T23: T | AU23: 01010151E3711751B82B027E7D8A5CA8F6AA25D7C8E0 | AV23: 249
A24: 덕트형케이블트레이부속품 | B24: 덕트형케이블트레이부속품, Vertical elbow, 100mm | C24: 개 | D24: 2 | F24: =TRUNC(E24*D24, 0) -> 0 | H24: =TRUNC(G24*D24, 0) -> 0 | J24: =TRUNC(I24*D24, 0) -> 0 | K24: =TRUNC(E24+G24+I24, 0) -> 0 | L24: =TRUNC(F24+H24+J24, 0) -> 0 | N24: 51E3711751B82B027E7D8A5CA8F6AA25D7C8E9 | Q24: 010101 | R24: F | S24: F | T24: T | AU24: 01010151E3711751B82B027E7D8A5CA8F6AA25D7C8E9 | AV24: 250
A25: 케이블트레이부속품 | B25: 덕트형케이블트레이부속품, Connector, 100mm | C25: 개 | D25: 25 | F25: =TRUNC(E25*D25, 0) -> 0 | H25: =TRUNC(G25*D25, 0) -> 0 | J25: =TRUNC(I25*D25, 0) -> 0 | K25: =TRUNC(E25+G25+I25, 0) -> 0 | L25: =TRUNC(F25+H25+J25, 0) -> 0 | N25: 51E3711751B82B027E7D8A5CA8F6AA25D7CAA7 | Q25: 010101 | R25: F | S25: F | T25: T | AU25: 01010151E3711751B82B027E7D8A5CA8F6AA25D7CAA7 | AV25: 132
A26: 케이블트레이부속품 | B26: 케이블트레이부속품, Bonding jumper, 38㎟ | C26: m | D26: 50 | F26: =TRUNC(E26*D26, 0) -> 0 | H26: =TRUNC(G26*D26, 0) -> 0 | J26: =TRUNC(I26*D26, 0) -> 0 | K26: =TRUNC(E26+G26+I26, 0) -> 0 | L26: =TRUNC(F26+H26+J26, 0) -> 0 | N26: 51E3711751B82B027E7D8A5CA8F6AA25D24891 | Q26: 010101 | R26: F | S26: F | T26: T | AU26: 01010151E3711751B82B027E7D8A5CA8F6AA25D24891 | AV26: 133
A27: 케이블트레이부속품 | B27: 케이블트레이부속품, Shank bolt and nut, 아연도 | C27: m | D27: 500 | F27: =TRUNC(E27*D27, 0) -> 0 | H27: =TRUNC(G27*D27, 0) -> 0 | J27: =TRUNC(I27*D27, 0) -> 0 | K27: =TRUNC(E27+G27+I27, 0) -> 0 | L27: =TRUNC(F27+H27+J27, 0) -> 0 | N27: 51E3711751B82B027E7D8A5CA8F6AA25D24895 | Q27: 010101 | R27: F | S27: F | T27: T | AU27: 01010151E3711751B82B027E7D8A5CA8F6AA25D24895 | AV27: 134
A28: 풀박스 | B28: 풀박스, 100*100*100mm | C28: 개 | D28: 1 | F28: =TRUNC(E28*D28, 0) -> 0 | H28: =TRUNC(G28*D28, 0) -> 0 | J28: =TRUNC(I28*D28, 0) -> 0 | K28: =TRUNC(E28+G28+I28, 0) -> 0 | L28: =TRUNC(F28+H28+J28, 0) -> 0 | N28: 51E3711751B93002BEFDAA60638C2FDADC048A | Q28: 010101 | R28: F | S28: F | T28: T | AU28: 01010151E3711751B93002BEFDAA60638C2FDADC048A | AV28: 135
A29: 풀박스 | B29: 풀박스, 400*400*300mm | C29: 개 | D29: 2 | F29: =TRUNC(E29*D29, 0) -> 0 | H29: =TRUNC(G29*D29, 0) -> 0 | J29: =TRUNC(I29*D29, 0) -> 0 | K29: =TRUNC(E29+G29+I29, 0) -> 0 | L29: =TRUNC(F29+H29+J29, 0) -> 0 | N29: 51E3711751B93002BEFDAA63376A213B0761B8 | Q29: 010101 | R29: F | S29: F | T29: T | AU29: 01010151E3711751B93002BEFDAA63376A213B0761B8 | AV29: 136
A30: 러그단자 | B30: 러그단자, 동관단자, 1홀, 25 ㎟ | C30: 개 | D30: 8 | F30: =TRUNC(E30*D30, 0) -> 0 | H30: =TRUNC(G30*D30, 0) -> 0 | J30: =TRUNC(I30*D30, 0) -> 0 | K30: =TRUNC(E30+G30+I30, 0) -> 0 | L30: =TRUNC(F30+H30+J30, 0) -> 0 | N30: 51E3711751B93002B97F0951BBAC5B9C42A522 | Q30: 010101 | R30: F | S30: F | T30: T | AU30: 01010151E3711751B93002B97F0951BBAC5B9C42A522 | AV30: 137
... A43: 되메우고 다지기(백호우+램머) | B43: 토사,T=30cm | C43: ㎥ | D43: 22.5 | F43: =TRUNC(E43*D43, 0) -> 0 | H43: =TRUNC(G43*D43, 0) -> 0 | J43: =TRUNC(I43*D43, 0) -> 0 | K43: =TRUNC(E43+G43+I43, 0) -> 0 | L43: =TRUNC(F43+H43+J43, 0) -> 0 | N43: 56C1E1175F474F0295B7BEE709395C | Q43: 010101 | R43: T | S43: F | T43: F | AU43: 01010156C1E1175F474F0295B7BEE709395C | AV43: 150
A44: 보통인부 | B44: 일반공사 직종 | C44: 인 | D44: 4.6 | F44: =TRUNC(E44*D44, 0) -> 0 | H44: =TRUNC(G44*D44, 0) -> 0 | J44: =TRUNC(I44*D44, 0) -> 0 | K44: =TRUNC(E44+G44+I44, 0) -> 0 | L44: =TRUNC(F44+H44+J44, 0) -> 0 | N44: 5614211702FFE2025BE764E78802F75A5BCDEB | Q44: 010101 | R44: F | S44: F | T44: T | Z44: 3 | AU44: 0101015614211702FFE2025BE764E78802F75A5BCDEB | AV44: 330
A45: 내선전공 | B45: 일반공사 직종 | C45: 인 | D45: 19.7 | F45: =TRUNC(E45*D45, 0) -> 0 | H45: =TRUNC(G45*D45, 0) -> 0 | J45: =TRUNC(I45*D45, 0) -> 0 | K45: =TRUNC(E45+G45+I45, 0) -> 0 | L45: =TRUNC(F45+H45+J45, 0) -> 0 | N45: 5614211702FFE2025BE764E78802F75A5BCA10 | Q45: 010101 | R45: F | S45: F | T45: T | Z45: 3 | AU45: 0101015614211702FFE2025BE764E78802F75A5BCA10 | AV45: 331
A46: 저압케이블전공 | B46: 일반공사 직종 | C46: 인 | D46: 4.8 | F46: =TRUNC(E46*D46, 0) -> 0 | H46: =TRUNC(G46*D46, 0) -> 0 | J46: =TRUNC(I46*D46, 0) -> 0 | K46: =TRUNC(E46+G46+I46, 0) -> 0 | L46: =TRUNC(F46+H46+J46, 0) -> 0 | N46: 5614211702FFE2025BE764E78802F75A5BCA1D | Q46: 010101 | R46: F | S46: F | T46: T | Z46: 3 | AU46: 0101015614211702FFE2025BE764E78802F75A5BCA1D | AV46: 332
A47: 배전전공 | B47: 일반공사 직종 | C47: 인 | D47: 1.4 | F47: =TRUNC(E47*D47, 0) -> 0 | H47: =TRUNC(G47*D47, 0) -> 0 | J47: =TRUNC(I47*D47, 0) -> 0 | K47: =TRUNC(E47+G47+I47, 0) -> 0 | L47: =TRUNC(F47+H47+J47, 0) -> 0 | N47: 5614211702FFE2025BE764E78802F75A5BC592 | Q47: 010101 | R47: F | S47: F | T47: T | Z47: 3 | AU47: 0101015614211702FFE2025BE764E78802F75A5BC592 | AV47: 333
A48: 통신케이블공 | B48: 일반공사 직종 | C48: 인 | D48: 2.4 | F48: =TRUNC(E48*D48, 0) -> 0 | H48: =TRUNC(G48*D48, 0) -> 0 | J48: =TRUNC(I48*D48, 0) -> 0 | K48: =TRUNC(E48+G48+I48, 0) -> 0 | L48: =TRUNC(F48+H48+J48, 0) -> 0 | N48: 5614211702FFE2025BE764E78802F75A5BC59A | Q48: 010101 | R48: F | S48: F | T48: T | Z48: 3 | AU48: 0101015614211702FFE2025BE764E78802F75A5BC59A | AV48: 334
A49: 공구손료 | B49: 인력품의 3% | C49: 식 | D49: 1 | F49: =TRUNC(E49*D49, 0) -> 0 | H49: =TRUNC(G49*D49, 0) -> 0 | J49: =TRUNC(I49*D49, 0) -> 0 | K49: =TRUNC(E49+G49+I49, 0) -> 0 | L49: =TRUNC(F49+H49+J49, 0) -> 0 | N49: 57DFF117804023026C6380543600003 | Q49: 010101 | R49: F | S49: F | T49: F | U49: 1 | V49: 0 | W49: 0.03 | AU49: 01010157DFF117804023026C6380543601002 | AV49: 359
Q50: 010101
A51: [ 합 계 ] | F51: =SUMIF(Q5:Q50,"010101",F5:F50) -> 0 | H51: =SUMIF(Q5:Q50,"010101",H5:H50) -> 0 | J51: =SUMIF(Q5:Q50,"010101",J5:J50) -> 0 | L51: =SUMIF(Q5:Q50,"010101",L5:L50) -> 0 | N51: TOTAL
A52: 010102 전등설비공사 | Q52: 010102
A53: 600V폴리에틸렌케이블 | B53: 600V폴리에틸렌케이블, 0.6/1kV, F-CV, 3C*2.5㎟ | C53: m | D53: 94 | F53: =TRUNC(E53*D53, 0) -> 0 | H53: =TRUNC(G53*D53, 0) -> 0 | J53: =TRUNC(I53*D53, 0) -> 0 | K53: =TRUNC(E53+G53+I53, 0) -> 0 | L53: =TRUNC(F53+H53+J53, 0) -> 0 | N53: 51FC31176272350235B3E170CD97A9747FBEDB | Q53: 010102 | R53: F | S53: F | T53: T | Y53: 2 | AU53: 01010251FC31176272350235B3E170CD97A9747FBEDB | AV53: 151
A54: 강제전선관 | B54: 강제전선관, 후강전선관, 아연도, 28mm | C54: m | D54: 17 | F54: =TRUNC(E54*D54, 0) -> 0 | H54: =TRUNC(G54*D54, 0) -> 0 | J54: =TRUNC(I54*D54, 0) -> 0 | K54: =TRUNC(E54+G54+I54, 0) -> 0 | L54: =TRUNC(F54+H54+J54, 0) -> 0 | N54: 51E3711751B82B027E7D89B6C451D0FF5E3969 | Q54: 010102 | R54: F | S54: F | T54: T | X54: 1 | Y54: 2 | AU54: 01010251E3711751B82B027E7D89B6C451D0FF5E3969 | AV54: 253
A55: 전선관부속품비 | B55: 전선관의 15% | C55: 식 | D55: 1 | F55: =TRUNC(E55*D55, 0) -> 0 | H55: =TRUNC(G55*D55, 0) -> 0 | J55: =TRUNC(I55*D55, 0) -> 0 | K55: =TRUNC(E55+G55+I55, 0) -> 0 | L55: =TRUNC(F55+H55+J55, 0) -> 0 | N55: 57DFF117804023026C6380543602001 | Q55: 010102 | R55: F | S55: F | T55: F | U55: 0 | V55: 0 | W55: 0.15 | AU55: 01010257DFF117804023026C6380543600003 | AV55: 363
A56: 잡재료비 | B56: 배관배선의 2% | C56: 식 | D56: 1 | F56: =TRUNC(E56*D56, 0) -> 0 | H56: =TRUNC(G56*D56, 0) -> 0 | J56: =TRUNC(I56*D56, 0) -> 0 | K56: =TRUNC(E56+G56+I56, 0) -> 0 | L56: =TRUNC(F56+H56+J56, 0) -> 0 | N56: 57DFF117804023026C6380543601002 | Q56: 010102 | R56: F | S56: F | T56: F | U56: 0 | V56: 0 | W56: 0.02 | AU56: 01010257DFF117804023026C6380543602001 | AV56: 361
A57: 레이스웨이 | B57: 레이스웨이, PM-74, Body, 70*40mm | C57: m | D57: 47 | F57: =TRUNC(E57*D57, 0) -> 0 | H57: =TRUNC(G57*D57, 0) -> 0 | J57: =TRUNC(I57*D57, 0) -> 0 | K57: =TRUNC(E57+G57+I57, 0) -> 0 | L57: =TRUNC(F57+H57+J57, 0) -> 0 | N57: 51E3711751B82B027E7D86E26638688295A4C1 | Q57: 010102 | R57: F | S57: F | T57: T | AU57: 01010251E3711751B82B027E7D86E26638688295A4C1 | AV57: 305
A58: 레이스웨이 | B58: 레이스웨이, PM-74, Cover, 70*40mm | C58: m | D58: 46 | F58: =TRUNC(E58*D58, 0) -> 0 | H58: =TRUNC(G58*D58, 0) -> 0 | J58: =TRUNC(I58*D58, 0) -> 0 | K58: =TRUNC(E58+G58+I58, 0) -> 0 | L58: =TRUNC(F58+H58+J58, 0) -> 0 | N58: 51E3711751B82B027E7D86E26638688295A4C2 | Q58: 010102 | R58: F | S58: F | T58: T | AU58: 01010251E3711751B82B027E7D86E26638688295A4C2 | AV58: 306
A59: 레이스웨이 | B59: 레이스웨이, PM-74, Joiner, 70*40mm | C59: 개 | D59: 15 | F59: =TRUNC(E59*D59, 0) -> 0 | H59: =TRUNC(G59*D59, 0) -> 0 | J59: =TRUNC(I59*D59, 0) -> 0 | K59: =TRUNC(E59+G59+I59, 0) -> 0 | L59: =TRUNC(F59+H59+J59, 0) -> 0 | N59: 51E3711751B82B027E7D86E26638688295A4C7 | Q59: 010102 | R59: F | S59: F | T59: T | AU59: 01010251E3711751B82B027E7D86E26638688295A4C7 | AV59: 307
A60: 레이스웨이 | B60: 레이스웨이, PM-74, 기구용금구, 70*40mm | C60: 개 | D60: 12 | F60: =TRUNC(E60*D60, 0) -> 0 | H60: =TRUNC(G60*D60, 0) -> 0 | J60: =TRUNC(I60*D60, 0) -> 0 | K60: =TRUNC(E60+G60+I60, 0) -> 0 | L60: =TRUNC(F60+H60+J60, 0) -> 0 | N60: 51E3711751B82B027E7D86E26638688295A5EC | Q60: 010102 | R60: F | S60: F | T60: T | AU60: 01010251E3711751B82B027E7D86E26638688295A5EC | AV60: 308
A61: 레이스웨이 | B61: 레이스웨이, PM-74, End cap, 70*40mm | C61: 개 | D61: 2 | F61: =TRUNC(E61*D61, 0) -> 0 | H61: =TRUNC(G61*D61, 0) -> 0 | J61: =TRUNC(I61*D61, 0) -> 0 | K61: =TRUNC(E61+G61+I61, 0) -> 0 | L61: =TRUNC(F61+H61+J61, 0) -> 0 | N61: 51E3711751B82B027E7D86E26638688295A4C8 | Q61: 010102 | R61: F | S61: F | T61: T | AU61: 01010251E3711751B82B027E7D86E26638688295A4C8 | AV61: 309
A62: 레이스웨이 | B62: 레이스웨이, PM-74, A형 Hanger, 70*40mm | C62: 개 | D62: 23 | F62: =TRUNC(E62*D62, 0) -> 0 | H62: =TRUNC(G62*D62, 0) -> 0 | J62: =TRUNC(I62*D62, 0) -> 0 | K62: =TRUNC(E62+G62+I62, 0) -> 0 | L62: =TRUNC(F62+H62+J62, 0) -> 0 | N62: 51E3711751B82B027E7D86E26638688295A5EF | Q62: 010102 | R62: F | S62: F | T62: T | AU62: 01010251E3711751B82B027E7D86E26638688295A5EF | AV62: 310
A63: 강재전선관용부품 | B63: 강재전선관용부품, 노말밴드후강전선관용, 아연도, 28mm | C63: 개 | D63: 4 | F63: =TRUNC(E63*D63, 0) -> 0 | H63: =TRUNC(G63*D63, 0) -> 0 | J63: =TRUNC(I63*D63, 0) -> 0 | K63: =TRUNC(E63+G63+I63, 0) -> 0 | L63: =TRUNC(F63+H63+J63, 0) -> 0 | N63: 51E3711751B82B027E7D8788C9D673C6FF8E72 | Q63: 010102 | R63: F | S63: F | T63: T | AU63: 01010251E3711751B82B027E7D8788C9D673C6FF8E72 | AV63: 155
A64: 풀박스 | B64: 풀박스, 100*100*50mm | C64: 개 | D64: 1 | F64: =TRUNC(E64*D64, 0) -> 0 | H64: =TRUNC(G64*D64, 0) -> 0 | J64: =TRUNC(I64*D64, 0) -> 0 | K64: =TRUNC(E64+G64+I64, 0) -> 0 | L64: =TRUNC(F64+H64+J64, 0) -> 0 | N64: 51E3711751B93002BEFDAA60638C2FDADC0488 | Q64: 010102 | R64: F | S64: F | T64: T | AU64: 01010251E3711751B93002BEFDAA60638C2FDADC0488 | AV64: 156
A65: 누전차단기 | B65: 2P 30AF | C65: 개 | D65: 1 | F65: =TRUNC(E65*D65, 0) -> 0 | H65: =TRUNC(G65*D65, 0) -> 0 | J65: =TRUNC(I65*D65, 0) -> 0 | K65: =TRUNC(E65+G65+I65, 0) -> 0 | L65: =TRUNC(F65+H65+J65, 0) -> 0 | N65: 51E3711751B93002BB286190786CDBEC127BB6 | Q65: 010102 | R65: F | S65: F | T65: T | AU65: 01010251E3711751B93002BB286190786CDBEC127BB6 | AV65: 157
A66: 조명기구 | B66: LED 40W, 레이스웨이등 | C66: 개 | D66: 12 | F66: =TRUNC(E66*D66, 0) -> 0 | H66: =TRUNC(G66*D66, 0) -> 0 | J66: =TRUNC(I66*D66, 0) -> 0 | K66: =TRUNC(E66+G66+I66, 0) -> 0 | L66: =TRUNC(F66+H66+J66, 0) -> 0 | N66: 51E3711751BAD9029199E85AFB34DA43E622A7 | Q66: 010102 | R66: F | S66: F | T66: T | AU66: 01010251E3711751BAD9029199E85AFB34DA43E622A7 | AV66: 158
A67: 전선관지지행거(단독) | B67: 28 C | C67: 개소 | D67: 7 | F67: =TRUNC(E67*D67, 0) -> 0 | H67: =TRUNC(G67*D67, 0) -> 0 | J67: =TRUNC(I67*D67, 0) -> 0 | K67: =TRUNC(E67+G67+I67, 0) -> 0 | L67: =TRUNC(F67+H67+J67, 0) -> 0 | N67: 5688411740C25D0215FDDBDA775287 | Q67: 010102 | R67: T | S67: F | T67: F | AU67: 0101025688411740C25D0215FDDBDA775287 | AV67: 159
A68: 내선전공 | B68: 일반공사 직종 | C68: 인 | D68: 18.9 | F68: =TRUNC(E68*D68, 0) -> 0 | H68: =TRUNC(G68*D68, 0) -> 0 | J68: =TRUNC(I68*D68, 0) -> 0 | K68: =TRUNC(E68+G68+I68, 0) -> 0 | L68: =TRUNC(F68+H68+J68, 0) -> 0 | N68: 5614211702FFE2025BE764E78802F75A5BCA10 | Q68: 010102 | R68: F | S68: F | T68: T | Z68: 3 | AU68: 0101025614211702FFE2025BE764E78802F75A5BCA10 | AV68: 311
A69: 저압케이블전공 | B69: 일반공사 직종 | C69: 인 | D69: 1.7 | F69: =TRUNC(E69*D69, 0) -> 0 | H69: =TRUNC(G69*D69, 0) -> 0 | J69: =TRUNC(I69*D69, 0) -> 0 | K69: =TRUNC(E69+G69+I69, 0) -> 0 | L69: =TRUNC(F69+H69+J69, 0) -> 0 | N69: 5614211702FFE2025BE764E78802F75A5BCA1D | Q69: 010102 | R69: F | S69: F | T69: T | Z69: 3 | AU69: 0101025614211702FFE2025BE764E78802F75A5BCA1D | AV69: 312
A70: 공구손료 | B70: 인력품의 3% | C70: 식 | D70: 1 | F70: =TRUNC(E70*D70, 0) -> 0 | H70: =TRUNC(G70*D70, 0) -> 0 | J70: =TRUNC(I70*D70, 0) -> 0 | K70: =TRUNC(E70+G70+I70, 0) -> 0 | L70: =TRUNC(F70+H70+J70, 0) -> 0 | N70: 57DFF117804023026C6380543600003 | Q70: 010102 | R70: F | S70: F | T70: F | U70: 1 | V70: 0 | W70: 0.03 | AU70: 01010257DFF117804023026C6380543601002 | AV70: 362
Q71: 010102
Q72: 010102
Q73: 010102
Q74: 010102
A75: [ 합 계 ] | F75: =SUMIF(Q53:Q74,"010102",F53:F74) -> 0 | H75: =SUMIF(Q53:Q74,"010102",H53:H74) -> 0 | J75: =SUMIF(Q53:Q74,"010102",J53:J74) -> 0 | L75: =SUMIF(Q53:Q74,"010102",L53:L74) -> 0 | N75: TOTAL
A76: 010103 보안등설비공사 | Q76: 010103
A77: 600V폴리에틸렌케이블(재사용) | B77: 600V폴리에틸렌케이블, 0.6/1kV, F-CV, 3C*4㎟ | C77: m | D77: 8 | F77: =TRUNC(E77*D77, 0) -> 0 | H77: =TRUNC(G77*D77, 0) -> 0 | J77: =TRUNC(I77*D77, 0) -> 0 | K77: =TRUNC(E77+G77+I77, 0) -> 0 | L77: =TRUNC(F77+H77+J77, 0) -> 0 | N77: 51FC31176272350235B3E170CD97A9736F6A34 | Q77: 010103 | R77: F | S77: F | T77: T | Y77: 2 | AU77: 01010351FC31176272350235B3E170CD97A9736F6A34 | AV77: 167
A78: 강제전선관(재사용) | B78: 강제전선관, 후강전선관, 아연도, 22mm | C78: m | D78: 8 | F78: =TRUNC(E78*D78, 0) -> 0 | H78: =TRUNC(G78*D78, 0) -> 0 | J78: =TRUNC(I78*D78, 0) -> 0 | K78: =TRUNC(E78+G78+I78, 0) -> 0 | L78: =TRUNC(F78+H78+J78, 0) -> 0 | N78: 51E3711751B82B027E7D89B6C451D0FF5E3FF7 | Q78: 010103 | R78: F | S78: F | T78: T | X78: 1 | Y78: 2 | AU78: 01010351E3711751B82B027E7D89B6C451D0FF5E3FF7 | AV78: 211
A79: 풀박스 | B79: 풀박스, 150*150*100mm | C79: 개 | D79: 1 | F79: =TRUNC(E79*D79, 0) -> 0 | H79: =TRUNC(G79*D79, 0) -> 0 | J79: =TRUNC(I79*D79, 0) -> 0 | K79: =TRUNC(E79+G79+I79, 0) -> 0 | L79: =TRUNC(F79+H79+J79, 0) -> 0 | N79: 51E3711751B93002BEFDAA60638C2FDADC048B | Q79: 010103 | R79: F | S79: F | T79: T | AU79: 01010351E3711751B93002BEFDAA60638C2FDADC048B | AV79: 168
A80: 세트앵커 | B80: 세트앵커, M19*L150mm | C80: 개 | D80: 4 | F80: =TRUNC(E80*D80, 0) -> 0 | H80: =TRUNC(G80*D80, 0) -> 0 | J80: =TRUNC(I80*D80, 0) -> 0 | K80: =TRUNC(E80+G80+I80, 0) -> 0 | L80: =TRUNC(F80+H80+J80, 0) -> 0 | N80: 51E3F117A7159A02220E74D922BDE458014126 | Q80: 010103 | R80: F | S80: F | T80: T | AU80: 01010351E3F117A7159A02220E74D922BDE458014126 | AV80: 169
A81: 보안등주설치(재사용) | B81: 5m, 1등용 | C81: 개 | D81: 3 | F81: =TRUNC(E81*D81, 0) -> 0 | H81: =TRUNC(G81*D81, 0) -> 0 | J81: =TRUNC(I81*D81, 0) -> 0 | K81: =TRUNC(E81+G81+I81, 0) -> 0 | L81: =TRUNC(F81+H81+J81, 0) -> 0 | N81: 51D181179CA3D002BD470E53428E15177C5DBF | Q81: 010103 | R81: F | S81: F | T81: T | AU81: 01010351D181179CA3D002BD470E53428E15177C5DBF | AV81: 254
A82: 보안등주철거(재사용) | B82: 5m, 1등용 | C82: 개 | D82: 3 | F82: =TRUNC(E82*D82, 0) -> 0 | H82: =TRUNC(G82*D82, 0) -> 0 | J82: =TRUNC(I82*D82, 0) -> 0 | K82: =TRUNC(E82+G82+I82, 0) -> 0 | L82: =TRUNC(F82+H82+J82, 0) -> 0 | N82: 51D181179CA3D002BD470E53428E15177C5E5C | Q82: 010103 | R82: F | S82: F | T82: T | AU82: 01010351D181179CA3D002BD470E53428E15177C5E5C | AV82: 212
A83: 케이블 재시용철거 | B83: F-CV, 3C*4㎟ | C83: M | D83: 27 | F83: =TRUNC(E83*D83, 0) -> 0 | H83: =TRUNC(G83*D83, 0) -> 0 | J83: =TRUNC(I83*D83, 0) -> 0 | K83: =TRUNC(E83+G83+I83, 0) -> 0 | L83: =TRUNC(F83+H83+J83, 0) -> 0 | N83: 51E3711751B93002B97CB092C4A3265852F1D0 | Q83: 010103 | R83: F | S83: F | T83: T | AU83: 01010351E3711751B93002B97CB092C4A3265852F1D0 | AV83: 213
A84: 전선관지지행거(단독) | B84: 22 C | C84: 개소 | D84: 3 | F84: =TRUNC(E84*D84, 0) -> 0 | H84: =TRUNC(G84*D84, 0) -> 0 | J84: =TRUNC(I84*D84, 0) -> 0 | K84: =TRUNC(E84+G84+I84, 0) -> 0 | L84: =TRUNC(F84+H84+J84, 0) -> 0 | N84: 5688411740C25D0215FDDBDA7753AD | Q84: 010103 | R84: T | S84: F | T84: F | AU84: 0101035688411740C25D0215FDDBDA7753AD | AV84: 281
A85: 터파기(기계 9:1) | B85: 보통토사. 백호 90%+인력 10% | C85: ㎥ | D85: 9 | F85: =TRUNC(E85*D85, 0) -> 0 | H85: =TRUNC(G85*D85, 0) -> 0 | J85: =TRUNC(I85*D85, 0) -> 0 | K85: =TRUNC(E85+G85+I85, 0) -> 0 | L85: =TRUNC(F85+H85+J85, 0) -> 0 | N85: 56C1E117593C36029A0DDC9FFC3266 | Q85: 010103 | R85: T | S85: F | T85: F | AU85: 01010356C1E117593C36029A0DDC9FFC3266 | AV85: 347
A86: 되메우고 다지기(백호우+램머) | B86: 토사,T=30cm | C86: ㎥ | D86: 9 | F86: =TRUNC(E86*D86, 0) -> 0 | H86: =TRUNC(G86*D86, 0) -> 0 | J86: =TRUNC(I86*D86, 0) -> 0 | K86: =TRUNC(E86+G86+I86, 0) -> 0 | L86: =TRUNC(F86+H86+J86, 0) -> 0 | N86: 56C1E1175F474F0295B7BEE709395C | Q86: 010103 | R86: T | S86: F | T86: F | AU86: 01010356C1E1175F474F0295B7BEE709395C | AV86: 348
A87: 파상형경질폴리에틸렌전선관 | B87: 파상형경질폴리에틸렌전선관, 30mm | C87: m | D87: 30 | F87: =TRUNC(E87*D87, 0) -> 0 | H87: =TRUNC(G87*D87, 0) -> 0 | J87: =TRUNC(I87*D87, 0) -> 0 | K87: =TRUNC(E87+G87+I87, 0) -> 0 | L87: =TRUNC(F87+H87+J87, 0) -> 0 | N87: 51E3711751B82B027E7D89B6C451D0FE496999 | Q87: 010103 | R87: F | S87: F | T87: T | X87: 1 | Y87: 2 | AU87: 01010351E3711751B82B027E7D89B6C451D0FE496999 | AV87: 349
A88: 전선관부속품비 | B88: 전선관의 15% | C88: 식 | D88: 1 | F88: =TRUNC(E88*D88, 0) -> 0 | H88: =TRUNC(G88*D88, 0) -> 0 | J88: =TRUNC(I88*D88, 0) -> 0 | K88: =TRUNC(E88+G88+I88, 0) -> 0 | L88: =TRUNC(F88+H88+J88, 0) -> 0 | N88: 57DFF117804023026C6380543602001 | Q88: 010103 | R88: F | S88: F | T88: F | U88: 0 | V88: 0 | W88: 0.15 | AU88: 01010357DFF117804023026C6380543600003 | AV88: 366
A89: 600V폴리에틸렌케이블 | B89: 600V폴리에틸렌케이블, 0.6/1kV, F-CV, 3C*2.5㎟ | C89: m | D89: 31 | F89: =TRUNC(E89*D89, 0) -> 0 | H89: =TRUNC(G89*D89, 0) -> 0 | J89: =TRUNC(I89*D89, 0) -> 0 | K89: =TRUNC(E89+G89+I89, 0) -> 0 | L89: =TRUNC(F89+H89+J89, 0) -> 0 | N89: 51FC31176272350235B3E170CD97A9747FBEDB | Q89: 010103 | R89: F | S89: F | T89: T | Y89: 2 | AU89: 01010351FC31176272350235B3E170CD97A9747FBEDB | AV89: 350
A90: 잡재료비 | B90: 배관배선의 2% | C90: 식 | D90: 1 | F90: =TRUNC(E90*D90, 0) -> 0 | H90: =TRUNC(G90*D90, 0) -> 0 | J90: =TRUNC(I90*D90, 0) -> 0 | K90: =TRUNC(E90+G90+I90, 0) -> 0 | L90: =TRUNC(F90+H90+J90, 0) -> 0 | N90: 57DFF117804023026C6380543601002 | Q90: 010103 | R90: F | S90: F | T90: F | U90: 0 | V90: 0 | W90: 0.02 | AU90: 01010357DFF117804023026C6380543602001 | AV90: 364
A91: 경고테이프 | B91: 300×250 | C91: M | D91: 30 | F91: =TRUNC(E91*D91, 0) -> 0 | H91: =TRUNC(G91*D91, 0) -> 0 | J91: =TRUNC(I91*D91, 0) -> 0 | K91: =TRUNC(E91+G91+I91, 0) -> 0 | L91: =TRUNC(F91+H91+J91, 0) -> 0 | N91: 51E3711751B93002BEF445437C9B4FC4D4B3CE | Q91: 010103 | R91: F | S91: F | T91: T | AU91: 01010351E3711751B93002BEF445437C9B4FC4D4B3CE | AV91: 351
A92: 보안등기초 설치 | B92: 40*600*600 | C92: 개소 | D92: 2 | F92: =TRUNC(E92*D92, 0) -> 0 | H92: =TRUNC(G92*D92, 0) -> 0 | J92: =TRUNC(I92*D92, 0) -> 0 | K92: =TRUNC(E92+G92+I92, 0) -> 0 | L92: =TRUNC(F92+H92+J92, 0) -> 0 | N92: 5688411740CA9302DD0BFADAA410D6 | Q92: 010103 | R92: T | S92: F | T92: F | AU92: 0101035688411740CA9302DD0BFADAA410D6 | AV92: 352
A93: 베이스커버(재사용) | B93: ￠310 | C93: 개 | D93: 3 | F93: =TRUNC(E93*D93, 0) -> 0 | H93: =TRUNC(G93*D93, 0) -> 0 | J93: =TRUNC(I93*D93, 0) -> 0 | K93: =TRUNC(E93+G93+I93, 0) -> 0 | L93: =TRUNC(F93+H93+J93, 0) -> 0 | N93: 51E3711751BAD9029199E85AFB34DA43E7C9D4 | Q93: 010103 | R93: F | S93: F | T93: T | AU93: 01010351E3711751BAD9029199E85AFB34DA43E7C9D4 | AV93: 353
A94: 보통인부 | B94: 일반공사 직종 | C94: 인 | D94: 0.5 | F94: =TRUNC(E94*D94, 0) -> 0 | H94: =TRUNC(G94*D94, 0) -> 0 | J94: =TRUNC(I94*D94, 0) -> 0 | K94: =TRUNC(E94+G94+I94, 0) -> 0 | L94: =TRUNC(F94+H94+J94, 0) -> 0 | N94: 5614211702FFE2025BE764E78802F75A5BCDEB | Q94: 010103 | R94: F | S94: F | T94: T | Z94: 3 | AU94: 0101035614211702FFE2025BE764E78802F75A5BCDEB | AV94: 354
A95: 내선전공 | B95: 일반공사 직종 | C95: 인 | D95: 12.9 | F95: =TRUNC(E95*D95, 0) -> 0 | H95: =TRUNC(G95*D95, 0) -> 0 | J95: =TRUNC(I95*D95, 0) -> 0 | K95: =TRUNC(E95+G95+I95, 0) -> 0 | L95: =TRUNC(F95+H95+J95, 0) -> 0 | N95: 5614211702FFE2025BE764E78802F75A5BCA10 | Q95: 010103 | R95: F | S95: F | T95: T | Z95: 3 | AU95: 0101035614211702FFE2025BE764E78802F75A5BCA10 | AV95: 355
A96: 저압케이블전공 | B96: 일반공사 직종 | C96: 인 | D96: 6.7 | F96: =TRUNC(E96*D96, 0) -> 0 | H96: =TRUNC(G96*D96, 0) -> 0 | J96: =TRUNC(I96*D96, 0) -> 0 | K96: =TRUNC(E96+G96+I96, 0) -> 0 | L96: =TRUNC(F96+H96+J96, 0) -> 0 | N96: 5614211702FFE2025BE764E78802F75A5BCA1D | Q96: 010103 | R96: F | S96: F | T96: T | Z96: 3 | AU96: 0101035614211702FFE2025BE764E78802F75A5BCA1D | AV96: 356
A97: 배전전공 | B97: 일반공사 직종 | C97: 인 | D97: 0.2 | F97: =TRUNC(E97*D97, 0) -> 0 | H97: =TRUNC(G97*D97, 0) -> 0 | J97: =TRUNC(I97*D97, 0) -> 0 | K97: =TRUNC(E97+G97+I97, 0) -> 0 | L97: =TRUNC(F97+H97+J97, 0) -> 0 | N97: 5614211702FFE2025BE764E78802F75A5BC592 | Q97: 010103 | R97: F | S97: F | T97: T | Z97: 3 | AU97: 0101035614211702FFE2025BE764E78802F75A5BC592 | AV97: 357
A98: 공구손료 | B98: 인력품의 3% | C98: 식 | D98: 1 | F98: =TRUNC(E98*D98, 0) -> 0 | H98: =TRUNC(G98*D98, 0) -> 0 | J98: =TRUNC(I98*D98, 0) -> 0 | K98: =TRUNC(E98+G98+I98, 0) -> 0 | L98: =TRUNC(F98+H98+J98, 0) -> 0 | N98: 57DFF117804023026C6380543600003 | Q98: 010103 | R98: F | S98: F | T98: F | U98: 1 | V98: 0 | W98: 0.03 | AU98: 01010357DFF117804023026C6380543601002 | AV98: 365
A99: [ 합 계 ] | F99: =SUMIF(Q77:Q98,"010103",F77:F98) -> 0 | H99: =SUMIF(Q77:Q98,"010103",H77:H98) -> 0 | J99: =SUMIF(Q77:Q98,"010103",J77:J98) -> 0 | L99: =SUMIF(Q77:Q98,"010103",L77:L98) -> 0 | N99: TOTAL
A100: 0102 폐기물처리비 | Q100: 0102
A101: 건설폐기물처리비-중간처리 | B101: 폐아스팔트콘크리트 | C101: TON | D101: 8.4 | F101: =TRUNC(E101*D101, 0) -> 0 | H101: =TRUNC(G101*D101, 0) -> 0 | J101: =TRUNC(I101*D101, 0) -> 0 | K101: =TRUNC(E101+G101+I101, 0) -> 0 | L101: =TRUNC(F101+H101+J101, 0) -> 0 | N101: 56C1D1177037CF0252639DBD98EB8D | Q101: 0102 | R101: F | S101: F | T101: T | AU101: 010256C1D1177037CF0252639DBD98EB8D | AV101: 192
A102: 건설폐기물 운반비 - 중량 기준 | B102: 중간처리 대상, 15ton 덤프트럭, 50km | C102: TON | D102: 8.4 | F102: =TRUNC(E102*D102, 0) -> 0 | H102: =TRUNC(G102*D102, 0) -> 0 | J102: =TRUNC(I102*D102, 0) -> 0 | K102: =TRUNC(E102+G102+I102, 0) -> 0 | L102: =TRUNC(F102+H102+J102, 0) -> 0 | N102: 56C1D1177037CF0253085915E3BC37 | Q102: 0102 | R102: F | S102: F | T102: T | AU102: 010256C1D1177037CF0253085915E3BC37 | AV102: 193
Q103: 0102
Q104: 0102
Q105: 0102
Q106: 0102
Q107: 0102
Q108: 0102
Q109: 0102
Q110: 0102
Q111: 0102
Q112: 0102
...

Sheet 공량설정
A1: 공종명 | B1: 적용율(%) | C1: 소수점이하자릿수 | D1: 공종코드
A2: 010101 태양광설비 설치공사 | B2: 100 | D2: 010101
A3: 보통인부 | C3: 1 | D3: 0101015614211702FFE2025BE764E78802F75A5BCDEB
A4: 내선전공 | C4: 1 | D4: 0101015614211702FFE2025BE764E78802F75A5BCA10
A5: 저압케이블전공 | C5: 1 | D5: 0101015614211702FFE2025BE764E78802F75A5BCA1D
A6: 배전전공 | C6: 1 | D6: 0101015614211702FFE2025BE764E78802F75A5BC592
A7: 통신케이블공 | C7: 1 | D7: 0101015614211702FFE2025BE764E78802F75A5BC59A
A8: 010102 전등설비공사 | B8: 100 | D8: 010102
A9: 내선전공 | C9: 1 | D9: 0101025614211702FFE2025BE764E78802F75A5BCA10
A10: 저압케이블전공 | C10: 1 | D10: 0101025614211702FFE2025BE764E78802F75A5BCA1D
A11: 010103 보안등설비공사 | B11: 100 | D11: 010103
A12: 보통인부 | C12: 1 | D12: 0101035614211702FFE2025BE764E78802F75A5BCDEB
A13: 내선전공 | C13: 1 | D13: 0101035614211702FFE2025BE764E78802F75A5BCA10
A14: 저압케이블전공 | C14: 1 | D14: 0101035614211702FFE2025BE764E78802F75A5BCA1D
A15: 배전전공 | C15: 1 | D15: 0101035614211702FFE2025BE764E78802F75A5BC592
A16: 0102 폐기물처리비 | B16: 100 | D16: 0102
A17: 010301 태양광발전설비 | B17: 100 | D17: 010301
A18: 010401 조명기구 | B18: 100 | D18: 010401
A19: 0105 사용전검사비 | B19: 100 | D19: 0105

Sheet 공량설정_일위대가
A1: 일위대가 | B1: 적용율(%) | C1: 소수점이하자릿수 | D1: 일위대가 코드
A2: 터파기(기계 9:1) 보통토사. 백호 90%+인력 10% (호표 7) | B2: 100 | D2: 56C1E117593C36029A0DDC9FFC3266
A3: 되메우고 다지기(백호우+램머) 토사,T=30cm (호표 8) | B3: 100 | D3: 56C1E1175F474F0295B7BEE709395C
A4: 아스콘 굴착 및 재포장 표50+중100+기200 (호표 13) | B4: 100 | D4: 56C1411756F1880268689B20850FF8
A5: 아스팔트 및 콘크리트 포장깨기 (호표 14) | B5: 100 | D5: 56C1411756F1880268689B20850FFB
A6: 보통인부 | C6: 4 | D6: 56C1411756F1880268689B20850FFB5614211702FFE2025BE764E78802F75A5BCDEB
A7: 굴삭기(무한궤도) 0.2㎥ (호표 1) | B7: 100 | D7: 51D181179CA3D002BD44BA147AD71CC6975D19F1
A8: 건설기계운전사 | C8: 0 | D8: 51D181179CA3D002BD44BA147AD71CC6975D19F15614211702FFE2025BE764E78802F75A5BC906
A9: 굴삭기(무한궤도) 0.7㎥ (호표 2) | B9: 100 | D9: 51D181179CA3D002BD44BA147AD29A8B2F29E9BF
A10: 건설기계운전사 | C10: 0 | D10: 51D181179CA3D002BD44BA147AD29A8B2F29E9BF5614211702FFE2025BE764E78802F75A5BC906
A11: 진동롤러(핸드가이드식) 0.7ton (호표 3) | B11: 100 | D11: 51D181179CA3D102453D2182AD8A5F2DE5BA14DA
A12: 건설기계운전사 | C12: 0 | D12: 51D181179CA3D102453D2182AD8A5F2DE5BA14DA5614211702FFE2025BE764E78802F75A5BC906
A13: 래머 80kg (호표 4) | B13: 100 | D13: 51D181179CA3D10240B8150F38C8A3AC94690555
A14: 일반기계운전사 | C14: 0 | D14: 51D181179CA3D10240B8150F38C8A3AC946905555614211702FFE2025BE764E78802F75A5BC868
A15: 트럭탑재형 크레인 10ton (호표 6) | B15: 100 | D15: 51D181179CA3D2026DED2AC663A4BB59323B7D4D
A16: 화물차운전사 | C16: 0 | D16: 51D181179CA3D2026DED2AC663A4BB59323B7D4D5614211702FFE2025BE764E78802F75A5BC907
A17: 기초 지정 잡석지정 (호표 15) | B17: 100 | D17: 56E6E117F2F051029021A2754C53AF
A18: 보통인부 | C18: 3 | D18: 56E6E117F2F051029021A2754C53AF5614211702FFE2025BE764E78802F75A5BCDEB
A19: 합판 거푸집 - 재료비 - 17년 1분기 삭제 1회 사용시, 0~7m까지 (호표 9) | B19: 100 | D19: 56C18117F37CAC02A6CC373E966096
A20: 합판 거푸집 - 노무비(제작,조립,철거 포함) 1회 사용시, 0~7m까지 - 17년 1분기 삭제 (호표 10) | B20: 100 | D20: 56C18117F37CAC02A6CC373E96636B
A21: 형틀목공 | C21: 2 | D21: 56C18117F37CAC02A6CC373E96636B5614211702FFE2025BE764E78802F75A5BCDEE
A22: 보통인부 | C22: 2 | D22: 56C18117F37CAC02A6CC373E96636B5614211702FFE2025BE764E78802F75A5BCDEB
A23: 합판 거푸집 설치 및 해체 - 17년 1분기 삭제 6회 사용시, 0~7m까지 (호표 11) | B23: 100 | D23: 56C18117F37CAC02A6CC37380E1CDE
A24: 레디믹스트 콘크리트 타설 무근(미할증) (호표 12) | B24: 100 | D24: 56C18117F4052E02AF1A94DB81EE0E
A25: 콘크리트공 | C25: 2 | D25: 56C18117F4052E02AF1A94DB81EE0E5614211702FFE2025BE764E78802F75A5BCCC1
A26: 보통인부 | C26: 2 | D26: 56C18117F4052E02AF1A94DB81EE0E5614211702FFE2025BE764E78802F75A5BCDEB
A27: 전선관지지행거(단독) 22 C (호표 16) | B27: 100 | D27: 5688411740C25D0215FDDBDA7753AD
A28: 내선전공 | C28: 3 | D28: 5688411740C25D0215FDDBDA7753AD5614211702FFE2025BE764E78802F75A5BCA10
A29: 전선관지지행거(단독) 28 C (호표 17) | B29: 100 | D29: 5688411740C25D0215FDDBDA775287
A30: 내선전공 | C30: 3 | D30: 5688411740C25D0215FDDBDA7752875614211702FFE2025BE764E78802F75A5BCA10
A31: 전선관지지행거(천정) W:150 (호표 18) | B31: 100 | D31: 5688411740C25D0215FDD805330684
A32: 내선전공 | C32: 3 | D32: 5688411740C25D0215FDD8053306845614211702FFE2025BE764E78802F75A5BCA10
A33: 케이블트레이지지대(벽체) W:100 (호표 19) | B33: 100 | D33: 5688411740C25D0215FDD92CDC1991
A34: 내선전공 | C34: 3 | D34: 5688411740C25D0215FDD92CDC19915614211702FFE2025BE764E78802F75A5BCA10
A35: 전력맨홀 600*600*600 (호표 20) | B35: 100 | D35: 5688411740C63802ECBC14F578C9FB
A36: 작업반장 | C36: 2 | D36: 5688411740C63802ECBC14F578C9FB5614211702FFE2025BE764E78802F75A5BCDE8
A37: 특별인부 | C37: 2 | D37: 5688411740C63802ECBC14F578C9FB5614211702FFE2025BE764E78802F75A5BCDEA
A38: 줄눈공 | C38: 2 | D38: 5688411740C63802ECBC14F578C9FB5614211702FFE2025BE764E78802F75A5BCEF4
A39: 앙카볼트 설치 M19 x L300 (호표 21) | B39: 100 | D39: 5688411740C63802EB95086043D734
A40: 기초패드 W5700×D2000×H300 (호표 22) | B40: 100 | D40: 5688411740C63802EB95086042CD09
A41: 트럭탑재형크레인-전기 5톤 (호표 5) | B41: 100 | D41: 51D181179CA3D2026DED2AC663A547ADABF6FC28
A42: 화물차운전사 | C42: 0 | D42: 51D181179CA3D2026DED2AC663A547ADABF6FC285614211702FFE2025BE764E78802F75A5BC907
A43: 메시휀스 W5700×D2000×H2000 (호표 23) | B43: 100 | D43: 5688411740C51102C58FBBA21FFE67
A44: 보안등기초 설치 40*600*600 (호표 24) | B44: 100 | D44: 5688411740CA9302DD0BFADAA410D6
A45: 보통인부 | C45: 2 | D45: 5688411740CA9302DD0BFADAA410D65614211702FFE2025BE764E78802F75A5BCDEB
A46: 내선전공 | C46: 2 | D46: 5688411740CA9302DD0BFADAA410D65614211702FFE2025BE764E78802F75A5BCA10
A47: 앙카볼트 설치 Ø16~19mm (호표 25) | B47: 100 | D47: 5688411740CA9302DD0BFBE1943FCA
A48: 내선전공 | C48: 2 | D48: 5688411740CA9302DD0BFBE1943FCA5614211702FFE2025BE764E78802F75A5BCA10

Sheet  공사설정 
A1: 이 Sheet는 수정하지 마십시요
A2: 공사구분 | B2: D | C2: 타이틀
A3: 확정내역 | B3: 원내역
A4: 자재단가적용 | B4: 5
A5: 경비단가적용 | B5: 5
A6: 품목코드형식 | B6: XXXX-XXXX-XXXXXXXXX
A7: 내역금액소수점처리 | B7: C | C7: 1
A8: 일위대가내역소수점처리 | B8: C | C8: 2
A9: 단가명 | B9: 조달청가격 | C9: 거래가격 | D9: 유통물가 | E9: 조사가격1 | F9: 조사가격2 | G9: TTTTT
A10: 환율 | B10: 1208 | C10: 0 | D10: 0
A11: 시간당작업량 | B11: R | C11: 4
A12: 1회 사이클시간 | B12: R | C12: 4
A13: 시간당 작업사이클 | B13: R | C13: 3
A14: 일반변수 | B14: C | C14: 5
A15: 시간당 노임산출 계수 | B15: A | C15: 1/8*16/12*25/20 | D15: 1/8*16/12*25/20 | E15: 1/8*16/12*25/20 | F15: 1
A16: 재료비 할증 계수 | B16: 1.11 | C16: 1.12
A17: 노무비 할증 계수 | B17: 1 | C17: 1.5 | D17: 1.16 | E17: 1.6 | F17: 1.6 | G17: 1.6 | H17: 1.94 | I17: 1.94 | J17: 1.94 | K17: 1 | L17: 1 | M17: 1
A18: 경비 할증 계수 | B18: 1.25 | C18: 1.071
A19: 내역,일위대가 품명,규격,단위 따로적용
A20: 내역단가 소수점처리 | B20: C | C20: 1
A21: 코드 | B21: 공종구분명 | C21: 원가비목코드
A22: 1 | B22: 작 업 부 산 물 | C22: A3
A23: 2 | B23: 운 반 비 | C23: C1
A24: 3 | B24: 관 급 자 재 비 | C24: DJ
A25: 4 | B25: 사 급 자 재 비 | C25: D3
A26: 5 | B26: 외 자 재
A27: 6 | B27: ...
A28: 7 | B28: ...
A29: 8 | B29: ...
A30: 9 | B30: ...
A43: 단가 순서 | B43: 1234
