Workbook
Name _: "="
Name _____pa1: #REF!
Name _____pa2: #REF!
Name _____phi3: #REF!
Name _____tbm1: #REF!
Name _____Ted1: #REF!
Name _____Ts1: #REF!
Name ____A100000: #REF!
Name ____A69999: #REF!
Name ____A99999: #REF!
Name ____B2: '[1]단면 (2)'!$K$55
Name ____bar10: #REF!
Name ____bar13: #REF!
Name ____bar16: #REF!
Name ____bar19: #REF!
Name ____bar22: #REF!
Name ____bar25: #REF!
Name ____bar29: #REF!
Name ____bar32: #REF!
Name ____dia10: [2]철근단면적!$C$2
Name ____dia13: [3]철근단면적!$C$3
Name ____dia16: [3]철근단면적!$C$4
Name ____dia19: [3]철근단면적!$C$5
Name ____dia22: [3]철근단면적!$C$6
Name ____dia25: [3]철근단면적!$C$7
Name ____dia29: [2]철근단면적!$C$8
Name ____dia32: [2]철근단면적!$C$9
Name ____dia35: #REF!
Name ____faf98: #REF!
Name ____hun1: [4]설계조건!#REF!
Name ____hun2: [4]설계조건!#REF!
Name ____LG15: [5]노임단가!$D$12
Name ____LG17: [5]노임단가!$D$30
Name ____LG18: [5]노임단가!$D$89
Name ____LG21: [5]노임단가!$D$8
Name ____LG6: [5]노임단가!$D$90
Name ____LG9: [5]노임단가!$D$86
Name ____LS15: [5]노임단가!$C$12
Name ____LS17: [5]노임단가!$C$30
Name ____LS18: [5]노임단가!$C$89
Name ____LS21: [5]노임단가!$C$8
Name ____LS6: [5]노임단가!$C$90
Name ____LS9: [5]노임단가!$C$86
Name ____MG109: [5]자재단가!$H$220
Name ____MG135: [5]자재단가!$H$272
Name ____MG15: [5]자재단가!$H$32
Name ____MG3: [5]자재단가!$H$8
Name ____MG43: [5]자재단가!$H$88
Name ____MG44: [5]자재단가!$H$90
Name ____MG46: [5]자재단가!$H$94
Name ____MG57: [5]자재단가!$H$116
Name ____MG6: [5]자재단가!$H$14
Name ____MG8: [5]자재단가!$H$18
Name ____MG9: [5]자재단가!$H$20
Name ____MS109: [5]자재단가!$H$221
Name ____MS135: [5]자재단가!$H$273
Name ____MS15: [5]자재단가!$H$33
Name ____MS3: [5]자재단가!$H$9
Name ____MS43: [5]자재단가!$H$89
Name ____MS44: [5]자재단가!$H$91

Sheet 공종별집계표
A1: 공 종 별 집 계 표
A2: [ 2026.학교도서관 감성디자인 프로젝트 ]
A3: 품 명 | B3: 규 격 | C3: 단위 | D3: 수량 | E3: 재 료 비 | G3: 노 무 비 | I3: 경 비 | K3: 합 계 | M3: 비 고 | N3: 공종코드 | O3: 변수 | P3: 상위공종 | Q3: 공종구분 | R3: 공종레벨 | S3: 공종소계 | T3: 원가계산서 연결금액
E4: 단 가 | F4: 금 액 | G4: 단 가 | H4: 금 액 | I4: 단 가 | J4: 금 액 | K4: 단 가 | L4: 금 액
A5: 01 삼척초등학교 삼나무도서관 실내 공간 조성사업 | J5: =I5*D5 -> 0 | K5: =E5+G5+I5 -> 0 | L5: =F5+H5+J5 -> 0 | N5: 01 | R5: 1
A6: =공종별내역서!A4 -> 010101. 가설공사 | D6: 1 | F6: =E6*D6 -> 0 | H6: =G6*D6 -> 0 | J6: =I6*D6 -> 0 | K6: =E6+G6+I6 -> 0 | L6: =F6+H6+J6 -> 0 | N6: 0101 | P6: 01 | R6: 2 | S6: <
A7: =공종별내역서!A27 -> 010102 . 안 전 관 리 비 | D7: 1 | F7: =E7*D7 -> 0 | H7: =G7*D7 -> 0 | J7: =I7*D7 -> 0 | K7: =E7+G7+I7 -> 0 | L7: =F7+H7+J7 -> 0 | N7: 010101 | P7: 0101 | R7: 3
A8: =공종별내역서!A50 -> 010103. 목공사 및 수장공사 | D8: 1 | F8: =E8*D8 -> 0 | H8: =G8*D8 -> 0 | J8: =I8*D8 -> 0 | K8: =E8+G8+I8 -> 0 | L8: =F8+H8+J8 -> 0 | N8: 010102 | Q8: 6 | R8: 3 | T8: =L8*1 -> 0
A9: =공종별내역서!A97 -> 010104. 금속공사 | D9: 1 | F9: =E9*D9 -> 0 | H9: =G9*D9 -> 0 | J9: =I9*D9 -> 0 | K9: =E9+G9+I9 -> 0 | L9: =F9+H9+J9 -> 0 | N9: 010201 | P9: 0102 | R9: 3
A10: =공종별내역서!A121 -> 010105. 창호및유리공사 | D10: 1 | F10: =E10*D10 -> 0 | H10: =G10*D10 -> 0 | J10: =I10*D10 -> 0 | K10: =E10+G10+I10 -> 0 | L10: =F10+H10+J10 -> 0 | N10: 010202 | P10: 0102 | R10: 3
A11: =공종별내역서!A145 -> 010106. 도장공사 | D11: 1 | F11: =E11*D11 -> 0 | H11: =G11*D11 -> 0 | J11: =I11*D11 -> 0 | K11: =E11+G11+I11 -> 0 | L11: =F11+H11+J11 -> 0 | N11: 010203 | P11: 0102 | R11: 3
A12: =공종별내역서!A169 -> 010107. 가구공사 | D12: 1 | F12: =E12*D12 -> 0 | H12: =G12*D12 -> 0 | J12: =I12*D12 -> 0 | K12: =E12+G12+I12 -> 0 | L12: =F12+H12+J12 -> 0 | N12: 010204 | P12: 0102 | R12: 3
A13: =공종별내역서!A189 -> 010108 . 조명공사 | D13: 1 | F13: =E13*D13 -> 0 | H13: =G13*D13 -> 0 | J13: =I13*D13 -> 0 | K13: =E13+G13+I13 -> 0 | L13: =F13+H13+J13 -> 0 | N13: 010205 | P13: 0102 | R13: 3
A14: =공종별내역서!A239 -> 010109. 미장공사 | D14: 1 | F14: =E14*D14 -> 0 | H14: =G14*D14 -> 0 | J14: =I14*D14 -> 0 | K14: =E14+G14+I14 -> 0 | L14: =F14+H14+J14 -> 0 | N14: 010206 | P14: 0102 | R14: 3
A15: =공종별내역서!A264 -> 0102010. 건설페기물처리비 | D15: 1 | F15: =E15*D15 -> 0 | H15: =G15*D15 -> 0 | J15: =I15*D15 -> 0 | K15: =E15+G15+I15 -> 0 | L15: =F15+H15+J15 -> 0 | N15: 010208 | Q15: 3 | R15: 3 | T15: =L15*1 -> 0
A16: =공종별내역서!A288 -> 0101011. 철거공사 | D16: 1 | E16: =공종별내역서!F337 -> 0 | F16: =E16*D16 -> 0 | H16: =G16*D16 -> 0 | J16: =I16*D16 -> 0 | K16: =E16+G16+I16 -> 0 | L16: =F16+H16+J16 -> 0 | N16: 0103 | P16: 01 | R16: 2
N17: 010301 | P17: 0103 | R17: 3
A25: [ 합 계 ] | F25: =SUM(F6:F24) -> 0 | H25: =SUM(H6:H24) -> 0 | J25: =SUM(J6:J24) -> 0 | L25: =SUM(L6:L24) -> 0
I28: 기계경비 | J28: =J8+J9+J10+J14 -> 0

Sheet 공종별내역서
A1: [ 2026.학교도서관 감성디자인 프로젝트]
A2: 품 명 | B2: 규 격 | C2: 단위 | D2: 수량 | E2: 재 료 비 | G2: 노 무 비 | I2: 경 비 | K2: 합 계 | M2: 비 고 | N2: 품목코드 | O2: 변수 | P2: 설정 | Q2: 공종코드 | R2: 일위 | S2: 단산 | T2: 자재 | U2: 손료적용 | V2: 손료저장 | W2: 적용율 | X2: JUK1 | Y2: JUK2 | Z2: JUK3 | AA2: JUK4 | AB2: JUK5 | AC2: JUK6 | AD2: JUK7 | AE2: JUK8 | AF2: JUK9 | AG2: JUK10 | AH2: JUK11 | AI2: JUK12 | AJ2: JUK13 | AK2: JUK14 | AL2: JUK15 | AM2: JUK16 | AN2: JUK17 | AO2: JUK18 | AP2: JUK19 | AQ2: JUK20 | AR2: 자재구분 | AS2: 공종구분 | AT2: 공종레벨 | AU2: 공종+자재 | AV2: 고유번호
E3: 단 가 | F3: 금 액 | G3: 단 가 | H3: 금 액 | I3: 단 가 | J3: 금 액 | K3: 단 가 | L3: 금 액
A4: 010101. 가설공사 | Q4: 010101
A5: 건축몰현장정리 | B5: 개보수 | C5: m2 | D5: 202.6 | F5: =TRUNC(E5*D5, 0) -> 0 | H5: =TRUNC(G5*D5, 0) -> 0 | J5: =TRUNC(I5*D5, 0) -> 0 | K5: =TRUNC(E5+G5+I5, 0) -> 0 | L5: =TRUNC(F5+H5+J5, 0) -> 0 | M5: 호표 1 | N5: 58E4353AAF3D305D0D71B0F2A04B5CC1 | Q5: 010101 | R5: T | S5: F | T5: F | AU5: 01010158E4353AAF3D305D0D71B0F2A04B5CC1 | AV5: 4
A6: 이동식강관비계 | B6: 1개월, 1단(2m) | C6: 대 | D6: 1 | F6: =TRUNC(E6*D6, 0) -> 0 | H6: =TRUNC(G6*D6, 0) -> 0 | J6: =TRUNC(I6*D6, 0) -> 0 | K6: =TRUNC(E6+G6+I6, 0) -> 0 | L6: =TRUNC(F6+H6+J6, 0) -> 0 | M6: 호표 2 | N6: 5FFEC5978737205615518D6446EE19EDF2B51EAF | Q6: 010101 | R6: T | S6: F | T6: F | AU6: 0101015FFEC5978737205615518D6446EE19EDF2B51EAF | AV6: 5
A7: 준공청소 | C7: M2 | D7: 202.6 | F7: =TRUNC(E7*D7, 0) -> 0 | H7: =TRUNC(G7*D7, 0) -> 0 | J7: =TRUNC(I7*D7, 0) -> 0 | K7: =TRUNC(E7+G7+I7, 0) -> 0 | L7: =TRUNC(F7+H7+J7, 0) -> 0 | M7: 호표 5 | Q7: 010101
A8: 집기류 이전 및 설치 | B8: 집기이동및 재설치 | C8: 인 | D8: 3 | F8: =TRUNC(E8*D8, 0) -> 0 | H8: =TRUNC(G8*D8, 0) -> 0 | J8: =TRUNC(I8*D8, 0) -> 0 | K8: =TRUNC(E8+G8+I8, 0) -> 0 | L8: =TRUNC(F8+H8+J8, 0) -> 0 | M8: 호표 3 | Q8: 010101
A9: 도서 이동 및 이전 정리 | B9: 견적 | C9: 식 | D9: 1 | F9: =TRUNC(E9*D9, 0) -> 0 | H9: =G9*D9 -> 0 | J9: =TRUNC(I9*D9, 0) -> 0 | K9: =TRUNC(E9+G9+I9, 0) -> 0 | L9: =TRUNC(F9+H9+J9, 0) -> 0 | M9: 견적 | Q9: 010101
Q10: 010101
Q11: 010101
Q12: 010101
Q13: 010101
Q14: 010101
Q15: 010101
Q16: 010101
Q17: 010101
Q18: 010101
Q19: 010101
Q20: 010101
Q21: 010101
... Q25: 010101
A26: [ 합 계 ] | F26: =SUMIF(Q5:Q25,"010101",F5:F25) -> 0 | H26: =SUMIF(Q5:Q25,"010101",H5:H25) -> 0 | J26: =SUMIF(Q5:Q25,"010101",J5:J25) -> 0 | L26: =SUMIF(Q5:Q25,"010101",L5:L25) -> 0 | N26: TOTAL
A27: 010102 . 안 전 관 리 비 | F27: =SUM(F5:F26) -> 0 | H27: =SUM(H5:H26) -> 0 | L27: =SUM(L5:L26) -> 0 | Q27: 010102
A28: PE 가설휀스 설치 및 해체 | B28: 1500*410*900mm | C28: 조 | D28: 4 | F28: =TRUNC(E28*D28, 0) -> 0 | H28: =TRUNC(G28*D28, 0) -> 0 | J28: =TRUNC(I28*D28, 0) -> 0 | K28: =TRUNC(E28+G28+I28, 0) -> 0 | L28: =TRUNC(F28+H28+J28, 0) -> 0 | M28: 호표 4 | N28: 58E435398436805F3991477E361860 | Q28: 010102 | R28: T | S28: F | T28: F | AU28: 01010258E435398436805F3991477E361860 | AV28: 8
Q29: 010102
Q30: 010102
Q31: 010102
Q32: 010102
Q33: 010102
Q34: 010102
Q35: 010102
Q36: 010102
Q37: 010102
Q38: 010102
Q39: 010102
Q40: 010102
... Q48: 010102
A49: [ 합 계 ] | F49: =SUMIF(Q28:Q48,"010102",F28:F48) -> 0 | H49: =SUMIF(Q28:Q48,"010102",H28:H48) -> 0 | J49: =SUMIF(Q28:Q48,"010102",J28:J48) -> 0 | L49: =SUMIF(Q28:Q48,"010102",L28:L48) -> 0 | N49: TOTAL
A50: 010103. 목공사 및 수장공사 | Q50: 010203
...

Sheet  공사설정 
A1: 이 Sheet는 수정하지 마십시요
A2: 공사구분 | B2: A | C2: 타이틀
A3: 확정내역 | B3: 원내역
A4: 자재단가적용 | B4: 5
A5: 경비단가적용 | B5: 5
A6: 품목코드형식 | B6: XXXX-XXXX-XXXXXXXXX
A7: 내역금액소수점처리 | B7: C | C7: T
A8: 일위대가내역소수점처리 | B8: C | C8: 2
A9: 단가명 | B9: 조달청가격 | C9: 거래가격 | D9: 유통물가 | E9: 물가자료 | F9: 조사가격 | G9: TTTTT
A10: 환율 | B10: 1466 | C10: 0 | D10: 0
A11: 시간당작업량 | B11: R | C11: 4
A12: 1회 사이클시간 | B12: R | C12: 4
A13: 시간당 작업사이클 | B13: R | C13: 3
A14: 일반변수 | B14: R | C14: 5
A15: 시간당 노임산출 계수 | B15: A | C15: 1/8*16/12*25/20 | D15: 1/8*16/12*25/20 | E15: 1/8*16/12*25/20 | F15: 1
A16: 재료비 할증 계수 | B16: 1.11 | C16: 1.12
A17: 노무비 할증 계수 | B17: 1 | C17: 1.5 | D17: 1.16 | E17: 1.6 | F17: 1.6 | G17: 1.6 | H17: 1.94 | I17: 1.94 | J17: 1.94 | K17: 1 | L17: 1 | M17: 1
A18: 경비 할증 계수 | B18: 1.25 | C18: 1.071
A19: 내역,일위대가 품명,규격,단위 따로적용
A20: 내역단가 소수점처리 | C20: 1
A21: 코드 | B21: 공종구분명 | C21: 원가비목코드
A22: 1 | B22: 작 업 부 산 물 | C22: A3
A23: 2 | B23: 운 반 비 | C23: C1
A24: 3 | B24: 관 급 자 재 비 | C24: DJ
A25: 4 | B25: 사 급 자 재 비 | C25: D3
A26: 5 | B26: 외 자 재
A27: 6 | B27: 안 전 관 리 비
A28: 7 | B28: 폐 기 물 처 리 비
A29: 8 | B29: 품 질 시 험 비
A30: 9 | B30: ...
A31: A | B31: ....
A32: B | B32: .....
A33: C | B33: ....
A34: D | B34: ....
A35: E | B35: ....
A36: F | B36: ....
A37: G | B37: ....
A38: H | B38: ....
A39: I | B39: ....
A40: J | B40: ....
...

Sheet Sheet1
