Workbook
Name _: "="
Name _____pa1: #REF!
Name _____pa2: #REF!
Name _____phi3: #REF!
Name _____tbm1: #REF!
Name _____Ted1: #REF!
Name _____Ts1: #REF!
Name ____A100000: #REF!
Name ____A69999: #REF!
Name ____A99999: #REF!
Name ____B2: '[1]단면 (2)'!$K$55
Name ____bar10: #REF!
Name ____bar13: #REF!
Name ____bar16: #REF!
Name ____bar19: #REF!
Name ____bar22: #REF!
Name ____bar25: #REF!
Name ____bar29: #REF!
Name ____bar32: #REF!
Name ____dia10: [2]철근단면적!$C$2
Name ____dia13: [3]철근단면적!$C$3
Name ____dia16: [3]철근단면적!$C$4
Name ____dia19: [3]철근단면적!$C$5
Name ____dia22: [3]철근단면적!$C$6
Name ____dia25: [3]철근단면적!$C$7
Name ____dia29: [2]철근단면적!$C$8
Name ____dia32: [2]철근단면적!$C$9
Name ____dia35: #REF!
Name ____faf98: #REF!
Name ____hun1: [4]설계조건!#REF!
Name ____hun2: [4]설계조건!#REF!
Name ____LG15: [5]노임단가!$D$12
Name ____LG17: [5]노임단가!$D$30
Name ____LG18: [5]노임단가!$D$89
Name ____LG21: [5]노임단가!$D$8
Name ____LG6: [5]노임단가!$D$90
Name ____LG9: [5]노임단가!$D$86
Name ____LS15: [5]노임단가!$C$12
Name ____LS17: [5]노임단가!$C$30
Name ____LS18: [5]노임단가!$C$89
Name ____LS21: [5]노임단가!$C$8
Name ____LS6: [5]노임단가!$C$90
Name ____LS9: [5]노임단가!$C$86
Name ____MG109: [5]자재단가!$H$220
Name ____MG135: [5]자재단가!$H$272
Name ____MG15: [5]자재단가!$H$32
Name ____MG3: [5]자재단가!$H$8
Name ____MG43: [5]자재단가!$H$88
Name ____MG44: [5]자재단가!$H$90
Name ____MG46: [5]자재단가!$H$94
Name ____MG57: [5]자재단가!$H$116
Name ____MG6: [5]자재단가!$H$14
Name ____MG8: [5]자재단가!$H$18
Name ____MG9: [5]자재단가!$H$20
Name ____MS109: [5]자재단가!$H$221
Name ____MS135: [5]자재단가!$H$273
Name ____MS15: [5]자재단가!$H$33
Name ____MS3: [5]자재단가!$H$9
Name ____MS43: [5]자재단가!$H$89
Name ____MS44: [5]자재단가!$H$91

Sheet 공종별집계표
A1: 공 종 별 집 계 표
A2: [ 2026.학교도서관 감성디자인 프로젝트 ]
A3: 품 명 | B3: 규 격 | C3: 단위 | D3: 수량 | E3: 재 료 비 | G3: 노 무 비 | I3: 경 비 | K3: 합 계 | M3: 비 고 | N3: 공종코드 | O3: 변수 | P3: 상위공종 | Q3: 공종구분 | R3: 공종레벨 | S3: 공종소계 | T3: 원가계산서 연결금액
E4: 단 가 | F4: 금 액 | G4: 단 가 | H4: 금 액 | I4: 단 가 | J4: 금 액 | K4: 단 가 | L4: 금 액
A5: 01 삼척초등학교 삼나무도서관 실내 공간 조성사업 | J5: =I5*D5 -> 0 | K5: =E5+G5+I5 -> 0 | L5: =F5+H5+J5 -> 0 | N5: 01 | R5: 1
A6: =공종별내역서!A4 -> 010101. 가설공사 | D6: 1 | F6: =E6*D6 -> 0 | H6: =G6*D6 -> 0 | J6: =I6*D6 -> 0 | K6: =E6+G6+I6 -> 0 | L6: =F6+H6+J6 -> 0 | N6: 0101 | P6: 01 | R6: 2 | S6: <
A7: =공종별내역서!A27 -> 010102 . 안 전 관 리 비 | D7: 1 | F7: =E7*D7 -> 0 | H7: =G7*D7 -> 0 | J7: =I7*D7 -> 0 | K7: =E7+G7+I7 -> 0 | L7: =F7+H7+J7 -> 0 | N7: 010101 | P7: 0101 | R7: 3
A8: =공종별내역서!A50 -> 010103. 목공사 및 수장공사 | D8: 1 | F8: =E8*D8 -> 0 | H8: =G8*D8 -> 0 | J8: =I8*D8 -> 0 | K8: =E8+G8+I8 -> 0 | L8: =F8+H8+J8 -> 0 | N8: 010102 | Q8: 6 | R8: 3 | T8: =L8*1 -> 0
A9: =공종별내역서!A97 -> 010104. 금속공사 | D9: 1 | F9: =E9*D9 -> 0 | H9: =G9*D9 -> 0 | J9: =I9*D9 -> 0 | K9: =E9+G9+I9 -> 0 | L9: =F9+H9+J9 -> 0 | N9: 010201 | P9: 0102 | R9: 3
A10: =공종별내역서!A121 -> 010105. 창호및유리공사 | D10: 1 | F10: =E10*D10 -> 0 | H10: =G10*D10 -> 0 | J10: =I10*D10 -> 0 | K10: =E10+G10+I10 -> 0 | L10: =F10+H10+J10 -> 0 | N10: 010202 | P10: 0102 | R10: 3
A11: =공종별내역서!A145 -> 010106. 도장공사 | D11: 1 | F11: =E11*D11 -> 0 | H11: =G11*D11 -> 0 | J11: =I11*D11 -> 0 | K11: =E11+G11+I11 -> 0 | L11: =F11+H11+J11 -> 0 | N11: 010203 | P11: 0102 | R11: 3
A12: =공종별내역서!A169 -> 010107. 가구공사 | D12: 1 | F12: =E12*D12 -> 0 | H12: =G12*D12 -> 0 | J12: =I12*D12 -> 0 | K12: =E12+G12+I12 -> 0 | L12: =F12+H12+J12 -> 0 | N12: 010204 | P12: 0102 | R12: 3
A13: =공종별내역서!A189 -> 010108 . 조명공사 | D13: 1 | F13: =E13*D13 -> 0 | H13: =G13*D13 -> 0 | J13: =I13*D13 -> 0 | K13: =E13+G13+I13 -> 0 | L13: =F13+H13+J13 -> 0 | N13: 010205 | P13: 0102 | R13: 3
A14: =공종별내역서!A239 -> 010109. 미장공사 | D14: 1 | F14: =E14*D14 -> 0 | H14: =G14*D14 -> 0 | J14: =I14*D14 -> 0 | K14: =E14+G14+I14 -> 0 | L14: =F14+H14+J14 -> 0 | N14: 010206 | P14: 0102 | R14: 3
A15: =공종별내역서!A264 -> 0102010. 건설페기물처리비 | D15: 1 | F15: =E15*D15 -> 0 | H15: =G15*D15 -> 0 | J15: =I15*D15 -> 0 | K15: =E15+G15+I15 -> 0 | L15: =F15+H15+J15 -> 0 | N15: 010208 | Q15: 3 | R15: 3 | T15: =L15*1 -> 0
A16: =공종별내역서!A288 -> 0101011. 철거공사 | D16: 1 | E16: =공종별내역서!F337 -> 0 | F16: =E16*D16 -> 0 | H16: =G16*D16 -> 0 | J16: =I16*D16 -> 0 | K16: =E16+G16+I16 -> 0 | L16: =F16+H16+J16 -> 0 | N16: 0103 | P16: 01 | R16: 2
N17: 010301 | P17: 0103 | R17: 3
A25: [ 합 계 ] | F25: =SUM(F6:F24) -> 0 | H25: =SUM(H6:H24) -> 0 | J25: =SUM(J6:J24) -> 0 | L25: =SUM(L6:L24) -> 0
I28: 기계경비 | J28: =J8+J9+J10+J14 -> 0

Sheet 공종별내역서
A1: [ 2026.학교도서관 감성디자인 프로젝트]
A2: 품 명 | B2: 규 격 | C2: 단위 | D2: 수량 | E2: 재 료 비 | G2: 노 무 비 | I2: 경 비 | K2: 합 계 | M2: 비 고 | N2: 품목코드 | O2: 변수 | P2: 설정 | Q2: 공종코드 | R2: 일위 | S2: 단산 | T2: 자재 | U2: 손료적용 | V2: 손료저장 | W2: 적용율 | X2: JUK1 | Y2: JUK2 | Z2: JUK3 | AA2: JUK4 | AB2: JUK5 | AC2: JUK6 | AD2: JUK7 | AE2: JUK8 | AF2: JUK9 | AG2: JUK10 | AH2: JUK11 | AI2: JUK12 | AJ2: JUK13 | AK2: JUK14 | AL2: JUK15 | AM2: JUK16 | AN2: JUK17 | AO2: JUK18 | AP2: JUK19 | AQ2: JUK20 | AR2: 자재구분 | AS2: 공종구분 | AT2: 공종레벨 | AU2: 공종+자재 | AV2: 고유번호
E3: 단 가 | F3: 금 액 | G3: 단 가 | H3: 금 액 | I3: 단 가 | J3: 금 액 | K3: 단 가 | L3: 금 액
A4: 010101. 가설공사 | Q4: 010101
A5: 건축몰현장정리 | B5: 개보수 | C5: m2 | D5: 202.6 | F5: =TRUNC(E5*D5, 0) -> 0 | H5: =TRUNC(G5*D5, 0) -> 0 | J5: =TRUNC(I5*D5, 0) -> 0 | K5: =TRUNC(E5+G5+I5, 0) -> 0 | L5: =TRUNC(F5+H5+J5, 0) -> 0 | M5: 호표 1 | N5: 58E4353AAF3D305D0D71B0F2A04B5CC1 | Q5: 010101 | R5: T | S5: F | T5: F | AU5: 01010158E4353AAF3D305D0D71B0F2A04B5CC1 | AV5: 4
A6: 이동식강관비계 | B6: 1개월, 1단(2m) | C6: 대 | D6: 1 | F6: =TRUNC(E6*D6, 0) -> 0 | H6: =TRUNC(G6*D6, 0) -> 0 | J6: =TRUNC(I6*D6, 0) -> 0 | K6: =TRUNC(E6+G6+I6, 0) -> 0 | L6: =TRUNC(F6+H6+J6, 0) -> 0 | M6: 호표 2 | N6: 5FFEC5978737205615518D6446EE19EDF2B51EAF | Q6: 010101 | R6: T | S6: F | T6: F | AU6: 0101015FFEC5978737205615518D6446EE19EDF2B51EAF | AV6: 5
A7: 준공청소 | C7: M2 | D7: 202.6 | F7: =TRUNC(E7*D7, 0) -> 0 | H7: =TRUNC(G7*D7, 0) -> 0 | J7: =TRUNC(I7*D7, 0) -> 0 | K7: =TRUNC(E7+G7+I7, 0) -> 0 | L7: =TRUNC(F7+H7+J7, 0) -> 0 | M7: 호표 5 | Q7: 010101
A8: 집기류 이전 및 설치 | B8: 집기이동및 재설치 | C8: 인 | D8: 3 | F8: =TRUNC(E8*D8, 0) -> 0 | H8: =TRUNC(G8*D8, 0) -> 0 | J8: =TRUNC(I8*D8, 0) -> 0 | K8: =TRUNC(E8+G8+I8, 0) -> 0 | L8: =TRUNC(F8+H8+J8, 0) -> 0 | M8: 호표 3 | Q8: 010101
A9: 도서 이동 및 이전 정리 | B9: 견적 | C9: 식 | D9: 1 | F9: =TRUNC(E9*D9, 0) -> 0 | H9: =G9*D9 -> 0 | J9: =TRUNC(I9*D9, 0) -> 0 | K9: =TRUNC(E9+G9+I9, 0) -> 0 | L9: =TRUNC(F9+H9+J9, 0) -> 0 | M9: 견적 | Q9: 010101
Q10: 010101
Q11: 010101
Q12: 010101
Q13: 010101
Q14: 010101
Q15: 010101
Q16: 010101
Q17: 010101
Q18: 010101
Q19: 010101
Q20: 010101
Q21: 010101
... Q25: 010101
A26: [ 합 계 ] | F26: =SUMIF(Q5:Q25,"010101",F5:F25) -> 0 | H26: =SUMIF(Q5:Q25,"010101",H5:H25) -> 0 | J26: =SUMIF(Q5:Q25,"010101",J5:J25) -> 0 | L26: =SUMIF(Q5:Q25,"010101",L5:L25) -> 0 | N26: TOTAL
A27: 010102 . 안 전 관 리 비 | F27: =SUM(F5:F26) -> 0 | H27: =SUM(H5:H26) -> 0 | L27: =SUM(L5:L26) -> 0 | Q27: 010102
A28: PE 가설휀스 설치 및 해체 | B28: 1500*410*900mm | C28: 조 | D28: 4 | F28: =TRUNC(E28*D28, 0) -> 0 | H28: =TRUNC(G28*D28, 0) -> 0 | J28: =TRUNC(I28*D28, 0) -> 0 | K28: =TRUNC(E28+G28+I28, 0) -> 0 | L28: =TRUNC(F28+H28+J28, 0) -> 0 | M28: 호표 4 | N28: 58E435398436805F3991477E361860 | Q28: 010102 | R28: T | S28: F | T28: F | AU28: 01010258E435398436805F3991477E361860 | AV28: 8
Q29: 010102
Q30: 010102
Q31: 010102
Q32: 010102
Q33: 010102
Q34: 010102
Q35: 010102
Q36: 010102
Q37: 010102
Q38: 010102
Q39: 010102
Q40: 010102
... Q48: 010102
A49: [ 합 계 ] | F49: =SUMIF(Q28:Q48,"010102",F28:F48) -> 0 | H49: =SUMIF(Q28:Q48,"010102",H28:H48) -> 0 | J49: =SUMIF(Q28:Q48,"010102",J28:J48) -> 0 | L49: =SUMIF(Q28:Q48,"010102",L28:L48) -> 0 | N49: TOTAL
A50: 010103. 목공사 및 수장공사 | Q50: 010203
A51: PVC 바닥재 설치 | B51: PVC바닥재, 450*450*3T, 에코노 | C51: M2 | D51: 179.98 | F51: =TRUNC(E51*D51, 0) -> 0 | H51: =TRUNC(G51*D51, 0) -> 0 | J51: =TRUNC(I51*D51, 0) -> 0 | K51: =TRUNC(E51+G51+I51, 0) -> 0 | L51: =TRUNC(F51+H51+J51, 0) -> 0 | M51: 호표6 | N51: 595105E1B132C05A53915FA08F0EDB1912B4CB | Q51: 010203 | R51: F | S51: F | T51: T | AU51: 010203595105E1B132C05A53915FA08F0EDB1912B4CB | AV51: 19
A52: 3.2T시트형바닥재설치-부분접착식 | B52: 3.2T LX하우시스, 환경인증제품 | C52: M2 | D52: 22.05 | F52: =TRUNC(E52*D52, 0) -> 0 | H52: =TRUNC(G52*D52, 0) -> 0 | J52: =TRUNC(I52*D52, 0) -> 0 | K52: =TRUNC(E52+G52+I52, 0) -> 0 | L52: =TRUNC(F52+H52+J52, 0) -> 0 | M52: 호표8 | N52: 58E4B5EC1636F05AF9D1C3A9C7AF1F | Q52: 010203 | R52: T | S52: F | T52: F | AU52: 01020358E4B5EC1636F05AF9D1C3A9C7AF1F | AV52: 20
A53: 석고보드 1겹 붙임- 벽체 | B53: 석고보드, 바탕용1겹,9.5*900*1800 | C53: M2 | D53: 118.63 | F53: =TRUNC(E53*D53, 0) -> 0 | H53: =TRUNC(G53*D53, 0) -> 0 | J53: =TRUNC(I53*D53, 0) -> 0 | K53: =TRUNC(E53+G53+I53, 0) -> 0 | L53: =TRUNC(F53+H53+J53, 0) -> 0 | M53: 호표 10 | N53: 58E4B5EFE53070504761272C516B09 | Q53: 010203 | R53: T | S53: F | T53: F | AU53: 01020358E4B5EFE53070504761272C516B09 | AV53: 102
A54: 석고보드 1겹 붙임- 천장 | B54: 석고보드, 치장용1겹,9.5*900*1800 | C54: M2 | D54: 191.9 | F54: =TRUNC(E54*D54, 0) -> 0 | H54: =TRUNC(G54*D54, 0) -> 0 | J54: =TRUNC(I54*D54, 0) -> 0 | K54: =TRUNC(E54+G54+I54, 0) -> 0 | L54: =TRUNC(F54+H54+J54, 0) -> 0 | M54: 호표 12 | N54: 58E4D53A03335054E94196CA90BB52 | Q54: 010203 | R54: T | S54: F | T54: F | AU54: 01020358E4D53A03335054E94196CA90BB52 | AV54: 68
A55: 가벽설치-1면 | B55: 각재 30*30*3600, @450*600 | C55: M2 | D55: 132.75 | F55: =TRUNC(E55*D55, 0) -> 0 | H55: =TRUNC(G55*D55, 0) -> 0 | J55: =TRUNC(I55*D55, 0) -> 0 | K55: =TRUNC(E55+G55+I55, 0) -> 0 | L55: =TRUNC(F55+H55+J55, 0) -> 0 | M55: 호표 15 | N55: 58E4A581DC3B0052B1410D72997D30 | Q55: 010203 | R55: T | S55: F | T55: F | AU55: 01020358E4A581DC3B0052B1410D72997D30 | AV55: 97
A56: 경량칸막이설치 | B56: 메탈스터드 C-STUD75, RUNNER | C56: M2 | D56: 16.16 | F56: =TRUNC(E56*D56, 0) -> 0 | H56: =TRUNC(G56*D56, 0) -> 0 | J56: =TRUNC(I56*D56, 0) -> 0 | K56: =TRUNC(E56+G56+I56, 0) -> 0 | L56: =TRUNC(F56+H56+J56, 0) -> 0 | M56: 호표 14 | N56: 58E4D53A073AE05AB491FB078D1C1D | Q56: 010203 | R56: T | S56: F | T56: F | AU56: 01020358E4D53A073AE05AB491FB078D1C1D | AV56: 26
A57: 수장합판붙임(반달템바보드시공) | B57: THK12mm방염반달소형템바보드 | C57: M2 | D57: 39.39 | F57: =TRUNC(E57*D57, 0) -> 0 | H57: =TRUNC(G57*D57, 0) -> 0 | J57: =TRUNC(I57*D57, 0) -> 0 | K57: =TRUNC(E57+G57+I57, 0) -> 0 | L57: =TRUNC(F57+H57+J57, 0) -> 0 | M57: 호표 17 | N57: 58E4D53A043DD059E581D86F4DD4F7 | Q57: 010203 | R57: T | S57: F | T57: F | AU57: 01020358E4D53A043DD059E581D86F4DD4F7 | AV57: 100
A58: 수장합판붙임(스토리보드시공) | B58: THK9*800*2440 방염,보드 | C58: M2 | D58: 21.59 | F58: =TRUNC(E58*D58, 0) -> 0 | H58: =TRUNC(G58*D58, 0) -> 0 | J58: =TRUNC(I58*D58, 0) -> 0 | K58: =TRUNC(E58+G58+I58, 0) -> 0 | L58: =TRUNC(F58+H58+J58, 0) -> 0 | M58: 호표 45 | N58: 595105E1B132C05A53915FA08F0EDB1912B6F9 | Q58: 010203 | R58: F | S58: F | T58: T | AU58: 010203595105E1B132C05A53915FA08F0EDB1912B6F9 | AV58: 29
A59: 합판붙이기(벽체하단) 미송합판 | B59: 미송합판 4.8T*1220*2440.친환경 | C59: M2 | D59: 24.58 | F59: =TRUNC(E59*D59, 0) -> 0 | H59: =TRUNC(G59*D59, 0) -> 0 | J59: =TRUNC(I59*D59, 0) -> 0 | K59: =TRUNC(E59+G59+I59, 0) -> 0 | L59: =TRUNC(F59+H59+J59, 0) -> 0 | M59: 호표 19 | N59: 58E4A581D93FD050AE912FFD8AB99A | Q59: 010203 | R59: T | S59: F | T59: F | AU59: 01020358E4A581D93FD050AE912FFD8AB99A | AV59: 91
A60: 창호문설설치 (사무공간입구) | B60: THK9mm*120.방염인테리어필름 ptw | C60: M | D60: 5.6 | F60: =E60*D60 -> 0 | H60: =G60*D60 -> 0 | J60: =I60*D60 -> 0 | K60: =E60+G60+I60 -> 0 | L60: =TRUNC(F60+H60+J60, 0) -> 0 | M60: 호표20 | Q60: 010203
A61: 중밀도MDF 붙임 THK9mm | B61: 벽체시공, THK9*1220*2440 | C61: M2 | D61: 66.91 | F61: =E61*D61 -> 0 | H61: =G61*D61 -> 0 | J61: =I61*D61 -> 0 | K61: =E61+G61+I61 -> 0 | L61: =F61+H61+J61 -> 0 | M61: 호표21 | Q61: 010203
A62: 중밀도MDF 붙임 THK12mm | B62: 관리벽면상부마감 THK12*1220*2440 | C62: M2 | D62: 4.63 | F62: =E62*D62 -> 0 | H62: =G62*D62 -> 0 | J62: =I62*D62 -> 0 | K62: =E62+G62+I62 -> 0 | L62: =F62+H62+J62 -> 0 | M62: 호표 22 | Q62: 010203
A63: 중밀도MDF 붙임 THK15mm | B63: HOUSE. | C63: M2 | D63: 7.84 | F63: =E63*D63 -> 0 | H63: =G63*D63 -> 0 | J63: =I63*D63 -> 0 | K63: =E63+G63+I63 -> 0 | L63: =F63+H63+J63 -> 0 | M63: 호표23 | Q63: 010203
A64: 곡면수장합판붙임 중밀도MDF THK3mm | B64: 중밀도mdf , 3겹붙임 | C64: M2 | D64: 34.24 | F64: =E64*D64 -> 0 | H64: =G64*D64 -> 0 | J64: =I64*D64 -> 0 | K64: =E64+G64+I64 -> 0 | L64: =F64+H64+J64 -> 0 | M64: 호표 24 | Q64: 010203
A65: 삼나무집성목붙임 THK18MM | B65: HOUSE. | C65: M2 | D65: 5.12 | F65: =E65*D65 -> 0 | H65: =G65*D65 -> 0 | J65: =I65*D65 -> 0 | K65: =E65+G65+I65 -> 0 | L65: =F65+H65+J65 -> 0 | M65: 호표35 | Q65: 010203
A66: 애쉬집성목붙임 THK 24MM | B66: 휴식독서공간-창문 창대(선반) 치장마감 | C66: M2 | D66: 2.67 | F66: =E66*D66 -> 0 | H66: =G66*D66 -> 0 | J66: =I66*D66 -> 0 | K66: =E66+G66+I66 -> 0 | L66: =F66+H66+J66 -> 0 | M66: 호표34 | Q66: 010203
A67: 벽면 재료분리대설치-중간몰딩 | B67: 템바보드상부마감 15*30MM | C67: M | D67: 41.34 | F67: =E67*D67 -> 0 | H67: =G67*D67 -> 0 | J67: =I67*D67 -> 0 | K67: =E67+G67+I67 -> 0 | L67: =F67+H67+J67 -> 0 | M67: 호표25 | Q67: 010203
A68: 천장몰딩설치- 마이너스몰딩 | B68: 25*15*2440 ,마이너스랩핑기성몰딩 | C68: M | D68: 86.78 | F68: =E68*D68 -> 0 | H68: =G68*D68 -> 0 | J68: =I68*D68 -> 0 | K68: =E68+G68+I68 -> 0 | L68: =F68+H68+J68 -> 0 | M68: 호표26 | Q68: 010203
A69: 걸레받이설치 - 기성랩핑몰딩 80 | B69: H80MM*9*2440, 평몰딩 | C69: M | D69: 60.66 | F69: =E69*D69 -> 0 | H69: =G69*D69 -> 0 | J69: =I69*D69 -> 0 | K69: =E69+G69+I69 -> 0 | L69: =F69+H69+J69 -> 0 | M69: 호표27 | Q69: 010203
A70: 창호문설설치 - 기성랩핑몰딩 40 | B70: H40MM*9*2440, 인테리어필름마감용 | C70: M | D70: 16.6 | F70: =E70*D70 -> 0 | H70: =G70*D70 -> 0 | J70: =I70*D70 -> 0 | K70: =E70+G70+I70 -> 0 | L70: =F70+H70+J70 -> 0 | M70: 호표29
A71: 템바보드하부마감몰딩 -기성몰딩 | B71: 15*9*2440 템바보드용마감몰딩 | C71: M | D71: 41.34 | F71: =E71*D71 -> 0 | H71: =G71*D71 -> 0 | J71: =I71*D71 -> 0 | K71: =E71+G71+I71 -> 0 | L71: =F71+H71+J71 -> 0 | M71: 호표33
A72: 천장띠장설치 (미송) | B72: 각재 30*30*3600, 띠장설치 | C72: M | D72: 30 | F72: =E72*D72 -> 0 | H72: =G72*D72 -> 0 | J72: =I72*D72 -> 0 | K72: =E72+G72+I72 -> 0 | L72: =F72+H72+J72 -> 0 | M72: 호표36
A73: 마루틀설치 | B73: H300이하, 장선30*60@300,멍에 90*90@900 | C73: M2 | D73: 21.05 | F73: =E73*D73 -> 0 | H73: =G73*D73 -> 0 | J73: =I73*D73 -> 0 | K73: =E73+G73+I73 -> 0 | L73: =F73+H73+J73 -> 0 | M73: 호표47
A74: 마루바탕설치 | B74: 미송합판 THK12*1220*2440 2겹설치 | C74: M2 | D74: 21.05 | F74: =E74*D74 -> 0 | H74: =G74*D74 -> 0 | J74: =I74*D74 -> 0 | K74: =E74+G74+I74 -> 0 | L74: =F74+H74+J74 -> 0 | M74: 호표48
A75: 유리모루시트 | B75: 모루유리패턴시공, 비산방지기능 | C75: M2 | D75: 1.4 | F75: =E75*D75 -> 0 | H75: =G75*D75 -> 0 | J75: =I75*D75 -> 0 | K75: =E75+G75+I75 -> 0 | L75: =F75+H75+J75 -> 0 | M75: 호표43
A76: 자석전용갈바스틸판설치 1.2 T | B76: 1.2T* H1500*W 520~620 | C76: EA | D76: 6 | F76: =E76*D76 -> 0 | H76: =G76*D76 -> 0 | J76: =I76*D76 -> 0 | K76: =E76+G76+I76 -> 0 | L76: =F76+H76+J76 -> 0 | M76: 호표46
A77: 방염인테리어필름붙임-PW 113 | B77: STEEL,MDF면 LX하우시스 PW113 휴식독서공간 (가든하우스.파티션,스틸다리) | C77: M2 | D77: 35.41 | F77: =E77*D77 -> 0 | H77: =G77*D77 -> 0 | J77: =I77*D77 -> 0 | K77: =E77+G77+I77 -> 0 | L77: =F77+H77+J77 -> 0 | M77: 호표38
A78: 방염인테리어필름붙임-RS.S.LS | B78: MDF면, LX하우시스, 현대L&C보닥 그림책서가책장.기둥4면.관리안내 | C78: M2 | D78: 29.55 | F78: =E78*D78 -> 0 | H78: =G78*D78 -> 0 | J78: =I78*D78 -> 0 | K78: =E78+G78+I78 -> 0 | L78: =F78+H78+J78 -> 0 | M78: 호표39
A79: 방염인테리어필름붙임-PNT | B79: MDF면, LX하우시스, 현대L&C보닥 그림책서가전면마감, HOUSE.관리안내 | C79: M2 | D79: 20.36 | F79: =E79*D79 -> 0 | H79: =G79*D79 -> 0 | J79: =I79*D79 -> 0 | K79: =E79+G79+I79 -> 0 | L79: =F79+H79+J79 -> 0 | M79: 호표40
A80: 방염인테리어필름붙임-PNC42or43 | B80: MDF면, LX하우시스, 현대L&C보닥-벽체관리안내 벽면수납장 도어 | C80: M2 | D80: 66.91 | F80: =E80*D80 -> 0 | H80: =G80*D80 -> 0 | J80: =I80*D80 -> 0 | K80: =E80+G80+I80 -> 0 | L80: =F80+H80+J80 -> 0 | M80: 호표41
A81: 방염인테리어필름붙임-PTW | B81: MDF면, LX하우시스, 현대L&C보닥 주출입구 | C81: M2 | D81: 6 | F81: =E81*D81 -> 0 | H81: =G81*D81 -> 0 | J81: =I81*D81 -> 0 | K81: =E81+G81+I81 -> 0 | L81: =F81+H81+J81 -> 0 | M81: 호표39
... A87: 점검구설치 | B87: AL점검구 450*450 | C87: EA | D87: 3 | F87: =E87*D87 -> 0 | H87: =G87*D87 -> 0 | J87: =I87*D87 -> 0 | K87: =E87+G87+I87 -> 0 | L87: =F87+H87+J87 -> 0 | M87: 호표 67
F88: =E88*D88 -> 0 | H88: =G88*D88 -> 0 | J88: =I88*D88 -> 0 | L88: =F88+H88+J88 -> 0
F89: =E89*D89 -> 0 | H89: =G89*D89 -> 0 | J89: =I89*D89 -> 0 | K89: =E89+G89+I89 -> 0 | L89: =F89+H89+J89 -> 0
F90: =E90*D90 -> 0 | H90: =G90*D90 -> 0 | J90: =I90*D90 -> 0 | K90: =E90+G90+I90 -> 0 | L90: =F90+H90+J90 -> 0
F91: =E91*D91 -> 0 | H91: =G91*D91 -> 0 | J91: =I91*D91 -> 0 | K91: =E91+G91+I91 -> 0 | L91: =F91+H91+J91 -> 0
F92: =E92*D92 -> 0 | H92: =G92*D92 -> 0 | J92: =I92*D92 -> 0 | K92: =E92+G92+I92 -> 0 | L92: =F92+H92+J92 -> 0 | Q92: 010203
F93: =E93*D93 -> 0 | H93: =G93*D93 -> 0 | J93: =I93*D93 -> 0 | K93: =E93+G93+I93 -> 0 | L93: =F93+H93+J93 -> 0 | Q93: 010203
F95: =E95*D95 -> 0 | H95: =G95*D95 -> 0 | J95: =I95*D95 -> 0 | K95: =E95+G95+I95 -> 0 | L95: =F95+H95+J95 -> 0 | Q95: 010203
A96: [ 합 계 ] | F96: =SUM(F51:F95) -> 0 | H96: =SUM(H51:H95) -> 0 | J96: =SUM(J51:J95) -> 0 | L96: =F96+H96+J96 -> 0 | N96: TOTAL
A97: 010104. 금속공사 | Q97: 010204
A98: 스텐레스재료분리대 (주줄입구) | B98: 바닥 60*20*1980*1.5T STS304 | C98: M | D98: 1.98 | F98: =TRUNC(E98*D98, 0) -> 0 | H98: =TRUNC(G98*D98, 0) -> 0 | J98: =TRUNC(I98*D98, 0) -> 0 | K98: =TRUNC(E98+G98+I98, 0) -> 0 | L98: =TRUNC(F98+H98+J98, 0) -> 0 | M98: 호표50 | N98: 58E4D53C323D50544B01D0CEB7BCAE | Q98: 010204 | R98: T | S98: F | T98: F | AU98: 01020458E4D53C323D50544B01D0CEB7BCAE | AV98: 32
A99: STEEL 구조물제작(휴식독서공간 -가든하우스.파티션,하우스, 스틸 받침대) | B99: 스틸칼라각파이프 75*45,30*30,50*50 1.6T 현장제작설치 | C99: 식 | D99: 1 | F99: =TRUNC(E99*D99, 0) -> 0 | H99: =TRUNC(G99*D99, 0) -> 0 | J99: =TRUNC(I99*D99, 0) -> 0 | K99: =TRUNC(E99+G99+I99, 0) -> 0 | L99: =TRUNC(F99+H99+J99, 0) -> 0 | M99: 견적 | N99: 58E485BE573C30597D71F0C29E739B25 | Q99: 010204 | R99: T | S99: F | T99: F | AU99: 01020458E485BE573C30597D71F0C29E739B25 | AV99: 71
Q100: 010204
Q101: 010204
Q102: 010204
Q103: 010204
Q104: 010204
Q105: 010204
Q106: 010204
Q107: 010204
Q108: 010204
Q109: 010204
Q110: 010204
Q111: 010204
... Q119: 010204
A120: [ 합 계 ] | F120: =SUMIF(Q98:Q119,"010204",F98:F119) -> 0 | H120: =SUMIF(Q98:Q119,"010204",H98:H119) -> 0 | J120: =SUMIF(Q98:Q119,"010204",J98:J119) -> 0 | L120: =SUMIF(Q98:Q119,"010204",L98:L119) -> 0 | N120: TOTAL
A121: 010105. 창호및유리공사 | Q121: 010205
A122: 플로어힌지(세이프도어)설치 85KG | B122: 플로어힌지 K8300 | C122: 개 | D122: 2 | F122: =TRUNC(E122*D122, 0) -> 0 | H122: =TRUNC(G122*D122, 0) -> 0 | J122: =TRUNC(I122*D122, 0) -> 0 | K122: =TRUNC(E122+G122+I122, 0) -> 0 | L122: =TRUNC(F122+H122+J122, 0) -> 0 | M122: 호표51 | N122: 5FC18578913D20515221765330E9EC01EAE36D | Q122: 010205 | R122: F | S122: F | T122: T | AU122: 0102055FC18578913D20515221765330E9EC01EAE36D | AV122: 95
A123: 강화유리설치 | B123: 5mm투명강화유리 | C123: M2 | D123: 0.47 | F123: =TRUNC(E123*D123, 0) -> 0 | H123: =TRUNC(G123*D123, 0) -> 0 | J123: =TRUNC(I123*D123, 0) -> 0 | K123: =TRUNC(E123+G123+I123, 0) -> 0 | L123: =TRUNC(F123+H123+J123, 0) -> 0 | M123: 호표54 | N123: 58E4E520BD3DB05F2BD103E9074FC4 | Q123: 010205 | R123: F | S123: F | T123: T | AU123: 01020558E4E520BD3DB05F2BD103E9074FC4 | AV123: 89
...

Sheet  공사설정 
A1: 이 Sheet는 수정하지 마십시요
A2: 공사구분 | B2: A | C2: 타이틀
A3: 확정내역 | B3: 원내역
A4: 자재단가적용 | B4: 5
A5: 경비단가적용 | B5: 5
A6: 품목코드형식 | B6: XXXX-XXXX-XXXXXXXXX
A7: 내역금액소수점처리 | B7: C | C7: T
A8: 일위대가내역소수점처리 | B8: C | C8: 2
A9: 단가명 | B9: 조달청가격 | C9: 거래가격 | D9: 유통물가 | E9: 물가자료 | F9: 조사가격 | G9: TTTTT
A10: 환율 | B10: 1466 | C10: 0 | D10: 0
A11: 시간당작업량 | B11: R | C11: 4
A12: 1회 사이클시간 | B12: R | C12: 4
A13: 시간당 작업사이클 | B13: R | C13: 3
A14: 일반변수 | B14: R | C14: 5
A15: 시간당 노임산출 계수 | B15: A | C15: 1/8*16/12*25/20 | D15: 1/8*16/12*25/20 | E15: 1/8*16/12*25/20 | F15: 1
A16: 재료비 할증 계수 | B16: 1.11 | C16: 1.12
A17: 노무비 할증 계수 | B17: 1 | C17: 1.5 | D17: 1.16 | E17: 1.6 | F17: 1.6 | G17: 1.6 | H17: 1.94 | I17: 1.94 | J17: 1.94 | K17: 1 | L17: 1 | M17: 1
A18: 경비 할증 계수 | B18: 1.25 | C18: 1.071
A19: 내역,일위대가 품명,규격,단위 따로적용
A20: 내역단가 소수점처리 | C20: 1
A21: 코드 | B21: 공종구분명 | C21: 원가비목코드
A22: 1 | B22: 작 업 부 산 물 | C22: A3
A23: 2 | B23: 운 반 비 | C23: C1
A24: 3 | B24: 관 급 자 재 비 | C24: DJ
A25: 4 | B25: 사 급 자 재 비 | C25: D3
A26: 5 | B26: 외 자 재
A27: 6 | B27: 안 전 관 리 비
A28: 7 | B28: 폐 기 물 처 리 비
A29: 8 | B29: 품 질 시 험 비
A30: 9 | B30: ...
A31: A | B31: ....
A32: B | B32: .....
A33: C | B33: ....
A34: D | B34: ....
A35: E | B35: ....
A36: F | B36: ....
A37: G | B37: ....
A38: H | B38: ....
A39: I | B39: ....
A40: J | B40: ....
A43: 단가 순서 | B43: 1234

Sheet Sheet1
