Workbook

Sheet 부가세제외
B1: 시트명 | M1: 공종별집계표
B2: 행
B4: =집계표!A2 -> [ 설천중고 연립관사 개축 소방공사 ] | R4: 금액: | T4: =NUMBERSTRING(AG4,1) -> 영 | AC4: 원 정 | AE4: ( | AF4: W | AG4: =M37 -> 0 | AL4: )
A5: 열 | B5: 비목 | D5: 구분 | M5: 금액 | N5: 구성비 | X5: 비고
A6: F | B6: 순공사비원가 | D6: 재료비 | F6: 직접재료비 | AN6: 순공사비 | AO6: =M9+M10+M13 -> 0
F7: 간접재료비 | AN7: 관급총액 | AO7: =M35+M36 -> 0
F8: 작업부산물 | AN8: 한전비 | AO8: =M34 -> 0
F9: 소계
A10: H | D10: 노무비 | F10: 직접노무비(가) | M10: =집계표!H5 -> 0
F11: 간접노무비(나) | M11: =INT(M10*R11) -> 0 | N11: 직접노무비의 | R11: 0.175 | X11: 순공사비 10억미만 기준(공사기간 6개월이하)
F12: 소계 | M12: =SUM(M10:M11) -> 0
A13: J | D13: 경비 | F13: 기계경비 | AN13: 퇴직공제비 | AO13: =IF(M33+M36>=100000000, "☜ 적용(2.3%)","☜ 삭제") -> ☜ 삭제
F14: 고용보험료 | M14: =INT(M12*Q14) -> 0 | N14: 노무비의 | Q14: 0.0101
F15: 산재보험료 | M15: =INT(M12*Q15) -> 0 | N15: 노무비의 | Q15: 0.0356 | AN15: 안전관리비 | AO15: =IF(M33+M36-M16<20000000,"☜ 삭제",IF(M9+M10+M36<=499999999,"☜ 적용(3.11%)",IF(M9+M10+M36<=4999999999,"☜ 교체(2.28%+4,325천원)",IF(M9+M10+M36>=5000000000,"☜ 교체(2.37%)")))) -> ☜ 삭제
F16: 산업안전보건관리비 | M16: =INT(MIN(AO17,AO18)) -> 0 | N16: =IF(M33+M36>=20000000,IF(AO17>AO18,AO20,AO19),"") | X16: 도급액+도급자관급 2천만원이상 | AO16: 5억미만 | AP16: 5억이상 50억미만 | AQ16: 50억이상
F17: 건강보험료 | M17: =INT(M10*R17) -> 0 | N17: 직접노무비의 | R17: 0.03595 | AN17: a. | AO17: =INT((($M$9+$M$10)+($M$36/1.1))*3.11%) -> 0 | AP17: =INT((($M$9+$M$10)+($M$36/1.1))*2.28%)+4325000 -> 4325000 | AQ17: =INT((($M$9+$M$10)+($M$36/1.1))*2.37%) -> 0
F18: 연금보험료 | M18: =INT(M10*R18) -> 0 | N18: 직접노무비의 | R18: 0.0475 | AN18: b. | AO18: =INT((($M$9+$M$10)*3.11%)*1.2) -> 0 | AP18: =INT((($M$9+$M$10)*2.28%)+4325000)*1.2 -> 5190000 | AQ18: =INT((($M$9+$M$10)*2.37%)*1.2) -> 0
F19: 노인장기요양보험료 | M19: =INT(M17*R19) -> 0 | N19: 건강보험료의 | R19: 0.1314 | AO19: (재+직노+도급자관급)의 3.11% | AP19: (재+직노+도급자관급)의 2.28%+4,325천원 | AQ19: (재+직노+도급자관급)의 2.37%
F20: 기타경비 | M20: =INT((M9+M12)*Q20) -> 0 | N20: (재+노)의 | Q20: 0.05 | X20: 순공사비 10억미만 기준(공사기간 6개월이하) | AO20: (재+직노)의 3.11% *1.2 | AP20: ((재+직노)의 2.28%+4,325천원)*1.2 | AQ20: (재+직노)의 2.37% *1.2
F21: 퇴직공제부금비 | N21: =IF(M33+M36>=100000000, "직접노무비의 2.3%","") | X21: 도급액+도급자관급 1억원이상
F22: 공사이행보증수수료
F23: 석면분담금 | M23: =INT(M12*Q23) -> 0 | N23: 노무비의 | Q23: 6e-05 | AN23: 순계약금액 : | AO23: =INT(M26+M27+M28+M29+$AN$36) -> 0
F24: 임금채권부담금 | M24: =INT(M12*Q24) -> 0 | N24: 노무비의 | Q24: 0.0009 | AN24: 순계약금액 적용구간 | AP24: 기본요율 | AQ24: 초과일수(3년기본) | AR24: 배상책임공제료
F25: 소계 | M25: =SUM(M13:M24) -> 0 | AN25: 0 | AO25: 5억이하 | AP25: 0.00364 | AR25: =$AO$23*AP25*(1+(AQ25/1095)) -> 0
D26: 계 | M26: =M9+M12+M25 -> 0 | AN26: 500000000 | AO26: 5억초과~10억이하 | AP26: 0.00351 | AR26: =$AO$23*AP26*(1+(AQ26/1095)) -> 0
B27: 일반관리비 | M27: =INT(M26*P27) -> 0 | N27: 계의 | P27: 0.08 | X27: 5억미만 8% / 5~30억미만 6.5% / 30~100억미만 5% (공급가액 기준) | AN27: 1000000000 | AO27: 10억초과~20억이하 | AP27: 0.00345 | AR27: =$AO$23*AP27*(1+(AQ27/1095)) -> 0
B28: 이윤 | M28: =INT((M12+M25+M27)*S28) -> 0 | N28: (노+경비+일.관)의 | S28: 0.15 | X28: 50억미만 15% / 50~300억미만 12% (공급가액 기준) | AN28: 2000000000 | AO28: 20억초과~30억이하 | AP28: 0.00338 | AR28: =$AO$23*AP28*(1+(AQ28/1095)) -> 0
B29: 사급자재비 | AN29: 3000000000 | AO29: 30억초과~40억이하 | AP29: 0.00325 | AR29: =$AO$23*AP29*(1+(AQ29/1095)) -> 0
B30: 배상책임공제료 | M30: =VLOOKUP($AO$23,$AN$25:$AR$33,5,TRUE) -> 0 | N30: =" 순계약금액 * "&TEXT(VLOOKUP($AO$23,$AN$25:$AP$33,3,TRUE),"0.###%") -> 순계약금액 * 0.364% | AN30: 4000000000 | AO30: 40억초과~50억이하 | AP30: 0.00319 | AR30: =$AO$23*AP30*(1+(AQ30/1095)) -> 0
B31: 공급가액 | M31: =SUM(M26:M30) -> 0 | AN31: 5000000000 | AO31: 50억초과~70억이하 | AP31: 0.00312 | AR31: =$AO$23*AP31*(1+(AQ31/1095)) -> 0
B32: 부가가치세 | M32: =INT(M31*R32) -> 0 | N32: 공급가액의 | R32: 0.1 | AN32: 7000000000 | AO32: 70억초과~100억이하 | AP32: 0.00305 | AR32: =$AO$23*AP32*(1+(AQ32/1095)) -> 0
B33: 도급액 | M33: =ROUNDDOWN(M31+M32,-3) -> 0 | X33: 천단위절사 | AN33: 10000000000 | AO33: 100억초과~150억이하 | AP33: 0.00295 | AR33: =$AO$23*AP33*(1+(AQ33/1095)) -> 0
B34: 한전인입비/사용전검사비 | X34: 천단위절상
B35: 관급자설치 관급자재 | X35: 천단위절상
B36: 도급자설치 관급자재 | X36: 천단위절상 | AO36: ☜ 도급자관급 입력(부가가치세제외+조달수수료포함) 입력 [배상공제료계상용]
B37: 총공사비 | M37: =SUM(M33:M36) -> 0 | AN37: 배상책임공제료 = 순계약금액 x 기본요율 x [1+(3년(1,095일)초과일수/1,095)]
AN38: 순계약금액 = 공급가액+(도급자관급-부가가치세)-배상책임공제료

Sheet 집계표
A1: 공 종 별 집 계 표
A2: [ 설천중고 연립관사 개축 소방공사 ]
A3: 품 명 | B3: 규 격 | C3: 단위 | D3: 수량 | E3: 재 료 비 | G3: 노 무 비 | I3: 경 비 | K3: 합 계 | M3: 비 고 | N3: 공종코드 | O3: 변수 | P3: 상위공종 | Q3: 공종구분 | R3: 공종레벨 | S3: 공종소계 | T3: 원가계산서 연결금액
E4: 단 가 | F4: 금 액 | G4: 단 가 | H4: 금 액 | I4: 단 가 | J4: 금 액 | K4: 단 가 | L4: 금 액
A5: 01 설천중고 연립관사 개축 소방공사 | D5: 1 | N5: 01 | R5: 1
A6: 0101 소방공사 | D6: 1 | N6: 0101 | P6: 01 | R6: 2
A7: 010101 소화기구설치공사 | D7: 1 | N7: 010102 | P7: 0101 | R7: 3
A8: 010102 자동화재탐지설비공사 | D8: 1 | N8: 010101 | P8: 0101 | R8: 3
A9: 010103 유도등설비공사 | D9: 1 | N9: 010102 | P9: 0101 | R9: 3
A26: [ 합 계 ]

Sheet 내역서(기계)
A1: [ 설천중고 연립관사 개축 소방공사 ]
A2: 품 명 | B2: 규 격 | C2: 단위 | D2: 수량 | E2: 재 료 비 | G2: 노 무 비 | I2: 경 비 | K2: 합 계 | M2: 비 고 | N2: 품목코드 | O2: 변수 | P2: 설정 | Q2: 공종코드 | R2: 일위 | S2: 단산 | T2: 자재 | U2: 손료적용 | V2: 손료저장 | W2: 적용율 | X2: JUK1 | Y2: JUK2 | Z2: JUK3 | AA2: JUK4 | AB2: JUK5 | AC2: JUK6 | AD2: JUK7 | AE2: JUK8 | AF2: JUK9 | AG2: JUK10 | AH2: JUK11 | AI2: JUK12 | AJ2: JUK13 | AK2: JUK14 | AL2: JUK15 | AM2: JUK16 | AN2: JUK17 | AO2: JUK18 | AP2: JUK19 | AQ2: JUK20 | AR2: 자재구분 | AS2: 공종구분 | AT2: 공종레벨 | AU2: 공종+자재 | AV2: 고유번호
E3: 단 가 | F3: 금 액 | G3: 단 가 | H3: 금 액 | I3: 단 가 | J3: 금 액 | K3: 단 가 | L3: 금 액
A4: 010101 소화기구설치공사 | Q4: 010101
A5: ABC분말소화기 | B5: 분말소화기(ABC) 1.5KG | C5: EA | D5: 19 | N5: 503E114101080AE733532C22CE971D7D911A56 | Q5: 010101 | R5: F | S5: F | T5: T | AU5: 010101503E114101080AE733532C22CE971D7D911A56 | AV5: 428
A6: ABC분말소화기 | B6: 분말소화기(ABC), 4단위, ABC3.3kg | C6: EA | D6: 5 | N6: 503E114101080AE733532C22CE971D7D911A54 | Q6: 010101 | R6: F | S6: F | T6: T | AU6: 010101503E114101080AE733532C22CE971D7D911A54 | AV6: 429
A7: 자동확산소화기 | B7: 수동식소화기, 자동확산소화기3.3kg | C7: EA | D7: 17 | N7: 503E114101080AE733532C22CE971D7D911B79 | Q7: 010101 | R7: F | S7: F | T7: T | AU7: 010101503E114101080AE733532C22CE971D7D911B79 | AV7: 431
A8: 소화기 | B8: 자동식소화기 | C8: EA | D8: 17 | N8: 503E114101080AE733532C22CE971D7D911B78 | Q8: 010101 | R8: F | S8: F | T8: T | AU8: 010101503E114101080AE733532C22CE971D7D911B78 | AV8: 432
A9: 소화기 받침대 | B9: 소화기받침대 1.5KG | C9: EA | D9: 19 | N9: 503E114101080AE733D36BDF695BC748E1F664 | Q9: 010101 | R9: F | S9: F | T9: T | AU9: 010101503E114101080AE733D36BDF695BC748E1F664 | AV9: 433
A10: 소화기받침대 | B10: 3.3kg | C10: EA | D10: 5 | N10: 503E114101080AE733D36BDF695BC748E1F663 | Q10: 010101 | R10: F | S10: F | T10: T | AU10: 010101503E114101080AE733D36BDF695BC748E1F663 | AV10: 434
A11: 완강기 | B11: 3층용 | C11: SET | D11: 5 | N11: 57A5214E9208591A3CB3F6B8B7E355 | Q11: 010101 | R11: T | S11: F | T11: F | AU11: 01010157A5214E9208591A3CB3F6B8B7E355 | AV11: 435
A12: 완강기 | B12: 4층용 | C12: SET | D12: 4 | N12: 57A5214E9208591A3CB3F592B40B36 | Q12: 010101 | R12: T | S12: F | T12: F | AU12: 01010157A5214E9208591A3CB3F592B40B36 | AV12: 436
Q13: 010101
A14: 임시소방시설 | Q14: 010101
A15: ABC분말소화기 | B15: 분말소화기(ABC), 4단위, ABC3.3kg | C15: EA | D15: 24 | Q15: 010101
A16: ABC분말소화기 | B16: 20kg (대형) | C16: EA | D16: 8 | Q16: 010101
A17: 비상경보장치(임시소방시설) | C17: EA | D17: 4 | Q17: 010101
Q18: 010101
Q19: 010101
Q20: 010101
Q21: 010101
Q22: 010101
Q23: 010101
Q24: 010101
Q25: 010101
Q26: 010101
A27: [ 합 계 ] | N27: TOTAL

Sheet 내역서(전기)
A1: [ 설천중고 연립관사 개축 소방공사 ]
A2: 품 명 | B2: 규 격 | C2: 단위 | D2: 수량 | E2: 재 료 비 | G2: 노 무 비 | I2: 경 비 | K2: 합 계 | M2: 비 고 | N2: 품목코드 | O2: 변수 | P2: 설정 | Q2: 공종코드 | R2: 일위 | S2: 단산 | T2: 자재 | U2: 손료적용 | V2: 손료저장 | W2: 적용율 | X2: JUK1 | Y2: JUK2 | Z2: JUK3 | AA2: JUK4 | AB2: JUK5 | AC2: JUK6 | AD2: JUK7 | AE2: JUK8 | AF2: JUK9 | AG2: JUK10 | AH2: JUK11 | AI2: JUK12 | AJ2: JUK13 | AK2: JUK14 | AL2: JUK15 | AM2: JUK16 | AN2: JUK17 | AO2: JUK18 | AP2: JUK19 | AQ2: JUK20 | AR2: 자재구분 | AS2: 공종구분 | AT2: 공종레벨 | AU2: 공종+자재 | AV2: 고유번호
E3: 단 가 | F3: 금 액 | G3: 단 가 | H3: 금 액 | I3: 단 가 | J3: 금 액 | K3: 단 가 | L3: 금 액
A4: 010102 자동화재탐지설비공사 | B4: 소방공사 | Q4: 010101
A5: 합성수지제 가요전선관(반복공정) | B5: CD 난연성 16㎜ | C5: M | D5: 296 | N5: 57F9B14A75933BCE21A475022C00BC | Q5: 010101 | R5: T | S5: F | T5: F | AU5: 01010157F9B14A75933BCE21A475022C00BC | AV5: 238
A6: 합성수지제 가요전선관(반복공정) | B6: CD 난연성 22㎜ | C6: M | D6: 3 | N6: 57F9B14A75933BCE21A475022C0F21 | Q6: 010101 | R6: T | S6: F | T6: F | AU6: 01010157F9B14A75933BCE21A475022C0F21 | AV6: 239
A7: 합성수지제 가요전선관(반복공정) | B7: CD 난연성 28㎜ | C7: M | D7: 8 | N7: 57F9B14A75933BCE21A475022C0E1B | Q7: 010101 | R7: T | S7: F | T7: F | AU7: 01010157F9B14A75933BCE21A475022C0E1B | AV7: 240
A8: 합성수지제 가요전선관(반복공정) | B8: CD 난연성 36㎜ | C8: M | D8: 17 | N8: 57F9B14A75933BCE21A475022C0E1A | Q8: 010101 | R8: T | S8: F | T8: F | AU8: 01010157F9B14A75933BCE21A475022C0E1A | AV8: 241
A9: 1종금속제가요전선관(반복공정) | B9: 16 mm 비방수 | C9: M | D9: 16 | N9: 57F9B14A75933BC9A07412C2D4896E | Q9: 010101 | R9: T | S9: F | T9: F | AU9: 01010157F9B14A75933BC9A07412C2D4896E | AV9: 242
A10: 저독성폴리올레핀절연전선(HFIX) | B10: 1.5㎟(1.38㎜) | C10: M | D10: 1057 | N10: 57F9B14A7590676C2F14AB22E8C07B | Q10: 010101 | R10: T | S10: F | T10: F | AU10: 01010157F9B14A7590676C2F14AB22E8C07B | AV10: 243
A11: 저독성폴리올레핀절연전선(HFIX) | B11: 2.5㎟(1.78㎜) | C11: M | D11: 406 | N11: 57F9B14A7590676C2F14AB22E8C3CF | Q11: 010101 | R11: T | S11: F | T11: F | AU11: 01010157F9B14A7590676C2F14AB22E8C3CF | AV11: 244
A12: 아우트렛박스(반복공정) | B12: 8각 54㎜ | C12: 개 | D12: 51 | N12: 57F9B14A759B718D94D4B172CBEBD3 | Q12: 010101 | R12: T | S12: F | T12: F | AU12: 01010157F9B14A759B718D94D4B172CBEBD3 | AV12: 245
A13: 스위치박스 (반복공정) | B13: 2 개용 54 mm | C13: 개 | D13: 5 | N13: 57F9B14A759B718D94D4B172CAD834 | Q13: 010101 | R13: T | S13: F | T13: F | AU13: 01010157F9B14A759B718D94D4B172CAD834 | AV13: 247
A14: 수동발신기 | B14: 단독형(SUS) | C14: SET | D14: 4 | N14: 57F9B14A499AF38B68848532895D35 | Q14: 010101 | R14: T | S14: F | T14: F | AU14: 01010157F9B14A499AF38B68848532895D35 | AV14: 248
A15: 화재감지기 | B15: 열감지기,정온식스포트형 | C15: 개 | D15: 17 | N15: 57F9B14A499AF38B6884853288B3F6 | Q15: 010101 | R15: T | S15: F | T15: F | AU15: 01010157F9B14A499AF38B6884853288B3F6 | AV15: 249
A16: 화재감지기 | B16: 연기감지기,광전식2종-비축적 | C16: 개 | D16: 34 | N16: 57F9B14A499AF38B688485328B0A8A | Q16: 010101 | R16: T | S16: F | T16: F | AU16: 01010157F9B14A499AF38B688485328B0A8A | AV16: 250
A17: 시각경보기 | B17: 15cd | C17: 개소 | D17: 5 | N17: 57F9B14A499AF38B6884A0025FBFAA | Q17: 010101 | R17: T | S17: F | T17: F | AU17: 01010157F9B14A499AF38B6884A0025FBFAA | AV17: 251
A18: 시각경보기 전원반 | C18: 대 | D18: 1 | N18: 57F9B14A499AF38B6884A0025E96D3 | Q18: 010101 | R18: T | S18: F | T18: F | AU18: 01010157F9B14A499AF38B6884A0025E96D3 | AV18: 252
A19: 화재 수신기 | B19: P형1급 복합형, 10 회로(벽부) | C19: 대 | D19: 1 | N19: 57F9B14A499AF38B6884DD42F9481C | Q19: 010101 | R19: T | S19: F | T19: F | AU19: 01010157F9B14A499AF38B6884DD42F9481C | AV19: 253
A20: 1종금속제가요전선관 | B20: 박스커넥터, 16 mm 비방수 | C20: 개 | D20: 62 | N20: 509BB14264940DB95EE41B8215EE1FA3981A6C | Q20: 010101 | R20: F | S20: F | T20: T | AU20: 010101509BB14264940DB95EE41B8215EE1FA3981A6C | AV20: 254
A21: 아우트렛박스 커버 | B21: 8각, 평 | C21: 개 | D21: 51 | N21: 509BB142649512E05504ED621D4D4E42E99940 | Q21: 010101 | R21: F | S21: F | T21: T | AU21: 010101509BB142649512E05504ED621D4D4E42E99940 | AV21: 255
Q22: 010101
Q23: 010101
Q24: 010101
Q25: 010101
Q26: 010101
A27: [ 합 계 ] | N27: TOTAL
A28: 010103 유도등설비공사 | B28: 소방공사 | Q28: 010102
A29: 합성수지제 가요전선관(반복공정) | B29: CD 난연성 16㎜ | C29: M | D29: 63 | N29: 57F9B14A75933BCE21A475022C00BC | Q29: 010102 | R29: T | S29: F | T29: F | AU29: 01010257F9B14A75933BCE21A475022C00BC | AV29: 258
A30: 1종금속제가요전선관(반복공정) | B30: 16 mm 비방수 | C30: M | D30: 2 | N30: 57F9B14A75933BC9A07412C2D4896E | Q30: 010102 | R30: T | S30: F | T30: F | AU30: 01010257F9B14A75933BC9A07412C2D4896E | AV30: 259
A31: 저독성폴리올레핀절연전선(HFIX) | B31: 2.5㎟(1.78㎜) | C31: M | D31: 134 | N31: 57F9B14A7590676C2F14AB22E8C3CF | Q31: 010102 | R31: T | S31: F | T31: F | AU31: 01010257F9B14A7590676C2F14AB22E8C3CF | AV31: 260
A32: 아우트렛박스(반복공정) | B32: 8각 54㎜ | C32: 개 | D32: 3 | N32: 57F9B14A759B718D94D4B172CBEBD3 | Q32: 010102 | R32: T | S32: F | T32: F | AU32: 01010257F9B14A759B718D94D4B172CBEBD3 | AV32: 261
A33: 스위치박스 (반복공정) | B33: 2 개용 54 mm | C33: 개 | D33: 8 | N33: 57F9B14A759B718D94D4B172CAD834 | Q33: 010102 | R33: T | S33: F | T33: F | AU33: 01010257F9B14A759B718D94D4B172CAD834 | AV33: 262
A34: 피난구 유도등(고휘도) | B34: LED, 소형(단면), 60분 | C34: 개 | D34: 4 | N34: 57F9B14A499AF38B6884B262430376 | Q34: 010102 | R34: T | S34: F | T34: F | AU34: 01010257F9B14A499AF38B6884B262430376 | AV34: 263
A35: 통로 유도등(고휘도) | B35: LED, 60분용(계단) | C35: 개 | D35: 4 | N35: 57F9B14A499AF38B6884B262430AA5 | Q35: 010102 | R35: T | S35: F | T35: F | AU35: 01010257F9B14A499AF38B6884B262430AA5 | AV35: 264
A36: 고휘도 거실통로유도등 | B36: LED, 천정양면 | C36: 개 | D36: 3 | N36: 57F9B14A499AF38B6884B262427B9D | Q36: 010102 | R36: T | S36: F | T36: F | AU36: 01010257F9B14A499AF38B6884B262427B9D | AV36: 265
A37: 1종금속제가요전선관 | B37: 박스커넥터, 16 mm 비방수 | C37: 개 | D37: 6 | N37: 509BB14264940DB95EE41B8215EE1FA3981A6C | Q37: 010102 | R37: F | S37: F | T37: T | AU37: 010102509BB14264940DB95EE41B8215EE1FA3981A6C | AV37: 266
A38: 아우트렛박스 커버 | B38: 8각, 평 | C38: 개 | D38: 3 | N38: 509BB142649512E05504ED621D4D4E42E99940 | Q38: 010102 | R38: F | S38: F | T38: T | AU38: 010102509BB142649512E05504ED621D4D4E42E99940 | AV38: 267
A39: 스위치박스 커버 | B39: 4각, 2개용 평 | C39: 개 | D39: 8 | N39: 509BB142649512E05504ED621D4D4E42E99949 | Q39: 010102 | R39: F | S39: F | T39: T | AU39: 010102509BB142649512E05504ED621D4D4E42E99949 | AV39: 268
Q40: 010102
Q41: 010102
Q42: 010102
Q43: 010102
Q44: 010102
Q45: 010102
Q46: 010102
Q47: 010102
Q48: 010102
Q49: 010102
Q50: 010102
A51: [ 합 계 ] | N51: TOTAL

Sheet 일위대가목록(기계)
B1: 일 위 대 가 목 록
B2: =집계표!A2 -> [ 설천중고 연립관사 개축 소방공사 ]
A3: 코 드 | B3: 품 명 | C3: 규 격 | D3: 단위 | E3: 재 료 비 | F3: 노 무 비 | G3: 경 비 | H3: 합 계 | I3: 번 호 | J3: 비 고 | K3: 노임계수 | L3: 할증 | M3: 품셈개요 | N3: 장비일위
A4: 57A5214EF408D0ECDA7314E00A1468 | B4: 완강기 설치 | C4: 피난용 완강기 | D4: 개 | E4: ='[1]일위대가(기계)'!F7 -> 0 | F4: ='[1]일위대가(기계)'!H7 -> 30634 | G4: ='[1]일위대가(기계)'!J7 -> 0 | H4: =E4+F4+G4 -> 30634 | I4: 호표 1 | M4: 기계 10-9-1
A5: 57A5214E9208591A3CB3F6B8B7E355 | B5: 완강기 | C5: 3층용 | D5: SET | E5: ='[1]일위대가(기계)'!F12 -> 75000 | F5: ='[1]일위대가(기계)'!H12 -> 30634 | G5: ='[1]일위대가(기계)'!J12 -> 0 | H5: =E5+F5+G5 -> 105634 | I5: 호표 2 | M5: 기계 10-9-1
A6: 57A5214E9208591A3CB3F592B40B36 | B6: 완강기 | C6: 4층용 | D6: SET | E6: ='[1]일위대가(기계)'!F17 -> 78000 | F6: ='[1]일위대가(기계)'!H17 -> 30634 | G6: ='[1]일위대가(기계)'!J17 -> 0 | H6: =E6+F6+G6 -> 108634 | I6: 호표 3 | M6: 기계 10-9-1

Sheet 일위대가목록(전기)
B1: 일 위 대 가 목 록
B2: =집계표!A2 -> [ 설천중고 연립관사 개축 소방공사 ]
A3: 코 드 | B3: 품 명 | C3: 규 격 | D3: 단위 | E3: 재 료 비 | F3: 노 무 비 | G3: 경 비 | H3: 합 계 | I3: 번 호 | J3: 비 고 | K3: 노임계수 | L3: 할증 | M3: 품셈개요 | N3: 장비일위
A4: 57F9B14A75933BCE21A475022C00BC | B4: 합성수지제 가요전선관(반복공정) | C4: CD 난연성 16㎜ | D4: M | E4: ='일위대가(전기)'!F11 -> 599 | F4: ='일위대가(전기)'!H11 -> 9852 | G4: ='일위대가(전기)'!J11 -> 0 | H4: =E4+F4+G4 -> 10451 | I4: 호표 1 | M4: 전기 5-1
A5: 57F9B14A75933BCE21A475022C0F21 | B5: 합성수지제 가요전선관(반복공정) | C5: CD 난연성 22㎜ | D5: M | E5: ='일위대가(전기)'!F20 -> 809 | F5: ='일위대가(전기)'!H20 -> 11768 | G5: ='일위대가(전기)'!J20 -> 0 | H5: =E5+F5+G5 -> 12577 | I5: 호표 2 | M5: 전기 5-1
A6: 57F9B14A75933BCE21A475022C0E1B | B6: 합성수지제 가요전선관(반복공정) | C6: CD 난연성 28㎜ | D6: M | E6: ='일위대가(전기)'!F29 -> 1091 | F6: ='일위대가(전기)'!H29 -> 15599 | G6: ='일위대가(전기)'!J29 -> 0 | H6: =E6+F6+G6 -> 16690 | I6: 호표 3 | M6: 전기 5-1
A7: 57F9B14A75933BCE21A475022C0E1A | B7: 합성수지제 가요전선관(반복공정) | C7: CD 난연성 36㎜ | D7: M | E7: ='일위대가(전기)'!F38 -> 1807 | F7: ='일위대가(전기)'!H38 -> 19704 | G7: ='일위대가(전기)'!J38 -> 0 | H7: =E7+F7+G7 -> 21511 | I7: 호표 4 | M7: 전기 5-1
A8: 57F9B14A75933BC9A07412C2D4896E | B8: 1종금속제가요전선관(반복공정) | C8: 16 mm 비방수 | D8: M | E8: ='일위대가(전기)'!F46 -> 995 | F8: ='일위대가(전기)'!H46 -> 12862 | G8: ='일위대가(전기)'!J46 -> 0 | H8: =E8+F8+G8 -> 13857 | I8: 호표 5 | M8: 전기 5-1
A9: 57F9B14A7590676C2F14AB22E8C07B | B9: 저독성폴리올레핀절연전선(HFIX) | C9: 1.5㎟(1.38㎜) | D9: M | E9: ='일위대가(전기)'!F54 -> 504 | F9: ='일위대가(전기)'!H54 -> 2736 | G9: ='일위대가(전기)'!J54 -> 0 | H9: =E9+F9+G9 -> 3240 | I9: 호표 6 | M9: 전기 5-10
A10: 57F9B14A7590676C2F14AB22E8C3CF | B10: 저독성폴리올레핀절연전선(HFIX) | C10: 2.5㎟(1.78㎜) | D10: M | E10: ='일위대가(전기)'!F62 -> 705 | F10: ='일위대가(전기)'!H62 -> 2736 | G10: ='일위대가(전기)'!J62 -> 0 | H10: =E10+F10+G10 -> 3441 | I10: 호표 7 | M10: 전기 5-10
A11: 57F9B14A759B718D94D4B172CBEBD3 | B11: 아우트렛박스(반복공정) | C11: 8각 54㎜ | D11: 개 | E11: ='일위대가(전기)'!F68 -> 1607 | F11: ='일위대가(전기)'!H68 -> 29557 | G11: ='일위대가(전기)'!J68 -> 0 | H11: =E11+F11+G11 -> 31164 | I11: 호표 8 | M11: 전기 5-3
A12: 57F9B14A759B718D94D4B172CAD834 | B12: 스위치박스 (반복공정) | C12: 2 개용 54 mm | D12: 개 | E12: ='일위대가(전기)'!F74 -> 2397 | F12: ='일위대가(전기)'!H74 -> 49261 | G12: ='일위대가(전기)'!J74 -> 0 | H12: =E12+F12+G12 -> 51658 | I12: 호표 9 | M12: 전기 5-3
A13: 57F9B14A499AF38B68848532895D35 | B13: 수동발신기 | C13: 단독형(SUS) | D13: SET | E13: ='일위대가(전기)'!F83 -> 63370 | F13: ='일위대가(전기)'!H83 -> 358515 | G13: ='일위대가(전기)'!J83 -> 0 | H13: =E13+F13+G13 -> 421885 | I13: 호표 10 | M13: 소방 8-1-2
A14: 57F9B14A499AF38B6884853288B3F6 | B14: 화재감지기 | C14: 열감지기,정온식스포트형 | D14: 개 | E14: ='일위대가(전기)'!F89 -> 5867 | F14: ='일위대가(전기)'!H89 -> 35577 | G14: ='일위대가(전기)'!J89 -> 0 | H14: =E14+F14+G14 -> 41444 | I14: 호표 11 | M14: 소방 8-1-1
A15: 57F9B14A499AF38B688485328B0A8A | B15: 화재감지기 | C15: 연기감지기,광전식2종-비축적 | D15: 개 | E15: ='일위대가(전기)'!F95 -> 19067 | F15: ='일위대가(전기)'!H95 -> 35577 | G15: ='일위대가(전기)'!J95 -> 0 | H15: =E15+F15+G15 -> 54644 | I15: 호표 12 | M15: 소방 8-1-1
A16: 57F9B14A499AF38B6884B262430376 | B16: 피난구 유도등(고휘도) | C16: LED, 소형(단면), 60분 | D16: 개 | E16: ='일위대가(전기)'!F101 -> 45865 | F16: ='일위대가(전기)'!H101 -> 35304 | G16: ='일위대가(전기)'!J101 -> 0 | H16: =E16+F16+G16 -> 81169 | I16: 호표 13 | M16: 소방 9-2-2
A17: 57F9B14A499AF38B6884B262430AA5 | B17: 통로 유도등(고휘도) | C17: LED, 60분용(계단) | D17: 개 | E17: ='일위대가(전기)'!F107 -> 100968 | F17: ='일위대가(전기)'!H107 -> 32293 | G17: ='일위대가(전기)'!J107 -> 0 | H17: =E17+F17+G17 -> 133261 | I17: 호표 14 | M17: 소방 9-2-3
A18: 57F9B14A499AF38B6884B262427B9D | B18: 고휘도 거실통로유도등 | C18: LED, 천정양면 | D18: 개 | E18: ='일위대가(전기)'!F113 -> 57906 | F18: ='일위대가(전기)'!H113 -> 38040 | G18: ='일위대가(전기)'!J113 -> 0 | H18: =E18+F18+G18 -> 95946 | I18: 호표 15 | M18: 소방 9-2-2
A19: 57F9B14A499AF38B6884A0025FBFAA | B19: 시각경보기 | C19: 15cd | D19: 개소 | E19: ='일위대가(전기)'!F119 -> 29688 | F19: ='일위대가(전기)'!H119 -> 31746 | G19: ='일위대가(전기)'!J119 -> 0 | H19: =E19+F19+G19 -> 61434 | I19: 호표 16 | M19: 소방 8-1-5
A20: 57F9B14A499AF38B6884A0025E96D3 | B20: 시각경보기 전원반 | D20: 대 | E20: ='일위대가(전기)'!F125 -> 151067 | F20: ='일위대가(전기)'!H125 -> 35577 | G20: ='일위대가(전기)'!J125 -> 0 | H20: =E20+F20+G20 -> 186644 | I20: 호표 17 | M20: 전기 10-2-13
A21: 57F9B14A499AF38B6884DD42F9481C | B21: 화재 수신기 | C21: P형1급 복합형, 10 회로(벽부) | D21: 대 | E21: ='일위대가(전기)'!F131 -> 1073892 | F21: ='일위대가(전기)'!H131 -> 2463084 | G21: ='일위대가(전기)'!J131 -> 0 | H21: =E21+F21+G21 -> 3536976 | I21: 호표 18 | M21: 소방 8-1-3-1

Sheet 일위대가(기계)
A1: =집계표!A2 -> [ 설천중고 연립관사 개축 소방공사 ]
A2: 품 명 | B2: 규 격 | C2: 단위 | D2: 수량 | E2: 재 료 비 | G2: 노 무 비 | I2: 경 비 | K2: 합 계 | M2: 비 고 | N2: 일위대가 | O2: 품목코드 | P2: 일위 | Q2: 단산 | R2: 자재 | S2: 손료적용 | T2: 손료저장 | U2: 적용율 | V2: JUK1 | W2: JUK2 | X2: JUK3 | Y2: JUK4 | Z2: JUK5 | AA2: JUK6 | AB2: JUK7 | AC2: JUK8 | AD2: JUK9 | AE2: JUK10 | AF2: JUK11 | AG2: JUK12 | AH2: JUK13 | AI2: JUK14 | AJ2: JUK15 | AK2: JUK16 | AL2: JUK17 | AM2: JUK18 | AN2: JUK19 | AO2: JUK20 | AP2: 할증적용 | AQ2: 할증저장 | AR2: 할증율 | AS2: HAL1 | AT2: HAL2 | AU2: HAL3 | AV2: 자재구분 | AW2: 일위대가+자재 | AX2: 장비일위 | AY2: 설정 | AZ2: 할증체크
E3: 단 가 | F3: 금 액 | G3: 단 가 | H3: 금 액 | I3: 단 가 | J3: 금 액 | K3: 단 가 | L3: 금 액
A4: 완강기 설치 피난용 완강기 개 기계 10-9-1 ( 호표 1 ) | N4: 57A5214EF408D0ECDA7314E00A1468
A5: 기계설비공 | B5: 일반공사 직종 | C5: 인 | D5: 0.094 | E5: ='[1]단가대비표(기계)'!O14 -> 0 | F5: =TRUNC(E5*D5,1) -> 0 | G5: ='[1]단가대비표(기계)'!P14 -> 241698 | H5: =TRUNC(G5*D5,1) -> 22719.6 | I5: ='[1]단가대비표(기계)'!V14 -> 0 | J5: =TRUNC(I5*D5,1) -> 0 | K5: =TRUNC(E5+G5+I5,1) -> 241698 | L5: =TRUNC(F5+H5+J5,1) -> 22719.6 | N5: 57A5214EF408D0ECDA7314E00A1468 | O5: 57B3014F4108FF8F03E34AA57BFCEA21087E1B | P5: F | Q5: F | R5: T | AW5: 57A5214EF408D0ECDA7314E00A146857B3014F4108FF8F03E34AA57BFCEA21087E1B
A6: 보통인부 | B6: 일반공사 직종 | C6: 인 | D6: 0.046 | E6: ='[1]단가대비표(기계)'!O13 -> 0 | F6: =TRUNC(E6*D6,1) -> 0 | G6: ='[1]단가대비표(기계)'!P13 -> 172068 | H6: =TRUNC(G6*D6,1) -> 7915.1 | I6: ='[1]단가대비표(기계)'!V13 -> 0 | J6: =TRUNC(I6*D6,1) -> 0 | K6: =TRUNC(E6+G6+I6,1) -> 172068 | L6: =TRUNC(F6+H6+J6,1) -> 7915.1 | N6: 57A5214EF408D0ECDA7314E00A1468 | O6: 57B3014F4108FF8F03E34AA57BFCEA21087B44 | P6: F | Q6: F | R6: T | AW6: 57A5214EF408D0ECDA7314E00A146857B3014F4108FF8F03E34AA57BFCEA21087B44
A7: [ 합 계 ] | F7: =TRUNC(SUMIF(N5:N6, N4, F5:F6),0) -> 0 | H7: =TRUNC(SUMIF(N5:N6, N4, H5:H6),0) -> 30634 | J7: =TRUNC(SUMIF(N5:N6, N4, J5:J6),0) -> 0 | L7: =F7+H7+J7 -> 30634 | N7: TOTAL | O7: TOTAL
A9: 완강기 3층용 SET 기계 10-9-1 ( 호표 2 ) | N9: 57A5214E9208591A3CB3F6B8B7E355
A10: 완강기 | B10: 3층용 | C10: SET | D10: 1 | E10: ='[1]단가대비표(기계)'!O5 -> 75000 | F10: =TRUNC(E10*D10,1) -> 75000 | G10: ='[1]단가대비표(기계)'!P5 -> 0 | H10: =TRUNC(G10*D10,1) -> 0 | I10: ='[1]단가대비표(기계)'!V5 -> 0 | J10: =TRUNC(I10*D10,1) -> 0 | K10: =TRUNC(E10+G10+I10,1) -> 75000 | L10: =TRUNC(F10+H10+J10,1) -> 75000 | N10: 57A5214E9208591A3CB3F6B8B7E355 | O10: 503E11410108F14EC6334E50FE40F2F4A3F638 | P10: F | Q10: F | R10: T | AW10: 57A5214E9208591A3CB3F6B8B7E355503E11410108F14EC6334E50FE40F2F4A3F638
A11: 완강기 설치 | B11: 피난용 완강기 | C11: 개 | D11: 1 | E11: ='[1]일위대가목록(기계)'!E4 -> 0 | F11: =TRUNC(E11*D11,1) -> 0 | G11: ='[1]일위대가목록(기계)'!F4 -> 30634 | H11: =TRUNC(G11*D11,1) -> 30634 | I11: ='[1]일위대가목록(기계)'!G4 -> 0 | J11: =TRUNC(I11*D11,1) -> 0 | K11: =TRUNC(E11+G11+I11,1) -> 30634 | L11: =TRUNC(F11+H11+J11,1) -> 30634 | M11: 호표 1 | N11: 57A5214E9208591A3CB3F6B8B7E355 | O11: 57A5214EF408D0ECDA7314E00A1468 | P11: T | Q11: F | R11: F | AW11: 57A5214E9208591A3CB3F6B8B7E35557A5214EF408D0ECDA7314E00A1468
A12: [ 합 계 ] | F12: =TRUNC(SUMIF(N10:N11, N9, F10:F11),0) -> 75000 | H12: =TRUNC(SUMIF(N10:N11, N9, H10:H11),0) -> 30634 | J12: =TRUNC(SUMIF(N10:N11, N9, J10:J11),0) -> 0 | L12: =F12+H12+J12 -> 105634 | N12: TOTAL | O12: TOTAL
A14: 완강기 4층용 SET 기계 10-9-1 ( 호표 3 ) | N14: 57A5214E9208591A3CB3F592B40B36
A15: 완강기 | B15: 4층용 | C15: SET | D15: 1 | E15: ='[1]단가대비표(기계)'!O6 -> 78000 | F15: =TRUNC(E15*D15,1) -> 78000 | G15: ='[1]단가대비표(기계)'!P6 -> 0 | H15: =TRUNC(G15*D15,1) -> 0 | I15: ='[1]단가대비표(기계)'!V6 -> 0 | J15: =TRUNC(I15*D15,1) -> 0 | K15: =TRUNC(E15+G15+I15,1) -> 78000 | L15: =TRUNC(F15+H15+J15,1) -> 78000 | N15: 57A5214E9208591A3CB3F592B40B36 | O15: 503E11410108F14EC6334E50FE40F2F4A3F63F | P15: F | Q15: F | R15: T | AW15: 57A5214E9208591A3CB3F592B40B36503E11410108F14EC6334E50FE40F2F4A3F63F
A16: 완강기 설치 | B16: 피난용 완강기 | C16: 개 | D16: 1 | E16: ='[1]일위대가목록(기계)'!E4 -> 0 | F16: =TRUNC(E16*D16,1) -> 0 | G16: ='[1]일위대가목록(기계)'!F4 -> 30634 | H16: =TRUNC(G16*D16,1) -> 30634 | I16: ='[1]일위대가목록(기계)'!G4 -> 0 | J16: =TRUNC(I16*D16,1) -> 0 | K16: =TRUNC(E16+G16+I16,1) -> 30634 | L16: =TRUNC(F16+H16+J16,1) -> 30634 | M16: 호표 1 | N16: 57A5214E9208591A3CB3F592B40B36 | O16: 57A5214EF408D0ECDA7314E00A1468 | P16: T | Q16: F | R16: F | AW16: 57A5214E9208591A3CB3F592B40B3657A5214EF408D0ECDA7314E00A1468
A17: [ 합 계 ] | F17: =TRUNC(SUMIF(N15:N16, N14, F15:F16),0) -> 78000 | H17: =TRUNC(SUMIF(N15:N16, N14, H15:H16),0) -> 30634 | J17: =TRUNC(SUMIF(N15:N16, N14, J15:J16),0) -> 0 | L17: =F17+H17+J17 -> 108634 | N17: TOTAL | O17: TOTAL

Sheet 일위대가(전기)
A1: =집계표!A2 -> [ 설천중고 연립관사 개축 소방공사 ]
A2: 품 명 | B2: 규 격 | C2: 단위 | D2: 수량 | E2: 재 료 비 | G2: 노 무 비 | I2: 경 비 | K2: 합 계 | M2: 비 고 | N2: 일위대가 | O2: 품목코드 | P2: 일위 | Q2: 단산 | R2: 자재 | S2: 손료적용 | T2: 손료저장 | U2: 적용율 | V2: JUK1 | W2: JUK2 | X2: JUK3 | Y2: JUK4 | Z2: JUK5 | AA2: JUK6 | AB2: JUK7 | AC2: JUK8 | AD2: JUK9 | AE2: JUK10 | AF2: JUK11 | AG2: JUK12 | AH2: JUK13 | AI2: JUK14 | AJ2: JUK15 | AK2: JUK16 | AL2: JUK17 | AM2: JUK18 | AN2: JUK19 | AO2: JUK20 | AP2: 할증적용 | AQ2: 할증저장 | AR2: 할증율 | AS2: HAL1 | AT2: HAL2 | AU2: HAL3 | AV2: 자재구분 | AW2: 일위대가+자재 | AX2: 장비일위 | AY2: 설정 | AZ2: 할증체크
E3: 단 가 | F3: 금 액 | G3: 단 가 | H3: 금 액 | I3: 단 가 | J3: 금 액 | K3: 단 가 | L3: 금 액
A4: 합성수지제 가요전선관(반복공정) CD 난연성 16㎜ M 전기 5-1 ( 호표 1 ) | N4: 57F9B14A75933BCE21A475022C00BC
A5: 합성수지제 가요전선관 | B5: CD 난연성 16㎜ | C5: M | D5: 1 | E5: ='단가대비표(전기)'!O15 -> 200 | F5: =TRUNC(E5*D5,1) -> 200 | G5: ='단가대비표(전기)'!P15 -> 0 | H5: =TRUNC(G5*D5,1) -> 0 | I5: ='단가대비표(전기)'!V15 -> 0 | J5: =TRUNC(I5*D5,1) -> 0 | K5: =TRUNC(E5+G5+I5,1) -> 200 | L5: =TRUNC(F5+H5+J5,1) -> 200 | N5: 57F9B14A75933BCE21A475022C00BC | O5: 509BB14264940DB95EE41BB2EA14BF315B69C4 | P5: F | Q5: F | R5: T | V5: 1 | W5: 2 | AW5: 57F9B14A75933BCE21A475022C00BC509BB14264940DB95EE41BB2EA14BF315B69C4
A6: 합성수지제 가요전선관 | B6: CD 난연성 16㎜ | C6: M | D6: 0.1 | E6: ='단가대비표(전기)'!O15 -> 200 | F6: =TRUNC(E6*D6,1) -> 20 | G6: ='단가대비표(전기)'!P15 -> 0 | H6: =TRUNC(G6*D6,1) -> 0 | I6: ='단가대비표(전기)'!V15 -> 0 | J6: =TRUNC(I6*D6,1) -> 0 | K6: =TRUNC(E6+G6+I6,1) -> 200 | L6: =TRUNC(F6+H6+J6,1) -> 20 | N6: 57F9B14A75933BCE21A475022C00BC | O6: 509BB14264940DB95EE41BB2EA14BF315B69C4 | P6: F | Q6: F | R6: T | AW6: 57F9B14A75933BCE21A475022C00BC509BB14264940DB95EE41BB2EA14BF315B69C4
A7: 잡재료비 | B7: 배관배선의 2% | C7: 식 | D7: 1 | E7: =TRUNC(SUMIF(V5:V10, RIGHTB(O7, 1), F5:F10)*U7, 2) -> 4 | F7: =TRUNC(E7*D7,1) -> 4 | G7: 0 | H7: =TRUNC(G7*D7,1) -> 0 | I7: 0 | J7: =TRUNC(I7*D7,1) -> 0 | K7: =TRUNC(E7+G7+I7,1) -> 4 | L7: =TRUNC(F7+H7+J7,1) -> 4 | N7: 57F9B14A75933BCE21A475022C00BC | O7: 56AA0142019760E7AF94D5F2CBAA001 | P7: F | Q7: F | R7: F | S7: 0 | T7: 0 | U7: 0.02 | AW7: 57F9B14A75933BCE21A475022C00BC56AA0142019760E7AF94D5F2CBAA001
A8: 전선관부속품비 | B8: CD 관의 40% | C8: 식 | D8: 1 | E8: =TRUNC(SUMIF(W5:W10, RIGHTB(O8, 1), F5:F10)*U8, 2) -> 80 | F8: =TRUNC(E8*D8,1) -> 80 | G8: 0 | H8: =TRUNC(G8*D8,1) -> 0 | I8: 0 | J8: =TRUNC(I8*D8,1) -> 0 | K8: =TRUNC(E8+G8+I8,1) -> 80 | L8: =TRUNC(F8+H8+J8,1) -> 80 | N8: 57F9B14A75933BCE21A475022C00BC | O8: 56AA0142019760E7AF94D5F2CBA9002 | P8: F | Q8: F | R8: F | S8: 0 | T8: 0 | U8: 0.4 | AW8: 57F9B14A75933BCE21A475022C00BC56AA0142019760E7AF94D5F2CBA9002
A9: 내선전공 | B9: 일반공사직종 | C9: 인 | D9: 0.036 | E9: ='단가대비표(전기)'!O29 -> 0 | F9: =TRUNC(E9*D9,1) -> 0 | G9: ='단가대비표(전기)'!P29 -> 273676 | H9: =TRUNC(G9*D9,1) -> 9852.3 | I9: ='단가대비표(전기)'!V29 -> 0 | J9: =TRUNC(I9*D9,1) -> 0 | K9: =TRUNC(E9+G9+I9,1) -> 273676 | L9: =TRUNC(F9+H9+J9,1) -> 9852.3 | N9: 57F9B14A75933BCE21A475022C00BC | O9: 576F114A4E9EC9C123B4C6F2D91F42A2D5F1DB | P9: F | Q9: F | R9: T | X9: 3 | AW9: 57F9B14A75933BCE21A475022C00BC576F114A4E9EC9C123B4C6F2D91F42A2D5F1DB
A10: 공구손료 | B10: 인력품의 3% | C10: 식 | D10: 1 | E10: =TRUNC(SUMIF(X5:X10, RIGHTB(O10, 1), H5:H10)*U10, 2) -> 295.56 | F10: =TRUNC(E10*D10,1) -> 295.5 | G10: 0 | H10: =TRUNC(G10*D10,1) -> 0 | I10: 0 | J10: =TRUNC(I10*D10,1) -> 0 | K10: =TRUNC(E10+G10+I10,1) -> 295.5 | L10: =TRUNC(F10+H10+J10,1) -> 295.5 | N10: 57F9B14A75933BCE21A475022C00BC | O10: 56AA0142019760E7AF94D5F2CBA8003 | P10: F | Q10: F | R10: F | S10: 1 | T10: 0 | U10: 0.03 | AW10: 57F9B14A75933BCE21A475022C00BC56AA0142019760E7AF94D5F2CBAA001
A11: [ 합 계 ] | F11: =TRUNC(SUMIF(N5:N10, N4, F5:F10),0) -> 599 | H11: =TRUNC(SUMIF(N5:N10, N4, H5:H10),0) -> 9852 | J11: =TRUNC(SUMIF(N5:N10, N4, J5:J10),0) -> 0 | L11: =F11+H11+J11 -> 10451 | N11: TOTAL | O11: TOTAL
A13: 합성수지제 가요전선관(반복공정) CD 난연성 22㎜ M 전기 5-1 ( 호표 2 ) | N13: 57F9B14A75933BCE21A475022C0F21
A14: 합성수지제 가요전선관 | B14: CD 난연성 22㎜ | C14: M | D14: 1 | E14: ='단가대비표(전기)'!O16 -> 300 | F14: =TRUNC(E14*D14,1) -> 300 | G14: ='단가대비표(전기)'!P16 -> 0 | H14: =TRUNC(G14*D14,1) -> 0 | I14: ='단가대비표(전기)'!V16 -> 0 | J14: =TRUNC(I14*D14,1) -> 0 | K14: =TRUNC(E14+G14+I14,1) -> 300 | L14: =TRUNC(F14+H14+J14,1) -> 300 | N14: 57F9B14A75933BCE21A475022C0F21 | O14: 509BB14264940DB95EE41BB2EA14BF315B69C5 | P14: F | Q14: F | R14: T | V14: 1 | W14: 2 | AW14: 57F9B14A75933BCE21A475022C0F21509BB14264940DB95EE41BB2EA14BF315B69C5
A15: 합성수지제 가요전선관 | B15: CD 난연성 22㎜ | C15: M | D15: 0.1 | E15: ='단가대비표(전기)'!O16 -> 300 | F15: =TRUNC(E15*D15,1) -> 30 | G15: ='단가대비표(전기)'!P16 -> 0 | H15: =TRUNC(G15*D15,1) -> 0 | I15: ='단가대비표(전기)'!V16 -> 0 | J15: =TRUNC(I15*D15,1) -> 0 | K15: =TRUNC(E15+G15+I15,1) -> 300 | L15: =TRUNC(F15+H15+J15,1) -> 30 | N15: 57F9B14A75933BCE21A475022C0F21 | O15: 509BB14264940DB95EE41BB2EA14BF315B69C5 | P15: F | Q15: F | R15: T | AW15: 57F9B14A75933BCE21A475022C0F21509BB14264940DB95EE41BB2EA14BF315B69C5
A16: 잡재료비 | B16: 배관배선의 2% | C16: 식 | D16: 1 | E16: =TRUNC(SUMIF(V14:V19, RIGHTB(O16, 1), F14:F19)*U16, 2) -> 6 | F16: =TRUNC(E16*D16,1) -> 6 | G16: 0 | H16: =TRUNC(G16*D16,1) -> 0 | I16: 0 | J16: =TRUNC(I16*D16,1) -> 0 | K16: =TRUNC(E16+G16+I16,1) -> 6 | L16: =TRUNC(F16+H16+J16,1) -> 6 | N16: 57F9B14A75933BCE21A475022C0F21 | O16: 56AA0142019760E7AF94D5F2CBAA001 | P16: F | Q16: F | R16: F | S16: 0 | T16: 0 | U16: 0.02 | AW16: 57F9B14A75933BCE21A475022C0F2156AA0142019760E7AF94D5F2CBAA001
A17: 전선관부속품비 | B17: CD 관의 40% | C17: 식 | D17: 1 | E17: =TRUNC(SUMIF(W14:W19, RIGHTB(O17, 1), F14:F19)*U17, 2) -> 120 | F17: =TRUNC(E17*D17,1) -> 120 | G17: 0 | H17: =TRUNC(G17*D17,1) -> 0 | I17: 0 | J17: =TRUNC(I17*D17,1) -> 0 | K17: =TRUNC(E17+G17+I17,1) -> 120 | L17: =TRUNC(F17+H17+J17,1) -> 120 | N17: 57F9B14A75933BCE21A475022C0F21 | O17: 56AA0142019760E7AF94D5F2CBA9002 | P17: F | Q17: F | R17: F | S17: 0 | T17: 0 | U17: 0.4 | AW17: 57F9B14A75933BCE21A475022C0F2156AA0142019760E7AF94D5F2CBA9002
A18: 내선전공 | B18: 일반공사직종 | C18: 인 | D18: 0.043 | E18: ='단가대비표(전기)'!O29 -> 0 | F18: =TRUNC(E18*D18,1) -> 0 | G18: ='단가대비표(전기)'!P29 -> 273676 | H18: =TRUNC(G18*D18,1) -> 11768 | I18: ='단가대비표(전기)'!V29 -> 0 | J18: =TRUNC(I18*D18,1) -> 0 | K18: =TRUNC(E18+G18+I18,1) -> 273676 | L18: =TRUNC(F18+H18+J18,1) -> 11768 | N18: 57F9B14A75933BCE21A475022C0F21 | O18: 576F114A4E9EC9C123B4C6F2D91F42A2D5F1DB | P18: F | Q18: F | R18: T | X18: 3 | AW18: 57F9B14A75933BCE21A475022C0F21576F114A4E9EC9C123B4C6F2D91F42A2D5F1DB
A19: 공구손료 | B19: 인력품의 3% | C19: 식 | D19: 1 | E19: =TRUNC(SUMIF(X14:X19, RIGHTB(O19, 1), H14:H19)*U19, 2) -> 353.04 | F19: =TRUNC(E19*D19,1) -> 353 | G19: 0 | H19: =TRUNC(G19*D19,1) -> 0 | I19: 0 | J19: =TRUNC(I19*D19,1) -> 0 | K19: =TRUNC(E19+G19+I19,1) -> 353 | L19: =TRUNC(F19+H19+J19,1) -> 353 | N19: 57F9B14A75933BCE21A475022C0F21 | O19: 56AA0142019760E7AF94D5F2CBA8003 | P19: F | Q19: F | R19: F | S19: 1 | T19: 0 | U19: 0.03 | AW19: 57F9B14A75933BCE21A475022C0F2156AA0142019760E7AF94D5F2CBAA001
A20: [ 합 계 ] | F20: =TRUNC(SUMIF(N14:N19, N13, F14:F19),0) -> 809 | H20: =TRUNC(SUMIF(N14:N19, N13, H14:H19),0) -> 11768 | J20: =TRUNC(SUMIF(N14:N19, N13, J14:J19),0) -> 0 | L20: =F20+H20+J20 -> 12577 | N20: TOTAL | O20: TOTAL
A22: 합성수지제 가요전선관(반복공정) CD 난연성 28㎜ M 전기 5-1 ( 호표 3 ) | N22: 57F9B14A75933BCE21A475022C0E1B
A23: 합성수지제 가요전선관 | B23: CD 난연성 28㎜ | C23: M | D23: 1 | E23: ='단가대비표(전기)'!O17 -> 410 | F23: =TRUNC(E23*D23,1) -> 410 | G23: ='단가대비표(전기)'!P17 -> 0 | H23: =TRUNC(G23*D23,1) -> 0 | I23: ='단가대비표(전기)'!V17 -> 0 | J23: =TRUNC(I23*D23,1) -> 0 | K23: =TRUNC(E23+G23+I23,1) -> 410 | L23: =TRUNC(F23+H23+J23,1) -> 410 | N23: 57F9B14A75933BCE21A475022C0E1B | O23: 509BB14264940DB95EE41BB2EA14BF315B69C6 | P23: F | Q23: F | R23: T | V23: 1 | W23: 2 | AW23: 57F9B14A75933BCE21A475022C0E1B509BB14264940DB95EE41BB2EA14BF315B69C6
A24: 합성수지제 가요전선관 | B24: CD 난연성 28㎜ | C24: M | D24: 0.1 | E24: ='단가대비표(전기)'!O17 -> 410 | F24: =TRUNC(E24*D24,1) -> 41 | G24: ='단가대비표(전기)'!P17 -> 0 | H24: =TRUNC(G24*D24,1) -> 0 | I24: ='단가대비표(전기)'!V17 -> 0 | J24: =TRUNC(I24*D24,1) -> 0 | K24: =TRUNC(E24+G24+I24,1) -> 410 | L24: =TRUNC(F24+H24+J24,1) -> 41 | N24: 57F9B14A75933BCE21A475022C0E1B | O24: 509BB14264940DB95EE41BB2EA14BF315B69C6 | P24: F | Q24: F | R24: T | AW24: 57F9B14A75933BCE21A475022C0E1B509BB14264940DB95EE41BB2EA14BF315B69C6
A25: 잡재료비 | B25: 배관배선의 2% | C25: 식 | D25: 1 | E25: =TRUNC(SUMIF(V23:V28, RIGHTB(O25, 1), F23:F28)*U25, 2) -> 8.2 | F25: =TRUNC(E25*D25,1) -> 8.2 | G25: 0 | H25: =TRUNC(G25*D25,1) -> 0 | I25: 0 | J25: =TRUNC(I25*D25,1) -> 0 | K25: =TRUNC(E25+G25+I25,1) -> 8.2 | L25: =TRUNC(F25+H25+J25,1) -> 8.2 | N25: 57F9B14A75933BCE21A475022C0E1B | O25: 56AA0142019760E7AF94D5F2CBAA001 | P25: F | Q25: F | R25: F | S25: 0 | T25: 0 | U25: 0.02 | AW25: 57F9B14A75933BCE21A475022C0E1B56AA0142019760E7AF94D5F2CBAA001
A26: 전선관부속품비 | B26: CD 관의 40% | C26: 식 | D26: 1 | E26: =TRUNC(SUMIF(W23:W28, RIGHTB(O26, 1), F23:F28)*U26, 2) -> 164 | F26: =TRUNC(E26*D26,1) -> 164 | G26: 0 | H26: =TRUNC(G26*D26,1) -> 0 | I26: 0 | J26: =TRUNC(I26*D26,1) -> 0 | K26: =TRUNC(E26+G26+I26,1) -> 164 | L26: =TRUNC(F26+H26+J26,1) -> 164 | N26: 57F9B14A75933BCE21A475022C0E1B | O26: 56AA0142019760E7AF94D5F2CBA9002 | P26: F | Q26: F | R26: F | S26: 0 | T26: 0 | U26: 0.4 | AW26: 57F9B14A75933BCE21A475022C0E1B56AA0142019760E7AF94D5F2CBA9002
A27: 내선전공 | B27: 일반공사직종 | C27: 인 | D27: 0.057 | E27: ='단가대비표(전기)'!O29 -> 0 | F27: =TRUNC(E27*D27,1) -> 0 | G27: ='단가대비표(전기)'!P29 -> 273676 | H27: =TRUNC(G27*D27,1) -> 15599.5 | I27: ='단가대비표(전기)'!V29 -> 0 | J27: =TRUNC(I27*D27,1) -> 0 | K27: =TRUNC(E27+G27+I27,1) -> 273676 | L27: =TRUNC(F27+H27+J27,1) -> 15599.5 | N27: 57F9B14A75933BCE21A475022C0E1B | O27: 576F114A4E9EC9C123B4C6F2D91F42A2D5F1DB | P27: F | Q27: F | R27: T | X27: 3 | AW27: 57F9B14A75933BCE21A475022C0E1B576F114A4E9EC9C123B4C6F2D91F42A2D5F1DB
A28: 공구손료 | B28: 인력품의 3% | C28: 식 | D28: 1 | E28: =TRUNC(SUMIF(X23:X28, RIGHTB(O28, 1), H23:H28)*U28, 2) -> 467.98 | F28: =TRUNC(E28*D28,1) -> 467.9 | G28: 0 | H28: =TRUNC(G28*D28,1) -> 0 | I28: 0 | J28: =TRUNC(I28*D28,1) -> 0 | K28: =TRUNC(E28+G28+I28,1) -> 467.9 | L28: =TRUNC(F28+H28+J28,1) -> 467.9 | N28: 57F9B14A75933BCE21A475022C0E1B | O28: 56AA0142019760E7AF94D5F2CBA8003 | P28: F | Q28: F | R28: F | S28: 1 | T28: 0 | U28: 0.03 | AW28: 57F9B14A75933BCE21A475022C0E1B56AA0142019760E7AF94D5F2CBAA001
A29: [ 합 계 ] | F29: =TRUNC(SUMIF(N23:N28, N22, F23:F28),0) -> 1091 | H29: =TRUNC(SUMIF(N23:N28, N22, H23:H28),0) -> 15599 | J29: =TRUNC(SUMIF(N23:N28, N22, J23:J28),0) -> 0 | L29: =F29+H29+J29 -> 16690 | N29: TOTAL | O29: TOTAL
A31: 합성수지제 가요전선관(반복공정) CD 난연성 36㎜ M 전기 5-1 ( 호표 4 ) | N31: 57F9B14A75933BCE21A475022C0E1A
A32: 합성수지제 가요전선관 | B32: CD 난연성 36㎜ | C32: M | D32: 1 | E32: ='단가대비표(전기)'!O18 -> 800 | F32: =TRUNC(E32*D32,1) -> 800 | G32: ='단가대비표(전기)'!P18 -> 0 | H32: =TRUNC(G32*D32,1) -> 0 | I32: ='단가대비표(전기)'!V18 -> 0 | J32: =TRUNC(I32*D32,1) -> 0 | K32: =TRUNC(E32+G32+I32,1) -> 800 | L32: =TRUNC(F32+H32+J32,1) -> 800 | N32: 57F9B14A75933BCE21A475022C0E1A | O32: 509BB14264940DB95EE41BB2EA14BF315B683E | P32: F | Q32: F | R32: T | V32: 1 | W32: 2 | AW32: 57F9B14A75933BCE21A475022C0E1A509BB14264940DB95EE41BB2EA14BF315B683E
A33: 합성수지제 가요전선관 | B33: CD 난연성 36㎜ | C33: M | D33: 0.1 | E33: ='단가대비표(전기)'!O18 -> 800 | F33: =TRUNC(E33*D33,1) -> 80 | G33: ='단가대비표(전기)'!P18 -> 0 | H33: =TRUNC(G33*D33,1) -> 0 | I33: ='단가대비표(전기)'!V18 -> 0 | J33: =TRUNC(I33*D33,1) -> 0 | K33: =TRUNC(E33+G33+I33,1) -> 800 | L33: =TRUNC(F33+H33+J33,1) -> 80 | N33: 57F9B14A75933BCE21A475022C0E1A | O33: 509BB14264940DB95EE41BB2EA14BF315B683E | P33: F | Q33: F | R33: T | AW33: 57F9B14A75933BCE21A475022C0E1A509BB14264940DB95EE41BB2EA14BF315B683E
A34: 잡재료비 | B34: 배관배선의 2% | C34: 식 | D34: 1 | E34: =TRUNC(SUMIF(V32:V37, RIGHTB(O34, 1), F32:F37)*U34, 2) -> 16 | F34: =TRUNC(E34*D34,1) -> 16 | G34: 0 | H34: =TRUNC(G34*D34,1) -> 0 | I34: 0 | J34: =TRUNC(I34*D34,1) -> 0 | K34: =TRUNC(E34+G34+I34,1) -> 16 | L34: =TRUNC(F34+H34+J34,1) -> 16 | N34: 57F9B14A75933BCE21A475022C0E1A | O34: 56AA0142019760E7AF94D5F2CBAA001 | P34: F | Q34: F | R34: F | S34: 0 | T34: 0 | U34: 0.02 | AW34: 57F9B14A75933BCE21A475022C0E1A56AA0142019760E7AF94D5F2CBAA001
A35: 전선관부속품비 | B35: CD 관의 40% | C35: 식 | D35: 1 | E35: =TRUNC(SUMIF(W32:W37, RIGHTB(O35, 1), F32:F37)*U35, 2) -> 320 | F35: =TRUNC(E35*D35,1) -> 320 | G35: 0 | H35: =TRUNC(G35*D35,1) -> 0 | I35: 0 | J35: =TRUNC(I35*D35,1) -> 0 | K35: =TRUNC(E35+G35+I35,1) -> 320 | L35: =TRUNC(F35+H35+J35,1) -> 320 | N35: 57F9B14A75933BCE21A475022C0E1A | O35: 56AA0142019760E7AF94D5F2CBA9002 | P35: F | Q35: F | R35: F | S35: 0 | T35: 0 | U35: 0.4 | AW35: 57F9B14A75933BCE21A475022C0E1A56AA0142019760E7AF94D5F2CBA9002
A36: 내선전공 | B36: 일반공사직종 | C36: 인 | D36: 0.072 | E36: ='단가대비표(전기)'!O29 -> 0 | F36: =TRUNC(E36*D36,1) -> 0 | G36: ='단가대비표(전기)'!P29 -> 273676 | H36: =TRUNC(G36*D36,1) -> 19704.6 | I36: ='단가대비표(전기)'!V29 -> 0 | J36: =TRUNC(I36*D36,1) -> 0 | K36: =TRUNC(E36+G36+I36,1) -> 273676 | L36: =TRUNC(F36+H36+J36,1) -> 19704.6 | N36: 57F9B14A75933BCE21A475022C0E1A | O36: 576F114A4E9EC9C123B4C6F2D91F42A2D5F1DB | P36: F | Q36: F | R36: T | X36: 3 | AW36: 57F9B14A75933BCE21A475022C0E1A576F114A4E9EC9C123B4C6F2D91F42A2D5F1DB
A37: 공구손료 | B37: 인력품의 3% | C37: 식 | D37: 1 | E37: =TRUNC(SUMIF(X32:X37, RIGHTB(O37, 1), H32:H37)*U37, 2) -> 591.13 | F37: =TRUNC(E37*D37,1) -> 591.1 | G37: 0 | H37: =TRUNC(G37*D37,1) -> 0 | I37: 0 | J37: =TRUNC(I37*D37,1) -> 0 | K37: =TRUNC(E37+G37+I37,1) -> 591.1 | L37: =TRUNC(F37+H37+J37,1) -> 591.1 | N37: 57F9B14A75933BCE21A475022C0E1A | O37: 56AA0142019760E7AF94D5F2CBA8003 | P37: F | Q37: F | R37: F | S37: 1 | T37: 0 | U37: 0.03 | AW37: 57F9B14A75933BCE21A475022C0E1A56AA0142019760E7AF94D5F2CBA8003
A38: [ 합 계 ] | F38: =TRUNC(SUMIF(N32:N37, N31, F32:F37),0) -> 1807 | H38: =TRUNC(SUMIF(N32:N37, N31, H32:H37),0) -> 19704 | J38: =TRUNC(SUMIF(N32:N37, N31, J32:J37),0) -> 0 | L38: =F38+H38+J38 -> 21511 | N38: TOTAL | O38: TOTAL
A40: 1종금속제가요전선관(반복공정) 16 mm 비방수 M 전기 5-1 ( 호표 5 ) | N40: 57F9B14A75933BC9A07412C2D4896E
A41: 1종금속제가요전선관 | B41: 16 mm 비방수 | C41: M | D41: 1 | E41: ='단가대비표(전기)'!O20 -> 544 | F41: =TRUNC(E41*D41,1) -> 544 | G41: ='단가대비표(전기)'!P20 -> 0 | H41: =TRUNC(G41*D41,1) -> 0 | I41: ='단가대비표(전기)'!V20 -> 0 | J41: =TRUNC(I41*D41,1) -> 0 | K41: =TRUNC(E41+G41+I41,1) -> 544 | L41: =TRUNC(F41+H41+J41,1) -> 544 | N41: 57F9B14A75933BC9A07412C2D4896E | O41: 509BB14264940DB95EE41B8215EE1FA3981ECB | P41: F | Q41: F | R41: T | V41: 1 | AW41: 57F9B14A75933BC9A07412C2D4896E509BB14264940DB95EE41B8215EE1FA3981ECB
A42: 1종금속제가요전선관 | B42: 16 mm 비방수 | C42: M | D42: 0.1 | E42: ='단가대비표(전기)'!O20 -> 544 | F42: =TRUNC(E42*D42,1) -> 54.4 | G42: ='단가대비표(전기)'!P20 -> 0 | H42: =TRUNC(G42*D42,1) -> 0 | I42: ='단가대비표(전기)'!V20 -> 0 | J42: =TRUNC(I42*D42,1) -> 0 | K42: =TRUNC(E42+G42+I42,1) -> 544 | L42: =TRUNC(F42+H42+J42,1) -> 54.4 | N42: 57F9B14A75933BC9A07412C2D4896E | O42: 509BB14264940DB95EE41B8215EE1FA3981ECB | P42: F | Q42: F | R42: T | AW42: 57F9B14A75933BC9A07412C2D4896E509BB14264940DB95EE41B8215EE1FA3981ECB
A43: 잡재료비 | B43: 배관배선의 2% | C43: 식 | D43: 1 | E43: =TRUNC(SUMIF(V41:V45, RIGHTB(O43, 1), F41:F45)*U43, 2) -> 10.88 | F43: =TRUNC(E43*D43,1) -> 10.8 | G43: 0 | H43: =TRUNC(G43*D43,1) -> 0 | I43: 0 | J43: =TRUNC(I43*D43,1) -> 0 | K43: =TRUNC(E43+G43+I43,1) -> 10.8 | L43: =TRUNC(F43+H43+J43,1) -> 10.8 | N43: 57F9B14A75933BC9A07412C2D4896E | O43: 56AA0142019760E7AF94D5F2CBAA001 | P43: F | Q43: F | R43: F | S43: 0 | T43: 0 | U43: 0.02 | AW43: 57F9B14A75933BC9A07412C2D4896E56AA0142019760E7AF94D5F2CBAA001
A44: 내선전공 | B44: 일반공사직종 | C44: 인 | D44: 0.047 | E44: ='단가대비표(전기)'!O29 -> 0 | F44: =TRUNC(E44*D44,1) -> 0 | G44: ='단가대비표(전기)'!P29 -> 273676 | H44: =TRUNC(G44*D44,1) -> 12862.7 | I44: ='단가대비표(전기)'!V29 -> 0 | J44: =TRUNC(I44*D44,1) -> 0 | K44: =TRUNC(E44+G44+I44,1) -> 273676 | L44: =TRUNC(F44+H44+J44,1) -> 12862.7 | N44: 57F9B14A75933BC9A07412C2D4896E | O44: 576F114A4E9EC9C123B4C6F2D91F42A2D5F1DB | P44: F | Q44: F | R44: T | W44: 2 | AW44: 57F9B14A75933BC9A07412C2D4896E576F114A4E9EC9C123B4C6F2D91F42A2D5F1DB
A45: 공구손료 | B45: 인력품의 3% | C45: 식 | D45: 1 | E45: =TRUNC(SUMIF(W41:W45, RIGHTB(O45, 1), H41:H45)*U45, 2) -> 385.88 | F45: =TRUNC(E45*D45,1) -> 385.8 | G45: 0 | H45: =TRUNC(G45*D45,1) -> 0 | I45: 0 | J45: =TRUNC(I45*D45,1) -> 0 | K45: =TRUNC(E45+G45+I45,1) -> 385.8 | L45: =TRUNC(F45+H45+J45,1) -> 385.8 | N45: 57F9B14A75933BC9A07412C2D4896E | O45: 56AA0142019760E7AF94D5F2CBA9002 | P45: F | Q45: F | R45: F | S45: 1 | T45: 0 | U45: 0.03 | AW45: 57F9B14A75933BC9A07412C2D4896E56AA0142019760E7AF94D5F2CBA9002
A46: [ 합 계 ] | F46: =TRUNC(SUMIF(N41:N45, N40, F41:F45),0) -> 995 | H46: =TRUNC(SUMIF(N41:N45, N40, H41:H45),0) -> 12862 | J46: =TRUNC(SUMIF(N41:N45, N40, J41:J45),0) -> 0 | L46: =F46+H46+J46 -> 13857 | N46: TOTAL | O46: TOTAL
A48: 저독성폴리올레핀절연전선(HFIX) 1.5㎟(1.38㎜) M 전기 5-10 ( 호표 6 ) | N48: 57F9B14A7590676C2F14AB22E8C07B
A49: 저독성폴리올레핀절연전선(HFIX) | B49: 1.5㎟(1.38㎜) | C49: m | D49: 1 | E49: ='단가대비표(전기)'!O5 -> 377 | F49: =TRUNC(E49*D49,1) -> 377 | G49: ='단가대비표(전기)'!P5 -> 0 | H49: =TRUNC(G49*D49,1) -> 0 | I49: ='단가대비표(전기)'!V5 -> 0 | J49: =TRUNC(I49*D49,1) -> 0 | K49: =TRUNC(E49+G49+I49,1) -> 377 | L49: =TRUNC(F49+H49+J49,1) -> 377 | N49: 57F9B14A7590676C2F14AB22E8C07B | O49: 508AD148709C44BFC5946A72E668F8CC847293 | P49: F | Q49: F | R49: T | V49: 1 | AW49: 57F9B14A7590676C2F14AB22E8C07B508AD148709C44BFC5946A72E668F8CC847293
A50: 저독성폴리올레핀절연전선(HFIX) | B50: 1.5㎟(1.38㎜) | C50: m | D50: 0.1 | E50: ='단가대비표(전기)'!O5 -> 377 | F50: =TRUNC(E50*D50,1) -> 37.7 | G50: ='단가대비표(전기)'!P5 -> 0 | H50: =TRUNC(G50*D50,1) -> 0 | I50: ='단가대비표(전기)'!V5 -> 0 | J50: =TRUNC(I50*D50,1) -> 0 | K50: =TRUNC(E50+G50+I50,1) -> 377 | L50: =TRUNC(F50+H50+J50,1) -> 37.7 | N50: 57F9B14A7590676C2F14AB22E8C07B | O50: 508AD148709C44BFC5946A72E668F8CC847293 | P50: F | Q50: F | R50: T | AW50: 57F9B14A7590676C2F14AB22E8C07B508AD148709C44BFC5946A72E668F8CC847293
A51: 잡재료비 | B51: 배관배선의 2% | C51: 식 | D51: 1 | E51: =TRUNC(SUMIF(V49:V53, RIGHTB(O51, 1), F49:F53)*U51, 2) -> 7.54 | F51: =TRUNC(E51*D51,1) -> 7.5 | G51: 0 | H51: =TRUNC(G51*D51,1) -> 0 | I51: 0 | J51: =TRUNC(I51*D51,1) -> 0 | K51: =TRUNC(E51+G51+I51,1) -> 7.5 | L51: =TRUNC(F51+H51+J51,1) -> 7.5 | N51: 57F9B14A7590676C2F14AB22E8C07B | O51: 56AA0142019760E7AF94D5F2CBAA001 | P51: F | Q51: F | R51: F | S51: 0 | T51: 0 | U51: 0.02 | AW51: 57F9B14A7590676C2F14AB22E8C07B56AA0142019760E7AF94D5F2CBAA001
A52: 내선전공 | B52: 일반공사직종 | C52: 인 | D52: 0.01 | E52: ='단가대비표(전기)'!O29 -> 0 | F52: =TRUNC(E52*D52,1) -> 0 | G52: ='단가대비표(전기)'!P29 -> 273676 | H52: =TRUNC(G52*D52,1) -> 2736.7 | I52: ='단가대비표(전기)'!V29 -> 0 | J52: =TRUNC(I52*D52,1) -> 0 | K52: =TRUNC(E52+G52+I52,1) -> 273676 | L52: =TRUNC(F52+H52+J52,1) -> 2736.7 | N52: 57F9B14A7590676C2F14AB22E8C07B | O52: 576F114A4E9EC9C123B4C6F2D91F42A2D5F1DB | P52: F | Q52: F | R52: T | W52: 2 | AW52: 57F9B14A7590676C2F14AB22E8C07B576F114A4E9EC9C123B4C6F2D91F42A2D5F1DB
A53: 공구손료 | B53: 인력품의 3% | C53: 식 | D53: 1 | E53: =TRUNC(SUMIF(W49:W53, RIGHTB(O53, 1), H49:H53)*U53, 2) -> 82.1 | F53: =TRUNC(E53*D53,1) -> 82.1 | G53: 0 | H53: =TRUNC(G53*D53,1) -> 0 | I53: 0 | J53: =TRUNC(I53*D53,1) -> 0 | K53: =TRUNC(E53+G53+I53,1) -> 82.1 | L53: =TRUNC(F53+H53+J53,1) -> 82.1 | N53: 57F9B14A7590676C2F14AB22E8C07B | O53: 56AA0142019760E7AF94D5F2CBA9002 | P53: F | Q53: F | R53: F | S53: 1 | T53: 0 | U53: 0.03 | AW53: 57F9B14A7590676C2F14AB22E8C07B56AA0142019760E7AF94D5F2CBA9002
A54: [ 합 계 ] | F54: =TRUNC(SUMIF(N49:N53, N48, F49:F53),0) -> 504 | H54: =TRUNC(SUMIF(N49:N53, N48, H49:H53),0) -> 2736 | J54: =TRUNC(SUMIF(N49:N53, N48, J49:J53),0) -> 0 | L54: =F54+H54+J54 -> 3240 | N54: TOTAL | O54: TOTAL
A56: 저독성폴리올레핀절연전선(HFIX) 2.5㎟(1.78㎜) M 전기 5-10 ( 호표 7 ) | N56: 57F9B14A7590676C2F14AB22E8C3CF
A57: 저독성폴리올레핀절연전선(HFIX) | B57: 2.5㎟(1.78㎜) | C57: m | D57: 1 | E57: ='단가대비표(전기)'!O6 -> 557 | F57: =TRUNC(E57*D57,1) -> 557 | G57: ='단가대비표(전기)'!P6 -> 0 | H57: =TRUNC(G57*D57,1) -> 0 | I57: ='단가대비표(전기)'!V6 -> 0 | J57: =TRUNC(I57*D57,1) -> 0 | K57: =TRUNC(E57+G57+I57,1) -> 557 | L57: =TRUNC(F57+H57+J57,1) -> 557 | N57: 57F9B14A7590676C2F14AB22E8C3CF | O57: 508AD148709C44BFC5946A72E668F8CC847292 | P57: F | Q57: F | R57: T | V57: 1 | AW57: 57F9B14A7590676C2F14AB22E8C3CF508AD148709C44BFC5946A72E668F8CC847292
A58: 저독성폴리올레핀절연전선(HFIX) | B58: 2.5㎟(1.78㎜) | C58: m | D58: 0.1 | E58: ='단가대비표(전기)'!O6 -> 557 | F58: =TRUNC(E58*D58,1) -> 55.7 | G58: ='단가대비표(전기)'!P6 -> 0 | H58: =TRUNC(G58*D58,1) -> 0 | I58: ='단가대비표(전기)'!V6 -> 0 | J58: =TRUNC(I58*D58,1) -> 0 | K58: =TRUNC(E58+G58+I58,1) -> 557 | L58: =TRUNC(F58+H58+J58,1) -> 55.7 | N58: 57F9B14A7590676C2F14AB22E8C3CF | O58: 508AD148709C44BFC5946A72E668F8CC847292 | P58: F | Q58: F | R58: T | AW58: 57F9B14A7590676C2F14AB22E8C3CF508AD148709C44BFC5946A72E668F8CC847292
A59: 잡재료비 | B59: 배관배선의 2% | C59: 식 | D59: 1 | E59: =TRUNC(SUMIF(V57:V61, RIGHTB(O59, 1), F57:F61)*U59, 2) -> 11.14 | F59: =TRUNC(E59*D59,1) -> 11.1 | G59: 0 | H59: =TRUNC(G59*D59,1) -> 0 | I59: 0 | J59: =TRUNC(I59*D59,1) -> 0 | K59: =TRUNC(E59+G59+I59,1) -> 11.1 | L59: =TRUNC(F59+H59+J59,1) -> 11.1 | N59: 57F9B14A7590676C2F14AB22E8C3CF | O59: 56AA0142019760E7AF94D5F2CBAA001 | P59: F | Q59: F | R59: F | S59: 0 | T59: 0 | U59: 0.02 | AW59: 57F9B14A7590676C2F14AB22E8C3CF56AA0142019760E7AF94D5F2CBAA001
A60: 내선전공 | B60: 일반공사직종 | C60: 인 | D60: 0.01 | E60: ='단가대비표(전기)'!O29 -> 0 | F60: =TRUNC(E60*D60,1) -> 0 | G60: ='단가대비표(전기)'!P29 -> 273676 | H60: =TRUNC(G60*D60,1) -> 2736.7 | I60: ='단가대비표(전기)'!V29 -> 0 | J60: =TRUNC(I60*D60,1) -> 0 | K60: =TRUNC(E60+G60+I60,1) -> 273676 | L60: =TRUNC(F60+H60+J60,1) -> 2736.7 | N60: 57F9B14A7590676C2F14AB22E8C3CF | O60: 576F114A4E9EC9C123B4C6F2D91F42A2D5F1DB | P60: F | Q60: F | R60: T | W60: 2 | AW60: 57F9B14A7590676C2F14AB22E8C3CF576F114A4E9EC9C123B4C6F2D91F42A2D5F1DB
A61: 공구손료 | B61: 인력품의 3% | C61: 식 | D61: 1 | E61: =TRUNC(SUMIF(W57:W61, RIGHTB(O61, 1), H57:H61)*U61, 2) -> 82.1 | F61: =TRUNC(E61*D61,1) -> 82.1 | G61: 0 | H61: =TRUNC(G61*D61,1) -> 0 | I61: 0 | J61: =TRUNC(I61*D61,1) -> 0 | K61: =TRUNC(E61+G61+I61,1) -> 82.1 | L61: =TRUNC(F61+H61+J61,1) -> 82.1 | N61: 57F9B14A7590676C2F14AB22E8C3CF | O61: 56AA0142019760E7AF94D5F2CBA9002 | P61: F | Q61: F | R61: F | S61: 1 | T61: 0 | U61: 0.03 | AW61: 57F9B14A7590676C2F14AB22E8C3CF56AA0142019760E7AF94D5F2CBA9002
A62: [ 합 계 ] | F62: =TRUNC(SUMIF(N57:N61, N56, F57:F61),0) -> 705 | H62: =TRUNC(SUMIF(N57:N61, N56, H57:H61),0) -> 2736 | J62: =TRUNC(SUMIF(N57:N61, N56, J57:J61),0) -> 0 | L62: =F62+H62+J62 -> 3441 | N62: TOTAL | O62: TOTAL
A64: 아우트렛박스(반복공정) 8각 54㎜ 개 전기 5-3 ( 호표 8 ) | N64: 57F9B14A759B718D94D4B172CBEBD3
A65: 아우트렛박스 | B65: 8각 54㎜ | C65: 개 | D65: 1 | E65: ='단가대비표(전기)'!O12 -> 721 | F65: =TRUNC(E65*D65,1) -> 721 | G65: ='단가대비표(전기)'!P12 -> 0 | H65: =TRUNC(G65*D65,1) -> 0 | I65: ='단가대비표(전기)'!V12 -> 0 | J65: =TRUNC(I65*D65,1) -> 0 | K65: =TRUNC(E65+G65+I65,1) -> 721 | L65: =TRUNC(F65+H65+J65,1) -> 721 | N65: 57F9B14A759B718D94D4B172CBEBD3 | O65: 509BB142649512E05504ED5276C2BA5CDF9B48 | P65: F | Q65: F | R65: T | AW65: 57F9B14A759B718D94D4B172CBEBD3509BB142649512E05504ED5276C2BA5CDF9B48
A66: 내선전공 | B66: 일반공사직종 | C66: 인 | D66: 0.108 | E66: ='단가대비표(전기)'!O29 -> 0 | F66: =TRUNC(E66*D66,1) -> 0 | G66: ='단가대비표(전기)'!P29 -> 273676 | H66: =TRUNC(G66*D66,1) -> 29557 | I66: ='단가대비표(전기)'!V29 -> 0 | J66: =TRUNC(I66*D66,1) -> 0 | K66: =TRUNC(E66+G66+I66,1) -> 273676 | L66: =TRUNC(F66+H66+J66,1) -> 29557 | N66: 57F9B14A759B718D94D4B172CBEBD3 | O66: 576F114A4E9EC9C123B4C6F2D91F42A2D5F1DB | P66: F | Q66: F | R66: T | V66: 1 | AW66: 57F9B14A759B718D94D4B172CBEBD3576F114A4E9EC9C123B4C6F2D91F42A2D5F1DB
A67: 공구손료 | B67: 인력품의 3% | C67: 식 | D67: 1 | E67: =TRUNC(SUMIF(V65:V67, RIGHTB(O67, 1), H65:H67)*U67, 2) -> 886.71 | F67: =TRUNC(E67*D67,1) -> 886.7 | G67: 0 | H67: =TRUNC(G67*D67,1) -> 0 | I67: 0 | J67: =TRUNC(I67*D67,1) -> 0 | K67: =TRUNC(E67+G67+I67,1) -> 886.7 | L67: =TRUNC(F67+H67+J67,1) -> 886.7 | N67: 57F9B14A759B718D94D4B172CBEBD3 | O67: 56AA0142019760E7AF94D5F2CBAA001 | P67: F | Q67: F | R67: F | S67: 1 | T67: 0 | U67: 0.03 | AW67: 57F9B14A759B718D94D4B172CBEBD356AA0142019760E7AF94D5F2CBAA001
A68: [ 합 계 ] | F68: =TRUNC(SUMIF(N65:N67, N64, F65:F67),0) -> 1607 | H68: =TRUNC(SUMIF(N65:N67, N64, H65:H67),0) -> 29557 | J68: =TRUNC(SUMIF(N65:N67, N64, J65:J67),0) -> 0 | L68: =F68+H68+J68 -> 31164 | N68: TOTAL | O68: TOTAL
A70: 스위치박스 (반복공정) 2 개용 54 mm 개 전기 5-3 ( 호표 9 ) | N70: 57F9B14A759B718D94D4B172CAD834
A71: 스위치박스 | B71: 2 개용 54 mm | C71: 개 | D71: 1 | E71: ='단가대비표(전기)'!O11 -> 920 | F71: =TRUNC(E71*D71,1) -> 920 | G71: ='단가대비표(전기)'!P11 -> 0 | H71: =TRUNC(G71*D71,1) -> 0 | I71: ='단가대비표(전기)'!V11 -> 0 | J71: =TRUNC(I71*D71,1) -> 0 | K71: =TRUNC(E71+G71+I71,1) -> 920 | L71: =TRUNC(F71+H71+J71,1) -> 920 | N71: 57F9B14A759B718D94D4B172CAD834 | O71: 509BB142649512E055040772D9B7B2F81369F4 | P71: F | Q71: F | R71: T | AW71: 57F9B14A759B718D94D4B172CAD834509BB142649512E055040772D9B7B2F81369F4
A72: 내선전공 | B72: 일반공사직종 | C72: 인 | D72: 0.18 | E72: ='단가대비표(전기)'!O29 -> 0 | F72: =TRUNC(E72*D72,1) -> 0 | G72: ='단가대비표(전기)'!P29 -> 273676 | H72: =TRUNC(G72*D72,1) -> 49261.6 | I72: ='단가대비표(전기)'!V29 -> 0 | J72: =TRUNC(I72*D72,1) -> 0 | K72: =TRUNC(E72+G72+I72,1) -> 273676 | L72: =TRUNC(F72+H72+J72,1) -> 49261.6 | N72: 57F9B14A759B718D94D4B172CAD834 | O72: 576F114A4E9EC9C123B4C6F2D91F42A2D5F1DB | P72: F | Q72: F | R72: T | V72: 1 | AW72: 57F9B14A759B718D94D4B172CAD834576F114A4E9EC9C123B4C6F2D91F42A2D5F1DB
A73: 공구손료 | B73: 인력품의 3% | C73: 식 | D73: 1 | E73: =TRUNC(SUMIF(V71:V73, RIGHTB(O73, 1), H71:H73)*U73, 2) -> 1477.84 | F73: =TRUNC(E73*D73,1) -> 1477.8 | G73: 0 | H73: =TRUNC(G73*D73,1) -> 0 | I73: 0 | J73: =TRUNC(I73*D73,1) -> 0 | K73: =TRUNC(E73+G73+I73,1) -> 1477.8 | L73: =TRUNC(F73+H73+J73,1) -> 1477.8 | N73: 57F9B14A759B718D94D4B172CAD834 | O73: 56AA0142019760E7AF94D5F2CBAA001 | P73: F | Q73: F | R73: F | S73: 1 | T73: 0 | U73: 0.03 | AW73: 57F9B14A759B718D94D4B172CAD83456AA0142019760E7AF94D5F2CBAA001
A74: [ 합 계 ] | F74: =TRUNC(SUMIF(N71:N73, N70, F71:F73),0) -> 2397 | H74: =TRUNC(SUMIF(N71:N73, N70, H71:H73),0) -> 49261 | J74: =TRUNC(SUMIF(N71:N73, N70, J71:J73),0) -> 0 | L74: =F74+H74+J74 -> 51658 | N74: TOTAL | O74: TOTAL
A76: 수동발신기 단독형(SUS) SET 소방 8-1-2 ( 호표 10 ) | N76: 57F9B14A499AF38B68848532895D35
A77: 수동발신기외함 | B77: 노출(SUS) | C77: 개 | D77: 1 | E77: ='단가대비표(전기)'!O27 -> 40115 | F77: =TRUNC(E77*D77,1) -> 40115 | G77: ='단가대비표(전기)'!P27 -> 0 | H77: =TRUNC(G77*D77,1) -> 0 | I77: ='단가대비표(전기)'!V27 -> 0 | J77: =TRUNC(I77*D77,1) -> 0 | K77: =TRUNC(E77+G77+I77,1) -> 40115 | L77: =TRUNC(F77+H77+J77,1) -> 40115 | N77: 57F9B14A499AF38B68848532895D35 | O77: 50E3214568906CB8CAC4DA122764FBA36BD005 | P77: F | Q77: F | R77: T | AW77: 57F9B14A499AF38B68848532895D3550E3214568906CB8CAC4DA122764FBA36BD005
A78: 수동발신기 | B78: 수동발신기 | C78: 개 | D78: 1 | E78: ='단가대비표(전기)'!O24 -> 4500 | F78: =TRUNC(E78*D78,1) -> 4500 | G78: ='단가대비표(전기)'!P24 -> 0 | H78: =TRUNC(G78*D78,1) -> 0 | I78: ='단가대비표(전기)'!V24 -> 0 | J78: =TRUNC(I78*D78,1) -> 0 | K78: =TRUNC(E78+G78+I78,1) -> 4500 | L78: =TRUNC(F78+H78+J78,1) -> 4500 | N78: 57F9B14A499AF38B68848532895D35 | O78: 50E3214568906CB8CAC4DA122764FBA36BDF8C | P78: F | Q78: F | R78: T | AW78: 57F9B14A499AF38B68848532895D3550E3214568906CB8CAC4DA122764FBA36BDF8C
A79: 경종 | B79: DC 24V | C79: 개 | D79: 1 | E79: ='단가대비표(전기)'!O25 -> 6000 | F79: =TRUNC(E79*D79,1) -> 6000 | G79: ='단가대비표(전기)'!P25 -> 0 | H79: =TRUNC(G79*D79,1) -> 0 | I79: ='단가대비표(전기)'!V25 -> 0 | J79: =TRUNC(I79*D79,1) -> 0 | K79: =TRUNC(E79+G79+I79,1) -> 6000 | L79: =TRUNC(F79+H79+J79,1) -> 6000 | N79: 57F9B14A499AF38B68848532895D35 | O79: 50E3214568906CB8CAC4DA122764FBA36BDF8D | P79: F | Q79: F | R79: T | AW79: 57F9B14A499AF38B68848532895D3550E3214568906CB8CAC4DA122764FBA36BDF8D
A80: 표시등 | B80: DC 24V | C80: 개 | D80: 1 | E80: ='단가대비표(전기)'!O26 -> 2000 | F80: =TRUNC(E80*D80,1) -> 2000 | G80: ='단가대비표(전기)'!P26 -> 0 | H80: =TRUNC(G80*D80,1) -> 0 | I80: ='단가대비표(전기)'!V26 -> 0 | J80: =TRUNC(I80*D80,1) -> 0 | K80: =TRUNC(E80+G80+I80,1) -> 2000 | L80: =TRUNC(F80+H80+J80,1) -> 2000 | N80: 57F9B14A499AF38B68848532895D35 | O80: 50E3214568906CB8CAC4DA122764FBA36BDF82 | P80: F | Q80: F | R80: T | AW80: 57F9B14A499AF38B68848532895D3550E3214568906CB8CAC4DA122764FBA36BDF82
A81: 내선전공 | B81: 일반공사직종 | C81: 인 | D81: 1.31 | E81: ='단가대비표(전기)'!O29 -> 0 | F81: =TRUNC(E81*D81,1) -> 0 | G81: ='단가대비표(전기)'!P29 -> 273676 | H81: =TRUNC(G81*D81,1) -> 358515.5 | I81: ='단가대비표(전기)'!V29 -> 0 | J81: =TRUNC(I81*D81,1) -> 0 | K81: =TRUNC(E81+G81+I81,1) -> 273676 | L81: =TRUNC(F81+H81+J81,1) -> 358515.5 | N81: 57F9B14A499AF38B68848532895D35 | O81: 576F114A4E9EC9C123B4C6F2D91F42A2D5F1DB | P81: F | Q81: F | R81: T | V81: 1 | AW81: 57F9B14A499AF38B68848532895D35576F114A4E9EC9C123B4C6F2D91F42A2D5F1DB
A82: 공구손료 | B82: 인력품의 3% | C82: 식 | D82: 1 | E82: =TRUNC(SUMIF(V77:V82, RIGHTB(O82, 1), H77:H82)*U82, 2) -> 10755.46 | F82: =TRUNC(E82*D82,1) -> 10755.4 | G82: 0 | H82: =TRUNC(G82*D82,1) -> 0 | I82: 0 | J82: =TRUNC(I82*D82,1) -> 0 | K82: =TRUNC(E82+G82+I82,1) -> 10755.4 | L82: =TRUNC(F82+H82+J82,1) -> 10755.4 | N82: 57F9B14A499AF38B68848532895D35 | O82: 56AA0142019760E7AF94D5F2CBAA001 | P82: F | Q82: F | R82: F | S82: 1 | T82: 0 | U82: 0.03 | AW82: 57F9B14A499AF38B68848532895D3556AA0142019760E7AF94D5F2CBAA001
A83: [ 합 계 ] | F83: =TRUNC(SUMIF(N77:N82, N76, F77:F82),0) -> 63370 | H83: =TRUNC(SUMIF(N77:N82, N76, H77:H82),0) -> 358515 | J83: =TRUNC(SUMIF(N77:N82, N76, J77:J82),0) -> 0 | L83: =F83+H83+J83 -> 421885 | N83: TOTAL | O83: TOTAL
A85: 화재감지기 열감지기,정온식스포트형 개 소방 8-1-1 ( 호표 11 ) | N85: 57F9B14A499AF38B6884853288B3F6
A86: 화재감지기 | B86: 열감지기,정온식스포트형 | C86: 개 | D86: 1 | E86: ='단가대비표(전기)'!O21 -> 4800 | F86: =TRUNC(E86*D86,1) -> 4800 | G86: ='단가대비표(전기)'!P21 -> 0 | H86: =TRUNC(G86*D86,1) -> 0 | I86: ='단가대비표(전기)'!V21 -> 0 | J86: =TRUNC(I86*D86,1) -> 0 | K86: =TRUNC(E86+G86+I86,1) -> 4800 | L86: =TRUNC(F86+H86+J86,1) -> 4800 | N86: 57F9B14A499AF38B6884853288B3F6 | O86: 50E3214568906CB8CAC49CA2326CCD5A75F244 | P86: F | Q86: F | R86: T | AW86: 57F9B14A499AF38B6884853288B3F650E3214568906CB8CAC49CA2326CCD5A75F244
A87: 내선전공 | B87: 일반공사직종 | C87: 인 | D87: 0.13 | E87: ='단가대비표(전기)'!O29 -> 0 | F87: =TRUNC(E87*D87,1) -> 0 | G87: ='단가대비표(전기)'!P29 -> 273676 | H87: =TRUNC(G87*D87,1) -> 35577.8 | I87: ='단가대비표(전기)'!V29 -> 0 | J87: =TRUNC(I87*D87,1) -> 0 | K87: =TRUNC(E87+G87+I87,1) -> 273676 | L87: =TRUNC(F87+H87+J87,1) -> 35577.8 | N87: 57F9B14A499AF38B6884853288B3F6 | O87: 576F114A4E9EC9C123B4C6F2D91F42A2D5F1DB | P87: F | Q87: F | R87: T | V87: 1 | AW87: 57F9B14A499AF38B6884853288B3F6576F114A4E9EC9C123B4C6F2D91F42A2D5F1DB
A88: 공구손료 | B88: 인력품의 3% | C88: 식 | D88: 1 | E88: =TRUNC(SUMIF(V86:V88, RIGHTB(O88, 1), H86:H88)*U88, 2) -> 1067.33 | F88: =TRUNC(E88*D88,1) -> 1067.3 | G88: 0 | H88: =TRUNC(G88*D88,1) -> 0 | I88: 0 | J88: =TRUNC(I88*D88,1) -> 0 | K88: =TRUNC(E88+G88+I88,1) -> 1067.3 | L88: =TRUNC(F88+H88+J88,1) -> 1067.3 | N88: 57F9B14A499AF38B6884853288B3F6 | O88: 56AA0142019760E7AF94D5F2CBAA001 | P88: F | Q88: F | R88: F | S88: 1 | T88: 0 | U88: 0.03 | AW88: 57F9B14A499AF38B6884853288B3F656AA0142019760E7AF94D5F2CBAA001
A89: [ 합 계 ] | F89: =TRUNC(SUMIF(N86:N88, N85, F86:F88),0) -> 5867 | H89: =TRUNC(SUMIF(N86:N88, N85, H86:H88),0) -> 35577 | J89: =TRUNC(SUMIF(N86:N88, N85, J86:J88),0) -> 0 | L89: =F89+H89+J89 -> 41444 | N89: TOTAL | O89: TOTAL
A91: 화재감지기 연기감지기,광전식2종-비축적 개 소방 8-1-1 ( 호표 12 ) | N91: 57F9B14A499AF38B688485328B0A8A
A92: 화재감지기 | B92: 연기감지기,광전식2종-비축적 | C92: 개 | D92: 1 | E92: ='단가대비표(전기)'!O22 -> 18000 | F92: =TRUNC(E92*D92,1) -> 18000 | G92: ='단가대비표(전기)'!P22 -> 0 | H92: =TRUNC(G92*D92,1) -> 0 | I92: ='단가대비표(전기)'!V22 -> 0 | J92: =TRUNC(I92*D92,1) -> 0 | K92: =TRUNC(E92+G92+I92,1) -> 18000 | L92: =TRUNC(F92+H92+J92,1) -> 18000 | N92: 57F9B14A499AF38B688485328B0A8A | O92: 50E3214568906CB8CAC49CA2326CCD5A75F1B9 | P92: F | Q92: F | R92: T | AW92: 57F9B14A499AF38B688485328B0A8A50E3214568906CB8CAC49CA2326CCD5A75F1B9
A93: 내선전공 | B93: 일반공사직종 | C93: 인 | D93: 0.13 | E93: ='단가대비표(전기)'!O29 -> 0 | F93: =TRUNC(E93*D93,1) -> 0 | G93: ='단가대비표(전기)'!P29 -> 273676 | H93: =TRUNC(G93*D93,1) -> 35577.8 | I93: ='단가대비표(전기)'!V29 -> 0 | J93: =TRUNC(I93*D93,1) -> 0 | K93: =TRUNC(E93+G93+I93,1) -> 273676 | L93: =TRUNC(F93+H93+J93,1) -> 35577.8 | N93: 57F9B14A499AF38B688485328B0A8A | O93: 576F114A4E9EC9C123B4C6F2D91F42A2D5F1DB | P93: F | Q93: F | R93: T | V93: 1 | AW93: 57F9B14A499AF38B688485328B0A8A576F114A4E9EC9C123B4C6F2D91F42A2D5F1DB
A94: 공구손료 | B94: 인력품의 3% | C94: 식 | D94: 1 | E94: =TRUNC(SUMIF(V92:V94, RIGHTB(O94, 1), H92:H94)*U94, 2) -> 1067.33 | F94: =TRUNC(E94*D94,1) -> 1067.3 | G94: 0 | H94: =TRUNC(G94*D94,1) -> 0 | I94: 0 | J94: =TRUNC(I94*D94,1) -> 0 | K94: =TRUNC(E94+G94+I94,1) -> 1067.3 | L94: =TRUNC(F94+H94+J94,1) -> 1067.3 | N94: 57F9B14A499AF38B688485328B0A8A | O94: 56AA0142019760E7AF94D5F2CBAA001 | P94: F | Q94: F | R94: F | S94: 1 | T94: 0 | U94: 0.03 | AW94: 57F9B14A499AF38B688485328B0A8A56AA0142019760E7AF94D5F2CBAA001
A95: [ 합 계 ] | F95: =TRUNC(SUMIF(N92:N94, N91, F92:F94),0) -> 19067 | H95: =TRUNC(SUMIF(N92:N94, N91, H92:H94),0) -> 35577 | J95: =TRUNC(SUMIF(N92:N94, N91, J92:J94),0) -> 0 | L95: =F95+H95+J95 -> 54644 | N95: TOTAL | O95: TOTAL
A97: 피난구 유도등(고휘도) LED, 소형(단면), 60분 개 소방 9-2-2 ( 호표 13 ) | N97: 57F9B14A499AF38B6884B262430376
A98: 피난구 유도등(고휘도) | B98: LED, 소형(단면), 60분 | C98: SET | D98: 1 | E98: ='단가대비표(전기)'!O7 -> 44806 | F98: =TRUNC(E98*D98,1) -> 44806 | G98: ='단가대비표(전기)'!P7 -> 0 | H98: =TRUNC(G98*D98,1) -> 0 | I98: ='단가대비표(전기)'!V7 -> 0 | J98: =TRUNC(I98*D98,1) -> 0 | K98: =TRUNC(E98+G98+I98,1) -> 44806 | L98: =TRUNC(F98+H98+J98,1) -> 44806 | N98: 57F9B14A499AF38B6884B262430376 | O98: 509BB14264963BBD3464B4D23C64EDC34C78AE | P98: F | Q98: F | R98: T | AW98: 57F9B14A499AF38B6884B262430376509BB14264963BBD3464B4D23C64EDC34C78AE
A99: 내선전공 | B99: 일반공사직종 | C99: 인 | D99: 0.129 | E99: ='단가대비표(전기)'!O29 -> 0 | F99: =TRUNC(E99*D99,1) -> 0 | G99: ='단가대비표(전기)'!P29 -> 273676 | H99: =TRUNC(G99*D99,1) -> 35304.2 | I99: ='단가대비표(전기)'!V29 -> 0 | J99: =TRUNC(I99*D99,1) -> 0 | K99: =TRUNC(E99+G99+I99,1) -> 273676 | L99: =TRUNC(F99+H99+J99,1) -> 35304.2 | N99: 57F9B14A499AF38B6884B262430376 | O99: 576F114A4E9EC9C123B4C6F2D91F42A2D5F1DB | P99: F | Q99: F | R99: T | V99: 1 | AW99: 57F9B14A499AF38B6884B262430376576F114A4E9EC9C123B4C6F2D91F42A2D5F1DB
A100: 공구손료 | B100: 인력품의 3% | C100: 식 | D100: 1 | E100: =TRUNC(SUMIF(V98:V100, RIGHTB(O100, 1), H98:H100)*U100, 2) -> 1059.12 | F100: =TRUNC(E100*D100,1) -> 1059.1 | G100: 0 | H100: =TRUNC(G100*D100,1) -> 0 | I100: 0 | J100: =TRUNC(I100*D100,1) -> 0 | K100: =TRUNC(E100+G100+I100,1) -> 1059.1 | L100: =TRUNC(F100+H100+J100,1) -> 1059.1 | N100: 57F9B14A499AF38B6884B262430376 | O100: 56AA0142019760E7AF94D5F2CBAA001 | P100: F | Q100: F | R100: F | S100: 1 | T100: 0 | U100: 0.03 | AW100: 57F9B14A499AF38B6884B26243037656AA0142019760E7AF94D5F2CBAA001
A101: [ 합 계 ] | F101: =TRUNC(SUMIF(N98:N100, N97, F98:F100),0) -> 45865 | H101: =TRUNC(SUMIF(N98:N100, N97, H98:H100),0) -> 35304 | J101: =TRUNC(SUMIF(N98:N100, N97, J98:J100),0) -> 0 | L101: =F101+H101+J101 -> 81169 | N101: TOTAL | O101: TOTAL
A103: 통로 유도등(고휘도) LED, 60분용(계단) 개 소방 9-2-3 ( 호표 14 ) | N103: 57F9B14A499AF38B6884B262430AA5
A104: 통로 유도등(고휘도) | B104: LED, 60분용(계단) | C104: SET | D104: 1 | E104: ='단가대비표(전기)'!O9 -> 100000 | F104: =TRUNC(E104*D104,1) -> 100000 | G104: ='단가대비표(전기)'!P9 -> 0 | H104: =TRUNC(G104*D104,1) -> 0 | I104: ='단가대비표(전기)'!V9 -> 0 | J104: =TRUNC(I104*D104,1) -> 0 | K104: =TRUNC(E104+G104+I104,1) -> 100000 | L104: =TRUNC(F104+H104+J104,1) -> 100000 | N104: 57F9B14A499AF38B6884B262430AA5 | O104: 509BB14264963BBD3464B4D23C64EDC34C7B78 | P104: F | Q104: F | R104: T | AW104: 57F9B14A499AF38B6884B262430AA5509BB14264963BBD3464B4D23C64EDC34C7B78
A105: 내선전공 | B105: 일반공사직종 | C105: 인 | D105: 0.118 | E105: ='단가대비표(전기)'!O29 -> 0 | F105: =TRUNC(E105*D105,1) -> 0 | G105: ='단가대비표(전기)'!P29 -> 273676 | H105: =TRUNC(G105*D105,1) -> 32293.7 | I105: ='단가대비표(전기)'!V29 -> 0 | J105: =TRUNC(I105*D105,1) -> 0 | K105: =TRUNC(E105+G105+I105,1) -> 273676 | L105: =TRUNC(F105+H105+J105,1) -> 32293.7 | N105: 57F9B14A499AF38B6884B262430AA5 | O105: 576F114A4E9EC9C123B4C6F2D91F42A2D5F1DB | P105: F | Q105: F | R105: T | V105: 1 | AW105: 57F9B14A499AF38B6884B262430AA5576F114A4E9EC9C123B4C6F2D91F42A2D5F1DB
A106: 공구손료 | B106: 인력품의 3% | C106: 식 | D106: 1 | E106: =TRUNC(SUMIF(V104:V106, RIGHTB(O106, 1), H104:H106)*U106, 2) -> 968.81 | F106: =TRUNC(E106*D106,1) -> 968.8 | G106: 0 | H106: =TRUNC(G106*D106,1) -> 0 | I106: 0 | J106: =TRUNC(I106*D106,1) -> 0 | K106: =TRUNC(E106+G106+I106,1) -> 968.8 | L106: =TRUNC(F106+H106+J106,1) -> 968.8 | N106: 57F9B14A499AF38B6884B262430AA5 | O106: 56AA0142019760E7AF94D5F2CBAA001 | P106: F | Q106: F | R106: F | S106: 1 | T106: 0 | U106: 0.03 | AW106: 57F9B14A499AF38B6884B262430AA556AA0142019760E7AF94D5F2CBAA001
A107: [ 합 계 ] | F107: =TRUNC(SUMIF(N104:N106, N103, F104:F106),0) -> 100968 | H107: =TRUNC(SUMIF(N104:N106, N103, H104:H106),0) -> 32293 | J107: =TRUNC(SUMIF(N104:N106, N103, J104:J106),0) -> 0 | L107: =F107+H107+J107 -> 133261 | N107: TOTAL | O107: TOTAL
A109: 고휘도 거실통로유도등 LED, 천정양면 개 소방 9-2-2 ( 호표 15 ) | N109: 57F9B14A499AF38B6884B262427B9D
A110: 고휘도 거실통로유도등 | B110: LED, 천정양면 | C110: EA | D110: 1 | E110: ='단가대비표(전기)'!O8 -> 56765 | F110: =TRUNC(E110*D110,1) -> 56765 | G110: ='단가대비표(전기)'!P8 -> 0 | H110: =TRUNC(G110*D110,1) -> 0 | I110: ='단가대비표(전기)'!V8 -> 0 | J110: =TRUNC(I110*D110,1) -> 0 | K110: =TRUNC(E110+G110+I110,1) -> 56765 | L110: =TRUNC(F110+H110+J110,1) -> 56765 | N110: 57F9B14A499AF38B6884B262427B9D | O110: 509BB14264963BBD3464B4D23C64EDC34C7B7C | P110: F | Q110: F | R110: T | AW110: 57F9B14A499AF38B6884B262427B9D509BB14264963BBD3464B4D23C64EDC34C7B7C
A111: 내선전공 | B111: 일반공사직종 | C111: 인 | D111: 0.139 | E111: ='단가대비표(전기)'!O29 -> 0 | F111: =TRUNC(E111*D111,1) -> 0 | G111: ='단가대비표(전기)'!P29 -> 273676 | H111: =TRUNC(G111*D111,1) -> 38040.9 | I111: ='단가대비표(전기)'!V29 -> 0 | J111: =TRUNC(I111*D111,1) -> 0 | K111: =TRUNC(E111+G111+I111,1) -> 273676 | L111: =TRUNC(F111+H111+J111,1) -> 38040.9 | N111: 57F9B14A499AF38B6884B262427B9D | O111: 576F114A4E9EC9C123B4C6F2D91F42A2D5F1DB | P111: F | Q111: F | R111: T | V111: 1 | AW111: 57F9B14A499AF38B6884B262427B9D576F114A4E9EC9C123B4C6F2D91F42A2D5F1DB
A112: 공구손료 | B112: 인력품의 3% | C112: 식 | D112: 1 | E112: =TRUNC(SUMIF(V110:V112, RIGHTB(O112, 1), H110:H112)*U112, 2) -> 1141.22 | F112: =TRUNC(E112*D112,1) -> 1141.2 | G112: 0 | H112: =TRUNC(G112*D112,1) -> 0 | I112: 0 | J112: =TRUNC(I112*D112,1) -> 0 | K112: =TRUNC(E112+G112+I112,1) -> 1141.2 | L112: =TRUNC(F112+H112+J112,1) -> 1141.2 | N112: 57F9B14A499AF38B6884B262427B9D | O112: 56AA0142019760E7AF94D5F2CBAA001 | P112: F | Q112: F | R112: F | S112: 1 | T112: 0 | U112: 0.03 | AW112: 57F9B14A499AF38B6884B262427B9D56AA0142019760E7AF94D5F2CBAA001
A113: [ 합 계 ] | F113: =TRUNC(SUMIF(N110:N112, N109, F110:F112),0) -> 57906 | H113: =TRUNC(SUMIF(N110:N112, N109, H110:H112),0) -> 38040 | J113: =TRUNC(SUMIF(N110:N112, N109, J110:J112),0) -> 0 | L113: =F113+H113+J113 -> 95946 | N113: TOTAL | O113: TOTAL
A115: 시각경보기 15cd 개소 소방 8-1-5 ( 호표 16 ) | N115: 57F9B14A499AF38B6884A0025FBFAA
...

Sheet 단가표(기계)
A1: 단 가 대 비 표
A2: =집계표!A2 -> [ 설천중고 연립관사 개축 소방공사 ]
A3: 코 드 | B3: 품 명 | C3: 규격 | D3: 단위 | E3: 재 료 비 | P3: 노 무 비 | Q3: 경 비 | W3: 번 호 | X3: 비 고 | Y3: 품목구분 | Z3: 노임구분 | AA3: 소수점처리 | AB3: 자재구분
E4: 조달청가격 | F4: PAGE | G4: 물가자료 | H4: PAGE | I4: 유통물가 | J4: PAGE | K4: 거래가격 | L4: PAGE | M4: 조사가격 | N4: PAGE | O4: 적용단가 | Q4: 조달청가격 | R4: 물가자료 | S4: 유통물가 | T4: 거래가격 | U4: 조사가격 | V4: 적용단가
A5: 503E11410108F14EC6334E50FE40F2F4A3F638 | B5: 완강기 | C5: 3층용 | D5: SET | E5: 0 | G5: 75000 | H5: 980 | I5: 75000 | J5: 764 | K5: 98000 | L5: 1188 | M5: 0 | O5: =SMALL(E5:M5,COUNTIF(E5:M5,0)+1) -> 75000 | P5: 0 | Q5: 0 | R5: 0 | S5: 0 | T5: 0 | U5: 0 | V5: 0 | W5: 자재 1
A6: 503E11410108F14EC6334E50FE40F2F4A3F63F | B6: 완강기 | C6: 4층용 | D6: SET | E6: 0 | G6: 78000 | H6: 980 | I6: 78000 | J6: 764 | K6: 101000 | L6: 1188 | M6: 0 | O6: =SMALL(E6:M6,COUNTIF(E6:M6,0)+1) -> 78000 | P6: 0 | Q6: 0 | R6: 0 | S6: 0 | T6: 0 | U6: 0 | V6: 0 | W6: 자재 2
A7: 503E114101080AE733532C22CE971D7D911A56 | B7: 소화기 | C7: 분말소화기(ABC) 1.5KG | D7: EA | E7: 18710 | G7: 22000 | H7: 961 | I7: 23000 | J7: 751 | K7: 22000 | L7: 1185 | M7: 0 | O7: =SMALL(E7:M7,COUNTIF(E7:M7,0)+1) -> 18710 | P7: 0 | Q7: 0 | R7: 0 | S7: 0 | T7: 0 | U7: 0 | V7: 0 | W7: 자재 3
A8: 503E114101080AE733532C22CE971D7D911A54 | B8: 수동식소화기 | C8: 분말소화기(ABC), 4단위, ABC3.3kg | D8: EA | E8: 0 | G8: 26000 | H8: 961 | I8: 0 | K8: 28800 | L8: 1185 | M8: 24000 | N8: 1357 | O8: =SMALL(E8:M8,COUNTIF(E8:M8,0)+1) -> 24000 | P8: 0 | Q8: 0 | R8: 0 | S8: 0 | T8: 0 | U8: 0 | V8: 0 | W8: 자재 4
A9: 503E114101080AE733532C22CE971D7D911B79 | B9: 수동식소화기 | C9: 수동식소화기, 자동확산소화기3.3kg | D9: EA | E9: 0 | G9: 25000 | H9: 961 | I9: 0 | K9: 24500 | L9: 1185 | M9: 25000 | N9: 1357 | O9: =SMALL(E9:M9,COUNTIF(E9:M9,0)+1) -> 24500 | P9: 0 | Q9: 0 | R9: 0 | S9: 0 | T9: 0 | U9: 0 | V9: 0 | W9: 자재 5
A10: 503E114101080AE733532C22CE971D7D911B78 | B10: 소화기 | C10: 자동식소화기 | D10: EA | E10: 0 | G10: 280000 | H10: 961 | I10: 320000 | J10: 751 | K10: 0 | M10: 0 | O10: =SMALL(E10:M10,COUNTIF(E10:M10,0)+1) -> 280000 | P10: 0 | Q10: 0 | R10: 0 | S10: 0 | T10: 0 | U10: 0 | V10: 0 | W10: 자재 6 | X10: 설치비포함
A11: 503E114101080AE733D36BDF695BC748E1F664 | B11: 소화기 받침대 | C11: 소화기받침대 1.5KG | D11: EA | E11: 0 | G11: 2200 | H11: 963 | I11: 2200 | J11: 751 | K11: 3000 | L11: 1188 | M11: 2000 | N11: Ⅰ-1357 | O11: =SMALL(E11:M11,COUNTIF(E11:M11,0)+1) -> 2000 | P11: 0 | Q11: 0 | R11: 0 | S11: 0 | T11: 0 | U11: 0 | V11: 0 | W11: 자재 7
A12: 503E114101080AE733D36BDF695BC748E1F663 | B12: 소화기받침대 | C12: 3.3kg | D12: EA | E12: 0 | G12: 1500 | H12: 963 | I12: 0 | K12: 3000 | L12: 1188 | M12: 0 | O12: =SMALL(E12:M12,COUNTIF(E12:M12,0)+1) -> 1500 | P12: 0 | Q12: 0 | R12: 0 | S12: 0 | T12: 0 | U12: 0 | V12: 0 | W12: 자재 8
A13: 57B3014F4108FF8F03E34AA57BFCEA21087B44 | B13: 보통인부 | C13: 일반공사 직종 | D13: 인 | E13: 0 | G13: 0 | I13: 0 | K13: 0 | M13: 0 | O13: 0 | P13: 172068 | Q13: 0 | R13: 0 | S13: 0 | T13: 0 | U13: 0 | V13: 0 | W13: 노임 1 | Y13: B
A14: 57B3014F4108FF8F03E34AA57BFCEA21087E1B | B14: 기계설비공 | C14: 일반공사 직종 | D14: 인 | E14: 0 | G14: 0 | I14: 0 | K14: 0 | M14: 0 | O14: 0 | P14: 241698 | Q14: 0 | R14: 0 | S14: 0 | T14: 0 | U14: 0 | V14: 0 | W14: 노임 2 | Y14: B
B15: ABC분말소화기 | C15: 20kg (대형) | D15: EA | G15: 155000 | H15: 961 | K15: 176000 | L15: 1185 | M15: 152200 | N15: 1353 | O15: 152200 | W15: 자재 9
B16: 비상경보장치 | C16: 임시소방시설 | D16: EA | K16: 210000 | L16: 1187 | O16: =K16 -> 210000 | W16: 자재 10

Sheet 단가대비표(전기)
A1: 단 가 대 비 표
A2: =집계표!A2 -> [ 설천중고 연립관사 개축 소방공사 ]
A3: 코 드 | B3: 품 명 | C3: 규격 | D3: 단위 | E3: 재 료 비 | P3: 노 무 비 | Q3: 경 비 | W3: 번 호 | X3: 비 고 | Y3: 품목구분 | Z3: 노임구분 | AA3: 소수점처리 | AB3: 자재구분
E4: 조달청가격 | F4: PAGE | G4: 물가자료 | H4: PAGE | I4: 유통물가 | J4: PAGE | K4: 거래가격 | L4: PAGE | M4: 조사가격 | N4: PAGE | O4: 적용단가 | Q4: 조달청가격 | R4: 물가자료 | S4: 유통물가 | T4: 거래가격 | U4: 조사가격 | V4: 적용단가
A5: 508AD148709C44BFC5946A72E668F8CC847293 | B5: 저독성폴리올레핀절연전선(HFIX) | C5: 1.5㎟(1.38㎜) | D5: m | E5: 0 | G5: 380 | H5: 1074 | I5: 492 | J5: 833 | K5: 377 | L5: 993 | M5: 503 | N5: 물정1165 | O5: =SMALL(E5:M5,COUNTIF(E5:M5,0)+1) -> 377 | P5: 0 | Q5: 0 | R5: 0 | S5: 0 | T5: 0 | U5: 0 | V5: 0 | W5: 자재 1
A6: 508AD148709C44BFC5946A72E668F8CC847292 | B6: 저독성폴리올레핀절연전선(HFIX) | C6: 2.5㎟(1.78㎜) | D6: m | E6: 0 | G6: 557 | H6: 1074 | I6: 795 | J6: 833 | K6: 572 | L6: 993 | M6: 828 | N6: 물정1165 | O6: =SMALL(E6:M6,COUNTIF(E6:M6,0)+1) -> 557 | P6: 0 | Q6: 0 | R6: 0 | S6: 0 | T6: 0 | U6: 0 | V6: 0 | W6: 자재 2
A7: 509BB14264963BBD3464B4D23C64EDC34C78AE | B7: 피난구 유도등(고휘도) | C7: LED, 소형(단면), 60분 | D7: SET | E7: 0 | G7: 100000 | H7: 968 | I7: 100000 | J7: 756 | K7: 120000 | L7: 1194 | M7: 44806 | O7: =SMALL(E7:M7,COUNTIF(E7:M7,0)+1) -> 44806 | P7: 0 | Q7: 0 | R7: 0 | S7: 0 | T7: 0 | U7: 0 | V7: 0 | W7: 자재 3
A8: 509BB14264963BBD3464B4D23C64EDC34C7B7C | B8: 고휘도 거실통로유도등 | C8: LED, 천정양면 | D8: EA | E8: 0 | G8: 0 | I8: 200000 | J8: 757 | K8: 0 | M8: 56765 | O8: =SMALL(E8:M8,COUNTIF(E8:M8,0)+1) -> 56765 | P8: 0 | Q8: 0 | R8: 0 | S8: 0 | T8: 0 | U8: 0 | V8: 0 | W8: 자재 4
A9: 509BB14264963BBD3464B4D23C64EDC34C7B78 | B9: 통로 유도등(고휘도) | C9: LED, 60분용(계단) | D9: SET | E9: 0 | G9: 150000 | H9: 969 | I9: 180000 | J9: 757 | K9: 120000 | L9: 1196 | M9: 100000 | N9: 교육청 | O9: =SMALL(E9:M9,COUNTIF(E9:M9,0)+1) -> 100000 | P9: 0 | Q9: 0 | R9: 0 | S9: 0 | T9: 0 | U9: 0 | V9: 0 | W9: 자재 5
A10: 509BB142649512E203E41FD2E389F65E35FC53 | B10: 시각경보기 전원반 | C10: DC | D10: 대 | E10: 0 | G10: 0 | I10: 200000 | J10: 757 | K10: 0 | M10: 150000 | N10: 교육청 | O10: =SMALL(E10:M10,COUNTIF(E10:M10,0)+1) -> 150000 | P10: 0 | Q10: 0 | R10: 0 | S10: 0 | T10: 0 | U10: 0 | V10: 0 | W10: 자재 6
A11: 509BB142649512E055040772D9B7B2F81369F4 | B11: 스위치박스 | C11: 2 개용 54 mm | D11: 개 | E11: 0 | G11: 920 | H11: 1105 | I11: 973 | J11: 873 | K11: 1000 | L11: 1028 | M11: 920 | N11: 물정1206 | O11: =SMALL(E11:M11,COUNTIF(E11:M11,0)+1) -> 920 | P11: 0 | Q11: 0 | R11: 0 | S11: 0 | T11: 0 | U11: 0 | V11: 0 | W11: 자재 7
A12: 509BB142649512E05504ED5276C2BA5CDF9B48 | B12: 아우트렛박스 | C12: 8각 54㎜ | D12: 개 | E12: 0 | G12: 790 | H12: 1105 | I12: 0 | K12: 721 | L12: 1020 | M12: 845 | N12: 물정873 | O12: =SMALL(E12:M12,COUNTIF(E12:M12,0)+1) -> 721 | P12: 0 | Q12: 0 | R12: 0 | S12: 0 | T12: 0 | U12: 0 | V12: 0 | W12: 자재 8
A13: 509BB142649512E05504ED621D4D4E42E99940 | B13: 아우트렛박스 커버 | C13: 8각, 평 | D13: 개 | E13: 0 | G13: 290 | H13: 1105 | I13: 343 | J13: 873 | K13: 240 | L13: 1020 | M13: 0 | O13: =SMALL(E13:M13,COUNTIF(E13:M13,0)+1) -> 240 | P13: 0 | Q13: 0 | R13: 0 | S13: 0 | T13: 0 | U13: 0 | V13: 0 | W13: 자재 9
A14: 509BB142649512E05504ED621D4D4E42E99949 | B14: 스위치박스 커버 | C14: 4각, 2개용 평 | D14: 개 | E14: 0 | G14: 290 | H14: 1105 | I14: 343 | J14: 873 | K14: 300 | L14: 1028 | M14: 0 | O14: =SMALL(E14:M14,COUNTIF(E14:M14,0)+1) -> 290 | P14: 0 | Q14: 0 | R14: 0 | S14: 0 | T14: 0 | U14: 0 | V14: 0 | W14: 자재 10
A15: 509BB14264940DB95EE41BB2EA14BF315B69C4 | B15: 합성수지제 가요전선관 | C15: CD 난연성 16㎜ | D15: M | E15: 0 | G15: 200 | H15: 1104 | I15: 305 | J15: 860 | K15: 305 | L15: 1025 | M15: 281 | N15: 물.정 1203 | O15: =SMALL(E15:M15,COUNTIF(E15:M15,0)+1) -> 200 | P15: 0 | Q15: 0 | R15: 0 | S15: 0 | T15: 0 | U15: 0 | V15: 0 | W15: 자재 11
A16: 509BB14264940DB95EE41BB2EA14BF315B69C5 | B16: 합성수지제 가요전선관 | C16: CD 난연성 22㎜ | D16: M | E16: 0 | G16: 300 | H16: 1104 | I16: 427 | J16: 860 | K16: 427 | L16: 1025 | M16: 420 | N16: 물.정 1203 | O16: =SMALL(E16:M16,COUNTIF(E16:M16,0)+1) -> 300 | P16: 0 | Q16: 0 | R16: 0 | S16: 0 | T16: 0 | U16: 0 | V16: 0 | W16: 자재 12
A17: 509BB14264940DB95EE41BB2EA14BF315B69C6 | B17: 합성수지제 가요전선관 | C17: CD 난연성 28㎜ | D17: M | E17: 0 | G17: 410 | H17: 1104 | I17: 610 | J17: 860 | K17: 610 | L17: 1025 | M17: 561 | N17: 물.정 1203 | O17: =SMALL(E17:M17,COUNTIF(E17:M17,0)+1) -> 410 | P17: 0 | Q17: 0 | R17: 0 | S17: 0 | T17: 0 | U17: 0 | V17: 0 | W17: 자재 13
A18: 509BB14264940DB95EE41BB2EA14BF315B683E | B18: 합성수지제 가요전선관 | C18: CD 난연성 36㎜ | D18: M | E18: 0 | G18: 800 | H18: 1104 | I18: 1068 | J18: 860 | K18: 1068 | L18: 1025 | M18: 1066 | N18: 물.정 1203 | O18: =SMALL(E18:M18,COUNTIF(E18:M18,0)+1) -> 800 | P18: 0 | Q18: 0 | R18: 0 | S18: 0 | T18: 0 | U18: 0 | V18: 0 | W18: 자재 14
A19: 509BB14264940DB95EE41B8215EE1FA3981A6C | B19: 1종금속제가요전선관 | C19: 박스커넥터, 16 mm 비방수 | D19: 개 | E19: 0 | G19: 340 | H19: 1101 | I19: 340 | J19: 860 | K19: 1100 | L19: 1027 | M19: 0 | O19: =SMALL(E19:M19,COUNTIF(E19:M19,0)+1) -> 340 | P19: 0 | Q19: 0 | R19: 0 | S19: 0 | T19: 0 | U19: 0 | V19: 0 | W19: 자재 15
A20: 509BB14264940DB95EE41B8215EE1FA3981ECB | B20: 1종금속제가요전선관 | C20: 16 mm 비방수 | D20: M | E20: 0 | G20: 720 | H20: 1101 | I20: 720 | J20: 860 | K20: 1380 | L20: 1027 | M20: 544 | N20: 물정1204 | O20: =SMALL(E20:M20,COUNTIF(E20:M20,0)+1) -> 544 | P20: 0 | Q20: 0 | R20: 0 | S20: 0 | T20: 0 | U20: 0 | V20: 0 | W20: 자재 16
A21: 50E3214568906CB8CAC49CA2326CCD5A75F244 | B21: 화재감지기 | C21: 열감지기,정온식스포트형 | D21: 개 | E21: 0 | G21: 5000 | H21: 968 | I21: 5000 | J21: 756 | K21: 4800 | L21: 1194 | M21: 4800 | N21: 물정1393 | O21: =SMALL(E21:M21,COUNTIF(E21:M21,0)+1) -> 4800 | P21: 0 | Q21: 0 | R21: 0 | S21: 0 | T21: 0 | U21: 0 | V21: 0 | W21: 자재 17
A22: 50E3214568906CB8CAC49CA2326CCD5A75F1B9 | B22: 화재감지기 | C22: 연기감지기,광전식2종-비축적 | D22: 개 | E22: 0 | G22: 30000 | H22: 968 | I22: 18000 | J22: 757 | K22: 18000 | L22: 1196 | M22: 18000 | N22: 물정1393 | O22: =SMALL(E22:M22,COUNTIF(E22:M22,0)+1) -> 18000 | P22: 0 | Q22: 0 | R22: 0 | S22: 0 | T22: 0 | U22: 0 | V22: 0 | W22: 자재 18
A23: 50E3214568906CB8CAC4DA12276B20BB8F6092 | B23: 시각경보기 | C23: 15cd | D23: 개 | E23: 0 | G23: 40000 | H23: 969 | I23: 60000 | J23: 756 | K23: 60000 | L23: 1196 | M23: 28736 | O23: =SMALL(E23:M23,COUNTIF(E23:M23,0)+1) -> 28736 | P23: 0 | Q23: 0 | R23: 0 | S23: 0 | T23: 0 | U23: 0 | V23: 0 | W23: 자재 19
A24: 50E3214568906CB8CAC4DA122764FBA36BDF8C | B24: 수동발신기 | C24: 수동발신기 | D24: 개 | E24: 0 | G24: 4500 | H24: 969 | I24: 5000 | J24: 756 | K24: 5000 | L24: 1197 | M24: 5000 | N24: 물정1393 | O24: =SMALL(E24:M24,COUNTIF(E24:M24,0)+1) -> 4500 | P24: 0 | Q24: 0 | R24: 0 | S24: 0 | T24: 0 | U24: 0 | V24: 0 | W24: 자재 20
A25: 50E3214568906CB8CAC4DA122764FBA36BDF8D | B25: 경종 | C25: DC 24V | D25: 개 | E25: 0 | G25: 7000 | H25: 969 | I25: 6000 | J25: 757 | K25: 6000 | L25: 1194 | M25: 6000 | N25: 물정1393 | O25: =SMALL(E25:M25,COUNTIF(E25:M25,0)+1) -> 6000 | P25: 0 | Q25: 0 | R25: 0 | S25: 0 | T25: 0 | U25: 0 | V25: 0 | W25: 자재 21
A26: 50E3214568906CB8CAC4DA122764FBA36BDF82 | B26: 표시등 | C26: DC 24V | D26: 개 | E26: 0 | G26: 2500 | H26: 969 | I26: 2000 | J26: 756 | K26: 2000 | L26: 1196 | M26: 3000 | N26: 물정1393 | O26: =SMALL(E26:M26,COUNTIF(E26:M26,0)+1) -> 2000 | P26: 0 | Q26: 0 | R26: 0 | S26: 0 | T26: 0 | U26: 0 | V26: 0 | W26: 자재 22
A27: 50E3214568906CB8CAC4DA122764FBA36BD005 | B27: 수동발신기외함 | C27: 노출(SUS) | D27: 개 | E27: 0 | G27: 60000 | H27: 969 | I27: 80000 | J27: 757 | K27: 0 | M27: 40115 | N27: 교육청 | O27: =SMALL(E27:M27,COUNTIF(E27:M27,0)+1) -> 40115 | P27: 0 | Q27: 0 | R27: 0 | S27: 0 | T27: 0 | U27: 0 | V27: 0 | W27: 자재 23
A28: 50C051467E930A674ED41BD2DC29EC5E886E38 | B28: 화재 수신기 | C28: P형1급 복합형, 10회로(벽부) | D28: 대 | E28: 0 | G28: 0 | I28: 0 | K28: 0 | M28: 1000000 | O28: =SMALL(E28:M28,COUNTIF(E28:M28,0)+1) -> 1000000 | P28: 0 | Q28: 0 | R28: 0 | S28: 0 | T28: 0 | U28: 0 | V28: 0 | W28: 자재 24 | X28: ...
A29: 576F114A4E9EC9C123B4C6F2D91F42A2D5F1DB | B29: 내선전공 | C29: 일반공사직종 | D29: 인 | E29: 0 | G29: 0 | I29: 0 | K29: 0 | M29: 0 | O29: 0 | P29: 273676 | Q29: 0 | R29: 0 | S29: 0 | T29: 0 | U29: 0 | V29: 0 | W29: 노임 1 | Y29: B

Sheet  공사설정 
A1: 이 Sheet는 수정하지 마십시요
A2: 공사구분 | B2: D | C2: 타이틀
A3: 확정내역 | B3: 원내역
A4: 자재단가적용 | B4: 5
A5: 경비단가적용 | B5: 5
A6: 품목코드형식 | B6: XXXX-XXXX-XXXXXXXXX
A7: 내역금액소수점처리 | B7: C | C7: 1
A8: 일위대가내역소수점처리 | B8: C | C8: 2
A9: 단가명 | B9: 조달청가격 | C9: 물가자료 | D9: 유통물가 | E9: 거래가격 | F9: 조사가격 | G9: TTTTT
A10: 환율 | B10: 1442 | C10: 0 | D10: 0
A11: 시간당작업량 | B11: R | C11: 3
A12: 1회 사이클시간 | B12: R | C12: 3
A13: 시간당 작업사이클 | B13: R | C13: 2
A14: 일반변수 | B14: C | C14: 5
A15: 시간당 노임산출 계수 | B15: A | C15: 1/8*16/12*25/20 | D15: 1/8*16/12*25/20 | E15: 1/8*16/12*25/20 | F15: 1
A16: 재료비 할증 계수 | B16: 11 | C16: 12
A17: 노무비 할증 계수 | B17: 0 | C17: 50 | D17: 16 | E17: 60 | F17: 60 | G17: 60 | H17: 94 | I17: 94 | J17: 94 | K17: 0 | L17: 0 | M17: 0
A18: 경비 할증 계수 | B18: 12.5 | C18: 7.1
A19: 내역,일위대가 품명,규격,단위 따로적용
A20: 내역단가 소수점처리 | B20: C | C20: 1
A21: 코드 | B21: 공종구분명 | C21: 원가비목코드
A22: 1 | B22: 작 업 부 산 물 | C22: A3
A23: 2 | B23: 운 반 비 | C23: C1
A24: 3 | B24: 관 급 자 재 비 | C24: DJ
A25: 4 | B25: 사 급 자 재 비 | C25: D3
A26: 5 | B26: 외 자 재
A27: 6 | B27: 폐기물처리비
A28: 7 | B28: 한전인입비
A29: 8 | B29: ...
A30: 9 | B30: ...
A31: A | B31: ....
A32: B | B32: .....
A33: C | B33: ....
A34: D | B34: ....
A35: E | B35: ....
A36: F | B36: ....
A37: G | B37: ....
A38: H | B38: ....
A39: I | B39: ....
A40: J | B40: ....
A43: 단가 순서 | B43: 1234

Sheet Sheet1
