Workbook
Name _____: #REF!
Name ________: #REF!
Name ___________: #REF!
Name ____KK59: [1]노임단가!#REF!
Name ___D1: #REF!
Name ___rl1: [2]수로단위수량!#REF!
Name ___rn1: [2]수로단위수량!#REF!
Name _1.구체: #REF!
Name _1_: #REF!
Name _15A: [3]금액내역서!$D$3:$D$10
Name _1공장: #REF!
Name _1차_94년: #N/A
Name _2._날_개_벽: #REF!
Name _2.접속저판: #REF!
Name _2_0: #REF!
Name _2공장: #REF!
Name _2차결제일: #N/A
Name _3.기초: #REF!
Name _3_호_낙차: #REF!
Name _3공장: #REF!
Name _4.거푸집: #REF!
Name _5.거푸집: #REF!
Name _6.부직포: #REF!
Name _6.잡석채움: #REF!
Name _7.배수: #REF!
Name _8.스페이서: #REF!
Name _9.문양: #REF!
Name _A: #REF!
Name _B2: '[4]단면 (2)'!$K$55
Name _B22: [5]일위대가!$1400:$1413=[5]일위대가!$A$1400
Name _D13: #REF!
Name _D16: #REF!
Name _D19: #REF!
Name _K02: [5]일위대가!$732:$745=[5]일위대가!$A$732
Name _KK59: [1]노임단가!#REF!
Name _LL1: #REF!
Name _O03: [5]일위대가!$1516:$1529=[5]일위대가!$A$1516
Name _p1: #REF!
Name _PH2: '[7]기둥(원형)'!#REF!
Name _RD5: [8]교각계산!$K$86
Name _Regression_Int: 1
Name _SBB1: #REF!
Name _SBB2: #REF!
Name _SBB3: #REF!
Name _SBB4: #REF!
Name _SBB5: #REF!
Name _sh2: [9]SG!$A$1:$G$961
Name _SHH1: #REF!
Name _SHH2: #REF!
Name _SHH3: #REF!
Name _sp1: #REF!
Name _sp2: #REF!
Name _sp3: #REF!
Name _XS1: [8]교각계산!$M$40
Name ¿i·Iº¹≫c: [10]!복사준비
Name \\O: '[11]1단계'!#REF!
Name \0: #REF!
Name \a: [12]약품공급2!#REF!
Name \b: [12]약품공급2!#REF!
Name \c: '[11]1단계'!#REF!

Sheet 표지
A2: 설계년월일 | M2: 2026년 9월 | AD2: 설계자 | BB2: 심사자 | CB2: 팀장 | DB2: 과장
A4: 해양쓰레기 위탁처리 용역(17차)
A7: 설 계 예 산 서
O11: 1. 사 업 개 요
Q12: o 사업위치구역 : 전라남도 고흥군 관내
Q13: o 주요사업내용 : 폐합성수지류(폐어구·폐어망·폐통발,폐스티로폼 등) 폐기물 처리용역 225톤
O15: 2. 사 업 비
Q16: ="o 총사업비 : 일금"&NUMBERSTRING(BW16,1)&"원정" -> o 총사업비 : 일금구천팔백팔만팔천원정 | BS16: (￦ | BW16: =내역서!E11 -> 98088000 | CI16: )
Q17: ="o 도급예정액 : 일금"&NUMBERSTRING(BW16,1)&"원정" -> o 도급예정액 : 일금구천팔백팔만팔천원정 | BS17: (￦ | BW17: =내역서!E11 -> 98088000 | CI17: ) | CZ17: (※ 부가가치세 포함)

Sheet 갑지
B2: 2026. 9. 고흥군 해양쓰레기 위탁처리(17차)
A7: 해양쓰레기 정화사업 위탁처리 용역(17차)
A8: 설 계 서
A26: 고 흥 군

Sheet 원가계산서
A1: 용 역 원 가 계 산 서
A2: 용 역 명 : 2026년 고흥군 해양쓰레기 위탁처리 용역(17차)
A3: 품 명 | C3: 계 | D3: 노 무 비 | F3: 재 료 비 | H3: 경 비 | J3: 비 고
A5: 1) 순 용 역 비 | C5: =내역서!E9 -> 89171100 | H5: =내역서!K9 -> 89171100
A6: 2) 간 접 노 무 비 | J6: (직접노무비)X 0%
A7: 3) 산 재 보 험 료 | J7: (직접노무비+간접노무비)X 0%
A8: 4) 고 용 보 험 료 | J8: (직접노무비+간접노무비)X 0%
A9: 5) 기 타 경 비 | J9: (직접노무비+간접노무비+재료비)X 0%
A10: 6) 안 전 관 리 비 | J10: (직접노무비+재료비+사급+관급)X 0%
A11: 7) 퇴 직 공 제 비 | J11: (직접노무비)X 0%
A12: 8) 환 경 보 전 비 | J12: (재료비+직접노무비+산출경비)X 0%
A13: 1. 순공사 원가 | C13: =SUM(C5) -> 89171100 | D13: - | F13: - | H13: =SUM(H5:H12) -> 89171100
A14: 2. 일반관리비 | C14: - | J14: (순공사비+간노+산재+고용+기타경비+안전+환경)X 0% | Q14: yy
A15: 3. 이 윤 | C15: - | J15: (순공사비+간노+산재+고용+기타경비+안전+환경+일반)X 0%
B16: 단수조정
A17: 4. 총 원 가 | C17: =SUM(C13+C16) -> 89171100
A18: 5. 부 가 가 치 세 | C18: =C17*10% -> 8917110 | J18: (총원가 X 10%)
A19: 6. 도 급 공 사 비 | C19: =C17+C18 -> 98088210 | J19: (총원가 + 부가가치세)
A20: 총 용 역 비 | C20: =ROUNDDOWN(C19,-3) -> 98088000

Sheet 내역서
A1: ○해양쓰레기 위탁처리 설계예산서
A2: 공 종 | B2: 수 량 | C2: 단위 | D2: 계 | F2: 노 무 비 | H2: 재 료 비 | J2: 경 비
D3: 단 가 | E3: 금 액 | F3: 단 가 | G3: 금 액 | H3: 단 가 | I3: 금 액 | J3: 단 가 | K3: 금 액
A4: 1. 해양쓰레기 폐기물처리 설계예산서
A6: 가 . 폐기물 위탁처리 운반비 (폐합성수지류등) | B6: 225 | C6: ton | D6: =F6+H6+J6 -> 42308 | E6: =G6+I6+K6 -> 9519300 | J6: =일위대가!L5 -> 42308 | K6: =J6*B6 -> 9519300
A7: 나 . 폐기물 위탁처리 처리비 (폐합성수지류등) | B7: 225 | C7: ton | D7: =F7+H7+J7 -> 269000 | E7: =G7+I7+K7 -> 60525000 | J7: =일위대가!L7 -> 269000 | K7: =J7*B7 -> 60525000
A8: 다. 폐기물 위탁처리 선별비 (폐합성수지류등) | B8: 225 | C8: ton | D8: =F8+H8+J8 -> 85008 | E8: =G8+I8+K8 -> 19126800 | J8: =일위대가!L9 -> 85008 | K8: =J8*B8 -> 19126800
A9: 순용역비 | E9: =SUM(E6:E8) -> 89171100 | K9: =K7+K6+K8 -> 89171100
A10: 다. 부가가치세 | B10: 10 | C10: % | E10: =E9*10% -> 8917110 | F10: 공급가액 × 10%
A11: 도 급 예 정 금 액 | E11: =ROUNDDOWN((E9+E10),-3) -> 98088000 | F11: 천원미만절사

Sheet 일위대가
A1: NO | B1: 공 종 | C1: 규 격 | D1: 수 량 | E1: 단위 | F1: 계 | H1: 노 무 비 | J1: 재 료 비 | L1: 경 비
F2: 단 가 | G2: 금 액 | H2: 단 가 | I2: 금 액 | J2: 단 가 | K2: 금 액 | L2: 단 가 | M2: 금 액
A3: 제1호표 | B3: 해양쓰레기 폐기물 위탁처리 | F3: =SUM(H3,J3,L3) -> 0 | G3: =SUM(I3,K3,M3) -> 0
F4: =SUM(H4,J4,L4) -> 0
B5: 폐기물위탁처리 운반비 | C5: 폐합성수지 등 | D5: 225 | E5: ton | F5: =L5 -> 42308 | G5: =SUM(I5,K5,M5) -> 9519300 | H5: - | I5: - | J5: - | K5: - | L5: =산출근거!BI5 -> 42308 | M5: =D5*L5 -> 9519300
B7: 폐기물위탁처리 처리비 | C7: 폐합성수지 등 | D7: =D5 -> 225 | E7: ton | F7: =L7 -> 269000 | G7: =SUM(I7,K7,M7) -> 60525000 | H7: - | I7: - | J7: - | K7: - | L7: =산출근거!BC5 -> 269000 | M7: =D7*L7 -> 60525000
B9: 폐기물위탁처리 선별비 | C9: 폐합성수지 등 | D9: =D5 -> 225 | E9: ton | F9: =L9 -> 85008 | G9: =SUM(I9,K9,M9) -> 19126800 | L9: =산출근거!BO5 -> 85008 | M9: =L9*D9 -> 19126800
B29: 합 계 | F29: =SUM(F5:F10) -> 396316 | G29: =SUM(G5:G10) -> 89171100 | H29: =SUM(H5:H8) -> 0 | I29: =SUM(I5:I8) -> 0 | J29: =SUM(J5:J8) -> 0 | K29: =SUM(K5:K8) -> 0 | L29: =SUM(L5:L10) -> 396316 | M29: =SUM(M5:M10) -> 89171100

Sheet 산출근거
A1: 산 출 근 거 | AQ1: 총 액 | AW1: 노 무 비 | BC1: 처리비 | BI1: 운반비 | BO1: 선별비
A3: 산거 1호표 해양쓰레기 위탁 처리
D5: 폐기물(폐합성수지류등) 위탁 처리(소각, 재활용) | AA5: =AQ5 -> 396316 | AQ5: =SUM(BC5:BO5) -> 396316 | AW5: 0 | BC5: 269000 | BI5: 42308 | BO5: =V9 -> 85008
D8: 견적사 | J8: 폐기물 처리비 | P8: 운반비(거리40km) | V8: 선별비 | AB8: 합계 | AH8: 비 고
D9: 고시단가 | J9: 269000 | P9: 42308 | V9: 85008 | AB9: =P9+J9+V9 -> 396316 | AH9: 부가세 미포함
E23: 처 리 비 | J23: 269000원 | X23: 방치폐기물 처리이행보증보험금 산출등을 위한 폐기물의 종류별 처리단가 별표 1기준
E24: 운 반 비 | J24: 40900원+{(352원*40km)/10km} | X24: 지정폐기물 공공처리시설 반입수수료 기준
E25: 선 별 비 | J25: (79,122원*8시간+172,068원*2인)*0.087 | X25: 해양폐기물 수거처리단가 산정 보고서 및 2026년(상) 일위대가 기준

Sheet 물량표
A1: 해양쓰레기 위탁처리 물량표
A2: No. | E2: 공 종 | AB2: 물 량 | AQ2: 비 고
A3: 1 | E3: 해양쓰레기 수집운반 위탁처리 [(폐합성수지 등(폐어구·폐어망·폐통발,폐스티로폼 등)] | AB3: 225 | AM3: ton | AQ3: 예상물량
E4: 이하여백
A13: o 실물량은 계량된 ton으로 정산

Sheet 세부물량표
A1: 해양쓰레기 폐기물 추정 물량표
A2: 연번 | B2: 구 역 | C2: 종 류 | D2: 중량(ton) | E2: 비고
A4: 1 | B4: 발생예상량 | C4: 폐합성수지류(폐어구·폐어망·폐통발,폐스티로폼 등) | D4: 225 | E4: 예상물량
B17: 합계 | D17: =SUM(D4:D16) -> 225

Sheet 증빙자료
