Workbook

Sheet 집계표
A1: 집 계 표
A3: 공사명 : 수도권제1순환(일산~퇴계원간)고속도로 2026년 길어깨 포장 보수 공사 | F3: (단위 : 원)
A4: 공 종 | E4: 금 액 | F4: 비 고
A5: 도 급 공 사 비 | B5: 순 공 사 비 | C5: 직 접 공 사 비 | D5: 1. 재 료 비 | E5: =제비율!P6 -> 0
D6: 2. 노 무 비 | E6: =제비율!P7 -> 0
D7: 3. 경 비 | E7: =제비율!P8 -> 0
C8: 소 계 | E8: =SUM(E5:E7) -> 0
C9: 간 접 노 무 비 | E9: =제비율!P14 -> 0
C10: 산 재 보 험 료 | E10: =제비율!P17 -> 0
C11: 고 용 보 험 료 | E11: =제비율!P20 -> 0
C12: 건 강 보 험 료 | E12: =제비율!P22 -> 0
C13: 연 금 보 험 료 | E13: =제비율!P24 -> 0
C14: 노인장기요양보험료 | E14: =제비율!P26 -> 0
C15: 퇴직공제 부금비 | E15: =제비율!P28 -> 0
C16: 건설기계 대여대금 지급보증서 발급금액 | E16: =제비율!P35 -> 0
C17: 산업안전보건관리비 | E17: =제비율!P30 -> 0
C18: 기 타 경 비 | E18: =제비율!P32 -> 0
C19: 환 경 보 전 비 | E19: =제비율!P38 -> 0
C20: 석 면 부 담 금 | E20: =제비율!P40 -> 0
C21: 임금채권부담금 | E21: =제비율!P42 -> 0
C22: 순 공 사 비 계 | E22: =SUM(E8:E21) -> 0
B23: 일 반 관 리 비 | E23: =제비율!P46 -> 0
B24: 이 윤 | E24: =제비율!P49 -> 0
B25: 공 사 비 계 | E25: =ROUND(E22+E23+E24,) -> 0
B26: 부 가 가 치 세 | E26: =E25*0.1 -> 0
B27: 총 공 사 비 | E27: =(E25+E26) -> 0

Sheet 제비율
A1: 제잡비 산출근거
A3: Ⅰ. 제잡비산출시 적용공사비
A4: 구 분 | D4: 직접공사비 | H4: 공 제 금 액 | O4: 제잡비산출시 적용금액
H5: 공 제 내 용 | L5: 금 액
A6: 1) 재료비 | E6: =일위대가!G5 -> 0 | P6: =E6-L6 -> 0
A7: 2) 직접노무비 | E7: =일위대가!I5 -> 0 | P7: =E7-L7 -> 0
A8: 3) 경 비 | E8: =일위대가!K5 -> 0 | P8: =E8-L8 -> 0
A9: 4) 총 계 | E9: =SUM(E6:E8) -> 0 | P9: =SUM(P6:P8) -> 0
A11: Ⅱ. 제잡비 산출근거
A12: 산 출 근 거 | P12: 금 액
A13: 1. 간접노무비 (직접노무비*율) | K13: 공사규모 : <재료비+직접노무비+산출경비>의 합
C14: =P7 -> 0 | D14: * | E14: 0.191 | F14: = | P14: =INT(C14*E14) -> 0
A15: 2. 산재보험료 (직접노무비+간접노무비*율) | K15: 면허가 필요한 모든 건설공사에 적용
B17: ( | C17: =P7 -> 0 | D17: + | E17: =P14 -> 0 | F17: ) | G17: * | H17: 0.0356 | I17: = | P17: =INT((C17+E17)*H17) -> 0
A18: 3. 고용보험료 (직접노무비+간접노무비*율) | K18: 면허가 필요한 모든 건설공사에 적용
B20: ( | C20: =P7 -> 0 | D20: + | E20: =P14 -> 0 | F20: ) | G20: * | H20: 0.0101 | J20: = | P20: =INT((C20+E20)*H20) -> 0
A21: 4. 건강보험료 (직접노무비*율) | K21: 공사기간 1개월 이상 모든공사에 반영
B22: ( | C22: =P7 -> 0 | D22: * | E22: 0.03595 | F22: = | P22: =INT(C22*E22) -> 0
A23: 5. 연금보험료 (직접노무비*율) | K23: 공사기간 1개월 이상 모든공사에 반영
B24: ( | C24: =P7 -> 0 | D24: * | E24: 0.0475 | F24: = | P24: =INT(C24*E24) -> 0
A25: 6. 노인장기 요양보험료 (건강보험료*율) | K25: 공사기간 1개월 이상 모든공사에 반영
B26: ( | C26: =P22 -> 0 | D26: * | E26: 0.1314 | F26: = | P26: =INT(C26*E26) -> 0
A27: 7. 퇴직공제부금비 (직접노무비*율) | K27: 추정금액 1억이상
C28: =P7 -> 0 | D28: * | E28: 0.023 | F28: + | P28: =INT(C28*E28) -> 0
A29: 8. 산업안전보건관리비 (재료비+직접노무비+관급자재비*율) | K29: 공사규모 : <재료비(관급포함)+직접노무비>의 합
B30: ( | C30: =P6 -> 0 | D30: + | E30: =P7 -> 0 | F30: + | H30: 0 | I30: ) | J30: * | K30: 0.0253 | L30: + | M30: 3300000 | O30: =
A31: 9. 기타경비 (재료비+직접노무비+간접노무비*율) | K31: 공사규모 : <재료비+직접노무비+산출경비>의 합
B32: ( | C32: =P6 -> 0 | D32: + | E32: =P7 -> 0 | F32: + | H32: =P14 -> 0 | I32: ) | J32: * | K32: 0.055 | L32: = | P32: =INT((C32+E32+H32)*K32) -> 0
A33: 10. 건설기계 대여대금 지급보증서 발급금액 (재료비+직접노무비+산출경비*율) | K33: 전문건설 적용
B35: ( | C35: =P6 -> 0 | D35: + | E35: =P7 -> 0 | F35: + | H35: =P8 -> 0 | I35: ) | J35: * | K35: 0.0068 | L35: = | P35: =INT((C35+E35+H35)*K35) -> 0
A36: 11. 환경보전비 (재료비+직접노무비+산출경비)*율)
B38: ( | C38: =P6 -> 0 | D38: + | E38: =P7 -> 0 | F38: + | H38: =P8 -> 0 | I38: ) | J38: * | K38: 0.009 | L38: = | P38: =INT((C38+E38+H38)*K38) -> 0
A39: 12. 석면분담금 ((노무비)*율) | K39: 모든공사 적용
B40: ( | C40: =P7+P14 -> 0 | D40: * | E40: 6e-05 | F40: = | P40: =INT(C40*E40) -> 0
A41: 13. 임금채권부담금 ((노무비)*율) | K41: 모든공사 적용
B42: ( | C42: =P7+P14 -> 0 | D42: * | E42: 0.0009 | F42: = | P42: =INT(C42*E42) -> 0
A43: 순사업비계
C44: ( Ⅰ + 1 + 2 + 3 + 4 + 5 + 6 + 7 + 8 + 9 + 10 + 11 + 12 + 13 ) = | P44: =SUM(P13:P42)+P9 -> 0
A45: 13. 일반관리비 (순사업비계*율) | K45: 공사규모 : 추정가격 기준
C46: =P44 -> 0 | D46: * | E46: 0.065 | F46: = | P46: =INT((C46-L8)*E46) -> 0
A47: 14. 이윤 (순사업비계-재료비+일반관리비*율) | K47: 공사규모 : 추정가격 기준
B48: ( | C48: =P44 -> 0 | D48: - | E48: =P6 -> 0 | F48: + | H48: =P46 -> 0 | I48: * | K48: 0.15 | L48: ) | M48: = | P48: =INT((C48-E48+H48)*K48) -> 0
O49: 조정이윤 | P49: =P48-Q48 -> 0

Sheet 내역서
A1: 내 역 서
A2: =일위대가!A2 -> 공사명 : 수도권제1순환(일산~퇴계원간)고속도로 2026년 길어깨 포장 보수 공사
A3: 번호 | B3: 공 종 | C3: 규 격 | D3: 단위 | E3: 수량 | F3: 단가 | G3: 금 액
B5: =일위대가!B5 -> 직접공사비 계 | G5: =일위대가!M5 -> 0
A6: =일위대가!A6 -> 1 | B6: =일위대가!B6 -> 길어깨포장보수 | G6: =일위대가!M6 -> 0
A7: =일위대가!A7 -> 1-1 | B7: =일위대가!B7 -> 아스팔트포장절단 | D7: =일위대가!D7 -> m | E7: =일위대가!E7 -> 773 | F7: =일위대가!L7 -> 0 | G7: =일위대가!M7 -> 0
A8: =일위대가!A8 -> 1-2 | B8: =일위대가!B8 -> 아스팔트포장깨기(기계), 30㎝미만 | C8: =일위대가!C8 -> 대형브레이카+백호우0.7M3 | D8: =일위대가!D8 -> m3 | E8: =일위대가!E8 -> 44 | F8: =일위대가!L8 -> 0 | G8: =일위대가!M8 -> 0
A9: =일위대가!A9 -> 1-3 | B9: =일위대가!B9 -> 터파기(토사,백호우 0.4 M3) | C9: =일위대가!C9 -> 기계80%+인력20% | D9: =일위대가!D9 -> m3 | E9: =일위대가!E9 -> 141 | F9: =일위대가!L9 -> 0 | G9: =일위대가!M9 -> 0
A10: =일위대가!A10 -> 1-4 | B10: =일위대가!B10 -> 면고르기 | D10: =일위대가!D10 -> m2 | E10: =일위대가!E10 -> 581 | F10: =일위대가!L10 -> 0 | G10: =일위대가!M10 -> 0
A11: =일위대가!A11 -> 1-5 | B11: =일위대가!B11 -> 보조기층 다짐(콘크리트포장) | C11: =일위대가!C11 -> 비닐깔기 포함 | D11: =일위대가!D11 -> m2 | E11: =일위대가!E11 -> 581 | F11: =일위대가!L11 -> 0 | G11: =일위대가!M11 -> 0
A12: =일위대가!A12 -> 1-6 | B12: =일위대가!B12 -> 흙운반(리핑암사토) | C12: =일위대가!C12 -> 15 TON | D12: =일위대가!D12 -> m3 | E12: =일위대가!E12 -> 141 | F12: =일위대가!L12 -> 0 | G12: =일위대가!M12 -> 0
A13: =일위대가!A13 -> 1-7 | B13: =일위대가!B13 -> Tie Bar 설치(D=16㎜) | C13: =일위대가!C13 -> L=800㎜, A=750㎜ | D13: =일위대가!D13 -> EA | E13: =일위대가!E13 -> 509 | F13: =일위대가!L13 -> 0 | G13: =일위대가!M13 -> 0
A14: =일위대가!A14 -> 1-8 | B14: =일위대가!B14 -> DOWEL BAR 설치(TYPE 2 - 1) | D14: =일위대가!D14 -> m | E14: =일위대가!E14 -> 99 | F14: =일위대가!L14 -> 0 | G14: =일위대가!M14 -> 0
A15: =일위대가!A15 -> 1-9 | B15: =일위대가!B15 -> 콘크리트 포장포설(모빌카사용,초속경) | D15: =일위대가!D15 -> m3 | E15: =일위대가!E15 -> 174 | F15: =일위대가!L15 -> 0 | G15: =일위대가!M15 -> 0
A16: =일위대가!A16 -> 1-10 | B16: =일위대가!B16 -> 줄눈설치 | C16: =일위대가!C16 -> 6 * 75㎜ | D16: =일위대가!D16 -> m | E16: =일위대가!E16 -> 479 | F16: =일위대가!L16 -> 0 | G16: =일위대가!M16 -> 0
A17: =일위대가!A17 -> 1-11 | B17: =일위대가!B17 -> 교통관리비(단기, 최외측 2개차로 차단) | C17: =일위대가!C17 -> 야간 | D17: =일위대가!D17 -> 회 | E17: =일위대가!E17 -> 20 | F17: =일위대가!L17 -> 0 | G17: =일위대가!M17 -> 0
A18: 1-12 | B18: 야간조명시설 | C18: 야간 | D18: =일위대가!D18 -> 회 | E18: =일위대가!E18 -> 20 | F18: =일위대가!L18 -> 0 | G18: =일위대가!M18 -> 0
A19: =일위대가!A19 -> 1-13 | B19: =일위대가!B19 -> 중기운반비(야간) | C19: =일위대가!C19 -> 트레일러20톤 | D19: =일위대가!D19 -> 회 | E19: =일위대가!E19 -> 20 | F19: =일위대가!L19 -> 0 | G19: =일위대가!M19 -> 0
A20: =일위대가!A20 -> 2 | B20: =일위대가!B20 -> 콘크리트포장 전단면보수 | G20: =일위대가!M20 -> 0
A21: =일위대가!A21 -> 2-1 | B21: =일위대가!B21 -> 콘크리트포장 절단(야간) | D21: =일위대가!D21 -> m | E21: =일위대가!E21 -> 214 | F21: =일위대가!L21 -> 0 | G21: =일위대가!M21 -> 0
A22: =일위대가!A22 -> 2-2 | B22: =일위대가!B22 -> 콘크리트 포장깨기(야간) | C22: =일위대가!C22 -> 기계70%, 인력30% | D22: =일위대가!D22 -> ㎥ | E22: =일위대가!E22 -> 38 | F22: =일위대가!L22 -> 0 | G22: =일위대가!M22 -> 0
A23: =일위대가!A23 -> 2-3 | B23: =일위대가!B23 -> 노면 청소(야간) | C23: =일위대가!C23 -> 열화면처리, 절삭면 청소 및 버럭모으기 | D23: =일위대가!D23 -> ㎡ | E23: =일위대가!E23 -> 127 | F23: =일위대가!L23 -> 0 | G23: =일위대가!M23 -> 0
A24: =일위대가!A24 -> 2-4 | B24: =일위대가!B24 -> 사토(야간) | D24: =일위대가!D24 -> ㎥ | E24: =일위대가!E24 -> 38 | F24: =일위대가!L24 -> 0 | G24: =일위대가!M24 -> 0
A25: =일위대가!A25 -> 2-5 | B25: =일위대가!B25 -> 비닐 깔기(야간) | C25: =일위대가!C25 -> t=0.08㎜ | D25: =일위대가!D25 -> ㎡ | E25: =일위대가!E25 -> 127 | F25: =일위대가!L25 -> 0 | G25: =일위대가!M25 -> 0
A26: =일위대가!A26 -> 2-6 | B26: =일위대가!B26 -> TIE BAR 설치(야간) | C26: =일위대가!C26 -> D=19㎜,L=400㎜,A=450㎜ | D26: =일위대가!D26 -> EA | E26: =일위대가!E26 -> 141 | F26: =일위대가!L26 -> 0 | G26: =일위대가!M26 -> 0
A27: =일위대가!A27 -> 2-7 | B27: =일위대가!B27 -> DOWEL BAR 설치(야간) | C27: =일위대가!C27 -> TYPE 2-1 | D27: =일위대가!D27 -> m | E27: =일위대가!E27 -> 22 | F27: =일위대가!L27 -> 0 | G27: =일위대가!M27 -> 0
A28: =일위대가!A28 -> 2-8 | B28: =일위대가!B28 -> 콘크리트 포장포설(모빌카사용, 초속경) | D28: =일위대가!D28 -> ㎥ | E28: =일위대가!E28 -> 38 | F28: =일위대가!L28 -> 0 | G28: =일위대가!M28 -> 0
A29: =일위대가!A29 -> 2-9 | B29: =일위대가!B29 -> 줄눈설치(야간) | D29: =일위대가!D29 -> m | E29: =일위대가!E29 -> 233 | F29: =일위대가!L29 -> 0 | G29: =일위대가!M29 -> 0
A30: =일위대가!A30 -> 2-10 | B30: =일위대가!B30 -> 교통관리비 | C30: =일위대가!C30 -> 단기공사(TMA1, 60km/hr) | D30: =일위대가!D30 -> 회 | E30: =일위대가!E30 -> 5 | F30: =일위대가!L30 -> 0 | G30: =일위대가!M30 -> 0
A31: =일위대가!A31 -> 2-11 | B31: =일위대가!B31 -> 야간조명시설 | C31: =일위대가!C31 -> 야간 | D31: =일위대가!D31 -> 회 | E31: =일위대가!E31 -> 5 | F31: =일위대가!L31 -> 0 | G31: =일위대가!M31 -> 0
A32: 1-12 | B32: =일위대가!B32 -> 중기운반비(야간) | C32: 야간 | D32: =일위대가!D32 -> 회 | E32: =일위대가!E32 -> 5 | F32: =일위대가!L32 -> 0 | G32: =일위대가!M32 -> 0
A33: =일위대가!A33 -> 3 | B33: =일위대가!B33 -> 부대공 | G33: =일위대가!M33 -> 0
A34: =일위대가!A34 -> 3-1 | B34: =일위대가!B34 -> 폐기물 상차 | C34: =일위대가!C34 -> 폐아스콘 | D34: =일위대가!D34 -> m3 | E34: =일위대가!E34 -> 44 | F34: =일위대가!L34 -> 0 | G34: =일위대가!M34 -> 0
A35: =일위대가!A35 -> 3-2 | B35: =일위대가!B35 -> 폐기물 상차 | C35: =일위대가!C35 -> 폐콘크리트 | D35: =일위대가!D35 -> m3 | E35: =일위대가!E35 -> 38 | F35: =일위대가!L35 -> 0 | G35: =일위대가!M35 -> 0

Sheet 일위대가
A1: 일 위 대 가 표
A2: =집계표!A3 -> 공사명 : 수도권제1순환(일산~퇴계원간)고속도로 2026년 길어깨 포장 보수 공사
A3: 번호 | B3: 공 종 | C3: 규 격 | D3: 단위 | E3: 수량 | F3: 재 료 비 (원) | H3: 노 무 비 (원) | J3: 경 비 (원) | L3: 합 계 (원)
F4: 단가 | G4: 금 액 | H4: 단가 | I4: 금 액 | J4: 단가 | K4: 금 액 | L4: 단가 | M4: 금 액
B5: 직접공사비 계 | G5: =G6+G20+G33 -> 0 | I5: =I6+I20+I33 -> 0 | K5: =K6+K20+K33 -> 0 | M5: =M6+M20+M33 -> 0
A6: 1 | B6: 길어깨포장보수 | G6: =SUM(G7:G19) -> 0 | I6: =SUM(I7:I19) -> 0 | K6: =SUM(K7:K19) -> 0 | M6: =SUM(M7:M19) -> 0
A7: 1-1 | B7: 아스팔트포장절단 | C7: 기계 | D7: m | E7: 773 | G7: =INT(E7*F7) -> 0 | I7: =INT(E7*H7) -> 0 | K7: =INT(E7*J7) -> 0 | L7: =F7+H7+J7 -> 0 | M7: =G7+I7+K7 -> 0
A8: 1-2 | B8: 아스팔트포장깨기(기계), 30㎝미만 | C8: 대형브레이카+백호우0.7M3 | D8: m3 | E8: 44 | G8: =INT(E8*F8) -> 0 | I8: =INT(E8*H8) -> 0 | K8: =INT(E8*J8) -> 0 | L8: =F8+H8+J8 -> 0 | M8: =G8+I8+K8 -> 0
A9: 1-3 | B9: 터파기(토사,백호우 0.4 M3) | C9: 기계80%+인력20% | D9: m3 | E9: 141 | G9: =INT(E9*F9) -> 0 | I9: =INT(E9*H9) -> 0 | K9: =INT(E9*J9) -> 0 | L9: =F9+H9+J9 -> 0 | M9: =G9+I9+K9 -> 0
A10: 1-4 | B10: 면고르기 | D10: m2 | E10: 581 | G10: =INT(E10*F10) -> 0 | I10: =INT(E10*H10) -> 0 | K10: =INT(E10*J10) -> 0 | L10: =F10+H10+J10 -> 0 | M10: =G10+I10+K10 -> 0
A11: 1-5 | B11: 보조기층 다짐(콘크리트포장) | C11: 비닐깔기 포함 | D11: m2 | E11: 581 | G11: =INT(E11*F11) -> 0 | I11: =INT(E11*H11) -> 0 | K11: =INT(E11*J11) -> 0 | L11: =F11+H11+J11 -> 0 | M11: =G11+I11+K11 -> 0
A12: 1-6 | B12: 흙운반(리핑암사토) | C12: 15 TON | D12: m3 | E12: 141 | G12: =INT(E12*F12) -> 0 | I12: =INT(E12*H12) -> 0 | K12: =INT(E12*J12) -> 0 | L12: =F12+H12+J12 -> 0 | M12: =G12+I12+K12 -> 0
A13: 1-7 | B13: Tie Bar 설치(D=16㎜) | C13: L=800㎜, A=750㎜ | D13: EA | E13: 509 | G13: =INT(E13*F13) -> 0 | I13: =INT(E13*H13) -> 0 | K13: =INT(E13*J13) -> 0 | L13: =F13+H13+J13 -> 0 | M13: =G13+I13+K13 -> 0
A14: 1-8 | B14: DOWEL BAR 설치(TYPE 2 - 1) | D14: m | E14: 99 | G14: =INT(E14*F14) -> 0 | I14: =INT(E14*H14) -> 0 | K14: =INT(E14*J14) -> 0 | L14: =F14+H14+J14 -> 0 | M14: =G14+I14+K14 -> 0
A15: 1-9 | B15: 콘크리트 포장포설(모빌카사용,초속경) | D15: m3 | E15: 174 | G15: =INT(E15*F15) -> 0 | I15: =INT(E15*H15) -> 0 | K15: =INT(E15*J15) -> 0 | L15: =F15+H15+J15 -> 0 | M15: =G15+I15+K15 -> 0
A16: 1-10 | B16: 줄눈설치 | C16: 6 * 75㎜ | D16: m | E16: 479 | G16: =INT(E16*F16) -> 0 | I16: =INT(E16*H16) -> 0 | K16: =INT(E16*J16) -> 0 | L16: =F16+H16+J16 -> 0 | M16: =G16+I16+K16 -> 0
A17: 1-11 | B17: 교통관리비(단기, 최외측 2개차로 차단) | C17: 야간 | D17: 회 | E17: 20 | G17: =INT(E17*F17) -> 0 | I17: =INT(E17*H17) -> 0 | K17: =INT(E17*J17) -> 0 | L17: =F17+H17+J17 -> 0 | M17: =G17+I17+K17 -> 0
A18: 1-12 | B18: 야간조명시설 | C18: 야간 | D18: 회 | E18: 20 | G18: =INT(E18*F18) -> 0 | I18: =INT(E18*H18) -> 0 | K18: =INT(E18*J18) -> 0 | L18: =F18+H18+J18 -> 0 | M18: =G18+I18+K18 -> 0
A19: 1-13 | B19: 중기운반비(야간) | C19: 트레일러20톤 | D19: 회 | E19: 20 | G19: =INT(E19*F19) -> 0 | I19: =INT(E19*H19) -> 0 | K19: =INT(E19*J19) -> 0 | L19: =F19+H19+J19 -> 0 | M19: =G19+I19+K19 -> 0
A20: 2 | B20: 콘크리트포장 전단면보수 | G20: =SUM(G21:G32) -> 0 | I20: =SUM(I21:I32) -> 0 | K20: =SUM(K21:K32) -> 0 | M20: =SUM(M21:M32) -> 0
A21: 2-1 | B21: 콘크리트포장 절단(야간) | C21: t=30㎝ | D21: m | E21: 214 | G21: =INT(E21*F21) -> 0 | I21: =INT(E21*H21) -> 0 | K21: =INT(E21*J21) -> 0 | L21: =F21+H21+J21 -> 0 | M21: =G21+I21+K21 -> 0
A22: 2-2 | B22: 콘크리트 포장깨기(야간) | C22: 기계70%, 인력30% | D22: ㎥ | E22: 38 | G22: =INT(E22*F22) -> 0 | I22: =INT(E22*H22) -> 0 | K22: =INT(E22*J22) -> 0 | L22: =F22+H22+J22 -> 0 | M22: =G22+I22+K22 -> 0
A23: 2-3 | B23: 노면 청소(야간) | C23: 열화면처리, 절삭면 청소 및 버럭모으기 | D23: ㎡ | E23: 127 | G23: =INT(E23*F23) -> 0 | I23: =INT(E23*H23) -> 0 | K23: =INT(E23*J23) -> 0 | L23: =F23+H23+J23 -> 0 | M23: =G23+I23+K23 -> 0
A24: 2-4 | B24: 사토(야간) | C24: 콘크리트포장, 적재 B/H 0.7 | D24: ㎥ | E24: 38 | G24: =INT(E24*F24) -> 0 | I24: =INT(E24*H24) -> 0 | K24: =INT(E24*J24) -> 0 | L24: =F24+H24+J24 -> 0 | M24: =G24+I24+K24 -> 0
A25: 2-5 | B25: 비닐 깔기(야간) | C25: t=0.08㎜ | D25: ㎡ | E25: 127 | G25: =INT(E25*F25) -> 0 | I25: =INT(E25*H25) -> 0 | K25: =INT(E25*J25) -> 0 | L25: =F25+H25+J25 -> 0 | M25: =G25+I25+K25 -> 0
A26: 2-6 | B26: TIE BAR 설치(야간) | C26: D=19㎜,L=400㎜,A=450㎜ | D26: EA | E26: 141 | G26: =INT(E26*F26) -> 0 | I26: =INT(E26*H26) -> 0 | K26: =INT(E26*J26) -> 0 | L26: =F26+H26+J26 -> 0 | M26: =G26+I26+K26 -> 0
A27: 2-7 | B27: DOWEL BAR 설치(야간) | C27: TYPE 2-1 | D27: m | E27: 22 | G27: =INT(E27*F27) -> 0 | I27: =INT(E27*H27) -> 0 | K27: =INT(E27*J27) -> 0 | L27: =F27+H27+J27 -> 0 | M27: =G27+I27+K27 -> 0
A28: 2-8 | B28: 콘크리트 포장포설(모빌카사용, 초속경) | C28: t=30㎝ | D28: ㎥ | E28: 38 | G28: =INT(E28*F28) -> 0 | I28: =INT(E28*H28) -> 0 | K28: =INT(E28*J28) -> 0 | L28: =F28+H28+J28 -> 0 | M28: =G28+I28+K28 -> 0
A29: 2-9 | B29: 줄눈설치(야간) | C29: B=6㎜, T=75㎜ | D29: m | E29: 233 | G29: =INT(E29*F29) -> 0 | I29: =INT(E29*H29) -> 0 | K29: =INT(E29*J29) -> 0 | L29: =F29+H29+J29 -> 0 | M29: =G29+I29+K29 -> 0
A30: 2-10 | B30: 교통관리비 | C30: 단기공사(TMA1, 60km/hr) | D30: 회 | E30: 5 | G30: =INT(E30*F30) -> 0 | I30: =INT(E30*H30) -> 0 | K30: =INT(E30*J30) -> 0 | L30: =F30+H30+J30 -> 0 | M30: =G30+I30+K30 -> 0
A31: 2-11 | B31: 야간조명시설 | C31: 야간 | D31: 회 | E31: 5 | G31: =INT(E31*F31) -> 0 | I31: =INT(E31*H31) -> 0 | K31: =INT(E31*J31) -> 0 | L31: =F31+H31+J31 -> 0 | M31: =G31+I31+K31 -> 0
A32: 2-12 | B32: 중기운반비(야간) | C32: 트레일러20톤 | D32: 회 | E32: 5 | G32: =INT(E32*F32) -> 0 | I32: =INT(E32*H32) -> 0 | K32: =INT(E32*J32) -> 0 | L32: =F32+H32+J32 -> 0 | M32: =G32+I32+K32 -> 0
A33: 3 | B33: 부대공 | G33: =SUM(G34:G35) -> 0 | I33: =SUM(I34:I35) -> 0 | K33: =SUM(K34:K35) -> 0 | M33: =SUM(M34:M35) -> 0
A34: 3-1 | B34: 폐기물 상차 | C34: 폐아스콘 | D34: m3 | E34: 44 | G34: =INT(E34*F34) -> 0 | I34: =INT(E34*H34) -> 0 | K34: =INT(E34*J34) -> 0 | L34: =F34+H34+J34 -> 0 | M34: =G34+I34+K34 -> 0
A35: 3-2 | B35: 폐기물 상차 | C35: 폐콘크리트 | D35: m3 | E35: 38 | G35: =INT(E35*F35) -> 0 | I35: =INT(E35*H35) -> 0 | K35: =INT(E35*J35) -> 0 | L35: =F35+H35+J35 -> 0 | M35: =G35+I35+K35 -> 0
