Workbook
Name _: "="
Name ____NEW1: #N/A
Name ____NEW2: #N/A
Name ____NEW3: #N/A
Name ____NEW5: #N/A
Name ___NEW1: #N/A
Name ___NEW2: #N/A
Name ___NEW3: #N/A
Name ___NEW5: #N/A
Name __DemandLoad: TRUE
Name __IntlFixup: TRUE
Name __NEW1: #N/A
Name __NEW2: #N/A
Name __NEW3: #N/A
Name __NEW5: #N/A
Name __W1: #REF!
Name _70a1_: BlankMacro1
Name _70a1_: BlankMacro1
Name _eee1: BlankMacro1
Name _eee1: BlankMacro1
Name _lll1: BlankMacro1
Name _lll1: BlankMacro1
Name _NEW1: #N/A
Name _NEW2: #N/A
Name _NEW3: #N/A
Name _NEW5: #N/A
Name _O: "○"
Name _Regression_Int: 1
Name _tt1: "tt1"
Name _W1: #REF!
Name \1: #REF!
Name \2: #REF!
Name \3: #REF!
Name \A: #REF!
Name \c: #REF!
Name \d: #REF!
Name \r: #REF!
Name \V: #REF!
Name \x: #REF!
Name \z: #REF!
Name aaaaaaa: {"Book1","상동3BL옥외설계계산서(1차검토분).xls"}
Name aaaaaaa: {"Book1","상동3BL옥외설계계산서(1차검토분).xls"}
Name acti_day: #REF!
Name acti_month: #REF!
Name acti_monthday: #REF!
Name acti_year: #REF!
Name ActiLen: #REF!
Name Activity: #REF!
Name ActR: #REF!
Name ActR_h: #REF!
Name ACWP: #REF!
Name ADC: {"'매출계획'!$D$2"}
Name ADC: {"'매출계획'!$D$2"}
Name ADG: {"'매출계획'!$D$2"}
Name ADG: {"'매출계획'!$D$2"}
Name AE_LB_pnt: #REF!
Name AE_ListBlk: #REF!
Name Amount_h: #REF!
Name anal_ij: #REF!
Name anscount: 1

Sheet 신월곡1구역(총공사비)
A1: [별지 제1호 서식]
A2: 총사업비 산출 총괄표
H3: 단위 : 천원
A4: 구 분 | D4: 전 체 | E4: 감리대상 (건축) | F4: 감리대상 (전기) | G4: 타법감리 (정보통신,소방) | H4: 감리제외 | O4: 기존 | P4: 현재 | Q4: 비고
A5: 총공사비 | B5: 순공사비 | C5: 토목공사 | D5: =SUM(E5:H5) -> 55385610 | E5: ='총공사비 구성현황표(건축)'!F21 -> 55385610 | H5: 0 | J5: 도급공사비 | L5: =P9 -> 994180.64 | N5: 연면적 | O5: =O6+O7 -> 137178 | P5: =P6+P7 -> 144503 | Q5: 장애인 승강기 연면적 포함
C6: 건축공사 | D6: =SUM(E6:H6) -> 5.306327e+08 | E6: ='총공사비 구성현황표(건축)'!F45 -> 5.306327e+08 | H6: 0 | J6: 순공사비 | L6: 793610.48 | N6: 사업개요 | O6: 131541 | P6: 136893
C7: 기계설비공사 | D7: =SUM(E7:H7) -> 94340285 | E7: ='총공사비 구성현황표(건축)'!F55 -> 94340285 | H7: 0 | J7: 사업경비 | K7: 철거비 | L7: 12867 | N7: E/V 연면적 | O7: 5637 | P7: 7610
C8: 전기공사 | D8: =SUM(E8:H8) -> 49742033 | E8: 0 | F8: ='총공사비 구성현황표(건축)'!H56 -> 49742033 | H8: 0 | K8: 분양경비 | L8: 13203 | N8: 평단가 | O8: 6.88 | P8: 6.88
C9: 정보통신공사 | D9: =SUM(E9:H9) -> 13287845 | E9: 0 | G9: ='총공사비 구성현황표(건축)'!H57 -> 13287845 | H9: 0 | K9: 금융비용 | L9: 100323 | N9: 총액 | O9: 943831.19 | P9: =P5*P8 -> 994180.64
C10: 소방설비공사 | D10: =SUM(E10:H10) -> 50222003 | E10: 0 | G10: ='총공사비 구성현황표(건축)'!H58 -> 50222003 | H10: 0 | K10: 기타 | L10: 27111
C11: 소 계 | D11: =SUM(E11:H11) -> 793610476 | E11: =SUM(E5:E10) -> 6.803586e+08 | F11: =SUM(F5:F10) -> 49742033 | G11: =SUM(G5:G10) -> 63509848 | H11: =SUM(H5:H10) -> 0 | K11: 소계 | L11: =SUM(L7:L10) -> 153504
B12: 일반관리비 | D12: =SUM(E12:H12) -> 35712471 | E12: ='총공사비 구성현황표(건축)'!F60 -> 30616471 | F12: ='총공사비 구성현황표(전기)'!F45 -> 2238000 | G12: 2858000 | J12: 일반관리비 | L12: =L6*4.5% -> 35712.471
B13: 이 윤 | D13: =SUM(E13:H13) -> 11353693 | E13: ='총공사비 구성현황표(건축)'!F61 -> 9733692.6 | F13: ='총공사비 구성현황표(전기)'!F46 -> 712000 | G13: 908000 | J13: 이윤 | L13: 11353.693
B14: 소 계 | D14: =SUM(E14:H14) -> 840676640 | E14: =SUM(E11:E13) -> 7.2070876e+08 | F14: =SUM(F11:F13) -> 52692033 | G14: =SUM(G11:G13) -> 67275848 | H14: =SUM(H11:H13) -> 0 | J14: 계 | L14: =L6+L11+L12+L13 -> 994180.64
A15: 간접비 | B15: 설계비 | D15: =SUM(E15:H15) -> 15694430 | E15: 0 | H15: 15694430 | L15: =L5-L14 -> 0
B16: 감리비 | D16: =SUM(E16:H16) -> 14482195 | E16: 0 | H16: 14482195
B17: 일반분양시설경비 | D17: =SUM(E17:H17) -> 13203000 | E17: 0 | H17: 13203000
B18: 분담금 및 부담금 | D18: =SUM(E18:H18) -> -182760823 | E18: 0 | H18: -182760823
B19: 보상비 | D19: =SUM(E19:H19) -> 10649764 | E19: 0 | H19: =7841604+284160+2524000 -> 10649764
B20: 기타사업성경비 | D20: =SUM(E20:H20) -> 236230547 | E20: 0 | H20: 236230547
B21: 소 계 | D21: =SUM(E21:H21) -> 107499113 | E21: =SUM(E15:E20) -> 0 | H21: =SUM(H15:H20) -> 107499113
A22: 대 지 비 | D22: =SUM(E22:H22) -> 121922695 | E22: 0 | H22: 121922695
A23: 부가가치세액 | D23: =SUM(E23:H23) -> 48000000 | E23: 0 | H23: 48000000
A24: 총 사 업 비 계 | D24: =D14+D21+D22+D23 -> 1118098448 | E24: =E14+E21+E22+E23 -> 7.2070876e+08 | F24: =F14+F21+F22+F23 -> 52692033 | G24: =G14+G21+G22+G23 -> 67275848 | H24: =H14+H21+H22+H23 -> 277421808
A25: 주 1. 순공사비란 : 재료비,노무비,경비를 합한 금액임
A26: 2. 일반관리비와 이윤에 대한 정의 및 산정방법은 "원가계산에 의한 예정가격 작성준칙(예산회계)"에 따름
A27: 3. 부가가치 세액의 정의와 산정방법은 "부가가치세법"에 따름
A28: 4. 간접비란 사업비 중 총 공사비를 제외한 설계비,감리비, 일반분양시설 경비등 사업비성 경비를 말하며, 세부
A29: 비목은 다음과 같음
A30: - 일반 분양시설 경비 : 시공비,운영비,광고홍보비
A31: - 분담금 및 부담금 : 인입분담금(가스,전기,수도,지역난방),진입도로,학교용지확보 부담금
D32: 2683414.8
A33: - 보상비 : 이주대책비,이주보상비
A34: - 기타 사업비성 경비 : 제세공과금,측량.교통.환경영향평가 수수료,취득세,등록세,건물 보존등기비 및 입주관
A35: 리비,분양.임대보증 및 하자 보증수수료등 기타 사업성 경비
A36: - 대지비 : 대지구입비,대지구입관련 금융비용 및 제세공과금

Sheet 총공사비 구성현황표(건축)
A3: 공종별 총공사비 구성 현황표
A5: 공사명 : 신월곡제1구역도시환경정비사업 | H5: 단위:천원
A7: 구 분 | B7: 분 야 | C7: 공 종 | E7: 전 체 | F7: 감리대상 | G7: 감리제외 | H7: 타법감리
B8: 토 목 | C8: 토공사 | E8: 33376495 | F8: 33376495 | G8: 0 | H8: 0
B9: (13개 공종) | C9: 흙막이 공사 | E9: 13183905 | F9: 13183905 | G9: 0 | H9: 0
C10: 비탈면보호공사 | E10: 0 | F10: 0 | G10: 0 | H10: 0
C11: 옹벽공사 | E11: 0 | F11: 0 | G11: 0 | H11: 0
C12: 석축공사 | E12: 0 | F12: 0 | G12: 0 | H12: 0
C13: 우,오수공사 | E13: 797523.15 | F13: 797523.15 | G13: 0 | H13: 0
C14: 공동구 공사 | E14: 0 | F14: 0 | G14: 0 | H14: 0
C15: 지하저수조 및 급수공사 | E15: 0 | F15: 0 | G15: 0 | H15: 0
C16: 도로포장공사 | E16: 664440.22 | F16: 664440.22 | G16: 0 | H16: 0
C17: 교통안전시설물공사 | E17: 0 | F17: 0 | G17: 0 | H17: 0
C18: 정화조시설공사 | E18: 0 | F18: 0 | G18: 0 | H18: 0
C19: 조경공사 | E19: 6565723.9 | F19: 6565723.9 | G19: 0 | H19: 0
C20: 부대시설공사 | E20: 797523.15 | F20: 797523.15 | G20: 0 | H20: 0
C21: 소 계 | E21: 55385610 | F21: 55385610 | G21: 0 | H21: 0
B22: 건 축 | C22: 공통가설공사 | E22: 21868263 | F22: 21868263 | G22: 0 | H22: 0
B23: (23개 공종) | C23: 가시설물공사 | E23: 23936384 | F23: 23936384 | G23: 0 | H23: 0
C24: 지정 및 기초공사 | E24: 19766143 | F24: 19766143 | G24: 0 | H24: 0
C25: 철골공사 | E25: 80589680 | F25: 80589680 | G25: 0 | H25: 0
C26: 철근콘크리트공사 | E26: 2.2032336e+08 | F26: 2.2032336e+08 | G26: 0 | H26: 0
C27: 용접공사 | E27: 814037.13 | F27: 814037.13 | G27: 0 | H27: 0
C28: 조적공사 | E28: 4108306 | F28: 4108306 | G28: 0 | H28: 0
C29: 미장공사 | E29: 13268475 | F29: 13268475 | G29: 0 | H29: 0
C30: 단열공사 | E30: 3832190.2 | F30: 3832190.2 | G30: 0 | H30: 0
C31: 방수,방습공사 | E31: 4836641.4 | F31: 4836641.4 | G31: 0 | H31: 0
C32: 목공사 | E32: 15091217 | F32: 15091217 | G32: 0 | H32: 0
A33: 순공사비 | C33: 가구공사 | E33: 15444169 | F33: 15444169 | G33: 0 | H33: 0
C34: 금속공사 | E34: 4990856.9 | F34: 4990856.9 | G34: 0 | H34: 0
C35: 지붕 및 홈통공사 | E35: 4478633.8 | F35: 4478633.8 | G35: 0 | H35: 0
C36: 창호공사 | E36: 23547239 | F36: 23547239 | G36: 0 | H36: 0
C37: 유리공사 | E37: 7766768.6 | F37: 7766768.6 | G37: 0 | H37: 0
C38: 타일공사 | E38: 6550797.7 | F38: 6550797.7 | G38: 0 | H38: 0
C39: 돌공사 | E39: 24076595 | F39: 24076595 | G39: 0 | H39: 0
C40: 도장공사 | E40: 7470096.6 | F40: 7470096.6 | G40: 0 | H40: 0
C41: 도배공사 | E41: 2518355.4 | F41: 2518355.4 | G41: 0 | H41: 0
C42: 수장공사 | E42: 5373476.4 | F42: 5373476.4 | G42: 0 | H42: 0
C43: 주방용구공사 | E43: 10296112 | F43: 10296112 | G43: 0 | H43: 0
C44: 잡공사 | E44: 9684904.6 | F44: 9684904.6 | G44: 0 | H44: 0
C45: 소 계 | E45: 5.306327e+08 | F45: 5.306327e+08 | G45: 0 | H45: 0
B46: 기계설비 | C46: 급수시설공사 | E46: 9879672.3 | F46: 9879672.3 | G46: 0 | H46: 0
B47: (9개 공종) | C47: 급탕시설공사 | E47: 2657891.3 | F47: 2657891.3 | G47: 0 | H47: 0
C48: 오배수 및 통기설비공사 | E48: 6714674.6 | F48: 6714674.6 | G48: 0 | H48: 0
C49: 위생기구공사 | E49: 7647913.5 | F49: 7647913.5 | G49: 0 | H49: 0
C50: 승강기기계공사 | E50: 29126599 | F50: 29126599 | G50: 0 | H50: 0
C51: 난방설비공사 | E51: 6065991.9 | F51: 6065991.9 | G51: 0 | H51: 0
C52: 가스설비공사 | E52: 2406187.2 | F52: 2406187.2 | G52: 0 | H52: 0
C53: 자동제어설비공사 | E53: 2909040.9 | F53: 2909040.9 | G53: 0 | H53: 0
C54: 특수설비공사 | E54: 26932314 | F54: 26932314 | G54: 0 | H54: 0
C55: 소 계 | E55: 94340285 | F55: 94340285 | G55: 0 | H55: 0
B56: 전기공사 | E56: 49742033 | F56: 0 | G56: 0 | H56: 49742033
B57: 정보통신공사 | E57: 13287845 | F57: 0 | G57: 0 | H57: 13287845
B58: 소방설비공사 | E58: 50222003 | F58: 0 | G58: 0 | H58: 50222003
A59: 합 계 | E59: 793610476 | F59: 6.803586e+08 | G59: 0 | H59: 1.1325188e+08
A60: 일반관리비 | E60: 35712471 | F60: 30616471 | H60: 5096000
A61: 이 윤 | E61: 11353693 | F61: 9733692.6 | H61: 1620000
A62: 총공사비계 | E62: =E59+E60+E61 -> 840676640 | F62: =F59+F60+F61 -> 7.2070876e+08 | G62: =G59+G60+G61 -> 0 | H62: =H59+H60+H61 -> 1.1996788e+08
D63: 도급계약금액 | E63: 943831193
D64: 금융비용 | E64: 86151129
D65: 분양경비 | E65: 13203000
D66: 기타사업비 | E66: 29423189
D67: 사업경비 | E67: =SUM(E64:E66) -> 128777318

Sheet 총공사비 구성현황표(전기)
A3: 공종별 총공사비 구성 현황표(전기)
A5: 공사명 : 신월곡제1구역도시환경정비사업 | H5: 단위:천원
A7: 구 분 | B7: 분 야 | C7: 공 종 | E7: 전 체 | F7: 감리대상 | G7: 감리제외 | H7: 타법감리
A8: 순공사비 | B8: 토 목 | C8: 13개 공종 | E8: 55385610 | F8: 0 | G8: 0 | H8: 55385610
B9: 건 축 | C9: 23개 공종 | E9: 5.306327e+08 | F9: 0 | G9: 0 | H9: 5.306327e+08
B10: 기계설비 | C10: 9개 공종 | E10: 94340285 | F10: 0 | G10: 0 | H10: 94340285
B11: 전기공사 | C11: 전기인입공사 | E11: 2671706 | F11: 2671706 | G11: 0 | H11: 0
C12: 수배전공사 | E12: 2983275.6 | F12: 2983275.6 | G12: 0 | H12: 0
C13: 변압기설치공사 | E13: 1986254.3 | F13: 1986254.3 | G13: 0 | H13: 0
C14: 발전기설치공사 | E14: 1121649.5 | F14: 1121649.5 | G14: 0 | H14: 0
C15: 동력설비공사 | E15: 919128.9 | F15: 919128.9 | G15: 0 | H15: 0
C16: 배관배선공사 | E16: 15991293 | F16: 15991293 | G16: 0 | H16: 0
C17: 전등설치공사 | E17: 6309277.5 | F17: 6309277.5 | G17: 0 | H17: 0
C18: 전열설치공사 | E18: 3388316 | F18: 3388316 | G18: 0 | H18: 0
C19: 전력간선공사 | E19: 7384191.2 | F19: 7384191.2 | G19: 0 | H19: 0
C20: Cable Tray공사 | E20: 1674684.7 | F20: 1674684.7 | G20: 0 | H20: 0
C21: Race Way공사 | E21: 2523711.2 | F21: 2523711.2 | G21: 0 | H21: 0
C22: 부스덕트공사 | E22: 1043757.1 | F22: 1043757.1 | G22: 0 | H22: 0
C23: 보안등설치공사 | E23: 482932.76 | F23: 482932.76 | G23: 0 | H23: 0
... C26: 소 계 | E26: 49742033 | F26: 49742033 | G26: 0 | H26: 0
B27: 정보통신공사 | C27: 세대통신공사 | E27: 3426178.8 | F27: 0 | G27: 0 | H27: 3426178.8
C28: 원격검침공사 | E28: 386476.63 | F28: 0 | G28: 0 | H28: 386476.63
C29: 통신장비공사 | E29: 2488214.4 | F29: 0 | G29: 0 | H29: 2488214.4
C30: TV공사 | E30: 356079.82 | F30: 0 | G30: 0 | H30: 356079.82
C31: 무인경비공사 | E31: 1758685.1 | F31: 0 | G31: 0 | H31: 1758685.1
C32: 세대방송공사 | E32: 34739.454 | F32: 0 | G32: 0 | H32: 34739.454
C33: CCTV공사 | E33: 894541.35 | F33: 0 | G33: 0 | H33: 894541.35
C34: 주차관제공사 | E34: 1341811.6 | F34: 0 | G34: 0 | H34: 1341811.6
C35: 주차장 방송공사 | E35: 138957.81 | F35: 0 | G35: 0 | H35: 138957.81
C36: 주차장통신공사 | E36: 950993.18 | F36: 0 | G36: 0 | H36: 950993.18
C37: 옥외통신공사 | E37: 455955.54 | F37: 0 | G37: 0 | H37: 455955.54
C38: 특화공사(홈IoT,CCTV) | E38: 230149.09 | F38: 0 | G38: 0 | H38: 230149.09
C39: 특화공사(FMS+EMS) | E39: 825062.45 | F39: 0 | G39: 0 | H39: 825062.45
C40: 소 계 | E40: 13287845 | F40: 0 | G40: 0 | H40: 13287845 | J40: =SUM(J27:J39) -> 0
B41: 소방설비공사 | C41: 소방공사 | E41: 45031560 | F41: 0 | G41: 0 | H41: 45031560
C42: 무선통신보조설비공사 | E42: 5190442.6 | F42: 0 | G42: 0 | H42: 5190442.6
C43: 소 계 | E43: 50222003 | F43: 0 | G43: 0 | H43: 50222003
A44: 합 계 | E44: 793610476 | F44: 49742033 | G44: 0 | H44: 7.4386844e+08
A45: 일반관리비 | E45: 35712471 | F45: 2238000 | H45: 33474471
A46: 이 윤 | E46: 11353693 | F46: 712000 | H46: 10641693
A47: 총공사비계 | E47: =E44+E45+E46 -> 840676640 | F47: =F44+F45+F46 -> 52692033 | G47: =G44+G45+G46 -> 0 | H47: =H44+H45+H46 -> 7.8798461e+08

Sheet 총공사비 구성현황표(소방)
A3: 공종별 총공사비 구성 현황표(소방)
A5: 공사명 : 신월곡제1구역도시환경정비사업 | H5: 단위:천원
A7: 구 분 | B7: 분 야 | C7: 공 종 | E7: 전 체 | F7: 감리대상 | G7: 감리제외 | H7: 타법감리
A8: 순공사비 | B8: 토 목 | C8: 13개 공종 | E8: 55385610 | F8: 0 | G8: 0 | H8: 55385610
B9: 건 축 | C9: 23개 공종 | E9: 5.306327e+08 | F9: 0 | G9: 0 | H9: 5.306327e+08
B10: 기계설비 | C10: 9개 공종 | E10: 94340285 | F10: 0 | G10: 0 | H10: 94340285
B11: 전기공사 | C11: 15개 공종 | E11: 49742033 | F11: 0 | G11: 0 | H11: 49742033
B12: 정보통신공사 | C12: 13개 공종 | E12: 13287845 | F12: 0 | G12: 0 | H12: 13287845
C13: 소 계 | E13: 7.4338847e+08 | F13: 0 | G13: 0 | H13: 7.4338847e+08
B14: 소방설비공사 | C14: 소방공사 | E14: 45031560 | F14: 45031560 | G14: 0 | H14: 0
C15: 무선통신보조설비공사 | E15: 5190442.6 | F15: 5190442.6 | G15: 0 | H15: 0
C16: 소 계 | E16: 50222003 | F16: 50222003 | G16: 0 | H16: 0
A17: 합 계 | E17: 793610476 | F17: 50222003 | G17: 0 | H17: 7.4338847e+08
A18: 일반관리비 | E18: 35712471 | F18: 2260000 | H18: 33452471
A19: 이 윤 | E19: 11353693 | F19: 718000 | H19: 10641693
A20: 총공사비계 | E20: =E17+E18+E19 -> 840676640 | F20: =F17+F18+F19 -> 53200003 | G20: =G17+G18+G19 -> 0 | H20: =H17+H18+H19 -> 7.8748264e+08
