Workbook
Name _: #REF!
Name ______________LP1: #REF!
Name ______________LP2: #REF!
Name ______________LPB1: #REF!
Name ______________LPK1: #REF!
Name ______________LU1: #REF!
Name ______________LU2: #REF!
Name ______________LV01: #REF!
Name ______________UP1: #REF!
Name ______________UP2: #REF!
Name _____________LP1: #REF!
Name _____________LP2: #REF!
Name _____________LPB1: #REF!
Name _____________LPK1: #REF!
Name _____________LU1: #REF!
Name _____________LU2: #REF!
Name _____________LV01: #REF!
Name _____________UP1: #REF!
Name _____________UP2: #REF!
Name ____________LP1: #REF!
Name ____________LP2: #REF!
Name ____________LPB1: #REF!
Name ____________LPK1: #REF!
Name ____________LU1: #REF!
Name ____________LU2: #REF!
Name ____________LV01: #REF!
Name ____________UP1: #REF!
Name ____________UP2: #REF!
Name ___________LP1: #REF!
Name ___________LP2: #REF!
Name ___________LPB1: #REF!
Name ___________LPK1: #REF!
Name ___________LU1: #REF!
Name ___________LU2: #REF!
Name ___________LV01: #REF!
Name ___________UP1: #REF!
Name ___________UP2: #REF!
Name __________LP1: #REF!
Name __________LP2: #REF!
Name __________LPB1: #REF!
Name __________LPK1: #REF!
Name __________LU1: #REF!
Name __________LU2: #REF!
Name __________LV01: #REF!
Name __________UP1: #REF!
Name __________UP2: #REF!
Name _________LP1: #REF!
Name _________LP2: #REF!
Name ________LP1: #REF!
Name ________LP2: #REF!
Name ________LPB1: #REF!
Name ________LPK1: #REF!
Name ________LU1: #REF!
Name ________LU2: #REF!
Name ________LV01: #REF!
Name ________UP1: #REF!
Name ________UP2: #REF!
Name _______LP1: #REF!
Name _______LP2: #REF!
Name _______LPB1: #REF!

Sheet 건축개요
A1: 천안 성거읍 신월리 공동주택 신축공사 건축개요
A2: ● 사 업 주 체 | B2: 1. 성거개발 주식회사 대표이사 김석진(☏ 062-524-6255) 전남광주통합특별시 북구 첨단과기로208번길 43-10, 에이동 1416호 2. 주식회사 금라건설 대표이사 강청원(☏ 062-524-6255)전남광주통합특별시 북구 첨단과기로208번길 43-10, A동 3층 305호
A4: ● 설 계 자 | B4: ㈜ 건축사사무소 디와이도시건축(☏ 02-512-7781) 서울시 은평구 은평로 147, 302호(응암동, 미주빌딩)
A6: ● 시 공 자 | B6: 1. 주식회사 금라건설 대표이사 강청원(☏ 062-524-6255)전남광주통합특별시 북구 첨단과기로208번길 43-10, A동 3층 305호 2. 주식회사 금라스테이 대표이사 이창진(☏ 062-524-6255)전남광주통합특별시 북구 첨단과기로208번길 43-10, B동 146호
A8: ● 사 업 개 요
A9: ○ 위 치 | B9: 충청남도 천안시 서북구 성거읍 신월리 275-6외 9필지
A10: ○ 대 지 면 적 | B10: 26097
A11: ○ 연 면 적 | B11: 92111.3
A12: ○ 사 업 규 모 | B12: 공동주택 5개동 및 부대복리시설
A13: ○ 공 사 기 간 | B13: 2026. 11. 01. ~ 2029 07. 31. (착공일로부터 33개월)
A14: ○ 사업계획 신청일/승인일 | B14: 2022. 08. 10.
A15: ● 사 업 비 | D15: [단위:천원]
A16: ○ 총 사 업 비 | B16: ='1. 총사업비'!D25 -> 1.7574532e+08
A17: ○ 대 지 비 | B17: ='1. 총사업비'!D23 -> 22000000
A18: ○ 총 공 사 비 | B18: =B19+B20+B21+B22 -> 1.1145e+08
A19: - 감리대상 건축,토목,설비 공사비 | B19: ='1. 총사업비'!E15 -> 99792330
A20: - 감리대상 소방 공사비 | B20: ='1. 총사업비'!G15 -> 5568042
A21: - 감리대상 전기 공사비 | B21: ='1. 총사업비'!F15 -> 3490614
A22: - 타법 감리대상 공사비 | B22: ='1. 총사업비'!I15 -> 2599014

Sheet 감리비산출(건축)
A1: 충청남도 천안시 서북구 성거읍 신월리 공동주택 신축공사감리비 산출서
F2: 단위 : 천원
A3: 구 분 | D3: 내용 | I3: [표] 주택건설공사 감리비 지급기준 공사비 요율 | L3: 감리인.월수 산정
B4: 건축물의 명칭 | D4: 충청남도 천안시 서북구 성거읍 신월리 공동주택 신축공사 | I4: 총 공사비 | J4: 기준요율 | L4: 총공사비(원) | M4: 감리인.월
A5: 사업개요 | B5: 대 지 위 치 | D5: 충천남도 천안시 서북구 성거읍 신월리 275-6번지 외 9필지 | I5: 2000000000 | J5: 0.0315 | L5: 2000000000 | M5: 12.1
B6: 사업승인(변경)신청일 | D6: 44783 | E6: 사업(변경)승인일 | F6: 46286 | I6: 3000000000 | J6: 0.0305 | L6: 3000000000 | M6: 15.5
B7: 사업주체 | D7: 성거개발 주식회사 | E7: 대표이사: | F7: 김 석 진 | I7: 5000000000 | J7: 0.0298 | L7: 5000000000 | M7: 19.6
D8: 광주광역시 북구 첨단과기로208번길 43-10, A동 14층 1416호 | I8: 10000000000 | J8: 0.029 | L8: 10000000000 | M8: 38.1
D9: 주식회사 금라건설 | E9: 대표이사: | F9: 강 청 원 | I9: 15000000000 | J9: 0.0286 | L9: 15000000000 | M9: 56
D10: 광주광역시 북구 첨단과기로208번길 43-10, A동 3층 305호 | I10: 20000000000 | J10: 0.0282 | L10: 20000000000 | M10: 73.8
B11: 설계자 | D11: ㈜건축사사무소 디와이도시건축 | E11: 대표이사: | F11: 안 종 두 | I11: 30000000000 | J11: 0.0269 | L11: 30000000000 | M11: 109.9
D12: 서울시 은평구 은평로 147, 302호(응암동, 미주빌딩) | I12: 50000000000 | J12: 0.0239 | L12: 50000000000 | M12: 163.2
B13: 시공자 | D13: 주식회사 금라건설 | E13: 대표이사: | F13: 강 청 원 | I13: 100000000000 | J13: 0.0233 | L13: 100000000000 | M13: 277
D14: 광주광역시 북구 첨단과기로208번길 43-10, A동 3층 305호 | I14: 200000000000 | J14: 0.023 | L14: 200000000000 | M14: 472
D15: 주식회사 금라스테이 | E15: 대표이사: | F15: 이 창 진 | I15: 300000000000 | J15: 0.0224 | L15: 300000000000 | M15: 645.2
D16: 광주광역시 북구 첨단과기로208번길 43-10, 비동 146호
B17: 대 지 면 적 | D17: =건축개요!B10 -> 26097 | E17: 연 면 적 | F17: =건축개요!B11 -> 92111.3
B18: 규 모 | D18: =건축개요!B12 -> 공동주택 5개동 및 부대복리시설
B19: 사업기간 | D19: 2026년 11월 01일 ~ 2029년 07월 31일(33개월) | I19: 적용구간
A20: 구 분 | D20: 감리비 내역 | E20: 구 성 비 | F20: 비 고 | I20: 공사비 | J20: 기준요율 | L20: 공사비 | M20: 기준요율
A21: 총 사 업 비 | D21: =D31+D32 -> 1.7574532e+08 | E21: =E31+E32 -> 1 | I21: =I12 -> 50000000000 | J21: =J12 -> 0.0239 | L21: =L12 -> 50000000000 | M21: =M12 -> 163.2
A22: 제외공사비 | B22: 대 지 비 | D22: ='1. 총사업비'!D23 -> 22000000 | E22: =D22/$D$21 -> 0.12518114 | I22: =$D$32 -> 99792330 | J22: =J25 -> 0.023302492 | L22: =D32*1000 -> 9.979233e+10 | M22: =M25 -> 276.52734
B23: 부가가치세액 | D23: ='1. 총사업비'!D24 -> 3790065.6 | E23: =D23/$D$21 -> 0.02156567 | I23: =I13 -> 100000000000 | J23: =J13 -> 0.0233 | L23: =L13 -> 100000000000 | M23: =M13 -> 277
B24: 간 접 비 | D24: ='1. 총사업비'!D22 -> 38505256 | E24: =D24/$D$21 -> 0.2190969
B25: 감리제외대상공사비 | D25: 0 | E25: =D25/$D$21 -> 0 | I25: 감리비 요율 | J25: =J21-((I22-50000000)*(J21-J23)/(100000000-50000000)) -> 0.023302492 | L25: 감리인월수 | M25: =M23-(L23-L22)*(M23-M21)/(L23-L21) -> 276.52734
B26: 타법적용 | C26: 전력관리 | D26: ='1. 총사업비'!D9 -> 3343500 | E26: =D26/$D$21 -> 0.019024689
C27: 정보통신 | D27: ='1. 총사업비'!D10 -> 2451900 | E27: =D27/$D$21 -> 0.013951438
C28: 소 방 | D28: ='1. 총사업비'!D11 -> 5126700 | E28: =D28/$D$21 -> 0.029171189
B29: 일반관리비 | D29: ='1. 총사업비'!F13+'1. 총사업비'!G13+'1. 총사업비'!I13 -> 150056.28 | E29: =D29/$D$21 -> 0.00085382802
B30: 이 윤 | D30: ='1. 총사업비'!F14+'1. 총사업비'!G14+'1. 총사업비'!I14 -> 585513.72 | E30: =D30/$D$21 -> 0.0033316035
B31: 소 계 | D31: =SUM(D22:D30) -> 75952992 | E31: =D31/$D$21 -> 0.43217646
A32: 감리대상공사비 | D32: ='1. 총사업비'!E15 -> 99792330 | E32: =D32/$D$21 -> 0.56782354
A33: 건축감리 대가(부가세별도) | D33: =D32*F33 -> 2325410 | F33: =F42 -> 0.023302492
A34: 건축감리 대가(부가세포함) | D34: =D33*1.1 -> 2557951
A35: * 감리비 요율 직선보간 | D35: =D33*97%*1000 -> 2.2556477e+09
A36: 구 분 | D36: 감리비요율 | E36: 비 고
A37: 기준 공사비 | D37: =J21 -> 0.0239 | E37: 500억원
D38: =J23 -> 0.0233 | E38: 1000억원
A39: 감리대상 공사비 | D39: =F42 -> 0.023302492 | E39: 직선보간
A40: * 감리비 요율 산출근거
...

Sheet 감리비산출(소방)
B2: [ 소 방 감 리 용 역 비 산 출 서 ] | M2: 1. 소방감리 배치기준(소방시설공사업법 시행령 별표4), 개정2019.12.10
B6: ■ 세대수 | D6: 528 | E6: 세대 | H6: 감리비 | J6: =J34 -> 9.2732114e+08
B7: ■ 연면적 | D7: =건축개요!B11 -> 92111.3 | E7: ㎡ | F7: (책임1)
B8: ■ 소방공사기간 | D8: 25 | E8: 개월
B9: ■ 책임감리원등급 | D9: 고급감리원 | F9: (소방시설공사업법 시행령)
B11: 1. 직접인건비 | I11: \ | J11: =J12 -> 297879155
B12: 가. 상주감리원 | J12: =SUM(J13:J14) -> 297879155
B13: - 책임감리원 | D13: 고급감리원 | E13: 1 | F13: =+N30*20.3 -> 7260822.8 | G13: * | H13: =+D8 -> 25 | I13: 인월 | J13: =E13*F13*H13 -> 181520570
B14: - 보조감리원 | D14: 초급감리원 | E14: 1 | F14: =+N27*20.3 -> 4654343.4 | G14: * | H14: =+D8 -> 25 | I14: 인월 | J14: =E14*F14*H14 -> 1.1635859e+08
B16: 2.제경비 (직접인건비의 110-120%중 110%적용 ) | I16: \ | J16: =J18 -> 3.2766707e+08
F18: =J11 -> 297879155 | G18: * | H18: 1.1 | I18: \ | J18: =F18*H18 -> 3.2766707e+08
B20: 3.기술료 [(직접인건비+제경비)의 20-40%중 20%적용] | I20: \ | J20: =J22 -> 125109245
C21: ( | D21: =J11 -> 297879155 | E21: ＋ | F21: =J18 -> 3.2766707e+08 | G21: )
E22: ＝ | F22: =F21+D21 -> 6.2554623e+08 | G22: * | H22: 0.2 | I22: \ | J22: =ROUNDDOWN(F22*H22,0) -> 125109245
B25: 4.직접경비 | I25: \ | J25: =SUM(J26:J30) -> 92363746 | M25: C. 2025년도 감리원 임금(ENG 기술부문별 노임단가, 기타부분 적용)
M26: 구분 | N26: 일임금액(원) | O26: 환산비 | P26: 월인건비
B27: 가.주재비(상주 직접인건비의 30% ) | F27: =J12 -> 297879155 | G27: * | H27: 0.3 | I27: \ | J27: =ROUNDDOWN(F27*H27,0) -> 89363746 | M27: 초급감리원 | N27: 229278 | O27: =N27/N29 -> 0.75954324 | P27: =N27*20.5 -> 4700199
B28: 나.출장비(직접인건비의 30% ) | M28: 중급감리원 | N28: 261545 | O28: =N28/N29 -> 0.8664361 | P28: =N28*20.5 -> 5361672.5
M29: 고급감리원 | N29: 301863 | O29: =N29/N29 -> 1 | P29: =N29*20.5 -> 6188191.5
B30: 다.도서인쇄비 | I30: \ | J30: 3000000 | M30: 특급감리원 | N30: 357676 | O30: =N30/N29 -> 1.1848951 | P30: =N30*20.5 -> 7332358
M31: 기술사 | N31: 447658 | O31: =N31/N29 -> 1.482984 | P31: =N31*20.5 -> 9176989
B32: 소계 | C32: (1+2+3+4) | I32: \ | J32: =J11+J16+J20+J25 -> 8.4301922e+08 | M32: * 상주 월 20.3일 근무 적용 | Q32: * 일반감리 월 4.4일 근무 적용
B33: VAT | I33: \ | J33: =J32*0.1 -> 84301922 | M33: ○ 변경사항
B34: 합 계 | J34: =J32+J33 -> 9.2732114e+08 | M34: 2025년 기준 월평균 근무일 수 : 20.3일
D36: 기초가 97% | J36: =INT(+J34*0.97) -> 899501504
M39: 2023년도 | N39: 2025년도
M40: 400781 | N40: =+N31 -> 447658 | Q40: 247
M41: 325337 | N41: =+N30 -> 357676 | Q41: 365
M42: 280031 | N42: =+N29 -> 301863 | Q42: =+Q41/12 -> 30.416667
M43: 228300 | N43: =+N28 -> 261545
M44: 202067 | N44: =+N27 -> 229278 | Q44: =+Q40/12 -> 20.583333
P46: 52주 | Q46: 52
Q47: =+Q46/12 -> 4.3333333

Sheet 감리비산출(전기)
B2: * 노란색 블럭에 있는 세대수, 공사기간, 전기공사비만 입력하시기 바랍니다.
B4: [ 감 리 용 역 비 산 출 서 ]
B6: ■ 세대수 | D6: ='감리비산출(소방)'!D6 -> 528 | E6: 세대 | H6: 감리비 | J6: =J41 -> 6.2287536e+08 | N6: =ROUNDDOWN(J6*97%,0) -> 604189095
B7: ■ 공사기간 | D7: 25 | E7: 월 | F7: (전력시설물공사 기간)
B8: ■ 전기공사비 | D8: ='1. 총사업비'!F25 -> 3490614 | E8: 천원 | F8: (VAT미포함, 소방.통신제외)
B9: ■ 책임감리원등급 | D9: =N24 -> 특급감리원 | F9: (전력기술관리법시행령 별표3)
B11: 1.직접인건비 | I11: \ | J11: =J12+J16 -> 201030291 | M11: A. 상주감리인월 산출식(전력기술관리법 운영요령 별표 2의2)
B12: 가.상주감리원 | J12: =SUM(J13:J15) -> 182754810 | M12: 세대수 | N12: 책임감리원 | O12: 보조감리원 | Q12: 비 고
B13: - 책임감리원(특급) | F13: =IF(D9="특급감리원",N36,IF(D9="고급감리원",N35,N34))*20.3 -> 7310192.4 | G13: * | H13: =N13 -> 25 | I13: 인월 | J13: =F13*H13 -> 182754810 | N13: =IF(D6<800,N14,IF(D6<1200,N15,IF(D6<1600,N16,IF(D6<2000,N17,IF(D6<2400,N18,N19))))) -> 25 | O13: =IF(D6<800,O14,IF(D6<1200,O15,IF(D6<1600,O16,IF(D6<2000,O17,IF(D6<2400,O18,O20+P20))))) -> 0
B14: - 보조감리원(초급) | G14: * | H14: =H13/2*0 -> 0 | I14: 인월 | J14: =F14*H14 -> 0 | M14: 300-800미만 | N14: =D7 -> 25 | O14: =$D$7*0 -> 0 | Q14: 책임감리원
F15: =IF(D6>=2400,N35*20.3,0) -> 0 | G15: * | H15: =IF(D6<2400,0,O20) -> 0 | I15: 인월 | J15: =F15*H15 -> 0 | M15: 800-1200미만 | N15: =N14 -> 25 | O15: =$D$7*0.5 -> 12.5 | Q15: 책임감리원1인, 보조감리원 0.5인
B16: 나.비상주감리원(상주감리원 직접인건비의 10%) | F16: =J13+J14 -> 182754810 | G16: * | H16: 0.1 | I16: 인월 | J16: =F16*H16 -> 18275481 | M16: 1200-1600미만 | N16: =N15 -> 25 | O16: =$D$7*1 -> 25 | Q16: 책임감리원1인, 보조감리원 1인
M17: 1600-2000미만 | N17: =N16 -> 25 | O17: =$D$7*1.5 -> 37.5 | Q17: 책임감리원1인, 보조감리원 1.5인
B18: 2.제경비 (직접인건비의 110-120%중 110%적용 ) | I18: \ | J18: =J20 -> 2.2113332e+08 | M18: 2000-2400미만 | N18: =N17 -> 25 | O18: =$D$7*2 -> 50 | Q18: 책임감리원1인, 보조감리원 2인
M19: 2400이상 | N19: =N18 -> 25 | O19: 보조(고급) | P19: 보조(초급) | Q19: 책임감리원1인, 보조감리원 2인 이상 (1인 고급)
F20: =J11 -> 201030291 | G20: * | H20: 1.1 | I20: \ | J20: =F20*H20 -> 2.2113332e+08 | O20: =$D$7*1 -> 25 | P20: =$D$7*1.5 -> 37.5
B22: 3.기술료 [(직접인건비+제경비)의 20-40%중 20%적용] | I22: \ | J22: =J24 -> 84432722
C23: ( | D23: =J11 -> 201030291 | E23: ＋ | F23: =J20 -> 2.2113332e+08 | G23: ) | M23: B. 책임감리원 등급산출식(전력기술관리법 시행령 별표 3)
E24: ＝ | F24: =F23+D23 -> 4.2216361e+08 | G24: * | H24: 0.2 | I24: \ | J24: =ROUNDDOWN(F24*H24,0) -> 84432722 | M24: 공사비 | N24: =IF(D8<1000000,N25,IF(D8<2000000,N26,N27)) -> 특급감리원
M25: 1-10억미만 | N25: 중급감리원
M26: 10-20억미만 | N26: 고급감리원
B27: 4.직접경비 | I27: \ | J27: =SUM(J30:J37) -> 59653991 | M27: 20억이상 | N27: 특급감리원
B29: 가.주재비(상주 직접인건비의 30% )
F30: =J12 -> 182754810 | G30: * | H30: 0.3 | I30: \ | J30: =ROUNDDOWN(F30*H30,0) -> 54826443
B31: 나.출장비 (비상주 직접인건비의 10 % ) | M31: C. 2025년도 감리원 임금(전력기술관리법 운영요령 제26조제2항)
F32: =J16 -> 18275481 | G32: * | H32: 0.1 | I32: \ | J32: =ROUNDDOWN(F32*H32,0) -> 1827548 | M32: 구분 | N32: 일임금액(원) | O32: 환산비 | Q32: 비상주감리원투입비
B33: 다.현지차량운행비 | D33: (별도계상 가능) | M33: 초급감리원 | N33: 248432 | O33: =N33/N35 -> 0.79634574 | Q33: =N33*20.3*D7 -> 1.2607924e+08
M34: 중급감리원 | N34: 300452 | O34: =N34/N35 -> 0.96309522
B35: 라.현지사무원급료 | D35: (별도계상 가능) | M35: 고급감리원 | N35: 311965 | O35: 1
M36: 특급감리원 | N36: 360108 | O36: 1.14
B37: 마.도서인쇄비 | I37: \ | J37: 3000000
B39: 소계 | C39: (1+2+3+4) | I39: \ | J39: =J11+J18+J22+J27 -> 5.6625032e+08 | N39: =N35*20.5 -> 6395282.5
B40: VAT | I40: \ | J40: =J39*0.1 -> 56625032 | N40: =N36*20.6 -> 7418224.8
B41: 합 계 | D41: 300 - 399세대 | F41: 0.15 | J41: =J39+J40 -> 6.2287536e+08
B42: 조정금액 | D42: 400 - 499세대 | F42: 0.1 | I42: \ | J42: =IF(D6<400,J41*0.85,IF(D6<500,J41*0.9,J41)) -> 6.2287536e+08
B44: ※ 현지차랑운행비 및 현지사무원급료 산출방법(전력기술관리법 운영요령 별표4제3호)
B45: 다. 현지차량운행비(손료+재료비)
B46: -손료:차량가격*시간당손료계수*8h*25일*공사기간
B47: -재료비:주연료비*잡품(주연료비의 10%)
B48: 라. 현지사무원급료
...

Sheet 1. 총사업비
A1: 【별지 제1호 서식】
A2: 총사업비 산출 총괄표
A4: =건축개요!A1 -> 천안 성거읍 신월리 공동주택 신축공사 건축개요 | I4: (단위:천원)
A5: 구 분 | D5: 전 체 | E5: 감리대상(건축) | F5: 감리대상(전기) | G5: 감리대상(소방) | H5: 감리제외 | I5: 타법감리
A6: 총공사비 | B6: 순공사비 | C6: 토목공사 | D6: =SUM(E6:I6) -> 5906850 | E6: ='2. 공사비 세부내역 (최종작성)'!G11 -> 5906850 | F6: 0 | G6: 0 | H6: 0 | I6: 0
C7: 건축공사 | D7: =SUM(E7:I7) -> 81692850 | E7: ='2. 공사비 세부내역 (최종작성)'!G32 -> 81692850 | F7: 0 | G7: 0 | H7: 0 | I7: 0
C8: 기계설비공사 | D8: =SUM(E8:I8) -> 8024400 | E8: ='2. 공사비 세부내역 (최종작성)'!G42 -> 8024400 | F8: 0 | G8: 0 | H8: 0 | I8: 0
C9: 전기공사 | D9: =SUM(E9:I9) -> 3343500 | E9: 0 | F9: ='2. 공사비 세부내역 (최종작성)'!I48 -> 3343500 | G9: 0 | H9: 0 | I9: 0
C10: 정보통신공사 | D10: =SUM(E10:I10) -> 2451900 | E10: 0 | F10: 0 | G10: 0 | H10: 0 | I10: ='2. 공사비 세부내역 (최종작성)'!K49 -> 2451900
C11: 소방설비공사 | D11: =SUM(E11:I11) -> 5126700 | E11: 0 | F11: 0 | G11: ='2. 공사비 세부내역 (최종작성)'!H58 -> 5126700 | H11: 0 | I11: 0
C12: 소 계 | D12: =SUM(D6:D11) -> 1.065462e+08 | E12: =SUM(E6:E11) -> 95624100 | F12: =SUM(F6:F11) -> 3343500 | G12: =SUM(G6:G11) -> 5126700 | H12: 0 | I12: =SUM(I6:I11) -> 2451900
B13: 일반관리비 | D13: =SUM(E13:I13) -> 1000375.2 | E13: ='2. 공사비 세부내역 (최종작성)'!G60 -> 850318.92 | F13: ='2. 공사비 세부내역 (최종작성)'!I60 -> 30011.256 | G13: ='2. 공사비 세부내역 (최종작성)'!H60 -> 90033.768 | H13: 0 | I13: ='2. 공사비 세부내역 (최종작성)'!K60 -> 30011.256
B14: 이윤 | D14: =SUM(E14:I14) -> 3903424.8 | E14: ='2. 공사비 세부내역 (최종작성)'!G61 -> 3317911.1 | F14: ='2. 공사비 세부내역 (최종작성)'!I61 -> 117102.74 | G14: ='2. 공사비 세부내역 (최종작성)'!H61 -> 351308.23 | H14: 0 | I14: ='2. 공사비 세부내역 (최종작성)'!K61 -> 117102.74
B15: 소 계 | D15: =SUM(D12:D14) -> 1.1145e+08 | E15: =SUM(E12:E14) -> 99792330 | F15: =SUM(F12:F14) -> 3490614 | G15: =SUM(G12:G14) -> 5568042 | H15: =SUM(H12:H14) -> 0 | I15: =SUM(I12:I14) -> 2599014
A16: 간접비 | B16: 설계비 | D16: =E16+H16+I16 -> 604600 | E16: 0 | F16: 0 | G16: 0 | H16: 604600 | I16: 0
B17: 감리비 | D17: =E17+H17+I17 -> 2888784 | E17: 0 | F17: 0 | G17: 0 | H17: 2888784 | I17: 0
B18: 일반분양시설 경비 | D18: =E18+H18+I18 -> 10806825 | E18: 0 | F18: 0 | G18: 0 | H18: =11887507960/1000/1.1 -> 10806825 | I18: 0
B19: 분담금 및 부담금 | D19: =E19+H19+I19 -> 12885597 | E19: 0 | F19: 0 | G19: 0 | H19: =14174156352/1000/1.1 -> 12885597 | I19: 0
B20: 보상비 | D20: =E20+H20+I20 -> 0 | E20: 0 | F20: 0 | G20: 0 | H20: 0 | I20: 0
B21: 기타 사업비성 경비 | D21: =E21+H21+I21 -> 11319450 | E21: 0 | F21: 0 | G21: 0 | H21: =(16233657231/1000/1.1)-(3782262.40099999/1.1) -> 11319450 | I21: 0
B22: 소 계 | D22: =SUM(D16:D21) -> 38505256 | E22: =SUM(E16:E21) -> 0 | F22: =SUM(F16:F21) -> 0 | G22: =SUM(G16:G21) -> 0 | H22: =SUM(H16:H21) -> 38505256 | I22: =SUM(I16:I21) -> 0
A23: 대 지 비 | D23: =E23+H23+I23 -> 22000000 | H23: =사업비내역!C37 -> 22000000
A24: 부가가치세액 | D24: =E24+H24+I24 -> 3790065.6 | H24: =(H17+H18+H19+H21)*0.1 -> 3790065.6
A25: 총사업비 계 | D25: =D15+D22+D23+D24 -> 1.7574532e+08 | E25: =E15+E22+E23+E24 -> 99792330 | F25: =F15+F22+F23+F24 -> 3490614 | G25: =G15+G22+G23+G24 -> 5568042 | H25: =H15+H22+H23+H24 -> 64295322 | I25: =I15+I22+I23+I24 -> 2599014
A26: 주 1 : 순공사비란 재료비, 노무비, 경비를 합한 금액임.
A27: 2 : 일반관리비와 이윤에 대한 정의 및 산정방법은 '원가계산에 의한 예정가격작성준칙(회계예규)'에 따름
A28: 3 : 부가가치세액의 정의의 산정방법은 '부가가치세법'에 따름
A29: 4 : 간접비란 사업비 중 총공사비를 제외한 설계비, 감리비, 일반분양시설경비 등 사업비성경비를 말하며,
A30: 세부 비목은 다음과 같음.
A31: · 일반분양시설경비 : 시공비, 운영비, 광고홍보비
A32: · 분담금 및 부담금 : 인입분담금(가스, 전기, 수도, 지역난방), 진입도로, 학교용지확보부담금
A33: · 보상비 : 이주대책비, 이주보상비
A34: · 기타사업비성 경비 : 제세공과금, 측량교통환경영향평가 수수료, 취득세, 등록세, 건물보존등기비 및
A35: 입주관리비, 감정평가수수료, 분양임대보증 및 하자보증수수료 등 기타 사업경비
A36: · 대지비 : 대지구입비, 대지 구입 관련 금융비용 및 제세공과금

Sheet 2. 공사비 세부내역 (최종작성)
A1: 공종별 총공사비 구성 현황
A2: [단위 : 천원, VAT 포함] | M2: 구분 | N2: 건축비
A3: 구분 | B3: 분야 | C3: 공 종 | D3: 전체 | E3: 전체비율(%) | F3: 세부비율(%) | G3: 감리대상(건축) | H3: 감리대상(소방) | I3: 감리대상(전기) | J3: 감리제외 | K3: 타법감리 | M3: 공종 | N3: =사업비내역!C38 -> 111450000
A4: 주택건설 공사비 | B4: 토목 | C4: 토공사 | D4: =G4 -> 1753152.9 | E4: =D4/$D$62 -> 0.015730398 | F4: =P4 -> 0.29679997 | G4: =Q4 -> 1753152.9 | M4: 토목 및 조경공사 | N4: 0.053 | O4: =N3*N4 -> 5906850 | P4: 0.29679997 | Q4: =$O$4*P4 -> 1753152.9
C5: 흙막이공사 | D5: =G5 -> 867716.15 | E5: =D5/$D$62 -> 0.0077856989 | F5: =P5 -> 0.14689998 | G5: =Q5 -> 867716.15 | P5: 0.14689998 | Q5: =$O$4*P5 -> 867716.15
C6: 부대시설공사 | D6: =G6 -> 342006.81 | E6: =D6/$D$62 -> 0.0030687017 | F6: =P6 -> 0.057900033 | G6: =Q6 -> 342006.81 | P6: 0.057900033 | Q6: =$O$4*P6 -> 342006.81
C7: 우,오수공사 | D7: =G7 -> 339643.58 | E7: =D7/$D$62 -> 0.0030474974 | F7: =P7 -> 0.05749995 | G7: =Q7 -> 339643.58 | P7: 0.05749995 | Q7: =$O$4*P7 -> 339643.58
C8: 도로포장공사 | D8: =G8 -> 534570.15 | E8: =D8/$D$62 -> 0.004796502 | F8: =P8 -> 0.090500039 | G8: =Q8 -> 534570.15 | P8: 0.090500039 | Q8: =$O$4*P8 -> 534570.15
C9: 조경공사 | D9: =G9 -> 1863020.8 | E9: =D9/$D$62 -> 0.016716203 | F9: =P9 -> 0.31540005 | G9: =Q9 -> 1863020.8 | P9: 0.31540005 | Q9: =$O$4*P9 -> 1863020.8
C10: 교통안전시설물공사 | D10: =G10 -> 206739.62 | E10: =D10/$D$62 -> 0.0018549988 | F10: =P10 -> 0.034999977 | G10: =Q10 -> 206739.62 | P10: 0.034999977 | Q10: =$O$4*P10 -> 206739.62
C11: 소 계 | D11: =SUM(D4:D10) -> 5906850 | E11: =D11/$D$62 -> 0.053 | F11: =D11/$D$11 -> 1 | G11: =SUM(G4:G10) -> 5906850 | J11: 0 | K11: 0
B12: 건축 | C12: 공통가설공사 | D12: =G12 -> 3212786 | E12: =D12/$D$62 -> 0.028827151 | F12: =P12 -> 0.039327627 | G12: =Q12 -> 3212786 | M12: 건축 | N12: 0.733 | O12: =N3*N12 -> 81692850 | P12: 0.039327627 | Q12: =$O$12*P12 -> 3212786
C13: 가시설물공사 | D13: =G13 -> 722876.78 | E13: =D13/$D$62 -> 0.0064861084 | F13: =P13 -> 0.0088487154 | G13: =Q13 -> 722876.78 | P13: 0.0088487154 | Q13: =$O$12*P13 -> 722876.78
C14: 철근콘크리트공사 | D14: =G14 -> 46352204 | E14: =D14/$D$62 -> 0.41590134 | F14: =P14 -> 0.5673961 | G14: =Q14 -> 46352204 | P14: 0.5673961 | Q14: =$O$12*P14 -> 46352204
C15: 조적공사 | D15: =G15 -> 1606394.2 | E15: =D15/$D$62 -> 0.014413586 | F15: =P15 -> 0.019663829 | G15: =Q15 -> 1606394.2 | P15: 0.019663829 | Q15: =$O$12*P15 -> 1606394.2
C16: 미장공사 | D16: =G16 -> 1389529.5 | E16: =D16/$D$62 -> 0.012467738 | F16: =P16 -> 0.017009193 | G16: =Q16 -> 1389529.5 | P16: 0.017009193 | Q16: =$O$12*P16 -> 1389529.5
C17: 단열공사 | D17: =G17 -> 1204793.8 | E17: =D17/$D$62 -> 0.010810173 | F17: =P17 -> 0.014747849 | G17: =Q17 -> 1204793.8 | P17: 0.014747849 | Q17: =$O$12*P17 -> 1204793.8
C18: 방수.방습공사 | D18: =G18 -> 1445753.6 | E18: =D18/$D$62 -> 0.012972217 | F18: =P18 -> 0.017697431 | G18: =Q18 -> 1445753.6 | P18: 0.017697431 | Q18: =$O$12*P18 -> 1445753.6
C19: 목공사 | D19: =G19 -> 3534064.8 | E19: =D19/$D$62 -> 0.031709868 | F19: =P19 -> 0.043260393 | G19: =Q19 -> 3534064.8 | P19: 0.043260393 | Q19: =$O$12*P19 -> 3534064.8
C20: 가구공사 | D20: =G20 -> 4417582.2 | E20: =D20/$D$62 -> 0.039637346 | F20: =P20 -> 0.054075506 | G20: =Q20 -> 4417582.2 | P20: 0.054075506 | Q20: =$O$12*P20 -> 4417582.2
C21: 금속공사 | D21: =G21 -> 3277041.7 | E21: =D21/$D$62 -> 0.029403694 | F21: =P21 -> 0.04011418 | G21: =Q21 -> 3277041.7 | P21: 0.04011418 | Q21: =$O$12*P21 -> 3277041.7
C22: 지붕 및 홈통공사 | D22: =G22 -> 1390621.2 | E22: =D22/$D$62 -> 0.012477535 | F22: =P22 -> 0.017022557 | G22: =Q22 -> 1390621.2 | P22: 0.017022557 | Q22: =$O$12*P22 -> 1390621.2
C23: 창호공사 | D23: =G23 -> 2003429.2 | E23: =D23/$D$62 -> 0.017976036 | F23: =P23 -> 0.024523923 | G23: =Q23 -> 2003429.2 | P23: 0.024523923 | Q23: =$O$12*P23 -> 2003429.2
C24: 유리공사 | D24: =G24 -> 1722311.1 | E24: =D24/$D$62 -> 0.015453666 | F24: =P24 -> 0.021082765 | G24: =Q24 -> 1722311.1 | P24: 0.021082765 | Q24: =$O$12*P24 -> 1722311.1
... C31: 잡공사 | D31: =G31 -> 160638.2 | E31: =D31/$D$62 -> 0.0014413477 | F31: =P31 -> 0.0019663679 | G31: =Q31 -> 160638.2 | P31: 0.0019663679 | Q31: =$O$12*P31 -> 160638.2
C32: 소 계 | D32: =SUM(D12:D31) -> 81692850 | E32: =D32/$D$62 -> 0.733 | F32: =SUM(F12:F31) -> 1 | G32: =SUM(G12:G31) -> 81692850 | J32: 0 | K32: 0
B33: 설비 | C33: 급수설비공사 | D33: =G33 -> 240730.82 | E33: =D33/$D$62 -> 0.0021599894 | F33: =P33 -> 0.029999853 | G33: =Q33 -> 240730.82 | M33: 설비 | N33: 0.072 | O33: =N3*N33 -> 8024400 | P33: 0.029999853 | Q33: =$O$33*P33 -> 240730.82
C34: 급탕설비공사 | D34: =G34 -> 208634.36 | E34: =D34/$D$62 -> 0.0018719996 | F34: =P34 -> 0.025999995 | G34: =Q34 -> 208634.36 | P34: 0.025999995 | Q34: =$O$33*P34 -> 208634.36
C35: 오배수 및 통기설비공사 | D35: =G35 -> 457391.75 | E35: =D35/$D$62 -> 0.0041040086 | F35: =P35 -> 0.057000119 | G35: =Q35 -> 457391.75 | P35: 0.057000119 | Q35: =$O$33*P35 -> 457391.75
C36: 위생기구공사 | D36: =G36 -> 1653026.7 | E36: =D36/$D$62 -> 0.014832002 | F36: =P36 -> 0.20600003 | G36: =Q36 -> 1653026.7 | P36: 0.20600003 | Q36: =$O$33*P36 -> 1653026.7
C37: 승강기기계공사 | D37: =G37 -> 987000.54 | E37: =D37/$D$62 -> 0.0088559941 | F37: =P37 -> 0.12299992 | G37: =Q37 -> 987000.54 | P37: 0.12299992 | Q37: =$O$33*P37 -> 987000.54
C38: 난방설비공사 | D38: =G38 -> 2054247.1 | E38: =D38/$D$62 -> 0.018432007 | F38: =P38 -> 0.25600009 | G38: =Q38 -> 2054247.1 | P38: 0.25600009 | Q38: =$O$33*P38 -> 2054247.1
C39: 가스설비공사 | D39: =G39 -> 601830.74 | E39: =D39/$D$62 -> 0.0054000066 | F39: =P39 -> 0.075000092 | G39: =Q39 -> 601830.74 | P39: 0.075000092 | Q39: =$O$33*P39 -> 601830.74
C40: 자동제어설비공사 | D40: =G40 -> 88267.721 | E40: =D40/$D$62 -> 0.00079199391 | F40: =P40 -> 0.010999915 | G40: =Q40 -> 88267.721 | P40: 0.010999915 | Q40: =$O$33*P40 -> 88267.721
C41: 특수설비공사 | D41: =G41 -> 1733270.3 | E41: =D41/$D$62 -> 0.015551999 | F41: =P41 -> 0.21599998 | G41: =Q41 -> 1733270.3 | P41: 0.21599998 | Q41: =$O$33*P41 -> 1733270.3
C42: 소 계 | D42: =SUM(D33:D41) -> 8024400 | E42: =D42/$D$62 -> 0.072 | F42: =SUM(F33:F41) -> 1 | G42: =SUM(G33:G41) -> 8024400 | J42: 0 | K42: 0
B43: 전기 | C43: 전기설비공사 | D43: =I43 -> 2611454.2 | E43: =D43/$D$62 -> 0.023431622 | F43: =P43 -> 0.78105405 | I43: =Q43 -> 2611454.2 | M43: 전기 | N43: 0.03 | O43: =N3*N43 -> 3343500 | P43: 0.78105405 | Q43: =$O$43*P43 -> 2611454.2
C44: 발전기설치공사 | D44: =I44 -> 58995.008 | E44: =D44/$D$62 -> 0.00052934058 | F44: =P44 -> 0.017644686 | I44: =Q44 -> 58995.008 | P44: 0.017644686 | Q44: =$O$43*P44 -> 58995.008
C45: 수배전반설치공사 | D45: =I45 -> 132948.22 | E45: =D45/$D$62 -> 0.0011928956 | F45: =P45 -> 0.039763188 | I45: =Q45 -> 132948.22 | P45: 0.039763188 | Q45: =$O$43*P45 -> 132948.22
C46: 조명기구납품공사 | D46: =I46 -> 407154.33 | E46: =D46/$D$62 -> 0.0036532466 | F46: =P46 -> 0.12177489 | I46: =Q46 -> 407154.33 | P46: 0.12177489 | Q46: =$O$43*P46 -> 407154.33
...

Sheet 3. 감리원 배치계획(예정공정표) 
B2: [예정공정표] - 감리원 배치계획
B3: ■ 공사명 : 천안시 성거읍 신월리 공동주택 신축공사
B5: ■ 착공예정월 : 2026년 11월 01일
B7: ■ 공사규모 : 아파트 5개동 및 부대복리시설 (지하2층, 지상29층)
B9: ■ 공사기간 : 2026년 11월 01일 ~ 2029년 07월 31일(33개월)
B11: 구분 | C11: 2026년 | E11: 2027년 | Q11: 2028년 | AC11: 2029년 | AJ11: 비고
B12: 월 | C12: 11 | D12: 12 | E12: 1 | F12: 2 | G12: 3 | H12: 4 | I12: 5 | J12: 6 | K12: 7 | L12: 8 | M12: 9 | N12: 10 | O12: 11 | P12: 12 | Q12: 1 | R12: 2 | S12: 3 | T12: 4 | U12: 5 | V12: 6 | W12: 7 | X12: 8 | Y12: 9 | Z12: 10 | AA12: 11 | AB12: 12 | AC12: 1 | AD12: 2 | AE12: 3 | AF12: 4 | AG12: 5 | AH12: 6 | AI12: 7
B13: 개월 | C13: 1 | D13: 2 | E13: 3 | F13: 4 | G13: 5 | H13: 6 | I13: 7 | J13: 8 | K13: 9 | L13: 10 | M13: 11 | N13: 12 | O13: 13 | P13: 14 | Q13: 15 | R13: 16 | S13: 17 | T13: 18 | U13: 19 | V13: 20 | W13: 21 | X13: 22 | Y13: 23 | Z13: 24 | AA13: 25 | AB13: 26 | AC13: 27 | AD13: 28 | AE13: 29 | AF13: 30 | AG13: 31 | AH13: 32 | AI13: 33
B14: 전체공정 | AJ14: 33개월
B15: 건축공사 | AJ15: 32개월
B16: 구조체공사 | AJ16: 14개월
B17: 토목공사 | AJ17: 14개월
B18: 설비공사 | AJ18: 25개월
B19: 전기공사 | AJ19: 25개월
B20: 소방공사 | AJ20: 25개월
B21: 정보통신공사 | AJ21: 25개월

Sheet 사업비내역
A2: 84A | B2: 대지비 | C2: 10476541 | D2: 사업주체자금 | E2: 58547444
B3: 주택건축비 | C3: 53073204 | D3: 국민주택기금 | E3: 25143698
B4: 부대복리시설설치비 | C4: 6749881.7 | D4: 금융기관자금
B5: 간선시설설치비 | C5: 7730607.8 | D5: 그 밖의 자금
B6: 소계 | C6: 78030234
B7: 일반분양비 | C7: 5660907.4
B8: 사업비 계 | C8: 83691142 | D8: 자금계획 계 | E8: 83691142
A9: 84B | B9: 대지비 | C9: 5600782.4 | D9: 사업주체자금 | E9: 31299595
B10: 주택건축비 | C10: 28373054 | D10: 국민주택기금 | E10: 13441878
B11: 부대복리시설설치비 | C11: 3608502 | D11: 금융기관자금
B12: 간선시설설치비 | C12: 4132800.4 | D12: 그 밖의 자금
B13: 소계 | C13: 41715139
B14: 일반분양비 | C14: 3026333.9
B15: 사업비 계 | C15: 44741473 | D15: 자금계획 계 | E15: 44741473
A16: 84C | B16: 대지비 | C16: 2223709.8 | D16: 사업주체자금 | E16: 12427053
B17: 주택건축비 | C17: 11265112 | D17: 국민주택기금 | E17: 5336903.5
B18: 부대복리시설설치비 | C18: 1432703.6 | D18: 금융기관자금 | E18: 0
B19: 간선시설설치비 | C19: 1640868.7 | D19: 그 밖의 자금 | E19: 0
B20: 소계 | C20: 16562394 | E20: 0
B21: 일반분양비 | C21: 1201562.2 | E21: 0
B22: 사업비 계 | C22: 17763956 | D22: 자금계획 계 | E22: 17763956
A23: 84D | B23: 대지비 | C23: 3367102.8 | D23: 사업주체자금 | E23: 18816827
B24: 주택건축비 | C24: 17057437 | D24: 국민주택기금 | E24: 8081046.7
B25: 부대복리시설설치비 | C25: 2169375 | D25: 금융기관자금 | E25: 0
B26: 간선시설설치비 | C26: 2484575 | D26: 그 밖의 자금 | E26: 0
B27: 소계 | C27: 25078490 | E27: 0
B28: 일반분양비 | C28: 1819384.6 | E28: 0
B29: 사업비 계 | C29: 26897874 | D29: 자금계획 계 | E29: 26897874
A30: 상가 | B30: 대지비 | C30: 331864.09 | D30: 사업주체자금 | E30: 1854600.1
B31: 주택건축비 | C31: 1681193.3 | D31: 국민주택기금 | E31: 796473.82
B32: 부대복리시설설치비 | C32: 213815.17 | D32: 금융기관자금 | E32: 0
B33: 간선시설설치비 | C33: 244881.51 | D33: 그 밖의 자금 | E33: 0
B34: 소계 | C34: 2471754.1 | E34: 0
B35: 일반분양비 | C35: 179319.86 | E35: 0
B36: 사업비 계 | C36: 2651074 | D36: 자금계획 계 | E36: 2651074
A37: 합계 | B37: 대지비 | C37: 22000000 | D37: 사업주체자금 | E37: 1.2294552e+08
B38: 주택건축비 | C38: 111450000 | D38: 국민주택기금 | E38: 52800000
B39: 부대복리시설설치비 | C39: 14174277 | D39: 금융기관자금
B40: 간선시설설치비 | C40: 16233733 | D40: 그 밖의 자금
B41: 소계 | C41: 1.6385801e+08
...
