Workbook

Sheet 원가계산서 
B1: 원 가 계 산 서
B3: 비 목 | E3: 금 액 | F3: 구 성 비 | G3: 비 고
A5: A1 | B5: 순 공 사 원 가 | C5: 재 료 비 | D5: 직 접 재 료 비 | E5: =공종별집계표!F5 -> 0
A6: A2 | D6: 간 접 재 료 비
A7: A3 | D7: 작업설, 부산물(△)
A8: AS | D8: [ 소 계 ] | E8: =TRUNC(E5+E6-E7,0) -> 0
A9: B1 | C9: 노 무 비 | D9: 직 접 노 무 비 | E9: =공종별집계표!H5 -> 0
A10: B2 | D10: 간 접 노 무 비
A11: BS | D11: [ 소 계 ] | E11: =TRUNC(E9+E10,0) -> 0
C12: 경 비 | D12: 산 출 경 비 | E12: =공종별집계표!J5 -> 0
A13: C4 | D13: 산 재 보 험 료 | E13: =E11*3.56% -> 0 | F13: 노무비 * 3.56%
A14: C5 | D14: 고 용 보 험 료 | E14: =E11*1.01% -> 0 | F14: 노무비 * 1.01%
A15: C6 | D15: 국민 건강 보험료 | E15: =E9*3.595% -> 0 | F15: 직접노무비 * 3.595%
A16: C7 | D16: 국민 연금 보험료 | E16: =E9*4.75% -> 0 | F16: 직접노무비 * 4.75%
A17: CB | D17: 노인장기요양보험료 | E17: =E15*13.14% -> 0 | F17: 건강보험료 * 13.14%
D18: 퇴직 공제 부금비 | E18: =E9*2.3% -> 0 | F18: 직접노무비 * 2.3%
D19: 산업안전보건관리비 | F19: (재료비+직노) * 2.28%+4,325,000
D20: 품 질 관 리 비 | E20: =(E8+E9+E12)*0.3% -> 0 | F20: (재료비+직노+경비) * 0.3%
D21: 석 면 분 담 금 | E21: =E11*0.006% -> 0 | F21: 노무비 * 0.006%
D22: 임금채권부담금 | E22: =E11*0.09% -> 0 | F22: 노무비 * 0.09%
A23: CS | D23: [ 소 계 ] | E23: =SUM(E12:E22) -> 0
A24: S1 | B24: 계 | E24: =SUM(E8,E11,E23) -> 0
A25: D9 | B25: 공 급 가 액 | E25: =E24 -> 0
A26: DB | B26: 부 가 가 치 세 | E26: =TRUNC(E25*10%,0) -> 0 | F26: 공급가액 * 10%
A27: DH | B27: 도 급 액 | E27: =TRUNC(E26+E25,-3) -> 0 | G27: 천원이하 절삭

Sheet 공종별집계표
A1: 공 종 별 집 계 표
A2: [ 영락공원제3봉안당등건립사업기계관급공사(봉안당)-냉난방기 ]
A3: 품 명 | B3: 규 격 | C3: 단위 | D3: 수량 | E3: 재 료 비 | G3: 노 무 비 | I3: 경 비 | K3: 합 계 | M3: 비 고 | N3: 공종코드 | O3: 변수 | P3: 상위공종 | Q3: 공종구분 | R3: 공종레벨 | S3: 공종소계 | T3: 원가계산서 연결금액
E4: 단 가 | F4: 금 액 | G4: 단 가 | H4: 금 액 | I4: 단 가 | J4: 금 액 | K4: 단 가 | L4: 금 액
A5: 01 영락공원제3봉안당등건립사업기계관급공사(봉안당)-냉난방기 | D5: 1 | E5: =F6 -> 0 | F5: =E5*D5 -> 0 | G5: =H6 -> 0 | H5: =G5*D5 -> 0 | I5: =J6 -> 0 | J5: =I5*D5 -> 0 | K5: =E5+G5+I5 -> 0 | L5: =F5+H5+J5 -> 0 | N5: 01 | R5: 1
A6: 0101 냉난방기 | D6: 1 | E6: =F7+F8 -> 0 | F6: =E6*D6 -> 0 | G6: =H7+H8 -> 0 | H6: =G6*D6 -> 0 | I6: =J7+J8 -> 0 | J6: =I6*D6 -> 0 | K6: =E6+G6+I6 -> 0 | L6: =F6+H6+J6 -> 0 | N6: 0101 | P6: 01 | R6: 2
A7: 010101 냉난방기자재비 | D7: 1 | E7: =공종별내역서!F28 -> 0 | F7: =E7*D7 -> 0 | G7: =공종별내역서!H28 -> 0 | H7: =G7*D7 -> 0 | I7: =공종별내역서!J28 -> 0 | J7: =I7*D7 -> 0 | K7: =E7+G7+I7 -> 0 | L7: =F7+H7+J7 -> 0 | N7: 010101 | P7: 0101 | R7: 3
A8: 010102 냉난방기설치비 | D8: 1 | E8: =공종별내역서!F81 -> 0 | F8: =E8*D8 -> 0 | G8: =공종별내역서!H81 -> 0 | H8: =G8*D8 -> 0 | I8: =공종별내역서!J81 -> 0 | J8: =I8*D8 -> 0 | K8: =E8+G8+I8 -> 0 | L8: =F8+H8+J8 -> 0 | N8: 010102 | P8: 0101 | R8: 3
A29: [ 합 계 ] | F29: =F5 -> 0 | H29: =H5 -> 0 | J29: =J5 -> 0 | L29: =L5 -> 0

Sheet 공종별내역서
A1: [ 영락공원제3봉안당등건립사업기계관급공사(봉안당)-냉난방기 ]
A2: 품 명 | B2: 규 격 | C2: 단위 | D2: 수량 | E2: 재 료 비 | G2: 노 무 비 | I2: 경 비 | K2: 합 계 | M2: 비 고 | N2: 품목코드 | O2: 변수 | P2: 설정 | Q2: 공종코드 | R2: 일위 | S2: 단산 | T2: 자재 | U2: 손료적용 | V2: 손료저장 | W2: 적용율 | X2: JUK1 | Y2: JUK2 | Z2: JUK3 | AA2: JUK4 | AB2: JUK5 | AC2: JUK6 | AD2: JUK7 | AE2: JUK8 | AF2: JUK9 | AG2: JUK10 | AH2: JUK11 | AI2: JUK12 | AJ2: JUK13 | AK2: JUK14 | AL2: JUK15 | AM2: JUK16 | AN2: JUK17 | AO2: JUK18 | AP2: JUK19 | AQ2: JUK20 | AR2: 자재구분 | AS2: 공종구분 | AT2: 공종레벨 | AU2: 공종+자재 | AV2: 고유번호
E3: 단 가 | F3: 금 액 | G3: 단 가 | H3: 금 액 | I3: 단 가 | J3: 금 액 | K3: 단 가 | L3: 금 액
A4: 010101 냉난방기자재비 | B4: 냉난방기 | Q4: 010101
A5: 전기히트펌프냉난방 | B5: 냉방14.5/난방16.3kW-삼상 | C5: 대 | D5: 1 | N5: 44437F2E6D12D240202FEDB68090928BB4564 | Q5: 010101 | R5: F | S5: F | T5: T | AU5: 01010144437F2E6D12D240202FEDB68090928BB4564 | AV5: 1367
A6: 전기히트펌프 | B6: 냉방 23.3/난방 25.9kW | C6: 대 | D6: 1 | N6: 44437F2E6D12D240202FEDB68090928BB4567 | Q6: 010101 | R6: F | S6: F | T6: T | AU6: 01010144437F2E6D12D240202FEDB68090928BB4567 | AV6: 1368
A7: 전기히트펌프 | B7: 냉방 34.8/난방 39.2kW | C7: 대 | D7: 1 | N7: 44437F2E6D12D240202FEDB68090928BB4566 | Q7: 010101 | R7: F | S7: F | T7: T | AU7: 01010144437F2E6D12D240202FEDB68090928BB4566 | AV7: 1369
A8: 전기히트펌프 | B8: 냉방 46.4/난방 52.2kW | C8: 대 | D8: 1 | N8: 44437F2E6D12D240202FEDB68090928BB4569 | Q8: 010101 | R8: F | S8: F | T8: T | AU8: 01010144437F2E6D12D240202FEDB68090928BB4569 | AV8: 1370
A9: 전기히트펌프 | B9: 냉방52.2/난방56.7kW | C9: 대 | D9: 3 | N9: 44437F2E6D12D240202FEDB68090928BB4568 | Q9: 010101 | R9: F | S9: F | T9: T | AU9: 01010144437F2E6D12D240202FEDB68090928BB4568 | AV9: 1371
A10: 전기히트펌프 | B10: 냉방57/난방63kW | C10: 대 | D10: 1 | N10: 44437F2E6D12D240202FEDB68090928BB445B | Q10: 010101 | R10: F | S10: F | T10: T | AU10: 01010144437F2E6D12D240202FEDB68090928BB445B | AV10: 1372
A11: 가스엔진히트펌프 실외기 | B11: 16HP | C11: 대 | D11: 5 | N11: 44437F2D46724200783FDA4E318D6B775BB68 | Q11: 010101 | R11: F | S11: F | T11: T | AU11: 01010144437F2D46724200783FDA4E318D6B775BB68 | AV11: 1381
A12: 가스엔진히트펌프 실외기 | B12: 20HP | C12: 대 | D12: 9 | N12: 44437F2D46724200783FDA4E318D6B775BB6B | Q12: 010101 | R12: F | S12: F | T12: T | AU12: 01010144437F2D46724200783FDA4E318D6B775BB6B | AV12: 1382
A13: 천장형 에에콘설치 | B13: 실외기 16kw 이하 | C13: 대 | D13: 22 | M13: 호표 1 | N13: 451673319372F2E0EF38EE46C0F41 | Q13: 010101 | R13: T | S13: F | T13: F | AU13: 010101451673319372F2E0EF38EE46C0F41 | AV13: 1383
A14: 히트펌프용실내기 | B14: 냉방2.0/난방2.2kW, 1방향, 천장형 | C14: 대 | D14: 2 | N14: 44437F2E6D12D240202FEDB68090928BB445A | Q14: 010101 | R14: F | S14: F | T14: T | AU14: 01010144437F2E6D12D240202FEDB68090928BB445A | AV14: 1373
A15: 히트펌프용실내기 | B15: 냉방3.2/난방3.6kW, 1방향, 천장형 | C15: 대 | D15: 2 | N15: 44437F2E6D12D240202FEDB68090928BB4459 | Q15: 010101 | R15: F | S15: F | T15: T | AU15: 01010144437F2E6D12D240202FEDB68090928BB4459 | AV15: 1374
A16: 히트펌프용실내기 | B16: 냉방4.0/난방4.5kW, 1방향, 천장형 | C16: 대 | D16: 5 | N16: 44437F2E6D12D240202FEDB68090928BB4458 | Q16: 010101 | R16: F | S16: F | T16: T | AU16: 01010144437F2E6D12D240202FEDB68090928BB4458 | AV16: 1375
A17: 히트펌프용실내기 | B17: 냉방6.0/난방6.8kW, 4방향, 천장카세트형 | C17: 대 | D17: 18 | N17: 44437F2E6D12D240202FEDB68090928BB445E | Q17: 010101 | R17: F | S17: F | T17: T | AU17: 01010144437F2E6D12D240202FEDB68090928BB445E | AV17: 1376
A18: 히트펌프용실내기 | B18: 냉방7.2/난방8.1kW, 4방향, 천장카세트형 | C18: 대 | D18: 80 | N18: 44437F2E6D12D240202FEDB68090928BB445D | Q18: 010101 | R18: F | S18: F | T18: T | AU18: 01010144437F2E6D12D240202FEDB68090928BB445D | AV18: 1377
A19: 히트펌프용실내기 | B19: 냉방8.3/난방9.3kW, 4방향, 천장카세트형 | C19: 대 | D19: 2 | N19: 44437F2E6D12D240202FEDB68090928BB445C | Q19: 010101 | R19: F | S19: F | T19: T | AU19: 01010144437F2E6D12D240202FEDB68090928BB445C | AV19: 1378
A20: 히트펌프용실내기 | B20: 냉방10/난방11.2kW, 4방향, 천장카세트형 | C20: 대 | D20: 13 | N20: 44437F2E6D12D240202FEDB68090928BB4453 | Q20: 010101 | R20: F | S20: F | T20: T | AU20: 01010144437F2E6D12D240202FEDB68090928BB4453 | AV20: 1379
A21: 히트펌프용실내기 | B21: 냉방11/난방12.4kW, 4방향, 천장카세트형 | C21: 대 | D21: 12 | N21: 44437F2E6D12D240202FEDB68090928BB4452 | Q21: 010101 | R21: F | S21: F | T21: T | AU21: 01010144437F2E6D12D240202FEDB68090928BB4452 | AV21: 1380
A22: 천장형 에에콘설치 | B22: 실내기 16kw 이하 | C22: 대 | D22: 134 | M22: 호표 3 | N22: 451673319372F2E0EF38EE619C545 | Q22: 010101 | R22: T | S22: F | T22: F | AU22: 010101451673319372F2E0EF38EE619C545 | AV22: 1385
A23: 제어통합컨트롤러 | C23: m | D23: 1 | N23: 44437F2E6D12D240202FEDB68090928BB4186 | Q23: 010101 | R23: F | S23: F | T23: T | AU23: 01010144437F2E6D12D240202FEDB68090928BB4186 | AV23: 1282
A24: 룸컨트롤러 | C24: 대 | D24: 134 | N24: 44437F2E6D12D240202FEDB68090928BB4187 | Q24: 010101 | R24: F | S24: F | T24: T | AU24: 01010144437F2E6D12D240202FEDB68090928BB4187 | AV24: 1283
Q25: 010101
Q26: 010101
Q27: 010101
A28: [ 합 계 ] | F28: =SUMIF(Q5:Q27,"010101",F5:F27) -> 0 | H28: =SUMIF(Q5:Q27,"010101",H5:H27) -> 0 | J28: =SUMIF(Q5:Q27,"010101",J5:J27) -> 0 | L28: =SUMIF(Q5:Q27,"010101",L5:L27) -> 0 | N28: TOTAL
A29: 010102 냉난방기설치비 | B29: 냉난방기 | Q29: 010102
A30: 동관옥내배관(L-TYPE) | B30: D6.35 | C30: M | D30: 80 | M30: 호표 4 | N30: 451678B702B22280C7B82352F7F40 | Q30: 010102 | R30: T | S30: F | T30: F | AU30: 010102451678B702B22280C7B82352F7F40 | AV30: 1386
A31: 동관옥내배관(L-TYPE) | B31: D9.52 | C31: M | D31: 1143 | M31: 호표 5 | N31: 451678B702B22280C7B82352F7F43 | Q31: 010102 | R31: T | S31: F | T31: F | AU31: 010102451678B702B22280C7B82352F7F43 | AV31: 1387
A32: 동관옥내배관(L-TYPE) | B32: D12.7 | C32: M | D32: 433 | M32: 호표 6 | N32: 451678B702B22280C7B82352F7F41 | Q32: 010102 | R32: T | S32: F | T32: F | AU32: 010102451678B702B22280C7B82352F7F41 | AV32: 1388
A33: 동관옥내배관(L-TYPE) | B33: D15.88 | C33: M | D33: 1014 | M33: 호표 7 | N33: 451678B702B2329051A2EB79D18DB | Q33: 010102 | R33: T | S33: F | T33: F | AU33: 010102451678B702B2329051A2EB79D18DB | AV33: 1389
A34: 동관옥내배관(L-TYPE) | B34: D19.05 | C34: M | D34: 812 | M34: 호표 8 | N34: 451678B702B2329051A2EB79D18DA | Q34: 010102 | R34: T | S34: F | T34: F | AU34: 010102451678B702B2329051A2EB79D18DA | AV34: 1390
A35: 동관옥내배관(L-TYPE) | B35: D22.2 | C35: M | D35: 191 | M35: 호표 9 | N35: 451678B702B202C01BBAE96213DF8 | Q35: 010102 | R35: T | S35: F | T35: F | AU35: 010102451678B702B202C01BBAE96213DF8 | AV35: 1391
A36: 동관옥내배관(L-TYPE) | B36: D28.58 | C36: M | D36: 469 | M36: 호표 10 | N36: 451678B702B212E07BE05CF07C7A0 | Q36: 010102 | R36: T | S36: F | T36: F | AU36: 010102451678B702B212E07BE05CF07C7A0 | AV36: 1392
A37: 동관옥내배관(L-TYPE) | B37: D31.8 | C37: M | D37: 758 | M37: 호표 11 | N37: 451678B702B262609F98D1B8ACA7B | Q37: 010102 | R37: T | S37: F | T37: F | AU37: 010102451678B702B262609F98D1B8ACA7B | AV37: 1412
A38: 관보온(고무발포) | B38: 9t*D6.35 | C38: M | D38: 80 | M38: 호표 12 | N38: 45167E1EE9A2725023AD1ACC34617 | Q38: 010102 | R38: T | S38: F | T38: F | AU38: 01010245167E1EE9A2725023AD1ACC34617 | AV38: 1395
A39: 관보온(고무발포) | B39: 9t*D9.52 | C39: M | D39: 1143 | M39: 호표 13 | N39: 45167E1EE9A2725023AD1ACC34616 | Q39: 010102 | R39: T | S39: F | T39: F | AU39: 01010245167E1EE9A2725023AD1ACC34616 | AV39: 1396
A40: 관보온(고무발포) | B40: 9t*D12.7 | C40: M | D40: 353 | M40: 호표 14 | N40: 45167E1EE9A2725023AD1ACC2BF4C | Q40: 010102 | R40: T | S40: F | T40: F | AU40: 01010245167E1EE9A2725023AD1ACC2BF4C | AV40: 1397
A41: 관보온(고무발포) | B41: 9t*D15.88 | C41: M | D41: 116 | M41: 호표 15 | N41: 45167E1EE9A2725023AD1ACC2BF4F | Q41: 010102 | R41: T | S41: F | T41: F | AU41: 01010245167E1EE9A2725023AD1ACC2BF4F | AV41: 1398
... A53: 나사없는전선관-노출 | B53: E19 | C53: M | D53: 3058 | M53: 호표 27 | N53: 45927594D402E250687B623C90EAE | Q53: 010102 | R53: T | S53: F | T53: F | AU53: 01010245927594D402E250687B623C90EAE | AV53: 1411
A54: 냉난방기용Y분기관설치(소) | C54: 개 | D54: 41 | N54: 45927594D402E250687B623C90EAE | Q54: 010102 | R54: T | S54: F | T54: F | AU54: 01010245927594D402E250687B623C90EAE | AV54: 1411
A55: 냉난방기용Y분기관설치(중) | C55: 개 | D55: 43 | N55: 45927594D402E250687B623C90EAE | Q55: 010102 | R55: F | S55: F | T55: T | AU55: 01010244437F2E6D12D240202FEDB68090928BB4609 | AV55: 1273
A56: 냉난방기용Y분기관(대)설치 | C56: 개 | D56: 28 | N56: 44437F2E6D12D240202FEDB68090928BB460A | Q56: 010102 | R56: F | S56: F | T56: T | AU56: 01010244437F2E6D12D240202FEDB68090928BB460A | AV56: 1274
A57: 냉난방기용함석냉매배관커버설치 | C57: m² | D57: 32 | N57: 44437F2E6D12D240202FEDB68090928BB460B | Q57: 010102 | R57: F | S57: F | T57: T | AU57: 01010244437F2E6D12D240202FEDB68090928BB460B | AV57: 1275
A58: 실외기노출배관커버트레이설치 | C58: 조 | D58: 48 | N58: 44437F2E6D12D240202FEDB68090928BB460C | Q58: 010102 | R58: F | S58: F | T58: T | AU58: 01010244437F2E6D12D240202FEDB68090928BB460C | AV58: 1276
A59: 공기조절장치설치용크레인, 50톤 | B59: 50톤 | C59: 대 | D59: 1 | N59: 44437F2E6D12D240202FEDB68090928BB4600 | Q59: 010102 | R59: F | S59: F | T59: T | AU59: 01010244437F2E6D12D240202FEDB68090928BB4600 | AV59: 1280
A60: (부품)받침대 | B60: 평균990×830×130mm | C60: 조 | D60: 8 | N60: 44437F2E6D12D240202FEDB68090928BB472E | Q60: 010102 | R60: F | S60: F | T60: T | AU60: 01010244437F2E6D12D240202FEDB68090928BB472E | AV60: 1217
A61: 진동방지장치 | B61: 1050kg, 가스엔진히트펌프, 방진가대 | C61: 개 | D61: 14 | N61: 44437F2E6D12D240202FEDB68090928BB4601 | Q61: 010102 | R61: F | S61: F | T61: T | AU61: 01010244437F2E6D12D240202FEDB68090928BB4601 | AV61: 1281
A62: 싱글형받침대 | C62: 개 | D62: 1 | N62: 44437F2E6D12D240202FEDB68090928BB472D | Q62: 010102 | R62: F | S62: F | T62: T | AU62: 01010244437F2E6D12D240202FEDB68090928BB472D | AV62: 1218
Q63: 010102
Q64: 010102
Q65: 010102
Q66: 010102
Q67: 010102
Q68: 010102
Q69: 010102
Q70: 010102
Q71: 010102
Q72: 010102
Q73: 010102
Q74: 010102
... Q80: 010102
A81: [ 합 계 ] | F81: =SUMIF(Q30:Q80,"010102",F30:F80) -> 0 | H81: =SUMIF(Q30:Q80,"010102",H30:H80) -> 0 | J81: =SUMIF(Q30:Q80,"010102",J30:J80) -> 0 | L81: =SUMIF(Q30:Q80,"010102",L30:L80) -> 0 | N81: TOTAL

Sheet  공사설정 
A1: 이 Sheet는 수정하지 마십시요
A2: 공사구분 | B2: C | C2: 타이틀
A3: 확정내역 | B3: 원내역
A4: 자재단가적용 | B4: 5
A5: 경비단가적용 | B5: 5
A6: 품목코드형식 | B6: XXXX-XXXX-XXXXXXXXX
A7: 내역금액소수점처리 | B7: C | C7: 1
A8: 일위대가내역소수점처리 | B8: C | C8: 2
A9: 단가명 | B9: 조달청가격 | C9: 거래가격 | D9: 유통물가 | E9: 조사가격1 | F9: 조사가격2 | G9: TTTTT
A10: 환율 | B10: 1071.1 | C10: 0 | D10: 0
A11: 시간당작업량 | B11: R | C11: 4
A12: 1회 사이클시간 | B12: R | C12: 4
A13: 시간당 작업사이클 | B13: R | C13: 3
A14: 일반변수 | B14: C | C14: 5
A15: 시간당 노임산출 계수 | B15: A | C15: 1/8*16/12*25/20 | D15: 1/8*16/12*25/20 | E15: 1/8*16/12*25/20 | F15: 1
A16: 재료비 할증 계수 | B16: 1.11 | C16: 1.12
A17: 노무비 할증 계수 | B17: 1 | C17: 1.5 | D17: 1.16 | E17: 1.6 | F17: 1.6 | G17: 1.6 | H17: 1.94 | I17: 1.94 | J17: 1.94 | K17: 1 | L17: 1 | M17: 1
A18: 경비 할증 계수 | B18: 1.25 | C18: 1.071
A19: 내역,일위대가 품명,규격,단위 따로적용
A20: 내역단가 소수점처리 | B20: C | C20: 1
A21: 코드 | B21: 공종구분명 | C21: 원가비목코드
A22: 1 | B22: 작 업 부 산 물 | C22: A3
A23: 2 | B23: 운 반 비 | C23: C1
A24: 3 | B24: 관 급 자 재 비 | C24: DJ
A25: 4 | B25: 사 급 자 재 비 | C25: D3
A26: 5 | B26: 외 자 재
A27: 6 | B27: 시 설 분 담 금 | C27: DK
A28: 7 | B28: ...
A29: 8 | B29: ...
A30: 9 | B30: ...
A31: A | B31: ....
A32: B | B32: .....
A33: C | B33: ....
A34: D | B34: ....
A35: E | B35: ....
A36: F | B36: ....
A37: G | B37: ....
A38: H | B38: ....
A39: I | B39: ....
A40: J | B40: ....
A43: 단가 순서 | B43: 1234
