Workbook
Name ton: [1]화물차운임!#REF!
Name ton: [1]화물차운임!#REF!
Name ton: [1]화물차운임!#REF!
Name ton: [1]화물차운임!#REF!
Name U형측구: #REF!
Name U형측구: #REF!
Name U형측구: #REF!
Name U형측구: #REF!
Name 공사명: #REF!
Name 공사명: #REF!
Name 공사명: #REF!
Name 공사명: #REF!
Name 구간: [1]화물차운임!#REF!
Name 구간: [1]화물차운임!#REF!
Name 구간: [1]화물차운임!#REF!
Name 구간: [1]화물차운임!#REF!
Name 기경수정: #REF!
Name 기경수정: #REF!
Name 기경수정: #REF!
Name 기경수정: #REF!
Name 나: [2]단재적표!#REF!
Name 나: [2]단재적표!#REF!
Name 나: [2]단재적표!#REF!
Name 나: [2]단재적표!#REF!
Name 변경설계내역서: #REF!
Name 변경설계내역서: #REF!
Name 변경설계내역서: #REF!
Name 변경설계내역서: #REF!
Name 비목1: #REF!
Name 비목1: #REF!
Name 비목1: #REF!
Name 비목1: #REF!
Name 비목2: #REF!
Name 비목2: #REF!
Name 비목2: #REF!
Name 비목2: #REF!
Name 비목3: #REF!
Name 비목3: #REF!
Name 비목3: #REF!
Name 비목3: #REF!
Name 비목4: #REF!
Name 비목4: #REF!
Name 비목4: #REF!
Name 비목4: #REF!
Name 사: [1]화물차운임!#REF!
Name 사: [1]화물차운임!#REF!
Name 사: [1]화물차운임!#REF!
Name 사: [1]화물차운임!#REF!
Name 산물대운반1구역: #REF!
Name 산물대운반1구역: #REF!
Name 산물대운반1구역: #REF!
Name 산물대운반1구역: #REF!
Name 산물대운반2구역: #REF!
Name 산물대운반2구역: #REF!
Name 산물대운반2구역: #REF!
Name 산물대운반2구역: #REF!
Name 산물수집: #REF!
Name 산물수집: #REF!
Name 산물수집: #REF!
Name 산물수집: #REF!

Sheet 풀베기설계
A1: 풀베기 실시설계 용역비 산출서(기번1)
A2: o 개소: 봉화.석포.대현. 121-0-6-0 외 27 | F2: o 시공: 기번1~3
A3: 조림 후 경과년수 | C3: 1회풀베기 | G3: 2회풀베기 | H3: 계 | J3: 개소수
C4: 1년차 | E4: 2년차 | F4: 3년차이상 | G4: 2,3,4년차 | K4: 시공1~3
A5: 사업면적(ha) | C5: 0 | E5: 50 | F5: 50 | G5: 0 | H5: =SUM(C5:G5) -> 100 | J5: 28
A7: 구분 | B7: 항목 | C7: 수 량 (면적, 수량) | E7: 품 (인원,수량,요율) | G7: 단가 (금액) | I7: 할인 · 증률 | J7: 금액
D8: 단위 | F8: 단위 | H8: 종류
A9: 직 접 인 건 비 | B9: o 사전조사 · 확인 | C9: 0 | D9: ha | E9: 0.05 | F9: 인/ha | G9: 232210 | H9: 고급기술자 | I9: =C36 -> 0.08 | J9: =INT((C9*E9*G9)+(C9*E9*G9*I9)) -> 0
B10: o 표 준 지 조 사
B11: - 고급기술자 | C11: =SUM(C5:F5) -> 100 | D11: ha | E11: 0.04 | F11: 인/ha | G11: =G9 -> 232210 | H11: 고급기술자 | I11: =E36 -> 0.13 | J11: =INT((C11*E11*G11)+(C11*E11*G11*I11)) -> 1049589
B12: - 초급기술자 | C12: =SUM(C5:F5) -> 100 | D12: ha | E12: 0.04 | F12: 인/ha | G12: 164798 | H12: 초급기술자 | I12: =E36 -> 0.13 | J12: =INT((C12*E12*G12)+(C12*E12*G12*I12)) -> 744886
B13: o 설계도 · 서 작성(1차) | C13: =SUM(C5:F5) -> 100 | D13: ha | E13: 0.05 | F13: 인/ha | G13: =G9 -> 232210 | H13: 고급기술자 | I13: =G36 -> 0.05 | J13: =INT((C13*E13*G13)+(C13*E13*G13*I13)) -> 1219102
B14: o 설계도 · 서 작성(2차) | C14: 0 | D14: ha | E14: 0.05 | F14: 인/ha | G14: =G9 -> 232210 | H14: 고급기술자 | I14: =G36 -> 0.05 | J14: =INT((C14*E14*G14)+(C14*E14*G14*I14)) -> 0
B15: o 작 업 자 교 육 | C15: 1 | D15: 건 | E15: 1 | F15: 인/건 | G15: =G9 -> 232210 | H15: 고급기술자 | J15: =INT(C15*E15*G15) -> 232210
B16: 소 계 | J16: =SUM(J9:J15) -> 3245787
A17: 직 접 경 비 | B17: o 표 준 지 조 사 | C17: 100 | D17: ha | E17: 0.13 | F17: Roll/10ha | G17: 5000 | H17: 황색테이프 | J17: =INT(C17*E17*G17/10) -> 6500
B18: o 재 료 유 인 비 | J18: =SUM(J19:J20) -> 350000
B19: - 설계도서 | C19: 2 | D19: 건 | E19: 5 | F19: 부/건 | G19: 30000 | H19: 유인비 | J19: =INT(C19*E19*G19) -> 300000
B20: - 통합설계도 | C20: 1 | D20: 건 | E20: 5 | F20: 부/건 | G20: 10000 | H20: 유인비 | J20: =INT(C20*E20*G20) -> 50000
B21: 소 계 | J21: =SUM(J17:J18) -> 356500
A22: 제 경 비 | C22: 직접인건비 × 110% | J22: =INT(J16*110%) -> 3570365
A23: 기 술 료 | C23: (직접인건비 + 제경비) × 20% | J23: =INT((J16+J22)*20%) -> 1363230
A24: 순 원 가 | C24: 직접인건비 + 직접경비 + 제경비 + 기술료 | J24: =SUM(J16,J21,J22:J23) -> 8535882
A25: 손해배상 공제보험 | C25: 1단계공제료 | E25: =INT(J24*M26) -> 69652 | G25: 2단계공제료 | H25: =INT(J24*M32) -> 13657 | J25: =ROUNDDOWN(SUM(E25,H25),-1) -> 83300 | L25: 1단계 5억원이하
A26: 총 원 가 | C26: 순원가 + 손해배상 공제보험료 | J26: =SUM(J24:J25) -> 8619182 | L26: 농림부분 | M26: 0.00816
A27: 부 가 가 치 세 | C27: 총원가 × 10% | J27: =INT(J26*10%) -> 861918 | L27: 표준담보 | M27: 2년초과시
A28: 합 계 | C28: 천원미만 절사 | J28: =ROUNDDOWN(SUM(J26:J27),-3) -> 9481000 | L28: 가산요율 | M28: 0.00131
A29: * 손해배상 공제보험 : 엔지니어링산업 진흥법 제31조에 따른 설계,감리 등 국가 발주 엔지니어링사업은 의무가입 적용
A31: o 할인 · 할증률 산정 | L31: 2단계
A32: 할인 · 할증 요소 | C32: 단 위 작 업 (%) | L32: 순원가의 | M32: 0.0016
C33: 사전조사 | E33: 표준지조사 | G33: 설계도서작성 | I33: 비 고
A34: 조림 후 경과 년 수 | C34: =ROUND(((E5*5%)+(F5*10%))/C13,2) -> 0.08 | E34: =ROUND(((E5*5%)+(F5*10%))/C13,2) -> 0.08 | I34: 평균 할증률
A35: 집단화정도(3~5ha) | E35: 0.05 | G35: 0.05
A36: 계 | C36: =SUM(C34:D35) -> 0.08 | E36: =SUM(E34:F35) -> 0.13 | G36: =SUM(G34:H35) -> 0.05

Sheet 풀베기감리
A1: 풀베기 감리용역비 산출서(기번1)
A2: o 개소: 봉화.석포.대현. 121-0-6-0 외 28 | F2: o 시공: 기번1~4
A3: 조림 후 경과년수 | C3: 1년차 | E3: 2년차 | G3: 3년 이상 | H3: 계 | J3: 개소수 | K3: 봄솔엔지니어링
A4: 사업면적(ha) | C4: 0 | E4: 100 | G4: 0 | H4: =SUM(C4:G4) -> 100 | J4: 29 | K4: 기번1 | L4: 84.2
A6: 구분 | B6: 항목 | C6: 수 량 (면적, 수량) | E6: 품 (인원,수량,요율) | G6: 단가 (금액) | I6: 할인 · 증률 | J6: 금액 | K6: 기번2 | L6: 71.6
D7: 단위 | F7: 단위 | H7: 종류 | K7: 기번3 | L7: 66.8
A8: 직 접 인 건 비 | B8: o 설계서 검토 | C8: 0 | D8: ha | E8: 0.01 | F8: 인/ha | G8: 232210 | H8: 고급기술자 | J8: =INT((C8*E8*G8)+(C8*E8*G8*I8)) -> 0 | K8: 기번4 | L8: 20.5
B9: o 현장점검 및 지도 | C9: =H4 -> 100 | D9: ha | E9: 0.03 | F9: 인/ha | G9: =G8 -> 232210 | H9: 고급기술자 | I9: =C32 -> 0.05 | J9: =INT((C9*E9*G9)+(C9*E9*G9*I9)) -> 731461
B10: o 예비사업완료검사 | J10: =INT((C10*E10*G10)+(C10*E10*G10*I10)) -> 0
B11: - 고급기술자 | C11: =H4 -> 100 | D11: ha | E11: 0.025 | F11: 인/ha | G11: 164798 | H11: 초급기술자 | I11: =E32 -> 0.05 | J11: =INT((C11*E11*G11)+(C11*E11*G11*I11)) -> 432594
B12: - 초급기술자 | C12: =H4 -> 100 | D12: ha | E12: 0.025 | F12: 인/ha | G12: =G8 -> 232210 | H12: 고급기술자 | I12: =E32 -> 0.05 | J12: =INT((C12*E12*G12)+(C12*E12*G12*I12)) -> 609551
B13: o 감리보고서 작성 | C13: =H4 -> 100 | D13: ha | E13: 0.05 | F13: 인/ha | G13: =G8 -> 232210 | H13: 고급기술자 | I13: =G32 -> 0.05 | J13: =INT((C13*E13*G13)+(C13*E13*G13*I13)) -> 1219102
B14: 소 계 | J14: =SUM(J8:J13) -> 2992708
A15: 직 접 경 비 | B15: o 예비사업완료검사 | C15: =H4 -> 100 | D15: ha | E15: 0.13 | F15: Roll/10ha | G15: 5000 | H15: 마킹테이프 | J15: =INT(C15*E15*G15/10) -> 6500
B16: o 감리보고서 작성 | C16: 1 | D16: 건 | E16: 2 | F16: 부/건 | G16: 20000 | H16: 재료유인비 | J16: =INT(C16*E16*G16) -> 40000
B17: 소 계 | J17: =SUM(J15:J16) -> 46500
A18: 제 경 비 | C18: 직접인건비 × 110% | J18: =INT(J14*110%) -> 3291978
A19: 기 술 료 | C19: (직접인건비 + 제경비) × 20% | J19: =INT((J14+J18)*20%) -> 1256937
A20: 순 원 가 | C20: 직접인건비 + 직접경비 + 제경비 + 기술료 | J20: =SUM(J14,J17,J18:J19) -> 7588123
A21: 손해배상 공제보험 | C21: 1단계공제료 | E21: =INT(J20*M22) -> 63209 | G21: 2단계공제료 | H21: =INT(J20*M28) -> 12140 | J21: =ROUNDDOWN(SUM(E21,H21),-1) -> 75340 | L21: 1단계 5억원이하
A22: 총 원 가 | C22: 순원가 + 손해배상 공제보험료 | J22: =SUM(J20:J21) -> 7663463 | L22: 농림부분 | M22: 0.00833
A23: 부 가 가 치 세 | C23: 총원가 × 10% | J23: =INT(J22*10%) -> 766346 | L23: 표준담보 | M23: 2년초과시
A24: 합 계 | C24: 천원미만 절사 | J24: =ROUNDDOWN(SUM(J22:J23),-3) -> 8429000 | L24: 가산요율 | M24: 0.00131
A25: * 손해배상 공제보험 : 엔지니어링산업 진흥법 제31조에 따른 설계,감리 등 국가 발주 엔지니어링사업은 의무가입 적용
A27: o 할인 · 할증률 산정 | L27: 2단계
A28: 할인 · 할증 요소 | C28: 단 위 작 업 (%) | L28: 순원가의 | M28: 0.0016
C29: 현장점검 | E29: 완료검사 | G29: 감리보고서 작성 | I29: 비 고
A30: 집단화 정도 | L30: 평균면적이 5ha 이상
A31: 평균면적이 3~5ha 미만 | C31: =IF(A31="평균면적이 5ha 이상",0%,IF(A31="평균면적이 3~5ha 미만",5%,10%)) -> 0.05 | E31: =IF(A31="평균면적이 5ha 이상",0%,IF(A31="평균면적이 3~5ha 미만",5%,10%)) -> 0.05 | G31: =IF(A31="평균면적이 5ha 이상",0%,IF(A31="평균면적이 3~5ha 미만",5%,10%)) -> 0.05 | L31: 평균면적이 3~5ha 미만
A32: 계 | C32: =SUM(C30:D31) -> 0.05 | E32: =SUM(E30:F31) -> 0.05 | G32: =SUM(G30:H31) -> 0.05 | L32: 평균면적이 3ha 미만

Sheet 설계용역비(덩굴제거)
A1: □ 덩굴제거 실시설계비 산출내역서(예시)
A3: 사업면적 | C3: 100 | E3: ha | F3: 개소: | G3: 경남 산청군 OO면 OO리 산1임 | K3: 사업 3개 기번
A4: 본수조사 | C4: 50 | E4: ha | G4: 피복도조사 | H4: 50 | I4: ha
A5: 구분 | B5: 항목 | C5: 수 량 | E5: 품 | G5: 단 가 | I5: 할인 · 증률 | J5: 금 액
C6: (면적, 수량) | E6: (인원,수량,요율) | G6: (금 액)
D7: 단위 | F7: 단위 | H7: 종류
A8: 직 접 인 건 비 | B8: 조사도면작성 및 현장확인 | C8: =C3 -> 100 | D8: ha | E8: 0.02 | F8: 인/ha | G8: 232210 | H8: 고급기술자 | I8: =H37 -> 0.1 | J8: =INT((C8*E8*G8)+(C8*E8*G8*I8)) -> 510862
B9: 덩굴 본수 조사 | J9: =SUM(J10:J11) -> 1965189
B10: - 고급기술자 | C10: =C4 -> 50 | D10: ha | E10: 0.09 | F10: 인/ha | G10: =G8 -> 232210 | H10: 고급기술자 | I10: =H37 -> 0.1 | J10: =INT((C10*E10*G10)+(C10*E10*G10*I10)) -> 1149439
B11: - 초급기술자 | C11: =C10 -> 50 | D11: ha | E11: 0.09 | F11: 인/ha | G11: 164798 | H11: 초급기술자 | I11: =H37 -> 0.1 | J11: =INT((C11*E11*G11)+(C11*E11*G11*I11)) -> 815750
B12: 덩굴피복도 조사 | J12: =SUM(J13:J14) -> 1091771
B13: - 고급기술자 | C13: =H4 -> 50 | D13: ha | E13: 0.05 | F13: 인/ha | G13: =G8 -> 232210 | H13: 고급기술자 | I13: =H37 -> 0.1 | J13: =INT((C13*E13*G13)+(C13*E13*G13*I13)) -> 638577
B14: - 초급기술자 | C14: =C13 -> 50 | D14: ha | E14: 0.05 | F14: 인/ha | G14: =G11 -> 164798 | H14: 초급기술자 | I14: =H37 -> 0.1 | J14: =INT((C14*E14*G14)+(C14*E14*G14*I14)) -> 453194
B15: 설계도 · 서 작성 | C15: =C3 -> 100 | D15: ha | E15: 0.05 | F15: 인/ha | G15: =G8 -> 232210 | H15: 고급기술자 | J15: =INT((C15*E15*G15)+(C15*E15*G15*I15)) -> 1161050 | L15: 1단계 5억원이하
B16: 소 계 | J16: =SUM(J8,J9,J12,J15) -> 4728872 | L16: 농림부분 | M16: 0.00816
A17: 직 접 경 비 | B17: 재 료 유 인 비 | J17: =SUM(J18:J19) -> 800000 | L17: 표준담보 | M17: 2년초과시
B18: - 설계도서 | C18: 5 | D18: 건 | E18: 5 | F18: 부/건 | G18: 30000 | H18: 재료유인비 | J18: =INT(C18*E18*G18) -> 750000
B19: - 통합설계도 | C19: 1 | D19: 건 | E19: 5 | F19: 부/건 | G19: 10000 | H19: 재료유인비 | J19: =INT(C19*E19*G19) -> 50000
B20: 재 료 비 | J20: =SUM(J21:J22) -> 10000 | L20: 가산요율 | M20: 0.00131
B21: - 덩굴 본수 조사 | C21: =C4 -> 50 | D21: ha | E21: 0.03 | F21: 롤/ha | G21: 4000 | H21: 임업용 마킹테이프(황색) | J21: =INT(C21*E21*G21) -> 6000
B22: - 덩굴 피복도 조사 | C22: =H4 -> 50 | D22: ha | E22: 0.02 | F22: 롤/ha | G22: 4000 | J22: =INT(C22*E22*G22) -> 4000
B23: 소 계 | J23: =SUM(J17,J20) -> 810000 | L23: 2단계
A24: 제 경 비 | C24: 직접인건비 × 110% | J24: =INT(J16*1.1) -> 5201759 | L24: 순원가의 | M24: 0.0016
A25: 기 술 료 | C25: (직접인건비+제경비) × 20% | J25: =INT((J16+J24)*0.2) -> 1986126
A26: 순 원 가 | C26: 직접인건비 + 직접경비 + 제경비 + 기술료 | J26: =SUM(J16,J23,J24,J25) -> 12726757 | L26: 할인,할증
A27: 손해배상 공제보험 | C27: 1단계공제료 | E27: =INT(J26*M16) -> 103850 | G27: 2단계공제료 | H27: =INT(J26*M24) -> 20362 | J27: =SUM(E27,H27) -> 124212
A28: 총 원 가 | C28: 순원가 + 손해배상 공제보험료 | J28: =SUM(J26:J27) -> 12850969
A29: 부 가 가 치 세 | C29: 총원가 × 10% | J29: =INT(J28*0.1) -> 1285096 | L29: 설계시기 | M29: 1월~5월
A30: 합 계 | J30: =SUM(J28:J29) -> 14136065 | M30: 10월~12월
A31: 사 업 비 제 계 | C31: 천원미만 절사 | J31: =ROUNDDOWN(J30,-3) -> 14136000 | M31: 6월~9월
L32: 산물수집
A33: o 할인 · 할증 요소
B34: 구 분 | C34: 내 용 | H34: 할인 · 증률
B35: 실시설계시기 | C35: 6월~9월 | H35: =IF(C35=M29,0%,IF(C35=M30,5%,10%)) -> 0.1
H36: =IF(C36=N32,0,IF(C36=M33,20%,J36*20%)) -> 0
B37: 계 | H37: =SUM(H35:H36) -> 0.1

Sheet 감리용역비(덩굴제거)
A1: □ 덩굴제거 감리 용역비 산출내역서(예시)
A3: 사업면적 | C3: 100 | E3: ha | F3: 개 소 : | G3: 경남 산청군 OO면 OO리 산1임
A4: 본수조사 | C4: 50 | E4: ha | G4: 피복도조사 | H4: 50 | I4: ha
A5: 구분 | B5: 항목 | C5: 수 량 | E5: 품 | G5: 단 가 | I5: 할인 · 증률 | J5: 금 액
C6: (면적, 수량) | E6: (인원,수량,요율) | G6: (금 액)
D7: 단위 | F7: 단위 | H7: 종류
A8: 직 접 인 건 비 | B8: 설계서 검토 | C8: =C3 -> 100 | D8: ha | E8: 0.02 | F8: 인/ha | G8: 232210 | H8: 고급기술자 | J8: =INT((C8*E8*G8)+(C8*E8*G8*I8)) -> 464420
B9: 현장점검 및 작업지도 | C9: =C3 -> 100 | D9: ha | E9: 0.03 | F9: 인/ha | G9: =G8 -> 232210 | H9: 고급기술자 | I9: =H33 -> 0.1 | J9: =INT((C9*E9*G9)+(C9*E9*G9*I9)) -> 766293
B10: 예비사업완료검사
B11: o 표준지 설치 | J11: =SUM(J12:J13) -> 1528480
B12: - 고급기술자(조사) | C12: =C4 -> 50 | D12: ha | E12: 0.07 | F12: 인/ha | G12: =G8 -> 232210 | H12: 고급기술자 | I12: =H34 -> 0.1 | J12: =INT((C12*E12*G12)+(C12*E12*G12*I12)) -> 894008 | L12: 1단계 5억원이하
B13: - 초급기술자(조사) | C13: =C4 -> 50 | D13: ha | E13: 0.07 | F13: 인/ha | G13: 164798 | H13: 초급기술자 | I13: =H34 -> 0.1 | J13: =INT((C13*E13*G13)+(C13*E13*G13*I13)) -> 634472 | L13: 농림부분 | M13: 0.00833
B14: o 표준지 미설치 | J14: =SUM(J15:J16) -> 545885
B15: - 고급기술자(미조사) | C15: =H4 -> 50 | D15: ha | E15: 0.025 | F15: 인/ha | G15: =G8 -> 232210 | H15: 고급기술자 | I15: =H33 -> 0.1 | J15: =INT((C15*E15*G15)+(C15*E15*G15*I15)) -> 319288
B16: - 초급기술자(미조사) | C16: =H4 -> 50 | D16: ha | E16: 0.025 | F16: 인/ha | G16: =G13 -> 164798 | H16: 초급기술자 | I16: =H33 -> 0.1 | J16: =INT((C16*E16*G16)+(C16*E16*G16*I16)) -> 226597
B17: 감리보고서 작성 | C17: =C3 -> 100 | D17: ha | E17: 0.05 | F17: 인/ha | G17: =G8 -> 232210 | H17: 고급기술자 | I17: =H34 -> 0.1 | J17: =INT((C17*E17*G17)+(C17*E17*G17*I17)) -> 1277155
B18: 소 계 | J18: =SUM(J8:J9,J11,J14,J17) -> 4582233
A19: 직 접 경 비 | B19: 감리보고서 | C19: 1 | D19: 건 | E19: 2 | F19: 부/건 | G19: 20000 | H19: 재료유인비 | J19: =INT(C19*E19*G19) -> 40000
B20: 임업용 테이프 | C20: =C4 -> 50 | D20: ha | E20: 0.02 | F20: 롤/ha | G20: 4000 | H20: 테이프(적색) | J20: =INT((C20*E20*G20)+(C20*E20*G20*I20)) -> 4000
B21: 소 계 | J21: =SUM(J19:J20) -> 44000 | L21: 2단계
A22: 제 경 비 | C22: 직접인건비 × 110% | J22: =INT(J18*110%) -> 5040456 | L22: 순원가의 | M22: 0.0016
A23: 기 술 료 | C23: (직접인건비+제경비) × 20% | J23: =INT((J18+J22)*0.2) -> 1924537
A24: 순 원 가 | C24: 직접인건비 + 직접경비 + 제경비 + 기술료 | J24: =SUM(J18,J21:J23) -> 11591226 | L24: 할인,할증
A25: 손해배상 공제보험 | C25: 1단계공제료 | E25: =INT(J24*M13) -> 96554 | G25: 2단계공제료 | H25: =INT(J24*M22) -> 18545 | J25: =SUM(E25,H25) -> 115099
A26: 총 원 가 | C26: 순원가 + 손해배상 공제보험료 | J26: =SUM(J24:J25) -> 11706325
A27: 부 가 가 치 세 | C27: 총원가 × 10% | J27: =INT(J26*0.1) -> 1170632
A28: 합 계 | J28: =SUM(J26:J27) -> 12876957
A29: 사 업 비 제 계 | C29: 천원미만 절사 | J29: =ROUNDDOWN(J28,-3) -> 12876000
L30: 감리시기 | M30: 1월~5월
A31: * 할인 · 할증 요소 | M31: 10월~12월
B32: 구 분 | C32: 내 용 | H32: 할인 · 증률 | M32: 6월~9월
B33: 감리시기 | C33: 6월~9월 | H33: =IF(C33=M30,0%,IF(C33=M31,5%,10%)) -> 0.1
B34: 계 | H34: =SUM(H33:H33) -> 0.1

Sheet 어린나무설계
A1: □ 실시설계비 산출내역서(어린나무)
A3: 사업면적 | C3: 100 | E3: ha | F3: 개 소: | G3: 봉화.봉성.우곡.5임반 2소반 외 3개소 | K3: 사업 3개 기번
A4: 구분 | B4: 항목 | C4: 수 량 | E4: 품 | G4: 단 가 | I4: 할인 · 증률 | J4: 금 액
C5: (면적, 수량) | E5: (인원,수량,요율) | G5: (금 액)
D6: 단위 | F6: 단위 | H6: 종류
A7: 직 접 인 건 비 | B7: 조사도면 작성 및 현장 확인 | C7: =C3 -> 100 | D7: ha | E7: 0.02 | F7: 인/ha | G7: 232210 | H7: 고급기술자 | I7: =H30 -> 0 | J7: =INT((C7*E7*G7)+(C7*E7*G7*I7)) -> 464420
B8: 표 준 지 조 사
B9: - 고급기술자 | C9: 100 | D9: ha | E9: 0.05 | F9: 인/ha | G9: =G7 -> 232210 | H9: 고급기술자 | I9: =H30 -> 0 | J9: =INT((C9*E9*G9)+(C9*E9*G9*I9)) -> 1161050
B10: - 초급기술자 | C10: =C9 -> 100 | D10: ha | E10: 0.05 | F10: 인/ha | G10: 164798 | H10: 초급기술자 | I10: =H30 -> 0 | J10: =INT((C10*E10*G10)+(C10*E10*G10*I10)) -> 823990
B11: 설계도 · 서 작성 | C11: =C9 -> 100 | D11: ha | E11: 0.05 | F11: 인/ha | G11: 213462 | H11: 고급기술자 | I11: 0 | J11: =INT((C11*E11*G11)+(C11*E11*G11*I11)) -> 1067310
B12: 소 계 | J12: =SUM(J7:J11) -> 3516770 | L12: 농림부분 | M12: 0.00816
A13: 직 접 경 비 | B13: 재 료 유 인 비 | J13: =SUM(J14:J15) -> 150000 | L13: 표준담보 | M13: 2년초과시
B14: - 설계도서 | C14: 1 | D14: 건 | E14: 5 | F14: 부/건 | G14: 30000 | H14: 재료유인비 | J14: =INT(C14*E14*G14) -> 150000
B15: - 통합설계도 | D15: 건 | F15: 부/건 | G15: 10000 | H15: 재료유인비 | J15: =INT(C15*E15*G15) -> 0
B16: 재 료 비 | L16: 가산요율 | M16: 0.00131
B17: - 마킹테이프 | C17: =C3 -> 100 | D17: ha | E17: 0.013 | F17: 롤/ha | G17: 5000 | H17: 백색테이프 | J17: =C17*E17*G17 -> 6500
B18: 소 계 | J18: =SUM(J13,J17:J17) -> 156500 | L18: 2단계
A19: 제 경 비 | C19: 직접인건비 × 110% | J19: =INT(J12*1.1) -> 3868447 | L19: 순원가의 | M19: 0.0016
A20: 기 술 료 | C20: (직접인건비+제경비) × 20% | J20: =INT((J12+J19)*0.2) -> 1477043
A21: 순 원 가 | C21: 직접인건비 + 직접경비 + 제경비 + 기술료 | J21: =SUM(J12,J18,J19,J20) -> 9018760 | L21: 할인,할증
A22: 손해배상 공제보험 | C22: 1단계공제료 | E22: =INT(J21*M12) -> 73593 | G22: 2단계공제료 | H22: =INT(J21*M19) -> 14430 | J22: =SUM(E22,H22) -> 88023
A23: 총 원 가 | C23: 순원가 + 손해배상 공제보험료 | J23: =SUM(J21:J22) -> 9106783
A24: 부 가 가 치 세 | C24: 총원가 × 10% | J24: =INT(J23*0.1) -> 910678 | L24: 설계시기 | M24: 1월~5월
A25: 합 계 | J25: =SUM(J23:J24) -> 10017461 | M25: 10월~12월
A26: 사 업 비 제 계 | C26: 천원미만 절사 | J26: =ROUNDDOWN(J25,-3) -> 10017000 | M26: 6월~9월
L27: 산물수집 | M27: 재해예방 수집설계
A28: * 할인 · 할증 요소 | M28: 산물활용 수집설계
B29: 구 분 | C29: 내 용 | H29: 할인 · 증률 | M29: 일부구간 산물활용 수집설계
B30: 실시설계 시기 | C30: 1월~5월 | H30: =IF(C30=M24,0%,IF(C30=M25,5%,10%)) -> 0
B31: 계 | H31: =SUM(H30:H30) -> 0

Sheet 어린나무감리
A1: □ 숲가꾸기 감리 용역비 산출내역서(어린나무)
A3: 사업면적 | C3: 100 | E3: ha | F3: 개 소 : | G3: 봉화.봉성.우곡. 6임반 2소반 외 10개소
A4: 구분 | B4: 항목 | C4: 수 량 | E4: 품 | G4: 단 가 | I4: 할인 · 증률 | J4: 금 액
C5: (면적, 수량) | E5: (인원,수량,요율) | G5: (금 액)
D6: 단위 | F6: 단위 | H6: 종류
A7: 직 접 인 건 비 | B7: 설계서사전검토 | C7: =C3 -> 100 | D7: ha | E7: 0.02 | F7: 인/ha | G7: 232210 | H7: 고급기술자 | J7: =INT((C7*E7*G7)+(C7*E7*G7*I7)) -> 464420
B8: 현 장 지 도
B9: - 고급기술자 | C9: =C3 -> 100 | D9: ha | E9: 0.03 | F9: 인/ha | G9: =G7 -> 232210 | H9: 고급기술자 | I9: =H32 -> 0.1 | J9: =INT((C9*E9*G9)+(C9*E9*G9*I9)) -> 766293
B10: 예비사업완료검사 | L10: 표준담보 | M10: 2년초과시
B11: - 고급기술자(치수림) | C11: 50 | D11: ha | E11: 0.025 | F11: 인/ha | G11: =G7 -> 232210 | H11: 고급기술자 | I11: =H32 -> 0.1 | J11: =INT((C11*E11*G11)+(C11*E11*G11*I11)) -> 319288
B12: - 초급기술자(치수림) | C12: =C11 -> 50 | D12: ha | E12: 0.025 | F12: 인/ha | G12: 164798 | H12: 초급기술자 | I12: =H32 -> 0.1 | J12: =INT((C12*E12*G12)+(C12*E12*G12*I12)) -> 226597
B13: - 고급기술자(유령림) | C13: 50 | D13: ha | E13: 0.04 | F13: 인/ha | G13: =G11 -> 232210 | H13: 고급기술자 | I13: =H32 -> 0.1 | J13: =INT((C13*E13*G13)+(C13*E13*G13*I13)) -> 510862
B14: - 초급기술자(유령림) | C14: =C13 -> 50 | D14: ha | E14: 0.04 | F14: 인/ha | G14: =G12 -> 164798 | H14: 초급기술자 | I14: =H32 -> 0.1 | J14: =INT((C14*E14*G14)+(C14*E14*G14*I14)) -> 362555
B15: 감리보고서작성 | C15: =C3 -> 100 | D15: ha | E15: 0.05 | F15: 인/ha | G15: =G7 -> 232210 | H15: 고급기술자 | J15: =C15*E15*G15 -> 1161050
B16: 소 계 | J16: =SUM(J7:J15) -> 3811065 | L16: 2단계 | M16: 0.00833
A17: 직 접 경 비 | B17: 감리보고서 | C17: 1 | D17: 건 | E17: 2 | F17: 부/건 | G17: 20000 | H17: 재료유인비 | J17: =INT(C17*E17*G17) -> 40000
B18: 임업용 테이프 | C18: =C7 -> 100 | D18: ha | E18: 0.007 | F18: 롤/ha | G18: 4000 | H18: 테이프(적색) | J18: =INT((C18*E18*G18)+(C18*E18*G18*I18)) -> 2800
B19: 소 계 | J19: =SUM(J17:J18) -> 42800
A20: 제 경 비 | C20: 직접인건비 × 110% | J20: =INT(J16*1.1) -> 4192171 | L20: 순원가의 | M20: 0.0016
A21: 기 술 료 | C21: (직접인건비+제경비) × 20% | J21: =INT((J16+J20)*0.2) -> 1600647
A22: 순 원 가 | C22: 직접인건비 + 제경비 + 기술료 | J22: =SUM(J16,J19:J21) -> 9646683 | L22: 할인,할증
A23: 손해배상 공제보험 | C23: 1단계공제료 | E23: =INT(J22*M16) -> 80356 | G23: 2단계공제료 | H23: =INT(J22*M20) -> 15434 | J23: =SUM(E23,H23) -> 95790
A24: 총 원 가 | C24: 순원가 + 손해배상 공제보험료 | J24: =SUM(J22:J23) -> 9742473
A25: 부 가 가 치 세 | C25: 총원가 × 10% | J25: =INT(J24*0.1) -> 974247 | L25: 조사계절 | M25: 10월~11월, 3월~3월
A26: 합 계 | J26: =SUM(J24:J25) -> 10716720 | M26: 12월~2월
A27: 사 업 비 제 계 | C27: 천원미만 절사 | J27: =ROUNDDOWN(J26,-3) -> 10716000 | M27: 5월~9월
L28: 감리시기 | M28: 1월~5월
A29: * 할인 · 할증 요소 | M29: 10월~12월
B30: 구 분 | C30: 내 용 | H30: 할인 · 증률 | M30: 6월~9월
B31: 감리시기 | C31: 6월~9월 | H31: =IF(C31=M28,0,IF(C31=M29,5%,10%)) -> 0.1
B32: 계 | H32: =SUM(H31:H31) -> 0.1

Sheet 큰나무설계
A1: □ 실시설계비 산출내역서(기번1)
A3: 사업면적 | C3: 100 | E3: ha | F3: 개 소: | G3: 봉화.봉성.우곡.5임반 2소반 외 3개소 | K3: 사업 3개 기번
A4: 구분 | B4: 항목 | C4: 수 량 | E4: 품 | G4: 단 가 | I4: 할인 · 증률 | J4: 금 액
C5: (면적, 수량) | E5: (인원,수량,요율) | G5: (금 액)
D6: 단위 | F6: 단위 | H6: 종류
A7: 직 접 인 건 비 | B7: 대상지 현황조사 및 구역 확정 | C7: =C3 -> 100 | D7: ha | E7: 0.05 | F7: 인/ha | G7: 232210 | H7: 고급기술자 | I7: =H35 -> 0 | J7: =INT((C7*E7*G7)+(C7*E7*G7*I7)) -> 1161050
B8: 표 준 지 조 사
B9: - 고급기술자(수집) | C9: 0 | D9: ha | E9: 0.05 | F9: 인/ha | G9: =G7 -> 232210 | H9: 고급기술자 | I9: =H37 -> 0.2 | J9: =INT((C9*E9*G9)+(C9*E9*G9*I9)) -> 0
B10: - 초급기술자(수집) | C10: =C9 -> 0 | D10: ha | E10: 0.05 | F10: 인/ha | G10: 164798 | H10: 초급기술자 | I10: =H37 -> 0.2 | J10: =INT((C10*E10*G10)+(C10*E10*G10*I10)) -> 0
B11: - 고급기술자(미수집) | C11: 100 | D11: ha | E11: 0.05 | F11: 인/ha | G11: =G7 -> 232210 | H11: 고급기술자 | I11: =H35 -> 0 | J11: =INT((C11*E11*G11)+(C11*E11*G11*I11)) -> 1161050
B12: - 초급기술자(미수집) | C12: =C11 -> 100 | D12: ha | E12: 0.05 | F12: 인/ha | G12: =G10 -> 164798 | H12: 초급기술자 | I12: =H35 -> 0 | J12: =INT((C12*E12*G12)+(C12*E12*G12*I12)) -> 823990
B13: 설계도 · 서 작성(수집) | C13: =C9 -> 0 | D13: ha | E13: 0.05 | F13: 인/ha | G13: =G7 -> 232210 | H13: 고급기술자 | I13: =H36 -> 0.2 | J13: =INT((C13*E13*G13)+(C13*E13*G13*I13)) -> 0 | L13: 1단계 5억원이하
B14: 설계도 · 서 작성(미수집) | C14: =C11 -> 100 | D14: ha | E14: 0.05 | F14: 인/ha | G14: =G7 -> 232210 | H14: 고급기술자 | I14: 0 | J14: =INT((C14*E14*G14)+(C14*E14*G14*I14)) -> 1161050
B15: 소 계 | J15: =SUM(J7:J14) -> 4307140 | L15: 농림부분 | M15: 0.00816
A16: 직 접 경 비 | B16: 재 료 유 인 비 | J16: =SUM(J17:J18) -> 150000 | L16: 표준담보 | M16: 2년초과시
B17: - 설계도서 | C17: 1 | D17: 건 | E17: 5 | F17: 부/건 | G17: 30000 | H17: 재료유인비 | J17: =INT(C17*E17*G17) -> 150000
B18: - 통합설계도 | D18: 건 | F18: 부/건 | G18: 10000 | H18: 재료유인비 | J18: =INT(C18*E18*G18) -> 0
B19: 재 료 비 | L19: 가산요율 | M19: 0.00131
B20: - 페 인 트 | C20: =C3 -> 100 | D20: ha | E20: 0.1 | F20: ℓ/ha | G20: 7300 | H20: 친환경성수성 페인트(ℓ) | J20: =INT(C20*E20*G20) -> 73000
B21: - 잡 품 | C21: =J20 -> 73000 | D21: 원 | E21: 10 | F21: % | J21: =INT(C21*E21%) -> 7300
B22: - 마킹테이프 | C22: =C3 -> 100 | D22: ha | E22: 0.23 | F22: 롤/ha | G22: 5000 | H22: 백색테이프 | J22: =C22*E22*G22 -> 115000
B23: 소 계 | J23: =SUM(J16,J20:J22) -> 345300 | L23: 2단계
A24: 제 경 비 | C24: 직접인건비 × 110% | J24: =INT(J15*1.1) -> 4737854 | L24: 순원가의 | M24: 0.0016
A25: 기 술 료 | C25: (직접인건비+제경비) × 20% | J25: =INT((J15+J24)*0.2) -> 1808998
A26: 순 원 가 | C26: 직접인건비 + 직접경비 + 제경비 + 기술료 | J26: =SUM(J15,J23,J24,J25) -> 11199292 | L26: 할인,할증
A27: 손해배상 공제보험 | C27: 1단계공제료 | E27: =INT(J26*M15) -> 91386 | G27: 2단계공제료 | H27: =INT(J26*M24) -> 17918 | J27: =SUM(E27,H27) -> 109304
A28: 총 원 가 | C28: 순원가 + 손해배상 공제보험료 | J28: =SUM(J26:J27) -> 11308596
A29: 부 가 가 치 세 | C29: 총원가 × 10% | J29: =INT(J28*0.1) -> 1130859 | L29: 조사계절 | M29: 10월~11월, 3월~3월
A30: 합 계 | J30: =SUM(J28:J29) -> 12439455 | M30: 12월~2월
A31: 사 업 비 제 계 | C31: 천원미만 절사 | J31: =ROUNDDOWN(J30,-3) -> 12439000 | M31: 5월~9월
L32: 산물수집 | M32: 재해예방 수집설계
A33: * 할인 · 할증 요소 | M33: 산물활용 수집설계
B34: 구 분 | C34: 내 용 | H34: 할인 · 증률 | M34: 일부구간 산물활용 수집설계
B35: 조사계절 | C35: 12월~2월 | H35: =IF(C35=M29,-5%,IF(C35=M30,0,5%)) -> 0
B36: 산물수집 | C36: 산물활용 수집설계 | H36: =IF(C36=N32,0,IF(C36=M33,20%,J36*20%)) -> 0.2
B37: 계 | H37: =SUM(H35:H36) -> 0.2

Sheet 큰나무감리용역비
A1: □ 숲가꾸기 감리 용역비 산출내역서(기번1)
A3: 사업면적 | C3: 200 | E3: ha | F3: 개 소 : | G3: 봉화.봉성.우곡. 6임반 2소반 외 10개소
A4: 구분 | B4: 항목 | C4: 수 량 | E4: 품 | G4: 단 가 | I4: 할인 · 증률 | J4: 금 액
C5: (면적, 수량) | E5: (인원,수량,요율) | G5: (금 액)
D6: 단위 | F6: 단위 | H6: 종류
A7: 직 접 인 건 비 | B7: 사 전 조 사 | C7: =C3 -> 200 | D7: ha | E7: 0.01 | F7: 인/ha | G7: 232210 | H7: 고급기술자 | J7: =INT((C7*E7*G7)+(C7*E7*G7*I7)) -> 464420 | K7: 수집면적
B8: 사 전 교 육 | C8: 1 | D8: 건 | E8: 1 | F8: 인/건 | G8: =G7 -> 232210 | H8: 고급기술자 | J8: =INT(C8*E8*G8) -> 232210 | K8: 40.6ha
B9: 설계서사전검토 | C9: =C3 -> 200 | D9: ha | E9: 0.01 | F9: 인/ha | G9: =G7 -> 232210 | H9: 고급기술자 | J9: =INT((C9*E9*G9)+(C9*E9*G9*I9)) -> 464420
B10: 현 장 지 도
B11: - 고급기술자(수집) | C11: 0 | D11: ha | E11: 0.03 | F11: 인/ha | G11: =G7 -> 232210 | H11: 고급기술자 | I11: =H35 -> 0 | J11: =INT((C11*E11*G11)+(C11*E11*G11*I11)) -> 0 | L11: 1단계 5억원이하
B12: - 초급기술자(수집) | C12: 0 | D12: ha | E12: 0.03 | F12: 인/ha | G12: 164798 | H12: 초급기술자 | I12: =H34 -> 0 | J12: =INT((C12*E12*G12)+(C12*E12*G12*I12)) -> 0
B13: - 고급기술자(미수집) | C13: =C3 -> 200 | D13: ha | E13: 0.03 | F13: 인/ha | G13: =G7 -> 232210 | H13: 고급기술자 | J13: =INT((C13*E13*G13)+(C13*E13*G13*I13)) -> 1393260
B14: - 초급기술자(미수집) | C14: =C3 -> 200 | D14: ha | E14: 0.03 | F14: 인/ha | G14: =G12 -> 164798 | H14: 초급기술자 | J14: =INT((C14*E14*G14)+(C14*E14*G14*I14)) -> 988788 | L14: 농림부분 | M14: 0.00833
B15: 예비준공검사 | L15: 표준담보 | M15: 2년초과시
B16: - 고급기술자(수집) | C16: 0 | D16: ha | E16: 0.04 | F16: 인/ha | G16: =G7 -> 232210 | H16: 고급기술자 | I16: =H35 -> 0 | J16: =INT((C16*E16*G16)+(C16*E16*G16*I16)) -> 0
B17: - 초급기술자(수집) | C17: 0 | D17: ha | E17: 0.04 | F17: 인/ha | G17: =G12 -> 164798 | H17: 초급기술자 | I17: =H34 -> 0 | J17: =INT((C17*E17*G17)+(C17*E17*G17*I17)) -> 0
B18: - 고급기술자(미수집) | C18: =C3 -> 200 | D18: ha | E18: 0.04 | F18: 인/ha | G18: =G7 -> 232210 | H18: 고급기술자 | J18: =INT((C18*E18*G18)+(C18*E18*G18*I18)) -> 1857680
B19: - 초급기술자(미수집) | C19: =C3 -> 200 | D19: ha | E19: 0.04 | F19: 인/ha | G19: =G12 -> 164798 | H19: 초급기술자 | J19: =INT((C19*E19*G19)+(C19*E19*G19*I19)) -> 1318384
B20: 감리보고서작성 | C20: =C3 -> 200 | D20: ha | E20: 0.02 | F20: 인/ha | G20: =G7 -> 232210 | H20: 고급기술자 | J20: =C20*E20*G20 -> 928840
B21: 소 계 | J21: =SUM(J7:J20) -> 7648002 | L21: 2단계
A22: 직접경비 | B22: 보고서 유인비 | C22: 1 | D22: 건 | E22: 2 | F22: 부/건 | G22: 20000 | H22: 감리보고서 | J22: =INT(C22*E22*G22) -> 40000
A23: 제 경 비 | C23: 직접인건비 × 110% | J23: =INT(J21*1.1) -> 8412802 | L23: 순원가의 | M23: 0.0016
A24: 기 술 료 | C24: (직접인건비+제경비) × 20% | J24: =INT((J21+J23)*0.2) -> 3212160
A25: 순 원 가 | C25: 직접인건비 + 직접경비 + 제경비 + 기술료 | J25: =SUM(J21:J24) -> 19312964 | L25: 할인,할증
A26: 손해배상 공제보험 | C26: 1단계공제료 | E26: =INT(J25*M14) -> 160876 | G26: 2단계공제료 | H26: =INT(J25*M23) -> 30900 | J26: =SUM(E26,H26) -> 191776
A27: 총 원 가 | C27: 순원가 + 손해배상 공제보험료 | J27: =SUM(J25:J26) -> 19504740
A28: 부 가 가 치 세 | C28: 총원가 × 10% | J28: =INT(J27*0.1) -> 1950474 | L28: 조사계절 | M28: 10월~11월, 3월~3월
A29: 합 계 | J29: =SUM(J27:J28) -> 21455214 | M29: 12월~2월
A30: 사 업 비 제 계 | C30: 천원미만 절사 | J30: =ROUNDDOWN(J29,-3) -> 21455000 | M30: 5월~9월
L31: 산물수집 | M31: 재해예방 수집 감리
A32: * 할인 · 할증 요소 | M32: 산물활용 수집 감리
B33: 구 분 | C33: 내 용 | H33: 할인 · 증률 | M33: 일부구간 산물활용 수집 감리
B34: 산물수집 | C34: 재해예방 수집 감리 | H34: =IF(C34=M31,0,IF(C34=M32,20%,J34*20%)) -> 0
B35: 계 | H35: =SUM(H34:H34) -> 0

Sheet 감리용역비(임목수확)
A1: □ 감리용역비 산출내역서
A3: 사업면적 | C3: 8 | E3: ha
A4: 구분 | B4: 항목 | C4: 수 량 | E4: 품 | G4: 단 가 | I4: 금 액
C5: (면적, 수량) | E5: (인원,수량,요율) | G5: (금 액)
D6: 단위 | F6: 단위 | H6: 종류
A7: 직 접 인 건 비 | B7: 설계서 검토 | C7: 0 | D7: 건 | E7: 1 | F7: 일/인 | G7: 249900 | H7: 특급기술자 | I7: =INT(C7*E7*G7) -> 0
B8: 현 장 지 도 | C8: =C3 -> 8 | D8: ha | E8: 0.25 | F8: 인/ha | G8: 249900 | H8: 특급기술자 | I8: =INT(C8*E8*G8) -> 499800
B9: 사 업 평 가
B10: - 특급기술자 | C10: =C3 -> 8 | D10: ha | E10: 0.2 | F10: 인/ha | G10: 249900 | H10: 특급기술자 | I10: =INT(C10*E10*G10) -> 399840
B11: - 초급기술자 | C11: =C3 -> 8 | D11: ha | E11: 0.2 | F11: 인/ha | G11: 140862 | H11: 초급기술자 | I11: =INT(C11*E11*G11) -> 225379
B12: 사 업 비 정 산 | C12: 1 | D12: 건 | E12: 1 | F12: 인/건 | G12: 249900 | H12: 특급기술자 | I12: =INT(C12*E12*G12) -> 249900
B13: 감리보고서작성 | C13: =C3 -> 8 | D13: ha | E13: 0.05 | F13: 인/ha | G13: 249900 | H13: 특급기술자 | I13: =INT(C13*E13*G13) -> 99960
B14: 소 계 | I14: =SUM(I7:I13) -> 1474879
A15: 직 접 경 비 | B15: 재 료 유 인 비 | C15: 1 | D15: 건 | E15: 3 | F15: 부/건 | G15: 10000 | H15: 재료유인비 | I15: =INT(C15*E15*G15) -> 30000
B16: 재 료 비
B17: 소 계 | I17: =SUM(I15:I16) -> 30000
A18: 기타인건비(검척) | C18: 1100 | D18: ㎥ | E18: 150 | F18: ㎥/인/일 | G18: 140862 | H18: 초급기술자 | I18: =INT(C18/E18*G18) -> 1032988
A19: 제 경 비 | C19: 직접인건비 × 110% | I19: =INT(I14*1.1) -> 1622366
A20: 기 술 료 | C20: (직접인건비+제경비) × 20% | I20: =INT((I14+I19)*0.2) -> 619449
A21: 총 원 가 | C21: 직접인건비 + 직접경비 + 제경비 + 기술료+기타인건비 | I21: =SUM(I14,I17,I19,I20,I18) -> 4779682
A22: 부 가 가 치 세 | C22: 총원가 × 10% | I22: =INT(I21*0.1) -> 477968
A23: 합 계 | I23: =SUM(I21:I22) -> 5257650
A24: 사 업 비 제 계 | C24: 천원미만 절사 | I24: =ROUNDDOWN(I23,-3) -> 5257000

Sheet 기초자료
A1: 기초 자료
A3: □ 사업현황
A4: 사업명 | B4: 2026년 산불예방 숲가꾸기 감리용역 | D4: 사업년도 | E4: 2026
A5: 작업종 | B5: 수익솎아베기 | D5: 사업차수 | E5: 1
A6: 개소 | B6: 평창군 용평면 노동리 18임반 1소반 외 1개소 | D6: 사업면적 | E6: 14.6 | F6: ha
A7: 수종 | B7: 잣나무,강원지방소나무, 기타활엽수 | D7: 작성일 | E7: 2026. 9.
A8: 조사자 | B8: 농림운영주사보 이준표 | D8: 도급자
A9: 작성자 | B9: 농림운영주사보 이준표 | D9: 확인자 | E9: 임업주사 이정환
A11: □ 인건비, 재료비 단가
A12: 구 분 | B12: 단가 | C12: 규격 | D12: 비 고
A13: 고급기술자 | B13: 301863 | C13: 원 | D13: 25년 엔지니어링 기술부문별 단가(기타)
A14: 중급기술자 | B14: 261545 | D14: 25년 엔지니어링 기술부문별 단가(기타)
A15: 초급기술자 | B15: 229278 | C15: 원 | D15: 25년 엔지니어링 기술부문별 단가(기타)
A16: 재료유인비 | B16: 20000 | C16: 부 | D16: 감리보고서 20,000/부○ 용역건별 2부 기본 작성, 필요시 부수추가 가능
A17: 페인트 | B17: 4500 | C17: 원/ℓ | D17: 물가정보지(2026.1)-친환경 수성2급
A18: 테이프 | B18: 4400 | C18: 0.007Roll | D18: 마킹테이프(1box-12개)(유비통상 견적서에 의함)
A20: □ 원가계산 법정 요율 등
A21: 구 분 | B21: 적용기준 | C21: 요율 | D21: 단위 | E21: 비 고
A22: 제경비 | B22: 직접인건비의 | C22: 110 | D22: % | E22: 21년 숲가꾸기 설계,감리 및 사업시행 지침
A23: 기술료 | B23: (직접인건비+제경비)의 | C23: 20 | D23: % | E23: 21년 숲가꾸기 설계,감리 및 사업시행 지침
A24: 1단계보험료 | B24: 직접인건비+직접경비+제경비+기술료 | C24: 0.666 | D24: % | E24: 엔지니어링공제조합
A25: 2단계보험료 | B25: 직접인건비+직접경비+제경비+기술료 | C25: 0.16 | D25: % | E25: 엔지니어링공제조합

Sheet 용역비 산출
A1: 감 리 용 역 비 산 출 서
A3: 사업면적 | C3: 14.6 | E3: ha | F3: 개 소 : | G3: 평창군 용평면 노동리 18임반 1소반 외 1개소
A4: 구분 | B4: 항목 | C4: 수 량 | E4: 품 | G4: 단 가 | I4: 할인 · 증률 | J4: 금 액(원)
C5: (면적, 수량) | E5: (인원,수량,요율) | G5: (금 액) | L5: 고급 | M5: =기초자료!B13 -> 301863
D6: 단위 | F6: 단위 | H6: 종류 | L6: 초급 | M6: =기초자료!B15 -> 229278
A7: 직 접 인 건 비 | B7: 사 전 조 사 | C7: 14.6 | D7: ha | E7: 0.01 | F7: 인/ha | G7: =M5 -> 301863 | H7: 고급기술자 | J7: =INT((C7*E7*G7)+(C7*E7*G7*I7)) -> 44071 | M7: =SUM(M5:M6) -> 531141
B8: 사 전 교 육 | C8: 1 | D8: 건 | E8: 1 | F8: 인/건 | G8: =G7 -> 301863 | H8: 고급기술자 | J8: =INT(C8*E8*G8) -> 301863 | L8: 중급 | M8: =기초자료!B14 -> 261545
B9: 실시설계서 사전검토 | J9: =J10+J11 -> 69427
B10: - 사전검토(핵심) | C10: 2.1 | D10: ha | E10: 0.05 | F10: 인/ha | G10: =G7 -> 301863 | H10: 고급기술자 | J10: =INT((C10*E10*G10)+(C10*E10*G10*I10)) -> 31695
B11: - 사전검토(일반) | C11: 12.5 | D11: ha | E11: 0.01 | F11: 인/ha | G11: =G8 -> 301863 | H11: 고급기술자 | J11: =INT((C11*E11*G11)+(C11*E11*G11*I11)) -> 37732
B12: 현 장 지 도 | J12: =J13+J14 -> 471015.84 | P12: 산불예방숲가꾸기
B13: - 핵심구역 | C13: =C10 -> 2.1 | D13: ha | E13: 0.16 | F13: 인/ha | G13: =M7 -> 531141 | H13: 고급1,초급1 | I13: =H39 -> 0.3 | J13: =(C13*E13*G13)*130% -> 232002.39 | L13: 1단계 5억원이하 | P13: 핵심 | Q13: 2.1
B14: - 일반구역(수집) | C14: =Q14 -> 12.5 | D14: ha | E14: 0.03 | F14: 인/ha | G14: =M7 -> 531141 | H14: 고급1,초급1 | I14: =H40 -> 0.2 | J14: =(C14*E14*G14)*120% -> 239013.45 | P14: 일반 | Q14: 12.5
B15: - 일반구역(미수집) | C15: 0 | D15: ha | E15: 0.03 | F15: 인/ha | G15: =M7 -> 531141 | H15: 고급1,초급1 | J15: =INT((C15*E15*G15)+(C15*E15*G15*I15)) -> 0 | L15: 농림부분 | M15: 0.00666 | Q15: =SUM(Q13:R14) -> 14.6
B16: 현장안전관리(상주) | C16: =Q15 -> 14.6 | D16: ha | E16: 17.57 | F16: 인/일 | G16: =M8 -> 261545 | H16: 중급1 | J16: =(E16*G16)*120% -> 5514414.8
B17: 예비사업완료검사 | J17: =J18+J19 -> 623187.74 | L17: 표준담보 | M17: 2년초과시
B18: - 핵심구역 | C18: =C10 -> 2.1 | D18: ha | E18: 0.21 | F18: 인/ha | G18: =G13 -> 531141 | H18: 고급1,초급1 | I18: =H39 -> 0.3 | J18: =(C18*E18*G18)*130% -> 304503.14
B19: - 일반구역(수집) | C19: =Q14 -> 12.5 | D19: ha | E19: 0.04 | F19: 인/ha | G19: =G13 -> 531141 | H19: 고급1,초급1 | I19: =H40 -> 0.2 | J19: =(C19*E19*G19)*120% -> 318684.6 | P19: 산불예방 | S19: 핵심 | T19: 일반
B20: - 일반구역(미수집) | C20: 0 | D20: ha | E20: 0.04 | F20: 인/ha | G20: =G13 -> 531141 | H20: 고급1,초급1 | J20: =INT((C20*E20*G20)+(C20*E20*G20*I20)) -> 0 | P20: 18임반 1소반 | S20: 0.3 | T20: 10.6
B21: - 생산재 검척 | C21: 0 | D21: ㎥ | E21: 0.67 | F21: 인/100㎥ | G21: =M6 -> 229278 | H21: 초급기술자 | I21: 0.15 | J21: =INT(C21*E21*G21/100)+(C21*E21*G21/100*I21) -> 0 | P21: 19임반 2소반 | S21: 1.8 | T21: 1.9
B22: 감리보고서작성 | C22: =C3 -> 14.6 | D22: ha | E22: 0.02 | F22: 인/ha | G22: =G7 -> 301863 | H22: 고급기술자 | J22: =C22*E22*G22 -> 88143.996 | P22: 합계 | S22: =SUM(S14:S21) -> 2.1 | T22: =SUM(T14:T21) -> 12.5
B23: 소 계 | J23: =J7+J8+J9+J12+J16+J17+J22 -> 7112123.4 | M23: =(J23+J28)*120% -> 17922551 | S23: =S22+T22 -> 14.6
A24: 직접경비 | B24: 임업용 마킹테이프 | C24: =C3 -> 14.6 | D24: ha | E24: 0.13 | F24: roll/ha | G24: 5000 | H24: 황색테이프 | J24: =INT(C24*E24*G24) -> 9490
B25: 보고서 유인비 | C25: 1 | D25: 건 | E25: 2 | F25: 부/건 | G25: 20000 | H25: 감리보고서 | J25: =INT(C25*E25*G25) -> 40000 | L25: 2단계
B26: - 핵심구역 | C26: 2.1 | D26: ha | E26: 0.02 | F26: 인/ha | G26: 20000 | H26: 고급기술자 | I26: 0.2 | J26: =(C26*E26*G26)*120% -> 1008
B27: 소 계 | J27: =SUM(J24:J26) -> 50498
A28: 제 경 비 | C28: 직접인건비 ×110% | J28: =J23*110% -> 7823335.7 | L28: 순원가의 | M28: 0.0016
A29: 기 술 료 | C29: (직접인건비+제경비) × 20% | J29: =(J28+J23)*20% -> 2987091.8
A30: 순 원 가 | C30: 직접인건비 + 직접경비 + 제경비 + 기술료 | J30: =SUM(J23,J27:J29) -> 17973049 | L30: 할인,할증
A31: 손해배상 공제보험 | C31: 1단계공제료 | E31: =INT(J30*M15) -> 119700 | G31: 2단계공제료 | H31: =INT(J30*M28) -> 28756 | J31: =SUM(E31,H31) -> 148456
A32: 총 원 가 | C32: 순원가 + 손해배상 공제보험료 | J32: =SUM(J30:J31) -> 18121505
A33: 부 가 가 치 세 | C33: 총원가 × 10% | J33: =INT(J32*10%) -> 1812150 | L33: 조사계절 | M33: 10월~11월, 3월~3월
A34: 합 계 | J34: =SUM(J32:J33) -> 19933655 | M34: 12월~2월
A35: 사 업 비 제 계 | C35: 천원미만 절사 | J35: =ROUNDDOWN(J34,-3) -> 19933000 | M35: 5월~9월
L36: 산물수집 | M36: 미 수집(일반구역)
A37: * 할인 · 할증 요소 | M37: 산물활용 수집 감리(일반구역)
B38: 구 분 | C38: 내 용 | H38: 할인 · 증률 | M38: 산물활용 수집 감리(핵심구역)
B39: 산물수집(핵심) | C39: 산물활용 수집 감리(핵심구역) | H39: =IF(C39=M36,0,IF(C39=M37,0%,30%)) -> 0.3
B40: 산물수집(일반) | C40: 산물활용 수집 감리(일반구역) | H40: =IF(C40=M36,0,IF(C40=M37,20%,0%)) -> 0.2
A41: * 입력방법: 노란색 셀만 입력, 할인·할증은 단추 선택

Sheet 예정가격 평정서
A1: 예 정 가 격 결 정 서
A3: □ 용 역 명 : 2026년 산불예방 숲가꾸기 감리용역
A4: □ 사 업 장 소 : 평창군 대관령면 횡계리 71임반 13소반 외 5개소 | B4: =기초자료!B6 -> 평창군 용평면 노동리 18임반 1소반 외 1개소
A5: □ 면 적 : 14.6 ha
A6: □ 용 역 기 간 : 착수일로부터 41일
A7: □ 예 산 과 목 : 1534-302-420-04(숲가꾸기 감리비)
B10: 설계금액 | C10: =C11 -> 19933000 | F10: 원정
B11: ( | C11: ='용역비 산출'!J35 -> 19933000 | F11: )
B13: 결 정 액 | C13: 12050000 | F13: 원정
B14: ( | C14: ='용역비 산출'!J35 -> 19933000 | F14: )
C18: 위와 같이 결정함.
C20: 2026년 | D20: 9월 | E20: 일
C23: 결정관 : 평창국유림관리소장
D24: 기술서기관 이명규

Sheet 대상지
A1: 산불예방숲가꾸기사업 감리 용역(자원 1차) 대상지
A2: 경영계획구 | B2: 소재지 | C2: 임반 | D2: 소반 | E2: 소반면적(ha) | F2: 사업면적 | G2: 계획면적(ha) | I2: 주수종 | J2: 산림기능 | K2: 비고
G3: 핵심 | H3: 일반
A4: 합계 | E4: =SUM(E5) -> 52 | F4: =SUM(F5) -> 17.3 | G4: =SUM(G5) -> 2.8 | H4: =SUM(H5) -> 14.5
A5: 소계 | E5: =E6 -> 52 | F5: =F6 -> 17.3 | G5: =G6 -> 2.8 | H5: =H6 -> 14.5
A6: 대화 | B6: 평창, 대화, 대화 | C6: 158 | D6: 2 | E6: 52 | F6: =G6+H6 -> 17.3 | G6: 2.8 | H6: 14.5 | I6: 낙엽송 강원지방소나무 기타활엽수 | J6: 주: 목재생산림
