Workbook
Name _: [1]예가표!#REF!
Name _: [1]예가표!#REF!
Name _: [1]예가표!#REF!
Name _: [1]예가표!#REF!
Name _.사급자재대: #REF!
Name ________DD323: '[2]성포동 현대아파트 외 5개소 보도및경계석정비공사.xlsx'!________DD323
Name ________EE3: '[2]성포동 현대아파트 외 5개소 보도및경계석정비공사.xlsx'!________EE3
Name _______DD323: '[2]성포동 현대아파트 외 5개소 보도및경계석정비공사.xlsx'!_______DD323
Name _______EE3: '[2]성포동 현대아파트 외 5개소 보도및경계석정비공사.xlsx'!_______EE3
Name ______DD323: '[2]성포동 현대아파트 외 5개소 보도및경계석정비공사.xlsx'!______DD323
Name ______EE3: '[2]성포동 현대아파트 외 5개소 보도및경계석정비공사.xlsx'!______EE3
Name ______SBB1: #REF!
Name ______SBB2: #REF!
Name ______SBB3: #REF!
Name ______SBB4: #REF!
Name ______SBB5: #REF!
Name ______SHH1: #REF!
Name ______SHH2: #REF!
Name ______SHH3: #REF!
Name _____DD323: '[2]성포동 현대아파트 외 5개소 보도및경계석정비공사.xlsx'!_____DD323
Name _____EE3: '[2]성포동 현대아파트 외 5개소 보도및경계석정비공사.xlsx'!_____EE3
Name _____pa1: #REF!
Name _____pa2: #REF!
Name _____SBB1: #REF!
Name _____SBB2: #REF!
Name _____SBB3: #REF!
Name _____SBB4: #REF!
Name _____SBB5: #REF!
Name _____SHH1: #REF!
Name _____SHH2: #REF!
Name _____SHH3: #REF!
Name _____Ted1: #REF!
Name _____Ts1: #REF!
Name ____A1: #REF!
Name ____aab42: #REF!
Name ____DD323: '[2]성포동 현대아파트 외 5개소 보도및경계석정비공사.xlsx'!____DD323
Name ____EE3: '[2]성포동 현대아파트 외 5개소 보도및경계석정비공사.xlsx'!____EE3
Name ____pa1: #REF!
Name ____pa2: #REF!
Name ____SBB1: #REF!
Name ____SBB2: #REF!
Name ____SBB3: #REF!
Name ____SBB4: #REF!
Name ____SBB5: #REF!
Name ____SHH1: #REF!
Name ____SHH2: #REF!
Name ____SHH3: #REF!
Name ____Ted1: #REF!
Name ____Ts1: #REF!
Name ___10: #REF!
Name ___11: #REF!
Name ___6: #REF!
Name ___7: #REF!
Name ___8: #REF!
Name ___9: #REF!
Name ___A1: #REF!
Name ___aab42: #REF!
Name ___DAN1: #REF!
Name ___DAN10: #REF!
Name ___DAN100: #REF!

Sheet 표지
A2: =내역서!A4 -> 2026년 대부도 도로 내 관목 및 수목 정비공사
A6: 설 계 내 역 서
A13: 2026. 09.
A18: 안 산 시 대부개발과

Sheet 설명서
A1: 설 계 설 명 서
A4: 1. 공 사 명 : | C4: =표지!A2 -> 2026년 대부도 도로 내 관목 및 수목 정비공사
A6: 2. 위 치 : | C6: 경기도 안산시 단원구 대부도 주요도로 일원
A8: 3. 공 사 목 적 : | C8: 안산시 대부도 주요도로 내 도로 내 수목 전정 및 관목을 정비함으로써, 도로이용자의 원활한 도로환경 조성 및 편의성 증진
A11: 4. 공 사 개 요 : | C11: 가로수 166주 전정
C12: 잡관목 4,829m2 정비
A15: 5. 본 공사는 설계도서 및 시방서에 의하여 시공한다.
A17: 6. 본 공사의 기간은 착공일로부터 28일간으로 하며 예정공정은 별표와 같다.
A19: 7. 설계변경 조건
A20: 가) 본 공사는 조사당시 수집된 자료에 의하여 추정설계한 것인바 조사가 불가능한
A21: 부분 및 조사 후 변경된 사항에 대하여는 시공당시 실지에 맞추어 설계변경함.
A22: 나) 본 공사 시공 중 관의 방침이 변경되었을 때.
A23: 다) 당초 지정된 골재원의 운반거리가 변동 되었을 때.
A24: 라) 설계 상 품셈적용 및 계산착오가 있을 때.
A26: 8. 공사기간의 연기
A27: 가) 본 공사기간 중 강우일수가 과거 5년 동안의 평균강우일수 보다 초과 되었을 때.
A28: 나) 천재지변으로 인하여 작업이 중단되었을 때.
A29: 다) 관의 지시에 의하여 작업이 중단되었을 때.
... A66: 그 변경을 요구 할 수 있다.

Sheet 일반 시방서
A1: 일 반 시 방 서
A3: 1. 본 공사는 조경 및 토목공사 표준시방서 및 특별시방서의 해당 조항에 의해 시공한다.
A5: 2. 본 시방서에 명시되지 않은 사항에 대하여는 공사 감독관의 지시에 따른다.
A7: 3. 현장대리인은 감독관의 사전 승인없이 현장에서 이탈하지 못한다.
A9: 4. 공사 중 설계도서 및 시방서에 명시되지 않은 경미한 사항은 도급인 부담으로 공사감독관의 지시에 따라 시행하여야 한다.
A11: 5. 도급인은 공사전에 착공계, 현장대리인계 및 도급공사 내역서, 예정공정표, 기타 조달규정에 의한 제반서류를 감독관에게 제출
A12: 하여야 한다.
A14: 6. 도급인은 감독관이 요구한 규격의 사진을 공사착수 전경과 중요부분 시공중과 준공전경을 촬영하여 감독관에게 제출하여야 한다.
A16: 7. 감독관이 필요로 하는 공사도면 및 사무용품은 도급인 부담으로 제공한다.
A18: 8. 공사 중 도급인이 불완전한 시공을 할때 감독관은 공사를 중지시킬 수 있으며 도급인은 이에 이의를 제기하거나 손해 배상 청구를
A19: 할 수 없다.
A21: 9. 시공된 구조물검사를 위하여 부분적으로 파괴시켰을 때에는 도급자 부담으로 감독관이 지시하는 시일까지 복구하여야 한다.
... A40: 18. 본 시방서에 명시되지 않은 사항이라도 관계법규 및 사회통념상 처리하여야 할 사항 등 관계있는 것은 이를 준수하여야 한다.

Sheet 특별 시방서
A1: 특별시방서(총칙)
A3: 1. 착공계 제출
A4: 도급자는 착공계 제출 시 공사 착공전 사진 및 현장대리인, 안전관리인, 품질관리인을 선임하고 그에 따른 관리계획서와 재해 사전예방 대책
A5: 환경관리계획서를 시행청에 제출하여야 한다.
A6: 2. 현장 확인
A7: 도급자는 착공과 동시에 현장확인을 실시하고 설계도서와 상이되는 사항이 발견될 경우 감독관과 협의하여 즉시 시행청에 보고하고 지시를
A8: 받아 시공하여야 한다.
A9: 3. 시공계획 제출
A10: 현장대리인은 착공과 동시에 시공에 관한 도급내역서, 예정 공정표 및 세부계획서를 제출하여 감독관의 승인을 얻어 공사를 착공하여야 한다.
A11: 4. 관련자 현장 이탈금지
A12: 현장 대리인은 감독관의 사전 승인없이 절대 현장을 이탈하여서는 안된다.
A13: 5. 가설물 및 안내판
... A34: 도급자는 착공전, 공사중, 준공 등 공사전반에 걸쳐 칼라사진을 수시로 제출하고 준공 시 사진첩 2부를 작성하여 제출하여야 한다.

Sheet 예정공정표
A1: 공 사 예 정 공 정 표
B2: 공사명: | C2: =공사원가계산서!B2 -> 2026년 대부도 도로 내 관목 및 수목 정비공사
A4: 공 종 | C4: 공 사 기 간 | AE4: 비 고
C5: 5 | H5: 10 | M5: 15 | R5: 20 | W5: 25 | AB5: 28
A6: 1 | B6: 자재준비작업
A8: =A6+1 -> 2 | B8: 조 경 공 사
A10: =A8+1 -> 3 | B10: 현 장 정 리(폐기처분 포함)
A13: 계 | AE13: 28일

Sheet 갑지
A1: 과 장 | B1: 대부개발과장 이창욱 (전자결재) | C1: 팀 장 | D1: 대부기반시설팀장 정우섭 (전자결재) | E1: 심 사 자 | F1: 지방시설서기 임승화 (전자결재) | G1: 설 계 자 | H1: 지방시설서기 이성민 (전자결재) | I1: 2026년 09월
A4: ="『"&+표지!A2&"』"&"설계내역서" -> 『2026년 대부도 도로 내 관목 및 수목 정비공사』설계내역서
C8: □ | D8: 위 치 | E8: : | F8: =설명서!C6 -> 경기도 안산시 단원구 대부도 주요도로 일원
C9: □ | D9: 사 업 량 | E9: : | F9: =설명서!C11 -> 가로수 166주 전정
F10: =설명서!C12 -> 잡관목 4,829m2 정비
C18: ■ | D18: 총공사금액 : | E18: =공사원가계산서!D35 -> 50174000 | H18: =+"(금"&NUMBERSTRING(E18,1)&"원)" -> (금오천일십칠만사천원)
C19: ■ | D19: 도급예정액 : | E19: =공사원가계산서!D33 -> 50174000 | H19: =+"(금"&NUMBERSTRING(E19,1)&"원)" -> (금오천일십칠만사천원)
C20: ■ | D20: 관급자재비 | E20: 0 | H20: =+"(금"&NUMBERSTRING(E20,1)&"원)" -> (금영원)
A23: 안산시

Sheet 공사원가계산서
A1: 공 사 원 가 계 산 서
A2: 공사명: | B2: =내역서!A4 -> 2026년 대부도 도로 내 관목 및 수목 정비공사
A3: 구 분 | D3: 금 액 | E3: 산 출 근 거 | F3: 비 고
A4: 비 목
A5: 순 공 사 원 가 | B5: 재료비 | C5: 직 접 재 료 비 | D5: =내역서!F4 -> 515460
C6: 소 계 | D6: =SUM(D5:D5) -> 515460
B7: 노무비 | C7: 직 접 노 무 비 | D7: =내역서!H4 -> 21102631
C8: 간 접 노 무 비 | D8: =INT(D7*18.4%) -> 3882884 | E8: 직노의18.4%
C9: 소 계 | D9: =SUM(D7:D8) -> 24985515
B10: 경 비 | C10: 경 비 | D10: =내역서!J4 -> 1834342
C11: 고용보험료 | D11: =INT(D9*1.01%) -> 252353 | E11: 노무비의 1.01%
C12: 산재보험료 | D12: =INT(D9*3.56%) -> 889484 | E12: 노무비의 3.56%
C13: 건강보험료 | E13: 직노의 3.595% | G13: * 공사기간 1개월(30일) 이상인 모든 건설공사
C14: 연금보험료 | E14: 직노의 4.75% | G14: * 공사기간 1개월(30일) 이상인 모든 건설공사
C15: 노인장기요양보험료 | E15: 건강보험료의 13.14% | G15: * 공사기간 1개월(30일) 이상인 모든 건설공사
C16: 퇴 직 공 제 부 금 | E16: 직노의 2.3% | G16: * 추정금액이 1억 이상인 건설공사
C17: 산업안전보건관리비 | D17: =INT(D5+D7)*3.15% -> 680969.87 | E17: (재료비+직노)*3.15% | G17: 2천만원이상
C18: 건설하도급발급수수료 | E18: (재료비+직노+기계경비)의 0.081% | G18: * 적용제외: 전문공사
C19: 건설기계대여 지급보증비 | D19: =INT((D5+D7+D10)*0.1%) -> 23452 | E19: (재료비+직노+기계경비)의 0.1%
C20: 환경보전비 | D20: =INT((D5+D7+D10)*0.3%) -> 70357 | E20: (재료비+직노+기계경비)의 0.3%
C21: 기 타 경 비 | D21: =INT((D5+D9)*4.9%) -> 1249547 | E21: (재료비+노무비)의 4.9%
C22: 석면분담금 | D22: =D9*0.006% -> 1499.1309 | E22: (노)의 0.006%
C23: 임금채권부담금 | D23: =D9*0.09% -> 22486.963 | E23: (노)의 0.09%
C24: 안전관리비 | D24: =내역서!L13 -> 4320756
C25: 소 계 | D25: =SUM(D13+D14+D15+D22+D23+D21+D20+D18+D17+D16+D19+D12+D11+D10+D24) -> 9345247
A26: 계 | D26: =SUM(D6+D9+D25) -> 34846222
A27: 일 반 관 리 비(%) | D27: =INT(D26*8%) -> 2787697 | E27: 순공사원가의 8%
A28: 이 윤(%) | D28: =INT((D9+D25+D27)*15%)-5897 -> 5561871 | E28: (노무비+경비+일반관리비)의 15%이내 | G28: =INT((D26+D27-D6)*15%)-1587 -> 5566181
A29: 소 계 | D29: =SUM(D26:D28) -> 43195790
A30: 폐 기 물 처 리 비 | D30: =내역서!L16 -> 2416938
A31: 공 급 가 액 | D31: =SUM(D29:D30) -> 45612728
A32: 부 가 가 치 세 | D32: =INT(D31*10%) -> 4561272 | E32: 공급가액의 10%
A33: 도 급 금 액 | D33: =D31+D32 -> 50174000
A34: 관 급 자 재 대
A35: 총 공 사 비 | D35: =SUM(D33:D34) -> 50174000

Sheet 내역서
A1: 내역서 | O1: =공사원가계산서!D33 -> 50174000
A2: 공 종 명 | B2: 규 격 | C2: 수량 | D2: 단위 | E2: 재 료 비 | G2: 노 무 비 | I2: 경 비 | K2: 합 계 | M2: 비 고
E3: 단 가 | F3: 금 액 | G3: 단 가 | H3: 금 액 | I3: 단 가 | J3: 금 액 | K3: 단 가 | L3: 금 액
A4: 2026년 대부도 도로 내 관목 및 수목 정비공사 | F4: =SUM(F5:F5) -> 515460 | H4: =SUM(H5:H5) -> 21102631 | J4: =SUM(J5:J5) -> 1834342 | L4: =F4+H4+J4 -> 23452433
A5: =A7 -> 1. 조경공 | C5: 1 | D5: 식 | E5: =F7 -> 515460 | F5: =TRUNC(E5*C5,0) -> 515460 | G5: =H7 -> 21102631 | H5: =TRUNC(G5*C5,0) -> 21102631 | I5: =J7 -> 1834342 | J5: =TRUNC(I5*C5,0) -> 1834342 | K5: =E5+G5+I5 -> 23452433 | L5: =F5+H5+J5 -> 23452433
A7: 1. 조경공 | C7: 1 | D7: 식 | F7: =SUM(F8:F11) -> 515460 | H7: =SUM(H8:H11) -> 21102631 | J7: =SUM(J8:J11) -> 1834342 | L7: =F7+H7+J7 -> 23452433
A8: =일위대가목록!B4 -> 가로수 전정(약전정) | B8: =일위대가목록!C4 -> B11~21cm 미만 | C8: ='위치도 및 세부 수량산출'!E18 -> 82 | D8: 주 | E8: =일위대가목록!F4 -> 2604 | F8: =TRUNC(E8*C8,0) -> 213528 | G8: =일위대가목록!H4 -> 70552 | H8: =TRUNC(G8*C8,0) -> 5785264 | I8: =일위대가목록!J4 -> 8005 | J8: =TRUNC(I8*C8,0) -> 656410 | K8: =E8+G8+I8 -> 81161 | L8: =F8+H8+J8 -> 6655202
A9: =일위대가목록!B5 -> 가로수 전정(약전정) | B9: =일위대가목록!C5 -> B21~31cm 미만 | C9: ='위치도 및 세부 수량산출'!F18 -> 71 | D9: 주 | E9: =일위대가목록!F5 -> 3418 | F9: =TRUNC(E9*C9,0) -> 242678 | G9: =일위대가목록!H5 -> 92599 | H9: =TRUNC(G9*C9,0) -> 6574529 | I9: =일위대가목록!J5 -> 10507 | J9: =TRUNC(I9*C9,0) -> 745997 | K9: =E9+G9+I9 -> 106524 | L9: =F9+H9+J9 -> 7563204
A10: =일위대가목록!B6 -> 가로수 전정(약전정) | B10: =일위대가목록!C6 -> B31~41cm 미만 | C10: ='위치도 및 세부 수량산출'!G18 -> 13 | D10: 주 | E10: =일위대가목록!F6 -> 4558 | F10: =TRUNC(E10*C10,0) -> 59254 | G10: =일위대가목록!H6 -> 123466 | H10: =TRUNC(G10*C10,0) -> 1605058 | I10: =일위대가목록!J6 -> 14009 | J10: =TRUNC(I10*C10,0) -> 182117 | K10: =E10+G10+I10 -> 142033 | L10: =F10+H10+J10 -> 1846429
A11: =일위대가목록!B8 -> 관목전정 | B11: =일위대가목록!C8 -> 나무 높이 0.9m 미만 | C11: ='위치도 및 세부 수량산출'!I39 -> 4828.8 | D11: m2 | E11: =일위대가목록!F8 -> 0 | F11: =TRUNC(E11*C11,0) -> 0 | G11: =일위대가목록!H8 -> 1478.1685 | H11: =TRUNC(G11*C11,0) -> 7137780 | I11: =일위대가목록!J8 -> 51.735185 | J11: =TRUNC(I11*C11,0) -> 249818 | K11: =E11+G11+I11 -> 1529.9037 | L11: =F11+H11+J11 -> 7387598
A13: 2. 안전관리비 | C13: 1 | D13: 식 | F13: =SUM(F14) -> 0 | H13: =SUM(H14) -> 0 | J13: =SUM(J14) -> 4320756 | L13: =F13+H13+J13 -> 4320756
A14: =일위대가목록!B9 -> 교통통제및안전처리 | B14: =일위대가목록!C9 -> 2인배치 | C14: ='위치도 및 세부 수량산출'!C20 -> 9 | D14: 일 | E14: =일위대가목록!F11 -> 0 | F14: =TRUNC(E14*C14,0) -> 0 | G14: =일위대가목록!H11 -> 0 | H14: =TRUNC(G14*C14,0) -> 0 | I14: =일위대가목록!K9 -> 480084 | J14: =TRUNC(I14*C14,0) -> 4320756 | K14: =E14+G14+I14 -> 480084 | L14: =F14+H14+J14 -> 4320756
A16: 3. 폐기물 운반 및 처리 | C16: 1 | D16: 식 | F16: =SUM(F17:F21) -> 0 | H16: =SUM(H17:H21) -> 0 | J16: =SUM(J17:J21) -> 2416938 | L16: =F16+H16+J16 -> 2416938
A17: 폐기물 운반 | B17: 임목폐기물 | C17: ='위치도 및 세부 수량산출'!C21+'위치도 및 세부 수량산출'!C40 -> 20.6576 | D17: ton | E17: =일위대가목록!F14 -> 0 | F17: =TRUNC(E17*C17,0) -> 0 | G17: =일위대가목록!H14 -> 0 | H17: =TRUNC(G17*C17,0) -> 0 | I17: ='폐기물 견적'!E21 -> 63000 | J17: =TRUNC(I17*C17,0) -> 1301428 | K17: =E17+G17+I17 -> 63000 | L17: =F17+H17+J17 -> 1301428
A18: 폐기물 처리 | B18: 임목폐기물 | C18: =C17 -> 20.6576 | D18: ton | E18: =일위대가목록!F15 -> 0 | F18: =TRUNC(E18*C18,0) -> 0 | G18: =일위대가목록!H15 -> 0 | H18: =TRUNC(G18*C18,0) -> 0 | I18: ='폐기물 견적'!E22 -> 54000 | J18: =TRUNC(I18*C18,0) -> 1115510 | K18: =E18+G18+I18 -> 54000 | L18: =F18+H18+J18 -> 1115510

Sheet 일위대가목록
A1: 일위대가목록
A2: 구분 | B2: 공 종 명 | C2: 규 격 | D2: 수 량 | E2: 단 위 | F2: 재 료 비 | H2: 노 무 비 | J2: 경 비 | K2: 합 계 | L2: 비 고
A3: 1 | B3: =일위대가_호표!R5 -> 가로수 전정(약전정) | C3: =일위대가_호표!B5 -> B11cm 미만 | D3: 1 | E3: 주 | F3: =일위대가_호표!F5 -> 1764 | H3: =일위대가_호표!H5 -> 47793 | J3: =일위대가_호표!J5 -> 5423 | K3: =F3+H3+J3 -> 54980
A4: =A3+1 -> 2 | B4: =일위대가_호표!R13 -> 가로수 전정(약전정) | C4: =일위대가_호표!B13 -> B11~21cm 미만 | D4: 1 | E4: 주 | F4: =일위대가_호표!F13 -> 2604 | H4: =일위대가_호표!H13 -> 70552 | J4: =일위대가_호표!J13 -> 8005 | K4: =F4+H4+J4 -> 81161
A5: =A4+1 -> 3 | B5: =일위대가_호표!R21 -> 가로수 전정(약전정) | C5: =일위대가_호표!B21 -> B21~31cm 미만 | D5: 1 | E5: 주 | F5: =일위대가_호표!F21 -> 3418 | H5: =일위대가_호표!H21 -> 92599 | J5: =일위대가_호표!J21 -> 10507 | K5: =F5+H5+J5 -> 106524
A6: =A5+1 -> 4 | B6: =일위대가_호표!R29 -> 가로수 전정(약전정) | C6: =일위대가_호표!B29 -> B31~41cm 미만 | D6: 1 | E6: 주 | F6: =일위대가_호표!F35 -> 4558 | H6: =일위대가_호표!H35 -> 123466 | J6: =일위대가_호표!J35 -> 14009 | K6: =F6+H6+J6 -> 142033
A7: =A6+1 -> 5 | B7: =일위대가_호표!R37 -> 관목전정 | C7: =일위대가_호표!B37 -> 나무 높이 0.9m 이상 | D7: 1 | E7: m2 | F7: =일위대가_호표!F37 -> 0 | H7: =일위대가_호표!H37 -> 2418 | J7: =일위대가_호표!J37 -> 84 | K7: =F7+H7+J7 -> 2502
A8: =A7+1 -> 6 | B8: =일위대가_호표!R44 -> 관목전정 | C8: 나무 높이 0.9m 미만 | D8: 1 | E8: m2 | F8: =일위대가_호표!F44 -> 0 | H8: =일위대가_호표!H44 -> 1478.1685 | J8: =일위대가_호표!J44 -> 51.735185 | K8: =F8+H8+J8 -> 1529.9037
A9: =A8+1 -> 7 | B9: =일위대가_호표!R51 -> 교통통제및안전처리 | C9: =일위대가_호표!B51 -> 2인배치 | D9: 1 | E9: 일 | F9: =일위대가_호표!F51 -> 0 | H9: =일위대가_호표!H51 -> 0 | J9: =일위대가_호표!J51 -> 480084 | K9: =F9+H9+J9 -> 480084

Sheet 일위대가_호표
A1: 일위대가_호표
A2: 공 종 명 | B2: 규 격 | C2: 수량 | D2: 단위 | E2: 재 료 비 | G2: 노 무 비 | I2: 경 비 | K2: 합 계 | M2: 비 고
E3: 단 가 | F3: 금 액 | G3: 단 가 | H3: 금 액 | I3: 단 가 | J3: 금 액 | K3: 단 가 | L3: 금 액
A5: =O5&P5&Q5&R5 -> No.1호표 가로수 전정(약전정) | B5: B11cm 미만 | C5: 1 | D5: 주 | F5: =F11 -> 1764 | H5: =H11 -> 47793 | J5: =J11 -> 5423 | L5: =F5+H5+J5 -> 54980 | O5: No. | P5: 1 | Q5: 호표 | R5: 가로수 전정(약전정)
A6: 조경공 | C6: 2 | D6: 인 | F6: =TRUNC(E6*C6,0) -> 0 | G6: ='노임단가(하반기 노임단가 적용 필요)'!$C$6 -> 257444 | H6: =TRUNC(G6*C6,0) -> 514888 | J6: =TRUNC(I6*C6,0) -> 0 | K6: =E6+G6+I6 -> 257444 | L6: =F6+H6+J6 -> 514888
A7: 보통인부 | C7: 2 | D7: 인 | F7: =TRUNC(E7*C7,0) -> 0 | G7: ='노임단가(하반기 노임단가 적용 필요)'!$C$8 -> 283323 | H7: =TRUNC(G7*C7,0) -> 566646 | J7: =TRUNC(I7*C7,0) -> 0 | K7: =E7+G7+I7 -> 283323 | L7: =F7+H7+J7 -> 566646
A8: 고소작업차 | B8: 3.0ton | C8: 8 | D8: hr | E8: =중기사용료목록!$E$13 -> 6837 | F8: =TRUNC(E8*C8,0) -> 54696 | G8: =중기사용료목록!$G$13 -> 50008 | H8: =TRUNC(G8*C8,0) -> 400064 | I8: =중기사용료목록!$I$13 -> 17396 | J8: =TRUNC(I8*C8,0) -> 139168 | K8: =E8+G8+I8 -> 74241 | L8: =F8+H8+J8 -> 593928
A9: 기계경비 | B9: 인력품의 3% | C9: 3 | D9: % | F9: =TRUNC(E9*C9,0) -> 0 | H9: =TRUNC(G9*C9,0) -> 0 | I9: =H6+H8+G8 -> 964960 | J9: =TRUNC(I9*C9%,0) -> 28948 | K9: =E9+G9+I9 -> 964960 | L9: =F9+H9+J9 -> 28948
A10: 계 | C10: 1 | D10: 일 | F10: =SUM(F6:F9) -> 54696 | H10: =SUM(H6:H9) -> 1481598 | J10: =SUM(J6:J9) -> 168116 | L10: =J10+H10+F10 -> 1704410
A11: 주당 산출 계 | B11: 계/31 | C11: 1 | D11: 주 | F11: =TRUNC(F10/31) -> 1764 | H11: =TRUNC(H10/31) -> 47793 | J11: =TRUNC(J10/31) -> 5423 | L11: =F11+H11+J11 -> 54980
A13: =O13&P13&Q13&R13 -> No.2호표 가로수 전정(약전정) | B13: B11~21cm 미만 | C13: 1 | D13: 주 | F13: =F19 -> 2604 | H13: =H19 -> 70552 | J13: =J19 -> 8005 | L13: =F13+H13+J13 -> 81161 | O13: No. | P13: =P5+1 -> 2 | Q13: 호표 | R13: 가로수 전정(약전정)
A14: 조경공 | C14: 2 | D14: 인 | F14: =TRUNC(E14*C14,0) -> 0 | G14: ='노임단가(하반기 노임단가 적용 필요)'!$C$6 -> 257444 | H14: =TRUNC(G14*C14,0) -> 514888 | J14: =TRUNC(I14*C14,0) -> 0 | K14: =E14+G14+I14 -> 257444 | L14: =F14+H14+J14 -> 514888
A15: 보통인부 | C15: 2 | D15: 인 | F15: =TRUNC(E15*C15,0) -> 0 | G15: ='노임단가(하반기 노임단가 적용 필요)'!$C$8 -> 283323 | H15: =TRUNC(G15*C15,0) -> 566646 | J15: =TRUNC(I15*C15,0) -> 0 | K15: =E15+G15+I15 -> 283323 | L15: =F15+H15+J15 -> 566646
A16: 고소작업차 | B16: 3.0ton | C16: 8 | D16: hr | E16: =중기사용료목록!$E$13 -> 6837 | F16: =TRUNC(E16*C16,0) -> 54696 | G16: =중기사용료목록!$G$13 -> 50008 | H16: =TRUNC(G16*C16,0) -> 400064 | I16: =중기사용료목록!$I$13 -> 17396 | J16: =TRUNC(I16*C16,0) -> 139168 | K16: =E16+G16+I16 -> 74241 | L16: =F16+H16+J16 -> 593928
A17: 기계경비 | B17: 인력품의 3% | C17: 3 | D17: % | F17: =TRUNC(E17*C17,0) -> 0 | H17: =TRUNC(G17*C17,0) -> 0 | I17: =H14+H16+G16 -> 964960 | J17: =TRUNC(I17*C17%,0) -> 28948 | K17: =E17+G17+I17 -> 964960 | L17: =F17+H17+J17 -> 28948
A18: 계 | C18: 1 | D18: 일 | F18: =SUM(F14:F17) -> 54696 | H18: =SUM(H14:H17) -> 1481598 | J18: =SUM(J14:J17) -> 168116 | L18: =J18+H18+F18 -> 1704410
A19: 주당 산출 계 | B19: 계/21 | C19: 1 | D19: 주 | F19: =TRUNC(F18/21) -> 2604 | H19: =TRUNC(H18/21) -> 70552 | J19: =TRUNC(J18/21) -> 8005 | L19: =F19+H19+J19 -> 81161
A21: =O21&P21&Q21&R21 -> No.3호표 가로수 전정(약전정) | B21: B21~31cm 미만 | C21: 1 | D21: 주 | F21: =F27 -> 3418 | H21: =H27 -> 92599 | J21: =J27 -> 10507 | L21: =F21+H21+J21 -> 106524 | O21: No. | P21: =P13+1 -> 3 | Q21: 호표 | R21: 가로수 전정(약전정)
A22: 조경공 | C22: 2 | D22: 인 | F22: =TRUNC(E22*C22,0) -> 0 | G22: ='노임단가(하반기 노임단가 적용 필요)'!$C$6 -> 257444 | H22: =TRUNC(G22*C22,0) -> 514888 | J22: =TRUNC(I22*C22,0) -> 0 | K22: =E22+G22+I22 -> 257444 | L22: =F22+H22+J22 -> 514888
A23: 보통인부 | C23: 2 | D23: 인 | F23: =TRUNC(E23*C23,0) -> 0 | G23: ='노임단가(하반기 노임단가 적용 필요)'!$C$8 -> 283323 | H23: =TRUNC(G23*C23,0) -> 566646 | J23: =TRUNC(I23*C23,0) -> 0 | K23: =E23+G23+I23 -> 283323 | L23: =F23+H23+J23 -> 566646
A24: 고소작업차 | B24: 3.0ton | C24: 8 | D24: hr | E24: =중기사용료목록!$E$13 -> 6837 | F24: =TRUNC(E24*C24,0) -> 54696 | G24: =중기사용료목록!$G$13 -> 50008 | H24: =TRUNC(G24*C24,0) -> 400064 | I24: =중기사용료목록!$I$13 -> 17396 | J24: =TRUNC(I24*C24,0) -> 139168 | K24: =E24+G24+I24 -> 74241 | L24: =F24+H24+J24 -> 593928
A25: 기계경비 | B25: 인력품의 3% | C25: 3 | D25: % | F25: =TRUNC(E25*C25,0) -> 0 | H25: =TRUNC(G25*C25,0) -> 0 | I25: =H22+H24+G24 -> 964960 | J25: =TRUNC(I25*C25%,0) -> 28948 | K25: =E25+G25+I25 -> 964960 | L25: =F25+H25+J25 -> 28948
A26: 계 | C26: 1 | D26: 일 | F26: =SUM(F22:F25) -> 54696 | H26: =SUM(H22:H25) -> 1481598 | J26: =SUM(J22:J25) -> 168116 | L26: =J26+H26+F26 -> 1704410
A27: 주당 산출 계 | B27: 계/16 | C27: 1 | D27: 주 | F27: =TRUNC(F26/16) -> 3418 | H27: =TRUNC(H26/16) -> 92599 | J27: =TRUNC(J26/16) -> 10507 | L27: =F27+H27+J27 -> 106524
A29: =O29&P29&Q29&R29 -> No.4호표 가로수 전정(약전정) | B29: B31~41cm 미만 | C29: 1 | D29: 주 | F29: =F35 -> 4558 | H29: =H35 -> 123466 | J29: =J35 -> 14009 | L29: =F29+H29+J29 -> 142033 | O29: No. | P29: =P21+1 -> 4 | Q29: 호표 | R29: 가로수 전정(약전정)
A30: 조경공 | C30: 2 | D30: 인 | F30: =TRUNC(E30*C30,0) -> 0 | G30: ='노임단가(하반기 노임단가 적용 필요)'!$C$6 -> 257444 | H30: =TRUNC(G30*C30,0) -> 514888 | J30: =TRUNC(I30*C30,0) -> 0 | K30: =E30+G30+I30 -> 257444 | L30: =F30+H30+J30 -> 514888
A31: 보통인부 | C31: 2 | D31: 인 | F31: =TRUNC(E31*C31,0) -> 0 | G31: ='노임단가(하반기 노임단가 적용 필요)'!$C$8 -> 283323 | H31: =TRUNC(G31*C31,0) -> 566646 | J31: =TRUNC(I31*C31,0) -> 0 | K31: =E31+G31+I31 -> 283323 | L31: =F31+H31+J31 -> 566646
A32: 고소작업차 | B32: 3.0ton | C32: 8 | D32: hr | E32: =중기사용료목록!$E$13 -> 6837 | F32: =TRUNC(E32*C32,0) -> 54696 | G32: =중기사용료목록!$G$13 -> 50008 | H32: =TRUNC(G32*C32,0) -> 400064 | I32: =중기사용료목록!$I$13 -> 17396 | J32: =TRUNC(I32*C32,0) -> 139168 | K32: =E32+G32+I32 -> 74241 | L32: =F32+H32+J32 -> 593928
A33: 기계경비 | B33: 인력품의 3% | C33: 3 | D33: % | F33: =TRUNC(E33*C33,0) -> 0 | H33: =TRUNC(G33*C33,0) -> 0 | I33: =H30+H32+G32 -> 964960 | J33: =TRUNC(I33*C33%,0) -> 28948 | K33: =E33+G33+I33 -> 964960 | L33: =F33+H33+J33 -> 28948
A34: 계 | C34: 1 | D34: 일 | F34: =SUM(F30:F33) -> 54696 | H34: =SUM(H30:H33) -> 1481598 | J34: =SUM(J30:J33) -> 168116 | L34: =J34+H34+F34 -> 1704410
A35: 주당 산출 계 | B35: 계/12 | C35: 1 | D35: 주 | F35: =TRUNC(F34/12) -> 4558 | H35: =TRUNC(H34/12) -> 123466 | J35: =TRUNC(J34/12) -> 14009 | L35: =F35+H35+J35 -> 142033
A37: =O37&P37&Q37&R37 -> No.5호표 관목전정 | B37: 나무 높이 0.9m 이상 | C37: 1 | D37: m2 | F37: =SUM(F38:F49) -> 0 | H37: =H42 -> 2418 | J37: =J42 -> 84 | L37: =L42 -> 2502 | O37: No. | P37: =P29+1 -> 5 | Q37: 호표 | R37: 관목전정
A38: 조경공 | B38: 일반공사 직종 | C38: 2 | D38: 인 | F38: =TRUNC(E38*C38,0) -> 0 | G38: ='노임단가(하반기 노임단가 적용 필요)'!C6 -> 257444 | H38: =TRUNC(G38*C38,0) -> 514888 | J38: =TRUNC(I38*C38,0) -> 0 | K38: =E38+G38+I38 -> 257444 | L38: =F38+H38+J38 -> 514888
A39: 보통인부 | B39: 일반공사 직종 | C39: 1 | D39: 인 | F39: =TRUNC(E39*C39,0) -> 0 | G39: ='노임단가(하반기 노임단가 적용 필요)'!C8 -> 283323 | H39: =TRUNC(G39*C39,0) -> 283323 | J39: =TRUNC(I39*C39,0) -> 0 | K39: =E39+G39+I39 -> 283323 | L39: =F39+H39+J39 -> 283323
A40: 공구손료 | B40: 인력품의 3.5% | C40: 3.5 | D40: % | F40: =TRUNC(E40*C40,0) -> 0 | H40: =TRUNC(G40*C40,0) -> 0 | I40: =H38+H39 -> 798211 | J40: =TRUNC(I40*C40/100,0) -> 27937 | K40: =E40+G40+I40 -> 798211 | L40: =F40+H40+J40 -> 27937
A41: 계 | C41: 1 | D41: 일 | F41: =SUM(F38:F40) -> 0 | H41: =SUM(H38:H40) -> 798211 | J41: =SUM(J38:J40) -> 27937 | K41: =E41+G41+I41 -> 0 | L41: =F41+H41+J41 -> 826148
A42: m2당 산출 계 | B42: 계/330 | C42: 1 | D42: m2 | F42: =TRUNC(F41/330) -> 0 | H42: =TRUNC(H41/330) -> 2418 | J42: =TRUNC(J41/330) -> 84 | K42: =E42+G42+I42 -> 0 | L42: =F42+H42+J42 -> 2502
A44: =O44&P44&Q44&R44 -> No.6호표 관목전정 | B44: 나무 높이 0.9m 미만 | C44: 1 | D44: m2 | F44: =F49 -> 0 | H44: =H49 -> 1478.1685 | J44: =J49 -> 51.735185 | L44: =L49 -> 1529.9037 | O44: No. | P44: =P37+1 -> 6 | Q44: 호표 | R44: 관목전정
A45: 조경공 | B45: 일반공사 직종 | C45: 2 | D45: 인 | F45: =TRUNC(E45*C45,0) -> 0 | G45: ='노임단가(하반기 노임단가 적용 필요)'!C6 -> 257444 | H45: =TRUNC(G45*C45,0) -> 514888 | J45: =TRUNC(I45*C45,0) -> 0 | K45: =E45+G45+I45 -> 257444 | L45: =F45+H45+J45 -> 514888
A46: 보통인부 | B46: 일반공사 직종 | C46: 1 | D46: 인 | F46: =TRUNC(E46*C46,0) -> 0 | G46: ='노임단가(하반기 노임단가 적용 필요)'!C8 -> 283323 | H46: =TRUNC(G46*C46,0) -> 283323 | J46: =TRUNC(I46*C46,0) -> 0 | K46: =E46+G46+I46 -> 283323 | L46: =F46+H46+J46 -> 283323
A47: 공구손료 | B47: 인력품의 3.5% | C47: 3.5 | D47: % | F47: =TRUNC(E47*C47,0) -> 0 | H47: =TRUNC(G47*C47,0) -> 0 | I47: =H45+H46 -> 798211 | J47: =TRUNC(I47*C47/100,0) -> 27937 | K47: =E47+G47+I47 -> 798211 | L47: =F47+H47+J47 -> 27937
A48: 계 | C48: 1 | D48: 일 | F48: =SUM(F45:F47) -> 0 | H48: =SUM(H45:H47) -> 798211 | J48: =SUM(J45:J47) -> 27937 | K48: =E48+G48+I48 -> 0 | L48: =F48+H48+J48 -> 826148
A49: m2당 산출 계 | B49: 계/540 | C49: 1 | D49: m2 | F49: =TRUNC(F48)/540 -> 0 | H49: =TRUNC(H48)/540 -> 1478.1685 | J49: =TRUNC(J48)/540 -> 51.735185 | K49: =E49+G49+I49 -> 0 | L49: =F49+H49+J49 -> 1529.9037
A51: =O51&P51&Q51&R51 -> No.7호표 교통통제및안전처리 | B51: 2인배치 | C51: 1 | D51: 일 | F51: =SUM(F52:F52) -> 0 | H51: =SUM(H52:H52) -> 0 | J51: =SUM(J52:J52) -> 480084 | L51: =F51+H51+J51 -> 480084 | O51: No. | P51: =P44+1 -> 7 | Q51: 호표 | R51: 교통통제및안전처리
A52: 특별인부 | B52: 일반공사 직종 | C52: 2 | D52: 인 | F52: =TRUNC(E52*C52,0) -> 0 | H52: =TRUNC(G52*C52,0) -> 0 | I52: ='노임단가(하반기 노임단가 적용 필요)'!C7 -> 240042 | J52: =TRUNC(I52*C52,0) -> 480084 | K52: =E52+G52+I52 -> 240042 | L52: =F52+H52+J52 -> 480084 | M52: 경비적용

Sheet 중기사용료목록
A1: 중기사용료목록
A2: 공 종 명 | B2: 규 격 | C2: 수 량 | D2: 단 위 | E2: 재 료 비 | G2: 노 무 비 | I2: 경 비 | J2: 합 계 | K2: 비 고
A3: 부착용집계 | B3: 0.2 M3 | C3: 1 | D3: HR | I3: =중기사용료!G7 -> 3674 | J3: =E3+G3+I3 -> 3674
A4: 굴삭기(무한궤도) | B4: 0.2 M3 | C4: 1 | D4: HR | E4: =중기사용료!G21 -> 11119 | G4: =중기사용료!G23 -> 59025 | I4: =중기사용료!G18 -> 13873 | J4: =E4+G4+I4 -> 84017
A5: 굴삭기(무한궤도) | B5: 0.4 M3 | C5: 1 | D5: HR | E5: =중기사용료!G33 -> 22199 | G5: =중기사용료!G35 -> 59025 | I5: =중기사용료!G30 -> 17514 | J5: =E5+G5+I5 -> 98738
A6: 굴삭기(무한궤도) | B6: 0.6 M3 | C6: 1 | D6: HR | E6: =중기사용료!G47 -> 22872 | G6: =중기사용료!G49 -> 59025 | I6: =중기사용료!G44 -> 23423 | J6: =E6+G6+I6 -> 105320
A7: 굴삭기(무한궤도) | B7: 0.7 M3 | C7: 1 | D7: HR | E7: =중기사용료!G61 -> 26011 | G7: =중기사용료!G63 -> 59025 | I7: =중기사용료!G58 -> 24554 | J7: =E7+G7+I7 -> 109590
A8: 굴삭기(무한궤도)+브레이카 | B8: 0.7 M3 | C8: 1 | D8: HR | E8: =중기사용료!G75 -> 24732 | G8: =중기사용료!G77 -> 59025 | I8: =중기사용료!G72 -> 35295 | J8: =E8+G8+I8 -> 119052
A9: 진동 롤러 (핸드가이드식) | B9: 0.7 톤 | C9: 1 | D9: HR | E9: =중기사용료!G89 -> 4569 | G9: =중기사용료!G91 -> 36248 | I9: =중기사용료!G86 -> 1967 | J9: =E9+G9+I9 -> 42784
A10: 플레이트 콤팩터 | B10: 1.5 TON | C10: 1 | D10: HR | E10: =중기사용료!G103 -> 2226 | G10: =중기사용료!G105 -> 36248 | I10: =중기사용료!G100 -> 620 | J10: =E10+G10+I10 -> 39094
A11: 물탱크(살수차) | B11: 5500 L | C11: 1 | D11: HR | E11: =중기사용료!G117 -> 22221 | G11: =중기사용료!G119 -> 50008 | I11: =중기사용료!G114 -> 9986 | J11: =E11+G11+I11 -> 82215
A12: 덤프트럭 | B12: 2.5ton | C12: 1 | D12: HR | E12: =중기사용료!G131 -> 7355 | G12: =중기사용료!G133 -> 50008 | I12: =중기사용료!G128 -> 6522 | J12: =E12+G12+I12 -> 63885
A13: 고소작업차 | B13: 3.0ton | C13: 1 | D13: HR | E13: =중기사용료!G145 -> 6837 | G13: =중기사용료!G147 -> 50008 | I13: =중기사용료!G142 -> 17396 | J13: =E13+G13+I13 -> 74241

Sheet 중기사용료
A1: 중기사용료
A3: 중 기 명 | B3: 부착용집게(0.2m3용) 0.2 M3
A4: 중기가격 | B4: =중기기초자료!G3 -> 4942 | C4: 천원
A5: 명 칭 | C5: 규 격 | D5: 수 량 | E5: 단 위 | F5: 단 가 | G5: 금 액 | H5: 비 고
A6: 경 비 | B6: 굴삭기(무한궤도) | C6: 0.2 M3 | D6: 0.74350 | E6: 천원 | F6: =중기기초자료!G3 -> 4942 | G6: =TRUNC(F6*D6, 1) -> 3674.3
B7: 소 계 | G7: =TRUNC(G6, 0) -> 3674
A8: 재 료 비 | B8: 경 유 | D8: 9.9 | E8: L | G8: =TRUNC(F8*D8, 1) -> 0
B9: 잡 품 | D9: 22 | E9: % | F9: 0 | G9: =TRUNC(G8*22%,1) -> 0
B10: 소 계 | G10: =TRUNC(G8+G9, 0) -> 0
A11: 노 무 비 | B11: 건설기계운전사 | C11: 구)건설기계운전기사 | D11: 1 | E11: 인 | G11: =TRUNC(F11*D11, 1) -> 0
B12: 소 계 | G12: =TRUNC(G11, 0) -> 0
B13: 총 계 | G13: =TRUNC(G7+G10+G12, 0) -> 3674
A14: 중 기 명 | B14: 굴삭기(무한궤도) 0.2 M3
A15: 중기가격 | B15: =중기기초자료!G4 -> 66538 | C15: 천원
A16: 명 칭 | C16: 규 격 | D16: 수 량 | E16: 단 위 | F16: 단 가 | G16: 금 액 | H16: 비 고
A17: 경 비 | B17: 굴삭기(무한궤도) | C17: 0.4 M3 | D17: 0.2085 | E17: 천원 | F17: =중기기초자료!G4 -> 66538 | G17: =TRUNC(F17*D17, 1) -> 13873.1
B18: 소 계 | G18: =TRUNC(G17, 0) -> 13873
A19: 재 료 비 | B19: 경 유 | D19: 5 | E19: L | F19: =중기기초자료!G18 -> 1838 | G19: =TRUNC(F19*D19, 1) -> 9190
B20: 잡 품 | D20: 21 | E20: % | F20: 0 | G20: =TRUNC(G19*D20%,1) -> 1929.9
B21: 소 계 | G21: =TRUNC(G19+G20, 0) -> 11119
A22: 노 무 비 | B22: 건설기계운전사 | C22: 구)건설기계운전기사 | D22: 1 | E22: 인 | F22: =TRUNC(중기기초자료!E14 * 25/20 * 16/12 * 1/8,1) -> 59025.6 | G22: =TRUNC(F22*D22, 1) -> 59025.6
B23: 소 계 | G23: =TRUNC(G22, 0) -> 59025
B24: 총 계 | G24: =TRUNC(G18+G21+G23, 0) -> 84017
A26: 중 기 명 | B26: 굴삭기(무한궤도) 0.4 M3
A27: 중기가격 | B27: =F29 -> 84000 | C27: 천원
A28: 명 칭 | C28: 규 격 | D28: 수 량 | E28: 단 위 | F28: 단 가 | G28: 금 액 | H28: 비 고
A29: 경 비 | B29: 굴삭기(무한궤도) | C29: 0.4 M3 | D29: 0.2085 | E29: 천원 | F29: =중기기초자료!F5 -> 84000 | G29: =TRUNC(F29*D29, 1) -> 17514
B30: 소 계 | G30: =TRUNC(G29, 0) -> 17514
A31: 재 료 비 | B31: 경 유 | D31: 9.9 | E31: L | F31: =중기기초자료!D18 -> 1838 | G31: =TRUNC(F31*D31, 1) -> 18196.2
B32: 잡 품 | D32: 22 | E32: % | F32: 0 | G32: =TRUNC(G31*22%,1) -> 4003.1
B33: 소 계 | G33: =TRUNC(G31+G32, 0) -> 22199
A34: 노 무 비 | B34: 건설기계운전사 | C34: 구)건설기계운전기사 | D34: 1 | E34: 인 | F34: =TRUNC(중기기초자료!E14 * 25/20 * 16/12 * 1/8,1) -> 59025.6 | G34: =TRUNC(F34*D34, 1) -> 59025.6
B35: 소 계 | G35: =TRUNC(G34, 0) -> 59025
B36: 총 계 | G36: =TRUNC(G30+G33+G35, 0) -> 98738
A40: 중 기 명 | B40: 굴삭기(무한궤도) 0.6 M3
A41: 중기가격 | B41: =F43 -> 112342 | C41: 천원
A42: 명 칭 | C42: 규 격 | D42: 수 량 | E42: 단 위 | F42: 단 가 | G42: 금 액 | H42: 비 고
A43: 경 비 | B43: 굴삭기(무한궤도) | C43: 0.6 M3 | D43: 0.2085 | E43: 천원 | F43: =중기기초자료!F6 -> 112342 | G43: =TRUNC(F43*D43, 1) -> 23423.3
B44: 소 계 | G44: =TRUNC(G43, 0) -> 23423
A45: 재 료 비 | B45: 경 유 | D45: 10.2 | E45: L | F45: =중기기초자료!D18 -> 1838 | G45: =TRUNC(F45*D45, 1) -> 18747.6
B46: 잡 품 | D46: 22 | E46: % | F46: 0 | G46: =TRUNC(G45*22%,1) -> 4124.4
B47: 소 계 | G47: =TRUNC(G45+G46, 0) -> 22872
A48: 노 무 비 | B48: 건설기계운전사 | C48: 구)건설기계운전기사 | D48: 1 | E48: 인 | F48: =TRUNC(중기기초자료!E14 * 25/20 * 16/12 * 1/8,1) -> 59025.6 | G48: =TRUNC(F48*D48, 1) -> 59025.6
B49: 소 계 | G49: =TRUNC(G48, 0) -> 59025
B50: 총 계 | G50: =TRUNC(G44+G47+G49, 0) -> 105320
A54: 중 기 명 | B54: 굴삭기(무한궤도) 0.7 M3
A55: 중기가격 | B55: =F57 -> 117766 | C55: 천원
A56: 명 칭 | C56: 규 격 | D56: 수 량 | E56: 단 위 | F56: 단 가 | G56: 금 액 | H56: 비 고
A57: 경 비 | B57: 굴삭기(무한궤도) | C57: 0.7 M3 | D57: 0.2085 | E57: 천원 | F57: =중기기초자료!F7 -> 117766 | G57: =TRUNC(F57*D57, 1) -> 24554.2
B58: 소 계 | G58: =TRUNC(G57, 0) -> 24554
A59: 재 료 비 | B59: 경 유 | D59: 11.6 | E59: L | F59: =중기기초자료!D18 -> 1838 | G59: =TRUNC(F59*D59, 1) -> 21320.8
B60: 잡 품 | D60: 22 | E60: % | F60: 0 | G60: =TRUNC(G59*22%,1) -> 4690.5
B61: 소 계 | G61: =TRUNC(G59+G60, 0) -> 26011
A62: 노 무 비 | B62: 건설기계운전사 | C62: 구)건설기계운전기사 | D62: 1 | E62: 인 | F62: =TRUNC(중기기초자료!E14 * 25/20 * 16/12 * 1/8,1) -> 59025.6 | G62: =TRUNC(F62*D62, 1) -> 59025.6
B63: 소 계 | G63: =TRUNC(G62, 0) -> 59025
B64: 총 계 | G64: =TRUNC(G58+G61+G63, 0) -> 109590
A67: 중 기 명 | B67: 굴삭기(무한궤도)+브레이카 0.7 M3
A68: 중기가격 | B68: =F70 -> 117766 | C68: 천원
A69: 명 칭 | C69: 규 격 | D69: 수 량 | E69: 단 위 | F69: 단 가 | G69: 금 액 | H69: 비 고
A70: 경 비 | B70: 굴삭기(무한궤도) | C70: 0.7 M3 | D70: 0.2038 | E70: 천원 | F70: =중기기초자료!F7 -> 117766 | G70: =TRUNC(F70*D70, 1) -> 24000.7
B71: 대형 브레이카 | C71: 0.7 M3용 | D71: 0.6533 | E71: 천원 | F71: =중기기초자료!F8 -> 17289 | G71: =TRUNC(F71*D71, 1) -> 11294.9
B72: 소 계 | G72: =TRUNC(G70+G71, 0) -> 35295
A73: 재 료 비 | B73: 경 유 | D73: 11.6 | E73: L | F73: =중기기초자료!D18 -> 1838 | G73: =TRUNC(F73*D73, 1) -> 21320.8
B74: 잡 품 | D74: 16 | E74: % | F74: 0 | G74: =TRUNC(G73*16%,1) -> 3411.3
B75: 소 계 | G75: =TRUNC(G73+G74, 0) -> 24732
A76: 노 무 비 | B76: 건설기계운전사 | C76: 구)건설기계운전기사 | D76: 1 | E76: 인 | F76: =TRUNC(중기기초자료!E14 * 25/20 * 16/12 * 1/8,1) -> 59025.6 | G76: =TRUNC(F76*D76, 1) -> 59025.6
B77: 소 계 | G77: =TRUNC(G76, 0) -> 59025
B78: 총 계 | G78: =TRUNC(G72+G75+G77, 0) -> 119052
A82: 중 기 명 | B82: 진동 롤러 (핸드가이드식) 0.7 톤
A83: 중기가격 | B83: =F85 -> 6966 | C83: 천원
A84: 명 칭 | C84: 규 격 | D84: 수 량 | E84: 단 위 | F84: 단 가 | G84: 금 액 | H84: 비 고
A85: 경 비 | B85: 진동 롤러 (핸드가이드식) | C85: 0.7 톤 | D85: 0.2825 | E85: 천원 | F85: =중기기초자료!F9 -> 6966 | G85: =TRUNC(F85*D85, 1) -> 1967.8
B86: 소 계 | G86: =TRUNC(G85, 0) -> 1967
A87: 재 료 비 | B87: 경 유 | D87: 2.2 | E87: L | F87: =중기기초자료!D18 -> 1838 | G87: =TRUNC(F87*D87, 1) -> 4043.6
B88: 잡 품 | D88: 13 | E88: % | F88: 0 | G88: =TRUNC(G87*13%,1) -> 525.6
B89: 소 계 | G89: =TRUNC(G87+G88, 0) -> 4569
A90: 노 무 비 | B90: 일반기계운전사 | C90: 일반공사 직종 | D90: 1 | E90: 인 | F90: =TRUNC(중기기초자료!E16 * 25/20 * 16/12 * 1/8,1) -> 36248.9 | G90: =TRUNC(F90*D90, 1) -> 36248.9
B91: 소 계 | G91: =TRUNC(G90, 0) -> 36248
B92: 총 계 | G92: =TRUNC(G86+G89+G91, 0) -> 42784
A96: 중 기 명 | B96: 플레이트 콤팩터 1.5 TON
A97: 중기가격 | B97: =F99 -> 1673 | C97: 천원
A98: 명 칭 | C98: 규 격 | D98: 수 량 | E98: 단 위 | F98: 단 가 | G98: 금 액 | H98: 비 고
A99: 경 비 | B99: 플레이트 콤팩터 | C99: 1.5 TON | D99: 0.3708 | E99: 천원 | F99: =중기기초자료!F10 -> 1673 | G99: =TRUNC(F99*D99, 1) -> 620.3
B100: 소 계 | G100: =TRUNC(G99, 0) -> 620
A101: 재 료 비 | B101: 휘 발 유 | D101: 1 | E101: L | F101: =중기기초자료!D17 -> 1855 | G101: =TRUNC(F101*D101, 1) -> 1855
B102: 잡 품 | D102: 20 | E102: % | F102: 0 | G102: =TRUNC(G101*20%,1) -> 371
B103: 소 계 | G103: =TRUNC(G101+G102, 0) -> 2226
A104: 노 무 비 | B104: 일반기계운전사 | C104: 구)운전사(기계) | D104: 1 | E104: 인 | F104: =TRUNC(중기기초자료!E16 * 25/20 * 16/12 * 1/8,1) -> 36248.9 | G104: =TRUNC(F104*D104, 1) -> 36248.9
B105: 소 계 | G105: =TRUNC(G104, 0) -> 36248
B106: 총 계 | G106: =TRUNC(G100+G103+G105, 0) -> 39094
A110: 중 기 명 | B110: 물탱크(살수차) 5500 L
A111: 중기가격 | B111: =F113 -> 47263 | C111: 천원
A112: 명 칭 | C112: 규 격 | D112: 수 량 | E112: 단 위 | F112: 단 가 | G112: 금 액 | H112: 비 고
A113: 경 비 | B113: 물탱크(살수차) | C113: 5500 L | D113: 0.2113 | E113: 천원 | F113: =중기기초자료!F11 -> 47263 | G113: =TRUNC(F113*D113, 1) -> 9986.6
B114: 소 계 | G114: =TRUNC(G113, 0) -> 9986
A115: 재 료 비 | B115: 경 유 | D115: 9.3 | E115: L | F115: =중기기초자료!D18 -> 1838 | G115: =TRUNC(F115*D115, 1) -> 17093.4
B116: 잡 품 | D116: 30 | E116: % | F116: 0 | G116: =TRUNC(G115*30%,1) -> 5128
B117: 소 계 | G117: =TRUNC(G115+G116, 0) -> 22221
A118: 노 무 비 | B118: 화물차운전사 | C118: 구)운전사(운반차) | D118: 1 | E118: 인 | F118: =TRUNC(중기기초자료!E15* 25/20 * 16/12 * 1/8,1) -> 50008.7 | G118: =TRUNC(F118*D118, 1) -> 50008.7
B119: 소 계 | G119: =TRUNC(G118, 0) -> 50008
...

Sheet 중기기초자료
A1: 중기기초자료
A2: 명 칭 | B2: 규 격 | C2: 단 위 | D2: 재 료 비 | E2: 노 무 비 | F2: 경 비 | G2: 합 계 | H2: 비 고
A3: 부착용 집게 | B3: 0.2 M3 | C3: 천원 | D3: 0 | E3: 0 | F3: 4942 | G3: =D3+E3+F3 -> 4942
A4: 굴삭기(무한궤도) | B4: 0.2 M3 | C4: 천원 | D4: 0 | E4: 0 | F4: 66538 | G4: =D4+E4+F4 -> 66538
A5: 굴삭기(무한궤도) | B5: 0.4 M3 | C5: 천원 | D5: 0 | E5: 0 | F5: 84000 | G5: =D5+E5+F5 -> 84000
A6: 굴삭기(무한궤도) | B6: 0.6 M3 | C6: 천원 | D6: 0 | E6: 0 | F6: 112342 | G6: =D6+E6+F6 -> 112342
A7: 굴삭기(무한궤도) | B7: 0.7 M3 | C7: 천원 | D7: 0 | E7: 0 | F7: 117766 | G7: =D7+E7+F7 -> 117766
A8: 대형 브레이카 | B8: 0.7 M3용 | C8: 천원 | D8: 0 | E8: 0 | F8: 17289 | G8: =D8+E8+F8 -> 17289
A9: 진동 롤러 (핸드가이드식) | B9: 0.7 톤 | C9: 천원 | D9: 0 | E9: 0 | F9: 6966 | G9: =D9+E9+F9 -> 6966
A10: 플레이트 콤팩터 | B10: 1.5 TON | C10: 천원 | D10: 0 | E10: 0 | F10: 1673 | G10: =D10+E10+F10 -> 1673
A11: 물탱크(살수차) | B11: 5500 L | C11: 천원 | D11: 0 | E11: 0 | F11: 47263 | G11: =D11+E11+F11 -> 47263
A12: 덤프트럭 | B12: 2.5 ton | C12: 천원 | D12: 0 | E12: 0 | F12: 21982 | G12: =D12+E12+F12 -> 21982
A13: 고소작업차 | B13: 3.0 ton | C13: 천원 | D13: 0 | E13: 0 | F13: 66960 | G13: =D13+E13+F13 -> 66960
A14: 건설기계운전사 | B14: 일반공사 직종 | C14: 인 | D14: 0 | E14: ='노임단가(하반기 노임단가 적용 필요)'!C8 -> 283323 | F14: 0 | G14: =D14+E14+F14 -> 283323
A15: 화물차운전사 | B15: 일반공사 직종 | C15: 인 | D15: 0 | E15: ='노임단가(하반기 노임단가 적용 필요)'!C7 -> 240042 | F15: 0 | G15: =D15+E15+F15 -> 240042
A16: 일반기계운전사 | B16: 일반공사 직종 | C16: 인 | D16: 0 | E16: ='노임단가(하반기 노임단가 적용 필요)'!C9 -> 173995 | F16: 0 | G16: =D16+E16+F16 -> 173995
A17: 휘 발 유 | C17: L | D17: 1855 | E17: 0 | F17: 0 | G17: =D17+E17+F17 -> 1855
A18: 경 유 | C18: L | D18: 1838 | E18: 0 | F18: 0 | G18: =D18+E18+F18 -> 1838

Sheet 자재조서
A1: 자재조서
A2: 명 칭 | B2: 규 격 | C2: 단 위 | D2: 단 가 | E2: 가격정보 | F2: 가격정보 | G2: 물가자료 | H2: 물가자료 | I2: 물가정보 | J2: 물가정보 | K2: 거래가격 | L2: 거래가격 | M2: 견적단가 | N2: 견적단가 | O2: 비 고
E3: 단가 | F3: 페이지 | G3: 단가 | H3: 페이지 | I3: 단가 | J3: 페이지 | K3: 단가 | L3: 페이지 | M3: 단가 | N3: 페이지
A4: 혼합골재 | B4: 40mm 이하, 시내도착도 | C4: m3 | D4: =MIN(E4,G4,I4,K4,M4) -> 30000 | M4: ='골재 견적'!D12 -> 30000 | O4: 안산시
A5: 모래 | B5: 시내도착도 | C5: m3 | D5: =MIN(E5,G5,I5,K5,M5) -> 40000 | M5: ='골재 견적'!D16 -> 40000 | O5: 안산시
A6: 레미콘 | B6: 25-18-8 | C6: m3 | D6: =MIN(E6,G6,I6,K6,M6) -> 93740 | G6: 93740 | H6: 71
A7: 보통시멘트 | B7: 40kg | C7: kg | D7: =MIN(E7,G7,I7,K7,M7) -> 180 | G7: =7200/40 -> 180 | H7: 65
A8: 인조화강석블럭 | B8: 200x200xT60, 불투수 | C8: m2 | D8: =MIN(E8,G8,I8,K8,M8) -> 38000 | G8: 38000 | H8: 150
A9: 멀티블럭 | B9: T60, 불투수 | C9: m2 | D9: =MIN(E9,G9,I9,K9,M9) -> 37000 | G9: 37000 | H9: 150
A10: 디딤석 | B10: 판석(디딤용) | C10: m2 | D10: =MIN(E10,G10,I10,K10,M10) -> 85000 | G10: 85000 | H10: 338
A11: 경계엣지(스탯포함) | B11: H70 | C11: m | D11: =MIN(E11,G11,I11,K11,M11) -> 19500 | G11: 19500 | H11: 321
A12: 유로폼패널 | B12: 600×1200㎜ | C12: 매 | D12: =MIN(E12,G12,I12,K12,M12) -> 31000 | G12: 31000 | H12: 107
A13: 내부코너패널 | B13: (200+200)×1200㎜ | C13: 매 | D13: =MIN(E13,G13,I13,K13,M13) -> 24000 | G13: 24000 | H13: 107
A14: 레미콘 | B14: 25-18- 80(Mpa) | C14: ㎥ | D14: =MIN(E14,G14,I14,K14,M14) -> 93740 | G14: 93740 | H14: 71
A15: 화강석경계석 | B15: 150x150x1000,직선,모따기 R10 | C15: m | D15: =MIN(E15,G15,I15,K15,M15) -> 24000 | G15: 24000 | H15: 149
A16: 엔진오일 | B16: 가솔린용 | C16: L | D16: =MIN(E16,G16,I16,K16,M16) -> 5063 | G16: 5063 | H16: 하037
A17: 디자인그레이팅(측구용) | B17: 395×995 | C17: m | D17: =MIN(E17,G17,I17,K17,M17) -> 278400 | G17: 278400 | H17: 183

Sheet 노임단가(하반기 노임단가 적용 필요)
A1: 노임
A2: 명 칭 | B2: 단 위 | C2: 단 가 | D2: 비 고
A3: 조 경 공 | B3: 인 | C3: 235843 | D3: 2026년 하반기
A4: 특별인부 | B4: 인 | C4: 228717 | D4: 2026년 하반기
A5: 보통인부 | B5: 인 | C5: 172698 | D5: 2026년 하반기
A6: 벌목부 | B6: 인 | C6: 257444 | D6: 2026년 하반기
A7: 화물차 운전사 | B7: 인 | C7: 240042 | D7: 2026년 하반기
A8: 건설기계운전사 | B8: 인 | C8: 283323 | D8: 2026년 하반기
A9: 일반기계운전사 | B9: 인 | C9: 173995 | D9: 2026년 1.1

Sheet 골재 견적
A1: 2026년 건설자재(골재 등) 견적
A2: 구분 | B2: 수량 | C2: 단위 | D2: 공급가액(원) | J2: 비고
D3: 적용단가 | E3: ㈜축복환경기업 | F3: ㈜지지산업 | G3: 정석개발㈜ | H3: ㈜경환산업 | I3: ㈜미석골재
A4: 강사 | B4: 1 | C4: ㎥ | D4: =MIN(E4:I4) -> 48000 | E4: 54000 | F4: 55000 | G4: 55000 | H4: 56000 | I4: 48000 | O4: 지지 | P4: 010-8413-0118
A5: 해사(비세척사) | B5: 1 | C5: ㎥ | D5: =MIN(E5:I5) -> 44000 | E5: 46000 | F5: 45000 | G5: 44000 | H5: 45000 | I5: 50000 | O5: 축복 | P5: 010-2630-7842
A6: 세척사 | B6: 1 | C6: ㎥ | D6: =MIN(E6:I6) -> 43000 | E6: 44000 | F6: 46000 | G6: 43000 | H6: 46000 | I6: 52000 | O6: 정석 | P6: 010-5339-5422
A7: 마사토 | B7: 1 | C7: ㎥ | D7: =MIN(E7:I7) -> 23000 | E7: 24000 | F7: 23000 | G7: 23000 | H7: 24000 | I7: 28000 | O7: 경환 | P7: 010-8536-6056
A8: 미장사 | B8: 1 | C8: ㎥ | D8: =MIN(E8:I8) -> 43000 | E8: 45000 | F8: 44000 | G8: 43000 | H8: 45000 | I8: 52000 | O8: 미석 | P8: 010-9571-9978
A9: 25mm쇄석(자갈) | B9: 1 | C9: ㎥ | D9: =MIN(E9:I9) -> 39500 | E9: 42000 | F9: 40000 | G9: 39500 | H9: 43000 | I9: 45000
A10: 25mm혼합 | B10: 1 | C10: ㎥ | D10: =MIN(E10:I10) -> 36500 | E10: 37000 | F10: 37000 | G10: 36500 | H10: 37000 | I10: 50000
A11: 40mm쇄석(자갈) | B11: 1 | C11: ㎥ | D11: =MIN(E11:I11) -> 40000 | E11: 41000 | F11: 41000 | G11: 41000 | H11: 43000 | I11: 40000
A12: 40mm혼합 | B12: 1 | C12: ㎥ | D12: =MIN(E12:I12) -> 30000 | E12: 30000 | F12: 30000 | G12: 30000 | H12: 33000 | I12: 50000
A13: 75mm쇄석 | B13: 1 | C13: ㎥ | D13: =MIN(E13:I13) -> 41000 | E13: 41000 | F13: 41000 | G13: 41000 | H13: 42000 | I13: 50000
A14: 75mm혼합 | B14: 1 | C14: ㎥ | D14: =MIN(E14:I14) -> 38000 | E14: 40000 | F14: 38000 | G14: 38000 | H14: 42000 | I14: 50000
A15: 재생골재(순환골재) | B15: 1 | C15: ㎥ | D15: =MIN(E15:I15) -> 18000 | E15: 21000 | F15: 18000 | G15: 18000 | H15: 19000 | I15: 20000
A16: 부순모래 | B16: 1 | C16: ㎥ | D16: =MIN(E16:I16) -> 40000 | E16: 40000 | F16: 40000 | G16: 40000 | H16: 40000 | I16: 50000
A17: o 적용 - 상기 견적금액을 참고하여 최저가를 설계단가로 함 - 상기 견적금액은 부가가치세(VAT)는 별도 - 유가상승 및 변동에 의해 단가가 변경될 수 있음 - 관내 현장 도착도임(10m3 이하 운송료 별도)

Sheet 폐기물 견적
A1: 2026년 폐기물운반 및 처리비 견적
A2: 구분 | C2: 수량 | D2: 단위 | E2: 공급가액(원) | M2: 비고
E3: 적용단가 | F3: ㈜지지산업 | G3: ㈜축복환경기업 | H3: ㈜천일산업 | I3: 정석개발㈜ | J3: ㈜복천 | K3: 동광건설 | L3: ㈜경환산업
A4: 폐콘크리트 | B4: 운반 | C4: 1 | D4: 톤 | E4: =MIN(F4:L4) -> 19000 | F4: 20000 | G4: 21000 | H4: 20000 | I4: 19000 | J4: 22000 | K4: 21000 | L4: 20000 | P4: 지지 | Q4: 010-8413-0118
B5: 처리 | C5: 1 | D5: 톤 | E5: =MIN(F5:L5) -> 21000 | F5: 22000 | G5: 22000 | H5: 22000 | I5: 21000 | J5: 22000 | K5: 23000 | L5: 23000 | P5: 축복 | Q5: 010-2630-7842
A6: 폐아스콘 | B6: 운반 | C6: 1 | D6: 톤 | E6: =MIN(F6:L6) -> 19000 | F6: 20000 | G6: 21000 | H6: 20000 | I6: 19000 | J6: =J4 -> 22000 | K6: 21000 | L6: 20000 | P6: 천일 | Q6: 010-2741-6791
B7: 처리 | C7: 1 | D7: 톤 | E7: =MIN(F7:L7) -> 22000 | F7: 24000 | G7: 23000 | H7: 22000 | I7: 23000 | J7: 28000 | K7: 25000 | L7: 24000 | P7: 정석 | Q7: 010-5339-5422
A8: 폐아스콘 (파쇄분) | B8: 운반 | C8: 1 | D8: 톤 | E8: =MIN(F8:L8) -> 19000 | F8: 20000 | G8: 21000 | H8: 20000 | I8: 19000 | J8: 24000 | K8: 22000 | L8: 20000 | M8: 재생불가시 | P8: 복천 | Q8: 010-6256-3700
B9: 처리 | C9: 1 | D9: 톤 | E9: =MIN(F9:L9) -> 22000 | F9: 24000 | G9: 23000 | H9: 22000 | I9: 23000 | J9: =J7 -> 28000 | K9: 25000 | L9: 24000 | P9: 동광 | Q9: 010-5453-8497
B10: 운반 | C10: 1 | D10: 톤 | E10: =MIN(F10:L10) -> 21000 | F10: 21000 | G10: 22000 | H10: 21000 | I10: 21500 | J10: 25000 | K10: 23000 | L10: 22000 | M10: 재생가능(처리비 x) | P10: 경환 | Q10: 010-8536-6056
A11: 일반건축물 | B11: 운반 | C11: 1 | D11: 톤 | E11: =MIN(F11:L11) -> 90000 | F11: 100000 | G11: 110000 | H11: 100000 | I11: 90000 | J11: 120000 | K11: 110000 | L11: 100000
B12: 처리 | C12: 1 | D12: 톤 | E12: =MIN(F12:L12) -> 190000 | F12: 200000 | G12: 190000 | H12: 200000 | I12: 190000 | J12: 270000 | K12: 210000 | L12: 190000
A13: 건축마감재 | B13: 운반 | C13: 1 | D13: 톤 | E13: =MIN(F13:L13) -> 90000 | F13: 100000 | G13: 110000 | H13: 100000 | I13: 90000 | J13: =J11 -> 120000 | K13: 100000 | L13: 100000
B14: 처리 | C14: 1 | D14: 톤 | E14: =MIN(F14:L14) -> 190000 | F14: 200000 | G14: 190000 | H14: 200000 | I14: 190000 | J14: =J12 -> 270000 | K14: 200000 | L14: 210000
A15: 혼합폐기물 | B15: 운반 | C15: 1 | D15: 톤 | E15: =MIN(F15:L15) -> 90000 | F15: 100000 | G15: 110000 | H15: 100000 | I15: 90000 | J15: =J11 -> 120000 | K15: 100000 | L15: 100000
B16: 처리 | C16: 1 | D16: 톤 | E16: =MIN(F16:L16) -> 190000 | F16: 200000 | G16: 190000 | H16: 200000 | I16: 200000 | J16: =J14 -> 270000 | K16: 210000 | L16: 210000
A17: 폐합성수지 | B17: 운반 | C17: 1 | D17: 톤 | E17: =MIN(F17:L17) -> 120000 | F17: 130000 | H17: 130000 | I17: 120000 | J17: 170000 | K17: 150000 | L17: 130000
B18: 처리 | C18: 1 | D18: 톤 | E18: =MIN(F18:L18) -> 380000 | F18: 430000 | H18: 400000 | I18: 380000 | J18: 380000 | K18: 500000 | L18: 450000
A19: 건설폐토석 | B19: 운반 | C19: 1 | D19: 톤 | E19: =MIN(F19:L19) -> 19000 | F19: 19000 | G19: 21000 | H19: 20000 | I19: 19000 | J19: 25000 | K19: 21000 | L19: 20000
B20: 처리 | C20: 1 | D20: 톤 | E20: =MIN(F20:L20) -> 29000 | F20: 30000 | G20: 33000 | H20: 31000 | I20: 29000 | J20: 40000 | K20: 33000 | L20: 32000 | M20: (쓰레기 10%미만)
A21: 임목폐기물 | B21: 운반 | C21: 1 | D21: 톤 | E21: =MIN(F21:L21) -> 63000 | I21: 63000 | J21: 150000
B22: 처리 | C22: 1 | D22: 톤 | E22: =MIN(F22:L22) -> 54000 | I22: 54000 | J22: 85000
A23: o 적용 - 상기 견적금액을 참고하여 최저가를 설계단가로 함 - 상기 견적금액은 부가가치세(VAT)는 별도 - 운반비 평균 : 15~20km 거리로 산정함

Sheet 위치도 및 세부 수량산출
A1: 수목전정 위치도
A11: 연번 | B11: 위치 | C11: 계 | D11: 가로수 (B11미만) | E11: 가로수 (B11 ~ 21미만) | F11: 가로수 (B21~31미만) | G11: 가로수 (B31~41미만) | J11: 비고
A12: 1 | B12: 대선로(대부남동 1348-2) | C12: =SUM(D12:G12) -> 34 | E12: 24 | F12: 10
A13: 2 | B13: 대남로(대부남동 산282-9) | C13: =SUM(D13:G13) -> 35 | E13: 14 | F13: 21 | J13: 마을안길 진입부 측 포함
A14: 3 | B14: 대남로(대부남동 산264-5) | C14: =SUM(D14:G14) -> 57 | E14: 44 | F14: 10 | G14: 3
A15: 4 | B15: 장골1길(대부남동 산127-4) | C15: =SUM(D15:G15) -> 26 | F15: 21 | G15: 5
A16: 7 | B16: 대부황금로(선감동 3-41) | C16: =SUM(D16:G16) -> 13 | F16: 9 | G16: 4
A17: 9 | B17: 대부황금로(대부동동 212-6) | C17: =SUM(D17:G17) -> 1 | G17: 1
B18: 소 계 (1~2) | C18: =SUM(C12:C17) -> 166 | D18: =SUM(D12:D17) -> 0 | E18: =SUM(E12:E17) -> 82 | F18: =SUM(F12:F17) -> 71 | G18: =SUM(G12:G17) -> 13 | H18: =SUM(H12:H15) -> 0 | I18: =SUM(I12:I15) -> 0
B19: 교통통제및안전처리 | C19: =E19+F19+G19 -> 9 | E19: =ROUND(E18/21,0) -> 4 | F19: =ROUND(F18/16,0) -> 4 | G19: =ROUND(G18/11,0) -> 1
B20: 소 계 (1~2) | C20: =C19 -> 9 | D20: =D19 -> 0 | E20: =E19 -> 4 | F20: =F19 -> 4 | G20: =G19 -> 1 | H20: =SUM(H14:H16) -> 0 | I20: =SUM(I14:I16) -> 0
B21: 폐기물 운반 | C21: =SUM(D21:G21) -> 11 | E21: =ROUND('폐기수목 산출근거'!AJ23/1000,0) -> 2 | F21: =ROUND('폐기수목 산출근거'!AJ27/1000,0) -> 6 | G21: =ROUND('폐기수목 산출근거'!AJ43/1000,0) -> 3
B22: 폐기물 처리 | C22: =SUM(D22:G22) -> 11 | E22: =E21 -> 2 | F22: =F21 -> 6 | G22: =G21 -> 3
B23: 소 계 (1~2) | C23: =C21+C22 -> 22 | D23: =D22 -> 0 | E23: =E21+E22 -> 4 | F23: =F21+F22 -> 12 | G23: =G21+G22 -> 6 | H23: =SUM(H16:H18) -> 0
A24: 관목전정 위치도
A34: 연번 | B34: 노선명 | C34: 연장(m) | D34: 폭(m) | E34: 면적(㎡) | F34: 적용비율(%) | G34: 적용면적(㎡) | H34: 횟수 | I34: 총면적(㎡) | J34: 비고
A35: 1 | B35: 대부황금로(양측) | C35: =(200+3400+8100)*2 -> 23400 | D35: 0.3 | E35: =C35*D35 -> 7020 | F35: 0.4 | G35: =E35*F35 -> 2808 | H35: 1 | I35: =G35 -> 2808 | J35: ① 대부북동 1981 ~ 대부도관광안내소(양측) ② 대부황금로 1435 ~ 대부북동 38-4(양측) ③ 대부동동 557 ~ 탄도방조제(양측)
A36: 2 | B36: 대선로(양측) | C36: =1900*2 -> 3800 | D36: 0.3 | E36: =C36*D36 -> 1140 | F36: 0.4 | G36: =E36*F36 -> 456 | H36: 1 | I36: =G36*H36 -> 456 | J36: 대부북동 198-5 ~ 선재대교
A37: 3 | B37: 장골1길(양측) | C37: =1300*2 -> 2600 | D37: 0.3 | E37: =C37*D37 -> 780 | F37: 0.4 | G37: =E37*F37 -> 312 | H37: 1 | I37: =G37*H37 -> 312 | J37: 대부남동 193-5 ~ 대부남동 257-6
A38: 4 | B38: 대남로~부흥로(양측) | C38: =5220*2 -> 10440 | D38: 0.3 | E38: =C38*D38 -> 3132 | F38: 0.4 | G38: =E38*F38 -> 1252.8 | H38: 1 | I38: =G38*H38 -> 1252.8 | J38: 대부도서관 ~ 대부남동 산16-11
B39: 소 계 (1~5) | C39: =SUM(C35:C38) -> 40240 | E39: =SUM(E35:E38) -> 12072 | G39: =SUM(G35:G38) -> 4828.8 | I39: =SUM(I35:I38) -> 4828.8
B40: 폐기물 운반 | C40: =I40 -> 9.6576 | E40: =I39*'수량산출-폐기물량'!AP3/1000 -> 12.072 | F40: 0.8 | I40: =E40*F40 -> 9.6576
B41: 폐기물 처리 | C41: =I41 -> 9.6576 | E41: =E40 -> 12.072 | F41: 0.8 | I41: =E41*F41 -> 9.6576
B42: 소 계 (1~5) | C42: =C40+C41 -> 19.3152 | E42: =E40+E41 -> 24.144 | I42: =I40+I41 -> 19.3152

Sheet 수량산출-폐기물량
A1: 수 종 명 | C1: 규 격 | J1: 폐기수목 산출근거 | AH1: M3 | AI1: 수량 | AJ1: 적용율 | AK1: 합계 | AL1: 지상부수량 | AN1: 벌근수량
A2: <폐기물 산출근거> | AL2: 흉고직경(cm) | AM2: 지상부중량(kg) | AN2: 근원직경(cm) | AO2: 벌근중량(kg)
AL3: 4이하 | AM3: 2 | AN3: 4이하 | AO3: 0.5 | AP3: =AVERAGE(AO3:AO8) -> 2.5
A4: <출처-조경설계요람 1998. 2> | M4: B | AL4: 5 | AM4: 3 | AN4: 5 | AO4: 0.9
A5: <지상부 중량계산 공식> | E5: W(㎏) | F5: = | G5: k | H5: × | I5: 3.14 | K5: × | L5: ( | M5: ─ | N5: )² | O5: × | P5: h | Q5: × | R5: w1 | S5: × | T5: ( | U5: 1 | V5: + | W5: P | X5: ) | AL5: 6 | AM5: 6 | AN5: 6 | AO5: 1.6
M6: 2 | AL6: 7 | AM6: 8 | AN6: 7 | AO6: 2.6
AL7: 8 | AM7: 12 | AN7: 8 | AO7: 3.9
Q8: k | R8: = | S8: 0.5 | U8: (수간형상계수) | AL8: 9 | AM8: 16 | AN8: 9 | AO8: 5.5
Q9: B | R9: = | S9: 흉고 (근원 × 0.8) (m) | AL9: 10 | AM9: 22 | AN9: 10 | AO9: 7.6
Q10: h | R10: = | S10: 수고 (m) | AL10: 11 | AM10: 27 | AN10: 11 | AO10: 10.1
Q11: w1 | R11: = | S11: 수고의 단위체적당 중량 | AL11: 12 | AM11: 36 | AN11: 12 | AO11: 13.1
S12: 소나무(생) | V12: : | W12: 800 | Z12: (㎏/㎥) | AL12: 13 | AM12: 42 | AN12: 13 | AO12: 16.7
S13: 소나무(건) | V13: : | W13: 580 | Z13: (㎏/㎥) | AL13: 14 | AM13: 49 | AN13: 14 | AO13: 20.9
S14: 기타수목 | V14: : | W14: 560 | Z14: (㎏/㎥) | AL14: 15 | AM14: 63 | AN14: 15 | AO14: 25.7
Q15: P | R15: = | S15: 지엽의 과다에 의한 보합률 | AL15: 16 | AM15: 72 | AN15: 16 | AO15: 31.2
S16: 0.3~1.0 | V16: → | W16: 0.3 | Y16: 적용 | AL16: 17 | AM16: 81 | AN16: 17 | AO16: 37.4
S17: w1 (단위중량) 대신 1을 넣으면 M3(체적)으로 계산 | AL17: 18 | AM17: 100 | AN17: 18 | AO17: 44.4
AL18: 19 | AM18: 112 | AN18: 19 | AO18: 52.3
G19: 임목폐기물 | K19: =AK37 -> #REF! | M19: m3 | N19: * | O19: =W14 -> 560 | P19: kg | Q19: = | R19: =K19*O19 -> #REF! | S19: kg | U19: =R19/1000 -> #REF! | V19: ton | AL19: 20 | AM19: 124 | AN19: 20 | AO19: 60.9
AL20: 21 | AM20: 137 | AN20: 21 | AO20: 70.5
AL21: 22 | AM21: 150 | AN21: 22 | AO21: 81.1
AL22: 23 | AM22: 164 | AN22: 23 | AO22: 92.7
Q23: =TRUNC((H24/100)*0.8,2) -> 0.08 | AL23: 24 | AM23: 179 | AN23: 24 | AO23: 105.3
A24: =[212]내역서!#REF! -> #REF! | C24: H | D24: 5 | F24: × | G24: R | H24: 10 | J24: 0.3 | L24: × | M24: =$I$5 -> 3.14 | O24: × | P24: ( | Q24: ── | S24: )² | T24: × | U24: =D24 -> 5 | W24: × | X24: =$U$5 -> 1 | AA24: × | AB24: ( | AC24: 1 | AD24: + | AE24: =W16 -> 0.3 | AG24: ) | AH24: =TRUNC(J24*M24*((Q23/Q25)*2)*U24*X24*(AC24+AE24),2) -> 0.48 | AI24: =[212]내역서!#REF! -> #REF! | AJ24: 0.2 | AK24: =AH24*AI24*AJ24 -> #REF! | AL24: 25 | AM24: 194 | AN24: 25 | AO24: 119.1
Q25: 2 | AL25: 26 | AM25: 210 | AN25: 26 | AO25: 133.9
AL26: 27 | AM26: 226 | AN26: 27 | AO26: 149.9
AL27: 28 | AM27: 243 | AN27: 28 | AO27: 167.2
Q28: =TRUNC((H29/100)*0.8,2) -> 0.16 | AL28: 29 | AM28: 261 | AN28: 29 | AO28: 185.8
A29: =[212]내역서!#REF! -> #REF! | C29: H | D29: 5 | F29: × | G29: R | H29: 20 | J29: 0.3 | L29: × | M29: =$I$5 -> 3.14 | O29: × | P29: ( | Q29: ── | S29: )² | T29: × | U29: =D29 -> 5 | W29: × | X29: =$U$5 -> 1 | AA29: × | AB29: ( | AC29: 1 | AD29: + | AE29: =W21 -> 0 | AG29: ) | AH29: =TRUNC(J29*M29*((Q28/Q30)*2)*U29*X29*(AC29+AE29),2) -> 0.75 | AI29: =[212]내역서!#REF! -> #REF! | AJ29: 0.2 | AK29: =AH29*AI29*AJ29 -> #REF! | AL29: 30 | AM29: 279 | AN29: 30 | AO29: 205.7
Q30: 2 | AL30: 35 | AM30: 380 | AN30: 35 | AO30: 326.6
AL31: 40 | AM31: 633 | AN31: 40 | AO31: 487.6
AL32: 45 | AM32: 915 | AN32: 45 | AO32: 694.3
AL33: 50 | AM33: 1271 | AN33: 50 | AO33: 952.4
AL34: 55 | AM34: 1709 | AN34: 55 | AO34: 1267.6
AL35: 60 | AM35: 2238 | AN35: 60 | AO35: 1645.7
AL36: 65 | AM36: 2865 | AN36: 65 | AO36: 2092.4
A37: 계 | AK37: =SUM(AK22:AK36) -> #REF! | AL37: 70 | AM37: 3600 | AN37: 70 | AO37: 2613.4

Sheet 폐기수목 산출근거
A1: 수 종 명 | C1: 규 격 | J1: 폐기수목 산출근거 | AH1: W(㎏) | AI1: 수량 | AJ1: 합계
A2: <폐기물 산출근거>
M4: B
A5: <지상부 중량계산 공식> | E5: W(㎏) | F5: = | G5: k | H5: × | I5: 3.14 | K5: × | L5: ( | M5: ─ | N5: )² | O5: × | P5: h | Q5: × | R5: w1 | S5: × | T5: ( | U5: 1 | V5: + | W5: P | X5: )
M6: 2
Q8: k | R8: = | S8: 0.5 | U8: (수간형상계수)
Q9: B | R9: = | S9: 흉고 (근원 × 0.8) (m)
Q10: h | R10: = | S10: 수고 (m)
Q11: w1 | R11: = | S11: 수고의 단위체적당 중량
S12: 칠엽수 | V12: : | W12: 1210 | Z12: (㎏/㎥)
Q14: P | R14: = | S14: 지엽의 과다에 의한 보합률
S15: 0.2~0.3 | V15: → | W15: 0.3 | Y15: 적용
G18: 임목폐기물 | K18: =AJ60 -> 0 | P18: kg | Q18: * | R18: 0.001 | S18: ton/kg | T18: = | U18: =K18*R18 -> 0 | V18: ton
Q22: =H23/100 -> 0.11
A23: ='위치도 및 세부 수량산출'!E11 -> 가로수 (B11 ~ 21미만) | C23: H | D23: 3 | F23: × | G23: B | H23: 11 | J23: =$S$8 -> 0.5 | L23: × | M23: =$I$5 -> 3.14 | O23: × | P23: ( | Q23: ── | S23: )² | T23: × | U23: =D23 -> 3 | W23: × | X23: =$W$12 -> 1210 | AA23: × | AB23: ( | AC23: 1 | AD23: + | AE23: =$W$15 -> 0.3 | AG23: ) | AH23: =TRUNC(J23*M23*((Q22/Q24)*(Q22/Q24))*U23*X23*(AC23+AE23),2) -> 22.41 | AI23: ='위치도 및 세부 수량산출'!E18 -> 82 | AJ23: =AH23*AI23 -> 1837.62
Q24: 2
Q26: =H27/100 -> 0.21
A27: ='위치도 및 세부 수량산출'!F11 -> 가로수 (B21~31미만) | C27: H | D27: 3 | F27: × | G27: B | H27: 21 | J27: =$S$8 -> 0.5 | L27: × | M27: =$I$5 -> 3.14 | O27: × | P27: ( | Q27: ── | S27: )² | T27: × | U27: =D27 -> 3 | W27: × | X27: =$W$12 -> 1210 | AA27: × | AB27: ( | AC27: 1 | AD27: + | AE27: =$W$15 -> 0.3 | AG27: ) | AH27: =TRUNC(J27*M27*((Q26/Q28)*(Q26/Q28))*U27*X27*(AC27+AE27),2) -> 81.68 | AI27: ='위치도 및 세부 수량산출'!F18 -> 71 | AJ27: =AH27*AI27 -> 5799.28
Q28: 2 | AH28: =TRUNC(J28*M28*((Q27/Q29)*(Q27/Q29))*U28*X28*(AC28+AE28),2) -> #VALUE!
AH29: =TRUNC(J29*M29*((Q28/Q30)*(Q28/Q30))*U29*X29*(AC29+AE29),2) -> #DIV/0!
AH30: =TRUNC(J30*M30*((Q29/Q31)*(Q29/Q31))*U30*X30*(AC30+AE30),2) -> #DIV/0!
AH31: =TRUNC(J31*M31*((Q30/Q32)*(Q30/Q32))*U31*X31*(AC31+AE31),2) -> #DIV/0!
AH32: =TRUNC(J32*M32*((Q31/Q33)*(Q31/Q33))*U32*X32*(AC32+AE32),2) -> #DIV/0!
AH33: =TRUNC(J33*M33*((Q32/Q34)*(Q32/Q34))*U33*X33*(AC33+AE33),2) -> #DIV/0!
AH34: =TRUNC(J34*M34*((Q33/Q35)*(Q33/Q35))*U34*X34*(AC34+AE34),2) -> #DIV/0!
AH35: =TRUNC(J35*M35*((Q34/Q36)*(Q34/Q36))*U35*X35*(AC35+AE35),2) -> #DIV/0!
AH36: =TRUNC(J36*M36*((Q35/Q37)*(Q35/Q37))*U36*X36*(AC36+AE36),2) -> #DIV/0!
AH37: =TRUNC(J37*M37*((Q36/Q38)*(Q36/Q38))*U37*X37*(AC37+AE37),2) -> #DIV/0!
AH38: =TRUNC(J38*M38*((Q37/Q39)*(Q37/Q39))*U38*X38*(AC38+AE38),2) -> #DIV/0!
AH39: =TRUNC(J39*M39*((Q38/Q40)*(Q38/Q40))*U39*X39*(AC39+AE39),2) -> 0
Q40: 2
Q42: =H43/100 -> 0.31
A43: ='위치도 및 세부 수량산출'!G11 -> 가로수 (B31~41미만) | C43: H | D43: 4 | F43: × | G43: B | H43: 31 | J43: =$S$8 -> 0.5 | L43: × | M43: =$I$5 -> 3.14 | O43: × | P43: ( | Q43: ── | S43: )² | T43: × | U43: =D43 -> 4 | W43: × | X43: =$W$12 -> 1210 | AA43: × | AB43: ( | AC43: 1 | AD43: + | AE43: =$W$15 -> 0.3 | AG43: ) | AH43: =TRUNC(J43*M43*((Q42/Q44)*(Q42/Q44))*U43*X43*(AC43+AE43),2) -> 237.32 | AI43: ='위치도 및 세부 수량산출'!G18 -> 13 | AJ43: =AH43*AI43 -> 3085.16
Q44: 2 | AH44: =TRUNC(J44*M44*((Q43/Q45)*(Q43/Q45))*U44*X44*(AC44+AE44),2) -> #VALUE!
AH45: =TRUNC(J45*M45*((Q44/Q46)*(Q44/Q46))*U45*X45*(AC45+AE45),2) -> #DIV/0!
AH46: =TRUNC(J46*M46*((Q45/Q47)*(Q45/Q47))*U46*X46*(AC46+AE46),2) -> #DIV/0!
AH47: =TRUNC(J47*M47*((Q46/Q48)*(Q46/Q48))*U47*X47*(AC47+AE47),2) -> #DIV/0!
AH48: =TRUNC(J48*M48*((Q47/Q49)*(Q47/Q49))*U48*X48*(AC48+AE48),2) -> #DIV/0!
AH49: =TRUNC(J49*M49*((Q48/Q50)*(Q48/Q50))*U49*X49*(AC49+AE49),2) -> #DIV/0!
AH50: =TRUNC(J50*M50*((Q49/Q51)*(Q49/Q51))*U50*X50*(AC50+AE50),2) -> #DIV/0!
AH51: =TRUNC(J51*M51*((Q50/Q52)*(Q50/Q52))*U51*X51*(AC51+AE51),2) -> #DIV/0!
AH52: =TRUNC(J52*M52*((Q51/Q53)*(Q51/Q53))*U52*X52*(AC52+AE52),2) -> #DIV/0!
AH53: =TRUNC(J53*M53*((Q52/Q54)*(Q52/Q54))*U53*X53*(AC53+AE53),2) -> #DIV/0!
AH54: =TRUNC(J54*M54*((Q53/Q55)*(Q53/Q55))*U54*X54*(AC54+AE54),2) -> #DIV/0!
AH55: =TRUNC(J55*M55*((Q54/Q56)*(Q54/Q56))*U55*X55*(AC55+AE55),2) -> 0
Q56: 2
A57: 계 | AI57: 총합: | AJ57: =SUM(AJ21:AJ40) -> 7636.9
AI59: 산출량의 70% 적용
