Workbook
Name __fg34444: BlankMacro1
Name __HSH1: #REF!
Name __HSH2: #REF!
Name __LP1: #REF!
Name __LP2: #REF!
Name __LPB1: [1]부하계산서!#REF!
Name __LPK1: [1]부하계산서!#REF!
Name __LU1: '[2]부하(성남)'!#REF!
Name __LU2: '[2]부하(성남)'!#REF!
Name __LV01: '[2]부하(성남)'!#REF!
Name __NP1: #REF!
Name __NP2: #REF!
Name __NSH1: #REF!
Name __NSH2: #REF!
Name __RD1: #REF!
Name __RD2: #REF!
Name __RD3: #REF!
Name __RD4: [3]교각계산!#REF!
Name __RD5: [3]교각계산!#REF!
Name __RD6: [3]교각계산!#REF!
Name __rd7: [3]교각계산!#REF!
Name __RD8: [3]교각계산!#REF!
Name __RD9: [3]교각계산!#REF!
Name __RL1: #REF!
Name __RL2: #REF!
Name __RL3: #REF!
Name __RL4: [3]교각계산!#REF!
Name __RL5: [3]교각계산!#REF!
Name __RL6: [3]교각계산!#REF!
Name __RL7: [3]교각계산!#REF!
Name __rn1: [4]수로단위수량!#REF!
Name __UP1: [1]부하계산서!#REF!
Name __UP2: [1]부하계산서!#REF!
Name __XS1: [3]교각계산!$M$40
Name __XS2: #REF!
Name __XS3: [3]교각계산!#REF!
Name _1._PANEL_BD.__LP___1: #REF!
Name _1.구체: [5]수로단위수량!#REF!
Name _15A: [6]금액내역서!$D$3:$D$10
Name _2.접속저판: [5]수로단위수량!#REF!
Name _3.기초: [5]수로단위수량!#REF!
Name _4.거푸집: [5]수로단위수량!#REF!
Name _5.거푸집: [5]수로단위수량!#REF!
Name _6.부직포: [5]수로단위수량!#REF!
Name _6.잡석채움: [5]수로단위수량!#REF!
Name _7.배수: [5]수로단위수량!#REF!
Name _8.스페이서: [5]수로단위수량!#REF!
Name _9.문양: [5]수로단위수량!#REF!
Name _A: [7]Sheet1!#REF!
Name _B22: [8]일위대가!$1400:$1413=[8]일위대가!$A$1400
Name _fg34444: BlankMacro1
Name _HSH1: #REF!
Name _HSH2: #REF!
Name _K02: [8]일위대가!$732:$745=[8]일위대가!$A$732
Name _LP1: #REF!
Name _LP2: #REF!
Name _LPB1: [1]부하계산서!#REF!
Name _LPK1: [1]부하계산서!#REF!
Name _LU1: '[2]부하(성남)'!#REF!
Name _LU2: '[2]부하(성남)'!#REF!

Sheet 원가계산서 (총괄)
A1: 원 가 계 산 서(총괄)
A2: 사업명: 광주제1하수처리장 1단계 최종침전지 슬러지수집기 보수 | E2: 사업기간 : 착공일로부터 80일
A3: 비 목 | C3: 구 분 | D3: 금액 | E3: 합 계 | F3: 비 고
A5: 순 공 사 비 | B5: 재 료 비 | C5: 직 접 재 료 비 | D5: =집계표!G15 -> 0
C6: 간 접 재 료 비
C7: 계 | D7: =SUM(D5:D6) -> 0
B8: 노 무 비 | C8: 직 접 노 무 비 | D8: =집계표!I15 -> 0
C9: 간 접 노 무 비 | D9: =TRUNC(D8*17.5%,0) -> 0 | F9: (직노) x 17.5%
C10: 계 | D10: =SUM(D8:D9) -> 0
C11: 산 출 경 비 | D11: =집계표!K15 -> 0
C12: 산 재 보 험 료 | D12: =TRUNC(D10*3.56%,0) -> 0 | F12: 노무비 x 3.56%
C13: 고 용 보 험 료 | D13: =TRUNC(D10*1.01%,0) -> 0 | F13: 노무비 x 1.01%
C14: 건 강 보 험 료 | D14: =TRUNC(D8*3.595%,0) -> 0 | F14: 직접노무비 x 3.595%
C15: 연 금 보 험 료 | D15: =TRUNC(D8*4.75%,0) -> 0 | F15: 직접노무비 x 4.75%
C16: 노인장기요양보험료 | D16: =TRUNC(D14*13.14%,0) -> 0 | F16: 건강보험료 x 13.14%
C17: 산 업 안 전 관 리 비 | D17: =TRUNC((D7+D8)*3.15%,0) -> 0 | F17: (재료비+직노)x3.15%+기초액
C18: 퇴 직 공 제 부 금 비
C19: 기 타 경 비 | D19: =TRUNC((D7+D10)*5%,0) -> 0 | F19: (재료비+노무비) x 5%
C20: 석 면 부 담 금 | D20: =TRUNC(D10*0.006%,0) -> 0 | F20: 노무비 x 0.006%
C21: 임 금 채 권 부 담 금 | D21: =TRUNC(D10*0.09%,0) -> 0 | F21: 노무비 x 0.09%
C22: 계 | D22: =SUM(D11:D21) -> 0
A23: 소 계 | D23: =SUM(D7,D10,D22) -> 0
A24: 일 반 관 리 비 | D24: =TRUNC(D23*8%,0) -> 0 | F24: (재+노+경) x 8%
A25: 이 윤 | D25: =TRUNC((D10+D22+D24)*15%,0) -> 0 | F25: (노+경+일) x 15%
A26: 공 급 가 액 | D26: =SUM(D23:D25) -> 0
A27: 부 가 가 치 세 | D27: =TRUNC(D26*0.1,0) -> 0
A28: 총 공 사 비 | D28: =SUM(D26:D27) -> 0

Sheet 집계표
A1: 집 계 표
A2: 사업명: 광주제1하수처리장 1단계 최종침전지 슬러지수집기 보수
A3: 품 명 | B3: 규 격 | C3: 수량 | D3: 단위 | E3: 합 계 | F3: 재 료 비 | H3: 노 무 비 | J3: 경 비 | L3: 비고
F4: 단 가 | G4: 금 액 | H4: 단 가 | I4: 금 액 | J4: 단 가 | K4: 금 액
A5: 슬러지수집기 스컴스키머 지지대 교체(4대) | C5: 1 | D5: 식 | F5: =설계내역서!H5 -> 0 | G5: =F5*C5 -> 0 | H5: =설계내역서!J5 -> 0 | I5: =H5*C5 -> 0 | J5: =설계내역서!L5 -> 0 | K5: =J5*C5 -> 0
A6: 슬러지수집기 스컴스키머 스크레퍼 교체(4대) | C6: 1 | D6: 식 | F6: =설계내역서!H12 -> 0 | G6: =F6*C6 -> 0 | H6: =설계내역서!J12 -> 0 | I6: =H6*C6 -> 0 | J6: =설계내역서!L12 -> 0 | K6: =J6*C6 -> 0
A7: 지배수(4지) | C7: 1 | D7: 식 | H7: =설계내역서!J17 -> 0 | I7: =H7*C7 -> 0
A8: 지청소(4지) | C8: 1 | D8: 식 | H8: =설계내역서!J19 -> 0 | I8: =H8*C8 -> 0
A9: 가설자재 | C9: 1 | D9: 식 | F9: =설계내역서!H21 -> 0 | G9: =F9*C9 -> 0
A10: 크레인 | C10: 8 | D10: 일 | J10: =설계내역서!K24 -> 0 | K10: =J10*C10 -> 0
A15: 합 계 | E15: =SUM(G15,I15,K15) -> 0 | G15: =SUM(G5,G6,G9) -> 0 | I15: =SUM(I5,I6,I7,I8) -> 0 | K15: =SUM(K5:K10) -> 0

Sheet 설계내역서
A1: 설 계 내 역 서
A2: 사업명: 광주제1하수처리장 1단계 최종침전지 슬러지수집기 보수
A3: 구분 | B3: 품 명 | C3: 규 격 | D3: 수량 | E3: 단위 | F3: 합 계 | G3: 재 료 비 | I3: 노 무 비 | K3: 경 비 | M3: 비 고
G4: 단 가 | H4: 금 액 | I4: 단 가 | J4: 금 액 | K4: 단 가 | L4: 금 액
A5: 1 | B5: 스컴스키머 지지대 교체 | D5: 4 | E5: 대 | F5: =SUM(H5,J5,L5) -> 0
B6: STS 파이프 | C6: 65A*3T | D6: 36 | E6: 본
B7: STS ㄱ형강 | C7: 50*50*6T | D7: 24 | E7: 본
B8: 평철 | C8: 100*8T | D8: 1 | E8: 본
B9: 일반기기 철거(철골류) | C9: 재사용 미고려 | D9: 1.304 | E9: 톤
B10: 잡철물 제작 설치(현장제작 설치) | C10: 일반철재 | D10: 1.344 | E10: 톤
B11: 강관 조립말비계 설치 및 해체 | C11: 높이 4m 기준 | D11: 8 | E11: 회
A12: 2 | B12: 스컴스키머 스크레퍼 보수 | D12: 4 | E12: 대 | F12: =SUM(H12,J12,L12) -> 0
B13: STS 304 철판 | C13: 4*8*4T | D13: 10 | E13: 장
B14: 레이저 및 절곡비 | D14: 1 | E14: 식
B15: 일반기기 철거(철골류) | C15: 재사용 미고려 | D15: 0.796 | E15: 톤
B16: 잡철물 제작 설치(규격철물 설치) | C16: 일반철재 | D16: 0.804 | E16: 톤
A17: 3 | B17: 지배수 | D17: 4 | E17: 개소 | F17: =SUM(H17,J17,L17) -> 0
B18: 펌프 설치, 해체 및 운전 | C18: 작업시 배수 | D18: 4 | E18: 개소
A19: 4 | B19: 지청소 | D19: 4 | E19: 지 | F19: =SUM(H19,J19,L19) -> 0
B20: 지청소 | D20: 4 | E20: 지
A21: 5 | B21: 가설자재 | D21: 1 | E21: 식 | F21: =SUM(H21,J21,L21) -> 0
B22: 일반나선호스 | C22: 75*50m | D22: 1 | E22: 롤
B23: B/T틀비계 | D23: 1 | E23: SET
A24: 6 | B24: 크레인(카고크레인) | C24: 11ton | D24: 8 | E24: 일 | F24: =SUM(H24,J24,L24) -> 0
B25: 합 계 | F25: =H25+J25+L25 -> 0 | H25: =SUM(H5,H12,H17,H19,H21,H24) -> 0 | J25: =SUM(J5,J12,J17,J19,J21,J24) -> 0 | L25: =SUM(L5,L12,L24) -> 0
