Workbook
Name _1: #N/A
Name _10: #N/A
Name _11: #N/A
Name _12: #N/A
Name _13: #N/A
Name _14: #N/A
Name _15: #N/A
Name _15A: [1]금액내역서!$D$3:$D$10
Name _15A: [1]금액내역서!$D$3:$D$10
Name _15A: [1]금액내역서!$D$3:$D$10
Name _15A: [1]금액내역서!$D$3:$D$10
Name _15A: [1]금액내역서!$D$3:$D$10
Name _15A: [1]금액내역서!$D$3:$D$10
Name _16: #N/A
Name _17: #N/A
Name _18: #N/A
Name _19: #N/A
Name _2: #N/A
Name _20: #N/A
Name _21: #N/A
Name _22: #N/A
Name _23: #N/A
Name _24: #N/A
Name _25: #N/A
Name _26: #N/A
Name _27: #N/A
Name _28: #N/A
Name _29: #N/A
Name _3: #N/A
Name _30: #N/A
Name _31: #N/A
Name _32: #N/A
Name _33: #N/A
Name _34: #N/A
Name _35: #N/A
Name _36: #N/A
Name _37: #N/A
Name _38: #N/A
Name _39: #N/A
Name _3단: #REF!
Name _3단: #REF!
Name _3단: #REF!
Name _4: #N/A
Name _40: #N/A
Name _41: #N/A
Name _42: #N/A
Name _43: #N/A
Name _44: #N/A
Name _45: #N/A
Name _46: #N/A
Name _47: #N/A
Name _48: #N/A
Name _49: #N/A
Name _4단: #REF!
Name _5: #N/A
Name _50: #N/A
Name _51: #N/A
Name _52: #N/A
Name _53: #N/A
Name _54: #N/A

Sheet 원가계산서
A1: 원 가 계 산 서
A2: 건 명 : 경기도미술관 빌딩자동제어장치 교체 구매·설치
A3: 비 목 | D3: 합 계 | E3: 제 조 | F3: 설 치 | G3: 요율 | H3: 구 성 비 | I3: 비 고
A4: 원 가 계 산 서 | B4: 재 료 비 | C4: 직 접 재 료 비 | D4: =SUM(E4:F4) -> 0 | E4: =내역집계!F6 -> 0 | F4: =SUM(내역집계!F7) -> 0
C5: 간 접 재 료 비
C6: [소 계] | D6: =SUM(D4:D5) -> 0 | E6: =SUM(E4:E5) -> 0 | F6: =F4+F5 -> 0
B7: 노 무 비 | C7: 직 접 노 무 비 | D7: =SUM(E7:F7) -> 0 | F7: =SUM(내역집계!H6,내역집계!H7) -> 0
C8: 간 접 노 무 비 | D8: =SUM(E8:F8) -> 0 | F8: =TRUNC(F7*$G$8,) -> 0 | G8: 0.175 | H8: 직접노무비 * 17.5%
C9: [소 계] | D9: =D7+D8 -> 0 | E9: =E7+E8 -> 0 | F9: =F7+F8 -> 0
B10: 경비 | C10: 산 재 보 험 료 | D10: =SUM(E10:F10) -> 0 | F10: =TRUNC(F9*$G$10,) -> 0 | G10: 0.0356 | H10: 노무비의 3.56%
C11: 고 용 보 험 료 | D11: =SUM(E11:F11) -> 0 | F11: =TRUNC(F9*$G$11,) -> 0 | G11: 0.0101 | H11: 노무비의 1.01%
C12: 국민 건강 보험료 | D12: =SUM(E12:F12) -> 0 | F12: =TRUNC(F7*$G$12,) -> 0 | G12: 0.03595 | H12: 직접노무비의 3.595%
C13: 국민 연금 보험료 | D13: =SUM(E13:F13) -> 0 | F13: =TRUNC(F7*$G$13,) -> 0 | G13: 0.0475 | H13: 직접노무비의 4.75%
C14: 노인장기 요양보험료 | D14: =SUM(E14:F14) -> 0 | F14: =TRUNC(F12*$G$14,) -> 0 | G14: 0.1314 | H14: 건강보험료의13.14%
C15: 퇴직공제부금비 | D15: =SUM(E15:F15) -> 0 | F15: =TRUNC(F7*$G$15,) -> 0 | G15: 0.023 | H15: 직접노무비의2.3% | I15: 추정금액(순공사비, 제경비, 부가세, 도급자관급자재비) 1억 이상 공사
C16: 산업안전보건관리비 | D16: =SUM(E16:F16) -> 0 | F16: =TRUNC((F4+F7)*$G$16,)*1.2 -> 0 | G16: 0.0207 | H16: 재료비+직접노무비 * 2.07%
C17: 기 타 경 비 | D17: =SUM(E17:F17) -> 0 | F17: =TRUNC((F4+F9)*$G$17,) -> 0 | G17: 0.05 | H17: 재료비+노무비의 5.0%
C18: 석면분담금 | D18: =SUM(E18:F18) -> 0 | F18: =TRUNC(F9*$G$18,) -> 0 | G18: 6e-05 | H18: 노무비의 0.006%
C19: 임금채권부담금 | D19: =SUM(E19:F19) -> 0 | F19: =TRUNC(F9*$G$19,) -> 0 | G19: 0.0009 | H19: 노무비의 0.09%
C20: 환 경 보 전 비 | D20: =SUM(E20:F20) -> 0 | G20: 0.003 | H20: 재료비+직접노무비+산출경비 * 0.3%
C21: [소 계] | D21: =D10+D11+D12+D13+D14+D15+D16+D17+D18+D19+D20 -> 0 | E21: =SUM(E10:E20) -> 0 | F21: =F10+F11+F12+F13+F14+F15+F16+F17+F18+F19+F20 -> 0
A22: 계 | D22: =D6+D9+D21 -> 0 | E22: =E6+E9+E21 -> 0 | F22: =F6+F9+F21 -> 0
A23: 일 반 관 리 비 | D23: =SUM(E23:F23) -> 0 | F23: =TRUNC(F22*$G$23,) -> 0 | G23: 0.08 | H23: 계 * 8.0% | I23: 일반관리비 (재료비+노무비+경비)
A24: 이 윤 | D24: =SUM(E24:F24) -> 0 | F24: =TRUNC((F9+F21+F23)*$G$24,)/1.1 -> 0 | G24: 0.15 | H24: (노무비+경비+일반관리비) * 15%이내 | I24: 단수정리
A25: 폐 기 물 처 리 비
A26: 공 급 가 액 | D26: =TRUNC(D22+D23+D24) -> 0 | E26: =TRUNC(E22+E23+E24) -> 0 | F26: =TRUNC(F22+F23+F24) -> 0
A27: 부 가 가 치 세 | D27: =SUM(E27:F27) -> 0 | E27: =TRUNC(E26*10%) -> 0 | F27: =TRUNC(F26*10%) -> 0 | G27: 0.1 | H27: 공급가액 * 10%
A28: 총 공 사 비 | D28: =TRUNC(D27+D26) -> 0 | E28: =TRUNC(E27+E26) -> 0 | F28: =TRUNC(F27+F26) -> 0

Sheet 내역집계
A1: 내역집계
A2: =원가계산서!A2 -> 건 명 : 경기도미술관 빌딩자동제어장치 교체 구매·설치
A3: 품 명 | B3: 규 격 | C3: 단위 | D3: 수량 | E3: 재 료 비 | G3: 노 무 비 | I3: 경 비 | K3: 합 계
E4: 단 가 | F4: 금 액 | G4: 단 가 | H4: 금 액 | I4: 단 가 | J4: 금 액 | K4: 단 가 | L4: 금 액
A5: 빌딩자동제어장치 교체 구매·설치
A6: - 빌딩 자동제어장치 납품 | B6: [제조] | C6: 식 | D6: 1 | E6: =내역서!G63 -> 0 | F6: =E6 -> 0 | G6: =내역서!I63 -> 0 | H6: =G6 -> 0 | J6: =I6 -> 0 | L6: =F6+H6+J6 -> 0
A7: - 빌딩 자동제어장치 설치 | B7: [설치] | C7: 식 | D7: 1 | E7: =내역서!G99 -> 0 | F7: =E7 -> 0 | G7: =내역서!I99 -> 0 | H7: =G7 -> 0 | J7: =I7 -> 0 | L7: =F7+H7+J7 -> 0
A23: 합 계 | F23: =SUM(F5:F22) -> 0 | H23: =SUM(H5:H22) -> 0 | J23: =SUM(J5:J22) -> 0 | L23: =SUM(L5:L22) -> 0

Sheet 내역서
A1: 내 역 서
A2: 건 명 : 경기도미술관 빌딩자동제어장치 교체 구매·설치
A3: 명 칭 | C3: 규 격 | D3: 수 량 | E3: 단위 | F3: 재료비 | H3: 노무비 | J3: 경비 | L3: 합계
F4: 단가 | G4: 금액 | H4: 단가 | I4: 금액 | J4: 단가 | K4: 금액 | L4: 단가 | M4: 금액
A5: A. | B5: 설비 자동제어 납품
A6: 1. | B6: 재료비
A7: (1) | B7: 중앙감시시스템
A8: 1) | B8: 시스템용컴퓨터 | D8: =노무비산출내역!E7 -> 2 | E8: SET | F8: =단가대비표!O6 -> 0 | G8: =F8*D8 -> 0 | M8: =G8 -> 0
B9: - CPU : i7
B10: - RAM : 16GB
B11: - SSD : 1TB
B12: - OS : Win11
A13: 2) | B13: 모니터 | D13: =노무비산출내역!E7 -> 2 | E13: SET | F13: =단가대비표!O7 -> 0 | G13: =F13*D13 -> 0 | M13: =G13 -> 0
B14: - SIZE : 27"인치
B15: - 해상도 : 1920 x 1080
A16: 3) | B16: 시스템 프로그램 | D16: =노무비산출내역!E7 -> 2 | E16: SET | F16: =단가대비표!O8 -> 0 | G16: =F16*D16 -> 0 | M16: =G16 -> 0
A17: 4) | B17: 무정전전원장치 | C17: 5KVA | D17: =노무비산출내역!E19 -> 1 | E17: SET | F17: =단가대비표!O9 -> 0 | G17: =F17*D17 -> 0 | M17: =G17 -> 0
B19: 소 계 | G19: =SUM(G8:G18) -> 0 | M19: =SUM(M8:M18) -> 0
A21: (2) | B21: 정보수집장치
A22: 1) | B22: DDC-1 | C22: 59Point
B23: DSC1146E | D23: =단가대비표!D11 -> 1 | E23: =단가대비표!E11 -> SET | F23: =단가대비표!O11 -> 0 | G23: =F23*D23 -> 0 | M23: =G23 -> 0
B24: DFM1600 | D24: =단가대비표!D12 -> 1 | E24: =단가대비표!E12 -> SET | F24: =단가대비표!O12 -> 0 | G24: =F24*D24 -> 0 | M24: =G24 -> 0
B25: DFM1600 | D25: =단가대비표!D13 -> 1 | E25: =단가대비표!E13 -> SET | F25: =단가대비표!O13 -> 0 | G25: =F25*D25 -> 0 | M25: =G25 -> 0
B26: DAC1146 | D26: =단가대비표!D14 -> 1 | E26: =단가대비표!E14 -> SET | F26: =단가대비표!O14 -> 0 | G26: =F26*D26 -> 0 | M26: =G26 -> 0
B27: DFM1600 | D27: =단가대비표!D15 -> 1 | E27: =단가대비표!E15 -> SET | F27: =단가대비표!O15 -> 0 | G27: =F27*D27 -> 0 | M27: =G27 -> 0
B28: DAC1146 | D28: =단가대비표!D16 -> 1 | E28: =단가대비표!E16 -> SET | F28: =단가대비표!O16 -> 0 | G28: =F28*D28 -> 0 | M28: =G28 -> 0
A29: 2) | B29: 속판 및 잡자재 | C29: 외함 재사용 | D29: =단가대비표!D17 -> 1 | E29: =단가대비표!E17 -> 면 | F29: =단가대비표!O17 -> 0 | G29: =F29*D29 -> 0 | M29: =G29 -> 0
A30: 3) | B30: DDC-2 | C30: 13Point
B31: =단가대비표!B19 -> DAC1146 | D31: =단가대비표!D19 -> 1 | E31: =단가대비표!E19 -> SET | F31: =단가대비표!O19 -> 0 | G31: =F31*D31 -> 0 | M31: =G31 -> 0
B32: =단가대비표!B20 -> DAC1146 | D32: =단가대비표!D20 -> 1 | E32: =단가대비표!E20 -> SET | F32: =단가대비표!O20 -> 0 | G32: =F32*D32 -> 0 | M32: =G32 -> 0
A33: 4) | B33: 속판 및 잡자재 | C33: 외함 재사용 | D33: =단가대비표!D21 -> 1 | E33: =단가대비표!E21 -> 면 | F33: =단가대비표!O21 -> 0 | G33: =F33*D33 -> 0 | M33: =G33 -> 0
A34: 5) | B34: DDC-3 | C34: 13Point
B35: =단가대비표!B23 -> DAC1146 | D35: =단가대비표!D23 -> 1 | E35: =단가대비표!E23 -> SET | F35: =단가대비표!O23 -> 0 | G35: =F35*D35 -> 0 | M35: =G35 -> 0
B36: =단가대비표!B24 -> DAC1146 | D36: =단가대비표!D24 -> 1 | E36: =단가대비표!E24 -> SET | F36: =단가대비표!O24 -> 0 | G36: =F36*D36 -> 0 | M36: =G36 -> 0
A37: 6) | B37: 속판 및 잡자재 | C37: 외함 재사용 | D37: =단가대비표!D25 -> 1 | E37: =단가대비표!E25 -> 면 | F37: =단가대비표!O25 -> 0 | G37: =F37*D37 -> 0 | M37: =G37 -> 0
A38: 7) | B38: DDC-4 | C38: 28Point
B39: =단가대비표!B27 -> DAC1146 | D39: =단가대비표!D27 -> 1 | E39: =단가대비표!E27 -> SET | F39: =단가대비표!O27 -> 0 | G39: =F39*D39 -> 0 | M39: =G39 -> 0
B40: =단가대비표!B28 -> DAC1146 | D40: =단가대비표!D28 -> 1 | E40: =단가대비표!E28 -> SET | F40: =단가대비표!O28 -> 0 | G40: =F40*D40 -> 0 | M40: =G40 -> 0
B41: =단가대비표!B29 -> DFM400 | D41: =단가대비표!D29 -> 1 | E41: =단가대비표!E29 -> SET | F41: =단가대비표!O29 -> 0 | G41: =F41*D41 -> 0 | M41: =G41 -> 0
B42: =단가대비표!B30 -> DAC1146 | D42: =단가대비표!D30 -> 1 | E42: =단가대비표!E30 -> SET | F42: =단가대비표!O30 -> 0 | G42: =F42*D42 -> 0 | M42: =G42 -> 0
...

Sheet 노무비산출내역
A1: 노 무 비 산 출 내 역
A3: =내역서!A2 -> 건 명 : 경기도미술관 빌딩자동제어장치 교체 구매·설치
A4: 번호 | B4: 품 명 | C4: 규 격 | D4: 단위 | E4: 산출량 | F4: 할증 | G4: 할증계 | H4: 계장공 | J4: 통신관련기사 | L4: 플랜트전공 | N4: 근 거 | O4: 비고
H5: 요율 | I5: 계 | J5: 요율 | K5: 계 | L5: 요율 | M5: 계
A6: 1 | B6: 중앙처리장치 설치 | I6: =H6*E6 -> 0 | K6: =J6*C6 -> 0 | M6: =L6*I6 -> 0
B7: 중앙감시장치 | D7: SET | E7: 2 | G7: =ROUND(E7*(1+F7),0) -> 2 | H7: 6.8 | I7: =H7*E7 -> 13.6 | J7: 1.9 | K7: =J7*E7 -> 3.8 | M7: =L7*I7 -> 0 | N7: 기계설비 12-3-3
B8: 설치 | D8: 포인트 | E8: 226 | G8: =ROUND(E8*(1+F8),0) -> 226 | H8: 0.029 | I8: =H8*E8 -> 6.554 | J8: 0.061 | K8: =J8*E8 -> 13.786 | M8: =L8*I8 -> 0 | N8: 기계설비 12-3-1
B9: 통신상태점검 | D9: 면 | E9: 7 | G9: =ROUND(E9*(1+F9),0) -> 7 | H9: 0.718 | I9: =H9*E9 -> 5.026 | M9: =L9*I9 -> 0 | N9: 기계설비 12-3-1
B10: 점검. 시험 | D10: 포인트 | E10: 226 | G10: =ROUND(E10*(1+F10),0) -> 226 | H10: 0.019 | I10: =H10*E10 -> 4.294 | J10: 0.005 | K10: =J10*E10 -> 1.13 | M10: =L10*I10 -> 0 | N10: 기계설비 12-3-1
B11: 소 계 | H11: =SUM(I7:I10) -> 29.474 | J11: =SUM(K7:K10) -> 18.716 | L11: =SUM(M1:M6) -> 0
H12: 319449 | I12: =H12*H11 -> 9415439.8 | J12: 320449 | K12: =J12*J11 -> 5997523.5
A13: 2 | B13: 입출력장치(I/O Equipment)설치-제어반 | I13: =H13*E13 -> 0 | K13: =J13*C13 -> 0 | M13: =L13*I13 -> 0
B14: 설치 | D14: 포인트 | E14: 226 | G14: =ROUND(E14*(1+F14),0) -> 226 | H14: 0.042 | I14: =H14*E14 -> 9.492 | J14: 0.008 | K14: =J14*E14 -> 1.808 | N14: 기계설비 12-3-2
B15: 점검. 시험 | D15: 포인트 | E15: 226 | G15: =ROUND(E15*(1+F15),0) -> 226 | H15: 0.08 | I15: =H15*E15 -> 18.08 | J15: 0.046 | K15: =J15*E15 -> 10.396 | M15: =L15*I15 -> 0 | N15: 기계설비 12-3-2
B16: 소 계 | H16: =SUM(I14:I15) -> 27.572 | J16: =SUM(K14:K15) -> 12.204 | L16: =SUM(M9:M13) -> 0
H17: 319449 | I17: =H17*H16 -> 8807847.8 | J17: 320449 | K17: =J17*J16 -> 3910759.6
A18: 3 | B18: 제어기기 설치 | K18: =J18*E18 -> 0 | M18: =L18*I18 -> 0
B19: 무정전전원장치 | C19: UPS(10KVA이하) | D19: EA | E19: 1 | G19: =ROUND(E19*(1+F19),0) -> 1 | L19: 3 | M19: =L19*E19 -> 3 | N19: 전기 5-45
B20: 덕트온도센서 | D20: EA | E20: 26 | G20: =ROUND(E20*(1+F20),0) -> 26 | H20: 0.602 | I20: =H20*E20 -> 15.652 | N20: 기계설비 12-2-1 | O20: 철거할증적용
B21: 배관온도센서 | D21: EA | E21: 6 | G21: =ROUND(E21*(1+F21),0) -> 6 | H21: 0.308 | I21: =H21*E21 -> 1.848 | N21: 기계설비 12-2-1 | O21: 철거할증적용
B22: 실내온습도센서 | D22: EA | E22: 3 | G22: =ROUND(E22*(1+F22),0) -> 3 | H22: 0.308 | I22: =H22*E22 -> 0.924 | N22: 기계설비 12-2-1 | O22: 철거할증적용
B23: 외기온습도센서 | D23: EA | E23: 1 | G23: =ROUND(E23*(1+F23),0) -> 1 | H23: 0.308 | I23: =H23*E23 -> 0.308 | N23: 기계설비 12-2-1 | O23: 철거할증적용
B24: 덕트온습도센서 | D24: EA | E24: 12 | G24: =ROUND(E24*(1+F24),0) -> 12 | H24: 0.602 | I24: =H24*E24 -> 7.224 | N24: 기계설비 12-2-1 | O24: 철거할증적용
B25: CO2감지기(덕트용) | D25: EA | E25: 1 | G25: =ROUND(E25*(1+F25),0) -> 1 | H25: 0.602 | I25: =H25*E25 -> 0.602 | N25: 기계설비 12-2-1 | O25: 철거할증적용
B26: 이온화 연 감지기 | D26: EA | E26: 12 | G26: =ROUND(E26*(1+F26),0) -> 12 | H26: 0.602 | I26: =H26*E26 -> 7.224 | N26: 기계설비 12-2-1 | O26: 철거할증적용
B27: 필터차압스위치 | D27: EA | E27: 9 | G27: =ROUND(E27*(1+F27),0) -> 9 | H27: 0.602 | I27: =H27*E27 -> 5.418 | N27: 기계설비 12-2-1 | O27: 철거할증적용
B28: 덕트용 정압센서 | D28: EA | E28: 2 | G28: =ROUND(E28*(1+F28),0) -> 2 | H28: 0.602 | I28: =H28*E28 -> 1.204 | N28: 기계설비 12-2-1 | O28: 철거할증적용
B29: 비례식댐퍼조작기 | D29: EA | E29: 36 | G29: =ROUND(E29*(1+F29),0) -> 36 | H29: 0.672 | I29: =H29*E29 -> 24.192 | N29: 기계설비 12-2-1 | O29: 철거할증적용
B30: 밸브바디 | D30: SET | E30: 7 | G30: =ROUND(E30*(1+F30),0) -> 7 | H30: 1.12 | I30: =H30*E30 -> 7.84 | N30: 기계설비 12-1-2 | O30: 철거할증적용
B31: 밸브바디 | D31: SET | E31: 2 | G31: =ROUND(E31*(1+F31),0) -> 2 | H31: 1.12 | I31: =H31*E31 -> 2.24 | N31: 기계설비 12-1-2 | O31: 철거할증적용
B32: 밸브구동기 | D32: SET | E32: 9 | G32: =ROUND(E32*(1+F32),0) -> 9 | H32: 0.308 | I32: =H32*E32 -> 2.772 | N32: 기계설비 12-2-1 | O32: 철거할증적용
B33: 소 계 | H33: =SUM(I19:I31) -> 74.676 | L33: =SUM(M19:M29) -> 3 | O33: 철거할증적용
A35: 4 | B35: 설치공사 | K35: =J35*E35 -> 0 | M35: =L35*I35 -> 0
B36: 수위조절계(LC) | C36: QUICK (4) | D36: EA | E36: 4 | G36: =ROUND(E36*(1+F36),0) -> 4 | H36: 2.66 | I36: =H36*E36 -> 10.64 | N36: 기계설비 12-2-1 | O36: 철거할증적용
B37: 수위지시조절계(LIC) | C37: FLOAT | D37: EA | E37: 1 | G37: =ROUND(E37*(1+F37),0) -> 1 | H37: 2.66 | I37: =H37*E37 -> 2.66 | N37: 기계설비 12-2-1 | O37: 철거할증적용
B38: 소 계 | H38: =SUM(I36:I37) -> 13.3 | J38: =SUM(K36:K37) -> 0 | L38: =SUM(M36:M37) -> 0
B39: 합 계 | H39: =SUM(H38,H33,H16,H11) -> 145.022 | J39: =SUM(J38,J33,J16,J11) -> 30.92 | L39: =SUM(L38,L33,L16,L11) -> 3
B40: 적 용 | H40: =H39 -> 145.022 | J40: =J39 -> 30.92 | L40: =ROUND(L39*L41,0) -> 0
H41: 1 | J41: 1 | L41: 0

Sheet 견적비교표
A1: 견 적 비 교 표
A2: 건 명 : 경기도미술관 빌딩자동제어장치 교체 구매·설치
A3: 명 칭 | C3: 규 격 | D3: 수 량 | E3: 단위 | F3: 견적1 | H3: 수 량 | I3: 단위 | J3: 견적2 | L3: 수 량 | M3: 단위 | N3: 견적3 | P3: 수 량 | Q3: 단위 | R3: 견적4 | T3: 비고
F4: 단가 | G4: 금액 | J4: 단가 | K4: 금액 | N4: 단가 | O4: 금액 | R4: 단가 | S4: 금액
A5: A. | B5: 설비 자동제어 납품
A6: 1. | B6: 재료비
A7: (1) | B7: 중앙감시시스템
A8: 1) | B8: 시스템용컴퓨터 | D8: 2 | E8: SET | F8: =단가대비표!K6 -> 0 | G8: =F8*D8 -> 0 | H8: 2 | I8: SET | J8: =단가대비표!L6 -> 0 | K8: =J8*H8 -> 0 | L8: 2 | M8: SET | N8: =단가대비표!M6 -> 0 | O8: =N8*L8 -> 0 | P8: 2 | Q8: SET | R8: =단가대비표!N6 -> 0 | S8: =R8*P8 -> 0
B9: - CPU : i7
B10: - RAM : 16GB
B11: - SSD : 1TB
B12: - OS : Win11
A13: 2) | B13: 모니터 | D13: 2 | E13: SET | F13: =단가대비표!K7 -> 0 | G13: =F13*D13 -> 0 | H13: 2 | I13: SET | J13: =단가대비표!L7 -> 0 | K13: =J13*H13 -> 0 | L13: 2 | M13: SET | N13: =단가대비표!M7 -> 0 | O13: =N13*L13 -> 0 | P13: 2 | Q13: SET | R13: =단가대비표!N7 -> 0 | S13: =R13*P13 -> 0
B14: - SIZE : 27"인치
B15: - 해상도 : 1920 x 1080
A16: 3) | B16: 시스템 프로그램 | D16: 2 | E16: SET | F16: =단가대비표!K8 -> 0 | G16: =F16*D16 -> 0 | H16: 2 | I16: SET | J16: =단가대비표!L8 -> 0 | K16: =J16*H16 -> 0 | L16: 2 | M16: SET | N16: =단가대비표!M8 -> 0 | O16: =N16*L16 -> 0 | P16: 2 | Q16: SET | R16: =단가대비표!N8 -> 0 | S16: =R16*P16 -> 0
A17: 4) | B17: 무정전전원장치 | C17: 5KVA | D17: 1 | E17: SET | F17: =단가대비표!K9 -> 0 | G17: =F17*D17 -> 0 | H17: 1 | I17: SET | J17: =단가대비표!L9 -> 0 | K17: =J17*H17 -> 0 | L17: 1 | M17: SET | N17: =단가대비표!M9 -> 0 | O17: =N17*L17 -> 0 | P17: 1 | Q17: SET | R17: =단가대비표!N9 -> 0 | S17: =R17*P17 -> 0
B19: 소 계 | G19: =SUM(G8:G18) -> 0 | K19: =SUM(K8:K18) -> 0 | O19: =SUM(O8:O18) -> 0 | S19: =SUM(S8:S18) -> 0
A21: (2) | B21: 정보수집장치
A22: 1) | B22: DDC-1 | C22: 97Point
B23: DSC1146E | D23: 1 | E23: SET | F23: =단가대비표!K11 -> 0 | G23: =F23*D23 -> 0 | H23: 1 | I23: SET | J23: =단가대비표!L11 -> 0 | K23: =J23*H23 -> 0 | L23: 1 | M23: SET | N23: =단가대비표!M11 -> 0 | O23: =N23*L23 -> 0 | P23: 1 | Q23: SET | R23: =단가대비표!N11 -> 0 | S23: =R23*P23 -> 0
B24: DFM1600 | D24: 1 | E24: SET | F24: =단가대비표!K12 -> 0 | G24: =F24*D24 -> 0
B25: DFM1600 | D25: 1 | E25: SET | F25: =단가대비표!K13 -> 0 | G25: =F25*D25 -> 0
B26: DAC1146 | D26: 1 | E26: SET | F26: =단가대비표!K14 -> 0 | G26: =F26*D26 -> 0
B27: DFM1600 | D27: 1 | E27: SET | F27: =단가대비표!K15 -> 0 | G27: =F27*D27 -> 0
B28: DAC1146 | D28: 1 | E28: SET | F28: =단가대비표!K16 -> 0 | G28: =F28*D28 -> 0
A29: 2) | B29: 속판 및 잡자재 | C29: 외함 재사용 | D29: 1 | E29: 면 | F29: =단가대비표!K17 -> 0 | G29: =F29*D29 -> 0 | H29: 1 | I29: 면 | J29: =단가대비표!L17 -> 0 | K29: =J29*H29 -> 0 | L29: 1 | M29: 면 | N29: =단가대비표!M17 -> 0 | O29: =N29*L29 -> 0 | P29: 1 | Q29: 면 | R29: =단가대비표!N17 -> 0 | S29: =R29*P29 -> 0
A30: 3) | B30: DDC-2 | C30: 13Point
B31: DAC1146 | D31: 1 | E31: SET | F31: =단가대비표!K19 -> 0 | G31: =F31*D31 -> 0 | H31: 1 | I31: SET | J31: =단가대비표!L19 -> 0 | K31: =J31*H31 -> 0 | L31: 1 | M31: SET | N31: =단가대비표!M19 -> 0 | O31: =N31*L31 -> 0 | P31: 1 | Q31: SET | R31: =단가대비표!N19 -> 0 | S31: =R31*P31 -> 0
B32: DAC1146 | D32: 1 | E32: SET | F32: =단가대비표!K20 -> 0 | G32: =F32*D32 -> 0
A33: 4) | B33: 속판 및 잡자재 | C33: 외함 재사용 | D33: 1 | E33: 면 | F33: =단가대비표!K21 -> 0 | G33: =F33*D33 -> 0 | H33: 1 | I33: 면 | J33: =단가대비표!L21 -> 0 | K33: =J33*H33 -> 0 | L33: 1 | M33: 면 | N33: =단가대비표!M21 -> 0 | O33: =N33*L33 -> 0 | P33: 1 | Q33: 면 | R33: =단가대비표!N21 -> 0 | S33: =R33*P33 -> 0
A34: 5) | B34: DDC-3 | C34: 13Point
B35: DAC1146 | D35: 1 | E35: SET | F35: =단가대비표!K23 -> 0 | G35: =F35*D35 -> 0 | H35: 1 | I35: SET | J35: =단가대비표!L23 -> 0 | K35: =J35*H35 -> 0 | L35: 1 | M35: SET | N35: =단가대비표!M23 -> 0 | O35: =N35*L35 -> 0 | P35: 1 | Q35: SET | R35: =단가대비표!N23 -> 0 | S35: =R35*P35 -> 0
B36: DAC1146 | D36: 1 | E36: SET | F36: =단가대비표!K24 -> 0 | G36: =F36*D36 -> 0
A37: 6) | B37: 속판 및 잡자재 | C37: 외함 재사용 | D37: 1 | E37: 면 | F37: =단가대비표!K25 -> 0 | G37: =F37*D37 -> 0 | H37: 1 | I37: 면 | J37: =단가대비표!L25 -> 0 | K37: =J37*H37 -> 0 | L37: 1 | M37: 면 | N37: =단가대비표!M25 -> 0 | O37: =N37*L37 -> 0 | P37: 1 | Q37: 면 | R37: =단가대비표!N25 -> 0 | S37: =R37*P37 -> 0
A38: 7) | B38: DDC-4 | C38: 33Point
B39: DAC1146 | D39: 1 | E39: SET | F39: =단가대비표!K27 -> 0 | G39: =F39*D39 -> 0 | H39: 1 | I39: SET | J39: =단가대비표!L27 -> 0 | K39: =J39*H39 -> 0 | L39: 1 | M39: SET | N39: =단가대비표!M27 -> 0 | O39: =N39*L39 -> 0 | P39: 1 | Q39: SET | R39: =단가대비표!N27 -> 0 | S39: =R39*P39 -> 0
B40: DAC1146 | D40: 1 | E40: SET | F40: =단가대비표!K28 -> 0 | G40: =F40*D40 -> 0
B41: DFM400 | D41: 1 | E41: SET | F41: =단가대비표!K29 -> 0 | G41: =F41*D41 -> 0
B42: DAC1146 | D42: 1 | E42: SET | F42: =단가대비표!K30 -> 0 | G42: =F42*D42 -> 0
...

Sheet 단가대비표
A1: 단 가 대 비 표
A2: 건 명 : 경기도미술관 빌딩자동제어장치 교체 구매·설치
A3: 명 칭 | C3: 규 격 | D3: 수 량 | E3: 단위 | F3: 물가자료 (26년 07월) | H3: 물가정보 (26년 07월) | J3: 조사가격 | K3: 조사가격 | O3: 적용 | P3: 비고
F4: 가격 | G4: 페이지 | H4: 가격 | I4: 페이지 | K4: 견적1 | L4: 견적2 | M4: 견적3 | N4: 견적4
A5: 1. | B5: 재료비
A6: 1) | B6: 시스템용컴퓨터 | C6: i7 | D6: 1 | E6: SET | G6: 하-74P | J6: =MIN(K6:N6) -> 0 | O6: =MIN(F6,H6,J6) -> 0
A7: 2) | B7: 모니터 | C7: 27"인치 | D7: 1 | E7: SET | G7: 하-75P | I7: 1320P | J7: =MIN(K7:N7) -> 0 | O7: =MIN(F7,H7,J7) -> 0
A8: 3) | B8: 시스템 프로그램 | D8: 1 | E8: SET | F8: 물가자료 미등록 | I8: 996P | J8: =MIN(K8:N8) -> 0 | O8: =MIN(F8,H8,J8) -> 0
A9: 4) | B9: 무정전전원장치 | C9: 5KVA | D9: 1 | E9: SET | G9: 1131P | I9: 1223P | J9: =MIN(K9:N9) -> 0 | O9: =MIN(F9,H9,J9) -> 0
A10: 5) | B10: DDC-1 | C10: 97Point
B11: DSC1146E | D11: 1 | E11: SET | F11: 물가자료 미등록 | I11: 996P | J11: =MIN(K11:N11) -> 0 | O11: =MIN(F11,H11,J11) -> 0
B12: DFM1600 | D12: 1 | E12: SET | I12: 996P | J12: =MIN(K12:N12) -> 0 | O12: =MIN(F12,H12,J12) -> 0
B13: DFM1600 | D13: 1 | E13: SET | I13: 996P | J13: =MIN(K13:N13) -> 0 | O13: =MIN(F13,H13,J13) -> 0
B14: DAC1146 | D14: 1 | E14: SET | I14: 996P | J14: =MIN(K14:N14) -> 0 | O14: =MIN(F14,H14,J14) -> 0
B15: DFM1600 | D15: 1 | E15: SET | I15: 996P | J15: =MIN(K15:N15) -> 0 | O15: =MIN(F15,H15,J15) -> 0
B16: DAC1146 | D16: 1 | E16: SET | I16: 996P | J16: =MIN(K16:N16) -> 0 | O16: =MIN(F16,H16,J16) -> 0
A17: 6) | B17: 속판 및 잡자재 | C17: 외함 재사용 | D17: 1 | E17: 면 | J17: =MIN(K17:N17) -> 0 | O17: =MIN(F17,H17,J17) -> 0 | P17: 자동제어 업체 직접생산 물품
A18: 7) | B18: DDC-2 | C18: 13Point
B19: DAC1146 | D19: 1 | E19: SET | F19: 물가자료 미등록 | I19: 996P | J19: =MIN(K19:N19) -> 0
B20: DAC1146 | D20: 1 | E20: SET | I20: 996P | J20: =MIN(K20:N20) -> 0
A21: 8) | B21: 속판 및 잡자재 | C21: 외함 재사용 | D21: 1 | E21: 면 | J21: =MIN(K21:N21) -> 0 | P21: 자동제어 업체 직접생산 물품
A22: 9) | B22: DDC-3 | C22: 13Point
B23: DAC1146 | D23: 1 | E23: SET | F23: 물가자료 미등록 | I23: 996P | J23: =MIN(K23:N23) -> 0 | O23: =MIN(F23,H23,J23) -> 0
B24: DAC1146 | D24: 1 | E24: SET | I24: 996P | J24: =MIN(K24:N24) -> 0 | O24: =MIN(F24,H24,J24) -> 0
A25: 10) | B25: 속판 및 잡자재 | C25: 외함 재사용 | D25: 1 | E25: 면 | J25: =MIN(K25:N25) -> 0 | O25: =MIN(F25,H25,J25) -> 0 | P25: 자동제어 업체 직접생산 물품
A26: 11) | B26: DDC-4 | C26: 33Point
B27: DAC1146 | D27: 1 | E27: SET | F27: 물가자료 미등록 | I27: 996P | J27: =MIN(K27:N27) -> 0 | O27: =MIN(F27,H27,J27) -> 0
B28: DAC1146 | D28: 1 | E28: SET | I28: 996P | J28: =MIN(K28:N28) -> 0 | O28: =MIN(F28,H28,J28) -> 0
B29: DFM400 | D29: 1 | E29: SET | I29: 996P | J29: =MIN(K29:N29) -> 0 | O29: =MIN(F29,H29,J29) -> 0
B30: DAC1146 | D30: 1 | E30: SET | I30: 996P | J30: =MIN(K30:N30) -> 0 | O30: =MIN(F30,H30,J30) -> 0
A31: 12) | B31: 속판 및 잡자재 | C31: 외함 재사용 | D31: 1 | E31: 면 | J31: =MIN(K31:N31) -> 0 | O31: =MIN(F31,H31,J31) -> 0 | P31: 자동제어 업체 직접생산 물품
A32: 13) | B32: DDC-5 | C32: 9Point
B33: DAC1146 | D33: 1 | E33: SET | F33: 물가자료 미등록 | I33: 996P | J33: =MIN(K33:N33) -> 0 | O33: =MIN(F33,H33,J33) -> 0
B34: DAC1146 | D34: 1 | E34: SET | I34: 996P | J34: =MIN(K34:N34) -> 0 | O34: =MIN(F34,H34,J34) -> 0
A35: 14) | B35: 속판 및 잡자재 | C35: 외함 재사용 | D35: 1 | E35: 면 | J35: =MIN(K35:N35) -> 0 | O35: =MIN(F35,H35,J35) -> 0 | P35: 자동제어 업체 직접생산 물품
A36: 15) | B36: DDC-6 | C36: 41Point
B37: DAC1146 | D37: 1 | E37: SET | F37: 물가자료 미등록 | I37: 996P | J37: =MIN(K37:N37) -> 0 | O37: =MIN(F37,H37,J37) -> 0
B38: DAC1146 | D38: 1 | E38: SET | I38: 996P | J38: =MIN(K38:N38) -> 0 | O38: =MIN(F38,H38,J38) -> 0
B39: DFM404 | D39: 1 | E39: SET | I39: 996P | J39: =MIN(K39:N39) -> 0 | O39: =MIN(F39,H39,J39) -> 0
B40: DAC1146 | D40: 1 | E40: SET | I40: 996P | J40: =MIN(K40:N40) -> 0 | O40: =MIN(F40,H40,J40) -> 0
...
