Workbook
Name _______q45: {"'용역비'!$A$4:$C$8"}
Name _______q45: {"'용역비'!$A$4:$C$8"}
Name ______q45: {"'용역비'!$A$4:$C$8"}
Name ______q45: {"'용역비'!$A$4:$C$8"}
Name _____q45: {"'용역비'!$A$4:$C$8"}
Name _____q45: {"'용역비'!$A$4:$C$8"}
Name ____q45: {"'용역비'!$A$4:$C$8"}
Name ____q45: {"'용역비'!$A$4:$C$8"}
Name ___ju8: {"'광피스표'!$A$3:$N$54"}
Name ___ju8: {"'광피스표'!$A$3:$N$54"}
Name ___q45: {"'용역비'!$A$4:$C$8"}
Name ___q45: {"'용역비'!$A$4:$C$8"}
Name __q45: {"'용역비'!$A$4:$C$8"}
Name __q45: {"'용역비'!$A$4:$C$8"}
Name _3__Module4_.Macro3: _3__Module4_.Macro3
Name _3__Module4_.Macro3: _3__Module4_.Macro3
Name _4__Module6_.Macro4: _4__Module6_.Macro4
Name _4__Module6_.Macro4: _4__Module6_.Macro4
Name _ju8: {"'광피스표'!$A$3:$N$54"}
Name _ju8: {"'광피스표'!$A$3:$N$54"}
Name _Order1: 255
Name _Order2: 255
Name _Regression_Int: 1
Name abcd: {"'자리배치도'!$AG$1:$CI$28"}
Name abcd: {"'자리배치도'!$AG$1:$CI$28"}
Name Access_Button: "KT과금거리_지역좌표_970827_거리계산표_List"
Name AccessDatabase: "C:\My Documents\북부수도사업소\전원차단장치\전원차~1\전원차단장치 내역서 03월06일.mdb"
Name ACCLINK.XLS_Localization_Table_List: "$A$1:$B$11"
Name ACCLINK.XLS_Localization_Table_List1: "$A$13:$B$31"
Name ACCLINK.XLS_Localization_Table_List10: "$A$13:$B$33"
Name ACCLINK.XLS_Localization_Table_List11: "$A$13:$B$33"
Name ACCLINK.XLS_Localization_Table_List12: "$A$13:$B$33"
Name ACCLINK.XLS_Localization_Table_List13: "$A$13:$B$33"
Name ACCLINK.XLS_Localization_Table_List14: "$A$13:$B$33"
Name ACCLINK.XLS_Localization_Table_List15: "$A$13:$B$33"
Name ACCLINK.XLS_Localization_Table_List16: "$A$13:$B$33"
Name ACCLINK.XLS_Localization_Table_List17: "$A$13:$B$33"
Name ACCLINK.XLS_Localization_Table_List18: "$A$13:$B$33"
Name ACCLINK.XLS_Localization_Table_List19: "$A$13:$B$33"
Name ACCLINK.XLS_Localization_Table_List2: "$A$13:$B$31"
Name ACCLINK.XLS_Localization_Table_List3: "$A$13:$B$31"
Name ACCLINK.XLS_Localization_Table_List4: "$A$13:$B$31"
Name ACCLINK.XLS_Localization_Table_List5: "$A$13:$B$31"
Name ACCLINK.XLS_Localization_Table_List6: "$A$13:$B$31"
Name ACCLINK.XLS_Localization_Table_List7: "$A$13:$B$31"
Name ACCLINK.XLS_Localization_Table_List8: "$A$13:$B$31"
Name ACCLINK.XLS_Localization_Table_List9: "$A$13:$B$33"
Name anscount: 1
Name ARE: ARE
Name ARE: ARE
Name AVGHBD: AVGHBD
Name AVGHBD: AVGHBD
Name BBJ: BBJ
Name BBJ: BBJ
Name BG: {"'광피스표'!$A$3:$N$54"}
Name BG: {"'광피스표'!$A$3:$N$54"}
Name BNH: BNH
Name BNH: BNH
Name bvvc: bvvc
Name bvvc: bvvc

Sheet 공사원가
A1: 공 사 원 가 계 산 서
A2: [ 공사명 ] | C2: 김포고 급식실 환기설비 개선 전기공사 | E2: 공사기간 : 6개월(183일)이하 | I2: ="금액:"&NUMBERSTRING(D38,1)&"원정("&DOLLAR(D38,0)&")" -> 금액:영원정(₩0)
A3: 비 목 | D3: 금 액 | E3: 구 성 비 | G3: 비 고
A4: 순 공 사 원 가 | B4: 재료비 | C4: 직 접 재 료 비 | J4: 1
C5: 간 접 재 료 비
C6: 작업설,부산물(△)
C7: [ 소 계 ]
B8: 노무비 | C8: 직 접 노 무 비 | J8: 1
C9: 간 접 노 무 비 | J9: 1
C10: [ 소 계 ]
B11: 경 비 | C11: 전 력 비 | J11: 1
C12: 운 반 비 | J12: 1
C13: 기 계 경 비 | J13: 1
C14: 가 설 비 | J14: 1
C15: 산 재 보 험 료 | J15: 1
C16: 고 용 보 험 료 | J16: 1
C17: 건 강 보 험 료
C18: 연 금 보 험 료
C19: 노인장기보험료
C20: 퇴직공제부금비
C21: 산업안전보건관리비
C22: -산업안전보건관리비(a)
C23: -산업안전보건관리비(b)
C24: 기 타 경 비
C25: 환 경 보 전 비
C26: 석 면 분 담 금
C27: 임금채권부담금
C28: [ 소 계 ]
A29: [ 계 ]
A30: 일 반 관 리 비 | J30: 1
A31: 이 윤 | J31: 1
A32: [ 공 급 가 액 ]
A33: [손해배상보험공제료]
A34: 부 가 가 치 세 | J34: 1
A35: [ 도 급 액 ]
A36: [ 도급자관급액 ]
A37: [ 관급자관급액 ] | J37: 1
A38: [ 총 공 사 비 ]

Sheet 총괄표
A1: 총줄수-> | B1: 315 | C1: 2.0 | D1: [ 김포고 급식실 환기설비 개선 전기공사 ] | AA1: 연속견적가로형식
A2: 번호 | B2: 공종코드 | C2: … | D2: 공 종 명 | E2: 규격 | F2: 단위 | G2: 수량 | H2: 재료비 | J2: 노무비 | M2: 경비 | P2: 계 | Q2: 비고
H3: 단가 | I3: 금액 | J3: 수량 | K3: 단가 | L3: 금액 | M3: 단가 | N3: 금액 | O3: 단가
B4: 공종줄 | D4: [김포고 급식실 환기설비 개선 전기공사]
B5: 001 | D5: 1.전력간선설비 | F5: 식 | G5: 1
B6: 002 | D6: 2.동력설비 | F6: 식 | G6: 1
B7: 003 | D7: 3.전등설비 | F7: 식 | G7: 1
B8: 004 | D8: 4.전열설비 | F8: 식 | G8: 1
B9: 005 | D9: 5.냉난방설비 | F9: 식 | G9: 1
B10: 006 | D10: 6.자동소화장치 전원설비 | F10: 식 | G10: 1
B11: 007 | D11: 7.통신설비 | F11: 식 | G11: 1
B12: 008 | D12: 8.제어배관설비 | F12: 식 | G12: 1
B13: 009 | D13: 9.동력설비(철거) | F13: 식 | G13: 1
B14: 010 | D14: 10.냉난방설비(철거) | F14: 식 | G14: 1
B15: 011 | D15: 11.전기설비(철거) | F15: 식 | G15: 1
I16: =G16*H16 -> 0 | L16: =G16*K16 -> 0 | N16: =G16*M16 -> 0 | P16: =SUM(I16,L16,N16) -> 0
I17: =G17*H17 -> 0 | L17: =G17*K17 -> 0 | N17: =G17*M17 -> 0 | P17: =SUM(I17,L17,N17) -> 0
I18: =G18*H18 -> 0 | L18: =G18*K18 -> 0 | N18: =G18*M18 -> 0 | P18: =SUM(I18,L18,N18) -> 0
I19: =G19*H19 -> 0 | L19: =G19*K19 -> 0 | N19: =G19*M19 -> 0 | P19: =SUM(I19,L19,N19) -> 0
I20: =G20*H20 -> 0 | L20: =G20*K20 -> 0 | N20: =G20*M20 -> 0 | P20: =SUM(I20,L20,N20) -> 0
I21: =G21*H21 -> 0 | L21: =G21*K21 -> 0 | N21: =G21*M21 -> 0 | P21: =SUM(I21,L21,N21) -> 0
I22: =G22*H22 -> 0 | L22: =G22*K22 -> 0 | N22: =G22*M22 -> 0 | P22: =SUM(I22,L22,N22) -> 0
I23: =G23*H23 -> 0 | L23: =G23*K23 -> 0 | N23: =G23*M23 -> 0 | P23: =SUM(I23,L23,N23) -> 0
I24: =G24*H24 -> 0 | L24: =G24*K24 -> 0 | N24: =G24*M24 -> 0 | P24: =SUM(I24,L24,N24) -> 0
I25: =G25*H25 -> 0 | L25: =G25*K25 -> 0 | N25: =G25*M25 -> 0 | P25: =SUM(I25,L25,N25) -> 0
I26: =G26*H26 -> 0 | L26: =G26*K26 -> 0 | N26: =G26*M26 -> 0 | P26: =SUM(I26,L26,N26) -> 0
I27: =G27*H27 -> 0 | L27: =G27*K27 -> 0 | N27: =G27*M27 -> 0 | P27: =SUM(I27,L27,N27) -> 0
I28: =G28*H28 -> 0 | L28: =G28*K28 -> 0 | N28: =G28*M28 -> 0 | P28: =SUM(I28,L28,N28) -> 0
C29: Total | D29: ( 합 계 ) | I29: =TRUNC(SUM(I4:I28)) -> 0 | L29: =TRUNC(SUM(L4:L28)) -> 0 | N29: =TRUNC(SUM(N4:N28)) -> 0 | P29: =TRUNC(SUM(P4:P28)) -> 0
B30: 공종줄 | D30: 1.전력간선설비
B31: 00101 | D31: 1-1. 지하1층 전력간선설비 신설 | F31: 식 | G31: 1
I32: =G32*H32 -> 0 | L32: =G32*K32 -> 0 | N32: =G32*M32 -> 0 | P32: =SUM(I32,L32,N32) -> 0
I33: =G33*H33 -> 0 | L33: =G33*K33 -> 0 | N33: =G33*M33 -> 0 | P33: =SUM(I33,L33,N33) -> 0
I34: =G34*H34 -> 0 | L34: =G34*K34 -> 0 | N34: =G34*M34 -> 0 | P34: =SUM(I34,L34,N34) -> 0
I35: =G35*H35 -> 0 | L35: =G35*K35 -> 0 | N35: =G35*M35 -> 0 | P35: =SUM(I35,L35,N35) -> 0
I36: =G36*H36 -> 0 | L36: =G36*K36 -> 0 | N36: =G36*M36 -> 0 | P36: =SUM(I36,L36,N36) -> 0
I37: =G37*H37 -> 0 | L37: =G37*K37 -> 0 | N37: =G37*M37 -> 0 | P37: =SUM(I37,L37,N37) -> 0
I38: =G38*H38 -> 0 | L38: =G38*K38 -> 0 | N38: =G38*M38 -> 0 | P38: =SUM(I38,L38,N38) -> 0
I39: =G39*H39 -> 0 | L39: =G39*K39 -> 0 | N39: =G39*M39 -> 0 | P39: =SUM(I39,L39,N39) -> 0
I40: =G40*H40 -> 0 | L40: =G40*K40 -> 0 | N40: =G40*M40 -> 0 | P40: =SUM(I40,L40,N40) -> 0
I41: =G41*H41 -> 0 | L41: =G41*K41 -> 0 | N41: =G41*M41 -> 0 | P41: =SUM(I41,L41,N41) -> 0
I42: =G42*H42 -> 0 | L42: =G42*K42 -> 0 | N42: =G42*M42 -> 0 | P42: =SUM(I42,L42,N42) -> 0
I43: =G43*H43 -> 0 | L43: =G43*K43 -> 0 | N43: =G43*M43 -> 0 | P43: =SUM(I43,L43,N43) -> 0
... I54: =G54*H54 -> 0 | L54: =G54*K54 -> 0 | N54: =G54*M54 -> 0 | P54: =SUM(I54,L54,N54) -> 0
B55: 001 | C55: Total | D55: ( 합 계 ) | I55: =TRUNC(SUM(I30:I54)) -> 0 | L55: =TRUNC(SUM(L30:L54)) -> 0 | N55: =TRUNC(SUM(N30:N54)) -> 0 | P55: =TRUNC(SUM(P30:P54)) -> 0
B56: 공종줄 | D56: 2.동력설비
B57: 00201 | D57: 2-1. 지하1층 동력설비 신설 | F57: 식 | G57: 1
B58: 00202 | D58: 2-2. 지상1층 동력설비 신설 | F58: 식 | G58: 1
I60: =G60*H60 -> 0 | L60: =G60*K60 -> 0 | N60: =G60*M60 -> 0 | P60: =SUM(I60,L60,N60) -> 0
I61: =G61*H61 -> 0 | L61: =G61*K61 -> 0 | N61: =G61*M61 -> 0 | P61: =SUM(I61,L61,N61) -> 0
I62: =G62*H62 -> 0 | L62: =G62*K62 -> 0 | N62: =G62*M62 -> 0 | P62: =SUM(I62,L62,N62) -> 0
I63: =G63*H63 -> 0 | L63: =G63*K63 -> 0 | N63: =G63*M63 -> 0 | P63: =SUM(I63,L63,N63) -> 0
I64: =G64*H64 -> 0 | L64: =G64*K64 -> 0 | N64: =G64*M64 -> 0 | P64: =SUM(I64,L64,N64) -> 0
I65: =G65*H65 -> 0 | L65: =G65*K65 -> 0 | N65: =G65*M65 -> 0 | P65: =SUM(I65,L65,N65) -> 0
I66: =G66*H66 -> 0 | L66: =G66*K66 -> 0 | N66: =G66*M66 -> 0 | P66: =SUM(I66,L66,N66) -> 0
I67: =G67*H67 -> 0 | L67: =G67*K67 -> 0 | N67: =G67*M67 -> 0 | P67: =SUM(I67,L67,N67) -> 0
I68: =G68*H68 -> 0 | L68: =G68*K68 -> 0 | N68: =G68*M68 -> 0 | P68: =SUM(I68,L68,N68) -> 0
I69: =G69*H69 -> 0 | L69: =G69*K69 -> 0 | N69: =G69*M69 -> 0 | P69: =SUM(I69,L69,N69) -> 0
I70: =G70*H70 -> 0 | L70: =G70*K70 -> 0 | N70: =G70*M70 -> 0 | P70: =SUM(I70,L70,N70) -> 0
I71: =G71*H71 -> 0 | L71: =G71*K71 -> 0 | N71: =G71*M71 -> 0 | P71: =SUM(I71,L71,N71) -> 0
... I80: =G80*H80 -> 0 | L80: =G80*K80 -> 0 | N80: =G80*M80 -> 0 | P80: =SUM(I80,L80,N80) -> 0
B81: 002 | C81: Total | D81: ( 합 계 ) | I81: =TRUNC(SUM(I56:I80)) -> 0 | L81: =TRUNC(SUM(L56:L80)) -> 0 | N81: =TRUNC(SUM(N56:N80)) -> 0 | P81: =TRUNC(SUM(P56:P80)) -> 0
B82: 공종줄 | D82: 3.전등설비
B83: 00301 | D83: 3-1. 지하1층 전등설비 신설 | F83: 식 | G83: 1
I84: =G84*H84 -> 0 | L84: =G84*K84 -> 0 | N84: =G84*M84 -> 0 | P84: =SUM(I84,L84,N84) -> 0
I85: =G85*H85 -> 0 | L85: =G85*K85 -> 0 | N85: =G85*M85 -> 0 | P85: =SUM(I85,L85,N85) -> 0
I86: =G86*H86 -> 0 | L86: =G86*K86 -> 0 | N86: =G86*M86 -> 0 | P86: =SUM(I86,L86,N86) -> 0
I87: =G87*H87 -> 0 | L87: =G87*K87 -> 0 | N87: =G87*M87 -> 0 | P87: =SUM(I87,L87,N87) -> 0
I88: =G88*H88 -> 0 | L88: =G88*K88 -> 0 | N88: =G88*M88 -> 0 | P88: =SUM(I88,L88,N88) -> 0
I89: =G89*H89 -> 0 | L89: =G89*K89 -> 0 | N89: =G89*M89 -> 0 | P89: =SUM(I89,L89,N89) -> 0
I90: =G90*H90 -> 0 | L90: =G90*K90 -> 0 | N90: =G90*M90 -> 0 | P90: =SUM(I90,L90,N90) -> 0
I91: =G91*H91 -> 0 | L91: =G91*K91 -> 0 | N91: =G91*M91 -> 0 | P91: =SUM(I91,L91,N91) -> 0
I92: =G92*H92 -> 0 | L92: =G92*K92 -> 0 | N92: =G92*M92 -> 0 | P92: =SUM(I92,L92,N92) -> 0
I93: =G93*H93 -> 0 | L93: =G93*K93 -> 0 | N93: =G93*M93 -> 0 | P93: =SUM(I93,L93,N93) -> 0
I94: =G94*H94 -> 0 | L94: =G94*K94 -> 0 | N94: =G94*M94 -> 0 | P94: =SUM(I94,L94,N94) -> 0
I95: =G95*H95 -> 0 | L95: =G95*K95 -> 0 | N95: =G95*M95 -> 0 | P95: =SUM(I95,L95,N95) -> 0
... I106: =G106*H106 -> 0 | L106: =G106*K106 -> 0 | N106: =G106*M106 -> 0 | P106: =SUM(I106,L106,N106) -> 0
B107: 003 | C107: Total | D107: ( 합 계 ) | I107: =TRUNC(SUM(I82:I106)) -> 0 | L107: =TRUNC(SUM(L82:L106)) -> 0 | N107: =TRUNC(SUM(N82:N106)) -> 0 | P107: =TRUNC(SUM(P82:P106)) -> 0
B108: 공종줄 | D108: 4.전열설비
B109: 00401 | D109: 4-1. 지하1층 주방전열설비 신설 | F109: 식 | G109: 1
B110: 00402 | D110: 4-2. 지하1층 전열설비 신설 | F110: 식 | G110: 1
B111: 00403 | D111: 4-3. 지상1층 전열설비 신설 | F111: 식 | G111: 1
I113: =G113*H113 -> 0 | L113: =G113*K113 -> 0 | N113: =G113*M113 -> 0 | P113: =SUM(I113,L113,N113) -> 0
I114: =G114*H114 -> 0 | L114: =G114*K114 -> 0 | N114: =G114*M114 -> 0 | P114: =SUM(I114,L114,N114) -> 0
I115: =G115*H115 -> 0 | L115: =G115*K115 -> 0 | N115: =G115*M115 -> 0 | P115: =SUM(I115,L115,N115) -> 0
I116: =G116*H116 -> 0 | L116: =G116*K116 -> 0 | N116: =G116*M116 -> 0 | P116: =SUM(I116,L116,N116) -> 0
I117: =G117*H117 -> 0 | L117: =G117*K117 -> 0 | N117: =G117*M117 -> 0 | P117: =SUM(I117,L117,N117) -> 0
I118: =G118*H118 -> 0 | L118: =G118*K118 -> 0 | N118: =G118*M118 -> 0 | P118: =SUM(I118,L118,N118) -> 0
I119: =G119*H119 -> 0 | L119: =G119*K119 -> 0 | N119: =G119*M119 -> 0 | P119: =SUM(I119,L119,N119) -> 0
I120: =G120*H120 -> 0 | L120: =G120*K120 -> 0 | N120: =G120*M120 -> 0 | P120: =SUM(I120,L120,N120) -> 0
I121: =G121*H121 -> 0 | L121: =G121*K121 -> 0 | N121: =G121*M121 -> 0 | P121: =SUM(I121,L121,N121) -> 0
I122: =G122*H122 -> 0 | L122: =G122*K122 -> 0 | N122: =G122*M122 -> 0 | P122: =SUM(I122,L122,N122) -> 0
I123: =G123*H123 -> 0 | L123: =G123*K123 -> 0 | N123: =G123*M123 -> 0 | P123: =SUM(I123,L123,N123) -> 0
I124: =G124*H124 -> 0 | L124: =G124*K124 -> 0 | N124: =G124*M124 -> 0 | P124: =SUM(I124,L124,N124) -> 0
... I132: =G132*H132 -> 0 | L132: =G132*K132 -> 0 | N132: =G132*M132 -> 0 | P132: =SUM(I132,L132,N132) -> 0
B133: 004 | C133: Total | D133: ( 합 계 ) | I133: =TRUNC(SUM(I108:I132)) -> 0 | L133: =TRUNC(SUM(L108:L132)) -> 0 | N133: =TRUNC(SUM(N108:N132)) -> 0 | P133: =TRUNC(SUM(P108:P132)) -> 0
B134: 공종줄 | D134: 5.냉난방설비
B135: 00501 | D135: 5-1. 지하1층 냉난방설비 신설 | F135: 식 | G135: 1
B136: 00502 | D136: 5-2. 지상1층 냉난방설비 신설 | F136: 식 | G136: 1
I139: =G139*H139 -> 0 | L139: =G139*K139 -> 0 | N139: =G139*M139 -> 0 | P139: =SUM(I139,L139,N139) -> 0
...

Sheet 내역서
A1: 총줄수-> | B1: 523 | C1: 2.0 | D1: [ 김포고 급식실 환기설비 개선 전기공사 ] | W1: 노임 계산 정보 | AA1: 부속재 및 손료
A2: 번호 | B2: 공종코드 | C2: 코드 | D2: 명 칭 | E2: 규 격 | F2: 단위 | G2: 수량 | H2: 재료비 | J2: 노무비 | M2: 경비 | P2: 계 | Q2: 비고 | W2: 노임계 | X2: 전체(%) | Y2: 공종별(%) | Z2: 노임 소수 | AA2: CD배관재 | AB2: 일반배관재 | AC2: 소모재 | AD2: 자재계 | AE2: 노임계
H3: 단가 | I3: 금액 | J3: 수량 | K3: 단가 | L3: 금액 | M3: 단가 | N3: 금액 | O3: 단가 | AD3: =IF(옵션!$C$11=0,"1",옵션!$C$11) -> 1 | AE3: =IF(옵션!$C$12=0,"1",옵션!$C$12) -> 1
B4: 공종줄 | D4: 1.전력간선설비::1-1.지하1층 전력간선설비 신설
A5: 5975A338003 | B5: 00101 | C5: EDA14100030S | D5: 나사없는전선관 | E5: E31 | F5: M | G5: 7 | AB5: =G5*H5 -> 0 | AC5: =G5*H5 -> 0
A6: 5975A338004 | B6: 00101 | C6: EDA14100040S | D6: 나사없는전선관 | E6: E39 | F6: M | G6: 17 | AB6: =G6*H6 -> 0 | AC6: =G6*H6 -> 0
A7: 5975A338007 | B7: 00101 | C7: EDA14100060S | D7: 나사없는전선관 | E7: E63 | F7: M | G7: 20 | AB7: =G7*H7 -> 0 | AC7: =G7*H7 -> 0
A8: MM318075103 | B8: 00101 | C8: 3913170825309898 | D8: 볼트고정식이음쇠(나사없는) | E8: 커넥터 E31 | F8: 개 | G8: 6
A9: MM318075104 | B9: 00101 | C9: 3913170825309899 | D9: 볼트고정식이음쇠(나사없는) | E9: 커넥터 E39 | F9: 개 | G9: 18
A10: MM318075106 | B10: 00101 | C10: 3913170825309901 | D10: 볼트고정식이음쇠(나사없는) | E10: 커넥터 E63 | F10: 개 | G10: 10
A11: 5975D857131 | B11: 00101 | C11: E59753857131 | D11: 풀박스 | E11: 300×300×200 | F11: 개 | G11: 9
A12: 5975B477029 | B12: 00101 | C12: E59751477029 | D12: 전선덕트 | E12: 알루미늄 100x50 mm | F12: M | G12: 6
A13: 56959000001 | B13: 00101 | C13: EMM300040379 | D13: 전선덕트 | E13: 알루미늄 150x100mm | F13: M | G13: 2
A14: E145A927202 | B14: 00101 | C14: EE1450927202 | D14: 접지용비닐절연전선(F-GV) | E14: 4㎟ | F14: M | G14: 7 | AC14: =G14*H14 -> 0
A15: E145A927205 | B15: 00101 | C15: EE1450927205 | D15: 접지용비닐절연전선(F-GV) | E15: 16㎟ | F15: M | G15: 37 | AC15: =G15*H15 -> 0
A16: E145A287522 | B16: 00101 | C16: EE1450287522 | D16: 폴리에틸렌 난연케이블 | E16: 0.6/1kv F-CV 2C×4㎟ | F16: M | G16: 15 | AC16: =G16*H16 -> 0
A17: E145A287525 | B17: 00101 | C17: EE1450287525 | D17: 폴리에틸렌 난연케이블 | E17: 0.6/1kv F-CV 2C×16㎟ | F17: M | G17: 16 | AC17: =G17*H17 -> 0
A18: E145A287565 | B18: 00101 | C18: EE1450287565 | D18: 폴리에틸렌 난연케이블 | E18: 0.6/1kv F-CV 4C×16㎟ | F18: M | G18: 17 | AC18: =G18*H18 -> 0
A19: E145A287568 | B19: 00101 | C19: EE1450287568 | D19: 폴리에틸렌 난연케이블 | E19: 0.6/1kv F-CV 4C×35㎟ | F19: M | G19: 28 | AC19: =G19*H19 -> 0
A20: 56959000005 | B20: 00101 | C20: EMM599859664 | D20: 누전차단기(54c) | E20: 4P 50AF | F20: EA | G20: 1
A21: 56953100908 | B21: 00101 | C21: EAB110220000 | D21: 벽관통 구멍(코어드릴) | E21: Φ50-벽두께 25cm | F21: 개소 | G21: 2
A22: 56953100912 | B22: 00101 | C22: EAB110310000 | D22: 배관용 구멍뚫기(손파기) | E22: Φ50-벽두께 15cm | F22: 식 | G22: 1
A23: EKO40003002 | B23: 00101 | C23: EKO400030002 | D23: 파이프행거 | E23: 28C | F23: 개소 | G23: 3
A24: EKO40004002 | B24: 00101 | C24: EKO400040002 | D24: 파이프행거 | E24: 36C | F24: 개소 | G24: 8
A25: EKO40006002 | B25: 00101 | C25: EKO400060002 | D25: 파이프행거 | E25: 54C | F25: 개소 | G25: 10
A26: MM068956904 | B26: 00101 | C26: 391115ZZ701Z0010 | D26: CV 100㎟/1Cx4(철거후 재결선) | F26: 개 | G26: 2
A27: MM068956906 | B27: 00101 | C27: 391115ZZ701Z0015 | D27: P-K1 PNL(신설) W800xH1500xD180 | F27: 개 | G27: 1
A28: MM068956907 | B28: 00101 | C28: 391115ZZ701Z0016 | D28: 기존 분전반(철거) W500xH800xD180 | F28: 개 | G28: 1
A29: MM068956908 | B29: 00101 | C29: 391115ZZ701Z0017 | D29: 누전차단기(철거) 3P 50AF 30AT | F29: 개 | G29: 1
AE30: =TRUNC(SUM(AE4:AE29)) -> 0
B55: 합계줄 | D55: ( 합 계 )
B56: 공종줄 | D56: 2.동력설비::2-1.지하1층 동력설비 신설
A57: 5975A338003 | B57: 00201 | C57: EDA14100030S | D57: 나사없는전선관 | E57: E31 | F57: M | G57: 23 | AB57: =G57*H57 -> 0 | AC57: =G57*H57 -> 0
A58: 5975A338004 | B58: 00201 | C58: EDA14100040S | D58: 나사없는전선관 | E58: E39 | F58: M | G58: 59 | AB58: =G58*H58 -> 0 | AC58: =G58*H58 -> 0
A59: 5975A338006 | B59: 00201 | C59: EDA14100050S | D59: 나사없는전선관 | E59: E51 | F59: M | G59: 24 | AB59: =G59*H59 -> 0 | AC59: =G59*H59 -> 0
A60: 5975A338008 | B60: 00201 | C60: EDA14100070S | D60: 나사없는전선관 | E60: E75 | F60: M | G60: 24 | AB60: =G60*H60 -> 0 | AC60: =G60*H60 -> 0
A61: MM318075103 | B61: 00201 | C61: 3913170825309898 | D61: 볼트고정식이음쇠(나사없는) | E61: 커넥터 E31 | F61: 개 | G61: 6
A62: MM318075104 | B62: 00201 | C62: 3913170825309899 | D62: 볼트고정식이음쇠(나사없는) | E62: 커넥터 E39 | F62: 개 | G62: 23
A63: MM318075105 | B63: 00201 | C63: 3913170825309900 | D63: 볼트고정식이음쇠(나사없는) | E63: 커넥터 E51 | F63: 개 | G63: 16
A64: MM318075107 | B64: 00201 | C64: 3913170825309902 | D64: 볼트고정식이음쇠(나사없는) | E64: 커넥터 E75 | F64: 개 | G64: 10
A65: 5975D857011 | B65: 00201 | C65: E59753857011 | D65: 풀박스 | E65: 100×100×75 | F65: 개 | G65: 2
A66: 5975D857131 | B66: 00201 | C66: E59753857131 | D66: 풀박스 | E66: 300×300×200 | F66: 개 | G66: 1
A67: 5975B817222 | B67: 00201 | C67: EDA41100020S | D67: 케이블트레이 | E67: STRAIGHT,St W300x100Hx2.3t | F67: M | G67: 21
A68: 5975E967011 | B68: 00201 | C68: E59754967011 | D68: 케이블트레이부속품 | E68: H. ELBOW, St,W300x100Hx2.3t | F68: 개 | G68: 1
A69: 5975E967111 | B69: 00201 | C69: E59754967111 | D69: 케이블트레이부속품 | E69: V. ELBOW, St,W300x100Hx2.3t | F69: 개 | G69: 1
A70: 59754967501 | B70: 00201 | C70: 3913170520175118 | D70: 케이블트레이부속품 | E70: JOINT CONNEC.아연도100Hx2.3 | F70: 개 | G70: 36
A71: 59754967521 | B71: 00201 | C71: 3913170520175120 | D71: 케이블트레이부속품 | E71: SHANK BOLT & NUT, 아연도 | F71: 개 | G71: 318
A72: 59754967561 | B72: 00201 | C72: 3913170520175124 | D72: 케이블트레이부속품 | E72: BONDING JUMPER, 35㎟ | F72: 개 | G72: 15
... A74: 5975E987121 | B74: 00201 | C74: E59754987121 | D74: 덕트형 케이블트레이부속 | E74: VER. ELBOW, W 300 | F74: 개 | G74: 1
A75: E145A927202 | B75: 00201 | C75: EE1450927202 | D75: 접지용비닐절연전선(F-GV) | E75: 4㎟ | F75: M | G75: 23 | AC75: =G75*H75 -> 0
A76: E145A927203 | B76: 00201 | C76: EE1450927203 | D76: 접지용비닐절연전선(F-GV) | E76: 6㎟ | F76: M | G76: 48 | AC76: =G76*H76 -> 0
A77: E145A927204 | B77: 00201 | C77: EE1450927204 | D77: 접지용비닐절연전선(F-GV) | E77: 10㎟ | F77: M | G77: 59 | AC77: =G77*H77 -> 0
A78: E145A927209 | B78: 00201 | C78: EE1450927209 | D78: 접지용비닐절연전선(F-GV) | E78: 50㎟ | F78: M | G78: 26 | AC78: =G78*H78 -> 0
A79: E145A287522 | B79: 00201 | C79: EE1450287522 | D79: 폴리에틸렌 난연케이블 | E79: 0.6/1kv F-CV 2C×4㎟ | F79: M | G79: 27 | AC79: =G79*H79 -> 0
A80: E145A287524 | B80: 00201 | C80: EE1450287524 | D80: 폴리에틸렌 난연케이블 | E80: 0.6/1kv F-CV 2C×10㎟ | F80: M | G80: 15 | AC80: =G80*H80 -> 0
A81: E145A287540 | B81: 00201 | C81: EE1450287540 | D81: 폴리에틸렌 난연케이블 | E81: 0.6/1kv F-CV 3C×6㎟ | F81: M | G81: 56 | AC81: =G81*H81 -> 0
A82: E145A287541 | B82: 00201 | C82: EE1450287541 | D82: 폴리에틸렌 난연케이블 | E82: 0.6/1kv F-CV 3C×10㎟ | F82: M | G82: 88 | AC82: =G82*H82 -> 0
A83: 56950160300 | B83: 00201 | C83: EAA110430000 | D83: 케이블트레이지지대 | E83: W300-1단 | F83: 식 | G83: 12
A84: EKO40003002 | B84: 00201 | C84: EKO400030002 | D84: 파이프행거 | E84: 28C | F84: 개소 | G84: 11
A85: EKO40004002 | B85: 00201 | C85: EKO400040002 | D85: 파이프행거 | E85: 36C | F85: 개소 | G85: 29
A86: EKO40005002 | B86: 00201 | C86: EKO400050002 | D86: 파이프행거 | E86: 42C | F86: 개소 | G86: 12
A87: EKO40007002 | B87: 00201 | C87: EKO400070002 | D87: 파이프행거 | E87: 70C | F87: 개소 | G87: 12
AE88: =TRUNC(SUM(AE56:AE87)) -> 0
I98: =TRUNC(G98*H98) -> 0 | L98: =TRUNC(G98*K98) -> 0 | N98: =TRUNC(G98*M98) -> 0 | P98: =SUM(I98,L98,N98) -> 0
I99: =TRUNC(G99*H99) -> 0 | L99: =TRUNC(G99*K99) -> 0 | N99: =TRUNC(G99*M99) -> 0 | P99: =SUM(I99,L99,N99) -> 0
I100: =TRUNC(G100*H100) -> 0 | L100: =TRUNC(G100*K100) -> 0 | N100: =TRUNC(G100*M100) -> 0 | P100: =SUM(I100,L100,N100) -> 0
I101: =TRUNC(G101*H101) -> 0 | L101: =TRUNC(G101*K101) -> 0 | N101: =TRUNC(G101*M101) -> 0 | P101: =SUM(I101,L101,N101) -> 0
I102: =TRUNC(G102*H102) -> 0 | L102: =TRUNC(G102*K102) -> 0 | N102: =TRUNC(G102*M102) -> 0 | P102: =SUM(I102,L102,N102) -> 0
I103: =TRUNC(G103*H103) -> 0 | L103: =TRUNC(G103*K103) -> 0 | N103: =TRUNC(G103*M103) -> 0 | P103: =SUM(I103,L103,N103) -> 0
I104: =TRUNC(G104*H104) -> 0 | L104: =TRUNC(G104*K104) -> 0 | N104: =TRUNC(G104*M104) -> 0 | P104: =SUM(I104,L104,N104) -> 0
I105: =TRUNC(G105*H105) -> 0 | L105: =TRUNC(G105*K105) -> 0 | N105: =TRUNC(G105*M105) -> 0 | P105: =SUM(I105,L105,N105) -> 0
I106: =TRUNC(G106*H106) -> 0 | L106: =TRUNC(G106*K106) -> 0 | N106: =TRUNC(G106*M106) -> 0 | P106: =SUM(I106,L106,N106) -> 0
B107: 합계줄 | D107: ( 합 계 ) | I107: =TRUNC(SUM(I56:I106)) -> 0 | L107: =TRUNC(SUM(L56:L106)) -> 0 | N107: =TRUNC(SUM(N56:N106)) -> 0 | P107: =TRUNC(SUM(P56:P106)) -> 0
B108: 공종줄 | D108: 2.동력설비::2-2.지상1층 동력설비 신설
A109: 5975D017026 | B109: 00202 | C109: E59753017026 | D109: 1종금속제가요전선관 | E109: 36 mm 일반-방수 | F109: M | G109: 14 | AC109: =G109*H109 -> 0
A110: 5975D017027 | B110: 00202 | C110: E59753017027 | D110: 1종금속제가요전선관 | E110: 42 mm 일반-방수 | F110: M | G110: 15 | AC110: =G110*H110 -> 0
A111: 5975D017029 | B111: 00202 | C111: E59753017029 | D111: 1종금속제가요전선관 | E111: 70 mm 일반-방수 | F111: M | G111: 2 | AC111: =G111*H111 -> 0
A112: 59753017066 | B112: 00202 | C112: 3913170620174449 | D112: 1종금속제가요전선관 | E112: 커넥터, 36 mm 일반-방수 | F112: 개 | G112: 6
A113: 59753017067 | B113: 00202 | C113: 3913170620174450 | D113: 1종금속제가요전선관 | E113: 커넥터, 42 mm 일반-방수 | F113: 개 | G113: 4
A114: 59753017069 | B114: 00202 | C114: 3913170620174452 | D114: 1종금속제가요전선관 | E114: 커넥터, 70 mm 일반-방수 | F114: 개 | G114: 2
A115: 5975B817222 | B115: 00202 | C115: EDA41100020S | D115: 케이블트레이 | E115: STRAIGHT,St W300x100Hx2.3t | F115: M | G115: 21
A116: 5975E967011 | B116: 00202 | C116: E59754967011 | D116: 케이블트레이부속품 | E116: H. ELBOW, St,W300x100Hx2.3t | F116: 개 | G116: 1
A117: 5975E967111 | B117: 00202 | C117: E59754967111 | D117: 케이블트레이부속품 | E117: V. ELBOW, St,W300x100Hx2.3t | F117: 개 | G117: 1
A118: 59754967501 | B118: 00202 | C118: 3913170520175118 | D118: 케이블트레이부속품 | E118: JOINT CONNEC.아연도100Hx2.3 | F118: 개 | G118: 36
A119: 59754967521 | B119: 00202 | C119: 3913170520175120 | D119: 케이블트레이부속품 | E119: SHANK BOLT & NUT, 아연도 | F119: 개 | G119: 318
A120: 59754967561 | B120: 00202 | C120: 3913170520175124 | D120: 케이블트레이부속품 | E120: BONDING JUMPER, 35㎟ | F120: 개 | G120: 15
A121: 5975E977021 | B121: 00202 | C121: E59754977021 | D121: 덕트형 케이블트레이 | E121: DUCT, W 300 x H 100 | F121: M | G121: 2
A122: 5975E987121 | B122: 00202 | C122: E59754987121 | D122: 덕트형 케이블트레이부속 | E122: VER. ELBOW, W 300 | F122: 개 | G122: 1
A123: E145A927203 | B123: 00202 | C123: EE1450927203 | D123: 접지용비닐절연전선(F-GV) | E123: 6㎟ | F123: M | G123: 8 | AC123: =G123*H123 -> 0
A124: E145A927204 | B124: 00202 | C124: EE1450927204 | D124: 접지용비닐절연전선(F-GV) | E124: 10㎟ | F124: M | G124: 23 | AC124: =G124*H124 -> 0
A125: E145A927209 | B125: 00202 | C125: EE1450927209 | D125: 접지용비닐절연전선(F-GV) | E125: 50㎟ | F125: M | G125: 26 | AC125: =G125*H125 -> 0
A126: E145A287524 | B126: 00202 | C126: EE1450287524 | D126: 폴리에틸렌 난연케이블 | E126: 0.6/1kv F-CV 2C×10㎟ | F126: M | G126: 12 | AC126: =G126*H126 -> 0
A127: E145A287540 | B127: 00202 | C127: EE1450287540 | D127: 폴리에틸렌 난연케이블 | E127: 0.6/1kv F-CV 3C×6㎟ | F127: M | G127: 41 | AC127: =G127*H127 -> 0
A128: E145A287541 | B128: 00202 | C128: EE1450287541 | D128: 폴리에틸렌 난연케이블 | E128: 0.6/1kv F-CV 3C×10㎟ | F128: M | G128: 57 | AC128: =G128*H128 -> 0
A129: 56950160300 | B129: 00202 | C129: EAA110430000 | D129: 케이블트레이지지대 | E129: W300-1단 | F129: 식 | G129: 12
AE130: =TRUNC(SUM(AE108:AE129)) -> 0
B133: 합계줄 | D133: ( 합 계 )
B134: 공종줄 | D134: 3.전등설비::3-1.지하1층 전등설비 신설
A135: 5975D017003 | B135: 00301 | C135: EDA13100010S | D135: 1종금속제가요전선관 | E135: 16 mm 일반-비방수 | F135: M | G135: 47 | AC135: =G135*H135 -> 0
A136: 59753017043 | B136: 00301 | C136: 3913170620174434 | D136: 1종금속제가요전선관 | E136: 커넥터, 16 mm 일반-비방수 | F136: 개 | G136: 106
...

Sheet 합산자재
A1: 총줄수-> | B1: 133 | C1: [ 김포고 급식실 환기설비 개선 전기공사 ] - 합산자재목록
A2: 번호 | B2: … | C2: 코드 | D2: 명 칭 | E2: 규 격 | F2: 단위 | G2: 수량 | H2: 재료비 | I2: 노무비 | J2: 경비 | K2: 지급비 | L2: 계 | M2: 비고
C4: 3913170624691047 | D4: 나사없는전선관 | E4: E19 | F4: M | G4: 292.6 | H4: =TRUNC(#REF!*옵션!$D$11) -> #REF! | L4: =SUM(H4,I4,J4) -> #REF!
C5: 3913170624691049 | D5: 나사없는전선관 | E5: E31 | F5: M | G5: 90.2 | H5: =TRUNC(#REF!*옵션!$D$11) -> #REF! | L5: =SUM(H5,I5,J5) -> #REF!
C6: 3913170624691050 | D6: 나사없는전선관 | E6: E39 | F6: M | G6: 100.1 | H6: =TRUNC(#REF!*옵션!$D$11) -> #REF! | L6: =SUM(H6,I6,J6) -> #REF!
C7: 3913170624691051 | D7: 나사없는전선관 | E7: E51 | F7: M | G7: 26.4 | H7: =TRUNC(#REF!*옵션!$D$11) -> #REF! | L7: =SUM(H7,I7,J7) -> #REF!
C8: 3913170624691052 | D8: 나사없는전선관 | E8: E63 | F8: M | G8: 22 | H8: =TRUNC(#REF!*옵션!$D$11) -> #REF! | L8: =SUM(H8,I8,J8) -> #REF!
C9: 3913170624691053 | D9: 나사없는전선관 | E9: E75 | F9: M | G9: 26.4 | H9: =TRUNC(#REF!*옵션!$D$11) -> #REF! | L9: =SUM(H9,I9,J9) -> #REF!
C10: 3913170620174410 | D10: 1종금속제가요전선관 | E10: 16 mm 일반-비방수 | F10: M | G10: 56.1 | H10: =TRUNC(#REF!*옵션!$D$11) -> #REF! | L10: =SUM(H10,I10,J10) -> #REF!
C11: 3913170620174422 | D11: 1종금속제가요전선관 | E11: 16 mm 일반-방수 | F11: M | G11: 90.2 | H11: =TRUNC(#REF!*옵션!$D$11) -> #REF! | L11: =SUM(H11,I11,J11) -> #REF!
C12: 3913170620174424 | D12: 1종금속제가요전선관 | E12: 28 mm 일반-방수 | F12: M | G12: 20.9 | H12: =TRUNC(#REF!*옵션!$D$11) -> #REF! | L12: =SUM(H12,I12,J12) -> #REF!
C13: 3913170620174425 | D13: 1종금속제가요전선관 | E13: 36 mm 일반-방수 | F13: M | G13: 41.8 | H13: =TRUNC(#REF!*옵션!$D$11) -> #REF! | L13: =SUM(H13,I13,J13) -> #REF!
C14: 3913170620174426 | D14: 1종금속제가요전선관 | E14: 42 mm 일반-방수 | F14: M | G14: 16.5 | H14: =TRUNC(#REF!*옵션!$D$11) -> #REF! | L14: =SUM(H14,I14,J14) -> #REF!
C15: 3913170620174428 | D15: 1종금속제가요전선관 | E15: 70 mm 일반-방수 | F15: M | G15: 2.2 | H15: =TRUNC(#REF!*옵션!$D$11) -> #REF! | L15: =SUM(H15,I15,J15) -> #REF!
... C82: 3116181120136196 | D82: 스프링와샤 | E82: 용융아연도, 호칭경10 | F82: 개 | G82: 502 | H82: =TRUNC(#REF!*옵션!$D$11) -> #REF! | L82: =SUM(H82,I82,J82) -> #REF!
C83: 391115ZZ701Z0001 | D83: 1200x300방습등(철거) | F83: 개 | G83: 7 | H83: =TRUNC(#REF!*옵션!$D$11) -> #REF! | L83: =SUM(H83,I83,J83) -> #REF!
C84: 391115ZZ701Z0002 | D84: 1200x300평판매입등(재사용) | E84: LED40W | F84: EA | G84: 4 | H84: =TRUNC(#REF!*옵션!$D$11) -> #REF! | L84: =SUM(H84,I84,J84) -> #REF!
C85: 391115ZZ701Z0003 | D85: 1200x300평판매입등(재사용 철거) | E85: LED40W | F85: EA | G85: 4 | H85: =TRUNC(#REF!*옵션!$D$11) -> #REF! | L85: =SUM(H85,I85,J85) -> #REF!
C86: 391115ZZ701Z0004 | D86: 1종 금속제 가요전선관(철거) | E86: 16mm | F86: M | G86: 4 | H86: =TRUNC(#REF!*옵션!$D$11) -> #REF! | L86: =SUM(H86,I86,J86) -> #REF!
C87: 391115ZZ701Z0005 | D87: 1종 금속제가요전선관(철거) 16㎜ 비방수 | F87: 개 | G87: 28 | H87: =TRUNC(#REF!*옵션!$D$11) -> #REF! | L87: =SUM(H87,I87,J87) -> #REF!
C88: 391115ZZ701Z0006 | D88: 1종 금속제 가요전선관(철거) | E88: 28mm | F88: M | G88: 20 | H88: =TRUNC(#REF!*옵션!$D$11) -> #REF! | L88: =SUM(H88,I88,J88) -> #REF!
C89: 391115ZZ701Z0007 | D89: 1종 금속제 가요전선관(철거) | E89: 36mm | F89: M | G89: 4 | H89: =TRUNC(#REF!*옵션!$D$11) -> #REF! | L89: =SUM(H89,I89,J89) -> #REF!
C90: 391115ZZ701Z0008 | D90: 600x600평판매입등(재사용) | E90: LED40W | F90: EA | G90: 33 | H90: =TRUNC(#REF!*옵션!$D$11) -> #REF! | L90: =SUM(H90,I90,J90) -> #REF!
C91: 391115ZZ701Z0009 | D91: 600x600평판매입등(재사용 철거) | E91: LED40W | F91: EA | G91: 33 | H91: =TRUNC(#REF!*옵션!$D$11) -> #REF! | L91: =SUM(H91,I91,J91) -> #REF!
C92: 391115ZZ701Z0010 | D92: CV 100㎟/1Cx4(철거후 재결선) | F92: 개 | G92: 2 | H92: =TRUNC(#REF!*옵션!$D$11) -> #REF! | L92: =SUM(H92,I92,J92) -> #REF!
C93: 391115ZZ701Z0011 | D93: F-CV 10㎟/4Cx1(철거) | F93: M | G93: 12 | H93: =TRUNC(#REF!*옵션!$D$11) -> #REF! | L93: =SUM(H93,I93,J93) -> #REF!
C94: 391115ZZ701Z0012 | D94: F-CV 4㎟/2Cx1(철거) | F94: M | G94: 65 | H94: =TRUNC(#REF!*옵션!$D$11) -> #REF! | L94: =SUM(H94,I94,J94) -> #REF!
C95: 391115ZZ701Z0013 | D95: F-CV 4㎟/3Cx1(철거) | F95: 개 | G95: 28 | H95: =TRUNC(#REF!*옵션!$D$11) -> #REF! | L95: =SUM(H95,I95,J95) -> #REF!
C96: 391115ZZ701Z0014 | D96: F-CV 6㎟/4Cx1(철거) | F96: M | G96: 3 | H96: =TRUNC(#REF!*옵션!$D$11) -> #REF! | L96: =SUM(H96,I96,J96) -> #REF!
C97: 391115ZZ701Z0015 | D97: P-K1 PNL(신설) W800xH1500xD180 | F97: 개 | G97: 1 | H97: =TRUNC(#REF!*옵션!$D$11) -> #REF! | L97: =SUM(H97,I97,J97) -> #REF!
C98: 391115ZZ701Z0016 | D98: 기존 분전반(철거) W500xH800xD180 | F98: 개 | G98: 1 | H98: =TRUNC(#REF!*옵션!$D$11) -> #REF! | L98: =SUM(H98,I98,J98) -> #REF!
C99: 391115ZZ701Z0017 | D99: 누전차단기(철거) 3P 50AF 30AT | F99: 개 | G99: 1 | H99: =TRUNC(#REF!*옵션!$D$11) -> #REF! | L99: =SUM(H99,I99,J99) -> #REF!
C100: 391115ZZ701Z0018 | D100: 다운라이트(재사용철거) LED 10W | F100: 개 | G100: 1 | H100: =TRUNC(#REF!*옵션!$D$11) -> #REF! | L100: =SUM(H100,I100,J100) -> #REF!
C101: 391115ZZ701Z0019 | D101: 스피커(철거) | E101: 고정형, 5W이하 | F101: EA | G101: 4 | H101: =TRUNC(#REF!*옵션!$D$11) -> #REF! | L101: =SUM(H101,I101,J101) -> #REF!
C102: 391115ZZ701Z0020 | D102: 콘센트(철거) 접지극부 | F102: 개 | G102: 11 | H102: =TRUNC(#REF!*옵션!$D$11) -> #REF! | L102: =SUM(H102,I102,J102) -> #REF!
C103: ECA565826062 | D103: 코어드릴 | E103: 15.24cm | F103: 시간 | G103: 2.2 | H103: =#REF! -> #REF! | I103: =#REF! -> #REF! | J103: =#REF! -> #REF! | L103: =SUM(H103,I103,J103) -> #REF! | M103: 종합적산701
C104: L001010101000075 | D104: 노 무 비 | E104: 내선전공 | F104: 인 | G104: 132.418 | I104: =TRUNC(#REF!) -> #REF! | L104: =SUM(H104,I104,J104) -> #REF!
C105: L001010101000078 | D105: 노 무 비 | E105: 저압케이블전공 | F105: 인 | G105: 18.525 | I105: =TRUNC(#REF!) -> #REF! | L105: =SUM(H105,I105,J105) -> #REF!
C106: L001010101000087 | D106: 노 무 비 | E106: 통신설비공 | F106: 인 | G106: 1.04 | I106: =TRUNC(#REF!) -> #REF! | L106: =SUM(H106,I106,J106) -> #REF!
C107: L001010101000002 | D107: 노 무 비 | E107: 보통인부 | F107: 인 | G107: 0.532 | I107: =TRUNC(#REF!) -> #REF! | L107: =SUM(H107,I107,J107) -> #REF!
C108: L001010101000003 | D108: 노 무 비 | E108: 특별인부 | F108: 인 | G108: 0.39 | I108: =TRUNC(#REF!) -> #REF! | L108: =SUM(H108,I108,J108) -> #REF!
C109: L001010101000015 | D109: 노 무 비 | E109: 착암공 | F109: 인 | G109: 0.532 | I109: =TRUNC(#REF!) -> #REF! | L109: =SUM(H109,I109,J109) -> #REF!
L110: =SUM(H110,I110,J110) -> 0
L111: =SUM(H111,I111,J111) -> 0
L112: =SUM(H112,I112,J112) -> 0
L113: =SUM(H113,I113,J113) -> 0
L114: =SUM(H114,I114,J114) -> 0
L115: =SUM(H115,I115,J115) -> 0
L116: =SUM(H116,I116,J116) -> 0
L117: =SUM(H117,I117,J117) -> 0
L118: =SUM(H118,I118,J118) -> 0
L119: =SUM(H119,I119,J119) -> 0
L120: =SUM(H120,I120,J120) -> 0
L121: =SUM(H121,I121,J121) -> 0
... L133: =SUM(H133,I133,J133) -> 0

Sheet 옵션
B1: 재료비 | C1: 노무비 | D1: 경비 | F1: 계
A2: 총 급 액 | B2: =총괄표!I29 -> 0 | C2: =총괄표!L29 -> 0 | D2: =총괄표!N29 -> 0 | F2: =SUM(B2,C2,D2) -> 0
A3: 관급 자재비 | F3: =SUM(B3,C3,D3) -> 0 | H3: 금액조정이 안되나요?
H6: 이지테크에서 변환할 때 2번 옵션을 지정하여 다시 해보세요
H9: 시트를 삭제할 때 에러가 뜨면 1번 옵션으로 하면 됩니다.
B10: 적용율(%) | C10: 끝자리 | D10: 적용율(%)/100 | E10: 일위대가소수
A11: 전체자재 적용율(%)(공종/일위대가) | B11: 100 | C11: 1 | D11: =$B$11/100 -> 1
A12: 전체노임 적용율(%)(공종) | B12: 100 | C12: 1 | D12: =$B$12/100 -> 1 | E12: 2 | H12: 2번 옵션으로 변환했을 때에는 결과값이 다를 수 있습니다.
A13: 전체노임 적용율(%)(일위대가) | B13: 100 | C13: 1 | D13: =$B$13/100 -> 1 | E13: 5
A20: *(그룹별 자재 단가 추가 할증)* | B20: 적용율(%) | D20: 적용율(%)/100
A21: Cable(CAB) 할증(%) | B21: =B11 -> 100 | D21: =$B$21/100 -> 1
A22: Wire (WIR) 할증(%) | B22: =B11 -> 100 | D22: =$B$22/100 -> 1
A23: Pipe (PIP) 할증(%) | B23: =B11 -> 100 | D23: =$B$23/100 -> 1
A24: 제 4그룹 할증(%) | B24: =B11 -> 100 | D24: =$B$24/100 -> 1
A25: 제 5그룹 할증(%) | B25: =B11 -> 100 | D25: =$B$25/100 -> 1
A30: *(그룹별 노임 추가 할증)* | B30: 적용율(%) | C30: 자동부속재(전기) | D30: 자동부속재(통신)
A31: 배관부속재(%) | B31: 15 | C31: 15 | D31: 20
A32: CD관부속재(%) | B32: 40 | C32: 40 | D32: 40
A33: 소모잡자재(%) | B33: 2 | H33: 본 파일은 이지테크에서 2번 옵션으로 만들었습니다.
A34: 방폭할증(%)
A35: 고소할증(%) | B35: 2
A36: 공구손료(%) | B36: 3
A40: *(공종별 노임 적용율(%))* | B40: 적용율(%) | C40: 소수자릿수
A41: 1-1. 지하1층 전력간선설비 신설 | B41: 100 | C41: 3
A42: 2-1. 지하1층 동력설비 신설 | B42: 100 | C42: 3
A43: 2-2. 지상1층 동력설비 신설 | B43: 100 | C43: 3
A44: 3-1. 지하1층 전등설비 신설 | B44: 100 | C44: 3
A45: 4-1. 지하1층 주방전열설비 신설 | B45: 100 | C45: 3
A46: 4-2. 지하1층 전열설비 신설 | B46: 100 | C46: 3
A47: 4-3. 지상1층 전열설비 신설 | B47: 100 | C47: 3
A48: 5-1. 지하1층 냉난방설비 신설 | B48: 100 | C48: 3
A49: 5-2. 지상1층 냉난방설비 신설 | B49: 100 | C49: 3
A50: 6-1. 지하1층 자동소화장치 전원설비 신설 | B50: 100 | C50: 3
A51: 7-1. 지하1층 통신설비 신설 | B51: 100 | C51: 3
A52: 8-1. 지하1층 제어배관 신설 | B52: 100 | C52: 3
... A58: 11-1. 지하1층 전기 철거 | B58: 100 | C58: 3

Sheet 사용설명
B1: ** 반드시 다음 사항을 숙지하신 다음 수정 작업을 하십시오 **
A2: 1. | B2: 속성이 숫자인 셀을 삭제할 때는 반드시 'Delete' 키를 사용하십시오.
B3: **주의:'Space Bar' 로 지웠을 때는 '#Value' Error가 발생됩니다.
A4: 2. | B4: 일위대가(을지)는 소수점 처리 때문에 셀 속성을 '일반'으로 하였습니다.(소수점 능동 처리)
B5: **참고: (수량*단가)의 결과는 소수 한자리, 금액을 취합한 소계는 1원 이하 절사입니다.
A6: 3. | B6: 내역서에서는 수량에만 셀 속성을 '일반'으로 하였습니다.(소수점 능동 처리)
A7: 4. | B7: 단가수정은 '단가조사서'시트 에서 하십시오.
B8: a)표지와 원가 -> 총괄표 -> 내역서 ->일위대가와 합산자재 ->단가조사서 를 참조하고
B9: 있으므로 단가조사서의 결정단가를 수정하면 전체 금액이 갱신됩니다.
B10: **주의: 금액란은 공식이 걸려있으므로 조심하여 수정하십시오.
B11: b)전체 자재를 일정 요율(%)로 변경할 때는 옵션시트의 자재 적용율을 조정하면 됩니다.
A12: 5. | B12: 노임 단가는 '단가조사서'시트에서 품셈은 '노임근거'시트에서 수정하십시오.
B13: a)전체 노임을 일정 요율(%)로 변경할 때는 '옵션시트'의 전체노임 적용율을 조정하면 됩니다.
B14: b)공종별로 노임을 수정하려면 '옵션시트'의 공종별 노임 적용율을 조정하면 됩니다.
B15: c)케이블 및 전선 자재 단가를 추가로 조정하려면 그룹별 자재 적용율을 조정하면 됩니다.
B16: 그룹은 견적 프로그램에서 엑셀파일이 만들어질때 지정됩니다.
A17: 6. | B17: 겉표지의 모든 정보는 표지를 참조하였습니다.(정보 수정은 표지에서만 하시면 됩니다.)
A18: 7. | B18: 필수 :본 프로그램의 총 금액을 확인한 후 사용하십시오.
A19: 8. | B19: 본 파일의 내용을 인쇄할 경우, 미리보기를 통하여 페이지 절선을 확인 후 인쇄하십시오.
A20: 9. | B20: 관급자재 Sheet가 해당이 없을 경우엔 삭제하십시오.
A21: 10. | B21: 페이지 절선이 맞지 않으면 다음을 참고하십시오.
B33: a. 해당시트의 셀 전체를 선택합니다.
B34: b. 행높이를 적절히 가감하면 페이지 절선을 맞출 수 있습니다.
