Workbook

Sheet 원가
A1: 공 사 원 가 계 산 서
A3: 공사명 [ 본관 물탱크 등 기계설비 교체 설계용역(물탱크 교체공사)(7층저수조실) ] [ 기계설비공사 ]
D4: 금 액 | E4: 구 성 비 (%) | F4: 비 고
A5: 순 공 사 원 가 | B5: 재 료 비 | C5: 직 접 재 료 비
C6: 작 업 설 . 부 산 물 등
C7: [소 계] | D7: =INT(SUM(D5:D6)) -> 0
B8: 노 무 비 | C8: 직 접 노 무 비
C9: 간 접 노 무 비 | D9: =INT(SUM(D8)*17.5%) -> 0 | E9: 직접노무비의 17.5%
C10: [소 계] | D10: =SUM(D8:D9) -> 0
B11: 경 비 | C11: 기 계 경 비
C12: 산 재 보 험 료 | D12: =INT(SUM(D10)*3.56%) -> 0 | E12: 노무비의 3.56%
C13: 고 용 보 험 료 | D13: =INT(SUM(D10)*1.01%) -> 0 | E13: 노무비의 1.01%
C14: 건 강 보 험 료 | D14: =INT(SUM(D8)*3.595%) -> 0 | E14: 직접노무비의 3.595%
C15: 노 인 장 기 요 양 보 험 료 | D15: =INT(D14*13.14%) -> 0 | E15: 건강보험료의 13.14%
C16: 연 금 보 험 료 | D16: =INT(SUM(D8)*4.75%) -> 0 | E16: 직접노무비의 4.75%
C17: 산 업 안 전 보 건 관 리 비 | D17: =MIN(H17,I17) -> 0 | E17: (재료비+직노+관급)*3.11% | H17: =INT(SUM(D5+D8+D33/1.1)*3.11%) -> 0 | I17: =INT(SUM(D5+D8)*3.11%)*1.2 -> 0
C18: 환 경 관 리 비 | D18: =INT(SUM(D5+D8+D11)*0.3%) -> 0 | E18: (재료비+직노+기경)*0.3%
C19: 건 설 기 계 지 급 수 수 료 | D19: =INT(SUM(D5+D8+D11)*0.1%) -> 0 | E19: (재료비+직노+기경)*0.1%
C20: 퇴 직 공 제 부 금 비 | D20: =INT(D8*2.3%)*0 -> 0 | E20: 직접노무비의 2.3%
C21: 기 타 경 비 | D21: =INT(SUM(D7+D10)*5%) -> 0 | E21: (재료비+노무비)*5.0%
C22: 석 면 분 담 금 | D22: =INT(SUM(D10)*0.006%) -> 0 | E22: 노무비의 0.006%
C23: 임 금 채 권 부 담 금 | D23: =INT(SUM(D10)*0.09%) -> 0 | E23: 노무비의 0.09%
C24: [소 계] | D24: =INT(SUM(D11:D23)) -> 0
A25: 계 | D25: =SUM(D24,D10,D7) -> 0
A26: 일 반 관 리 비 | D26: =INT(SUM(D25)*8%) -> 0 | E26: 계의 8%
A27: 이 윤 | E27: (노무비+경비+일반관리비)*15%
A28: 작 업 부 산 물
A29: 공 급 가 액
A30: 부 가 가 치 세 | E30: (공급가액+T.A.B)의 10%
A31: 도 급 금 액
A32: 분 담 금 공 사
A33: 도 급 자 관 급 | E33: 부가가치세,조달수수료포함
A34: 관 급 자 관 급 | D34: 31675757 | E34: 부가가치세,조달수수료포함
A35: 결 정 금 액 | D35: =INT(SUM(D31:D34)/1000)*1000 -> 31675000
D39: =D5+D8+D11+#REF!+D34 -> #REF!

Sheet 공종별집계표
A1: 공 종 별 집 계 표
A2: [ 본관 물탱크 등 기계설비 교체 설계용역(물탱크 교체공사)(기계)(7층저수조실) ]
A3: 품 명 | B3: 규 격 | C3: 단위 | D3: 수량 | E3: 재 료 비 | G3: 노 무 비 | I3: 경 비 | K3: 합 계 | M3: 비 고 | N3: 공종코드 | O3: 변수 | P3: 상위공종 | Q3: 공종구분 | R3: 공종레벨 | S3: 공종소계 | T3: 원가계산서 연결금액
E4: 단 가 | F4: 금 액 | G4: 단 가 | H4: 금 액 | I4: 단 가 | J4: 금 액 | K4: 단 가 | L4: 금 액
A5: 01 본관 물탱크 등 기계설비 교체 설계용역(물탱크 교체공사)(기계)(7층저수조실) | D5: 1 | E5: =F6+F22+F23 -> 0 | F5: =E5*D5 -> 0 | G5: =H6+H22+H23 -> 0 | H5: =G5*D5 -> 0 | I5: =J6+J22+J23 -> 0 | J5: =I5*D5 -> 0 | K5: =E5+G5+I5 -> 0 | L5: =F5+H5+J5 -> 0 | N5: 01 | R5: 1
A6: 0101 기계설비공사 | D6: 1 | E6: =F7+F8+F9+F10+F14+F21 -> 0 | F6: =E6*D6 -> 0 | G6: =H7+H8+H9+H10+H14+H21 -> 0 | H6: =G6*D6 -> 0 | I6: =J7+J8+J9+J10+J14+J21 -> 0 | J6: =I6*D6 -> 0 | K6: =E6+G6+I6 -> 0 | L6: =F6+H6+J6 -> 0 | N6: 0101 | P6: 01 | R6: 2
A7: 010101 급수급탕배관공사 | D7: 1 | E7: =공종별내역서!F51 -> 0 | F7: =E7*D7 -> 0 | G7: =공종별내역서!H51 -> 0 | H7: =G7*D7 -> 0 | I7: =공종별내역서!J51 -> 0 | J7: =I7*D7 -> 0 | K7: =E7+G7+I7 -> 0 | L7: =F7+H7+J7 -> 0 | N7: 010101 | P7: 0101 | R7: 3
A8: 010102 배수배관공사 | D8: 1 | E8: =공종별내역서!F75 -> 0 | F8: =E8*D8 -> 0 | G8: =공종별내역서!H75 -> 0 | H8: =G8*D8 -> 0 | I8: =공종별내역서!J75 -> 0 | J8: =I8*D8 -> 0 | K8: =E8+G8+I8 -> 0 | L8: =F8+H8+J8 -> 0 | N8: 010102 | P8: 0101 | R8: 3
A9: 010103 물탱크건식패드 | D9: 1 | E9: =공종별내역서!F99 -> 0 | F9: =E9*D9 -> 0 | G9: =공종별내역서!H99 -> 0 | H9: =G9*D9 -> 0 | I9: =공종별내역서!J99 -> 0 | J9: =I9*D9 -> 0 | K9: =E9+G9+I9 -> 0 | L9: =F9+H9+J9 -> 0 | N9: 010103 | P9: 0101 | R9: 3
A10: 010104 철거공사 | D10: 1 | E10: =F11+F12+F13 -> 0 | F10: =E10*D10 -> 0 | G10: =H11+H12+H13 -> 0 | H10: =G10*D10 -> 0 | I10: =J11+J12+J13 -> 0 | J10: =I10*D10 -> 0 | K10: =E10+G10+I10 -> 0 | L10: =F10+H10+J10 -> 0 | N10: 010104 | P10: 0101 | R10: 3
A11: 01010401 장비철거공사 | D11: 1 | E11: =공종별내역서!F123 -> 0 | F11: =E11*D11 -> 0 | G11: =공종별내역서!H123 -> 0 | H11: =G11*D11 -> 0 | I11: =공종별내역서!J123 -> 0 | J11: =I11*D11 -> 0 | K11: =E11+G11+I11 -> 0 | L11: =F11+H11+J11 -> 0 | N11: 01010401 | P11: 010104 | R11: 4
A12: 01010402 급수급탕배관철거공사 | D12: 1 | E12: =공종별내역서!F147 -> 0 | F12: =E12*D12 -> 0 | G12: =공종별내역서!H147 -> 0 | H12: =G12*D12 -> 0 | I12: =공종별내역서!J147 -> 0 | J12: =I12*D12 -> 0 | K12: =E12+G12+I12 -> 0 | L12: =F12+H12+J12 -> 0 | N12: 01010402 | P12: 010104 | R12: 4
A13: 01010403 배수배관철거공사 | D13: 1 | E13: =공종별내역서!F171 -> 0 | F13: =E13*D13 -> 0 | G13: =공종별내역서!H171 -> 0 | H13: =G13*D13 -> 0 | I13: =공종별내역서!J171 -> 0 | J13: =I13*D13 -> 0 | K13: =E13+G13+I13 -> 0 | L13: =F13+H13+J13 -> 0 | N13: 01010403 | P13: 010104 | R13: 4
A14: 010105 기타공사 | D14: 1 | E14: =F15+F16+F17+F18+F19+F20 -> 0 | F14: =E14*D14 -> 0 | G14: =H15+H16+H17+H18+H19+H20 -> 0 | H14: =G14*D14 -> 0 | I14: =J15+J16+J17+J18+J19+J20 -> 0 | J14: =I14*D14 -> 0 | K14: =E14+G14+I14 -> 0 | L14: =F14+H14+J14 -> 0 | N14: 010105 | P14: 0101 | R14: 3
A15: 01010501 가 설 공 사 | D15: 1 | E15: =공종별내역서!F195 -> 0 | F15: =E15*D15 -> 0 | G15: =공종별내역서!H195 -> 0 | H15: =G15*D15 -> 0 | I15: =공종별내역서!J195 -> 0 | J15: =I15*D15 -> 0 | K15: =E15+G15+I15 -> 0 | L15: =F15+H15+J15 -> 0 | N15: 01010501 | P15: 010105 | R15: 4
A16: 01010502 미 장 공 사 | D16: 1 | E16: =공종별내역서!F219 -> 0 | F16: =E16*D16 -> 0 | G16: =공종별내역서!H219 -> 0 | H16: =G16*D16 -> 0 | I16: =공종별내역서!J219 -> 0 | J16: =I16*D16 -> 0 | K16: =E16+G16+I16 -> 0 | L16: =F16+H16+J16 -> 0 | N16: 01010502 | P16: 010105 | R16: 4
A17: 01010503 골 재 비 | D17: 1 | E17: =공종별내역서!F243 -> 0 | F17: =E17*D17 -> 0 | G17: =공종별내역서!H243 -> 0 | H17: =G17*D17 -> 0 | I17: =공종별내역서!J243 -> 0 | J17: =I17*D17 -> 0 | K17: =E17+G17+I17 -> 0 | L17: =F17+H17+J17 -> 0 | N17: 01010503 | P17: 010105 | R17: 4
A18: 01010504 운 반 비 | D18: 1 | E18: =공종별내역서!F267 -> 0 | F18: =E18*D18 -> 0 | G18: =공종별내역서!H267 -> 0 | H18: =G18*D18 -> 0 | I18: =공종별내역서!J267 -> 0 | J18: =I18*D18 -> 0 | K18: =E18+G18+I18 -> 0 | L18: =F18+H18+J18 -> 0 | N18: 01010504 | P18: 010105 | R18: 4
A19: 01010505 기 타 공 사 | D19: 1 | E19: =공종별내역서!F291 -> 0 | F19: =E19*D19 -> 0 | G19: =공종별내역서!H291 -> 0 | H19: =G19*D19 -> 0 | I19: =공종별내역서!J291 -> 0 | J19: =I19*D19 -> 0 | K19: =E19+G19+I19 -> 0 | L19: =F19+H19+J19 -> 0 | N19: 01010505 | P19: 010105 | R19: 4
A20: 01010506 건설폐기물처리비 | D20: 1 | E20: =공종별내역서!F315 -> 0 | F20: =E20*D20 -> 0 | G20: =공종별내역서!H315 -> 0 | H20: =G20*D20 -> 0 | I20: =공종별내역서!J315 -> 0 | J20: =I20*D20 -> 0 | K20: =E20+G20+I20 -> 0 | L20: =F20+H20+J20 -> 0 | N20: 01010506 | P20: 010105 | R20: 4
A21: 010106 폐기물처리비 | D21: 1 | E21: =공종별내역서!F339 -> 0 | F21: =E21*D21 -> 0 | G21: =공종별내역서!H339 -> 0 | H21: =G21*D21 -> 0 | I21: =공종별내역서!J339 -> 0 | J21: =I21*D21 -> 0 | K21: =E21+G21+I21 -> 0 | L21: =F21+H21+J21 -> 0 | N21: 010106 | P21: 0101 | R21: 3
A22: 0102 작업부산물 | D22: 1 | E22: =공종별내역서!F363 -> 0 | F22: =E22*D22 -> 0 | G22: =공종별내역서!H363 -> 0 | H22: =G22*D22 -> 0 | I22: =공종별내역서!J363 -> 0 | J22: =I22*D22 -> 0 | K22: =E22+G22+I22 -> 0 | L22: =F22+H22+J22 -> 0 | N22: 0102 | P22: 01 | R22: 2
A23: 0103 관급자관급공사 | D23: 1 | E23: =F24+F25 -> 0 | F23: =E23*D23 -> 0 | G23: =H24+H25 -> 0 | H23: =G23*D23 -> 0 | I23: =J24+J25 -> 0 | J23: =I23*D23 -> 0 | K23: =E23+G23+I23 -> 0 | L23: =F23+H23+J23 -> 0 | N23: 0103 | P23: 01 | R23: 2
A24: 010301 SMC물탱크 | D24: 1 | E24: =공종별내역서!F387 -> 0 | F24: =E24*D24 -> 0 | G24: =공종별내역서!H387 -> 0 | H24: =G24*D24 -> 0 | I24: =공종별내역서!J387 -> 0 | J24: =I24*D24 -> 0 | K24: =E24+G24+I24 -> 0 | L24: =F24+H24+J24 -> 0 | N24: 010301 | P24: 0103 | R24: 3
A25: 010302 자동제어설치공사 | D25: 1 | E25: =공종별내역서!F459 -> 0 | F25: =E25*D25 -> 0 | G25: =공종별내역서!H459 -> 0 | H25: =G25*D25 -> 0 | I25: =공종별내역서!J459 -> 0 | J25: =I25*D25 -> 0 | K25: =E25+G25+I25 -> 0 | L25: =F25+H25+J25 -> 0 | N25: 010302 | P25: 0103 | R25: 3
A27: [ 합 계 ] | F27: =F5 -> 0 | H27: =H5 -> 0 | J27: =J5 -> 0 | L27: =L5 -> 0

Sheet 공종별내역서
A1: [ 본관 물탱크 등 기계설비 교체 설계용역(물탱크 교체공사)(기계)(7층저수조실) ]
A2: 품 명 | B2: 규 격 | C2: 단위 | D2: 수량 | E2: 재 료 비 | G2: 노 무 비 | I2: 경 비 | K2: 합 계 | M2: 비 고 | N2: 품목코드 | O2: 변수 | P2: 설정 | Q2: 공종코드 | R2: 일위 | S2: 단산 | T2: 자재 | U2: 손료적용 | V2: 손료저장 | W2: 적용율 | X2: JUK1 | Y2: JUK2 | Z2: JUK3 | AA2: JUK4 | AB2: JUK5 | AC2: JUK6 | AD2: JUK7 | AE2: JUK8 | AF2: JUK9 | AG2: JUK10 | AH2: JUK11 | AI2: JUK12 | AJ2: JUK13 | AK2: JUK14 | AL2: JUK15 | AM2: JUK16 | AN2: JUK17 | AO2: JUK18 | AP2: JUK19 | AQ2: JUK20 | AR2: 자재구분 | AS2: 공종구분 | AT2: 공종레벨 | AU2: 공종+자재 | AV2: 고유번호
E3: 단 가 | F3: 금 액 | G3: 단 가 | H3: 금 액 | I3: 단 가 | J3: 금 액 | K3: 단 가 | L3: 금 액
A4: 010101 급수급탕배관공사 | Q4: 010101
A5: 스테인리스배관 | B5: D 80 x 3T | C5: M | D5: 32 | E5: =TRUNC(일위대가목록!E24,0) -> 0 | F5: =TRUNC(E5*D5, 0) -> 0 | G5: =TRUNC(일위대가목록!F24,0) -> 0 | H5: =TRUNC(G5*D5, 0) -> 0 | I5: =TRUNC(일위대가목록!G24,0) -> 0 | J5: =TRUNC(I5*D5, 0) -> 0 | K5: =TRUNC(E5+G5+I5, 0) -> 0 | L5: =TRUNC(F5+H5+J5, 0) -> 0 | N5: 5EC8A43D212B53D4F172A7D0FCBB12 | Q5: 010101 | R5: T | S5: F | T5: F | AU5: 0101015EC8A43D212B53D4F172A7D0FCBB12 | AV5: 2731
A6: 스테인리스배관 | B6: D100 x 3T | C6: M | D6: 2 | E6: =TRUNC(일위대가목록!E30,0) -> 0 | F6: =TRUNC(E6*D6, 0) -> 0 | G6: =TRUNC(일위대가목록!F30,0) -> 0 | H6: =TRUNC(G6*D6, 0) -> 0 | I6: =TRUNC(일위대가목록!G30,0) -> 0 | J6: =TRUNC(I6*D6, 0) -> 0 | K6: =TRUNC(E6+G6+I6, 0) -> 0 | L6: =TRUNC(F6+H6+J6, 0) -> 0 | N6: 5EC8A43E3120561F2152DB7751E90A | Q6: 010101 | R6: T | S6: F | T6: F | AU6: 0101015EC8A43E3120561F2152DB7751E90A | AV6: 2732
A7: 스테인리스배관 | B7: D125 x 3T | C7: M | D7: 6 | E7: =TRUNC(일위대가목록!E31,0) -> 0 | F7: =TRUNC(E7*D7, 0) -> 0 | G7: =TRUNC(일위대가목록!F31,0) -> 0 | H7: =TRUNC(G7*D7, 0) -> 0 | I7: =TRUNC(일위대가목록!G31,0) -> 0 | J7: =TRUNC(I7*D7, 0) -> 0 | K7: =TRUNC(E7+G7+I7, 0) -> 0 | L7: =TRUNC(F7+H7+J7, 0) -> 0 | N7: 5EC8A43E3120561F2152DB7750D93B | Q7: 010101 | R7: T | S7: F | T7: F | AU7: 0101015EC8A43E3120561F2152DB7750D93B | AV7: 2733
A8: 관보온(가교발포+매직) | B8: 25TxD80 | C8: M | D8: 32 | E8: =TRUNC(일위대가목록!E38,0) -> 0 | F8: =TRUNC(E8*D8, 0) -> 0 | G8: =TRUNC(일위대가목록!F38,0) -> 0 | H8: =TRUNC(G8*D8, 0) -> 0 | I8: =TRUNC(일위대가목록!G38,0) -> 0 | J8: =TRUNC(I8*D8, 0) -> 0 | K8: =TRUNC(E8+G8+I8, 0) -> 0 | L8: =TRUNC(F8+H8+J8, 0) -> 0 | N8: 5EC8C404012A5307B1541938A47707 | Q8: 010101 | R8: T | S8: F | T8: F | AU8: 0101015EC8C404012A5307B1541938A47707 | AV8: 2734
A9: 관보온(가교발포+매직) | B9: 40TxD100 | C9: M | D9: 2 | E9: =TRUNC(일위대가목록!E39,0) -> 0 | F9: =TRUNC(E9*D9, 0) -> 0 | G9: =TRUNC(일위대가목록!F39,0) -> 0 | H9: =TRUNC(G9*D9, 0) -> 0 | I9: =TRUNC(일위대가목록!G39,0) -> 0 | J9: =TRUNC(I9*D9, 0) -> 0 | K9: =TRUNC(E9+G9+I9, 0) -> 0 | L9: =TRUNC(F9+H9+J9, 0) -> 0 | N9: 5EC8C407C1255ECD619A20873CEE55 | Q9: 010101 | R9: T | S9: F | T9: F | AU9: 0101015EC8C407C1255ECD619A20873CEE55 | AV9: 2735
A10: 관보온(가교발포+매직) | B10: 40TxD125 | C10: M | D10: 6 | E10: =TRUNC(일위대가목록!E40,0) -> 0 | F10: =TRUNC(E10*D10, 0) -> 0 | G10: =TRUNC(일위대가목록!F40,0) -> 0 | H10: =TRUNC(G10*D10, 0) -> 0 | I10: =TRUNC(일위대가목록!G40,0) -> 0 | J10: =TRUNC(I10*D10, 0) -> 0 | K10: =TRUNC(E10+G10+I10, 0) -> 0 | L10: =TRUNC(F10+H10+J10, 0) -> 0 | N10: 5EC8C407C1255EFA111C76D922BCC1 | Q10: 010101 | R10: T | S10: F | T10: F | AU10: 0101015EC8C407C1255EFA111C76D922BCC1 | AV10: 2736
A11: 일반배관용 STS강관 이음쇠 | B11: 엘보(SUS 용접#10) D80 | C11: EA | D11: 19 | E11: =TRUNC(단가대비표!O42,0) -> 0 | F11: =TRUNC(E11*D11, 0) -> 0 | G11: =TRUNC(단가대비표!P42,0) -> 0 | H11: =TRUNC(G11*D11, 0) -> 0 | I11: =TRUNC(단가대비표!V42,0) -> 0 | J11: =TRUNC(I11*D11, 0) -> 0 | K11: =TRUNC(E11+G11+I11, 0) -> 0 | L11: =TRUNC(F11+H11+J11, 0) -> 0 | N11: 5956D40BB12B55F9C1704DD33A584FF84917BB | Q11: 010101 | R11: F | S11: F | T11: T | AU11: 0101015956D40BB12B55F9C1704DD33A584FF84917BB | AV11: 2737
A12: 일반배관용 STS강관 이음쇠 | B12: 엘보(SUS 용접#10) D125 | C12: EA | D12: 4 | E12: =TRUNC(단가대비표!O43,0) -> 0 | F12: =TRUNC(E12*D12, 0) -> 0 | G12: =TRUNC(단가대비표!P43,0) -> 0 | H12: =TRUNC(G12*D12, 0) -> 0 | I12: =TRUNC(단가대비표!V43,0) -> 0 | J12: =TRUNC(I12*D12, 0) -> 0 | K12: =TRUNC(E12+G12+I12, 0) -> 0 | L12: =TRUNC(F12+H12+J12, 0) -> 0 | N12: 5956D40BB12B55F9C1704DD33A584FF84916AA | Q12: 010101 | R12: F | S12: F | T12: T | AU12: 0101015956D40BB12B55F9C1704DD33A584FF84916AA | AV12: 2738
A13: 일반배관용 STS강관 이음쇠 | B13: 티이(SUS 용접 S#10) D80 | C13: EA | D13: 3 | E13: =TRUNC(단가대비표!O44,0) -> 0 | F13: =TRUNC(E13*D13, 0) -> 0 | G13: =TRUNC(단가대비표!P44,0) -> 0 | H13: =TRUNC(G13*D13, 0) -> 0 | I13: =TRUNC(단가대비표!V44,0) -> 0 | J13: =TRUNC(I13*D13, 0) -> 0 | K13: =TRUNC(E13+G13+I13, 0) -> 0 | L13: =TRUNC(F13+H13+J13, 0) -> 0 | N13: 5956D40BB12B55F9C1704DD33A584FF848781D | Q13: 010101 | R13: F | S13: F | T13: T | AU13: 0101015956D40BB12B55F9C1704DD33A584FF848781D | AV13: 2739
A14: 일반배관용 STS강관 이음쇠 | B14: 티이(SUS 용접 S#10) D100 | C14: EA | D14: 1 | E14: =TRUNC(단가대비표!O45,0) -> 0 | F14: =TRUNC(E14*D14, 0) -> 0 | G14: =TRUNC(단가대비표!P45,0) -> 0 | H14: =TRUNC(G14*D14, 0) -> 0 | I14: =TRUNC(단가대비표!V45,0) -> 0 | J14: =TRUNC(I14*D14, 0) -> 0 | K14: =TRUNC(E14+G14+I14, 0) -> 0 | L14: =TRUNC(F14+H14+J14, 0) -> 0 | N14: 5956D40BB12B55F9C1704DD33A584FF848781A | Q14: 010101 | R14: F | S14: F | T14: T | AU14: 0101015956D40BB12B55F9C1704DD33A584FF848781A | AV14: 2740
A15: 일반배관용 STS강관 이음쇠 | B15: 티이(SUS 용접 S#10) D125 | C15: EA | D15: 1 | E15: =TRUNC(단가대비표!O46,0) -> 0 | F15: =TRUNC(E15*D15, 0) -> 0 | G15: =TRUNC(단가대비표!P46,0) -> 0 | H15: =TRUNC(G15*D15, 0) -> 0 | I15: =TRUNC(단가대비표!V46,0) -> 0 | J15: =TRUNC(I15*D15, 0) -> 0 | K15: =TRUNC(E15+G15+I15, 0) -> 0 | L15: =TRUNC(F15+H15+J15, 0) -> 0 | N15: 5956D40BB12B55F9C1704DD33A584FF848781B | Q15: 010101 | R15: F | S15: F | T15: T | AU15: 0101015956D40BB12B55F9C1704DD33A584FF848781B | AV15: 2741
A16: 일반배관용 STS강관 이음쇠 | B16: 리듀서(SUS용접S#10) D100 | C16: EA | D16: 1 | E16: =TRUNC(단가대비표!O47,0) -> 0 | F16: =TRUNC(E16*D16, 0) -> 0 | G16: =TRUNC(단가대비표!P47,0) -> 0 | H16: =TRUNC(G16*D16, 0) -> 0 | I16: =TRUNC(단가대비표!V47,0) -> 0 | J16: =TRUNC(I16*D16, 0) -> 0 | K16: =TRUNC(E16+G16+I16, 0) -> 0 | L16: =TRUNC(F16+H16+J16, 0) -> 0 | N16: 5956D40BB12B55F9C1704DD33A584FFB176D2E | Q16: 010101 | R16: F | S16: F | T16: T | AU16: 0101015956D40BB12B55F9C1704DD33A584FFB176D2E | AV16: 2742
A17: 스테인리스용접 | B17: D80 | C17: 개소 | D17: 48 | E17: =TRUNC(일위대가목록!E23,0) -> 0 | F17: =TRUNC(E17*D17, 0) -> 0 | G17: =TRUNC(일위대가목록!F23,0) -> 0 | H17: =TRUNC(G17*D17, 0) -> 0 | I17: =TRUNC(일위대가목록!G23,0) -> 0 | J17: =TRUNC(I17*D17, 0) -> 0 | K17: =TRUNC(E17+G17+I17, 0) -> 0 | L17: =TRUNC(F17+H17+J17, 0) -> 0 | N17: 5EC8A43D212A516A5112CBD3356635 | Q17: 010101 | R17: T | S17: F | T17: F | AU17: 0101015EC8A43D212A516A5112CBD3356635 | AV17: 2743
A18: 스테인리스용접 | B18: D100 | C18: 개소 | D18: 6 | E18: =TRUNC(일위대가목록!E28,0) -> 0 | F18: =TRUNC(E18*D18, 0) -> 0 | G18: =TRUNC(일위대가목록!F28,0) -> 0 | H18: =TRUNC(G18*D18, 0) -> 0 | I18: =TRUNC(일위대가목록!G28,0) -> 0 | J18: =TRUNC(I18*D18, 0) -> 0 | K18: =TRUNC(E18+G18+I18, 0) -> 0 | L18: =TRUNC(F18+H18+J18, 0) -> 0 | N18: 5EC8A43E31215087C159EC6A5F3EAD | Q18: 010101 | R18: T | S18: F | T18: F | AU18: 0101015EC8A43E31215087C159EC6A5F3EAD | AV18: 2744
A19: 스테인리스용접 | B19: D125 | C19: 개소 | D19: 12 | E19: =TRUNC(일위대가목록!E29,0) -> 0 | F19: =TRUNC(E19*D19, 0) -> 0 | G19: =TRUNC(일위대가목록!F29,0) -> 0 | H19: =TRUNC(G19*D19, 0) -> 0 | I19: =TRUNC(일위대가목록!G29,0) -> 0 | J19: =TRUNC(I19*D19, 0) -> 0 | K19: =TRUNC(E19+G19+I19, 0) -> 0 | L19: =TRUNC(F19+H19+J19, 0) -> 0 | N19: 5EC8A43E31215087C159EC69B8B4A4 | Q19: 010101 | R19: T | S19: F | T19: F | AU19: 0101015EC8A43E31215087C159EC69B8B4A4 | AV19: 2745
A20: 스테인리스 합 후렌지 | B20: D80 | C20: 개소 | D20: 16 | E20: =TRUNC(일위대가목록!E32,0) -> 0 | F20: =TRUNC(E20*D20, 0) -> 0 | G20: =TRUNC(일위대가목록!F32,0) -> 0 | H20: =TRUNC(G20*D20, 0) -> 0 | I20: =TRUNC(일위대가목록!G32,0) -> 0 | J20: =TRUNC(I20*D20, 0) -> 0 | K20: =TRUNC(E20+G20+I20, 0) -> 0 | L20: =TRUNC(F20+H20+J20, 0) -> 0 | N20: 5EC8A428112E559B2153FEEBF74113 | Q20: 010101 | R20: T | S20: F | T20: F | AU20: 0101015EC8A428112E559B2153FEEBF74113 | AV20: 2746
A21: 스테인리스 합 후렌지 | B21: D125 | C21: 개소 | D21: 10 | E21: =TRUNC(일위대가목록!E34,0) -> 0 | F21: =TRUNC(E21*D21, 0) -> 0 | G21: =TRUNC(일위대가목록!F34,0) -> 0 | H21: =TRUNC(G21*D21, 0) -> 0 | I21: =TRUNC(일위대가목록!G34,0) -> 0 | J21: =TRUNC(I21*D21, 0) -> 0 | K21: =TRUNC(E21+G21+I21, 0) -> 0 | L21: =TRUNC(F21+H21+J21, 0) -> 0 | N21: 5EC8A42921215E5CE1E1A554CE5362 | Q21: 010101 | R21: T | S21: F | T21: F | AU21: 0101015EC8A42921215E5CE1E1A554CE5362 | AV21: 2747
A22: 플랜지(FLANGE) | B22: SUS맹플랜지(10KG) D80 | C22: EA | D22: 2 | E22: =TRUNC(단가대비표!O50,0) -> 0 | F22: =TRUNC(E22*D22, 0) -> 0 | G22: =TRUNC(단가대비표!P50,0) -> 0 | H22: =TRUNC(G22*D22, 0) -> 0 | I22: =TRUNC(단가대비표!V50,0) -> 0 | J22: =TRUNC(I22*D22, 0) -> 0 | K22: =TRUNC(E22+G22+I22, 0) -> 0 | L22: =TRUNC(F22+H22+J22, 0) -> 0 | N22: 5956D40BB12B55F9B1582FA48770A3180F691E | Q22: 010101 | R22: F | S22: F | T22: T | AU22: 0101015956D40BB12B55F9B1582FA48770A3180F691E | AV22: 2748
A23: 주철스트레이너 | B23: D125 (10KG) | C23: EA | D23: 1 | E23: =TRUNC(일위대가목록!E44,0) -> 0 | F23: =TRUNC(E23*D23, 0) -> 0 | G23: =TRUNC(일위대가목록!F44,0) -> 0 | H23: =TRUNC(G23*D23, 0) -> 0 | I23: =TRUNC(일위대가목록!G44,0) -> 0 | J23: =TRUNC(I23*D23, 0) -> 0 | K23: =TRUNC(E23+G23+I23, 0) -> 0 | L23: =TRUNC(F23+H23+J23, 0) -> 0 | N23: 5EC8E45221265A1721539FE6A9B175 | Q23: 010101 | R23: T | S23: F | T23: F | AU23: 0101015EC8E45221265A1721539FE6A9B175 | AV23: 2749
A24: 버터플라이밸브(기어) | B24: D 80 (10KG) | C24: EA | D24: 3 | E24: =TRUNC(일위대가목록!E47,0) -> 0 | F24: =TRUNC(E24*D24, 0) -> 0 | G24: =TRUNC(일위대가목록!F47,0) -> 0 | H24: =TRUNC(G24*D24, 0) -> 0 | I24: =TRUNC(일위대가목록!G47,0) -> 0 | J24: =TRUNC(I24*D24, 0) -> 0 | K24: =TRUNC(E24+G24+I24, 0) -> 0 | L24: =TRUNC(F24+H24+J24, 0) -> 0 | N24: 5EC8E45221245F39612BFC069731B9 | Q24: 010101 | R24: T | S24: F | T24: F | AU24: 0101015EC8E45221245F39612BFC069731B9 | AV24: 2750
A25: 버터플라이밸브(기어) | B25: D125 (10KG) | C25: EA | D25: 2 | E25: =TRUNC(일위대가목록!E48,0) -> 0 | F25: =TRUNC(E25*D25, 0) -> 0 | G25: =TRUNC(일위대가목록!F48,0) -> 0 | H25: =TRUNC(G25*D25, 0) -> 0 | I25: =TRUNC(일위대가목록!G48,0) -> 0 | J25: =TRUNC(I25*D25, 0) -> 0 | K25: =TRUNC(E25+G25+I25, 0) -> 0 | L25: =TRUNC(F25+H25+J25, 0) -> 0 | N25: 5EC8E45221245F39612BFC0691A914 | Q25: 010101 | R25: T | S25: F | T25: F | AU25: 0101015EC8E45221245F39612BFC0691A914 | AV25: 2751
A26: 후렉시블죠인트(BELLOWS) | B26: D 80 (10KG) | C26: EA | D26: 1 | E26: =TRUNC(일위대가목록!E52,0) -> 0 | F26: =TRUNC(E26*D26, 0) -> 0 | G26: =TRUNC(일위대가목록!F52,0) -> 0 | H26: =TRUNC(G26*D26, 0) -> 0 | I26: =TRUNC(일위대가목록!G52,0) -> 0 | J26: =TRUNC(I26*D26, 0) -> 0 | K26: =TRUNC(E26+G26+I26, 0) -> 0 | L26: =TRUNC(F26+H26+J26, 0) -> 0 | N26: 5EC8E45B112F5283611FF5E4934BCF | Q26: 010101 | R26: T | S26: F | T26: F | AU26: 0101015EC8E45B112F5283611FF5E4934BCF | AV26: 2752
A27: 후렉시블죠인트(BELLOWS) | B27: D125 (10KG) | C27: EA | D27: 1 | E27: =TRUNC(일위대가목록!E53,0) -> 0 | F27: =TRUNC(E27*D27, 0) -> 0 | G27: =TRUNC(일위대가목록!F53,0) -> 0 | H27: =TRUNC(G27*D27, 0) -> 0 | I27: =TRUNC(일위대가목록!G53,0) -> 0 | J27: =TRUNC(I27*D27, 0) -> 0 | K27: =TRUNC(E27+G27+I27, 0) -> 0 | L27: =TRUNC(F27+H27+J27, 0) -> 0 | N27: 5EC8E45B112F5283611FF5E5A2F3E6 | Q27: 010101 | R27: T | S27: F | T27: F | AU27: 0101015EC8E45B112F5283611FF5E5A2F3E6 | AV27: 2753
A28: 여과망 | B28: D 80 (10KG) | C28: EA | D28: 1 | E28: =TRUNC(일위대가목록!E45,0) -> 0 | F28: =TRUNC(E28*D28, 0) -> 0 | G28: =TRUNC(일위대가목록!F45,0) -> 0 | H28: =TRUNC(G28*D28, 0) -> 0 | I28: =TRUNC(일위대가목록!G45,0) -> 0 | J28: =TRUNC(I28*D28, 0) -> 0 | K28: =TRUNC(E28+G28+I28, 0) -> 0 | L28: =TRUNC(F28+H28+J28, 0) -> 0 | N28: 5EC8E45221265A06312B075F67D36A | Q28: 010101 | R28: T | S28: F | T28: F | AU28: 0101015EC8E45221265A06312B075F67D36A | AV28: 2754
A29: 여과망 | B29: D125 (10KG) | C29: EA | D29: 1 | E29: =TRUNC(일위대가목록!E46,0) -> 0 | F29: =TRUNC(E29*D29, 0) -> 0 | G29: =TRUNC(일위대가목록!F46,0) -> 0 | H29: =TRUNC(G29*D29, 0) -> 0 | I29: =TRUNC(일위대가목록!G46,0) -> 0 | J29: =TRUNC(I29*D29, 0) -> 0 | K29: =TRUNC(E29+G29+I29, 0) -> 0 | L29: =TRUNC(F29+H29+J29, 0) -> 0 | N29: 5EC8E45221265A33F1C0076A9B2E16 | Q29: 010101 | R29: T | S29: F | T29: F | AU29: 0101015EC8E45221265A33F1C0076A9B2E16 | AV29: 2755
A30: 볼탑(SUS) | B30: D 80 (10KG) | C30: EA | D30: 2 | E30: =TRUNC(일위대가목록!E51,0) -> 0 | F30: =TRUNC(E30*D30, 0) -> 0 | G30: =TRUNC(일위대가목록!F51,0) -> 0 | H30: =TRUNC(G30*D30, 0) -> 0 | I30: =TRUNC(일위대가목록!G51,0) -> 0 | J30: =TRUNC(I30*D30, 0) -> 0 | K30: =TRUNC(E30+G30+I30, 0) -> 0 | L30: =TRUNC(F30+H30+J30, 0) -> 0 | N30: 5EC8E456912E5F47F10CE26007E91A | Q30: 010101 | R30: T | S30: F | T30: F | AU30: 0101015EC8E456912E5F47F10CE26007E91A | AV30: 2756
A31: 정수위조절밸브(STS) | B31: D80x80x80 | C31: 개소 | D31: 2 | E31: =TRUNC(일위대가목록!E54,0) -> 0 | F31: =TRUNC(E31*D31, 0) -> 0 | G31: =TRUNC(일위대가목록!F54,0) -> 0 | H31: =TRUNC(G31*D31, 0) -> 0 | I31: =TRUNC(일위대가목록!G54,0) -> 0 | J31: =TRUNC(I31*D31, 0) -> 0 | K31: =TRUNC(E31+G31+I31, 0) -> 0 | L31: =TRUNC(F31+H31+J31, 0) -> 0 | N31: 5EC854B0C12059D7A1B4710772F795 | Q31: 010101 | R31: T | S31: F | T31: F | AU31: 0101015EC854B0C12059D7A1B4710772F795 | AV31: 2757
A32: U자형볼트/너트 | B32: 절연, D80 | C32: EA | D32: 7 | E32: =TRUNC(단가대비표!O17,0) -> 0 | F32: =TRUNC(E32*D32, 0) -> 0 | G32: =TRUNC(단가대비표!P17,0) -> 0 | H32: =TRUNC(G32*D32, 0) -> 0 | I32: =TRUNC(단가대비표!V17,0) -> 0 | J32: =TRUNC(I32*D32, 0) -> 0 | K32: =TRUNC(E32+G32+I32, 0) -> 0 | L32: =TRUNC(F32+H32+J32, 0) -> 0 | N32: 59298484012855D6316C77994883FC5E858713 | Q32: 010101 | R32: F | S32: F | T32: T | AU32: 01010159298484012855D6316C77994883FC5E858713 | AV32: 2758
A33: U자형볼트/너트 | B33: 절연, D100 | C33: EA | D33: 1 | E33: =TRUNC(단가대비표!O18,0) -> 0 | F33: =TRUNC(E33*D33, 0) -> 0 | G33: =TRUNC(단가대비표!P18,0) -> 0 | H33: =TRUNC(G33*D33, 0) -> 0 | I33: =TRUNC(단가대비표!V18,0) -> 0 | J33: =TRUNC(I33*D33, 0) -> 0 | K33: =TRUNC(E33+G33+I33, 0) -> 0 | L33: =TRUNC(F33+H33+J33, 0) -> 0 | N33: 59298484012855D6316C77994883FC5E858714 | Q33: 010101 | R33: F | S33: F | T33: T | AU33: 01010159298484012855D6316C77994883FC5E858714 | AV33: 2759
A34: U자형볼트/너트 | B34: 절연, D125 | C34: EA | D34: 1 | E34: =TRUNC(단가대비표!O19,0) -> 0 | F34: =TRUNC(E34*D34, 0) -> 0 | G34: =TRUNC(단가대비표!P19,0) -> 0 | H34: =TRUNC(G34*D34, 0) -> 0 | I34: =TRUNC(단가대비표!V19,0) -> 0 | J34: =TRUNC(I34*D34, 0) -> 0 | K34: =TRUNC(E34+G34+I34, 0) -> 0 | L34: =TRUNC(F34+H34+J34, 0) -> 0 | N34: 59298484012855D6316C77994883FC5E858715 | Q34: 010101 | R34: F | S34: F | T34: T | AU34: 01010159298484012855D6316C77994883FC5E858715 | AV34: 2760
Q35: 010101
Q36: 010101
Q37: 010101
Q38: 010101
Q39: 010101
Q40: 010101
Q41: 010101
Q42: 010101
Q43: 010101
Q44: 010101
Q45: 010101
Q46: 010101
... Q50: 010101
A51: [ 합 계 ] | F51: =SUMIF(Q5:Q50,"010101",F5:F50) -> 0 | H51: =SUMIF(Q5:Q50,"010101",H5:H50) -> 0 | J51: =SUMIF(Q5:Q50,"010101",J5:J50) -> 0 | L51: =SUMIF(Q5:Q50,"010101",L5:L50) -> 0 | N51: TOTAL
A52: 010102 배수배관공사 | Q52: 010102
A53: 스테인리스배관 | B53: D125 x 3T | C53: M | D53: 10 | E53: =TRUNC(일위대가목록!E31,0) -> 0 | F53: =TRUNC(E53*D53, 0) -> 0 | G53: =TRUNC(일위대가목록!F31,0) -> 0 | H53: =TRUNC(G53*D53, 0) -> 0 | I53: =TRUNC(일위대가목록!G31,0) -> 0 | J53: =TRUNC(I53*D53, 0) -> 0 | K53: =TRUNC(E53+G53+I53, 0) -> 0 | L53: =TRUNC(F53+H53+J53, 0) -> 0 | N53: 5EC8A43E3120561F2152DB7750D93B | Q53: 010102 | R53: T | S53: F | T53: F | AU53: 0101025EC8A43E3120561F2152DB7750D93B | AV53: 2763
A54: 일반배관용 STS강관 이음쇠 | B54: 엘보(SUS 용접#10) D125 | C54: EA | D54: 9 | E54: =TRUNC(단가대비표!O43,0) -> 0 | F54: =TRUNC(E54*D54, 0) -> 0 | G54: =TRUNC(단가대비표!P43,0) -> 0 | H54: =TRUNC(G54*D54, 0) -> 0 | I54: =TRUNC(단가대비표!V43,0) -> 0 | J54: =TRUNC(I54*D54, 0) -> 0 | K54: =TRUNC(E54+G54+I54, 0) -> 0 | L54: =TRUNC(F54+H54+J54, 0) -> 0 | N54: 5956D40BB12B55F9C1704DD33A584FF84916AA | Q54: 010102 | R54: F | S54: F | T54: T | AU54: 0101025956D40BB12B55F9C1704DD33A584FF84916AA | AV54: 2764
A55: 일반배관용 STS강관 이음쇠 | B55: 티이(SUS 용접 S#10) D125 | C55: EA | D55: 1 | E55: =TRUNC(단가대비표!O46,0) -> 0 | F55: =TRUNC(E55*D55, 0) -> 0 | G55: =TRUNC(단가대비표!P46,0) -> 0 | H55: =TRUNC(G55*D55, 0) -> 0 | I55: =TRUNC(단가대비표!V46,0) -> 0 | J55: =TRUNC(I55*D55, 0) -> 0 | K55: =TRUNC(E55+G55+I55, 0) -> 0 | L55: =TRUNC(F55+H55+J55, 0) -> 0 | N55: 5956D40BB12B55F9C1704DD33A584FF848781B | Q55: 010102 | R55: F | S55: F | T55: T | AU55: 0101025956D40BB12B55F9C1704DD33A584FF848781B | AV55: 2765
A56: 스테인리스용접 | B56: D125 | C56: 개소 | D56: 23 | E56: =TRUNC(일위대가목록!E29,0) -> 0 | F56: =TRUNC(E56*D56, 0) -> 0 | G56: =TRUNC(일위대가목록!F29,0) -> 0 | H56: =TRUNC(G56*D56, 0) -> 0 | I56: =TRUNC(일위대가목록!G29,0) -> 0 | J56: =TRUNC(I56*D56, 0) -> 0 | K56: =TRUNC(E56+G56+I56, 0) -> 0 | L56: =TRUNC(F56+H56+J56, 0) -> 0 | N56: 5EC8A43E31215087C159EC69B8B4A4 | Q56: 010102 | R56: T | S56: F | T56: F | AU56: 0101025EC8A43E31215087C159EC69B8B4A4 | AV56: 2766
A57: 스테인리스 합 후렌지 | B57: D125 | C57: 개소 | D57: 2 | E57: =TRUNC(일위대가목록!E34,0) -> 0 | F57: =TRUNC(E57*D57, 0) -> 0 | G57: =TRUNC(일위대가목록!F34,0) -> 0 | H57: =TRUNC(G57*D57, 0) -> 0 | I57: =TRUNC(일위대가목록!G34,0) -> 0 | J57: =TRUNC(I57*D57, 0) -> 0 | K57: =TRUNC(E57+G57+I57, 0) -> 0 | L57: =TRUNC(F57+H57+J57, 0) -> 0 | N57: 5EC8A42921215E5CE1E1A554CE5362 | Q57: 010102 | R57: T | S57: F | T57: F | AU57: 0101025EC8A42921215E5CE1E1A554CE5362 | AV57: 2767
A58: U자형볼트/너트 | B58: 절연, D150 | C58: EA | D58: 2 | E58: =TRUNC(단가대비표!O20,0) -> 0 | F58: =TRUNC(E58*D58, 0) -> 0 | G58: =TRUNC(단가대비표!P20,0) -> 0 | H58: =TRUNC(G58*D58, 0) -> 0 | I58: =TRUNC(단가대비표!V20,0) -> 0 | J58: =TRUNC(I58*D58, 0) -> 0 | K58: =TRUNC(E58+G58+I58, 0) -> 0 | L58: =TRUNC(F58+H58+J58, 0) -> 0 | N58: 59298484012855D6316C77994883FC5E858716 | Q58: 010102 | R58: F | S58: F | T58: T | AU58: 01010259298484012855D6316C77994883FC5E858716 | AV58: 2768
Q59: 010102
Q60: 010102
Q61: 010102
Q62: 010102
Q63: 010102
Q64: 010102
Q65: 010102
Q66: 010102
Q67: 010102
Q68: 010102
Q69: 010102
Q70: 010102
... Q74: 010102
A75: [ 합 계 ] | F75: =SUMIF(Q53:Q74,"010102",F53:F74) -> 0 | H75: =SUMIF(Q53:Q74,"010102",H53:H74) -> 0 | J75: =SUMIF(Q53:Q74,"010102",J53:J74) -> 0 | L75: =SUMIF(Q53:Q74,"010102",L53:L74) -> 0 | N75: TOTAL
A76: 010103 물탱크건식패드 | Q76: 010103
A77: 건식패드 | B77: 3,000 x 4,500 x 1,500H | C77: 식 | D77: 24 | E77: =TRUNC(단가대비표!O83,0) -> 0 | F77: =TRUNC(E77*D77, 0) -> 0 | G77: =TRUNC(단가대비표!P83,0) -> 0 | H77: =TRUNC(G77*D77, 0) -> 0 | I77: =TRUNC(단가대비표!V83,0) -> 0 | J77: =TRUNC(I77*D77, 0) -> 0 | K77: =TRUNC(E77+G77+I77, 0) -> 0 | L77: =TRUNC(F77+H77+J77, 0) -> 0 | N77: 5EC854CFD12F513CF195FE06364632AE196273 | Q77: 010103 | R77: F | S77: F | T77: T | AU77: 0101035EC854CFD12F513CF195FE06364632AE196273 | AV77: 1682
A78: 건식패드 | B78: 2,000 x 4,500 x 1,500H | C78: 식 | D78: 18 | E78: =TRUNC(단가대비표!O84,0) -> 0 | F78: =TRUNC(E78*D78, 0) -> 0 | G78: =TRUNC(단가대비표!P84,0) -> 0 | H78: =TRUNC(G78*D78, 0) -> 0 | I78: =TRUNC(단가대비표!V84,0) -> 0 | J78: =TRUNC(I78*D78, 0) -> 0 | K78: =TRUNC(E78+G78+I78, 0) -> 0 | L78: =TRUNC(F78+H78+J78, 0) -> 0 | N78: 5EC854CFD12F513CF195FE06364632AE196270 | Q78: 010103 | R78: F | S78: F | T78: T | AU78: 0101035EC854CFD12F513CF195FE06364632AE196270 | AV78: 1683
Q79: 010103
Q80: 010103
Q81: 010103
Q82: 010103
Q83: 010103
Q84: 010103
Q85: 010103
Q86: 010103
Q87: 010103
Q88: 010103
Q89: 010103
Q90: 010103
... Q98: 010103
A99: [ 합 계 ] | F99: =SUMIF(Q77:Q98,"010103",F77:F98) -> 0 | H99: =SUMIF(Q77:Q98,"010103",H77:H98) -> 0 | J99: =SUMIF(Q77:Q98,"010103",J77:J98) -> 0 | L99: =SUMIF(Q77:Q98,"010103",L77:L98) -> 0 | N99: TOTAL
A100: 01010401 장비철거공사 | Q100: 01010401
A101: 시수탱크철거 | B101: 29,700L | C101: 대 | D101: 1 | E101: =TRUNC(일위대가목록!E56,0) -> 0 | F101: =TRUNC(E101*D101, 0) -> 0 | G101: =TRUNC(일위대가목록!F56,0) -> 0 | H101: =TRUNC(G101*D101, 0) -> 0 | I101: =TRUNC(일위대가목록!G56,0) -> 0 | J101: =TRUNC(I101*D101, 0) -> 0 | K101: =TRUNC(E101+G101+I101, 0) -> 0 | L101: =TRUNC(F101+H101+J101, 0) -> 0 | N101: 5EC854BF412E5794A1BCDC1114AF23 | Q101: 01010401 | R101: T | S101: F | T101: F | AU101: 010104015EC854BF412E5794A1BCDC1114AF23 | AV101: 1073
A102: 정수탱크철거 | B102: 19,800L | C102: 대 | D102: 1 | E102: =TRUNC(일위대가목록!E57,0) -> 0 | F102: =TRUNC(E102*D102, 0) -> 0 | G102: =TRUNC(일위대가목록!F57,0) -> 0 | H102: =TRUNC(G102*D102, 0) -> 0 | I102: =TRUNC(일위대가목록!G57,0) -> 0 | J102: =TRUNC(I102*D102, 0) -> 0 | K102: =TRUNC(E102+G102+I102, 0) -> 0 | L102: =TRUNC(F102+H102+J102, 0) -> 0 | N102: 5EC854BF412E5794A1BCDC1114AF20 | Q102: 01010401 | R102: T | S102: F | T102: F | AU102: 010104015EC854BF412E5794A1BCDC1114AF20 | AV102: 1074
Q103: 01010401
Q104: 01010401
Q105: 01010401
Q106: 01010401
Q107: 01010401
Q108: 01010401
Q109: 01010401
Q110: 01010401
Q111: 01010401
Q112: 01010401
Q113: 01010401
...

Sheet 일위대가목록
B1: 일 위 대 가 목 록
B2: [ 본관 물탱크 등 기계설비 교체 설계용역(물탱크 교체공사)(기계)(7층저수조실) ]
A3: 코 드 | B3: 품 명 | C3: 규 격 | D3: 단위 | E3: 재 료 비 | F3: 노 무 비 | G3: 경 비 | H3: 합 계 | I3: 번 호 | J3: 비 고 | K3: 노임계수 | L3: 할증 | M3: 품셈개요 | N3: 장비일위
A4: 591F242271265E5091609D7BC0046A034B27B4B6 | B4: 덤프트럭 | C4: 8ton | D4: HR | E4: =일위대가!F9 -> 0 | F4: =일위대가!H9 -> 0 | G4: =일위대가!J9 -> 0 | H4: =E4+F4+G4 -> 0 | N4: T
A5: 591F242271265E5091609D7BC1166552C58B8649 | B5: 덤프트럭 | C5: 15ton | D5: HR | E5: =일위대가!F16 -> 0 | F5: =일위대가!H16 -> 0 | G5: =일위대가!J16 -> 0 | H5: =E5+F5+G5 -> 0 | N5: T
A6: 591F242271265E509161A61A6D91A4BDD4675A0A | B6: 덤프트럭 자동덮개시설 | C6: 15ton | D6: HR | E6: =일위대가!F20 -> 0 | F6: =일위대가!H20 -> 0 | G6: =일위대가!J20 -> 0 | H6: =E6+F6+G6 -> 0 | N6: T
A7: 591F242271265E08F17E440D506727E31979CCB6 | B7: 소형브레이커(전기식) | C7: 1.5kw | D7: HR | E7: =일위대가!F24 -> 0 | F7: =일위대가!H24 -> 0 | G7: =일위대가!J24 -> 0 | H7: =E7+F7+G7 -> 0 | N7: T
A8: 5E0B644761285150B18AC967D80F54 | B8: 폐기물처리비 | C8: 24TON 30KM | D8: TON | E8: =일위대가!F30 -> 0 | F8: =일위대가!H30 -> 0 | G8: =일위대가!J30 -> 0 | H8: =E8+F8+G8 -> 0
A9: 5E0B64476128516121FA73FDD77714 | B9: 건축물 현장정리 | D9: M2 | E9: =일위대가!F34 -> 0 | F9: =일위대가!H34 -> 0 | G9: =일위대가!J34 -> 0 | H9: =E9+F9+G9 -> 0
A10: 5E0B04DB01215924B178B55A4E6050 | B10: 모르타르 배합(배합품 포함) | C10: 배합용적비 1:3, 시멘트, 모래 별도 | D10: M3 | E10: =일위대가!F40 -> 0 | F10: =일위대가!H40 -> 0 | G10: =일위대가!J40 -> 0 | H10: =E10+F10+G10 -> 0
A11: 5E0B04DB0121591A714666C9A8258B | B11: 모르타르 바름 | C11: 바닥, 30mm | D11: M2 | E11: =일위대가!F45 -> 0 | F11: =일위대가!H45 -> 0 | G11: =일위대가!J45 -> 0 | H11: =E11+F11+G11 -> 0
A12: 5E0BA4DF51255BE881CCF6E98FD373 | B12: 바탕 고르기 | C12: 바닥, 24mm 이하 기준, 62m2/일당 | D12: M2 | E12: =일위대가!F51 -> 0 | F12: =일위대가!H51 -> 0 | G12: =일위대가!J51 -> 0 | H12: =E12+F12+G12 -> 0
A13: 5E0B94FD912C5636E1FA3824F930FF | B13: 에폭시 코팅(롤러칠 노무비) | C13: 하도1회, 퍼티 및 연마, 에폭시 페인트 2회칠 기준 | D13: M2 | E13: =일위대가!F57 -> 0 | F13: =일위대가!H57 -> 0 | G13: =일위대가!J57 -> 0 | H13: =E13+F13+G13 -> 0
A14: 5E0B94FD912C5636E1FA382581AAAE | B14: 바탕만들기+에폭시 코팅 | C14: 롤러칠 | D14: M2 | E14: =일위대가!F63 -> 0 | F14: =일위대가!H63 -> 0 | G14: =일위대가!J63 -> 0 | H14: =E14+F14+G14 -> 0
A15: 5E0B94FD912C5636E1F80B3050B253 | B15: 에폭시 페인트칠 재료비(20년 품셈기준) | C15: 콘크리트, 시멘트 모르타르용 | D15: M2 | E15: =일위대가!F69 -> 0 | F15: =일위대가!H69 -> 0 | G15: =일위대가!J69 -> 0 | H15: =E15+F15+G15 -> 0
A16: 5E0B94E411225C28C14D0A6C704F3D | B16: 콘크리트·모르타르면 바탕만들기 | C16: 노무비 | D16: M2 | E16: =일위대가!F75 -> 0 | F16: =일위대가!H75 -> 0 | G16: =일위대가!J75 -> 0 | H16: =E16+F16+G16 -> 0
A17: 5E0A64D621265315013B4F23DCB619 | B17: 콘크리트구조물 헐기(인력) | C17: 소형브레이커(전기식), 무근, 2.7m3/일당 | D17: M3 | E17: =일위대가!F82 -> 0 | F17: =일위대가!H82 -> 0 | G17: =일위대가!J82 -> 0 | H17: =E17+F17+G17 -> 0
A18: 5E0A64D6212D565A21A2D3E5C317B1 | B18: 모르타르철거 | D18: M2 | E18: =일위대가!F86 -> 0 | F18: =일위대가!H86 -> 0 | G18: =일위대가!J86 -> 0 | H18: =E18+F18+G18 -> 0
A19: 5E0A64D6212D565A21A2D3E5C6EBEE | B19: 인력 소운반 | D19: TON | E19: =일위대가!F90 -> 0 | F19: =일위대가!H90 -> 0 | G19: =일위대가!J90 -> 0 | H19: =E19+F19+G19 -> 0
A20: 5EC8A43D212A516A511124935E114A | B20: 스텐관 용접 접합 | C20: D80 | D20: 개소 | E20: =일위대가!F95 -> 0 | F20: =일위대가!H95 -> 0 | G20: =일위대가!J95 -> 0 | H20: =E20+F20+G20 -> 0
A21: 5EC8A43D212A516A511124935C632E | B21: 스텐관 용접 접합 | C21: D100 | D21: 개소 | E21: =일위대가!F100 -> 0 | F21: =일위대가!H100 -> 0 | G21: =일위대가!J100 -> 0 | H21: =E21+F21+G21 -> 0
A22: 5EC8A43D212A516A511124935B5C38 | B22: 스텐관 용접 접합 | C22: D125 | D22: 개소 | E22: =일위대가!F105 -> 0 | F22: =일위대가!H105 -> 0 | G22: =일위대가!J105 -> 0 | H22: =E22+F22+G22 -> 0
A23: 5EC8A43D212A516A5112CBD3356635 | B23: 스테인리스용접 | C23: D80 | D23: 개소 | E23: =일위대가!F111 -> 0 | F23: =일위대가!H111 -> 0 | G23: =일위대가!J111 -> 0 | H23: =E23+F23+G23 -> 0
A24: 5EC8A43D212B53D4F172A7D0FCBB12 | B24: 스테인리스배관 | C24: D 80 x 3T | D24: M | E24: =일위대가!F117 -> 0 | F24: =일위대가!H117 -> 0 | G24: =일위대가!J117 -> 0 | H24: =E24+F24+G24 -> 0
A25: 5EC8A43D212B53D4F1734CAC084D88 | B25: 스텐관 용접 배관 | C25: D80, 옥내일반 | D25: m | E25: =일위대가!F123 -> 0 | F25: =일위대가!H123 -> 0 | G25: =일위대가!J123 -> 0 | H25: =E25+F25+G25 -> 0
A26: 5EC8A43D212B53D4F1734CAC0A7B85 | B26: 스텐관 용접 배관 | C26: D100, 옥내일반 | D26: m | E26: =일위대가!F129 -> 0 | F26: =일위대가!H129 -> 0 | G26: =일위대가!J129 -> 0 | H26: =E26+F26+G26 -> 0
A27: 5EC8A43D212B53D4F1734CAC0DCF87 | B27: 스텐관 용접 배관 | C27: D125, 옥내일반 | D27: m | E27: =일위대가!F135 -> 0 | F27: =일위대가!H135 -> 0 | G27: =일위대가!J135 -> 0 | H27: =E27+F27+G27 -> 0
A28: 5EC8A43E31215087C159EC6A5F3EAD | B28: 스테인리스용접 | C28: D100 | D28: 개소 | E28: =일위대가!F141 -> 0 | F28: =일위대가!H141 -> 0 | G28: =일위대가!J141 -> 0 | H28: =E28+F28+G28 -> 0
A29: 5EC8A43E31215087C159EC69B8B4A4 | B29: 스테인리스용접 | C29: D125 | D29: 개소 | E29: =일위대가!F147 -> 0 | F29: =일위대가!H147 -> 0 | G29: =일위대가!J147 -> 0 | H29: =E29+F29+G29 -> 0
A30: 5EC8A43E3120561F2152DB7751E90A | B30: 스테인리스배관 | C30: D100 x 3T | D30: M | E30: =일위대가!F153 -> 0 | F30: =일위대가!H153 -> 0 | G30: =일위대가!J153 -> 0 | H30: =E30+F30+G30 -> 0
A31: 5EC8A43E3120561F2152DB7750D93B | B31: 스테인리스배관 | C31: D125 x 3T | D31: M | E31: =일위대가!F159 -> 0 | F31: =일위대가!H159 -> 0 | G31: =일위대가!J159 -> 0 | H31: =E31+F31+G31 -> 0
A32: 5EC8A428112E559B2153FEEBF74113 | B32: 스테인리스 합 후렌지 | C32: D80 | D32: 개소 | E32: =일위대가!F167 -> 0 | F32: =일위대가!H167 -> 0 | G32: =일위대가!J167 -> 0 | H32: =E32+F32+G32 -> 0
A33: 5EC8A428112E559B2153FEE8221DFE | B33: 스테인리스 조 후렌지 | C33: D80 | D33: 개소 | E33: =일위대가!F175 -> 0 | F33: =일위대가!H175 -> 0 | G33: =일위대가!J175 -> 0 | H33: =E33+F33+G33 -> 0
A34: 5EC8A42921215E5CE1E1A554CE5362 | B34: 스테인리스 합 후렌지 | C34: D125 | D34: 개소 | E34: =일위대가!F183 -> 0 | F34: =일위대가!H183 -> 0 | G34: =일위대가!J183 -> 0 | H34: =E34+F34+G34 -> 0
A35: 5EC8C404012D58CB1135248DF7FDD4 | B35: 관보온/발포폴리에틸렌보온재 | C35: D80, 보온두께 25mm 이하, 일반접합, 옥내일반, 매직 | D35: m | E35: =일위대가!F188 -> 0 | F35: =일위대가!H188 -> 0 | G35: =일위대가!J188 -> 0 | H35: =E35+F35+G35 -> 0
A36: 5EC8C404012D58CB418922FF86E28A | B36: 관보온/발포폴리에틸렌보온재 | C36: D100, 보온두께 50mm 이하, 일반접합, 옥내일반, 매직 | D36: m | E36: =일위대가!F193 -> 0 | F36: =일위대가!H193 -> 0 | G36: =일위대가!J193 -> 0 | H36: =E36+F36+G36 -> 0
A37: 5EC8C404012D58CB418922FEE8541F | B37: 관보온/발포폴리에틸렌보온재 | C37: D125, 보온두께 50mm 이하, 일반접합, 옥내일반, 매직 | D37: m | E37: =일위대가!F198 -> 0 | F37: =일위대가!H198 -> 0 | G37: =일위대가!J198 -> 0 | H37: =E37+F37+G37 -> 0
A38: 5EC8C404012A5307B1541938A47707 | B38: 관보온(가교발포+매직) | C38: 25TxD80 | D38: M | E38: =일위대가!F206 -> 0 | F38: =일위대가!H206 -> 0 | G38: =일위대가!J206 -> 0 | H38: =E38+F38+G38 -> 0
A39: 5EC8C407C1255ECD619A20873CEE55 | B39: 관보온(가교발포+매직) | C39: 40TxD100 | D39: M | E39: =일위대가!F214 -> 0 | F39: =일위대가!H214 -> 0 | G39: =일위대가!J214 -> 0 | H39: =E39+F39+G39 -> 0
A40: 5EC8C407C1255EFA111C76D922BCC1 | B40: 관보온(가교발포+매직) | C40: 40TxD125 | D40: M | E40: =일위대가!F222 -> 0 | F40: =일위대가!H222 -> 0 | G40: =일위대가!J222 -> 0 | H40: =E40+F40+G40 -> 0
A41: 5EC8E45221225C6A11FD183C787DAF | B41: 일반밸브 및 콕류 설치 | C41: D80 | D41: 개 | E41: =일위대가!F228 -> 0 | F41: =일위대가!H228 -> 0 | G41: =일위대가!J228 -> 0 | H41: =E41+F41+G41 -> 0
A42: 5EC8E45221225C6A11FD183C7A2AE2 | B42: 일반밸브 및 콕류 설치 | C42: D125 | D42: 개 | E42: =일위대가!F234 -> 0 | F42: =일위대가!H234 -> 0 | G42: =일위대가!J234 -> 0 | H42: =E42+F42+G42 -> 0
A43: 5EC8E45221235ECA41528495AD16E9 | B43: 감압밸브장치 설치 | C43: D80 | D43: 개 | E43: =일위대가!F240 -> 0 | F43: =일위대가!H240 -> 0 | G43: =일위대가!J240 -> 0 | H43: =E43+F43+G43 -> 0
A44: 5EC8E45221265A1721539FE6A9B175 | B44: 주철스트레이너 | C44: D125 (10KG) | D44: EA | E44: =일위대가!F245 -> 0 | F44: =일위대가!H245 -> 0 | G44: =일위대가!J245 -> 0 | H44: =E44+F44+G44 -> 0
A45: 5EC8E45221265A06312B075F67D36A | B45: 여과망 | C45: D 80 (10KG) | D45: EA | E45: =일위대가!F250 -> 0 | F45: =일위대가!H250 -> 0 | G45: =일위대가!J250 -> 0 | H45: =E45+F45+G45 -> 0
A46: 5EC8E45221265A33F1C0076A9B2E16 | B46: 여과망 | C46: D125 (10KG) | D46: EA | E46: =일위대가!F255 -> 0 | F46: =일위대가!H255 -> 0 | G46: =일위대가!J255 -> 0 | H46: =E46+F46+G46 -> 0
A47: 5EC8E45221245F39612BFC069731B9 | B47: 버터플라이밸브(기어) | C47: D 80 (10KG) | D47: EA | E47: =일위대가!F260 -> 0 | F47: =일위대가!H260 -> 0 | G47: =일위대가!J260 -> 0 | H47: =E47+F47+G47 -> 0
A48: 5EC8E45221245F39612BFC0691A914 | B48: 버터플라이밸브(기어) | C48: D125 (10KG) | D48: EA | E48: =일위대가!F265 -> 0 | F48: =일위대가!H265 -> 0 | G48: =일위대가!J265 -> 0 | H48: =E48+F48+G48 -> 0
A49: 5EC8E4507125571CB1D85AE89EA455 | B49: 플랙시블커넥터 설치 | C49: D80 | D49: 개 | E49: =일위대가!F271 -> 0 | F49: =일위대가!H271 -> 0 | G49: =일위대가!J271 -> 0 | H49: =E49+F49+G49 -> 0
A50: 5EC8E4507125571CB1D85AE89CF702 | B50: 플랙시블커넥터 설치 | C50: D125 | D50: 개 | E50: =일위대가!F277 -> 0 | F50: =일위대가!H277 -> 0 | G50: =일위대가!J277 -> 0 | H50: =E50+F50+G50 -> 0
A51: 5EC8E456912E5F47F10CE26007E91A | B51: 볼탑(SUS) | C51: D 80 (10KG) | D51: EA | E51: =일위대가!F282 -> 0 | F51: =일위대가!H282 -> 0 | G51: =일위대가!J282 -> 0 | H51: =E51+F51+G51 -> 0
A52: 5EC8E45B112F5283611FF5E4934BCF | B52: 후렉시블죠인트(BELLOWS) | C52: D 80 (10KG) | D52: EA | E52: =일위대가!F287 -> 0 | F52: =일위대가!H287 -> 0 | G52: =일위대가!J287 -> 0 | H52: =E52+F52+G52 -> 0
A53: 5EC8E45B112F5283611FF5E5A2F3E6 | B53: 후렉시블죠인트(BELLOWS) | C53: D125 (10KG) | D53: EA | E53: =일위대가!F292 -> 0 | F53: =일위대가!H292 -> 0 | G53: =일위대가!J292 -> 0 | H53: =E53+F53+G53 -> 0
A54: 5EC854B0C12059D7A1B4710772F795 | B54: 정수위조절밸브(STS) | C54: D80x80x80 | D54: 개소 | E54: =일위대가!F307 -> 0 | F54: =일위대가!H307 -> 0 | G54: =일위대가!J307 -> 0 | H54: =E54+F54+G54 -> 0
A55: 5EC854BF412E5794A1BDF814130BC8 | B55: 스테인레스배관 철거 | C55: D125 x 3T | D55: M | E55: =일위대가!F313 -> 0 | F55: =일위대가!H313 -> 0 | G55: =일위대가!J313 -> 0 | H55: =E55+F55+G55 -> 0
A56: 5EC854BF412E5794A1BCDC1114AF23 | B56: 시수탱크철거 | C56: 29,700L | D56: 대 | E56: =일위대가!F321 -> 0 | F56: =일위대가!H321 -> 0 | G56: =일위대가!J321 -> 0 | H56: =E56+F56+G56 -> 0
A57: 5EC854BF412E5794A1BCDC1114AF20 | B57: 정수탱크철거 | C57: 19,800L | D57: 대 | E57: =일위대가!F329 -> 0 | F57: =일위대가!H329 -> 0 | G57: =일위대가!J329 -> 0 | H57: =E57+F57+G57 -> 0
A58: 5EC994BCC12857E341EE1A025E039C | B58: 배관 해체/강관 | C58: D80mm이하, 강관 | D58: m | E58: =일위대가!F335 -> 0 | F58: =일위대가!H335 -> 0 | G58: =일위대가!J335 -> 0 | H58: =E58+F58+G58 -> 0
A59: 5EC994BCC12857E341EE1A025F2981 | B59: 배관 해체/강관 | C59: D100mm이하, 강관 | D59: m | E59: =일위대가!F341 -> 0 | F59: =일위대가!H341 -> 0 | G59: =일위대가!J341 -> 0 | H59: =E59+F59+G59 -> 0
A60: 5EC994BCC12857E341EE1A037DD6C3 | B60: 배관 해체/강관 | C60: D125mm이하, 강관 | D60: m | E60: =일위대가!F347 -> 0 | F60: =일위대가!H347 -> 0 | G60: =일위대가!J347 -> 0 | H60: =E60+F60+G60 -> 0
A61: 5EC994BCC12B530CE146F362ED6A4A | B61: 배관보온 해체/유리면보온재(글라스울) | C61: D80, 보온두께 50mm 이하, 유리면보온재(글라스울) | D61: m | E61: =일위대가!F352 -> 0 | F61: =일위대가!H352 -> 0 | G61: =일위대가!J352 -> 0 | H61: =E61+F61+G61 -> 0
A62: 5EC994BCC12B530CE146F362EC437C | B62: 배관보온 해체/유리면보온재(글라스울) | C62: D100, 보온두께 50mm 이하, 유리면보온재(글라스울) | D62: m | E62: =일위대가!F357 -> 0 | F62: =일위대가!H357 -> 0 | G62: =일위대가!J357 -> 0 | H62: =E62+F62+G62 -> 0
A63: 5EC994BCC12B530CE146F3638C9E1A | B63: 배관보온 해체/유리면보온재(글라스울) | C63: D125, 보온두께 50mm 이하, 유리면보온재(글라스울) | D63: m | E63: =일위대가!F362 -> 0 | F63: =일위대가!H362 -> 0 | G63: =일위대가!J362 -> 0 | H63: =E63+F63+G63 -> 0

Sheet 일위대가
A1: [ 본관 물탱크 등 기계설비 교체 설계용역(물탱크 교체공사)(기계)(7층저수조실) ]
A2: 품 명 | B2: 규 격 | C2: 단위 | D2: 수량 | E2: 재 료 비 | G2: 노 무 비 | I2: 경 비 | K2: 합 계 | M2: 비 고 | N2: 일위대가 | O2: 품목코드 | P2: 일위 | Q2: 단산 | R2: 자재 | S2: 손료적용 | T2: 손료저장 | U2: 적용율 | V2: JUK1 | W2: JUK2 | X2: JUK3 | Y2: JUK4 | Z2: JUK5 | AA2: JUK6 | AB2: JUK7 | AC2: JUK8 | AD2: JUK9 | AE2: JUK10 | AF2: JUK11 | AG2: JUK12 | AH2: JUK13 | AI2: JUK14 | AJ2: JUK15 | AK2: JUK16 | AL2: JUK17 | AM2: JUK18 | AN2: JUK19 | AO2: JUK20 | AP2: 할증적용 | AQ2: 할증저장 | AR2: 할증율 | AS2: HAL1 | AT2: HAL2 | AU2: HAL3 | AV2: 자재구분 | AW2: 일위대가+자재 | AX2: 장비일위 | AY2: 설정 | AZ2: 할증체크
E3: 단 가 | F3: 금 액 | G3: 단 가 | H3: 금 액 | I3: 단 가 | J3: 금 액 | K3: 단 가 | L3: 금 액
A4: 덤프트럭 8ton HR 공통 8-3,4(0602) ( 호표 1 ) | N4: 591F242271265E5091609D7BC0046A034B27B4B6
A5: 덤프트럭 | B5: 8ton | C5: 대 | D5: 0.282 | E5: =단가대비표!O5 -> 0 | F5: =TRUNC(E5*D5,1) -> 0 | G5: =단가대비표!P5 -> 0 | H5: =TRUNC(G5*D5,1) -> 0 | J5: =TRUNC(I5*D5,1) -> 0 | K5: =TRUNC(E5+G5+I5,1) -> 0 | L5: =TRUNC(F5+H5+J5,1) -> 0 | M5: 천원 | N5: 591F242271265E5091609D7BC0046A034B27B4B6 | O5: 591F242271265E5091609D7BC0046A034B27B4 | P5: F | Q5: F | R5: T | AW5: 591F242271265E5091609D7BC0046A034B27B4B6591F242271265E5091609D7BC0046A034B27B4
A6: 경유 | B6: 저유황 0.05% | C6: L | D6: 9.3 | E6: =단가대비표!O13 -> 0 | F6: =TRUNC(E6*D6,1) -> 0 | G6: =단가대비표!P13 -> 0 | H6: =TRUNC(G6*D6,1) -> 0 | I6: =단가대비표!V13 -> 0 | J6: =TRUNC(I6*D6,1) -> 0 | K6: =TRUNC(E6+G6+I6,1) -> 0 | L6: =TRUNC(F6+H6+J6,1) -> 0 | N6: 591F242271265E5091609D7BC0046A034B27B4B6 | O6: 590E9403412A585C314A95E8FF64A5DD0F561E | P6: F | Q6: F | R6: T | V6: 1 | AW6: 591F242271265E5091609D7BC0046A034B27B4B6590E9403412A585C314A95E8FF64A5DD0F561E
A7: 잡재료 | B7: 주연료비의 38% | C7: 식 | D7: 1 | E7: =TRUNC(SUMIF(V5:V8, RIGHTB(O7, 1), F5:F8)*U7, 2) -> 0 | F7: =TRUNC(E7*D7,1) -> 0 | G7: 0 | H7: =TRUNC(G7*D7,1) -> 0 | I7: 0 | J7: =TRUNC(I7*D7,1) -> 0 | K7: =TRUNC(E7+G7+I7,1) -> 0 | L7: =TRUNC(F7+H7+J7,1) -> 0 | N7: 591F242271265E5091609D7BC0046A034B27B4B6 | O7: 5F11A402D12953C391B836FE46A5001 | P7: F | Q7: F | R7: F | S7: 0 | T7: 0 | U7: 0.38 | AW7: 591F242271265E5091609D7BC0046A034B27B4B65F11A402D12953C391B836FE46A5001
A8: 화물차운전사 | B8: 일반공사 직종 | C8: 인 | D8: 1 | E8: =TRUNC(단가대비표!O75*1/8*16/12*25/20, 1) -> 0 | F8: =TRUNC(E8*D8,1) -> 0 | G8: =TRUNC(단가대비표!P75*1/8*16/12*25/20, 1) -> 0 | H8: =TRUNC(G8*D8,1) -> 0 | I8: =TRUNC(단가대비표!V75*1/8*16/12*25/20, 1) -> 0 | J8: =TRUNC(I8*D8,1) -> 0 | K8: =TRUNC(E8+G8+I8,1) -> 0 | L8: =TRUNC(F8+H8+J8,1) -> 0 | N8: 591F242271265E5091609D7BC0046A034B27B4B6 | O8: 5ED9F41881285D2D313F5FCC10F41CC8A1AEBF | P8: F | Q8: F | R8: T | AW8: 591F242271265E5091609D7BC0046A034B27B4B65ED9F41881285D2D313F5FCC10F41CC8A1AEBF | AX8: T
A9: [ 합 계 ] | F9: =TRUNC(SUMIF(N5:N8, N4, F5:F8),0) -> 0 | H9: =TRUNC(SUMIF(N5:N8, N4, H5:H8),0) -> 0 | J9: =TRUNC(SUMIF(N5:N8, N4, J5:J8),0) -> 0 | L9: =F9+H9+J9 -> 0 | N9: TOTAL | O9: TOTAL
A11: 덤프트럭 15ton HR 공통 8-3,4(0602) ( 호표 2 ) | N11: 591F242271265E5091609D7BC1166552C58B8649
A12: 덤프트럭 | B12: 15ton | C12: 대 | D12: 0.2279 | E12: =단가대비표!O6 -> 0 | F12: =TRUNC(E12*D12,1) -> 0 | G12: =단가대비표!P6 -> 0 | H12: =TRUNC(G12*D12,1) -> 0 | J12: =TRUNC(I12*D12,1) -> 0 | K12: =TRUNC(E12+G12+I12,1) -> 0 | L12: =TRUNC(F12+H12+J12,1) -> 0 | M12: 천원 | N12: 591F242271265E5091609D7BC1166552C58B8649 | O12: 591F242271265E5091609D7BC1166552C58B86 | P12: F | Q12: F | R12: T | AW12: 591F242271265E5091609D7BC1166552C58B8649591F242271265E5091609D7BC1166552C58B86
A13: 경유 | B13: 저유황 0.05% | C13: L | D13: 15.9 | E13: =단가대비표!O13 -> 0 | F13: =TRUNC(E13*D13,1) -> 0 | G13: =단가대비표!P13 -> 0 | H13: =TRUNC(G13*D13,1) -> 0 | I13: =단가대비표!V13 -> 0 | J13: =TRUNC(I13*D13,1) -> 0 | K13: =TRUNC(E13+G13+I13,1) -> 0 | L13: =TRUNC(F13+H13+J13,1) -> 0 | N13: 591F242271265E5091609D7BC1166552C58B8649 | O13: 590E9403412A585C314A95E8FF64A5DD0F561E | P13: F | Q13: F | R13: T | V13: 1 | AW13: 591F242271265E5091609D7BC1166552C58B8649590E9403412A585C314A95E8FF64A5DD0F561E
A14: 잡재료 | B14: 주연료비의 38% | C14: 식 | D14: 1 | E14: =TRUNC(SUMIF(V12:V15, RIGHTB(O14, 1), F12:F15)*U14, 2) -> 0 | F14: =TRUNC(E14*D14,1) -> 0 | G14: 0 | H14: =TRUNC(G14*D14,1) -> 0 | I14: 0 | J14: =TRUNC(I14*D14,1) -> 0 | K14: =TRUNC(E14+G14+I14,1) -> 0 | L14: =TRUNC(F14+H14+J14,1) -> 0 | N14: 591F242271265E5091609D7BC1166552C58B8649 | O14: 5F11A402D12953C391B836FE46A5001 | P14: F | Q14: F | R14: F | S14: 0 | T14: 0 | U14: 0.38 | AW14: 591F242271265E5091609D7BC1166552C58B86495F11A402D12953C391B836FE46A5001
A15: 건설기계운전사 | B15: 일반공사 직종 | C15: 인 | D15: 1 | E15: =TRUNC(단가대비표!O74*1/8*16/12*25/20, 1) -> 0 | F15: =TRUNC(E15*D15,1) -> 0 | G15: =TRUNC(단가대비표!P74*1/8*16/12*25/20, 1) -> 0 | H15: =TRUNC(G15*D15,1) -> 0 | I15: =TRUNC(단가대비표!V74*1/8*16/12*25/20, 1) -> 0 | J15: =TRUNC(I15*D15,1) -> 0 | K15: =TRUNC(E15+G15+I15,1) -> 0 | L15: =TRUNC(F15+H15+J15,1) -> 0 | N15: 591F242271265E5091609D7BC1166552C58B8649 | O15: 5ED9F41881285D2D313F5FCC10F41CC8A1AEBE | P15: F | Q15: F | R15: T | AW15: 591F242271265E5091609D7BC1166552C58B86495ED9F41881285D2D313F5FCC10F41CC8A1AEBE | AX15: T
A16: [ 합 계 ] | F16: =TRUNC(SUMIF(N12:N15, N11, F12:F15),0) -> 0 | H16: =TRUNC(SUMIF(N12:N15, N11, H12:H15),0) -> 0 | J16: =TRUNC(SUMIF(N12:N15, N11, J12:J15),0) -> 0 | L16: =F16+H16+J16 -> 0 | N16: TOTAL | O16: TOTAL
A18: 덤프트럭 자동덮개시설 15ton HR 공통 8-3(0610) ( 호표 3 ) | N18: 591F242271265E509161A61A6D91A4BDD4675A0A
A19: 덤프트럭 자동덮개시설 | B19: 15ton | C19: 대 | D19: 0.2684 | E19: =단가대비표!O7 -> 0 | F19: =TRUNC(E19*D19,1) -> 0 | G19: =단가대비표!P7 -> 0 | H19: =TRUNC(G19*D19,1) -> 0 | J19: =TRUNC(I19*D19,1) -> 0 | K19: =TRUNC(E19+G19+I19,1) -> 0 | L19: =TRUNC(F19+H19+J19,1) -> 0 | M19: 천원 | N19: 591F242271265E509161A61A6D91A4BDD4675A0A | O19: 591F242271265E509161A61A6D91A4BDD4675A | P19: F | Q19: F | R19: T | AW19: 591F242271265E509161A61A6D91A4BDD4675A0A591F242271265E509161A61A6D91A4BDD4675A
A20: [ 합 계 ] | F20: =TRUNC(SUMIF(N19:N19, N18, F19:F19),0) -> 0 | H20: =TRUNC(SUMIF(N19:N19, N18, H19:H19),0) -> 0 | J20: =TRUNC(SUMIF(N19:N19, N18, J19:J19),0) -> 0 | L20: =F20+H20+J20 -> 0 | N20: TOTAL | O20: TOTAL
A22: 소형브레이커(전기식) 1.5kw HR 공통 8-3(5220) ( 호표 4 ) | N22: 591F242271265E08F17E440D506727E31979CCB6
A23: 소형브레이커(전기식) | B23: 1.5kw | C23: 대 | D23: 0.25 | E23: =단가대비표!O8 -> 0 | F23: =TRUNC(E23*D23,1) -> 0 | G23: =단가대비표!P8 -> 0 | H23: =TRUNC(G23*D23,1) -> 0 | J23: =TRUNC(I23*D23,1) -> 0 | K23: =TRUNC(E23+G23+I23,1) -> 0 | L23: =TRUNC(F23+H23+J23,1) -> 0 | M23: 천원 | N23: 591F242271265E08F17E440D506727E31979CCB6 | O23: 591F242271265E08F17E440D506727E31979CC | P23: F | Q23: F | R23: T | AW23: 591F242271265E08F17E440D506727E31979CCB6591F242271265E08F17E440D506727E31979CC
A24: [ 합 계 ] | F24: =TRUNC(SUMIF(N23:N23, N22, F23:F23),0) -> 0 | H24: =TRUNC(SUMIF(N23:N23, N22, H23:H23),0) -> 0 | J24: =TRUNC(SUMIF(N23:N23, N22, J23:J23),0) -> 0 | L24: =F24+H24+J24 -> 0 | N24: TOTAL | O24: TOTAL
A26: 폐기물처리비 24TON 30KM TON ( 호표 5 ) | N26: 5E0B644761285150B18AC967D80F54
A27: 폐기물반입수수료 | B27: 혼합폐기물 | C27: TON | D27: 1 | E27: =단가대비표!O60 -> 0 | F27: =TRUNC(E27*D27,1) -> 0 | G27: =단가대비표!P60 -> 0 | H27: =TRUNC(G27*D27,1) -> 0 | J27: =TRUNC(I27*D27,1) -> 0 | K27: =TRUNC(E27+G27+I27,1) -> 0 | L27: =TRUNC(F27+H27+J27,1) -> 0 | N27: 5E0B644761285150B18AC967D80F54 | O27: 5E0B644761285150A1E50D33C48CBA | P27: F | Q27: F | R27: T | AW27: 5E0B644761285150B18AC967D80F545E0B644761285150A1E50D33C48CBA
A28: 건설폐기물상차비 | B28: 24톤 암롤트럭,30KM | C28: TON | D28: 1 | E28: =단가대비표!O59 -> 0 | F28: =TRUNC(E28*D28,1) -> 0 | G28: =단가대비표!P59 -> 0 | H28: =TRUNC(G28*D28,1) -> 0 | J28: =TRUNC(I28*D28,1) -> 0 | K28: =TRUNC(E28+G28+I28,1) -> 0 | L28: =TRUNC(F28+H28+J28,1) -> 0 | N28: 5E0B644761285150B18AC967D80F54 | O28: 5E0B644761285150A1E50D3009D8DA | P28: F | Q28: F | R28: T | AW28: 5E0B644761285150B18AC967D80F545E0B644761285150A1E50D3009D8DA
A29: 건설폐기물운반비 | B29: 24톤 암롤트럭,30KM | C29: TON | D29: 1 | E29: =단가대비표!O61 -> 0 | F29: =TRUNC(E29*D29,1) -> 0 | G29: =단가대비표!P61 -> 0 | H29: =TRUNC(G29*D29,1) -> 0 | J29: =TRUNC(I29*D29,1) -> 0 | K29: =TRUNC(E29+G29+I29,1) -> 0 | L29: =TRUNC(F29+H29+J29,1) -> 0 | N29: 5E0B644761285150B18AC967D80F54 | O29: 5E0B644761285150A1E50D34EB972A | P29: F | Q29: F | R29: T | AW29: 5E0B644761285150B18AC967D80F545E0B644761285150A1E50D34EB972A
A30: [ 합 계 ] | F30: =TRUNC(SUMIF(N27:N29, N26, F27:F29),0) -> 0 | H30: =TRUNC(SUMIF(N27:N29, N26, H27:H29),0) -> 0 | J30: =TRUNC(SUMIF(N27:N29, N26, J27:J29),0) -> 0 | L30: =F30+H30+J30 -> 0 | N30: TOTAL | O30: TOTAL
A32: 건축물 현장정리 M2 공통 2-11-2 ( 호표 6 ) | N32: 5E0B64476128516121FA73FDD77714
A33: 보통인부 | B33: 일반공사 직종 | C33: 인 | D33: 0.05 | E33: =단가대비표!O65 -> 0 | F33: =TRUNC(E33*D33,1) -> 0 | G33: =단가대비표!P65 -> 0 | H33: =TRUNC(G33*D33,1) -> 0 | I33: =단가대비표!V65 -> 0 | J33: =TRUNC(I33*D33,1) -> 0 | K33: =TRUNC(E33+G33+I33,1) -> 0 | L33: =TRUNC(F33+H33+J33,1) -> 0 | N33: 5E0B64476128516121FA73FDD77714 | O33: 5ED9F41881285D2D313F5FCC10F41CC8A1AAD9 | P33: F | Q33: F | R33: T | AW33: 5E0B64476128516121FA73FDD777145ED9F41881285D2D313F5FCC10F41CC8A1AAD9
A34: [ 합 계 ] | F34: =TRUNC(SUMIF(N33:N33, N32, F33:F33),0) -> 0 | H34: =TRUNC(SUMIF(N33:N33, N32, H33:H33),0) -> 0 | J34: =TRUNC(SUMIF(N33:N33, N32, J33:J33),0) -> 0 | L34: =F34+H34+J34 -> 0 | N34: TOTAL | O34: TOTAL
A36: 모르타르 배합(배합품 포함) 배합용적비 1:3, 시멘트, 모래 별도 M3 건축 9-1-1 ( 호표 7 ) | N36: 5E0B04DB01215924B178B55A4E6050
A37: 시멘트 | B37: 시멘트(별도) | C37: kg | D37: 510 | E37: =단가대비표!O15 -> 0 | F37: =TRUNC(E37*D37,1) -> 0 | G37: =단가대비표!P15 -> 0 | H37: =TRUNC(G37*D37,1) -> 0 | I37: =단가대비표!V15 -> 0 | J37: =TRUNC(I37*D37,1) -> 0 | K37: =TRUNC(E37+G37+I37,1) -> 0 | L37: =TRUNC(F37+H37+J37,1) -> 0 | M37: 별도 | N37: 5E0B04DB01215924B178B55A4E6050 | O37: 592994ADC12453A25140F5666B5E1C0772D2D7 | P37: F | Q37: F | R37: T | AW37: 5E0B04DB01215924B178B55A4E6050592994ADC12453A25140F5666B5E1C0772D2D7
A38: 모래 | B38: (별도) | C38: M3 | D38: 1.1 | E38: =단가대비표!O9 -> 0 | F38: =TRUNC(E38*D38,1) -> 0 | G38: =단가대비표!P9 -> 0 | H38: =TRUNC(G38*D38,1) -> 0 | I38: =단가대비표!V9 -> 0 | J38: =TRUNC(I38*D38,1) -> 0 | K38: =TRUNC(E38+G38+I38,1) -> 0 | L38: =TRUNC(F38+H38+J38,1) -> 0 | M38: 별도 | N38: 5E0B04DB01215924B178B55A4E6050 | O38: 590ED4FCC1255E36D1A0855D372D83C2391D45 | P38: F | Q38: F | R38: T | AW38: 5E0B04DB01215924B178B55A4E6050590ED4FCC1255E36D1A0855D372D83C2391D45
A39: 보통인부 | B39: 일반공사 직종 | C39: 인 | D39: 0.66 | E39: =단가대비표!O65 -> 0 | F39: =TRUNC(E39*D39,1) -> 0 | G39: =단가대비표!P65 -> 0 | H39: =TRUNC(G39*D39,1) -> 0 | I39: =단가대비표!V65 -> 0 | J39: =TRUNC(I39*D39,1) -> 0 | K39: =TRUNC(E39+G39+I39,1) -> 0 | L39: =TRUNC(F39+H39+J39,1) -> 0 | N39: 5E0B04DB01215924B178B55A4E6050 | O39: 5ED9F41881285D2D313F5FCC10F41CC8A1AAD9 | P39: F | Q39: F | R39: T | AW39: 5E0B04DB01215924B178B55A4E60505ED9F41881285D2D313F5FCC10F41CC8A1AAD9
A40: [ 합 계 ] | F40: =TRUNC(SUMIF(N37:N39, N36, F37:F39),0) -> 0 | H40: =TRUNC(SUMIF(N37:N39, N36, H37:H39),0) -> 0 | J40: =TRUNC(SUMIF(N37:N39, N36, J37:J39),0) -> 0 | L40: =F40+H40+J40 -> 0 | N40: TOTAL | O40: TOTAL
A42: 모르타르 바름 바닥, 30mm M2 건축 3-1-1 준용 ( 호표 8 ) | N42: 5E0B04DB0121591A714666C9A8258B
A43: 모르타르 배합(배합품 포함) | B43: 배합용적비 1:3, 시멘트, 모래 별도 | C43: M3 | D43: 0.03 | E43: =일위대가목록!E10 -> 0 | F43: =TRUNC(E43*D43,1) -> 0 | G43: =일위대가목록!F10 -> 0 | H43: =TRUNC(G43*D43,1) -> 0 | I43: =일위대가목록!G10 -> 0 | J43: =TRUNC(I43*D43,1) -> 0 | K43: =TRUNC(E43+G43+I43,1) -> 0 | L43: =TRUNC(F43+H43+J43,1) -> 0 | M43: 호표 7 | N43: 5E0B04DB0121591A714666C9A8258B | O43: 5E0B04DB01215924B178B55A4E6050 | P43: T | Q43: F | R43: F | AW43: 5E0B04DB0121591A714666C9A8258B5E0B04DB01215924B178B55A4E6050
A44: 바탕 고르기 | B44: 바닥, 24mm 이하 기준, 62m2/일당 | C44: M2 | D44: 1 | E44: =일위대가목록!E12 -> 0 | F44: =TRUNC(E44*D44,1) -> 0 | G44: =일위대가목록!F12 -> 0 | H44: =TRUNC(G44*D44,1) -> 0 | I44: =일위대가목록!G12 -> 0 | J44: =TRUNC(I44*D44,1) -> 0 | K44: =TRUNC(E44+G44+I44,1) -> 0 | L44: =TRUNC(F44+H44+J44,1) -> 0 | M44: 호표 9 | N44: 5E0B04DB0121591A714666C9A8258B | O44: 5E0BA4DF51255BE881CCF6E98FD373 | P44: T | Q44: F | R44: F | AW44: 5E0B04DB0121591A714666C9A8258B5E0BA4DF51255BE881CCF6E98FD373
A45: [ 합 계 ] | F45: =TRUNC(SUMIF(N43:N44, N42, F43:F44),0) -> 0 | H45: =TRUNC(SUMIF(N43:N44, N42, H43:H44),0) -> 0 | J45: =TRUNC(SUMIF(N43:N44, N42, J43:J44),0) -> 0 | L45: =F45+H45+J45 -> 0 | N45: TOTAL | O45: TOTAL
A47: 바탕 고르기 바닥, 24mm 이하 기준, 62m2/일당 M2 건축 3-1-1 ( 호표 9 ) | N47: 5E0BA4DF51255BE881CCF6E98FD373
A48: 미장공 | B48: 일반공사 직종 | C48: 인 | D48: 0.032 | E48: =단가대비표!O70 -> 0 | F48: =TRUNC(E48*D48,1) -> 0 | G48: =단가대비표!P70 -> 0 | H48: =TRUNC(G48*D48,1) -> 0 | I48: =단가대비표!V70 -> 0 | J48: =TRUNC(I48*D48,1) -> 0 | K48: =TRUNC(E48+G48+I48,1) -> 0 | L48: =TRUNC(F48+H48+J48,1) -> 0 | N48: 5E0BA4DF51255BE881CCF6E98FD373 | O48: 5ED9F41881285D2D313F5FCC10F41CC8A1A829 | P48: F | Q48: F | R48: T | V48: 1 | AW48: 5E0BA4DF51255BE881CCF6E98FD3735ED9F41881285D2D313F5FCC10F41CC8A1A829
A49: 보통인부 | B49: 일반공사 직종 | C49: 인 | D49: 0.016 | E49: =단가대비표!O65 -> 0 | F49: =TRUNC(E49*D49,1) -> 0 | G49: =단가대비표!P65 -> 0 | H49: =TRUNC(G49*D49,1) -> 0 | I49: =단가대비표!V65 -> 0 | J49: =TRUNC(I49*D49,1) -> 0 | K49: =TRUNC(E49+G49+I49,1) -> 0 | L49: =TRUNC(F49+H49+J49,1) -> 0 | N49: 5E0BA4DF51255BE881CCF6E98FD373 | O49: 5ED9F41881285D2D313F5FCC10F41CC8A1AAD9 | P49: F | Q49: F | R49: T | V49: 1 | AW49: 5E0BA4DF51255BE881CCF6E98FD3735ED9F41881285D2D313F5FCC10F41CC8A1AAD9
A50: 공구손료 | B50: 인력품의 2% | C50: 식 | D50: 1 | E50: 0 | F50: =TRUNC(E50*D50,1) -> 0 | G50: 0 | H50: =TRUNC(G50*D50,1) -> 0 | I50: =TRUNC(SUMIF(V48:V50, RIGHTB(O50, 1), H48:H50)*U50, 2) -> 0 | J50: =TRUNC(I50*D50,1) -> 0 | K50: =TRUNC(E50+G50+I50,1) -> 0 | L50: =TRUNC(F50+H50+J50,1) -> 0 | N50: 5E0BA4DF51255BE881CCF6E98FD373 | O50: 5F11A402D12953C391B836FE46A5001 | P50: F | Q50: F | R50: F | S50: 1 | T50: 2 | U50: 0.02 | AW50: 5E0BA4DF51255BE881CCF6E98FD3735F11A402D12953C391B836FE46A5001
A51: [ 합 계 ] | F51: =TRUNC(SUMIF(N48:N50, N47, F48:F50),0) -> 0 | H51: =TRUNC(SUMIF(N48:N50, N47, H48:H50),0) -> 0 | J51: =TRUNC(SUMIF(N48:N50, N47, J48:J50),0) -> 0 | L51: =F51+H51+J51 -> 0 | N51: TOTAL | O51: TOTAL
A53: 에폭시 코팅(롤러칠 노무비) 하도1회, 퍼티 및 연마, 에폭시 페인트 2회칠 기준 M2 건축 11-2-8 ( 호표 10 ) | N53: 5E0B94FD912C5636E1FA3824F930FF
A54: 도장공 | B54: 일반공사 직종 | C54: 인 | D54: 0.039 | E54: =단가대비표!O71 -> 0 | F54: =TRUNC(E54*D54,1) -> 0 | G54: =단가대비표!P71 -> 0 | H54: =TRUNC(G54*D54,1) -> 0 | I54: =단가대비표!V71 -> 0 | J54: =TRUNC(I54*D54,1) -> 0 | K54: =TRUNC(E54+G54+I54,1) -> 0 | L54: =TRUNC(F54+H54+J54,1) -> 0 | N54: 5E0B94FD912C5636E1FA3824F930FF | O54: 5ED9F41881285D2D313F5FCC10F41CC8A1A827 | P54: F | Q54: F | R54: T | V54: 1 | AW54: 5E0B94FD912C5636E1FA3824F930FF5ED9F41881285D2D313F5FCC10F41CC8A1A827
A55: 보통인부 | B55: 일반공사 직종 | C55: 인 | D55: 0.008 | E55: =단가대비표!O65 -> 0 | F55: =TRUNC(E55*D55,1) -> 0 | G55: =단가대비표!P65 -> 0 | H55: =TRUNC(G55*D55,1) -> 0 | I55: =단가대비표!V65 -> 0 | J55: =TRUNC(I55*D55,1) -> 0 | K55: =TRUNC(E55+G55+I55,1) -> 0 | L55: =TRUNC(F55+H55+J55,1) -> 0 | N55: 5E0B94FD912C5636E1FA3824F930FF | O55: 5ED9F41881285D2D313F5FCC10F41CC8A1AAD9 | P55: F | Q55: F | R55: T | V55: 1 | AW55: 5E0B94FD912C5636E1FA3824F930FF5ED9F41881285D2D313F5FCC10F41CC8A1AAD9
A56: 공구손료 및 잡재료비 | B56: 인력품의 2% | C56: 식 | D56: 1 | E56: =TRUNC(SUMIF(V54:V56, RIGHTB(O56, 1), H54:H56)*U56, 2) -> 0 | F56: =TRUNC(E56*D56,1) -> 0 | G56: 0 | H56: =TRUNC(G56*D56,1) -> 0 | I56: 0 | J56: =TRUNC(I56*D56,1) -> 0 | K56: =TRUNC(E56+G56+I56,1) -> 0 | L56: =TRUNC(F56+H56+J56,1) -> 0 | N56: 5E0B94FD912C5636E1FA3824F930FF | O56: 5F11A402D12953C391B836FE46A5001 | P56: F | Q56: F | R56: F | S56: 1 | T56: 0 | U56: 0.02 | AW56: 5E0B94FD912C5636E1FA3824F930FF5F11A402D12953C391B836FE46A5001
A57: [ 합 계 ] | F57: =TRUNC(SUMIF(N54:N56, N53, F54:F56),0) -> 0 | H57: =TRUNC(SUMIF(N54:N56, N53, H54:H56),0) -> 0 | J57: =TRUNC(SUMIF(N54:N56, N53, J54:J56),0) -> 0 | L57: =F57+H57+J57 -> 0 | N57: TOTAL | O57: TOTAL
A59: 바탕만들기+에폭시 코팅 롤러칠 M2 건축 11-2-8 ( 호표 11 ) | N59: 5E0B94FD912C5636E1FA382581AAAE
A60: 콘크리트·모르타르면 바탕만들기 | B60: 노무비 | C60: M2 | D60: 1 | E60: =일위대가목록!E16 -> 0 | F60: =TRUNC(E60*D60,1) -> 0 | G60: =일위대가목록!F16 -> 0 | H60: =TRUNC(G60*D60,1) -> 0 | I60: =일위대가목록!G16 -> 0 | J60: =TRUNC(I60*D60,1) -> 0 | K60: =TRUNC(E60+G60+I60,1) -> 0 | L60: =TRUNC(F60+H60+J60,1) -> 0 | M60: 호표 13 | N60: 5E0B94FD912C5636E1FA382581AAAE | O60: 5E0B94E411225C28C14D0A6C704F3D | P60: T | Q60: F | R60: F | AW60: 5E0B94FD912C5636E1FA382581AAAE5E0B94E411225C28C14D0A6C704F3D
A61: 에폭시 페인트칠 재료비(20년 품셈기준) | B61: 콘크리트, 시멘트 모르타르용 | C61: M2 | D61: 1 | E61: =일위대가목록!E15 -> 0 | F61: =TRUNC(E61*D61,1) -> 0 | G61: =일위대가목록!F15 -> 0 | H61: =TRUNC(G61*D61,1) -> 0 | I61: =일위대가목록!G15 -> 0 | J61: =TRUNC(I61*D61,1) -> 0 | K61: =TRUNC(E61+G61+I61,1) -> 0 | L61: =TRUNC(F61+H61+J61,1) -> 0 | M61: 호표 12 | N61: 5E0B94FD912C5636E1FA382581AAAE | O61: 5E0B94FD912C5636E1F80B3050B253 | P61: T | Q61: F | R61: F | AW61: 5E0B94FD912C5636E1FA382581AAAE5E0B94FD912C5636E1F80B3050B253
A62: 에폭시 코팅(롤러칠 노무비) | B62: 하도1회, 퍼티 및 연마, 에폭시 페인트 2회칠 기준 | C62: M2 | D62: 1 | E62: =일위대가목록!E13 -> 0 | F62: =TRUNC(E62*D62,1) -> 0 | G62: =일위대가목록!F13 -> 0 | H62: =TRUNC(G62*D62,1) -> 0 | I62: =일위대가목록!G13 -> 0 | J62: =TRUNC(I62*D62,1) -> 0 | K62: =TRUNC(E62+G62+I62,1) -> 0 | L62: =TRUNC(F62+H62+J62,1) -> 0 | M62: 호표 10 | N62: 5E0B94FD912C5636E1FA382581AAAE | O62: 5E0B94FD912C5636E1FA3824F930FF | P62: T | Q62: F | R62: F | AW62: 5E0B94FD912C5636E1FA382581AAAE5E0B94FD912C5636E1FA3824F930FF
A63: [ 합 계 ] | F63: =TRUNC(SUMIF(N60:N62, N59, F60:F62),0) -> 0 | H63: =TRUNC(SUMIF(N60:N62, N59, H60:H62),0) -> 0 | J63: =TRUNC(SUMIF(N60:N62, N59, J60:J62),0) -> 0 | L63: =F63+H63+J63 -> 0 | N63: TOTAL | O63: TOTAL
A65: 에폭시 페인트칠 재료비(20년 품셈기준) 콘크리트, 시멘트 모르타르용 M2 ( 호표 12 ) | N65: 5E0B94FD912C5636E1F80B3050B253
A66: 유니폭시 투명라이닝 | B66: 후막형 투명 에폭시 바닥마감재(2~3mm) | C66: L | D66: 0.53 | E66: =단가대비표!O26 -> 0 | F66: =TRUNC(E66*D66,1) -> 0 | G66: =단가대비표!P26 -> 0 | H66: =TRUNC(G66*D66,1) -> 0 | I66: =단가대비표!V26 -> 0 | J66: =TRUNC(I66*D66,1) -> 0 | K66: =TRUNC(E66+G66+I66,1) -> 0 | L66: =TRUNC(F66+H66+J66,1) -> 0 | N66: 5E0B94FD912C5636E1F80B3050B253 | O66: 59298487C123570A31D552F5308696F9400B04 | P66: F | Q66: F | R66: T | AW66: 5E0B94FD912C5636E1F80B3050B25359298487C123570A31D552F5308696F9400B04
A67: 에폭시페인트 | B67: EP1730 비철금속용 프라이머(회색) | C67: L | D67: 0.19 | E67: =단가대비표!O25 -> 0 | F67: =TRUNC(E67*D67,1) -> 0 | G67: =단가대비표!P25 -> 0 | H67: =TRUNC(G67*D67,1) -> 0 | I67: =단가대비표!V25 -> 0 | J67: =TRUNC(I67*D67,1) -> 0 | K67: =TRUNC(E67+G67+I67,1) -> 0 | L67: =TRUNC(F67+H67+J67,1) -> 0 | N67: 5E0B94FD912C5636E1F80B3050B253 | O67: 59298487C123570A31D552F5308696F9400A7F | P67: F | Q67: F | R67: T | AW67: 5E0B94FD912C5636E1F80B3050B25359298487C123570A31D552F5308696F9400A7F
A68: 에폭시계시너 | B68: 024 | C68: L | D68: 0.125 | E68: =단가대비표!O27 -> 0 | F68: =TRUNC(E68*D68,1) -> 0 | G68: =단가대비표!P27 -> 0 | H68: =TRUNC(G68*D68,1) -> 0 | I68: =단가대비표!V27 -> 0 | J68: =TRUNC(I68*D68,1) -> 0 | K68: =TRUNC(E68+G68+I68,1) -> 0 | L68: =TRUNC(F68+H68+J68,1) -> 0 | N68: 5E0B94FD912C5636E1F80B3050B253 | O68: 59298487C123570AE1FFA975D6BCA889618BDA | P68: F | Q68: F | R68: T | AW68: 5E0B94FD912C5636E1F80B3050B25359298487C123570AE1FFA975D6BCA889618BDA
A69: [ 합 계 ] | F69: =TRUNC(SUMIF(N66:N68, N65, F66:F68),0) -> 0 | H69: =TRUNC(SUMIF(N66:N68, N65, H66:H68),0) -> 0 | J69: =TRUNC(SUMIF(N66:N68, N65, J66:J68),0) -> 0 | L69: =F69+H69+J69 -> 0 | N69: TOTAL | O69: TOTAL
A71: 콘크리트·모르타르면 바탕만들기 노무비 M2 건축 11-1-1 ( 호표 13 ) | N71: 5E0B94E411225C28C14D0A6C704F3D
A72: 도장공 | B72: 일반공사 직종 | C72: 인 | D72: 0.01 | E72: =단가대비표!O71 -> 0 | F72: =TRUNC(E72*D72,1) -> 0 | G72: =단가대비표!P71 -> 0 | H72: =TRUNC(G72*D72,1) -> 0 | I72: =단가대비표!V71 -> 0 | J72: =TRUNC(I72*D72,1) -> 0 | K72: =TRUNC(E72+G72+I72,1) -> 0 | L72: =TRUNC(F72+H72+J72,1) -> 0 | N72: 5E0B94E411225C28C14D0A6C704F3D | O72: 5ED9F41881285D2D313F5FCC10F41CC8A1A827 | P72: F | Q72: F | R72: T | V72: 1 | AW72: 5E0B94E411225C28C14D0A6C704F3D5ED9F41881285D2D313F5FCC10F41CC8A1A827
A73: 보통인부 | B73: 일반공사 직종 | C73: 인 | D73: 0.001 | E73: =단가대비표!O65 -> 0 | F73: =TRUNC(E73*D73,1) -> 0 | G73: =단가대비표!P65 -> 0 | H73: =TRUNC(G73*D73,1) -> 0 | I73: =단가대비표!V65 -> 0 | J73: =TRUNC(I73*D73,1) -> 0 | K73: =TRUNC(E73+G73+I73,1) -> 0 | L73: =TRUNC(F73+H73+J73,1) -> 0 | N73: 5E0B94E411225C28C14D0A6C704F3D | O73: 5ED9F41881285D2D313F5FCC10F41CC8A1AAD9 | P73: F | Q73: F | R73: T | V73: 1 | AW73: 5E0B94E411225C28C14D0A6C704F3D5ED9F41881285D2D313F5FCC10F41CC8A1AAD9
A74: 공구손료 및 잡재료비 | B74: 인력품의 3% | C74: 식 | D74: 1 | E74: =TRUNC(SUMIF(V72:V74, RIGHTB(O74, 1), H72:H74)*U74, 2) -> 0 | F74: =TRUNC(E74*D74,1) -> 0 | G74: 0 | H74: =TRUNC(G74*D74,1) -> 0 | I74: 0 | J74: =TRUNC(I74*D74,1) -> 0 | K74: =TRUNC(E74+G74+I74,1) -> 0 | L74: =TRUNC(F74+H74+J74,1) -> 0 | N74: 5E0B94E411225C28C14D0A6C704F3D | O74: 5F11A402D12953C391B836FE46A5001 | P74: F | Q74: F | R74: F | S74: 1 | T74: 0 | U74: 0.03 | AW74: 5E0B94E411225C28C14D0A6C704F3D5F11A402D12953C391B836FE46A5001
A75: [ 합 계 ] | F75: =TRUNC(SUMIF(N72:N74, N71, F72:F74),0) -> 0 | H75: =TRUNC(SUMIF(N72:N74, N71, H72:H74),0) -> 0 | J75: =TRUNC(SUMIF(N72:N74, N71, J72:J74),0) -> 0 | L75: =F75+H75+J75 -> 0 | N75: TOTAL | O75: TOTAL
A77: 콘크리트구조물 헐기(인력) 소형브레이커(전기식), 무근, 2.7m3/일당 M3 유지 3-1-1 ( 호표 14 ) | N77: 5E0A64D621265315013B4F23DCB619
A78: 착암공 | B78: 일반공사 직종 | C78: 인 | D78: 0.74 | E78: =단가대비표!O69 -> 0 | F78: =TRUNC(E78*D78,1) -> 0 | G78: =단가대비표!P69 -> 0 | H78: =TRUNC(G78*D78,1) -> 0 | I78: =단가대비표!V69 -> 0 | J78: =TRUNC(I78*D78,1) -> 0 | K78: =TRUNC(E78+G78+I78,1) -> 0 | L78: =TRUNC(F78+H78+J78,1) -> 0 | N78: 5E0A64D621265315013B4F23DCB619 | O78: 5ED9F41881285D2D313F5FCC10F41CC8A1ABE7 | P78: F | Q78: F | R78: T | V78: 1 | AW78: 5E0A64D621265315013B4F23DCB6195ED9F41881285D2D313F5FCC10F41CC8A1ABE7
A79: 보통인부 | B79: 일반공사 직종 | C79: 인 | D79: 0.37 | E79: =단가대비표!O65 -> 0 | F79: =TRUNC(E79*D79,1) -> 0 | G79: =단가대비표!P65 -> 0 | H79: =TRUNC(G79*D79,1) -> 0 | I79: =단가대비표!V65 -> 0 | J79: =TRUNC(I79*D79,1) -> 0 | K79: =TRUNC(E79+G79+I79,1) -> 0 | L79: =TRUNC(F79+H79+J79,1) -> 0 | N79: 5E0A64D621265315013B4F23DCB619 | O79: 5ED9F41881285D2D313F5FCC10F41CC8A1AAD9 | P79: F | Q79: F | R79: T | V79: 1 | AW79: 5E0A64D621265315013B4F23DCB6195ED9F41881285D2D313F5FCC10F41CC8A1AAD9
A80: 소형브레이커(전기식) | B80: 1.5kw | C80: HR | D80: 5.93 | E80: =일위대가목록!E7 -> 0 | F80: =TRUNC(E80*D80,1) -> 0 | G80: =일위대가목록!F7 -> 0 | H80: =TRUNC(G80*D80,1) -> 0 | I80: =일위대가목록!G7 -> 0 | J80: =TRUNC(I80*D80,1) -> 0 | K80: =TRUNC(E80+G80+I80,1) -> 0 | L80: =TRUNC(F80+H80+J80,1) -> 0 | M80: 호표 4 | N80: 5E0A64D621265315013B4F23DCB619 | O80: 591F242271265E08F17E440D506727E31979CCB6 | P80: T | Q80: F | R80: F | AW80: 5E0A64D621265315013B4F23DCB619591F242271265E08F17E440D506727E31979CCB6
A81: 잡재료 | B81: 인력품의 1% | C81: 식 | D81: 1 | E81: =TRUNC(SUMIF(V78:V81, RIGHTB(O81, 1), H78:H81)*U81, 2) -> 0 | F81: =TRUNC(E81*D81,1) -> 0 | G81: 0 | H81: =TRUNC(G81*D81,1) -> 0 | I81: 0 | J81: =TRUNC(I81*D81,1) -> 0 | K81: =TRUNC(E81+G81+I81,1) -> 0 | L81: =TRUNC(F81+H81+J81,1) -> 0 | N81: 5E0A64D621265315013B4F23DCB619 | O81: 5F11A402D12953C391B836FE46A5001 | P81: F | Q81: F | R81: F | S81: 1 | T81: 0 | U81: 0.01 | AW81: 5E0A64D621265315013B4F23DCB6195F11A402D12953C391B836FE46A5001
A82: [ 합 계 ] | F82: =TRUNC(SUMIF(N78:N81, N77, F78:F81),0) -> 0 | H82: =TRUNC(SUMIF(N78:N81, N77, H78:H81),0) -> 0 | J82: =TRUNC(SUMIF(N78:N81, N77, J78:J81),0) -> 0 | L82: =F82+H82+J82 -> 0 | N82: TOTAL | O82: TOTAL
A84: 모르타르철거 M2 ( 호표 15 ) | N84: 5E0A64D6212D565A21A2D3E5C317B1
A85: 콘크리트구조물 헐기(인력) | B85: 소형브레이커(전기식), 무근, 2.7m3/일당 | C85: M3 | D85: 0.03 | E85: =일위대가목록!E17 -> 0 | F85: =TRUNC(E85*D85,1) -> 0 | G85: =일위대가목록!F17 -> 0 | H85: =TRUNC(G85*D85,1) -> 0 | I85: =일위대가목록!G17 -> 0 | J85: =TRUNC(I85*D85,1) -> 0 | K85: =TRUNC(E85+G85+I85,1) -> 0 | L85: =TRUNC(F85+H85+J85,1) -> 0 | M85: 호표 14 | N85: 5E0A64D6212D565A21A2D3E5C317B1 | O85: 5E0A64D621265315013B4F23DCB619 | P85: T | Q85: F | R85: F | AW85: 5E0A64D6212D565A21A2D3E5C317B15E0A64D621265315013B4F23DCB619
A86: [ 합 계 ] | F86: =TRUNC(SUMIF(N85:N85, N84, F85:F85),0) -> 0 | H86: =TRUNC(SUMIF(N85:N85, N84, H85:H85),0) -> 0 | J86: =TRUNC(SUMIF(N85:N85, N84, J85:J85),0) -> 0 | L86: =F86+H86+J86 -> 0 | N86: TOTAL | O86: TOTAL
A88: 인력 소운반 TON ( 호표 16 ) | N88: 5E0A64D6212D565A21A2D3E5C6EBEE
A89: 보통인부 | B89: 일반공사 직종 | C89: 인 | D89: 0.2 | E89: =단가대비표!O65 -> 0 | F89: =TRUNC(E89*D89,1) -> 0 | G89: =단가대비표!P65 -> 0 | H89: =TRUNC(G89*D89,1) -> 0 | I89: =단가대비표!V65 -> 0 | J89: =TRUNC(I89*D89,1) -> 0 | K89: =TRUNC(E89+G89+I89,1) -> 0 | L89: =TRUNC(F89+H89+J89,1) -> 0 | N89: 5E0A64D6212D565A21A2D3E5C6EBEE | O89: 5ED9F41881285D2D313F5FCC10F41CC8A1AAD9 | P89: F | Q89: F | R89: T | AW89: 5E0A64D6212D565A21A2D3E5C6EBEE5ED9F41881285D2D313F5FCC10F41CC8A1AAD9
A90: [ 합 계 ] | F90: =TRUNC(SUMIF(N89:N89, N88, F89:F89),0) -> 0 | H90: =TRUNC(SUMIF(N89:N89, N88, H89:H89),0) -> 0 | J90: =TRUNC(SUMIF(N89:N89, N88, J89:J89),0) -> 0 | L90: =F90+H90+J90 -> 0 | N90: TOTAL | O90: TOTAL
A92: 스텐관 용접 접합 D80 개소 기계 1-3-1 ( 호표 17 ) | N92: 5EC8A43D212A516A511124935E114A
A93: 용접공 | B93: 일반공사 직종 | C93: 인 | D93: 0.135 | E93: =단가대비표!O68 -> 0 | F93: =TRUNC(E93*D93,1) -> 0 | G93: =단가대비표!P68 -> 0 | H93: =TRUNC(G93*D93,1) -> 0 | I93: =단가대비표!V68 -> 0 | J93: =TRUNC(I93*D93,1) -> 0 | K93: =TRUNC(E93+G93+I93,1) -> 0 | L93: =TRUNC(F93+H93+J93,1) -> 0 | N93: 5EC8A43D212A516A511124935E114A | O93: 5ED9F41881285D2D313F5FCC10F41CC8A1ABE0 | P93: F | Q93: F | R93: T | V93: 1 | AW93: 5EC8A43D212A516A511124935E114A5ED9F41881285D2D313F5FCC10F41CC8A1ABE0
A94: 공구손료및기계경비 | B94: 노무비의 4% | C94: 식 | D94: 1 | E94: =TRUNC(SUMIF(V93:V94, RIGHTB(O94, 1), H93:H94)*U94, 2) -> 0 | F94: =TRUNC(E94*D94,1) -> 0 | G94: 0 | H94: =TRUNC(G94*D94,1) -> 0 | I94: 0 | J94: =TRUNC(I94*D94,1) -> 0 | K94: =TRUNC(E94+G94+I94,1) -> 0 | L94: =TRUNC(F94+H94+J94,1) -> 0 | N94: 5EC8A43D212A516A511124935E114A | O94: 5F11A402D12953C391B836FE46A5001 | P94: F | Q94: F | R94: F | S94: 1 | T94: 0 | U94: 0.04 | AW94: 5EC8A43D212A516A511124935E114A5F11A402D12953C391B836FE46A5001
A95: [ 합 계 ] | F95: =TRUNC(SUMIF(N93:N94, N92, F93:F94),0) -> 0 | H95: =TRUNC(SUMIF(N93:N94, N92, H93:H94),0) -> 0 | J95: =TRUNC(SUMIF(N93:N94, N92, J93:J94),0) -> 0 | L95: =F95+H95+J95 -> 0 | N95: TOTAL | O95: TOTAL
A97: 스텐관 용접 접합 D100 개소 기계 1-3-1 ( 호표 18 ) | N97: 5EC8A43D212A516A511124935C632E
A98: 용접공 | B98: 일반공사 직종 | C98: 인 | D98: 0.167 | E98: =단가대비표!O68 -> 0 | F98: =TRUNC(E98*D98,1) -> 0 | G98: =단가대비표!P68 -> 0 | H98: =TRUNC(G98*D98,1) -> 0 | I98: =단가대비표!V68 -> 0 | J98: =TRUNC(I98*D98,1) -> 0 | K98: =TRUNC(E98+G98+I98,1) -> 0 | L98: =TRUNC(F98+H98+J98,1) -> 0 | N98: 5EC8A43D212A516A511124935C632E | O98: 5ED9F41881285D2D313F5FCC10F41CC8A1ABE0 | P98: F | Q98: F | R98: T | V98: 1 | AW98: 5EC8A43D212A516A511124935C632E5ED9F41881285D2D313F5FCC10F41CC8A1ABE0
A99: 공구손료및기계경비 | B99: 노무비의 4% | C99: 식 | D99: 1 | E99: =TRUNC(SUMIF(V98:V99, RIGHTB(O99, 1), H98:H99)*U99, 2) -> 0 | F99: =TRUNC(E99*D99,1) -> 0 | G99: 0 | H99: =TRUNC(G99*D99,1) -> 0 | I99: 0 | J99: =TRUNC(I99*D99,1) -> 0 | K99: =TRUNC(E99+G99+I99,1) -> 0 | L99: =TRUNC(F99+H99+J99,1) -> 0 | N99: 5EC8A43D212A516A511124935C632E | O99: 5F11A402D12953C391B836FE46A5001 | P99: F | Q99: F | R99: F | S99: 1 | T99: 0 | U99: 0.04 | AW99: 5EC8A43D212A516A511124935C632E5F11A402D12953C391B836FE46A5001
A100: [ 합 계 ] | F100: =TRUNC(SUMIF(N98:N99, N97, F98:F99),0) -> 0 | H100: =TRUNC(SUMIF(N98:N99, N97, H98:H99),0) -> 0 | J100: =TRUNC(SUMIF(N98:N99, N97, J98:J99),0) -> 0 | L100: =F100+H100+J100 -> 0 | N100: TOTAL | O100: TOTAL
A102: 스텐관 용접 접합 D125 개소 기계 1-3-1 ( 호표 19 ) | N102: 5EC8A43D212A516A511124935B5C38
A103: 용접공 | B103: 일반공사 직종 | C103: 인 | D103: 0.199 | E103: =단가대비표!O68 -> 0 | F103: =TRUNC(E103*D103,1) -> 0 | G103: =단가대비표!P68 -> 0 | H103: =TRUNC(G103*D103,1) -> 0 | I103: =단가대비표!V68 -> 0 | J103: =TRUNC(I103*D103,1) -> 0 | K103: =TRUNC(E103+G103+I103,1) -> 0 | L103: =TRUNC(F103+H103+J103,1) -> 0 | N103: 5EC8A43D212A516A511124935B5C38 | O103: 5ED9F41881285D2D313F5FCC10F41CC8A1ABE0 | P103: F | Q103: F | R103: T | V103: 1 | AW103: 5EC8A43D212A516A511124935B5C385ED9F41881285D2D313F5FCC10F41CC8A1ABE0
A104: 공구손료및기계경비 | B104: 노무비의 4% | C104: 식 | D104: 1 | E104: =TRUNC(SUMIF(V103:V104, RIGHTB(O104, 1), H103:H104)*U104, 2) -> 0 | F104: =TRUNC(E104*D104,1) -> 0 | G104: 0 | H104: =TRUNC(G104*D104,1) -> 0 | I104: 0 | J104: =TRUNC(I104*D104,1) -> 0 | K104: =TRUNC(E104+G104+I104,1) -> 0 | L104: =TRUNC(F104+H104+J104,1) -> 0 | N104: 5EC8A43D212A516A511124935B5C38 | O104: 5F11A402D12953C391B836FE46A5001 | P104: F | Q104: F | R104: F | S104: 1 | T104: 0 | U104: 0.04 | AW104: 5EC8A43D212A516A511124935B5C385F11A402D12953C391B836FE46A5001
A105: [ 합 계 ] | F105: =TRUNC(SUMIF(N103:N104, N102, F103:F104),0) -> 0 | H105: =TRUNC(SUMIF(N103:N104, N102, H103:H104),0) -> 0 | J105: =TRUNC(SUMIF(N103:N104, N102, J103:J104),0) -> 0 | L105: =F105+H105+J105 -> 0 | N105: TOTAL | O105: TOTAL
A107: 스테인리스용접 D80 개소 기계 1-3-1 ( 호표 20 ) | N107: 5EC8A43D212A516A5112CBD3356635
A108: 스테인리스강용 용접봉 | B108: D3.2mm, AWSE308 | C108: KG | D108: 0.213 | E108: =단가대비표!O14 -> 0 | F108: =TRUNC(E108*D108,1) -> 0 | G108: =단가대비표!P14 -> 0 | H108: =TRUNC(G108*D108,1) -> 0 | I108: =단가대비표!V14 -> 0 | J108: =TRUNC(I108*D108,1) -> 0 | K108: =TRUNC(E108+G108+I108,1) -> 0 | L108: =TRUNC(F108+H108+J108,1) -> 0 | N108: 5EC8A43D212A516A5112CBD3356635 | O108: 593A3450812850C371CE75AC2C4A037B850EF2 | P108: F | Q108: F | R108: T | AW108: 5EC8A43D212A516A5112CBD3356635593A3450812850C371CE75AC2C4A037B850EF2
A109: 아르곤 가스 | B109: 건설용알곤가스 | C109: ℓ | D109: 430 | E109: =단가대비표!O12 -> 0 | F109: =TRUNC(E109*D109,1) -> 0 | G109: =단가대비표!P12 -> 0 | H109: =TRUNC(G109*D109,1) -> 0 | I109: =단가대비표!V12 -> 0 | J109: =TRUNC(I109*D109,1) -> 0 | K109: =TRUNC(E109+G109+I109,1) -> 0 | L109: =TRUNC(F109+H109+J109,1) -> 0 | N109: 5EC8A43D212A516A5112CBD3356635 | O109: 590EE48541205B90D10981D8DEBB839FDF8E05 | P109: F | Q109: F | R109: T | AW109: 5EC8A43D212A516A5112CBD3356635590EE48541205B90D10981D8DEBB839FDF8E05
A110: 스텐관 용접 접합 | B110: D80 | C110: 개소 | D110: 1 | E110: =일위대가목록!E20 -> 0 | F110: =TRUNC(E110*D110,1) -> 0 | G110: =일위대가목록!F20 -> 0 | H110: =TRUNC(G110*D110,1) -> 0 | I110: =일위대가목록!G20 -> 0 | J110: =TRUNC(I110*D110,1) -> 0 | K110: =TRUNC(E110+G110+I110,1) -> 0 | L110: =TRUNC(F110+H110+J110,1) -> 0 | M110: 호표 17 | N110: 5EC8A43D212A516A5112CBD3356635 | O110: 5EC8A43D212A516A511124935E114A | P110: T | Q110: F | R110: F | AW110: 5EC8A43D212A516A5112CBD33566355EC8A43D212A516A511124935E114A
A111: [ 합 계 ] | F111: =TRUNC(SUMIF(N108:N110, N107, F108:F110),0) -> 0 | H111: =TRUNC(SUMIF(N108:N110, N107, H108:H110),0) -> 0 | J111: =TRUNC(SUMIF(N108:N110, N107, J108:J110),0) -> 0 | L111: =F111+H111+J111 -> 0 | N111: TOTAL | O111: TOTAL
A113: 스테인리스배관 D 80 x 3T M 기계 1-3-2 ( 호표 21 ) | N113: 5EC8A43D212B53D4F172A7D0FCBB12
A114: 배관용 스테인리스 강관 | B114: D80x3T | C114: M | D114: 1.1 | E114: =단가대비표!O39 -> 0 | F114: =TRUNC(E114*D114,1) -> 0 | G114: =단가대비표!P39 -> 0 | H114: =TRUNC(G114*D114,1) -> 0 | I114: =단가대비표!V39 -> 0 | J114: =TRUNC(I114*D114,1) -> 0 | K114: =TRUNC(E114+G114+I114,1) -> 0 | L114: =TRUNC(F114+H114+J114,1) -> 0 | N114: 5EC8A43D212B53D4F172A7D0FCBB12 | O114: 5956D40BB12B55F9E12704942E2B76B4D29537 | P114: F | Q114: F | R114: T | V114: 1 | AW114: 5EC8A43D212B53D4F172A7D0FCBB125956D40BB12B55F9E12704942E2B76B4D29537
A115: 잡재료비 | B115: 주재료비의 3% | C115: 식 | D115: 1 | E115: =TRUNC(SUMIF(V114:V116, RIGHTB(O115, 1), F114:F116)*U115, 2) -> 0 | F115: =TRUNC(E115*D115,1) -> 0 | G115: 0 | H115: =TRUNC(G115*D115,1) -> 0 | I115: 0 | J115: =TRUNC(I115*D115,1) -> 0 | K115: =TRUNC(E115+G115+I115,1) -> 0 | L115: =TRUNC(F115+H115+J115,1) -> 0 | N115: 5EC8A43D212B53D4F172A7D0FCBB12 | O115: 5F11A402D12953C391B836FE46A5001 | P115: F | Q115: F | R115: F | S115: 0 | T115: 0 | U115: 0.03 | AW115: 5EC8A43D212B53D4F172A7D0FCBB125F11A402D12953C391B836FBF6C2542
A116: 스텐관 용접 배관 | B116: D80, 옥내일반 | C116: m | D116: 1 | E116: =일위대가목록!E25 -> 0 | F116: =TRUNC(E116*D116,1) -> 0 | G116: =일위대가목록!F25 -> 0 | H116: =TRUNC(G116*D116,1) -> 0 | I116: =일위대가목록!G25 -> 0 | J116: =TRUNC(I116*D116,1) -> 0 | K116: =TRUNC(E116+G116+I116,1) -> 0 | L116: =TRUNC(F116+H116+J116,1) -> 0 | M116: 호표 22 | N116: 5EC8A43D212B53D4F172A7D0FCBB12 | O116: 5EC8A43D212B53D4F1734CAC084D88 | P116: T | Q116: F | R116: F | AW116: 5EC8A43D212B53D4F172A7D0FCBB125EC8A43D212B53D4F1734CAC084D88
A117: [ 합 계 ] | F117: =TRUNC(SUMIF(N114:N116, N113, F114:F116),0) -> 0 | H117: =TRUNC(SUMIF(N114:N116, N113, H114:H116),0) -> 0 | J117: =TRUNC(SUMIF(N114:N116, N113, J114:J116),0) -> 0 | L117: =F117+H117+J117 -> 0 | N117: TOTAL | O117: TOTAL
A119: 스텐관 용접 배관 D80, 옥내일반 m 기계 1-3-2 ( 호표 22 ) | N119: 5EC8A43D212B53D4F1734CAC084D88
A120: 배관공 | B120: 일반공사 직종 | C120: 인 | D120: 0.12 | E120: =단가대비표!O72 -> 0 | F120: =TRUNC(E120*D120,1) -> 0 | G120: =단가대비표!P72 -> 0 | H120: =TRUNC(G120*D120,1) -> 0 | I120: =단가대비표!V72 -> 0 | J120: =TRUNC(I120*D120,1) -> 0 | K120: =TRUNC(E120+G120+I120,1) -> 0 | L120: =TRUNC(F120+H120+J120,1) -> 0 | N120: 5EC8A43D212B53D4F1734CAC084D88 | O120: 5ED9F41881285D2D313F5FCC10F41CC8A1A93C | P120: F | Q120: F | R120: T | V120: 1 | AW120: 5EC8A43D212B53D4F1734CAC084D885ED9F41881285D2D313F5FCC10F41CC8A1A93C
A121: 보통인부 | B121: 일반공사 직종 | C121: 인 | D121: 0.04 | E121: =단가대비표!O65 -> 0 | F121: =TRUNC(E121*D121,1) -> 0 | G121: =단가대비표!P65 -> 0 | H121: =TRUNC(G121*D121,1) -> 0 | I121: =단가대비표!V65 -> 0 | J121: =TRUNC(I121*D121,1) -> 0 | K121: =TRUNC(E121+G121+I121,1) -> 0 | L121: =TRUNC(F121+H121+J121,1) -> 0 | N121: 5EC8A43D212B53D4F1734CAC084D88 | O121: 5ED9F41881285D2D313F5FCC10F41CC8A1AAD9 | P121: F | Q121: F | R121: T | V121: 1 | AW121: 5EC8A43D212B53D4F1734CAC084D885ED9F41881285D2D313F5FCC10F41CC8A1AAD9
...

Sheet 단가대비표
A1: 단 가 대 비 표
A2: [ 본관 물탱크 등 기계설비 교체 설계용역(물탱크 교체공사)(기계)(7층저수조실) ]
A3: 코 드 | B3: 품 명 | C3: 규격 | D3: 단위 | E3: 재 료 비 | P3: 노 무 비 | Q3: 경 비 | W3: 번 호 | X3: 비 고 | Y3: 품목구분 | Z3: 노임구분 | AA3: 소수점처리 | AB3: 자재구분
E4: 조달청가격 | F4: PAGE | G4: 물가자료 | H4: PAGE | I4: 유통물가 | J4: PAGE | K4: 거래가격 | L4: PAGE | M4: 조사가격 | N4: PAGE | O4: 적용단가 | Q4: 조달청가격 | R4: 물가자료 | S4: 유통물가 | T4: 거래가격 | U4: 조사가격 | V4: 적용단가
A5: 591F242271265E5091609D7BC0046A034B27B4 | B5: 덤프트럭 | C5: 8ton | D5: 대 | E5: 0 | G5: 0 | I5: 0 | K5: 0 | M5: 0 | O5: 0 | P5: 0 | Q5: 0 | R5: 0 | S5: 0 | T5: 0 | U5: 36694 | V5: =SMALL(Q5:U5,COUNTIF(Q5:U5,0)+1) -> 36694 | W5: 자재 1 | X5: 천원
A6: 591F242271265E5091609D7BC1166552C58B86 | B6: 덤프트럭 | C6: 15ton | D6: 대 | E6: 0 | G6: 0 | I6: 0 | K6: 0 | M6: 0 | O6: 0 | P6: 0 | Q6: 0 | R6: 0 | S6: 0 | T6: 0 | U6: 88973 | V6: =SMALL(Q6:U6,COUNTIF(Q6:U6,0)+1) -> 88973 | W6: 자재 2 | X6: 천원
A7: 591F242271265E509161A61A6D91A4BDD4675A | B7: 덤프트럭 자동덮개시설 | C7: 15ton | D7: 대 | E7: 0 | G7: 0 | I7: 0 | K7: 0 | M7: 0 | O7: 0 | P7: 0 | Q7: 0 | R7: 0 | S7: 0 | T7: 0 | U7: 1604 | V7: =SMALL(Q7:U7,COUNTIF(Q7:U7,0)+1) -> 1604 | W7: 자재 3 | X7: 천원
A8: 591F242271265E08F17E440D506727E31979CC | B8: 소형브레이커(전기식) | C8: 1.5kw | D8: 대 | E8: 0 | G8: 0 | I8: 0 | K8: 0 | M8: 0 | O8: 0 | P8: 0 | Q8: 0 | R8: 0 | S8: 0 | T8: 0 | U8: 1335 | V8: =SMALL(Q8:U8,COUNTIF(Q8:U8,0)+1) -> 1335 | W8: 자재 4 | X8: 천원
A9: 590ED4FCC1255E36D1A0855D372D83C2391D45 | B9: 모래 | C9: (별도) | D9: M3 | E9: 0 | G9: 0 | I9: 0 | K9: 0 | M9: 0 | O9: 0 | P9: 0 | Q9: 0 | R9: 0 | S9: 0 | T9: 0 | U9: 0 | V9: 0 | W9: 자재 5 | X9: 별도
A10: 590ED4FCC1255E36D1A0855D372D83C2391D47 | B10: 모래 | C10: 모래, 서울, 세척사, 도착도 | D10: M3 | E10: 0 | G10: 0 | J10: 61 | K10: 0 | M10: 0 | P10: 0 | Q10: 0 | R10: 0 | S10: 0 | T10: 0 | U10: 0 | V10: 0 | W10: 자재 6
A11: 590ED4FCC12D539051FB3E24B2FFD8D5B72E21 | B11: 고스텐레스 | D11: Kg | E11: 0 | G11: 0 | L11: 1472 | M11: 0 | P11: 0 | Q11: 0 | R11: 0 | S11: 0 | T11: 0 | U11: 0 | V11: 0 | W11: 자재 7
A12: 590EE48541205B90D10981D8DEBB839FDF8E05 | B12: 아르곤 가스 | C12: 건설용알곤가스 | D12: ℓ | E12: 0 | H12: (하)33 | J12: 1190 | L12: 1451 | M12: 0 | P12: 0 | Q12: 0 | R12: 0 | S12: 0 | T12: 0 | U12: 0 | V12: 0 | W12: 자재 8
A13: 590E9403412A585C314A95E8FF64A5DD0F561E | B13: 경유 | C13: 저유황 0.05% | D13: L | H13: (하)32 | J13: 1189 | L13: 1451 | M13: 0 | P13: 0 | Q13: 0 | R13: 0 | S13: 0 | T13: 0 | U13: 0 | V13: 0 | W13: 자재 9
A14: 593A3450812850C371CE75AC2C4A037B850EF2 | B14: 스테인리스강용 용접봉 | C14: D3.2mm, AWSE308 | D14: KG | H14: 1387 | J14: 1132 | L14: 1326 | M14: 0 | P14: 0 | Q14: 0 | R14: 0 | S14: 0 | T14: 0 | U14: 0 | V14: 0 | W14: 자재 10
A15: 592994ADC12453A25140F5666B5E1C0772D2D7 | B15: 시멘트 | C15: 시멘트(별도) | D15: kg | K15: 0 | M15: 0 | P15: 0 | Q15: 0 | R15: 0 | S15: 0 | T15: 0 | U15: 0 | V15: 0 | W15: 자재 11 | X15: 별도
A16: 592994ADC12453A25140F5666B5E1C0772D2D4 | B16: 시멘트 | C16: 시멘트, 분공장도 | D16: 포 | J16: 62 | L16: 103 | M16: 0 | P16: 0 | Q16: 0 | R16: 0 | S16: 0 | T16: 0 | U16: 0 | V16: 0 | W16: 자재 12
A17: 59298484012855D6316C77994883FC5E858713 | B17: U자형볼트/너트 | C17: 절연, D80 | D17: EA | J17: 50,56 | L17: 92,96 | M17: 0 | P17: 0 | Q17: 0 | R17: 0 | S17: 0 | T17: 0 | U17: 0 | V17: 0 | W17: 자재 13
A18: 59298484012855D6316C77994883FC5E858714 | B18: U자형볼트/너트 | C18: 절연, D100 | D18: EA | J18: 50,56 | L18: 92,96 | M18: 0 | P18: 0 | Q18: 0 | R18: 0 | S18: 0 | T18: 0 | U18: 0 | V18: 0 | W18: 자재 14
A19: 59298484012855D6316C77994883FC5E858715 | B19: U자형볼트/너트 | C19: 절연, D125 | D19: EA | J19: 50,56 | L19: 92,96 | M19: 0 | P19: 0 | Q19: 0 | R19: 0 | S19: 0 | T19: 0 | U19: 0 | V19: 0 | W19: 자재 15
A20: 59298484012855D6316C77994883FC5E858716 | B20: U자형볼트/너트 | C20: 절연, D150 | D20: EA | J20: 50,56 | L20: 92,96 | M20: 0 | P20: 0 | Q20: 0 | R20: 0 | S20: 0 | T20: 0 | U20: 0 | V20: 0 | W20: 자재 16
A21: 59298484012855D6214447CD5F488963AE9830 | B21: 볼트너트(STS) | C21: M16*70L | D21: EA | E21: 0 | J21: 50,56 | L21: 91,96 | M21: 0 | P21: 0 | Q21: 0 | R21: 0 | S21: 0 | T21: 0 | U21: 0 | V21: 0 | W21: 자재 17
A22: 59298484012855D6214447CD5F488963AE9837 | B22: 볼트너트(STS) | C22: M20*85L | D22: EA | E22: 0 | J22: 50,56 | L22: 91,96 | M22: 0 | P22: 0 | Q22: 0 | R22: 0 | S22: 0 | T22: 0 | U22: 0 | V22: 0 | W22: 자재 18
A23: 59298484012855D6D150AAB6A6A2B270112799 | B23: 평와샤 | C23: 스테인리스, 호칭경16 | D23: EA | E23: 0 | H23: 48 | J23: 56 | L23: 93 | M23: 0 | P23: 0 | Q23: 0 | R23: 0 | S23: 0 | T23: 0 | U23: 0 | V23: 0 | W23: 자재 19
A24: 59298484012855D6D150AAB6A6A2B27011279B | B24: 평와샤 | C24: 스테인리스, 호칭경20 | D24: EA | E24: 0 | H24: 48 | J24: 56 | L24: 93 | M24: 0 | P24: 0 | Q24: 0 | R24: 0 | S24: 0 | T24: 0 | U24: 0 | V24: 0 | W24: 자재 20
A25: 59298487C123570A31D552F5308696F9400A7F | B25: 에폭시페인트 | C25: EP1730 비철금속용 프라이머(회색) | D25: L | E25: 0 | H25: 618 | J25: 476 | M25: 0 | P25: 0 | Q25: 0 | R25: 0 | S25: 0 | T25: 0 | U25: 0 | V25: 0 | W25: 자재 21
A26: 59298487C123570A31D552F5308696F9400B04 | B26: 유니폭시 투명라이닝 | C26: 후막형 투명 에폭시 바닥마감재(2~3mm) | D26: L | E26: 0 | H26: 618 | J26: 476 | M26: 0 | P26: 0 | Q26: 0 | R26: 0 | S26: 0 | T26: 0 | U26: 0 | V26: 0 | W26: 자재 22
A27: 59298487C123570AE1FFA975D6BCA889618BDA | B27: 에폭시계시너 | C27: 024 | D27: L | E27: 0 | I27: 0 | M27: 0 | P27: 0 | Q27: 0 | R27: 0 | S27: 0 | T27: 0 | U27: 0 | V27: 0 | W27: 자재 23
A28: 5929044E412F5706F174F47E179B7B88DBDC2A | B28: 물탱크(SMC)13TON | C28: 2,000x4,500x1,500H | D28: 대 | G28: 0 | I28: 0 | M28: 0 | P28: 0 | Q28: 0 | R28: 0 | S28: 0 | T28: 0 | U28: 0 | V28: 0 | W28: 자재 24
A29: 5929044E412F5706F174F47E179B7B88DBDC2B | B29: 물탱크(SMC)20TON | C29: 3,000x4,500x1,500H | D29: 대 | G29: 0 | I29: 0 | M29: 0 | P29: 0 | Q29: 0 | R29: 0 | S29: 0 | T29: 0 | U29: 0 | V29: 0 | W29: 자재 25
A30: 5956D40BB12F539411430BCBB402990D6B99E0 | B30: 관보온재 | C30: 가교발포(난연), 25TxD80 | D30: M | G30: 0 | I30: 0 | L30: 990 | N30: Ⅰ-899 | P30: 0 | Q30: 0 | R30: 0 | S30: 0 | T30: 0 | U30: 0 | V30: 0 | W30: 자재 26
A31: 5956D40BB12F539411430BCBB402990D6B9E6F | B31: 관보온재 | C31: 가교발포(난연), 40TxD100 | D31: M | G31: 0 | I31: 0 | L31: 990 | N31: Ⅰ-899 | P31: 0 | Q31: 0 | R31: 0 | S31: 0 | T31: 0 | U31: 0 | V31: 0 | W31: 자재 27
A32: 5956D40BB12F539411430BCBB402990D6B9E6E | B32: 관보온재 | C32: 가교발포(난연), 40TxD125 | D32: M | G32: 0 | I32: 0 | L32: 990 | N32: Ⅰ-899 | P32: 0 | Q32: 0 | R32: 0 | S32: 0 | T32: 0 | U32: 0 | V32: 0 | W32: 자재 28
A33: 5956D40BB12F539411430BCBB6363E884BBEFB | B33: AL 밴드 | C33: 0.3*30W | D33: M | G33: 0 | J33: 683 | L33: 991 | P33: 0 | Q33: 0 | R33: 0 | S33: 0 | T33: 0 | U33: 0 | V33: 0 | W33: 자재 29
A34: 5956D40BB12F539411430BCBB6363E884BBEFA | B34: 슈퍼매직 303 | C34: 0.2t, 100mm*15m | D34: ㎡ | G34: 0 | J34: 683 | L34: 991 | P34: 0 | Q34: 0 | R34: 0 | S34: 0 | T34: 0 | U34: 0 | V34: 0 | W34: 자재 30
A35: 5956D40BB12B55CCD11A1498007D38F861988C | B35: 플로우트 밸브 | C35: 볼탭 (SUS) D80 | D35: EA | G35: 0 | P35: 0 | Q35: 0 | R35: 0 | S35: 0 | T35: 0 | U35: 0 | V35: 0 | W35: 자재 31
A36: 5956D40BB12B55CCD11A15A3ED7A683D7FDCCD | B36: 글로브 밸브 | C36: 주철, 10kg, D80 | D36: EA | H36: 850 | J36: 592 | L36: 831 | P36: 0 | Q36: 0 | R36: 0 | S36: 0 | T36: 0 | U36: 0 | V36: 0 | W36: 자재 32
A37: 5956D40BB12B55CCD1190E4D335B55EF11796B | B37: 버터플라이 밸브 | C37: GEAR,10K*D80 | D37: EA | H37: 841 | P37: 0 | Q37: 0 | R37: 0 | S37: 0 | T37: 0 | U37: 0 | V37: 0 | W37: 자재 33
A38: 5956D40BB12B55CCD1190E4D335B55EF117EE5 | B38: 버터플라이 밸브 | C38: GEAR,10K*D125 | D38: EA | H38: 841 | P38: 0 | Q38: 0 | R38: 0 | S38: 0 | T38: 0 | U38: 0 | V38: 0 | W38: 자재 34
A39: 5956D40BB12B55F9E12704942E2B76B4D29537 | B39: 배관용 스테인리스 강관 | C39: D80x3T | D39: M | H39: 744 | J39: 548 | L39: 782 | P39: 0 | Q39: 0 | R39: 0 | S39: 0 | T39: 0 | U39: 0 | V39: 0 | W39: 자재 35
A40: 5956D40BB12B55F9E12704942E2B76B4D29536 | B40: 배관용 스테인리스 강관 | C40: D100x3T | D40: M | H40: 744 | J40: 548 | L40: 782 | P40: 0 | Q40: 0 | R40: 0 | S40: 0 | T40: 0 | U40: 0 | V40: 0 | W40: 자재 36
A41: 5956D40BB12B55F9E12704942E2B76B4D29539 | B41: 배관용 스테인리스 강관 | C41: D125x3T | D41: M | H41: 744 | J41: 548 | L41: 782 | P41: 0 | Q41: 0 | R41: 0 | S41: 0 | T41: 0 | U41: 0 | V41: 0 | W41: 자재 37
A42: 5956D40BB12B55F9C1704DD33A584FF84917BB | B42: 일반배관용 STS강관 이음쇠 | C42: 엘보(SUS 용접#10) D80 | D42: EA | H42: 745 | J42: 552 | L42: 777 | M42: 0 | P42: 0 | Q42: 0 | R42: 0 | S42: 0 | T42: 0 | U42: 0 | V42: 0 | W42: 자재 38
A43: 5956D40BB12B55F9C1704DD33A584FF84916AA | B43: 일반배관용 STS강관 이음쇠 | C43: 엘보(SUS 용접#10) D125 | D43: EA | H43: 745 | J43: 552 | L43: 777 | M43: 0 | P43: 0 | Q43: 0 | R43: 0 | S43: 0 | T43: 0 | U43: 0 | V43: 0 | W43: 자재 39
A44: 5956D40BB12B55F9C1704DD33A584FF848781D | B44: 일반배관용 STS강관 이음쇠 | C44: 티이(SUS 용접 S#10) D80 | D44: EA | H44: 745 | J44: 552 | L44: 777 | M44: 0 | P44: 0 | Q44: 0 | R44: 0 | S44: 0 | T44: 0 | U44: 0 | V44: 0 | W44: 자재 40
A45: 5956D40BB12B55F9C1704DD33A584FF848781A | B45: 일반배관용 STS강관 이음쇠 | C45: 티이(SUS 용접 S#10) D100 | D45: EA | H45: 745 | J45: 552 | L45: 777 | M45: 0 | P45: 0 | Q45: 0 | R45: 0 | S45: 0 | T45: 0 | U45: 0 | V45: 0 | W45: 자재 41
A46: 5956D40BB12B55F9C1704DD33A584FF848781B | B46: 일반배관용 STS강관 이음쇠 | C46: 티이(SUS 용접 S#10) D125 | D46: EA | H46: 745 | J46: 552 | L46: 777 | M46: 0 | P46: 0 | Q46: 0 | R46: 0 | S46: 0 | T46: 0 | U46: 0 | V46: 0 | W46: 자재 42
A47: 5956D40BB12B55F9C1704DD33A584FFB176D2E | B47: 일반배관용 STS강관 이음쇠 | C47: 리듀서(SUS용접S#10) D100 | D47: EA | H47: 745 | J47: 552 | L47: 777 | M47: 0 | P47: 0 | Q47: 0 | R47: 0 | S47: 0 | T47: 0 | U47: 0 | V47: 0 | W47: 자재 43
A48: 5956D40BB12B55F9C17154C070B9D69C0A5BA2 | B48: 플랙시블 조인트 | C48: 벨로즈형, D80*10k | D48: EA | J48: 590 | L48: 826 | M48: 0 | P48: 0 | Q48: 0 | R48: 0 | S48: 0 | T48: 0 | U48: 0 | V48: 0 | W48: 자재 44
A49: 5956D40BB12B55F9C17154C070B9D69C0A5A84 | B49: 플랙시블 조인트 | C49: 벨로즈형, D125*10k | D49: EA | J49: 590 | L49: 826 | M49: 0 | P49: 0 | Q49: 0 | R49: 0 | S49: 0 | T49: 0 | U49: 0 | V49: 0 | W49: 자재 45
A50: 5956D40BB12B55F9B1582FA48770A3180F691E | B50: 플랜지(FLANGE) | C50: SUS맹플랜지(10KG) D80 | D50: EA | H50: 747 | J50: 549 | L50: 776 | M50: 0 | P50: 0 | Q50: 0 | R50: 0 | S50: 0 | T50: 0 | U50: 0 | V50: 0 | W50: 자재 46
A51: 5956D40BB12B55F9B1582FA48770A3180F6873 | B51: 플랜지(FLANGE) | C51: SUS플랜지(10KG) D80 | D51: EA | H51: 747 | J51: 549 | L51: 776 | M51: 0 | P51: 0 | Q51: 0 | R51: 0 | S51: 0 | T51: 0 | U51: 0 | V51: 0 | W51: 자재 47
A52: 5956D40BB12B55F9B1582FA48770A3180F687D | B52: 플랜지(FLANGE) | C52: SUS플랜지(10KG) D125 | D52: EA | H52: 747 | J52: 549 | L52: 776 | M52: 0 | P52: 0 | Q52: 0 | R52: 0 | S52: 0 | T52: 0 | U52: 0 | V52: 0 | W52: 자재 48
A53: 5956D40BB12B55F9B1582FA48778FF098AB23F | B53: 패킹 | C53: 후렌지패킹, D80 | D53: EA | N53: Ⅰ-759 | P53: 0 | Q53: 0 | R53: 0 | S53: 0 | T53: 0 | U53: 0 | V53: 0 | W53: 자재 49
A54: 5956D40BB12B55F9B1582FA48778FF098AB3DE | B54: 패킹 | C54: 후렌지패킹, D125 | D54: EA | N54: Ⅰ-759 | P54: 0 | Q54: 0 | R54: 0 | S54: 0 | T54: 0 | U54: 0 | V54: 0 | W54: 자재 50
A55: 5956D40BB12B55F9A14BAD714E642031D70EB4 | B55: 스트레이너 | C55: 후랜지, 10kg, D80 | D55: EA | H55: 837 | P55: 0 | Q55: 0 | R55: 0 | S55: 0 | T55: 0 | U55: 0 | V55: 0 | W55: 자재 51
A56: 5956D40BB12B55F9A14BAD714E642031D70EB6 | B56: 스트레이너 | C56: 후랜지, 10kg, D125 | D56: EA | H56: 837 | P56: 0 | Q56: 0 | R56: 0 | S56: 0 | T56: 0 | U56: 0 | V56: 0 | W56: 자재 52
A57: 5956D40BB12B55F9A14BAD714E642031D667CA | B57: 스트레이너 | C57: 여과망, D80 | D57: EA | H57: 57 | J57: 59 | P57: 0 | Q57: 0 | R57: 0 | S57: 0 | T57: 0 | U57: 0 | V57: 0 | W57: 자재 53
A58: 5956D40BB12B55F9A14BAD714E642031D667C8 | B58: 스트레이너 | C58: 여과망, D125 | D58: EA | H58: 57 | J58: 59 | P58: 0 | Q58: 0 | S58: 0 | T58: 0 | U58: 0 | V58: 0 | W58: 자재 54
A59: 5E0B644761285150A1E50D3009D8DA | B59: 건설폐기물상차비 | C59: 24톤 암롤트럭,30KM | D59: TON | H59: (하)150 | O59: 0 | P59: 0 | Q59: 0 | S59: 0 | T59: 0 | U59: 0 | V59: =SMALL(Q59:U59,COUNTIF(Q59:U59,0)+1) -> #NUM! | W59: 자재 55
A60: 5E0B644761285150A1E50D33C48CBA | B60: 폐기물반입수수료 | C60: 혼합폐기물 | D60: TON | H60: (하)151 | O60: 0 | P60: 0 | Q60: 0 | S60: 0 | T60: 0 | U60: 0 | V60: =SMALL(Q60:U60,COUNTIF(Q60:U60,0)+1) -> #NUM! | W60: 자재 56
A61: 5E0B644761285150A1E50D34EB972A | B61: 건설폐기물운반비 | C61: 24톤 암롤트럭,30KM | D61: TON | H61: (하)150 | O61: 0 | P61: 0 | Q61: 0 | S61: 0 | T61: 0 | U61: 0 | V61: =SMALL(Q61:U61,COUNTIF(Q61:U61,0)+1) -> #NUM! | W61: 자재 57
A62: 5E4A2436D12457DD31057D24A6BBAB681A3BF6 | B62: 건설폐재류 | C62: 가연성이 제거된 재활용이 가능한 혼합물 | D62: TON | O62: 0 | P62: 0 | Q62: 0 | S62: 0 | T62: 0 | U62: 49571 | V62: =SMALL(Q62:U62,COUNTIF(Q62:U62,0)+1) -> 49571 | W62: 자재 58 | Y62: C
A63: 5E4A2436D12457DD31057D24A6BA8291C5D00F | B63: 건설폐재류 상차비 | D63: TON | N63: 1583 | O63: 0 | P63: 0 | Q63: 0 | S63: 0 | T63: 0 | U63: 3890 | V63: =SMALL(Q63:U63,COUNTIF(Q63:U63,0)+1) -> 3890 | W63: 자재 59 | Y63: C
A64: 5E4A2436D12457DD31057D24A6BA8291C5D115 | B64: 건설폐재류 운반비 | C64: 24톤 덤프트럭, 30km | D64: TON | N64: 1583 | O64: 0 | P64: 0 | Q64: 0 | S64: 0 | T64: 0 | U64: 16450 | V64: =SMALL(Q64:U64,COUNTIF(Q64:U64,0)+1) -> 16450 | W64: 자재 60 | Y64: C
A65: 5ED9F41881285D2D313F5FCC10F41CC8A1AAD9 | B65: 보통인부 | C65: 일반공사 직종 | D65: 인 | O65: 0 | Q65: 0 | S65: 0 | T65: 0 | U65: 0 | V65: 0 | W65: 노임 1 | Y65: B
A66: 5ED9F41881285D2D313F5FCC10F41CC8A1AAD8 | B66: 특별인부 | C66: 일반공사 직종 | D66: 인 | O66: 0 | Q66: 0 | R66: 0 | S66: 0 | T66: 0 | U66: 0 | V66: 0 | W66: 노임 2 | Y66: B
A67: 5ED9F41881285D2D313F5FCC10F41CC8A1AADD | B67: 비계공 | C67: 일반공사 직종 | D67: 인 | O67: 0 | Q67: 0 | R67: 0 | S67: 0 | T67: 0 | U67: 0 | V67: 0 | W67: 노임 3 | Y67: B
A68: 5ED9F41881285D2D313F5FCC10F41CC8A1ABE0 | B68: 용접공 | C68: 일반공사 직종 | D68: 인 | O68: 0 | Q68: 0 | R68: 0 | S68: 0 | T68: 0 | U68: 0 | V68: 0 | W68: 노임 4 | Y68: B
A69: 5ED9F41881285D2D313F5FCC10F41CC8A1ABE7 | B69: 착암공 | C69: 일반공사 직종 | D69: 인 | O69: 0 | Q69: 0 | R69: 0 | S69: 0 | T69: 0 | U69: 0 | V69: 0 | W69: 노임 5 | Y69: B
A70: 5ED9F41881285D2D313F5FCC10F41CC8A1A829 | B70: 미장공 | C70: 일반공사 직종 | D70: 인 | O70: 0 | Q70: 0 | R70: 0 | S70: 0 | T70: 0 | U70: 0 | V70: 0 | W70: 노임 6 | Y70: B
A71: 5ED9F41881285D2D313F5FCC10F41CC8A1A827 | B71: 도장공 | C71: 일반공사 직종 | D71: 인 | O71: 0 | Q71: 0 | R71: 0 | S71: 0 | T71: 0 | U71: 0 | V71: 0 | W71: 노임 7 | Y71: B
A72: 5ED9F41881285D2D313F5FCC10F41CC8A1A93C | B72: 배관공 | C72: 일반공사 직종 | D72: 인 | O72: 0 | Q72: 0 | R72: 0 | S72: 0 | T72: 0 | U72: 0 | V72: 0 | W72: 노임 8 | Y72: B
A73: 5ED9F41881285D2D313F5FCC10F41CC8A1AEB2 | B73: 보온공 | C73: 일반공사 직종 | D73: 인 | O73: 0 | Q73: 0 | R73: 0 | S73: 0 | T73: 0 | U73: 0 | V73: 0 | W73: 노임 9 | Y73: B
A74: 5ED9F41881285D2D313F5FCC10F41CC8A1AEBE | B74: 건설기계운전사 | C74: 일반공사 직종 | D74: 인 | O74: 0 | Q74: 0 | R74: 0 | S74: 0 | T74: 0 | U74: 0 | V74: 0 | W74: 노임 10 | Y74: B
A75: 5ED9F41881285D2D313F5FCC10F41CC8A1AEBF | B75: 화물차운전사 | C75: 일반공사 직종 | D75: 인 | O75: 0 | Q75: 0 | R75: 0 | S75: 0 | T75: 0 | U75: 0 | V75: 0 | W75: 노임 11 | Y75: B
A76: 5ED9F41881285D2D313F5FCC10F41CC8A1AD95 | B76: 내선전공 | C76: 일반공사 직종 | D76: 인 | O76: 0 | Q76: 0 | R76: 0 | S76: 0 | T76: 0 | U76: 0 | V76: 0 | W76: 노임 12 | Y76: B
A77: 5ED9F41881285D2D313F5FCC10F41CC8A1AD98 | B77: 저압케이블전공 | C77: 일반공사 직종 | D77: 인 | O77: 0 | Q77: 0 | R77: 0 | S77: 0 | T77: 0 | U77: 0 | V77: 0 | W77: 노임 13 | Y77: B
A78: 5ED9F41881285D2D313F5FCC10F41CC8A1A281 | B78: 계장공 | C78: 일반공사 직종 | D78: 인 | O78: 0 | Q78: 0 | R78: 0 | S78: 0 | T78: 0 | U78: 0 | V78: 0 | W78: 노임 14 | Y78: B
A79: 5ED9F41881285D2D313F5FCC10F41CC8A1A28C | B79: 통신케이블공 | C79: 일반공사 직종 | D79: 인 | I79: 0 | O79: 0 | Q79: 0 | R79: 0 | S79: 0 | T79: 0 | U79: 0 | V79: 0 | W79: 노임 15 | Y79: B
A80: 5ED9F41881285D2D313F5B5108395C738CAB76 | B80: 통신관련기사 | C80: 기타 직종 | D80: 인 | I80: 0 | O80: 0 | Q80: 0 | R80: 0 | S80: 0 | T80: 0 | U80: 0 | V80: 0 | W80: 노임 16 | Y80: B
A81: 5EC854CFD12F513CF195FE06364632AE1DC2E0 | B81: 보온 | C81: 3,000x4,500x1,500H | D81: 조 | I81: 0 | Q81: 0 | R81: 0 | S81: 0 | T81: 0 | U81: 0 | V81: 0 | W81: 자재 61
A82: 5EC854CFD12F513CF195FE06364632AE1DC2E7 | B82: 보온 | C82: 2,000x4,500x1,500H | D82: 조 | I82: 0 | Q82: 0 | R82: 0 | S82: 0 | T82: 0 | U82: 0 | V82: 0 | W82: 자재 62
A83: 5EC854CFD12F513CF195FE06364632AE196273 | B83: 건식패드 | C83: 3,000 x 4,500 x 1,500H | D83: 식 | I83: 0 | Q83: 0 | R83: 0 | S83: 0 | T83: 0 | U83: 0 | V83: 0 | W83: 자재 63
A84: 5EC854CFD12F513CF195FE06364632AE196270 | B84: 건식패드 | C84: 2,000 x 4,500 x 1,500H | D84: 식 | I84: 0 | Q84: 0 | R84: 0 | S84: 0 | T84: 0 | U84: 0 | V84: 0 | W84: 자재 64
A85: 5EC854CFD12F513CE18E895AC5C57B3C9BACB8 | B85: 1. 제조비 | I85: 0 | Q85: 0 | R85: 0 | S85: 0 | T85: 0 | U85: 0 | V85: 0 | W85: 자재 65
A86: 5EC854CFD12F513CE18E895AC5C57B3C9BACBF | B86: 직접디지털제어기 | C86: CPU:32bit | D86: EA | I86: 0 | K86: 0 | Q86: 0 | R86: 0 | S86: 0 | T86: 0 | U86: 0 | V86: 0 | W86: 자재 66
A87: 5EC854CFD12F513CE18E895AC5C57B3C9BACBE | B87: DI Module | D87: EA | I87: 0 | K87: 0 | P87: 0 | Q87: 0 | R87: 0 | S87: 0 | T87: 0 | U87: 0 | V87: 0 | W87: 자재 67
A88: 5EC854CFD12F513CE18E895AC5C57B3C9BACBD | B88: AI Module | D88: EA | I88: 0 | K88: 0 | P88: 0 | Q88: 0 | R88: 0 | S88: 0 | T88: 0 | U88: 0 | V88: 0 | W88: 자재 68
A89: 5EC854CFD12F513CE18E895AC5C57B3C9BACBC | B89: NFB | C89: 15A | D89: EA | I89: 0 | K89: 0 | P89: 0 | Q89: 0 | R89: 0 | S89: 0 | T89: 0 | U89: 0 | V89: 0 | W89: 자재 69
A90: 5EC854CFD12F513CE18E895AC5C57B3C9BACB3 | B90: POWER LAMP | D90: EA | I90: 0 | K90: 0 | P90: 0 | Q90: 0 | R90: 0 | S90: 0 | T90: 0 | U90: 0 | V90: 0 | W90: 자재 70
A91: 5EC854CFD12F513CE18E895AC5C57B3C9BACB2 | B91: TRANSFORMER | C91: 220V/24V/300VA | D91: EA | I91: 0 | K91: 0 | P91: 0 | Q91: 0 | R91: 0 | S91: 0 | T91: 0 | U91: 0 | V91: 0 | W91: 자재 71
A92: 5EC854CFD12F513CE18E895AC5C57B3C9BAF0F | B92: DDC 외함 | C92: 900x1000x300 | D92: 면 | I92: 0 | K92: 0 | P92: 0 | Q92: 0 | R92: 0 | S92: 0 | T92: 0 | U92: 0 | V92: 0 | W92: 자재 72
A93: 5EC854CFD12F513CE18E895AC5C57B3C9BAF0E | B93: 지진감지센서 | D93: EA | I93: 0 | K93: 0 | P93: 0 | Q93: 0 | R93: 0 | S93: 0 | T93: 0 | U93: 0 | V93: 0 | W93: 자재 73
A94: 5EC854CFD12F513CE18E895AC5C57B3C9BAF0D | B94: 수위지시조절기(센서X1) | C94: 기어식 | D94: EA | I94: 0 | K94: 0 | P94: 0 | Q94: 0 | R94: 0 | S94: 0 | T94: 0 | U94: 0 | V94: 0 | W94: 자재 74
A95: 5EC854CFD12F513CE18E895AC5C57B3C9BAF07 | B95: 2. 설치공사비 | I95: 0 | K95: 0 | P95: 0 | Q95: 0 | R95: 0 | S95: 0 | T95: 0 | U95: 0 | V95: 0 | W95: 자재 75
A96: 5EC854CFD12F513CE18E895AC5C57B3C9BAF06 | B96: 나사없는 전선관 | C96: E19 (16C) | D96: M | I96: 0 | K96: 0 | P96: 0 | Q96: 0 | R96: 0 | S96: 0 | T96: 0 | U96: 0 | V96: 0 | W96: 자재 76
A97: 5EC854CFD12F513CE18E895AC5C57B3C9BAE68 | B97: 나사없는 전선관 | C97: E25 (22C) | D97: M | I97: 0 | K97: 0 | P97: 0 | Q97: 0 | R97: 0 | S97: 0 | T97: 0 | U97: 0 | V97: 0 | W97: 자재 77
A98: 5EC854CFD12F513CE18E895AC5C57B3C9BAE69 | B98: 나사없는 전선관 | C98: E31 (28C) | D98: M | I98: 0 | K98: 0 | P98: 0 | Q98: 0 | R98: 0 | S98: 0 | T98: 0 | U98: 0 | V98: 0 | W98: 자재 78
A99: 5EC854CFD12F513CE18E895AC5C57B3C9BAE6A | B99: 전선관부속 | C99: 전선관의 20% | D99: 식 | I99: 0 | K99: 0 | P99: 0 | Q99: 0 | R99: 0 | S99: 0 | T99: 0 | U99: 0 | V99: 0 | W99: 자재 79
A100: 5EC854CFD12F513CE18E895AC5C57B3C9BAE6B | B100: 후렉시블관, 고장력방수 | C100: 16C | D100: M | I100: 0 | K100: 0 | P100: 0 | Q100: 0 | R100: 0 | S100: 0 | T100: 0 | U100: 0 | V100: 0 | W100: 자재 80
...

Sheet  공사설정 
A1: 이 Sheet는 수정하지 마십시요
A2: 공사구분 | B2: C | C2: 타이틀
A3: 확정내역 | B3: 원내역
A4: 자재단가적용 | B4: 5
A5: 경비단가적용 | B5: 5
A6: 품목코드형식 | B6: XXXX-XXXX-XXXXXXXXX
A7: 내역금액소수점처리 | B7: C | C7: 1
A8: 일위대가내역소수점처리 | B8: C | C8: 2
A9: 단가명 | B9: 조달청가격 | C9: 물가자료 | D9: 유통물가 | E9: 거래가격 | F9: 조사가격 | G9: TTTTT
A10: 환율 | B10: 1185 | C10: 0 | D10: 0
A11: 시간당작업량 | B11: R | C11: 3
A12: 1회 사이클시간 | B12: R | C12: 3
A13: 시간당 작업사이클 | B13: R | C13: 3
A14: 일반변수 | B14: R | C14: 3
A15: 시간당 노임산출 계수 | B15: A | C15: 1/8*16/12*25/20 | D15: 1/8*16/12*25/20 | E15: 1/8*16/12*25/20 | F15: 1/8*16/12*25/20
A16: 재료비 할증 계수 | B16: 1.11 | C16: 1.12
A17: 노무비 할증 계수 | B17: 1 | C17: 1.5 | D17: 1.16 | E17: 1.6 | F17: 1.6 | G17: 1.6 | H17: 1.94 | I17: 1.94 | J17: 1.94 | K17: 1 | L17: 1 | M17: 1
A18: 경비 할증 계수 | B18: 1.25 | C18: 1.071
A19: 내역,일위대가 품명,규격,단위 따로적용
A20: 내역단가 소수점처리 | B20: C | C20: 1
A21: 코드 | B21: 공종구분명 | C21: 원가비목코드
A22: 1 | B22: 작 업 부 산 물 | C22: A3
A23: 2 | B23: 운 반 비 | C23: C1
A24: 3 | B24: 관 급 자 재 비 | C24: DJ
A25: 4 | B25: 사 급 자 재 비 | C25: D3
A26: 5 | B26: 외 자 재
A27: 6 | B27: 가 설 비
A28: 7 | B28: 완 제 품
A29: 8 | B29: 폐기물처리비
A30: 9 | B30: ...
A43: 단가 순서 | B43: 1234
